Workbook
Name adherent: 'LISTE MERCREDIS 2019'!$A$107:$A$320
Name Apres_midi: 'LISTE MERCREDIS 2019'!$O$4:$O$326
Name ASSMAT: 'LISTE MERCREDIS 2019'!$G$4:$G$326
Name COLL: 'LISTE MERCREDIS 2019'!#REF!
Name COLL: 'LISTE MERCREDIS 2019'!#REF!
Name COLL: 'LISTE MERCREDIS 2019'!#REF!
Name COLL: 'LISTE MERCREDIS 2019'!#REF!
Name COLL: 'LISTE MERCREDIS 2019'!#REF!
Name COLL: 'LISTE MERCREDIS 2019'!#REF!
Name COLL: 'LISTE MERCREDIS 2019'!#REF!
Name COLL: 'LISTE MERCREDIS 2019'!#REF!
Name COLL: 'LISTE MERCREDIS 2019'!#REF!
Name COLL: 'LISTE MERCREDIS 2019'!#REF!
Name COLL: 'LISTE MERCREDIS 2019'!#REF!
Name COLL: 'LISTE MERCREDIS 2019'!#REF!
Name COLL: 'LISTE MERCREDIS 2019'!#REF!
Name COLL: 'LISTE MERCREDIS 2019'!#REF!
Name COLL: 'LISTE MERCREDIS 2019'!#REF!
Name Date_de_reference: '03 avril 2019'!$Y$3
Name Date_de_reference: '06 fevrier 2019'!$Y$3
Name Date_de_reference: '06 mars 2019'!$Y$3
Name Date_de_reference: '09 janvier 2019'!$Y$3
Name Date_de_reference: '10 avril 2019'!$Y$3
Name Date_de_reference: '13 fevrier 2019'!$Y$3
Name Date_de_reference: '13 mars 2019'!$Y$3
Name Date_de_reference: '15 mai 2019'!$Y$3
Name Date_de_reference: '16 janvier 2019'!$Y$3
Name Date_de_reference: '20 mars 2019'!$Y$3
Name Date_de_reference: '22 mai 2019'!$Y$3
Name Date_de_reference: '23 janvier 2019'!$Y$3
Name Date_de_reference: '27 mars 2019'!$Y$3
Name Date_de_reference: '30 janvier 2019'!$Y$3
Name Date_de_reference: 'LISTE MERCREDIS 2019'!$Y$2
Name Date_du_jour: '03 avril 2019'!$C$2
Name Date_du_jour: '06 fevrier 2019'!$C$2
Name Date_du_jour: '06 mars 2019'!$C$2
Name Date_du_jour: '09 janvier 2019'!$C$2
Name Date_du_jour: '10 avril 2019'!$C$2
Name Date_du_jour: '13 fevrier 2019'!$C$2
Name Date_du_jour: '13 mars 2019'!$C$2
Name Date_du_jour: '15 mai 2019'!$C$2
Name Date_du_jour: '16 janvier 2019'!$C$2
Name Date_du_jour: '20 mars 2019'!$C$2
Name Date_du_jour: '22 mai 2019'!$C$2
Name Date_du_jour: '23 janvier 2019'!$C$2
Name Date_du_jour: '27 mars 2019'!$C$2
Name Date_du_jour: '30 janvier 2019'!$C$2
Name Date_du_jour: 'LISTE MERCREDIS 2019'!$D$2
Name DATE_NAISSANCE: 'LISTE MERCREDIS 2019'!$J$4:$J$326
Name Emprunt: 'LISTE MERCREDIS 2019'!$Q$107:$Q$326
Name Feminin: 'LISTE MERCREDIS 2019'!$H$4:$H$326
Name Inscrits_samedis: 'LISTE MERCREDIS 2019'!$H$328:$I$328
Name Inscrits_samedis: 'LISTE MERCREDIS 2019'!$H$328:$I$328
Name Inscrits_samedis: 'LISTE MERCREDIS 2019'!$H$328:$I$328
Name Inscrits_samedis: 'LISTE MERCREDIS 2019'!$H$328:$I$328
Name Inscrits_samedis: 'LISTE MERCREDIS 2019'!$H$328:$I$328
Name Inscrits_samedis: 'LISTE MERCREDIS 2019'!$H$328:$I$328
Name Inscrits_samedis: 'LISTE MERCREDIS 2019'!$H$328:$I$328
Name Inscrits_samedis: 'LISTE MERCREDIS 2019'!$H$328:$I$328
Name Inscrits_samedis: 'LISTE MERCREDIS 2019'!$H$328:$I$328

Sheet 09 janvier 2019
B2: MERCREDI | C2: 43474 | K2: H&D | R2: 1
F3: SEXE
A4: CODE | B4: FAMILLE | C4: NOM | D4: Prénom | E4: ASSMAT | F4: F | G4: M | H4: naissance | I4: âge jour | J4: Commune | K4: TERRI TOIRE | L4: Matin | M4: AM | N4: JSP seul | O4: Emprunt seul | P4: JSP + emprunt | Q4: DEC | R4: Ponc tuel | S4: Ate lier
A5: AM2-1 | B5: =VLOOKUP(A5,[1]!Tableau_cotisants,2,FALSE) -> GUYOT | C5: =VLOOKUP(A5,[1]!Tableau_cotisants,3,FALSE) -> GUYOT | D5: =VLOOKUP(A5,[1]!Tableau_cotisants,4,FALSE) -> Virginie | E5: =VLOOKUP(A5,[1]!Tableau_cotisants,5,FALSE) -> 1 | F5: =VLOOKUP(A5,[1]!Tableau_cotisants,6,FALSE) -> 1 | G5: =VLOOKUP(A5,[1]!Tableau_cotisants,7,FALSE) -> 0 | H5: =VLOOKUP(A5,[1]!Tableau_cotisants,8,FALSE) -> 30012 | I5: =DATEDIF(H5,Date_du_jour,"y") & " an(s) " & DATEDIF(H5,$C$2,"ym") & " mois et " & DATEDIF(H5,$C$2,"md") & " jour(s)" -> 36 an(s) 10 mois et 7 jour(s) | J5: =VLOOKUP(A5,[1]!Tableau_cotisants,10,FALSE) -> Chateaubernard | K5: =VLOOKUP(A5,[1]!Tableau_cotisants,11,FALSE) -> Cognac | L5: 1 | N5: 1
A6: AM2-8 | B6: =VLOOKUP(A6,[1]!Tableau_cotisants,2,FALSE) -> GUYOT | C6: =VLOOKUP(A6,[1]!Tableau_cotisants,3,FALSE) -> FARCY | D6: =VLOOKUP(A6,[1]!Tableau_cotisants,4,FALSE) -> Sacha | E6: =VLOOKUP(A6,[1]!Tableau_cotisants,5,FALSE) -> 1 | F6: =VLOOKUP(A6,[1]!Tableau_cotisants,6,FALSE) -> 0 | G6: =VLOOKUP(A6,[1]!Tableau_cotisants,7,FALSE) -> 1 | H6: =VLOOKUP(A6,[1]!Tableau_cotisants,8,FALSE) -> 43040 | I6: =DATEDIF(H6,Date_du_jour,"y") & " an(s) " & DATEDIF(H6,$C$2,"ym") & " mois et " & DATEDIF(H6,$C$2,"md") & " jour(s)" -> 1 an(s) 2 mois et 8 jour(s) | J6: =VLOOKUP(A6,[1]!Tableau_cotisants,10,FALSE) -> Chateaubernard | K6: =VLOOKUP(A6,[1]!Tableau_cotisants,11,FALSE) -> Cognac | L6: 1 | N6: 1
A7: AM2-10 | B7: =VLOOKUP(A7,[1]!Tableau_cotisants,2,FALSE) -> GUYOT | C7: =VLOOKUP(A7,[1]!Tableau_cotisants,3,FALSE) -> FORGEARD | D7: =VLOOKUP(A7,[1]!Tableau_cotisants,4,FALSE) -> Yanis | E7: =VLOOKUP(A7,[1]!Tableau_cotisants,5,FALSE) -> 1 | F7: =VLOOKUP(A7,[1]!Tableau_cotisants,6,FALSE) -> 0 | G7: =VLOOKUP(A7,[1]!Tableau_cotisants,7,FALSE) -> 1 | H7: =VLOOKUP(A7,[1]!Tableau_cotisants,8,FALSE) -> 43315 | I7: =DATEDIF(H7,Date_du_jour,"y") & " an(s) " & DATEDIF(H7,$C$2,"ym") & " mois et " & DATEDIF(H7,$C$2,"md") & " jour(s)" -> 0 an(s) 5 mois et 6 jour(s) | J7: =VLOOKUP(A7,[1]!Tableau_cotisants,10,FALSE) -> Chateaubernard | K7: =VLOOKUP(A7,[1]!Tableau_cotisants,11,FALSE) -> Cognac | L7: 1 | N7: 1
A8: AM1-8 | B8: =VLOOKUP(A8,[1]!Tableau_cotisants,2,FALSE) -> COZIC | C8: =VLOOKUP(A8,[1]!Tableau_cotisants,3,FALSE) -> PARTAUD | D8: =VLOOKUP(A8,[1]!Tableau_cotisants,4,FALSE) -> Jannah | E8: =VLOOKUP(A8,[1]!Tableau_cotisants,5,FALSE) -> 1 | F8: =VLOOKUP(A8,[1]!Tableau_cotisants,6,FALSE) -> 1 | G8: =VLOOKUP(A8,[1]!Tableau_cotisants,7,FALSE) -> 0 | H8: =VLOOKUP(A8,[1]!Tableau_cotisants,8,FALSE) -> 41395 | I8: =DATEDIF(H8,Date_du_jour,"y") & " an(s) " & DATEDIF(H8,$C$2,"ym") & " mois et " & DATEDIF(H8,$C$2,"md") & " jour(s)" -> 5 an(s) 8 mois et 8 jour(s) | J8: =VLOOKUP(A8,[1]!Tableau_cotisants,10,FALSE) -> Chateaubernard | K8: =VLOOKUP(A8,[1]!Tableau_cotisants,11,FALSE) -> Cognac | L8: 1 | N8: 1
A9: AM1-1 | B9: =VLOOKUP(A9,[1]!Tableau_cotisants,2,FALSE) -> COZIC | C9: =VLOOKUP(A9,[1]!Tableau_cotisants,3,FALSE) -> COZIC | D9: =VLOOKUP(A9,[1]!Tableau_cotisants,4,FALSE) -> Jennifer | E9: =VLOOKUP(A9,[1]!Tableau_cotisants,5,FALSE) -> 1 | F9: =VLOOKUP(A9,[1]!Tableau_cotisants,6,FALSE) -> 1 | G9: =VLOOKUP(A9,[1]!Tableau_cotisants,7,FALSE) -> 0 | H9: =VLOOKUP(A9,[1]!Tableau_cotisants,8,FALSE) -> 30554 | I9: =DATEDIF(H9,Date_du_jour,"y") & " an(s) " & DATEDIF(H9,$C$2,"ym") & " mois et " & DATEDIF(H9,$C$2,"md") & " jour(s)" -> 35 an(s) 4 mois et 14 jour(s) | J9: =VLOOKUP(A9,[1]!Tableau_cotisants,10,FALSE) -> Chateaubernard | K9: =VLOOKUP(A9,[1]!Tableau_cotisants,11,FALSE) -> Cognac | L9: 1 | N9: 1
A10: AM1-6 | B10: =VLOOKUP(A10,[1]!Tableau_cotisants,2,FALSE) -> COZIC | C10: =VLOOKUP(A10,[1]!Tableau_cotisants,3,FALSE) -> FRAISSINET COZIC | D10: =VLOOKUP(A10,[1]!Tableau_cotisants,4,FALSE) -> Kathleen | E10: =VLOOKUP(A10,[1]!Tableau_cotisants,5,FALSE) -> 1 | F10: =VLOOKUP(A10,[1]!Tableau_cotisants,6,FALSE) -> 1 | G10: =VLOOKUP(A10,[1]!Tableau_cotisants,7,FALSE) -> 0 | H10: =VLOOKUP(A10,[1]!Tableau_cotisants,8,FALSE) -> 39909 | I10: =DATEDIF(H10,Date_du_jour,"y") & " an(s) " & DATEDIF(H10,$C$2,"ym") & " mois et " & DATEDIF(H10,$C$2,"md") & " jour(s)" -> 9 an(s) 9 mois et 3 jour(s) | J10: =VLOOKUP(A10,[1]!Tableau_cotisants,10,FALSE) -> Chateaubernard | K10: =VLOOKUP(A10,[1]!Tableau_cotisants,11,FALSE) -> Cognac | L10: 1 | N10: 1
A11: AM1-7 | B11: =VLOOKUP(A11,[1]!Tableau_cotisants,2,FALSE) -> COZIC | C11: =VLOOKUP(A11,[1]!Tableau_cotisants,3,FALSE) -> FRAISSINET COZIC | D11: =VLOOKUP(A11,[1]!Tableau_cotisants,4,FALSE) -> Kendall | E11: =VLOOKUP(A11,[1]!Tableau_cotisants,5,FALSE) -> 1 | F11: =VLOOKUP(A11,[1]!Tableau_cotisants,6,FALSE) -> 0 | G11: =VLOOKUP(A11,[1]!Tableau_cotisants,7,FALSE) -> 1 | H11: =VLOOKUP(A11,[1]!Tableau_cotisants,8,FALSE) -> 40770 | I11: =DATEDIF(H11,Date_du_jour,"y") & " an(s) " & DATEDIF(H11,$C$2,"ym") & " mois et " & DATEDIF(H11,$C$2,"md") & " jour(s)" -> 7 an(s) 4 mois et 25 jour(s) | J11: =VLOOKUP(A11,[1]!Tableau_cotisants,10,FALSE) -> Chateaubernard | K11: =VLOOKUP(A11,[1]!Tableau_cotisants,11,FALSE) -> Cognac | L11: 1 | N11: 1
A12: AM1-10 | B12: =VLOOKUP(A12,[1]!Tableau_cotisants,2,FALSE) -> COZIC | C12: =VLOOKUP(A12,[1]!Tableau_cotisants,3,FALSE) -> TARDIEU | D12: =VLOOKUP(A12,[1]!Tableau_cotisants,4,FALSE) -> Gustave | E12: =VLOOKUP(A12,[1]!Tableau_cotisants,5,FALSE) -> 1 | F12: =VLOOKUP(A12,[1]!Tableau_cotisants,6,FALSE) -> 0 | G12: =VLOOKUP(A12,[1]!Tableau_cotisants,7,FALSE) -> 1 | H12: =VLOOKUP(A12,[1]!Tableau_cotisants,8,FALSE) -> 42917 | I12: =DATEDIF(H12,Date_du_jour,"y") & " an(s) " & DATEDIF(H12,$C$2,"ym") & " mois et " & DATEDIF(H12,$C$2,"md") & " jour(s)" -> 1 an(s) 6 mois et 8 jour(s) | J12: =VLOOKUP(A12,[1]!Tableau_cotisants,10,FALSE) -> Chateaubernard | K12: =VLOOKUP(A12,[1]!Tableau_cotisants,11,FALSE) -> Cognac | L12: 1 | P12: 1
A13: AM1-13 | B13: =VLOOKUP(A13,[1]!Tableau_cotisants,2,FALSE) -> COZIC | C13: =VLOOKUP(A13,[1]!Tableau_cotisants,3,FALSE) -> BARAUD | D13: =VLOOKUP(A13,[1]!Tableau_cotisants,4,FALSE) -> Théo | E13: =VLOOKUP(A13,[1]!Tableau_cotisants,5,FALSE) -> 1 | F13: =VLOOKUP(A13,[1]!Tableau_cotisants,6,FALSE) -> 0 | G13: =VLOOKUP(A13,[1]!Tableau_cotisants,7,FALSE) -> 1 | H13: =VLOOKUP(A13,[1]!Tableau_cotisants,8,FALSE) -> 43016 | I13: =DATEDIF(H13,Date_du_jour,"y") & " an(s) " & DATEDIF(H13,$C$2,"ym") & " mois et " & DATEDIF(H13,$C$2,"md") & " jour(s)" -> 1 an(s) 3 mois et 1 jour(s) | J13: =VLOOKUP(A13,[1]!Tableau_cotisants,10,FALSE) -> Chateaubernard | K13: =VLOOKUP(A13,[1]!Tableau_cotisants,11,FALSE) -> Cognac | L13: 1 | P13: 1
A14: F9-3 | B14: =VLOOKUP(A14,[1]!Tableau_cotisants,2,FALSE) -> SAMOYEAU/RAPHOZ | C14: =VLOOKUP(A14,[1]!Tableau_cotisants,3,FALSE) -> SAMOYEAU | D14: =VLOOKUP(A14,[1]!Tableau_cotisants,4,FALSE) -> Thomas | E14: =VLOOKUP(A14,[1]!Tableau_cotisants,5,FALSE) -> 0 | F14: =VLOOKUP(A14,[1]!Tableau_cotisants,6,FALSE) -> 0 | G14: =VLOOKUP(A14,[1]!Tableau_cotisants,7,FALSE) -> 1 | H14: =VLOOKUP(A14,[1]!Tableau_cotisants,8,FALSE) -> 41862 | I14: =DATEDIF(H14,Date_du_jour,"y") & " an(s) " & DATEDIF(H14,$C$2,"ym") & " mois et " & DATEDIF(H14,$C$2,"md") & " jour(s)" -> 4 an(s) 4 mois et 29 jour(s) | J14: =VLOOKUP(A14,[1]!Tableau_cotisants,10,FALSE) -> SEGONZAC | K14: =VLOOKUP(A14,[1]!Tableau_cotisants,11,FALSE) -> Champagne | L14: 1 | P14: 1
A15: F9-4 | B15: =VLOOKUP(A15,[1]!Tableau_cotisants,2,FALSE) -> SAMOYEAU/RAPHOZ | C15: =VLOOKUP(A15,[1]!Tableau_cotisants,3,FALSE) -> RAPHOZ | D15: =VLOOKUP(A15,[1]!Tableau_cotisants,4,FALSE) -> Martine | E15: =VLOOKUP(A15,[1]!Tableau_cotisants,5,FALSE) -> 0 | F15: =VLOOKUP(A15,[1]!Tableau_cotisants,6,FALSE) -> 1 | G15: =VLOOKUP(A15,[1]!Tableau_cotisants,7,FALSE) -> 0 | H15: =VLOOKUP(A15,[1]!Tableau_cotisants,8,FALSE) -> 18714 | I15: =DATEDIF(H15,Date_du_jour,"y") & " an(s) " & DATEDIF(H15,$C$2,"ym") & " mois et " & DATEDIF(H15,$C$2,"md") & " jour(s)" -> 67 an(s) 9 mois et 13 jour(s) | J15: =VLOOKUP(A15,[1]!Tableau_cotisants,10,FALSE) -> SEGONZAC | K15: =VLOOKUP(A15,[1]!Tableau_cotisants,11,FALSE) -> Champagne | L15: 1 | P15: 1
B16: GROUPE ACCOLADE PRIMAIRE 10 E sans anim (anthony abs)
A17: F58-1 | B17: =VLOOKUP(A17,[1]!Tableau_cotisants,2,FALSE) -> OZANNE | C17: =VLOOKUP(A17,[1]!Tableau_cotisants,3,FALSE) -> OZANNE | D17: =VLOOKUP(A17,[1]!Tableau_cotisants,4,FALSE) -> Hortense | E17: =VLOOKUP(A17,[1]!Tableau_cotisants,5,FALSE) -> 0 | F17: =VLOOKUP(A17,[1]!Tableau_cotisants,6,FALSE) -> 1 | G17: =VLOOKUP(A17,[1]!Tableau_cotisants,7,FALSE) -> 0 | H17: =VLOOKUP(A17,[1]!Tableau_cotisants,8,FALSE) -> 30312 | I17: =DATEDIF(H17,Date_du_jour,"y") & " an(s) " & DATEDIF(H17,$C$2,"ym") & " mois et " & DATEDIF(H17,$C$2,"md") & " jour(s)" -> 36 an(s) 0 mois et 13 jour(s) | J17: =VLOOKUP(A17,[1]!Tableau_cotisants,10,FALSE) -> Cognac | K17: =VLOOKUP(A17,[1]!Tableau_cotisants,11,FALSE) -> Cognac | M17: 1 | N17: 1
A18: F58-2 | B18: =VLOOKUP(A18,[1]!Tableau_cotisants,2,FALSE) -> OZANNE | C18: =VLOOKUP(A18,[1]!Tableau_cotisants,3,FALSE) -> OZANNE | D18: =VLOOKUP(A18,[1]!Tableau_cotisants,4,FALSE) -> Georges | E18: =VLOOKUP(A18,[1]!Tableau_cotisants,5,FALSE) -> 0 | F18: =VLOOKUP(A18,[1]!Tableau_cotisants,6,FALSE) -> 0 | G18: =VLOOKUP(A18,[1]!Tableau_cotisants,7,FALSE) -> 1 | H18: =VLOOKUP(A18,[1]!Tableau_cotisants,8,FALSE) -> 41702 | I18: =DATEDIF(H18,Date_du_jour,"y") & " an(s) " & DATEDIF(H18,$C$2,"ym") & " mois et " & DATEDIF(H18,$C$2,"md") & " jour(s)" -> 4 an(s) 10 mois et 5 jour(s) | J18: =VLOOKUP(A18,[1]!Tableau_cotisants,10,FALSE) -> Cognac | K18: =VLOOKUP(A18,[1]!Tableau_cotisants,11,FALSE) -> Cognac | M18: 1 | N18: 1
A19: F58-3 | B19: =VLOOKUP(A19,[1]!Tableau_cotisants,2,FALSE) -> OZANNE | C19: =VLOOKUP(A19,[1]!Tableau_cotisants,3,FALSE) -> OZANNE | D19: =VLOOKUP(A19,[1]!Tableau_cotisants,4,FALSE) -> Arnaud | E19: =VLOOKUP(A19,[1]!Tableau_cotisants,5,FALSE) -> 0 | F19: =VLOOKUP(A19,[1]!Tableau_cotisants,6,FALSE) -> 0 | G19: =VLOOKUP(A19,[1]!Tableau_cotisants,7,FALSE) -> 1 | H19: =VLOOKUP(A19,[1]!Tableau_cotisants,8,FALSE) -> 42313 | I19: =DATEDIF(H19,Date_du_jour,"y") & " an(s) " & DATEDIF(H19,$C$2,"ym") & " mois et " & DATEDIF(H19,$C$2,"md") & " jour(s)" -> 3 an(s) 2 mois et 4 jour(s) | J19: =VLOOKUP(A19,[1]!Tableau_cotisants,10,FALSE) -> Cognac | K19: =VLOOKUP(A19,[1]!Tableau_cotisants,11,FALSE) -> Cognac | M19: 1 | N19: 1
A20: F58-5 | B20: =VLOOKUP(A20,[1]!Tableau_cotisants,2,FALSE) -> OZANNE | C20: =VLOOKUP(A20,[1]!Tableau_cotisants,3,FALSE) -> OZANNE | D20: =VLOOKUP(A20,[1]!Tableau_cotisants,4,FALSE) -> Constantin | E20: =VLOOKUP(A20,[1]!Tableau_cotisants,5,FALSE) -> 0 | F20: =VLOOKUP(A20,[1]!Tableau_cotisants,6,FALSE) -> 0 | G20: =VLOOKUP(A20,[1]!Tableau_cotisants,7,FALSE) -> 1 | H20: =VLOOKUP(A20,[1]!Tableau_cotisants,8,FALSE) -> 43119 | I20: =DATEDIF(H20,Date_du_jour,"y") & " an(s) " & DATEDIF(H20,$C$2,"ym") & " mois et " & DATEDIF(H20,$C$2,"md") & " jour(s)" -> 0 an(s) 11 mois et 21 jour(s) | J20: =VLOOKUP(A20,[1]!Tableau_cotisants,10,FALSE) -> Cognac | K20: =VLOOKUP(A20,[1]!Tableau_cotisants,11,FALSE) -> Cognac | M20: 1 | N20: 1
A21: F105-1 | B21: =VLOOKUP(A21,[1]!Tableau_cotisants,2,FALSE) -> DERUFFE/FLEURY | C21: =VLOOKUP(A21,[1]!Tableau_cotisants,3,FALSE) -> FLEURY | D21: =VLOOKUP(A21,[1]!Tableau_cotisants,4,FALSE) -> Fanny | E21: =VLOOKUP(A21,[1]!Tableau_cotisants,5,FALSE) -> 0 | F21: =VLOOKUP(A21,[1]!Tableau_cotisants,6,FALSE) -> 1 | G21: =VLOOKUP(A21,[1]!Tableau_cotisants,7,FALSE) -> 0 | H21: =VLOOKUP(A21,[1]!Tableau_cotisants,8,FALSE) -> 31330 | I21: =DATEDIF(H21,Date_du_jour,"y") & " an(s) " & DATEDIF(H21,$C$2,"ym") & " mois et " & DATEDIF(H21,$C$2,"md") & " jour(s)" -> 33 an(s) 2 mois et 30 jour(s) | J21: =VLOOKUP(A21,[1]!Tableau_cotisants,10,FALSE) -> Chateauneuf | K21: =VLOOKUP(A21,[1]!Tableau_cotisants,11,FALSE) -> Chateauneuf | M21: 1 | P21: 1
A22: F105-2 | B22: =VLOOKUP(A22,[1]!Tableau_cotisants,2,FALSE) -> DERUFFE/FLEURY | C22: =VLOOKUP(A22,[1]!Tableau_cotisants,3,FALSE) -> DERUFFE | D22: =VLOOKUP(A22,[1]!Tableau_cotisants,4,FALSE) -> Johnny | E22: =VLOOKUP(A22,[1]!Tableau_cotisants,5,FALSE) -> 0 | F22: =VLOOKUP(A22,[1]!Tableau_cotisants,6,FALSE) -> 0 | G22: =VLOOKUP(A22,[1]!Tableau_cotisants,7,FALSE) -> 1 | H22: =VLOOKUP(A22,[1]!Tableau_cotisants,8,FALSE) -> 27585 | I22: =DATEDIF(H22,Date_du_jour,"y") & " an(s) " & DATEDIF(H22,$C$2,"ym") & " mois et " & DATEDIF(H22,$C$2,"md") & " jour(s)" -> 43 an(s) 5 mois et 30 jour(s) | J22: =VLOOKUP(A22,[1]!Tableau_cotisants,10,FALSE) -> Chateauneuf | K22: =VLOOKUP(A22,[1]!Tableau_cotisants,11,FALSE) -> Chateauneuf | M22: 1 | P22: 1
A23: F105-3 | B23: =VLOOKUP(A23,[1]!Tableau_cotisants,2,FALSE) -> DERUFFE/FLEURY | C23: =VLOOKUP(A23,[1]!Tableau_cotisants,3,FALSE) -> DERUFFE | D23: =VLOOKUP(A23,[1]!Tableau_cotisants,4,FALSE) -> Marilou | E23: =VLOOKUP(A23,[1]!Tableau_cotisants,5,FALSE) -> 0 | F23: =VLOOKUP(A23,[1]!Tableau_cotisants,6,FALSE) -> 1 | G23: =VLOOKUP(A23,[1]!Tableau_cotisants,7,FALSE) -> 0 | H23: =VLOOKUP(A23,[1]!Tableau_cotisants,8,FALSE) -> 40532 | I23: =DATEDIF(H23,Date_du_jour,"y") & " an(s) " & DATEDIF(H23,$C$2,"ym") & " mois et " & DATEDIF(H23,$C$2,"md") & " jour(s)" -> 8 an(s) 0 mois et 20 jour(s) | J23: =VLOOKUP(A23,[1]!Tableau_cotisants,10,FALSE) -> Chateauneuf | K23: =VLOOKUP(A23,[1]!Tableau_cotisants,11,FALSE) -> Chateauneuf | M23: 1 | P23: 1
A24: F105-4 | B24: =VLOOKUP(A24,[1]!Tableau_cotisants,2,FALSE) -> DERUFFE/FLEURY | C24: =VLOOKUP(A24,[1]!Tableau_cotisants,3,FALSE) -> DERUFFE | D24: =VLOOKUP(A24,[1]!Tableau_cotisants,4,FALSE) -> Tristan | E24: =VLOOKUP(A24,[1]!Tableau_cotisants,5,FALSE) -> 0 | F24: =VLOOKUP(A24,[1]!Tableau_cotisants,6,FALSE) -> 0 | G24: =VLOOKUP(A24,[1]!Tableau_cotisants,7,FALSE) -> 1 | H24: =VLOOKUP(A24,[1]!Tableau_cotisants,8,FALSE) -> 43138 | I24: =DATEDIF(H24,Date_du_jour,"y") & " an(s) " & DATEDIF(H24,$C$2,"ym") & " mois et " & DATEDIF(H24,$C$2,"md") & " jour(s)" -> 0 an(s) 11 mois et 2 jour(s) | J24: =VLOOKUP(A24,[1]!Tableau_cotisants,10,FALSE) -> Chateauneuf | K24: =VLOOKUP(A24,[1]!Tableau_cotisants,11,FALSE) -> Chateauneuf | M24: 1 | P24: 1
A25: F2-1 | B25: =VLOOKUP(A25,[1]!Tableau_cotisants,2,FALSE) -> DEDEBAN | C25: =VLOOKUP(A25,[1]!Tableau_cotisants,3,FALSE) -> DEDEBAN | D25: =VLOOKUP(A25,[1]!Tableau_cotisants,4,FALSE) -> Julie | E25: =VLOOKUP(A25,[1]!Tableau_cotisants,5,FALSE) -> 0 | F25: =VLOOKUP(A25,[1]!Tableau_cotisants,6,FALSE) -> 1 | G25: =VLOOKUP(A25,[1]!Tableau_cotisants,7,FALSE) -> 0 | H25: =VLOOKUP(A25,[1]!Tableau_cotisants,8,FALSE) -> 29812 | I25: =DATEDIF(H25,Date_du_jour,"y") & " an(s) " & DATEDIF(H25,$C$2,"ym") & " mois et " & DATEDIF(H25,$C$2,"md") & " jour(s)" -> 37 an(s) 4 mois et 26 jour(s) | J25: =VLOOKUP(A25,[1]!Tableau_cotisants,10,FALSE) -> GENTE | K25: =VLOOKUP(A25,[1]!Tableau_cotisants,11,FALSE) -> Champagne | M25: 1 | O25: 1
A26: F103-1 | B26: =VLOOKUP(A26,[1]!Tableau_cotisants,2,FALSE) -> MONTGOMERY | C26: =VLOOKUP(A26,[1]!Tableau_cotisants,3,FALSE) -> MONTGOMERY | D26: =VLOOKUP(A26,[1]!Tableau_cotisants,4,FALSE) -> Rebecca | E26: =VLOOKUP(A26,[1]!Tableau_cotisants,5,FALSE) -> 0 | F26: =VLOOKUP(A26,[1]!Tableau_cotisants,6,FALSE) -> 1 | G26: =VLOOKUP(A26,[1]!Tableau_cotisants,7,FALSE) -> 0 | H26: =VLOOKUP(A26,[1]!Tableau_cotisants,8,FALSE) -> 26339 | I26: =DATEDIF(H26,Date_du_jour,"y") & " an(s) " & DATEDIF(H26,$C$2,"ym") & " mois et " & DATEDIF(H26,$C$2,"md") & " jour(s)" -> 46 an(s) 10 mois et 30 jour(s) | J26: =VLOOKUP(A26,[1]!Tableau_cotisants,10,FALSE) -> SEGONZAC | K26: =VLOOKUP(A26,[1]!Tableau_cotisants,11,FALSE) -> Champagne | M26: 1 | O26: 1
A27: F103-2 | B27: =VLOOKUP(A27,[1]!Tableau_cotisants,2,FALSE) -> MONTGOMERY | C27: =VLOOKUP(A27,[1]!Tableau_cotisants,3,FALSE) -> MONTGOMERY | D27: =VLOOKUP(A27,[1]!Tableau_cotisants,4,FALSE) -> William | E27: =VLOOKUP(A27,[1]!Tableau_cotisants,5,FALSE) -> 0 | F27: =VLOOKUP(A27,[1]!Tableau_cotisants,6,FALSE) -> 0 | G27: =VLOOKUP(A27,[1]!Tableau_cotisants,7,FALSE) -> 1 | H27: =VLOOKUP(A27,[1]!Tableau_cotisants,8,FALSE) -> 40227 | I27: =DATEDIF(H27,Date_du_jour,"y") & " an(s) " & DATEDIF(H27,$C$2,"ym") & " mois et " & DATEDIF(H27,$C$2,"md") & " jour(s)" -> 8 an(s) 10 mois et 22 jour(s) | J27: =VLOOKUP(A27,[1]!Tableau_cotisants,10,FALSE) -> SEGONZAC | K27: =VLOOKUP(A27,[1]!Tableau_cotisants,11,FALSE) -> Champagne | M27: 1 | O27: 1
A28: F4-1 | B28: =VLOOKUP(A28,[1]!Tableau_cotisants,2,FALSE) -> SANSAUD/MOREAU | C28: =VLOOKUP(A28,[1]!Tableau_cotisants,3,FALSE) -> MOREAU | D28: =VLOOKUP(A28,[1]!Tableau_cotisants,4,FALSE) -> Emmanuelle | E28: =VLOOKUP(A28,[1]!Tableau_cotisants,5,FALSE) -> 0 | F28: =VLOOKUP(A28,[1]!Tableau_cotisants,6,FALSE) -> 1 | G28: =VLOOKUP(A28,[1]!Tableau_cotisants,7,FALSE) -> 0 | H28: =VLOOKUP(A28,[1]!Tableau_cotisants,8,FALSE) -> 29187 | I28: =DATEDIF(H28,Date_du_jour,"y") & " an(s) " & DATEDIF(H28,$C$2,"ym") & " mois et " & DATEDIF(H28,$C$2,"md") & " jour(s)" -> 39 an(s) 1 mois et 12 jour(s) | J28: =VLOOKUP(A28,[1]!Tableau_cotisants,10,FALSE) -> SEGONZAC | K28: =VLOOKUP(A28,[1]!Tableau_cotisants,11,FALSE) -> Champagne | M28: 1 | N28: 1
A29: F4-4 | B29: =VLOOKUP(A29,[1]!Tableau_cotisants,2,FALSE) -> SANSAUD/MOREAU | C29: =VLOOKUP(A29,[1]!Tableau_cotisants,3,FALSE) -> SANSAUD | D29: =VLOOKUP(A29,[1]!Tableau_cotisants,4,FALSE) -> Ethan | E29: =VLOOKUP(A29,[1]!Tableau_cotisants,5,FALSE) -> 0 | F29: =VLOOKUP(A29,[1]!Tableau_cotisants,6,FALSE) -> 0 | G29: =VLOOKUP(A29,[1]!Tableau_cotisants,7,FALSE) -> 1 | H29: =VLOOKUP(A29,[1]!Tableau_cotisants,8,FALSE) -> 41015 | I29: =DATEDIF(H29,Date_du_jour,"y") & " an(s) " & DATEDIF(H29,$C$2,"ym") & " mois et " & DATEDIF(H29,$C$2,"md") & " jour(s)" -> 6 an(s) 8 mois et 24 jour(s) | J29: =VLOOKUP(A29,[1]!Tableau_cotisants,10,FALSE) -> SEGONZAC | K29: =VLOOKUP(A29,[1]!Tableau_cotisants,11,FALSE) -> Champagne | M29: 1 | N29: 1
A30: F4-5 | B30: =VLOOKUP(A30,[1]!Tableau_cotisants,2,FALSE) -> SANSAUD/MOREAU | C30: =VLOOKUP(A30,[1]!Tableau_cotisants,3,FALSE) -> SANSAUD | D30: =VLOOKUP(A30,[1]!Tableau_cotisants,4,FALSE) -> Axel | E30: =VLOOKUP(A30,[1]!Tableau_cotisants,5,FALSE) -> 0 | F30: =VLOOKUP(A30,[1]!Tableau_cotisants,6,FALSE) -> 0 | G30: =VLOOKUP(A30,[1]!Tableau_cotisants,7,FALSE) -> 1 | H30: =VLOOKUP(A30,[1]!Tableau_cotisants,8,FALSE) -> 42407 | I30: =DATEDIF(H30,Date_du_jour,"y") & " an(s) " & DATEDIF(H30,$C$2,"ym") & " mois et " & DATEDIF(H30,$C$2,"md") & " jour(s)" -> 2 an(s) 11 mois et 2 jour(s) | J30: =VLOOKUP(A30,[1]!Tableau_cotisants,10,FALSE) -> SEGONZAC | K30: =VLOOKUP(A30,[1]!Tableau_cotisants,11,FALSE) -> Champagne | M30: 1 | N30: 1
A31: F99-1 | B31: =VLOOKUP(A31,[1]!Tableau_cotisants,2,FALSE) -> MENON | C31: =VLOOKUP(A31,[1]!Tableau_cotisants,3,FALSE) -> MENON | D31: =VLOOKUP(A31,[1]!Tableau_cotisants,4,FALSE) -> Caroline | E31: =VLOOKUP(A31,[1]!Tableau_cotisants,5,FALSE) -> 0 | F31: =VLOOKUP(A31,[1]!Tableau_cotisants,6,FALSE) -> 1 | G31: =VLOOKUP(A31,[1]!Tableau_cotisants,7,FALSE) -> 0 | H31: =VLOOKUP(A31,[1]!Tableau_cotisants,8,FALSE) -> 29713 | I31: =DATEDIF(H31,Date_du_jour,"y") & " an(s) " & DATEDIF(H31,$C$2,"ym") & " mois et " & DATEDIF(H31,$C$2,"md") & " jour(s)" -> 37 an(s) 8 mois et 2 jour(s) | J31: =VLOOKUP(A31,[1]!Tableau_cotisants,10,FALSE) -> Genté | K31: =VLOOKUP(A31,[1]!Tableau_cotisants,11,FALSE) -> Champagne | M31: 1 | O31: 1
A32: F99-2 | B32: =VLOOKUP(A32,[1]!Tableau_cotisants,2,FALSE) -> MENON | C32: =VLOOKUP(A32,[1]!Tableau_cotisants,3,FALSE) -> MENON | D32: =VLOOKUP(A32,[1]!Tableau_cotisants,4,FALSE) -> Victor | E32: =VLOOKUP(A32,[1]!Tableau_cotisants,5,FALSE) -> 0 | F32: =VLOOKUP(A32,[1]!Tableau_cotisants,6,FALSE) -> 0 | G32: =VLOOKUP(A32,[1]!Tableau_cotisants,7,FALSE) -> 1 | H32: =VLOOKUP(A32,[1]!Tableau_cotisants,8,FALSE) -> 40687 | I32: =DATEDIF(H32,Date_du_jour,"y") & " an(s) " & DATEDIF(H32,$C$2,"ym") & " mois et " & DATEDIF(H32,$C$2,"md") & " jour(s)" -> 7 an(s) 7 mois et 16 jour(s) | J32: =VLOOKUP(A32,[1]!Tableau_cotisants,10,FALSE) -> Genté | K32: =VLOOKUP(A32,[1]!Tableau_cotisants,11,FALSE) -> Champagne | M32: 1 | O32: 1
E35: =SUM(E7:E34) -> 7 | F35: =SUM(F5:F34) -> 12 | G35: =SUM(G5:G34) -> 15 | K35: =SUM(K7:K34) -> 0 | L35: =SUM(L5:L34) -> 11 | M35: =SUM(M5:M34) -> 16 | N35: =SUM(N5:N34) -> 14 | O35: =SUM(O5:O34) -> 5 | P35: =SUM(P5:P34) -> 8 | Q35: =SUM(Q5:Q34) -> 0 | R35: =SUM(R5:R34) -> 0 | S35: =SUM(S5:S34) -> 0
B36: Matin : | F36: =F35+G35 -> 27 | L36: =L35+M35 -> 27 | N36: =N35+O35+P35 -> 27
B37: Après-midi : | L37: =L35 -> 11 | M37: =M35 -> 16 | N37: =N35 -> 14 | O37: =O35 -> 5 | P37: =P35 -> 8 | Q37: =Q35 -> 0 | R37: =R35 -> 0 | S37: =S35 -> 0
L38: =L36 -> 27 | N38: =N36 -> 27
B39: Nb | C39: GROUPES | D39: Nb | E39: Individus
A40: Hors ACCOLADE | B40: 0 | C40: =B40 -> 0 | D40: 0 | E40: ='[2]12 decembre 2018'!E40+D40 -> 0
A41: ACCOLADE | B41: 1 | C41: =B41 -> 1 | D41: 10 | E41: =D41 -> 10

Sheet 16 janvier 2019
B2: MERCREDI | C2: 43481 | K2: H&D | R2: 2
B3: atelier couronnes à gratter/ galette offerte par PJ | F3: SEXE | S3: Cartes de vœux
A4: CODE | B4: FAMILLE | C4: NOM | D4: Prénom | E4: ASSMAT | F4: F | G4: M | H4: naissance | I4: âge jour | J4: Commune | K4: TERRI TOIRE | L4: Matin | M4: AM | N4: JSP seul | O4: Emprunt seul | P4: JSP + emprunt | Q4: DEC | R4: Ponc tuel | S4: Ate lier
A5: F9-3 | B5: =VLOOKUP(A5,[1]!Tableau_cotisants,2,FALSE) -> SAMOYEAU/RAPHOZ | C5: =VLOOKUP(A5,[1]!Tableau_cotisants,3,FALSE) -> SAMOYEAU | D5: =VLOOKUP(A5,[1]!Tableau_cotisants,4,FALSE) -> Thomas | E5: =VLOOKUP(A5,[1]!Tableau_cotisants,5,FALSE) -> 0 | F5: =VLOOKUP(A5,[1]!Tableau_cotisants,6,FALSE) -> 0 | G5: =VLOOKUP(A5,[1]!Tableau_cotisants,7,FALSE) -> 1 | H5: =VLOOKUP(A5,[1]!Tableau_cotisants,8,FALSE) -> 41862 | I5: =DATEDIF(H5,Date_du_jour,"y") & " an(s) " & DATEDIF(H5,$C$2,"ym") & " mois et " & DATEDIF(H5,$C$2,"md") & " jour(s)" -> 4 an(s) 5 mois et 5 jour(s) | J5: =VLOOKUP(A5,[1]!Tableau_cotisants,10,FALSE) -> SEGONZAC | K5: =VLOOKUP(A5,[1]!Tableau_cotisants,11,FALSE) -> Champagne | L5: 1 | P5: 1
A6: F9-4 | B6: =VLOOKUP(A6,[1]!Tableau_cotisants,2,FALSE) -> SAMOYEAU/RAPHOZ | C6: =VLOOKUP(A6,[1]!Tableau_cotisants,3,FALSE) -> RAPHOZ | D6: =VLOOKUP(A6,[1]!Tableau_cotisants,4,FALSE) -> Martine | E6: =VLOOKUP(A6,[1]!Tableau_cotisants,5,FALSE) -> 0 | F6: =VLOOKUP(A6,[1]!Tableau_cotisants,6,FALSE) -> 1 | G6: =VLOOKUP(A6,[1]!Tableau_cotisants,7,FALSE) -> 0 | H6: =VLOOKUP(A6,[1]!Tableau_cotisants,8,FALSE) -> 18714 | I6: =DATEDIF(H6,Date_du_jour,"y") & " an(s) " & DATEDIF(H6,$C$2,"ym") & " mois et " & DATEDIF(H6,$C$2,"md") & " jour(s)" -> 67 an(s) 9 mois et 20 jour(s) | J6: =VLOOKUP(A6,[1]!Tableau_cotisants,10,FALSE) -> SEGONZAC | K6: =VLOOKUP(A6,[1]!Tableau_cotisants,11,FALSE) -> Champagne | L6: 1 | P6: 1
A7: F32-2 | B7: =VLOOKUP(A7,[1]!Tableau_cotisants,2,FALSE) -> DESSET | C7: =VLOOKUP(A7,[1]!Tableau_cotisants,3,FALSE) -> DESSET | D7: =VLOOKUP(A7,[1]!Tableau_cotisants,4,FALSE) -> Yelena | E7: =VLOOKUP(A7,[1]!Tableau_cotisants,5,FALSE) -> 0 | F7: =VLOOKUP(A7,[1]!Tableau_cotisants,6,FALSE) -> 1 | G7: =VLOOKUP(A7,[1]!Tableau_cotisants,7,FALSE) -> 0 | H7: =VLOOKUP(A7,[1]!Tableau_cotisants,8,FALSE) -> 40596 | I7: =DATEDIF(H7,Date_du_jour,"y") & " an(s) " & DATEDIF(H7,$C$2,"ym") & " mois et " & DATEDIF(H7,$C$2,"md") & " jour(s)" -> 7 an(s) 10 mois et 25 jour(s) | J7: =VLOOKUP(A7,[1]!Tableau_cotisants,10,FALSE) -> BOURG-CHARENTE | K7: =VLOOKUP(A7,[1]!Tableau_cotisants,11,FALSE) -> Jarnac | L7: 1 | P7: 1
A8: F32-4 | B8: =VLOOKUP(A8,[1]!Tableau_cotisants,2,FALSE) -> DESSET | C8: =VLOOKUP(A8,[1]!Tableau_cotisants,3,FALSE) -> MARTINEZ PONCE | D8: =VLOOKUP(A8,[1]!Tableau_cotisants,4,FALSE) -> Valentina | E8: =VLOOKUP(A8,[1]!Tableau_cotisants,5,FALSE) -> 0 | F8: =VLOOKUP(A8,[1]!Tableau_cotisants,6,FALSE) -> 1 | G8: =VLOOKUP(A8,[1]!Tableau_cotisants,7,FALSE) -> 0 | H8: =VLOOKUP(A8,[1]!Tableau_cotisants,8,FALSE) -> 36516 | I8: =DATEDIF(H8,Date_du_jour,"y") & " an(s) " & DATEDIF(H8,$C$2,"ym") & " mois et " & DATEDIF(H8,$C$2,"md") & " jour(s)" -> 19 an(s) 0 mois et 25 jour(s) | J8: =VLOOKUP(A8,[1]!Tableau_cotisants,10,FALSE) -> BOURG-CHARENTE | K8: =VLOOKUP(A8,[1]!Tableau_cotisants,11,FALSE) -> Jarnac | L8: 1 | P8: 1
A9: AM6-1 | B9: =VLOOKUP(A9,[1]!Tableau_cotisants,2,FALSE) -> DEGRIS | C9: =VLOOKUP(A9,[1]!Tableau_cotisants,3,FALSE) -> DEGRIS | D9: =VLOOKUP(A9,[1]!Tableau_cotisants,4,FALSE) -> Laura | E9: =VLOOKUP(A9,[1]!Tableau_cotisants,5,FALSE) -> 1 | F9: =VLOOKUP(A9,[1]!Tableau_cotisants,6,FALSE) -> 1 | G9: =VLOOKUP(A9,[1]!Tableau_cotisants,7,FALSE) -> 0 | H9: =VLOOKUP(A9,[1]!Tableau_cotisants,8,FALSE) -> 32556 | I9: =DATEDIF(H9,Date_du_jour,"y") & " an(s) " & DATEDIF(H9,$C$2,"ym") & " mois et " & DATEDIF(H9,$C$2,"md") & " jour(s)" -> 29 an(s) 10 mois et 30 jour(s) | J9: =VLOOKUP(A9,[1]!Tableau_cotisants,10,FALSE) -> SALLES D'ANGLES | K9: =VLOOKUP(A9,[1]!Tableau_cotisants,11,FALSE) -> Champagne | L9: 1 | N9: 1
A10: AM6-4 | B10: =VLOOKUP(A10,[1]!Tableau_cotisants,2,FALSE) -> DEGRIS | C10: =VLOOKUP(A10,[1]!Tableau_cotisants,3,FALSE) -> GUYOT | D10: =VLOOKUP(A10,[1]!Tableau_cotisants,4,FALSE) -> Léanne | E10: =VLOOKUP(A10,[1]!Tableau_cotisants,5,FALSE) -> 1 | F10: =VLOOKUP(A10,[1]!Tableau_cotisants,6,FALSE) -> 1 | G10: =VLOOKUP(A10,[1]!Tableau_cotisants,7,FALSE) -> 0 | H10: =VLOOKUP(A10,[1]!Tableau_cotisants,8,FALSE) -> 41202 | I10: =DATEDIF(H10,Date_du_jour,"y") & " an(s) " & DATEDIF(H10,$C$2,"ym") & " mois et " & DATEDIF(H10,$C$2,"md") & " jour(s)" -> 6 an(s) 2 mois et 27 jour(s) | J10: =VLOOKUP(A10,[1]!Tableau_cotisants,10,FALSE) -> SALLES D'ANGLES | K10: =VLOOKUP(A10,[1]!Tableau_cotisants,11,FALSE) -> Champagne | L10: 1 | N10: 1
A11: AM6-5 | B11: =VLOOKUP(A11,[1]!Tableau_cotisants,2,FALSE) -> DEGRIS | C11: =VLOOKUP(A11,[1]!Tableau_cotisants,3,FALSE) -> GUYOT | D11: =VLOOKUP(A11,[1]!Tableau_cotisants,4,FALSE) -> Nathan | E11: =VLOOKUP(A11,[1]!Tableau_cotisants,5,FALSE) -> 1 | F11: =VLOOKUP(A11,[1]!Tableau_cotisants,6,FALSE) -> 0 | G11: =VLOOKUP(A11,[1]!Tableau_cotisants,7,FALSE) -> 1 | H11: =VLOOKUP(A11,[1]!Tableau_cotisants,8,FALSE) -> 42354 | I11: =DATEDIF(H11,Date_du_jour,"y") & " an(s) " & DATEDIF(H11,$C$2,"ym") & " mois et " & DATEDIF(H11,$C$2,"md") & " jour(s)" -> 3 an(s) 1 mois et 0 jour(s) | J11: =VLOOKUP(A11,[1]!Tableau_cotisants,10,FALSE) -> SALLES D'ANGLES | K11: =VLOOKUP(A11,[1]!Tableau_cotisants,11,FALSE) -> Champagne | L11: 1 | N11: 1
A12: AM6-6 | B12: =VLOOKUP(A12,[1]!Tableau_cotisants,2,FALSE) -> DEGRIS | C12: =VLOOKUP(A12,[1]!Tableau_cotisants,3,FALSE) -> GABORIT TRIJOL | D12: =VLOOKUP(A12,[1]!Tableau_cotisants,4,FALSE) -> Marceau | E12: =VLOOKUP(A12,[1]!Tableau_cotisants,5,FALSE) -> 1 | F12: =VLOOKUP(A12,[1]!Tableau_cotisants,6,FALSE) -> 0 | G12: =VLOOKUP(A12,[1]!Tableau_cotisants,7,FALSE) -> 1 | H12: =VLOOKUP(A12,[1]!Tableau_cotisants,8,FALSE) -> 43002 | I12: =DATEDIF(H12,Date_du_jour,"y") & " an(s) " & DATEDIF(H12,$C$2,"ym") & " mois et " & DATEDIF(H12,$C$2,"md") & " jour(s)" -> 1 an(s) 3 mois et 23 jour(s) | J12: =VLOOKUP(A12,[1]!Tableau_cotisants,10,FALSE) -> SALLES D'ANGLES | K12: =VLOOKUP(A12,[1]!Tableau_cotisants,11,FALSE) -> Champagne | L12: 1 | N12: 1
A13: AM6-9 | B13: =VLOOKUP(A13,[1]!Tableau_cotisants,2,FALSE) -> DEGRIS | C13: =VLOOKUP(A13,[1]!Tableau_cotisants,3,FALSE) -> Enfant gardé | D13: =VLOOKUP(A13,[1]!Tableau_cotisants,4,FALSE) -> Aëlynn | E13: =VLOOKUP(A13,[1]!Tableau_cotisants,5,FALSE) -> 1 | F13: =VLOOKUP(A13,[1]!Tableau_cotisants,6,FALSE) -> 1 | G13: =VLOOKUP(A13,[1]!Tableau_cotisants,7,FALSE) -> 0 | H13: =VLOOKUP(A13,[1]!Tableau_cotisants,8,FALSE) -> 43313 | I13: =DATEDIF(H13,Date_du_jour,"y") & " an(s) " & DATEDIF(H13,$C$2,"ym") & " mois et " & DATEDIF(H13,$C$2,"md") & " jour(s)" -> 0 an(s) 5 mois et 15 jour(s) | J13: =VLOOKUP(A13,[1]!Tableau_cotisants,10,FALSE) -> SALLES D'ANGLES | K13: =VLOOKUP(A13,[1]!Tableau_cotisants,11,FALSE) -> Champagne | L13: 1 | N13: 1
A14: F65-1 | B14: =VLOOKUP(A14,[1]!Tableau_cotisants,2,FALSE) -> RATIE/LONJARD | C14: =VLOOKUP(A14,[1]!Tableau_cotisants,3,FALSE) -> LONJARD | D14: =VLOOKUP(A14,[1]!Tableau_cotisants,4,FALSE) -> Nathalie | E14: =VLOOKUP(A14,[1]!Tableau_cotisants,5,FALSE) -> 0 | F14: =VLOOKUP(A14,[1]!Tableau_cotisants,6,FALSE) -> 1 | G14: =VLOOKUP(A14,[1]!Tableau_cotisants,7,FALSE) -> 0 | H14: =VLOOKUP(A14,[1]!Tableau_cotisants,8,FALSE) -> 23531 | I14: =DATEDIF(H14,Date_du_jour,"y") & " an(s) " & DATEDIF(H14,$C$2,"ym") & " mois et " & DATEDIF(H14,$C$2,"md") & " jour(s)" -> 54 an(s) 7 mois et 13 jour(s) | J14: =VLOOKUP(A14,[1]!Tableau_cotisants,10,FALSE) -> SEGONZAC | K14: =VLOOKUP(A14,[1]!Tableau_cotisants,11,FALSE) -> Champagne | L14: 1 | O14: 1
A15: F65-2 | B15: =VLOOKUP(A15,[1]!Tableau_cotisants,2,FALSE) -> RATIE/LONJARD | C15: =VLOOKUP(A15,[1]!Tableau_cotisants,3,FALSE) -> RATIE | D15: =VLOOKUP(A15,[1]!Tableau_cotisants,4,FALSE) -> Nathan | E15: =VLOOKUP(A15,[1]!Tableau_cotisants,5,FALSE) -> 0 | F15: =VLOOKUP(A15,[1]!Tableau_cotisants,6,FALSE) -> 0 | G15: =VLOOKUP(A15,[1]!Tableau_cotisants,7,FALSE) -> 1 | H15: =VLOOKUP(A15,[1]!Tableau_cotisants,8,FALSE) -> 40448 | I15: =DATEDIF(H15,Date_du_jour,"y") & " an(s) " & DATEDIF(H15,$C$2,"ym") & " mois et " & DATEDIF(H15,$C$2,"md") & " jour(s)" -> 8 an(s) 3 mois et 20 jour(s) | J15: =VLOOKUP(A15,[1]!Tableau_cotisants,10,FALSE) -> SEGONZAC | K15: =VLOOKUP(A15,[1]!Tableau_cotisants,11,FALSE) -> Champagne | L15: 1 | O15: 1
B16: ALSH JARNAC 6 enfants 1 anim
A17: F104-2 | B17: =VLOOKUP(A17,[1]!Tableau_cotisants,2,FALSE) -> PETIT | C17: =VLOOKUP(A17,[1]!Tableau_cotisants,3,FALSE) -> PETIT | D17: =VLOOKUP(A17,[1]!Tableau_cotisants,4,FALSE) -> Stéphanie | E17: =VLOOKUP(A17,[1]!Tableau_cotisants,5,FALSE) -> 0 | F17: =VLOOKUP(A17,[1]!Tableau_cotisants,6,FALSE) -> 1 | G17: =VLOOKUP(A17,[1]!Tableau_cotisants,7,FALSE) -> 0 | H17: =VLOOKUP(A17,[1]!Tableau_cotisants,8,FALSE) -> 30411 | I17: =DATEDIF(H17,Date_du_jour,"y") & " an(s) " & DATEDIF(H17,$C$2,"ym") & " mois et " & DATEDIF(H17,$C$2,"md") & " jour(s)" -> 35 an(s) 9 mois et 11 jour(s) | J17: =VLOOKUP(A17,[1]!Tableau_cotisants,10,FALSE) -> Saint Fort | K17: =VLOOKUP(A17,[1]!Tableau_cotisants,11,FALSE) -> Champagne | M17: 1 | N17: 1
A18: F104-3 | B18: =VLOOKUP(A18,[1]!Tableau_cotisants,2,FALSE) -> PETIT | C18: =VLOOKUP(A18,[1]!Tableau_cotisants,3,FALSE) -> PETIT | D18: =VLOOKUP(A18,[1]!Tableau_cotisants,4,FALSE) -> Priscillia | E18: =VLOOKUP(A18,[1]!Tableau_cotisants,5,FALSE) -> 0 | F18: =VLOOKUP(A18,[1]!Tableau_cotisants,6,FALSE) -> 1 | G18: =VLOOKUP(A18,[1]!Tableau_cotisants,7,FALSE) -> 0 | H18: =VLOOKUP(A18,[1]!Tableau_cotisants,8,FALSE) -> 39648 | I18: =DATEDIF(H18,Date_du_jour,"y") & " an(s) " & DATEDIF(H18,$C$2,"ym") & " mois et " & DATEDIF(H18,$C$2,"md") & " jour(s)" -> 10 an(s) 5 mois et 28 jour(s) | J18: =VLOOKUP(A18,[1]!Tableau_cotisants,10,FALSE) -> Saint Fort | K18: =VLOOKUP(A18,[1]!Tableau_cotisants,11,FALSE) -> Champagne | M18: 1 | N18: 1
A19: F109-1 | B19: =VLOOKUP(A19,[1]!Tableau_cotisants,2,FALSE) -> Barett De Coutures | C19: =VLOOKUP(A19,[1]!Tableau_cotisants,3,FALSE) -> Barett De Coutures | D19: =VLOOKUP(A19,[1]!Tableau_cotisants,4,FALSE) -> Sophie | E19: =VLOOKUP(A19,[1]!Tableau_cotisants,5,FALSE) -> 0 | F19: =VLOOKUP(A19,[1]!Tableau_cotisants,6,FALSE) -> 1 | G19: =VLOOKUP(A19,[1]!Tableau_cotisants,7,FALSE) -> 0 | H19: =VLOOKUP(A19,[1]!Tableau_cotisants,8,FALSE) -> 26736 | I19: =DATEDIF(H19,Date_du_jour,"y") & " an(s) " & DATEDIF(H19,$C$2,"ym") & " mois et " & DATEDIF(H19,$C$2,"md") & " jour(s)" -> 45 an(s) 10 mois et 3 jour(s) | J19: =VLOOKUP(A19,[1]!Tableau_cotisants,10,FALSE) -> Bourg Charente | K19: =VLOOKUP(A19,[1]!Tableau_cotisants,11,FALSE) -> Jarnac | M19: 1 | N19: 1
A20: F109-2 | B20: =VLOOKUP(A20,[1]!Tableau_cotisants,2,FALSE) -> Barett De Coutures | C20: =VLOOKUP(A20,[1]!Tableau_cotisants,3,FALSE) -> Barett De Coutures | D20: =VLOOKUP(A20,[1]!Tableau_cotisants,4,FALSE) -> Louise | E20: =VLOOKUP(A20,[1]!Tableau_cotisants,5,FALSE) -> 0 | F20: =VLOOKUP(A20,[1]!Tableau_cotisants,6,FALSE) -> 1 | G20: =VLOOKUP(A20,[1]!Tableau_cotisants,7,FALSE) -> 0 | H20: =VLOOKUP(A20,[1]!Tableau_cotisants,8,FALSE) -> 41504 | I20: =DATEDIF(H20,Date_du_jour,"y") & " an(s) " & DATEDIF(H20,$C$2,"ym") & " mois et " & DATEDIF(H20,$C$2,"md") & " jour(s)" -> 5 an(s) 4 mois et 29 jour(s) | J20: =VLOOKUP(A20,[1]!Tableau_cotisants,10,FALSE) -> Bourg Charente | K20: =VLOOKUP(A20,[1]!Tableau_cotisants,11,FALSE) -> Jarnac | M20: 1 | N20: 1
A21: F79-1 | B21: =VLOOKUP(A21,[1]!Tableau_cotisants,2,FALSE) -> MARY/SYLVESTRE | C21: =VLOOKUP(A21,[1]!Tableau_cotisants,3,FALSE) -> SILVESTRE | D21: =VLOOKUP(A21,[1]!Tableau_cotisants,4,FALSE) -> Aurélie | E21: =VLOOKUP(A21,[1]!Tableau_cotisants,5,FALSE) -> 0 | F21: =VLOOKUP(A21,[1]!Tableau_cotisants,6,FALSE) -> 1 | G21: =VLOOKUP(A21,[1]!Tableau_cotisants,7,FALSE) -> 0 | H21: =VLOOKUP(A21,[1]!Tableau_cotisants,8,FALSE) -> 30890 | I21: =DATEDIF(H21,Date_du_jour,"y") & " an(s) " & DATEDIF(H21,$C$2,"ym") & " mois et " & DATEDIF(H21,$C$2,"md") & " jour(s)" -> 34 an(s) 5 mois et 20 jour(s) | J21: =VLOOKUP(A21,[1]!Tableau_cotisants,10,FALSE) -> Juillac | K21: =VLOOKUP(A21,[1]!Tableau_cotisants,11,FALSE) -> Champagne | M21: 1 | P21: 1
A22: F79-2 | B22: =VLOOKUP(A22,[1]!Tableau_cotisants,2,FALSE) -> MARY/SYLVESTRE | C22: =VLOOKUP(A22,[1]!Tableau_cotisants,3,FALSE) -> MARY | D22: =VLOOKUP(A22,[1]!Tableau_cotisants,4,FALSE) -> Elouan | E22: =VLOOKUP(A22,[1]!Tableau_cotisants,5,FALSE) -> 0 | F22: =VLOOKUP(A22,[1]!Tableau_cotisants,6,FALSE) -> 0 | G22: =VLOOKUP(A22,[1]!Tableau_cotisants,7,FALSE) -> 1 | H22: =VLOOKUP(A22,[1]!Tableau_cotisants,8,FALSE) -> 39466 | I22: =DATEDIF(H22,Date_du_jour,"y") & " an(s) " & DATEDIF(H22,$C$2,"ym") & " mois et " & DATEDIF(H22,$C$2,"md") & " jour(s)" -> 10 an(s) 11 mois et 28 jour(s) | J22: =VLOOKUP(A22,[1]!Tableau_cotisants,10,FALSE) -> Juillac | K22: =VLOOKUP(A22,[1]!Tableau_cotisants,11,FALSE) -> Champagne | M22: 1 | P22: 1
A23: F79-3 | B23: =VLOOKUP(A23,[1]!Tableau_cotisants,2,FALSE) -> MARY/SYLVESTRE | C23: =VLOOKUP(A23,[1]!Tableau_cotisants,3,FALSE) -> MARY | D23: =VLOOKUP(A23,[1]!Tableau_cotisants,4,FALSE) -> Jules | E23: =VLOOKUP(A23,[1]!Tableau_cotisants,5,FALSE) -> 0 | F23: =VLOOKUP(A23,[1]!Tableau_cotisants,6,FALSE) -> 0 | G23: =VLOOKUP(A23,[1]!Tableau_cotisants,7,FALSE) -> 1 | H23: =VLOOKUP(A23,[1]!Tableau_cotisants,8,FALSE) -> 40806 | I23: =DATEDIF(H23,Date_du_jour,"y") & " an(s) " & DATEDIF(H23,$C$2,"ym") & " mois et " & DATEDIF(H23,$C$2,"md") & " jour(s)" -> 7 an(s) 3 mois et 27 jour(s) | J23: =VLOOKUP(A23,[1]!Tableau_cotisants,10,FALSE) -> Juillac | K23: =VLOOKUP(A23,[1]!Tableau_cotisants,11,FALSE) -> Champagne | M23: 1 | P23: 1
A24: F4-1 | B24: =VLOOKUP(A24,[1]!Tableau_cotisants,2,FALSE) -> SANSAUD/MOREAU | C24: =VLOOKUP(A24,[1]!Tableau_cotisants,3,FALSE) -> MOREAU | D24: =VLOOKUP(A24,[1]!Tableau_cotisants,4,FALSE) -> Emmanuelle | E24: =VLOOKUP(A24,[1]!Tableau_cotisants,5,FALSE) -> 0 | F24: =VLOOKUP(A24,[1]!Tableau_cotisants,6,FALSE) -> 1 | G24: =VLOOKUP(A24,[1]!Tableau_cotisants,7,FALSE) -> 0 | H24: =VLOOKUP(A24,[1]!Tableau_cotisants,8,FALSE) -> 29187 | I24: =DATEDIF(H24,Date_du_jour,"y") & " an(s) " & DATEDIF(H24,$C$2,"ym") & " mois et " & DATEDIF(H24,$C$2,"md") & " jour(s)" -> 39 an(s) 1 mois et 19 jour(s) | J24: =VLOOKUP(A24,[1]!Tableau_cotisants,10,FALSE) -> SEGONZAC | K24: =VLOOKUP(A24,[1]!Tableau_cotisants,11,FALSE) -> Champagne | M24: 1 | P24: 1
A25: F4-4 | B25: =VLOOKUP(A25,[1]!Tableau_cotisants,2,FALSE) -> SANSAUD/MOREAU | C25: =VLOOKUP(A25,[1]!Tableau_cotisants,3,FALSE) -> SANSAUD | D25: =VLOOKUP(A25,[1]!Tableau_cotisants,4,FALSE) -> Ethan | E25: =VLOOKUP(A25,[1]!Tableau_cotisants,5,FALSE) -> 0 | F25: =VLOOKUP(A25,[1]!Tableau_cotisants,6,FALSE) -> 0 | G25: =VLOOKUP(A25,[1]!Tableau_cotisants,7,FALSE) -> 1 | H25: =VLOOKUP(A25,[1]!Tableau_cotisants,8,FALSE) -> 41015 | I25: =DATEDIF(H25,Date_du_jour,"y") & " an(s) " & DATEDIF(H25,$C$2,"ym") & " mois et " & DATEDIF(H25,$C$2,"md") & " jour(s)" -> 6 an(s) 9 mois et 0 jour(s) | J25: =VLOOKUP(A25,[1]!Tableau_cotisants,10,FALSE) -> SEGONZAC | K25: =VLOOKUP(A25,[1]!Tableau_cotisants,11,FALSE) -> Champagne | M25: 1 | P25: 1
A26: F4-5 | B26: =VLOOKUP(A26,[1]!Tableau_cotisants,2,FALSE) -> SANSAUD/MOREAU | C26: =VLOOKUP(A26,[1]!Tableau_cotisants,3,FALSE) -> SANSAUD | D26: =VLOOKUP(A26,[1]!Tableau_cotisants,4,FALSE) -> Axel | E26: =VLOOKUP(A26,[1]!Tableau_cotisants,5,FALSE) -> 0 | F26: =VLOOKUP(A26,[1]!Tableau_cotisants,6,FALSE) -> 0 | G26: =VLOOKUP(A26,[1]!Tableau_cotisants,7,FALSE) -> 1 | H26: =VLOOKUP(A26,[1]!Tableau_cotisants,8,FALSE) -> 42407 | I26: =DATEDIF(H26,Date_du_jour,"y") & " an(s) " & DATEDIF(H26,$C$2,"ym") & " mois et " & DATEDIF(H26,$C$2,"md") & " jour(s)" -> 2 an(s) 11 mois et 9 jour(s) | J26: =VLOOKUP(A26,[1]!Tableau_cotisants,10,FALSE) -> SEGONZAC | K26: =VLOOKUP(A26,[1]!Tableau_cotisants,11,FALSE) -> Champagne | M26: 1 | P26: 1
A27: G7-1 | B27: =VLOOKUP(A27,[1]!Tableau_cotisants,2,FALSE) -> G7-1 | C27: =VLOOKUP(A27,[1]!Tableau_cotisants,3,FALSE) -> BARRY | D27: =VLOOKUP(A27,[1]!Tableau_cotisants,4,FALSE) -> Oksana | E27: =VLOOKUP(A27,[1]!Tableau_cotisants,5,FALSE) -> 0 | F27: =VLOOKUP(A27,[1]!Tableau_cotisants,6,FALSE) -> 1 | G27: =VLOOKUP(A27,[1]!Tableau_cotisants,7,FALSE) -> 0 | H27: =VLOOKUP(A27,[1]!Tableau_cotisants,8,FALSE) -> 30016 | I27: =DATEDIF(H27,Date_du_jour,"y") & " an(s) " & DATEDIF(H27,$C$2,"ym") & " mois et " & DATEDIF(H27,$C$2,"md") & " jour(s)" -> 36 an(s) 10 mois et 10 jour(s) | J27: =VLOOKUP(A27,[1]!Tableau_cotisants,10,FALSE) -> Bourg Charente | K27: =VLOOKUP(A27,[1]!Tableau_cotisants,11,FALSE) -> Jarnac | M27: 1 | O27: 1
A28: G7-2 | B28: =VLOOKUP(A28,[1]!Tableau_cotisants,2,FALSE) -> G7-2 | C28: =VLOOKUP(A28,[1]!Tableau_cotisants,3,FALSE) -> BARRY | D28: =VLOOKUP(A28,[1]!Tableau_cotisants,4,FALSE) -> Anastasia | E28: =VLOOKUP(A28,[1]!Tableau_cotisants,5,FALSE) -> 0 | F28: =VLOOKUP(A28,[1]!Tableau_cotisants,6,FALSE) -> 1 | G28: =VLOOKUP(A28,[1]!Tableau_cotisants,7,FALSE) -> 0 | H28: =VLOOKUP(A28,[1]!Tableau_cotisants,8,FALSE) -> 42267 | I28: =DATEDIF(H28,Date_du_jour,"y") & " an(s) " & DATEDIF(H28,$C$2,"ym") & " mois et " & DATEDIF(H28,$C$2,"md") & " jour(s)" -> 3 an(s) 3 mois et 27 jour(s) | J28: =VLOOKUP(A28,[1]!Tableau_cotisants,10,FALSE) -> Bourg Charente | K28: =VLOOKUP(A28,[1]!Tableau_cotisants,11,FALSE) -> Jarnac | M28: 1 | O28: 1
B29: ACCOLADE : MATER 7 E 1A
B30: PJ : 2 ados et 1 anim (W) 16h/17h30
E31: =SUM(E7:E30) -> 5 | F31: =SUM(F5:F30) -> 15 | G31: =SUM(G5:G30) -> 8 | K31: =SUM(K7:K30) -> 0 | L31: =SUM(L5:L30) -> 11 | M31: =SUM(M5:M30) -> 12 | N31: =SUM(N5:N30) -> 9 | O31: =SUM(O5:O30) -> 4 | P31: =SUM(P5:P30) -> 10 | Q31: =SUM(Q5:Q30) -> 0 | R31: =SUM(R5:R30) -> 0 | S31: =SUM(S5:S30) -> 0
B32: Matin : | F32: =F31+G31 -> 23 | L32: =L31+M31 -> 23 | N32: =N31+O31+P31 -> 23
B33: Après-midi : | L33: =L31+'09 janvier 2019'!L37 -> 22 | M33: =M31+'09 janvier 2019'!M37 -> 28 | N33: =N31+'09 janvier 2019'!N37 -> 23 | O33: =O31+'09 janvier 2019'!O37 -> 9 | P33: =P31+'09 janvier 2019'!P37 -> 18 | Q33: =Q31+'09 janvier 2019'!Q37 -> 0 | R33: =R31+'09 janvier 2019'!R37 -> 0 | S33: =S31+'09 janvier 2019'!S37 -> 0
L34: =L32+'09 janvier 2019'!L38:M38 -> 50 | N34: =N32+'09 janvier 2019'!N38:P38 -> 50
B35: Nb | C35: GROUPES | D35: Nb | E35: Individus
A36: Hors ACCOLADE | B36: 1 | C36: =B36+'09 janvier 2019'!B40 -> 1 | D36: 7 | E36: =D36+'09 janvier 2019'!E40:F40 -> 7
A37: ACCOLADE | B37: 2 | C37: =B37+'09 janvier 2019'!B41 -> 3 | D37: 11 | E37: =D37+'09 janvier 2019'!E41:F41 -> 21

Sheet 23 janvier 2019
B2: MERCREDI | C2: 43488 | K2: H&D | R2: 3
F3: SEXE | S3: Cartes de vœux
A4: CODE | B4: FAMILLE | C4: NOM | D4: Prénom | E4: ASSMAT | F4: F | G4: M | H4: naissance | I4: âge jour | J4: Commune | K4: TERRI TOIRE | L4: Matin | M4: AM | N4: JSP seul | O4: Emprunt seul | P4: JSP + emprunt | Q4: DEC | R4: Ponc tuel | S4: Ate lier
A5: AM2-1 | B5: =VLOOKUP(A5,[1]!Tableau_cotisants,2,FALSE) -> GUYOT | C5: =VLOOKUP(A5,[1]!Tableau_cotisants,3,FALSE) -> GUYOT | D5: =VLOOKUP(A5,[1]!Tableau_cotisants,4,FALSE) -> Virginie | E5: =VLOOKUP(A5,[1]!Tableau_cotisants,5,FALSE) -> 1 | F5: =VLOOKUP(A5,[1]!Tableau_cotisants,6,FALSE) -> 1 | G5: =VLOOKUP(A5,[1]!Tableau_cotisants,7,FALSE) -> 0 | H5: =VLOOKUP(A5,[1]!Tableau_cotisants,8,FALSE) -> 30012 | I5: =DATEDIF(H5,Date_du_jour,"y") & " an(s) " & DATEDIF(H5,$C$2,"ym") & " mois et " & DATEDIF(H5,$C$2,"md") & " jour(s)" -> 36 an(s) 10 mois et 21 jour(s) | J5: =VLOOKUP(A5,[1]!Tableau_cotisants,10,FALSE) -> Chateaubernard | K5: =VLOOKUP(A5,[1]!Tableau_cotisants,11,FALSE) -> Cognac | L5: 1 | P5: 1 | S5: 1
A6: AM2-8 | B6: =VLOOKUP(A6,[1]!Tableau_cotisants,2,FALSE) -> GUYOT | C6: =VLOOKUP(A6,[1]!Tableau_cotisants,3,FALSE) -> FARCY | D6: =VLOOKUP(A6,[1]!Tableau_cotisants,4,FALSE) -> Sacha | E6: =VLOOKUP(A6,[1]!Tableau_cotisants,5,FALSE) -> 1 | F6: =VLOOKUP(A6,[1]!Tableau_cotisants,6,FALSE) -> 0 | G6: =VLOOKUP(A6,[1]!Tableau_cotisants,7,FALSE) -> 1 | H6: =VLOOKUP(A6,[1]!Tableau_cotisants,8,FALSE) -> 43040 | I6: =DATEDIF(H6,Date_du_jour,"y") & " an(s) " & DATEDIF(H6,$C$2,"ym") & " mois et " & DATEDIF(H6,$C$2,"md") & " jour(s)" -> 1 an(s) 2 mois et 22 jour(s) | J6: =VLOOKUP(A6,[1]!Tableau_cotisants,10,FALSE) -> Chateaubernard | K6: =VLOOKUP(A6,[1]!Tableau_cotisants,11,FALSE) -> Cognac | L6: 1 | P6: 1
A7: AM2-10 | B7: =VLOOKUP(A7,[1]!Tableau_cotisants,2,FALSE) -> GUYOT | C7: =VLOOKUP(A7,[1]!Tableau_cotisants,3,FALSE) -> FORGEARD | D7: =VLOOKUP(A7,[1]!Tableau_cotisants,4,FALSE) -> Yanis | E7: =VLOOKUP(A7,[1]!Tableau_cotisants,5,FALSE) -> 1 | F7: =VLOOKUP(A7,[1]!Tableau_cotisants,6,FALSE) -> 0 | G7: =VLOOKUP(A7,[1]!Tableau_cotisants,7,FALSE) -> 1 | H7: =VLOOKUP(A7,[1]!Tableau_cotisants,8,FALSE) -> 43315 | I7: =DATEDIF(H7,Date_du_jour,"y") & " an(s) " & DATEDIF(H7,$C$2,"ym") & " mois et " & DATEDIF(H7,$C$2,"md") & " jour(s)" -> 0 an(s) 5 mois et 20 jour(s) | J7: =VLOOKUP(A7,[1]!Tableau_cotisants,10,FALSE) -> Chateaubernard | K7: =VLOOKUP(A7,[1]!Tableau_cotisants,11,FALSE) -> Cognac | L7: 1 | P7: 1 | S7: 1
A8: AM2-11 | B8: =VLOOKUP(A8,[1]!Tableau_cotisants,2,FALSE) -> GUYOT | C8: =VLOOKUP(A8,[1]!Tableau_cotisants,3,FALSE) -> FRIOUX-GARCIA | D8: =VLOOKUP(A8,[1]!Tableau_cotisants,4,FALSE) -> Marius | E8: =VLOOKUP(A8,[1]!Tableau_cotisants,5,FALSE) -> 1 | F8: =VLOOKUP(A8,[1]!Tableau_cotisants,6,FALSE) -> 0 | G8: =VLOOKUP(A8,[1]!Tableau_cotisants,7,FALSE) -> 1 | H8: =VLOOKUP(A8,[1]!Tableau_cotisants,8,FALSE) -> 43395 | I8: =DATEDIF(H8,Date_du_jour,"y") & " an(s) " & DATEDIF(H8,$C$2,"ym") & " mois et " & DATEDIF(H8,$C$2,"md") & " jour(s)" -> 0 an(s) 3 mois et 1 jour(s) | J8: =VLOOKUP(A8,[1]!Tableau_cotisants,10,FALSE) -> Chateaubernard | K8: =VLOOKUP(A8,[1]!Tableau_cotisants,11,FALSE) -> Cognac | L8: 1 | P8: 1 | S8: 1
A9: AM1-1 | B9: =VLOOKUP(A9,[1]!Tableau_cotisants,2,FALSE) -> COZIC | C9: =VLOOKUP(A9,[1]!Tableau_cotisants,3,FALSE) -> COZIC | D9: =VLOOKUP(A9,[1]!Tableau_cotisants,4,FALSE) -> Jennifer | E9: =VLOOKUP(A9,[1]!Tableau_cotisants,5,FALSE) -> 1 | F9: =VLOOKUP(A9,[1]!Tableau_cotisants,6,FALSE) -> 1 | G9: =VLOOKUP(A9,[1]!Tableau_cotisants,7,FALSE) -> 0 | H9: =VLOOKUP(A9,[1]!Tableau_cotisants,8,FALSE) -> 30554 | I9: =DATEDIF(H9,Date_du_jour,"y") & " an(s) " & DATEDIF(H9,$C$2,"ym") & " mois et " & DATEDIF(H9,$C$2,"md") & " jour(s)" -> 35 an(s) 4 mois et 28 jour(s) | J9: =VLOOKUP(A9,[1]!Tableau_cotisants,10,FALSE) -> Chateaubernard | K9: =VLOOKUP(A9,[1]!Tableau_cotisants,11,FALSE) -> Cognac | L9: 1 | P9: 1
A10: AM1-6 | B10: =VLOOKUP(A10,[1]!Tableau_cotisants,2,FALSE) -> COZIC | C10: =VLOOKUP(A10,[1]!Tableau_cotisants,3,FALSE) -> FRAISSINET COZIC | D10: =VLOOKUP(A10,[1]!Tableau_cotisants,4,FALSE) -> Kathleen | E10: =VLOOKUP(A10,[1]!Tableau_cotisants,5,FALSE) -> 1 | F10: =VLOOKUP(A10,[1]!Tableau_cotisants,6,FALSE) -> 1 | G10: =VLOOKUP(A10,[1]!Tableau_cotisants,7,FALSE) -> 0 | H10: =VLOOKUP(A10,[1]!Tableau_cotisants,8,FALSE) -> 39909 | I10: =DATEDIF(H10,Date_du_jour,"y") & " an(s) " & DATEDIF(H10,$C$2,"ym") & " mois et " & DATEDIF(H10,$C$2,"md") & " jour(s)" -> 9 an(s) 9 mois et 17 jour(s) | J10: =VLOOKUP(A10,[1]!Tableau_cotisants,10,FALSE) -> Chateaubernard | K10: =VLOOKUP(A10,[1]!Tableau_cotisants,11,FALSE) -> Cognac | L10: 1 | P10: 1
A11: AM1-7 | B11: =VLOOKUP(A11,[1]!Tableau_cotisants,2,FALSE) -> COZIC | C11: =VLOOKUP(A11,[1]!Tableau_cotisants,3,FALSE) -> FRAISSINET COZIC | D11: =VLOOKUP(A11,[1]!Tableau_cotisants,4,FALSE) -> Kendall | E11: =VLOOKUP(A11,[1]!Tableau_cotisants,5,FALSE) -> 1 | F11: =VLOOKUP(A11,[1]!Tableau_cotisants,6,FALSE) -> 0 | G11: =VLOOKUP(A11,[1]!Tableau_cotisants,7,FALSE) -> 1 | H11: =VLOOKUP(A11,[1]!Tableau_cotisants,8,FALSE) -> 40770 | I11: =DATEDIF(H11,Date_du_jour,"y") & " an(s) " & DATEDIF(H11,$C$2,"ym") & " mois et " & DATEDIF(H11,$C$2,"md") & " jour(s)" -> 7 an(s) 5 mois et 8 jour(s) | J11: =VLOOKUP(A11,[1]!Tableau_cotisants,10,FALSE) -> Chateaubernard | K11: =VLOOKUP(A11,[1]!Tableau_cotisants,11,FALSE) -> Cognac | L11: 1 | P11: 1
A12: AM1-10 | B12: =VLOOKUP(A12,[1]!Tableau_cotisants,2,FALSE) -> COZIC | C12: =VLOOKUP(A12,[1]!Tableau_cotisants,3,FALSE) -> TARDIEU | D12: =VLOOKUP(A12,[1]!Tableau_cotisants,4,FALSE) -> Gustave | E12: =VLOOKUP(A12,[1]!Tableau_cotisants,5,FALSE) -> 1 | F12: =VLOOKUP(A12,[1]!Tableau_cotisants,6,FALSE) -> 0 | G12: =VLOOKUP(A12,[1]!Tableau_cotisants,7,FALSE) -> 1 | H12: =VLOOKUP(A12,[1]!Tableau_cotisants,8,FALSE) -> 42917 | I12: =DATEDIF(H12,Date_du_jour,"y") & " an(s) " & DATEDIF(H12,$C$2,"ym") & " mois et " & DATEDIF(H12,$C$2,"md") & " jour(s)" -> 1 an(s) 6 mois et 22 jour(s) | J12: =VLOOKUP(A12,[1]!Tableau_cotisants,10,FALSE) -> Chateaubernard | K12: =VLOOKUP(A12,[1]!Tableau_cotisants,11,FALSE) -> Cognac | L12: 1 | P12: 1
A13: AM1-13 | B13: =VLOOKUP(A13,[1]!Tableau_cotisants,2,FALSE) -> COZIC | C13: =VLOOKUP(A13,[1]!Tableau_cotisants,3,FALSE) -> BARAUD | D13: =VLOOKUP(A13,[1]!Tableau_cotisants,4,FALSE) -> Théo | E13: =VLOOKUP(A13,[1]!Tableau_cotisants,5,FALSE) -> 1 | F13: =VLOOKUP(A13,[1]!Tableau_cotisants,6,FALSE) -> 0 | G13: =VLOOKUP(A13,[1]!Tableau_cotisants,7,FALSE) -> 1 | H13: =VLOOKUP(A13,[1]!Tableau_cotisants,8,FALSE) -> 43016 | I13: =DATEDIF(H13,Date_du_jour,"y") & " an(s) " & DATEDIF(H13,$C$2,"ym") & " mois et " & DATEDIF(H13,$C$2,"md") & " jour(s)" -> 1 an(s) 3 mois et 15 jour(s) | J13: =VLOOKUP(A13,[1]!Tableau_cotisants,10,FALSE) -> Chateaubernard | K13: =VLOOKUP(A13,[1]!Tableau_cotisants,11,FALSE) -> Cognac | L13: 1 | P13: 1
A14: F90-1 | B14: =VLOOKUP(A14,[1]!Tableau_cotisants,2,FALSE) -> CASTAINGS/LACROIX | C14: =VLOOKUP(A14,[1]!Tableau_cotisants,3,FALSE) -> LACROIX | D14: =VLOOKUP(A14,[1]!Tableau_cotisants,4,FALSE) -> Elodie | E14: =VLOOKUP(A14,[1]!Tableau_cotisants,5,FALSE) -> 0 | F14: =VLOOKUP(A14,[1]!Tableau_cotisants,6,FALSE) -> 1 | G14: =VLOOKUP(A14,[1]!Tableau_cotisants,7,FALSE) -> 0 | H14: =VLOOKUP(A14,[1]!Tableau_cotisants,8,FALSE) -> 30513 | I14: =DATEDIF(H14,Date_du_jour,"y") & " an(s) " & DATEDIF(H14,$C$2,"ym") & " mois et " & DATEDIF(H14,$C$2,"md") & " jour(s)" -> 35 an(s) 6 mois et 7 jour(s) | J14: =VLOOKUP(A14,[1]!Tableau_cotisants,10,FALSE) -> Cognac | K14: =VLOOKUP(A14,[1]!Tableau_cotisants,11,FALSE) -> Cognac | L14: 1 | P14: 1
A15: F90-2 | B15: =VLOOKUP(A15,[1]!Tableau_cotisants,2,FALSE) -> CASTAINGS/LACROIX | C15: =VLOOKUP(A15,[1]!Tableau_cotisants,3,FALSE) -> CASTAINGS | D15: =VLOOKUP(A15,[1]!Tableau_cotisants,4,FALSE) -> Léonard | E15: =VLOOKUP(A15,[1]!Tableau_cotisants,5,FALSE) -> 0 | F15: =VLOOKUP(A15,[1]!Tableau_cotisants,6,FALSE) -> 0 | G15: =VLOOKUP(A15,[1]!Tableau_cotisants,7,FALSE) -> 1 | H15: =VLOOKUP(A15,[1]!Tableau_cotisants,8,FALSE) -> 41472 | I15: =DATEDIF(H15,Date_du_jour,"y") & " an(s) " & DATEDIF(H15,$C$2,"ym") & " mois et " & DATEDIF(H15,$C$2,"md") & " jour(s)" -> 5 an(s) 6 mois et 6 jour(s) | J15: =VLOOKUP(A15,[1]!Tableau_cotisants,10,FALSE) -> Cognac | K15: =VLOOKUP(A15,[1]!Tableau_cotisants,11,FALSE) -> Cognac | L15: 1 | P15: 1
A16: F90-3 | B16: =VLOOKUP(A16,[1]!Tableau_cotisants,2,FALSE) -> CASTAINGS/LACROIX | C16: =VLOOKUP(A16,[1]!Tableau_cotisants,3,FALSE) -> CASTAINGS | D16: =VLOOKUP(A16,[1]!Tableau_cotisants,4,FALSE) -> Marilou | E16: =VLOOKUP(A16,[1]!Tableau_cotisants,5,FALSE) -> 0 | F16: =VLOOKUP(A16,[1]!Tableau_cotisants,6,FALSE) -> 1 | G16: =VLOOKUP(A16,[1]!Tableau_cotisants,7,FALSE) -> 0 | H16: =VLOOKUP(A16,[1]!Tableau_cotisants,8,FALSE) -> 42277 | I16: =DATEDIF(H16,Date_du_jour,"y") & " an(s) " & DATEDIF(H16,$C$2,"ym") & " mois et " & DATEDIF(H16,$C$2,"md") & " jour(s)" -> 3 an(s) 3 mois et 24 jour(s) | J16: =VLOOKUP(A16,[1]!Tableau_cotisants,10,FALSE) -> Cognac | K16: =VLOOKUP(A16,[1]!Tableau_cotisants,11,FALSE) -> Cognac | L16: 1 | P16: 1
A17: F9-1 | B17: =VLOOKUP(A17,[1]!Tableau_cotisants,2,FALSE) -> SAMOYEAU/RAPHOZ | C17: =VLOOKUP(A17,[1]!Tableau_cotisants,3,FALSE) -> SAMOYEAU | D17: =VLOOKUP(A17,[1]!Tableau_cotisants,4,FALSE) -> Romain | E17: =VLOOKUP(A17,[1]!Tableau_cotisants,5,FALSE) -> 0 | F17: =VLOOKUP(A17,[1]!Tableau_cotisants,6,FALSE) -> 0 | G17: =VLOOKUP(A17,[1]!Tableau_cotisants,7,FALSE) -> 1 | H17: =VLOOKUP(A17,[1]!Tableau_cotisants,8,FALSE) -> 30741 | I17: =DATEDIF(H17,Date_du_jour,"y") & " an(s) " & DATEDIF(H17,$C$2,"ym") & " mois et " & DATEDIF(H17,$C$2,"md") & " jour(s)" -> 34 an(s) 10 mois et 25 jour(s) | J17: =VLOOKUP(A17,[1]!Tableau_cotisants,10,FALSE) -> SEGONZAC | K17: =VLOOKUP(A17,[1]!Tableau_cotisants,11,FALSE) -> Champagne | L17: 1 | N17: 1
A18: F9-2 | B18: =VLOOKUP(A18,[1]!Tableau_cotisants,2,FALSE) -> SAMOYEAU/RAPHOZ | C18: =VLOOKUP(A18,[1]!Tableau_cotisants,3,FALSE) -> RAPHOZ_LASSAYS | D18: =VLOOKUP(A18,[1]!Tableau_cotisants,4,FALSE) -> Laurène | E18: =VLOOKUP(A18,[1]!Tableau_cotisants,5,FALSE) -> 0 | F18: =VLOOKUP(A18,[1]!Tableau_cotisants,6,FALSE) -> 1 | G18: =VLOOKUP(A18,[1]!Tableau_cotisants,7,FALSE) -> 0 | H18: =VLOOKUP(A18,[1]!Tableau_cotisants,8,FALSE) -> 31367 | I18: =DATEDIF(H18,Date_du_jour,"y") & " an(s) " & DATEDIF(H18,$C$2,"ym") & " mois et " & DATEDIF(H18,$C$2,"md") & " jour(s)" -> 33 an(s) 2 mois et 7 jour(s) | J18: =VLOOKUP(A18,[1]!Tableau_cotisants,10,FALSE) -> SEGONZAC | K18: =VLOOKUP(A18,[1]!Tableau_cotisants,11,FALSE) -> Champagne | L18: 1 | N18: 1
A19: F9-3 | B19: =VLOOKUP(A19,[1]!Tableau_cotisants,2,FALSE) -> SAMOYEAU/RAPHOZ | C19: =VLOOKUP(A19,[1]!Tableau_cotisants,3,FALSE) -> SAMOYEAU | D19: =VLOOKUP(A19,[1]!Tableau_cotisants,4,FALSE) -> Thomas | E19: =VLOOKUP(A19,[1]!Tableau_cotisants,5,FALSE) -> 0 | F19: =VLOOKUP(A19,[1]!Tableau_cotisants,6,FALSE) -> 0 | G19: =VLOOKUP(A19,[1]!Tableau_cotisants,7,FALSE) -> 1 | H19: =VLOOKUP(A19,[1]!Tableau_cotisants,8,FALSE) -> 41862 | I19: =DATEDIF(H19,Date_du_jour,"y") & " an(s) " & DATEDIF(H19,$C$2,"ym") & " mois et " & DATEDIF(H19,$C$2,"md") & " jour(s)" -> 4 an(s) 5 mois et 12 jour(s) | J19: =VLOOKUP(A19,[1]!Tableau_cotisants,10,FALSE) -> SEGONZAC | K19: =VLOOKUP(A19,[1]!Tableau_cotisants,11,FALSE) -> Champagne | L19: 1 | N19: 1
A20: F6-1 | B20: =VLOOKUP(A20,[1]!Tableau_cotisants,2,FALSE) -> BOUBEE-SAUNIER | C20: =VLOOKUP(A20,[1]!Tableau_cotisants,3,FALSE) -> SAUNIER | D20: =VLOOKUP(A20,[1]!Tableau_cotisants,4,FALSE) -> Amélie | E20: =VLOOKUP(A20,[1]!Tableau_cotisants,5,FALSE) -> 0 | F20: =VLOOKUP(A20,[1]!Tableau_cotisants,6,FALSE) -> 1 | G20: =VLOOKUP(A20,[1]!Tableau_cotisants,7,FALSE) -> 0 | H20: =VLOOKUP(A20,[1]!Tableau_cotisants,8,FALSE) -> 31304 | I20: =DATEDIF(H20,Date_du_jour,"y") & " an(s) " & DATEDIF(H20,$C$2,"ym") & " mois et " & DATEDIF(H20,$C$2,"md") & " jour(s)" -> 33 an(s) 4 mois et 9 jour(s) | J20: =VLOOKUP(A20,[1]!Tableau_cotisants,10,FALSE) -> SEGONZAC | K20: =VLOOKUP(A20,[1]!Tableau_cotisants,11,FALSE) -> Champagne | L20: 1 | N20: 1
A21: F6-2 | B21: =VLOOKUP(A21,[1]!Tableau_cotisants,2,FALSE) -> BOUBEE-SAUNIER | C21: =VLOOKUP(A21,[1]!Tableau_cotisants,3,FALSE) -> BOUBEE-SAUNIER | D21: =VLOOKUP(A21,[1]!Tableau_cotisants,4,FALSE) -> Lisa | E21: =VLOOKUP(A21,[1]!Tableau_cotisants,5,FALSE) -> 0 | F21: =VLOOKUP(A21,[1]!Tableau_cotisants,6,FALSE) -> 1 | G21: =VLOOKUP(A21,[1]!Tableau_cotisants,7,FALSE) -> 0 | H21: =VLOOKUP(A21,[1]!Tableau_cotisants,8,FALSE) -> 41245 | I21: =DATEDIF(H21,Date_du_jour,"y") & " an(s) " & DATEDIF(H21,$C$2,"ym") & " mois et " & DATEDIF(H21,$C$2,"md") & " jour(s)" -> 6 an(s) 1 mois et 21 jour(s) | J21: =VLOOKUP(A21,[1]!Tableau_cotisants,10,FALSE) -> SEGONZAC | K21: =VLOOKUP(A21,[1]!Tableau_cotisants,11,FALSE) -> Champagne | L21: 1 | N21: 1
A22: F6-3 | B22: =VLOOKUP(A22,[1]!Tableau_cotisants,2,FALSE) -> BOUBEE-SAUNIER | C22: =VLOOKUP(A22,[1]!Tableau_cotisants,3,FALSE) -> BOUBEE-SAUNIER | D22: =VLOOKUP(A22,[1]!Tableau_cotisants,4,FALSE) -> Lucas | E22: =VLOOKUP(A22,[1]!Tableau_cotisants,5,FALSE) -> 0 | F22: =VLOOKUP(A22,[1]!Tableau_cotisants,6,FALSE) -> 0 | G22: =VLOOKUP(A22,[1]!Tableau_cotisants,7,FALSE) -> 1 | H22: =VLOOKUP(A22,[1]!Tableau_cotisants,8,FALSE) -> 42216 | I22: =DATEDIF(H22,Date_du_jour,"y") & " an(s) " & DATEDIF(H22,$C$2,"ym") & " mois et " & DATEDIF(H22,$C$2,"md") & " jour(s)" -> 3 an(s) 5 mois et 23 jour(s) | J22: =VLOOKUP(A22,[1]!Tableau_cotisants,10,FALSE) -> SEGONZAC | K22: =VLOOKUP(A22,[1]!Tableau_cotisants,11,FALSE) -> Champagne | L22: 1 | N22: 1
A23: F112-1 | B23: =VLOOKUP(A23,[1]!Tableau_cotisants,2,FALSE) -> PRESSON-HALLYG | C23: =VLOOKUP(A23,[1]!Tableau_cotisants,3,FALSE) -> HALLYG | D23: =VLOOKUP(A23,[1]!Tableau_cotisants,4,FALSE) -> Bérangère | E23: =VLOOKUP(A23,[1]!Tableau_cotisants,5,FALSE) -> 0 | F23: =VLOOKUP(A23,[1]!Tableau_cotisants,6,FALSE) -> 1 | G23: =VLOOKUP(A23,[1]!Tableau_cotisants,7,FALSE) -> 0 | H23: =VLOOKUP(A23,[1]!Tableau_cotisants,8,FALSE) -> 27325 | I23: =DATEDIF(H23,Date_du_jour,"y") & " an(s) " & DATEDIF(H23,$C$2,"ym") & " mois et " & DATEDIF(H23,$C$2,"md") & " jour(s)" -> 44 an(s) 3 mois et 0 jour(s) | J23: =VLOOKUP(A23,[1]!Tableau_cotisants,10,FALSE) -> COGNAC | K23: =VLOOKUP(A23,[1]!Tableau_cotisants,11,FALSE) -> Cognac | L23: 1 | P23: 1
A24: F112-2 | B24: =VLOOKUP(A24,[1]!Tableau_cotisants,2,FALSE) -> PRESSON-HALLYG | C24: =VLOOKUP(A24,[1]!Tableau_cotisants,3,FALSE) -> PRESSON-HALLYG | D24: =VLOOKUP(A24,[1]!Tableau_cotisants,4,FALSE) -> Sasha | E24: =VLOOKUP(A24,[1]!Tableau_cotisants,5,FALSE) -> 0 | F24: =VLOOKUP(A24,[1]!Tableau_cotisants,6,FALSE) -> 0 | G24: =VLOOKUP(A24,[1]!Tableau_cotisants,7,FALSE) -> 1 | H24: =VLOOKUP(A24,[1]!Tableau_cotisants,8,FALSE) -> 41634 | I24: =DATEDIF(H24,Date_du_jour,"y") & " an(s) " & DATEDIF(H24,$C$2,"ym") & " mois et " & DATEDIF(H24,$C$2,"md") & " jour(s)" -> 5 an(s) 0 mois et 28 jour(s) | J24: =VLOOKUP(A24,[1]!Tableau_cotisants,10,FALSE) -> Cognac | K24: =VLOOKUP(A24,[1]!Tableau_cotisants,11,FALSE) -> Cognac | L24: 1 | P24: 1
A25: F111-1 | B25: =VLOOKUP(A25,[1]!Tableau_cotisants,2,FALSE) -> LIENART DELABEYE | C25: =VLOOKUP(A25,[1]!Tableau_cotisants,3,FALSE) -> LIENART DELABEYE | D25: =VLOOKUP(A25,[1]!Tableau_cotisants,4,FALSE) -> Brigitte | E25: =VLOOKUP(A25,[1]!Tableau_cotisants,5,FALSE) -> 0 | F25: =VLOOKUP(A25,[1]!Tableau_cotisants,6,FALSE) -> 1 | G25: =VLOOKUP(A25,[1]!Tableau_cotisants,7,FALSE) -> 0 | H25: =VLOOKUP(A25,[1]!Tableau_cotisants,8,FALSE) -> 20885 | I25: =DATEDIF(H25,Date_du_jour,"y") & " an(s) " & DATEDIF(H25,$C$2,"ym") & " mois et " & DATEDIF(H25,$C$2,"md") & " jour(s)" -> 61 an(s) 10 mois et 17 jour(s) | J25: =VLOOKUP(A25,[1]!Tableau_cotisants,10,FALSE) -> ANGEAC CHAMPAGNE | K25: =VLOOKUP(A25,[1]!Tableau_cotisants,11,FALSE) -> Champagne | L25: 1 | N25: 1
A26: F113-1 | B26: =VLOOKUP(A26,[1]!Tableau_cotisants,2,FALSE) -> GABORIT-TRIJOL | C26: =VLOOKUP(A26,[1]!Tableau_cotisants,3,FALSE) -> TRIJOL | D26: =VLOOKUP(A26,[1]!Tableau_cotisants,4,FALSE) -> Alexandra | E26: =VLOOKUP(A26,[1]!Tableau_cotisants,5,FALSE) -> 0 | F26: =VLOOKUP(A26,[1]!Tableau_cotisants,6,FALSE) -> 1 | G26: =VLOOKUP(A26,[1]!Tableau_cotisants,7,FALSE) -> 0 | H26: =VLOOKUP(A26,[1]!Tableau_cotisants,8,FALSE) -> 30766 | I26: =DATEDIF(H26,Date_du_jour,"y") & " an(s) " & DATEDIF(H26,$C$2,"ym") & " mois et " & DATEDIF(H26,$C$2,"md") & " jour(s)" -> 34 an(s) 9 mois et 29 jour(s) | J26: =VLOOKUP(A26,[1]!Tableau_cotisants,10,FALSE) -> Mainxe | K26: =VLOOKUP(A26,[1]!Tableau_cotisants,11,FALSE) -> Jarnac | L26: 1 | M26: 1 | N26: 2
A27: F111-2 | B27: =VLOOKUP(A27,[1]!Tableau_cotisants,2,FALSE) -> LIENART DELABEYE | C27: =VLOOKUP(A27,[1]!Tableau_cotisants,3,FALSE) -> LIENART | D27: =VLOOKUP(A27,[1]!Tableau_cotisants,4,FALSE) -> Séverine | E27: =VLOOKUP(A27,[1]!Tableau_cotisants,5,FALSE) -> 0 | F27: =VLOOKUP(A27,[1]!Tableau_cotisants,6,FALSE) -> 1 | G27: =VLOOKUP(A27,[1]!Tableau_cotisants,7,FALSE) -> 0 | H27: =VLOOKUP(A27,[1]!Tableau_cotisants,8,FALSE) -> 31438 | I27: =DATEDIF(H27,Date_du_jour,"y") & " an(s) " & DATEDIF(H27,$C$2,"ym") & " mois et " & DATEDIF(H27,$C$2,"md") & " jour(s)" -> 32 an(s) 11 mois et 28 jour(s) | J27: =VLOOKUP(A27,[1]!Tableau_cotisants,10,FALSE) -> ANGEAC CHAMPAGNE | K27: =VLOOKUP(A27,[1]!Tableau_cotisants,11,FALSE) -> Champagne | L27: 1 | N27: 1
