Workbook
Name adherent: 'LISTE MERCREDIS 2019'!$A$107:$A$320
Name Apres_midi: 'LISTE MERCREDIS 2019'!$O$4:$O$326
Name ASSMAT: 'LISTE MERCREDIS 2019'!$G$4:$G$326
Name COLL: 'LISTE MERCREDIS 2019'!#REF!
Name COLL: 'LISTE MERCREDIS 2019'!#REF!
Name COLL: 'LISTE MERCREDIS 2019'!#REF!
Name COLL: 'LISTE MERCREDIS 2019'!#REF!
Name COLL: 'LISTE MERCREDIS 2019'!#REF!
Name COLL: 'LISTE MERCREDIS 2019'!#REF!
Name COLL: 'LISTE MERCREDIS 2019'!#REF!
Name COLL: 'LISTE MERCREDIS 2019'!#REF!
Name COLL: 'LISTE MERCREDIS 2019'!#REF!
Name COLL: 'LISTE MERCREDIS 2019'!#REF!
Name COLL: 'LISTE MERCREDIS 2019'!#REF!
Name COLL: 'LISTE MERCREDIS 2019'!#REF!
Name COLL: 'LISTE MERCREDIS 2019'!#REF!
Name COLL: 'LISTE MERCREDIS 2019'!#REF!
Name COLL: 'LISTE MERCREDIS 2019'!#REF!
Name Date_de_reference: '03 avril 2019'!$Y$3
Name Date_de_reference: '06 fevrier 2019'!$Y$3
Name Date_de_reference: '06 mars 2019'!$Y$3
Name Date_de_reference: '09 janvier 2019'!$Y$3
Name Date_de_reference: '10 avril 2019'!$Y$3
Name Date_de_reference: '13 fevrier 2019'!$Y$3
Name Date_de_reference: '13 mars 2019'!$Y$3
Name Date_de_reference: '15 mai 2019'!$Y$3
Name Date_de_reference: '16 janvier 2019'!$Y$3
Name Date_de_reference: '20 mars 2019'!$Y$3
Name Date_de_reference: '22 mai 2019'!$Y$3
Name Date_de_reference: '23 janvier 2019'!$Y$3
Name Date_de_reference: '27 mars 2019'!$Y$3
Name Date_de_reference: '30 janvier 2019'!$Y$3
Name Date_de_reference: 'LISTE MERCREDIS 2019'!$Y$2
Name Date_du_jour: '03 avril 2019'!$C$2
Name Date_du_jour: '06 fevrier 2019'!$C$2
Name Date_du_jour: '06 mars 2019'!$C$2
Name Date_du_jour: '09 janvier 2019'!$C$2
Name Date_du_jour: '10 avril 2019'!$C$2
Name Date_du_jour: '13 fevrier 2019'!$C$2
Name Date_du_jour: '13 mars 2019'!$C$2
Name Date_du_jour: '15 mai 2019'!$C$2
Name Date_du_jour: '16 janvier 2019'!$C$2
Name Date_du_jour: '20 mars 2019'!$C$2
Name Date_du_jour: '22 mai 2019'!$C$2
Name Date_du_jour: '23 janvier 2019'!$C$2
Name Date_du_jour: '27 mars 2019'!$C$2
Name Date_du_jour: '30 janvier 2019'!$C$2
Name Date_du_jour: 'LISTE MERCREDIS 2019'!$D$2
Name DATE_NAISSANCE: 'LISTE MERCREDIS 2019'!$J$4:$J$326
Name Emprunt: 'LISTE MERCREDIS 2019'!$Q$107:$Q$326
Name Feminin: 'LISTE MERCREDIS 2019'!$H$4:$H$326
Name Inscrits_samedis: 'LISTE MERCREDIS 2019'!$H$328:$I$328
Name Inscrits_samedis: 'LISTE MERCREDIS 2019'!$H$328:$I$328
Name Inscrits_samedis: 'LISTE MERCREDIS 2019'!$H$328:$I$328
Name Inscrits_samedis: 'LISTE MERCREDIS 2019'!$H$328:$I$328
Name Inscrits_samedis: 'LISTE MERCREDIS 2019'!$H$328:$I$328
Name Inscrits_samedis: 'LISTE MERCREDIS 2019'!$H$328:$I$328
Name Inscrits_samedis: 'LISTE MERCREDIS 2019'!$H$328:$I$328
Name Inscrits_samedis: 'LISTE MERCREDIS 2019'!$H$328:$I$328
Name Inscrits_samedis: 'LISTE MERCREDIS 2019'!$H$328:$I$328

Sheet 09 janvier 2019
B2: MERCREDI | C2: 43474 | K2: H&D | R2: 1
F3: SEXE
A4: CODE | B4: FAMILLE | C4: NOM | D4: Prénom | E4: ASSMAT | F4: F | G4: M | H4: naissance | I4: âge jour | J4: Commune | K4: TERRI TOIRE | L4: Matin | M4: AM | N4: JSP seul | O4: Emprunt seul | P4: JSP + emprunt | Q4: DEC | R4: Ponc tuel | S4: Ate lier
A5: AM2-1 | B5: =VLOOKUP(A5,[1]!Tableau_cotisants,2,FALSE) -> GUYOT | C5: =VLOOKUP(A5,[1]!Tableau_cotisants,3,FALSE) -> GUYOT | D5: =VLOOKUP(A5,[1]!Tableau_cotisants,4,FALSE) -> Virginie | E5: =VLOOKUP(A5,[1]!Tableau_cotisants,5,FALSE) -> 1 | F5: =VLOOKUP(A5,[1]!Tableau_cotisants,6,FALSE) -> 1 | G5: =VLOOKUP(A5,[1]!Tableau_cotisants,7,FALSE) -> 0 | H5: =VLOOKUP(A5,[1]!Tableau_cotisants,8,FALSE) -> 30012 | I5: =DATEDIF(H5,Date_du_jour,"y") & " an(s) " & DATEDIF(H5,$C$2,"ym") & " mois et " & DATEDIF(H5,$C$2,"md") & " jour(s)" -> 36 an(s) 10 mois et 7 jour(s) | J5: =VLOOKUP(A5,[1]!Tableau_cotisants,10,FALSE) -> Chateaubernard | K5: =VLOOKUP(A5,[1]!Tableau_cotisants,11,FALSE) -> Cognac | L5: 1 | N5: 1
A6: AM2-8 | B6: =VLOOKUP(A6,[1]!Tableau_cotisants,2,FALSE) -> GUYOT | C6: =VLOOKUP(A6,[1]!Tableau_cotisants,3,FALSE) -> FARCY | D6: =VLOOKUP(A6,[1]!Tableau_cotisants,4,FALSE) -> Sacha | E6: =VLOOKUP(A6,[1]!Tableau_cotisants,5,FALSE) -> 1 | F6: =VLOOKUP(A6,[1]!Tableau_cotisants,6,FALSE) -> 0 | G6: =VLOOKUP(A6,[1]!Tableau_cotisants,7,FALSE) -> 1 | H6: =VLOOKUP(A6,[1]!Tableau_cotisants,8,FALSE) -> 43040 | I6: =DATEDIF(H6,Date_du_jour,"y") & " an(s) " & DATEDIF(H6,$C$2,"ym") & " mois et " & DATEDIF(H6,$C$2,"md") & " jour(s)" -> 1 an(s) 2 mois et 8 jour(s) | J6: =VLOOKUP(A6,[1]!Tableau_cotisants,10,FALSE) -> Chateaubernard | K6: =VLOOKUP(A6,[1]!Tableau_cotisants,11,FALSE) -> Cognac | L6: 1 | N6: 1
A7: AM2-10 | B7: =VLOOKUP(A7,[1]!Tableau_cotisants,2,FALSE) -> GUYOT | C7: =VLOOKUP(A7,[1]!Tableau_cotisants,3,FALSE) -> FORGEARD | D7: =VLOOKUP(A7,[1]!Tableau_cotisants,4,FALSE) -> Yanis | E7: =VLOOKUP(A7,[1]!Tableau_cotisants,5,FALSE) -> 1 | F7: =VLOOKUP(A7,[1]!Tableau_cotisants,6,FALSE) -> 0 | G7: =VLOOKUP(A7,[1]!Tableau_cotisants,7,FALSE) -> 1 | H7: =VLOOKUP(A7,[1]!Tableau_cotisants,8,FALSE) -> 43315 | I7: =DATEDIF(H7,Date_du_jour,"y") & " an(s) " & DATEDIF(H7,$C$2,"ym") & " mois et " & DATEDIF(H7,$C$2,"md") & " jour(s)" -> 0 an(s) 5 mois et 6 jour(s) | J7: =VLOOKUP(A7,[1]!Tableau_cotisants,10,FALSE) -> Chateaubernard | K7: =VLOOKUP(A7,[1]!Tableau_cotisants,11,FALSE) -> Cognac | L7: 1 | N7: 1
A8: AM1-8 | B8: =VLOOKUP(A8,[1]!Tableau_cotisants,2,FALSE) -> COZIC | C8: =VLOOKUP(A8,[1]!Tableau_cotisants,3,FALSE) -> PARTAUD | D8: =VLOOKUP(A8,[1]!Tableau_cotisants,4,FALSE) -> Jannah | E8: =VLOOKUP(A8,[1]!Tableau_cotisants,5,FALSE) -> 1 | F8: =VLOOKUP(A8,[1]!Tableau_cotisants,6,FALSE) -> 1 | G8: =VLOOKUP(A8,[1]!Tableau_cotisants,7,FALSE) -> 0 | H8: =VLOOKUP(A8,[1]!Tableau_cotisants,8,FALSE) -> 41395 | I8: =DATEDIF(H8,Date_du_jour,"y") & " an(s) " & DATEDIF(H8,$C$2,"ym") & " mois et " & DATEDIF(H8,$C$2,"md") & " jour(s)" -> 5 an(s) 8 mois et 8 jour(s) | J8: =VLOOKUP(A8,[1]!Tableau_cotisants,10,FALSE) -> Chateaubernard | K8: =VLOOKUP(A8,[1]!Tableau_cotisants,11,FALSE) -> Cognac | L8: 1 | N8: 1
A9: AM1-1 | B9: =VLOOKUP(A9,[1]!Tableau_cotisants,2,FALSE) -> COZIC | C9: =VLOOKUP(A9,[1]!Tableau_cotisants,3,FALSE) -> COZIC | D9: =VLOOKUP(A9,[1]!Tableau_cotisants,4,FALSE) -> Jennifer | E9: =VLOOKUP(A9,[1]!Tableau_cotisants,5,FALSE) -> 1 | F9: =VLOOKUP(A9,[1]!Tableau_cotisants,6,FALSE) -> 1 | G9: =VLOOKUP(A9,[1]!Tableau_cotisants,7,FALSE) -> 0 | H9: =VLOOKUP(A9,[1]!Tableau_cotisants,8,FALSE) -> 30554 | I9: =DATEDIF(H9,Date_du_jour,"y") & " an(s) " & DATEDIF(H9,$C$2,"ym") & " mois et " & DATEDIF(H9,$C$2,"md") & " jour(s)" -> 35 an(s) 4 mois et 14 jour(s) | J9: =VLOOKUP(A9,[1]!Tableau_cotisants,10,FALSE) -> Chateaubernard | K9: =VLOOKUP(A9,[1]!Tableau_cotisants,11,FALSE) -> Cognac | L9: 1 | N9: 1
A10: AM1-6 | B10: =VLOOKUP(A10,[1]!Tableau_cotisants,2,FALSE) -> COZIC | C10: =VLOOKUP(A10,[1]!Tableau_cotisants,3,FALSE) -> FRAISSINET COZIC | D10: =VLOOKUP(A10,[1]!Tableau_cotisants,4,FALSE) -> Kathleen | E10: =VLOOKUP(A10,[1]!Tableau_cotisants,5,FALSE) -> 1 | F10: =VLOOKUP(A10,[1]!Tableau_cotisants,6,FALSE) -> 1 | G10: =VLOOKUP(A10,[1]!Tableau_cotisants,7,FALSE) -> 0 | H10: =VLOOKUP(A10,[1]!Tableau_cotisants,8,FALSE) -> 39909 | I10: =DATEDIF(H10,Date_du_jour,"y") & " an(s) " & DATEDIF(H10,$C$2,"ym") & " mois et " & DATEDIF(H10,$C$2,"md") & " jour(s)" -> 9 an(s) 9 mois et 3 jour(s) | J10: =VLOOKUP(A10,[1]!Tableau_cotisants,10,FALSE) -> Chateaubernard | K10: =VLOOKUP(A10,[1]!Tableau_cotisants,11,FALSE) -> Cognac | L10: 1 | N10: 1
A11: AM1-7 | B11: =VLOOKUP(A11,[1]!Tableau_cotisants,2,FALSE) -> COZIC | C11: =VLOOKUP(A11,[1]!Tableau_cotisants,3,FALSE) -> FRAISSINET COZIC | D11: =VLOOKUP(A11,[1]!Tableau_cotisants,4,FALSE) -> Kendall | E11: =VLOOKUP(A11,[1]!Tableau_cotisants,5,FALSE) -> 1 | F11: =VLOOKUP(A11,[1]!Tableau_cotisants,6,FALSE) -> 0 | G11: =VLOOKUP(A11,[1]!Tableau_cotisants,7,FALSE) -> 1 | H11: =VLOOKUP(A11,[1]!Tableau_cotisants,8,FALSE) -> 40770 | I11: =DATEDIF(H11,Date_du_jour,"y") & " an(s) " & DATEDIF(H11,$C$2,"ym") & " mois et " & DATEDIF(H11,$C$2,"md") & " jour(s)" -> 7 an(s) 4 mois et 25 jour(s) | J11: =VLOOKUP(A11,[1]!Tableau_cotisants,10,FALSE) -> Chateaubernard | K11: =VLOOKUP(A11,[1]!Tableau_cotisants,11,FALSE) -> Cognac | L11: 1 | N11: 1
A12: AM1-10 | B12: =VLOOKUP(A12,[1]!Tableau_cotisants,2,FALSE) -> COZIC | C12: =VLOOKUP(A12,[1]!Tableau_cotisants,3,FALSE) -> TARDIEU | D12: =VLOOKUP(A12,[1]!Tableau_cotisants,4,FALSE) -> Gustave | E12: =VLOOKUP(A12,[1]!Tableau_cotisants,5,FALSE) -> 1 | F12: =VLOOKUP(A12,[1]!Tableau_cotisants,6,FALSE) -> 0 | G12: =VLOOKUP(A12,[1]!Tableau_cotisants,7,FALSE) -> 1 | H12: =VLOOKUP(A12,[1]!Tableau_cotisants,8,FALSE) -> 42917 | I12: =DATEDIF(H12,Date_du_jour,"y") & " an(s) " & DATEDIF(H12,$C$2,"ym") & " mois et " & DATEDIF(H12,$C$2,"md") & " jour(s)" -> 1 an(s) 6 mois et 8 jour(s) | J12: =VLOOKUP(A12,[1]!Tableau_cotisants,10,FALSE) -> Chateaubernard | K12: =VLOOKUP(A12,[1]!Tableau_cotisants,11,FALSE) -> Cognac | L12: 1 | P12: 1
A13: AM1-13 | B13: =VLOOKUP(A13,[1]!Tableau_cotisants,2,FALSE) -> COZIC | C13: =VLOOKUP(A13,[1]!Tableau_cotisants,3,FALSE) -> BARAUD | D13: =VLOOKUP(A13,[1]!Tableau_cotisants,4,FALSE) -> Théo | E13: =VLOOKUP(A13,[1]!Tableau_cotisants,5,FALSE) -> 1 | F13: =VLOOKUP(A13,[1]!Tableau_cotisants,6,FALSE) -> 0 | G13: =VLOOKUP(A13,[1]!Tableau_cotisants,7,FALSE) -> 1 | H13: =VLOOKUP(A13,[1]!Tableau_cotisants,8,FALSE) -> 43016 | I13: =DATEDIF(H13,Date_du_jour,"y") & " an(s) " & DATEDIF(H13,$C$2,"ym") & " mois et " & DATEDIF(H13,$C$2,"md") & " jour(s)" -> 1 an(s) 3 mois et 1 jour(s) | J13: =VLOOKUP(A13,[1]!Tableau_cotisants,10,FALSE) -> Chateaubernard | K13: =VLOOKUP(A13,[1]!Tableau_cotisants,11,FALSE) -> Cognac | L13: 1 | P13: 1
A14: F9-3 | B14: =VLOOKUP(A14,[1]!Tableau_cotisants,2,FALSE) -> SAMOYEAU/RAPHOZ | C14: =VLOOKUP(A14,[1]!Tableau_cotisants,3,FALSE) -> SAMOYEAU | D14: =VLOOKUP(A14,[1]!Tableau_cotisants,4,FALSE) -> Thomas | E14: =VLOOKUP(A14,[1]!Tableau_cotisants,5,FALSE) -> 0 | F14: =VLOOKUP(A14,[1]!Tableau_cotisants,6,FALSE) -> 0 | G14: =VLOOKUP(A14,[1]!Tableau_cotisants,7,FALSE) -> 1 | H14: =VLOOKUP(A14,[1]!Tableau_cotisants,8,FALSE) -> 41862 | I14: =DATEDIF(H14,Date_du_jour,"y") & " an(s) " & DATEDIF(H14,$C$2,"ym") & " mois et " & DATEDIF(H14,$C$2,"md") & " jour(s)" -> 4 an(s) 4 mois et 29 jour(s) | J14: =VLOOKUP(A14,[1]!Tableau_cotisants,10,FALSE) -> SEGONZAC | K14: =VLOOKUP(A14,[1]!Tableau_cotisants,11,FALSE) -> Champagne | L14: 1 | P14: 1
A15: F9-4 | B15: =VLOOKUP(A15,[1]!Tableau_cotisants,2,FALSE) -> SAMOYEAU/RAPHOZ | C15: =VLOOKUP(A15,[1]!Tableau_cotisants,3,FALSE) -> RAPHOZ | D15: =VLOOKUP(A15,[1]!Tableau_cotisants,4,FALSE) -> Martine | E15: =VLOOKUP(A15,[1]!Tableau_cotisants,5,FALSE) -> 0 | F15: =VLOOKUP(A15,[1]!Tableau_cotisants,6,FALSE) -> 1 | G15: =VLOOKUP(A15,[1]!Tableau_cotisants,7,FALSE) -> 0 | H15: =VLOOKUP(A15,[1]!Tableau_cotisants,8,FALSE) -> 18714 | I15: =DATEDIF(H15,Date_du_jour,"y") & " an(s) " & DATEDIF(H15,$C$2,"ym") & " mois et " & DATEDIF(H15,$C$2,"md") & " jour(s)" -> 67 an(s) 9 mois et 13 jour(s) | J15: =VLOOKUP(A15,[1]!Tableau_cotisants,10,FALSE) -> SEGONZAC | K15: =VLOOKUP(A15,[1]!Tableau_cotisants,11,FALSE) -> Champagne | L15: 1 | P15: 1
B16: GROUPE ACCOLADE PRIMAIRE 10 E sans anim (anthony abs)
A17: F58-1 | B17: =VLOOKUP(A17,[1]!Tableau_cotisants,2,FALSE) -> OZANNE | C17: =VLOOKUP(A17,[1]!Tableau_cotisants,3,FALSE) -> OZANNE | D17: =VLOOKUP(A17,[1]!Tableau_cotisants,4,FALSE) -> Hortense | E17: =VLOOKUP(A17,[1]!Tableau_cotisants,5,FALSE) -> 0 | F17: =VLOOKUP(A17,[1]!Tableau_cotisants,6,FALSE) -> 1 | G17: =VLOOKUP(A17,[1]!Tableau_cotisants,7,FALSE) -> 0 | H17: =VLOOKUP(A17,[1]!Tableau_cotisants,8,FALSE) -> 30312 | I17: =DATEDIF(H17,Date_du_jour,"y") & " an(s) " & DATEDIF(H17,$C$2,"ym") & " mois et " & DATEDIF(H17,$C$2,"md") & " jour(s)" -> 36 an(s) 0 mois et 13 jour(s) | J17: =VLOOKUP(A17,[1]!Tableau_cotisants,10,FALSE) -> Cognac | K17: =VLOOKUP(A17,[1]!Tableau_cotisants,11,FALSE) -> Cognac | M17: 1 | N17: 1
A18: F58-2 | B18: =VLOOKUP(A18,[1]!Tableau_cotisants,2,FALSE) -> OZANNE | C18: =VLOOKUP(A18,[1]!Tableau_cotisants,3,FALSE) -> OZANNE | D18: =VLOOKUP(A18,[1]!Tableau_cotisants,4,FALSE) -> Georges | E18: =VLOOKUP(A18,[1]!Tableau_cotisants,5,FALSE) -> 0 | F18: =VLOOKUP(A18,[1]!Tableau_cotisants,6,FALSE) -> 0 | G18: =VLOOKUP(A18,[1]!Tableau_cotisants,7,FALSE) -> 1 | H18: =VLOOKUP(A18,[1]!Tableau_cotisants,8,FALSE) -> 41702 | I18: =DATEDIF(H18,Date_du_jour,"y") & " an(s) " & DATEDIF(H18,$C$2,"ym") & " mois et " & DATEDIF(H18,$C$2,"md") & " jour(s)" -> 4 an(s) 10 mois et 5 jour(s) | J18: =VLOOKUP(A18,[1]!Tableau_cotisants,10,FALSE) -> Cognac | K18: =VLOOKUP(A18,[1]!Tableau_cotisants,11,FALSE) -> Cognac | M18: 1 | N18: 1
A19: F58-3 | B19: =VLOOKUP(A19,[1]!Tableau_cotisants,2,FALSE) -> OZANNE | C19: =VLOOKUP(A19,[1]!Tableau_cotisants,3,FALSE) -> OZANNE | D19: =VLOOKUP(A19,[1]!Tableau_cotisants,4,FALSE) -> Arnaud | E19: =VLOOKUP(A19,[1]!Tableau_cotisants,5,FALSE) -> 0 | F19: =VLOOKUP(A19,[1]!Tableau_cotisants,6,FALSE) -> 0 | G19: =VLOOKUP(A19,[1]!Tableau_cotisants,7,FALSE) -> 1 | H19: =VLOOKUP(A19,[1]!Tableau_cotisants,8,FALSE) -> 42313 | I19: =DATEDIF(H19,Date_du_jour,"y") & " an(s) " & DATEDIF(H19,$C$2,"ym") & " mois et " & DATEDIF(H19,$C$2,"md") & " jour(s)" -> 3 an(s) 2 mois et 4 jour(s) | J19: =VLOOKUP(A19,[1]!Tableau_cotisants,10,FALSE) -> Cognac | K19: =VLOOKUP(A19,[1]!Tableau_cotisants,11,FALSE) -> Cognac | M19: 1 | N19: 1
A20: F58-5 | B20: =VLOOKUP(A20,[1]!Tableau_cotisants,2,FALSE) -> OZANNE | C20: =VLOOKUP(A20,[1]!Tableau_cotisants,3,FALSE) -> OZANNE | D20: =VLOOKUP(A20,[1]!Tableau_cotisants,4,FALSE) -> Constantin | E20: =VLOOKUP(A20,[1]!Tableau_cotisants,5,FALSE) -> 0 | F20: =VLOOKUP(A20,[1]!Tableau_cotisants,6,FALSE) -> 0 | G20: =VLOOKUP(A20,[1]!Tableau_cotisants,7,FALSE) -> 1 | H20: =VLOOKUP(A20,[1]!Tableau_cotisants,8,FALSE) -> 43119 | I20: =DATEDIF(H20,Date_du_jour,"y") & " an(s) " & DATEDIF(H20,$C$2,"ym") & " mois et " & DATEDIF(H20,$C$2,"md") & " jour(s)" -> 0 an(s) 11 mois et 21 jour(s) | J20: =VLOOKUP(A20,[1]!Tableau_cotisants,10,FALSE) -> Cognac | K20: =VLOOKUP(A20,[1]!Tableau_cotisants,11,FALSE) -> Cognac | M20: 1 | N20: 1
A21: F105-1 | B21: =VLOOKUP(A21,[1]!Tableau_cotisants,2,FALSE) -> DERUFFE/FLEURY | C21: =VLOOKUP(A21,[1]!Tableau_cotisants,3,FALSE) -> FLEURY | D21: =VLOOKUP(A21,[1]!Tableau_cotisants,4,FALSE) -> Fanny | E21: =VLOOKUP(A21,[1]!Tableau_cotisants,5,FALSE) -> 0 | F21: =VLOOKUP(A21,[1]!Tableau_cotisants,6,FALSE) -> 1 | G21: =VLOOKUP(A21,[1]!Tableau_cotisants,7,FALSE) -> 0 | H21: =VLOOKUP(A21,[1]!Tableau_cotisants,8,FALSE) -> 31330 | I21: =DATEDIF(H21,Date_du_jour,"y") & " an(s) " & DATEDIF(H21,$C$2,"ym") & " mois et " & DATEDIF(H21,$C$2,"md") & " jour(s)" -> 33 an(s) 2 mois et 30 jour(s) | J21: =VLOOKUP(A21,[1]!Tableau_cotisants,10,FALSE) -> Chateauneuf | K21: =VLOOKUP(A21,[1]!Tableau_cotisants,11,FALSE) -> Chateauneuf | M21: 1 | P21: 1
A22: F105-2 | B22: =VLOOKUP(A22,[1]!Tableau_cotisants,2,FALSE) -> DERUFFE/FLEURY | C22: =VLOOKUP(A22,[1]!Tableau_cotisants,3,FALSE) -> DERUFFE | D22: =VLOOKUP(A22,[1]!Tableau_cotisants,4,FALSE) -> Johnny | E22: =VLOOKUP(A22,[1]!Tableau_cotisants,5,FALSE) -> 0 | F22: =VLOOKUP(A22,[1]!Tableau_cotisants,6,FALSE) -> 0 | G22: =VLOOKUP(A22,[1]!Tableau_cotisants,7,FALSE) -> 1 | H22: =VLOOKUP(A22,[1]!Tableau_cotisants,8,FALSE) -> 27585 | I22: =DATEDIF(H22,Date_du_jour,"y") & " an(s) " & DATEDIF(H22,$C$2,"ym") & " mois et " & DATEDIF(H22,$C$2,"md") & " jour(s)" -> 43 an(s) 5 mois et 30 jour(s) | J22: =VLOOKUP(A22,[1]!Tableau_cotisants,10,FALSE) -> Chateauneuf | K22: =VLOOKUP(A22,[1]!Tableau_cotisants,11,FALSE) -> Chateauneuf | M22: 1 | P22: 1
A23: F105-3 | B23: =VLOOKUP(A23,[1]!Tableau_cotisants,2,FALSE) -> DERUFFE/FLEURY | C23: =VLOOKUP(A23,[1]!Tableau_cotisants,3,FALSE) -> DERUFFE | D23: =VLOOKUP(A23,[1]!Tableau_cotisants,4,FALSE) -> Marilou | E23: =VLOOKUP(A23,[1]!Tableau_cotisants,5,FALSE) -> 0 | F23: =VLOOKUP(A23,[1]!Tableau_cotisants,6,FALSE) -> 1 | G23: =VLOOKUP(A23,[1]!Tableau_cotisants,7,FALSE) -> 0 | H23: =VLOOKUP(A23,[1]!Tableau_cotisants,8,FALSE) -> 40532 | I23: =DATEDIF(H23,Date_du_jour,"y") & " an(s) " & DATEDIF(H23,$C$2,"ym") & " mois et " & DATEDIF(H23,$C$2,"md") & " jour(s)" -> 8 an(s) 0 mois et 20 jour(s) | J23: =VLOOKUP(A23,[1]!Tableau_cotisants,10,FALSE) -> Chateauneuf | K23: =VLOOKUP(A23,[1]!Tableau_cotisants,11,FALSE) -> Chateauneuf | M23: 1 | P23: 1
A24: F105-4 | B24: =VLOOKUP(A24,[1]!Tableau_cotisants,2,FALSE) -> DERUFFE/FLEURY | C24: =VLOOKUP(A24,[1]!Tableau_cotisants,3,FALSE) -> DERUFFE | D24: =VLOOKUP(A24,[1]!Tableau_cotisants,4,FALSE) -> Tristan | E24: =VLOOKUP(A24,[1]!Tableau_cotisants,5,FALSE) -> 0 | F24: =VLOOKUP(A24,[1]!Tableau_cotisants,6,FALSE) -> 0 | G24: =VLOOKUP(A24,[1]!Tableau_cotisants,7,FALSE) -> 1 | H24: =VLOOKUP(A24,[1]!Tableau_cotisants,8,FALSE) -> 43138 | I24: =DATEDIF(H24,Date_du_jour,"y") & " an(s) " & DATEDIF(H24,$C$2,"ym") & " mois et " & DATEDIF(H24,$C$2,"md") & " jour(s)" -> 0 an(s) 11 mois et 2 jour(s) | J24: =VLOOKUP(A24,[1]!Tableau_cotisants,10,FALSE) -> Chateauneuf | K24: =VLOOKUP(A24,[1]!Tableau_cotisants,11,FALSE) -> Chateauneuf | M24: 1 | P24: 1
A25: F2-1 | B25: =VLOOKUP(A25,[1]!Tableau_cotisants,2,FALSE) -> DEDEBAN | C25: =VLOOKUP(A25,[1]!Tableau_cotisants,3,FALSE) -> DEDEBAN | D25: =VLOOKUP(A25,[1]!Tableau_cotisants,4,FALSE) -> Julie | E25: =VLOOKUP(A25,[1]!Tableau_cotisants,5,FALSE) -> 0 | F25: =VLOOKUP(A25,[1]!Tableau_cotisants,6,FALSE) -> 1 | G25: =VLOOKUP(A25,[1]!Tableau_cotisants,7,FALSE) -> 0 | H25: =VLOOKUP(A25,[1]!Tableau_cotisants,8,FALSE) -> 29812 | I25: =DATEDIF(H25,Date_du_jour,"y") & " an(s) " & DATEDIF(H25,$C$2,"ym") & " mois et " & DATEDIF(H25,$C$2,"md") & " jour(s)" -> 37 an(s) 4 mois et 26 jour(s) | J25: =VLOOKUP(A25,[1]!Tableau_cotisants,10,FALSE) -> GENTE | K25: =VLOOKUP(A25,[1]!Tableau_cotisants,11,FALSE) -> Champagne | M25: 1 | O25: 1
A26: F103-1 | B26: =VLOOKUP(A26,[1]!Tableau_cotisants,2,FALSE) -> MONTGOMERY | C26: =VLOOKUP(A26,[1]!Tableau_cotisants,3,FALSE) -> MONTGOMERY | D26: =VLOOKUP(A26,[1]!Tableau_cotisants,4,FALSE) -> Rebecca | E26: =VLOOKUP(A26,[1]!Tableau_cotisants,5,FALSE) -> 0 | F26: =VLOOKUP(A26,[1]!Tableau_cotisants,6,FALSE) -> 1 | G26: =VLOOKUP(A26,[1]!Tableau_cotisants,7,FALSE) -> 0 | H26: =VLOOKUP(A26,[1]!Tableau_cotisants,8,FALSE) -> 26339 | I26: =DATEDIF(H26,Date_du_jour,"y") & " an(s) " & DATEDIF(H26,$C$2,"ym") & " mois et " & DATEDIF(H26,$C$2,"md") & " jour(s)" -> 46 an(s) 10 mois et 30 jour(s) | J26: =VLOOKUP(A26,[1]!Tableau_cotisants,10,FALSE) -> SEGONZAC | K26: =VLOOKUP(A26,[1]!Tableau_cotisants,11,FALSE) -> Champagne | M26: 1 | O26: 1
A27: F103-2 | B27: =VLOOKUP(A27,[1]!Tableau_cotisants,2,FALSE) -> MONTGOMERY | C27: =VLOOKUP(A27,[1]!Tableau_cotisants,3,FALSE) -> MONTGOMERY | D27: =VLOOKUP(A27,[1]!Tableau_cotisants,4,FALSE) -> William | E27: =VLOOKUP(A27,[1]!Tableau_cotisants,5,FALSE) -> 0 | F27: =VLOOKUP(A27,[1]!Tableau_cotisants,6,FALSE) -> 0 | G27: =VLOOKUP(A27,[1]!Tableau_cotisants,7,FALSE) -> 1 | H27: =VLOOKUP(A27,[1]!Tableau_cotisants,8,FALSE) -> 40227 | I27: =DATEDIF(H27,Date_du_jour,"y") & " an(s) " & DATEDIF(H27,$C$2,"ym") & " mois et " & DATEDIF(H27,$C$2,"md") & " jour(s)" -> 8 an(s) 10 mois et 22 jour(s) | J27: =VLOOKUP(A27,[1]!Tableau_cotisants,10,FALSE) -> SEGONZAC | K27: =VLOOKUP(A27,[1]!Tableau_cotisants,11,FALSE) -> Champagne | M27: 1 | O27: 1
A28: F4-1 | B28: =VLOOKUP(A28,[1]!Tableau_cotisants,2,FALSE) -> SANSAUD/MOREAU | C28: =VLOOKUP(A28,[1]!Tableau_cotisants,3,FALSE) -> MOREAU | D28: =VLOOKUP(A28,[1]!Tableau_cotisants,4,FALSE) -> Emmanuelle | E28: =VLOOKUP(A28,[1]!Tableau_cotisants,5,FALSE) -> 0 | F28: =VLOOKUP(A28,[1]!Tableau_cotisants,6,FALSE) -> 1 | G28: =VLOOKUP(A28,[1]!Tableau_cotisants,7,FALSE) -> 0 | H28: =VLOOKUP(A28,[1]!Tableau_cotisants,8,FALSE) -> 29187 | I28: =DATEDIF(H28,Date_du_jour,"y") & " an(s) " & DATEDIF(H28,$C$2,"ym") & " mois et " & DATEDIF(H28,$C$2,"md") & " jour(s)" -> 39 an(s) 1 mois et 12 jour(s) | J28: =VLOOKUP(A28,[1]!Tableau_cotisants,10,FALSE) -> SEGONZAC | K28: =VLOOKUP(A28,[1]!Tableau_cotisants,11,FALSE) -> Champagne | M28: 1 | N28: 1
A29: F4-4 | B29: =VLOOKUP(A29,[1]!Tableau_cotisants,2,FALSE) -> SANSAUD/MOREAU | C29: =VLOOKUP(A29,[1]!Tableau_cotisants,3,FALSE) -> SANSAUD | D29: =VLOOKUP(A29,[1]!Tableau_cotisants,4,FALSE) -> Ethan | E29: =VLOOKUP(A29,[1]!Tableau_cotisants,5,FALSE) -> 0 | F29: =VLOOKUP(A29,[1]!Tableau_cotisants,6,FALSE) -> 0 | G29: =VLOOKUP(A29,[1]!Tableau_cotisants,7,FALSE) -> 1 | H29: =VLOOKUP(A29,[1]!Tableau_cotisants,8,FALSE) -> 41015 | I29: =DATEDIF(H29,Date_du_jour,"y") & " an(s) " & DATEDIF(H29,$C$2,"ym") & " mois et " & DATEDIF(H29,$C$2,"md") & " jour(s)" -> 6 an(s) 8 mois et 24 jour(s) | J29: =VLOOKUP(A29,[1]!Tableau_cotisants,10,FALSE) -> SEGONZAC | K29: =VLOOKUP(A29,[1]!Tableau_cotisants,11,FALSE) -> Champagne | M29: 1 | N29: 1
A30: F4-5 | B30: =VLOOKUP(A30,[1]!Tableau_cotisants,2,FALSE) -> SANSAUD/MOREAU | C30: =VLOOKUP(A30,[1]!Tableau_cotisants,3,FALSE) -> SANSAUD | D30: =VLOOKUP(A30,[1]!Tableau_cotisants,4,FALSE) -> Axel | E30: =VLOOKUP(A30,[1]!Tableau_cotisants,5,FALSE) -> 0 | F30: =VLOOKUP(A30,[1]!Tableau_cotisants,6,FALSE) -> 0 | G30: =VLOOKUP(A30,[1]!Tableau_cotisants,7,FALSE) -> 1 | H30: =VLOOKUP(A30,[1]!Tableau_cotisants,8,FALSE) -> 42407 | I30: =DATEDIF(H30,Date_du_jour,"y") & " an(s) " & DATEDIF(H30,$C$2,"ym") & " mois et " & DATEDIF(H30,$C$2,"md") & " jour(s)" -> 2 an(s) 11 mois et 2 jour(s) | J30: =VLOOKUP(A30,[1]!Tableau_cotisants,10,FALSE) -> SEGONZAC | K30: =VLOOKUP(A30,[1]!Tableau_cotisants,11,FALSE) -> Champagne | M30: 1 | N30: 1
A31: F99-1 | B31: =VLOOKUP(A31,[1]!Tableau_cotisants,2,FALSE) -> MENON | C31: =VLOOKUP(A31,[1]!Tableau_cotisants,3,FALSE) -> MENON | D31: =VLOOKUP(A31,[1]!Tableau_cotisants,4,FALSE) -> Caroline | E31: =VLOOKUP(A31,[1]!Tableau_cotisants,5,FALSE) -> 0 | F31: =VLOOKUP(A31,[1]!Tableau_cotisants,6,FALSE) -> 1 | G31: =VLOOKUP(A31,[1]!Tableau_cotisants,7,FALSE) -> 0 | H31: =VLOOKUP(A31,[1]!Tableau_cotisants,8,FALSE) -> 29713 | I31: =DATEDIF(H31,Date_du_jour,"y") & " an(s) " & DATEDIF(H31,$C$2,"ym") & " mois et " & DATEDIF(H31,$C$2,"md") & " jour(s)" -> 37 an(s) 8 mois et 2 jour(s) | J31: =VLOOKUP(A31,[1]!Tableau_cotisants,10,FALSE) -> Genté | K31: =VLOOKUP(A31,[1]!Tableau_cotisants,11,FALSE) -> Champagne | M31: 1 | O31: 1
A32: F99-2 | B32: =VLOOKUP(A32,[1]!Tableau_cotisants,2,FALSE) -> MENON | C32: =VLOOKUP(A32,[1]!Tableau_cotisants,3,FALSE) -> MENON | D32: =VLOOKUP(A32,[1]!Tableau_cotisants,4,FALSE) -> Victor | E32: =VLOOKUP(A32,[1]!Tableau_cotisants,5,FALSE) -> 0 | F32: =VLOOKUP(A32,[1]!Tableau_cotisants,6,FALSE) -> 0 | G32: =VLOOKUP(A32,[1]!Tableau_cotisants,7,FALSE) -> 1 | H32: =VLOOKUP(A32,[1]!Tableau_cotisants,8,FALSE) -> 40687 | I32: =DATEDIF(H32,Date_du_jour,"y") & " an(s) " & DATEDIF(H32,$C$2,"ym") & " mois et " & DATEDIF(H32,$C$2,"md") & " jour(s)" -> 7 an(s) 7 mois et 16 jour(s) | J32: =VLOOKUP(A32,[1]!Tableau_cotisants,10,FALSE) -> Genté | K32: =VLOOKUP(A32,[1]!Tableau_cotisants,11,FALSE) -> Champagne | M32: 1 | O32: 1
E35: =SUM(E7:E34) -> 7 | F35: =SUM(F5:F34) -> 12 | G35: =SUM(G5:G34) -> 15 | K35: =SUM(K7:K34) -> 0 | L35: =SUM(L5:L34) -> 11 | M35: =SUM(M5:M34) -> 16 | N35: =SUM(N5:N34) -> 14 | O35: =SUM(O5:O34) -> 5 | P35: =SUM(P5:P34) -> 8 | Q35: =SUM(Q5:Q34) -> 0 | R35: =SUM(R5:R34) -> 0 | S35: =SUM(S5:S34) -> 0
B36: Matin : | F36: =F35+G35 -> 27 | L36: =L35+M35 -> 27 | N36: =N35+O35+P35 -> 27
B37: Après-midi : | L37: =L35 -> 11 | M37: =M35 -> 16 | N37: =N35 -> 14 | O37: =O35 -> 5 | P37: =P35 -> 8 | Q37: =Q35 -> 0 | R37: =R35 -> 0 | S37: =S35 -> 0
L38: =L36 -> 27 | N38: =N36 -> 27
B39: Nb | C39: GROUPES | D39: Nb | E39: Individus
A40: Hors ACCOLADE | B40: 0 | C40: =B40 -> 0 | D40: 0 | E40: ='[2]12 decembre 2018'!E40+D40 -> 0
A41: ACCOLADE | B41: 1 | C41: =B41 -> 1 | D41: 10 | E41: =D41 -> 10

Sheet 16 janvier 2019
B2: MERCREDI | C2: 43481 | K2: H&D | R2: 2
B3: atelier couronnes à gratter/ galette offerte par PJ | F3: SEXE | S3: Cartes de vœux
A4: CODE | B4: FAMILLE | C4: NOM | D4: Prénom | E4: ASSMAT | F4: F | G4: M | H4: naissance | I4: âge jour | J4: Commune | K4: TERRI TOIRE | L4: Matin | M4: AM | N4: JSP seul | O4: Emprunt seul | P4: JSP + emprunt | Q4: DEC | R4: Ponc tuel | S4: Ate lier
A5: F9-3 | B5: =VLOOKUP(A5,[1]!Tableau_cotisants,2,FALSE) -> SAMOYEAU/RAPHOZ | C5: =VLOOKUP(A5,[1]!Tableau_cotisants,3,FALSE) -> SAMOYEAU | D5: =VLOOKUP(A5,[1]!Tableau_cotisants,4,FALSE) -> Thomas | E5: =VLOOKUP(A5,[1]!Tableau_cotisants,5,FALSE) -> 0 | F5: =VLOOKUP(A5,[1]!Tableau_cotisants,6,FALSE) -> 0 | G5: =VLOOKUP(A5,[1]!Tableau_cotisants,7,FALSE) -> 1 | H5: =VLOOKUP(A5,[1]!Tableau_cotisants,8,FALSE) -> 41862 | I5: =DATEDIF(H5,Date_du_jour,"y") & " an(s) " & DATEDIF(H5,$C$2,"ym") & " mois et " & DATEDIF(H5,$C$2,"md") & " jour(s)" -> 4 an(s) 5 mois et 5 jour(s) | J5: =VLOOKUP(A5,[1]!Tableau_cotisants,10,FALSE) -> SEGONZAC | K5: =VLOOKUP(A5,[1]!Tableau_cotisants,11,FALSE) -> Champagne | L5: 1 | P5: 1
A6: F9-4 | B6: =VLOOKUP(A6,[1]!Tableau_cotisants,2,FALSE) -> SAMOYEAU/RAPHOZ | C6: =VLOOKUP(A6,[1]!Tableau_cotisants,3,FALSE) -> RAPHOZ | D6: =VLOOKUP(A6,[1]!Tableau_cotisants,4,FALSE) -> Martine | E6: =VLOOKUP(A6,[1]!Tableau_cotisants,5,FALSE) -> 0 | F6: =VLOOKUP(A6,[1]!Tableau_cotisants,6,FALSE) -> 1 | G6: =VLOOKUP(A6,[1]!Tableau_cotisants,7,FALSE) -> 0 | H6: =VLOOKUP(A6,[1]!Tableau_cotisants,8,FALSE) -> 18714 | I6: =DATEDIF(H6,Date_du_jour,"y") & " an(s) " & DATEDIF(H6,$C$2,"ym") & " mois et " & DATEDIF(H6,$C$2,"md") & " jour(s)" -> 67 an(s) 9 mois et 20 jour(s) | J6: =VLOOKUP(A6,[1]!Tableau_cotisants,10,FALSE) -> SEGONZAC | K6: =VLOOKUP(A6,[1]!Tableau_cotisants,11,FALSE) -> Champagne | L6: 1 | P6: 1
A7: F32-2 | B7: =VLOOKUP(A7,[1]!Tableau_cotisants,2,FALSE) -> DESSET | C7: =VLOOKUP(A7,[1]!Tableau_cotisants,3,FALSE) -> DESSET | D7: =VLOOKUP(A7,[1]!Tableau_cotisants,4,FALSE) -> Yelena | E7: =VLOOKUP(A7,[1]!Tableau_cotisants,5,FALSE) -> 0 | F7: =VLOOKUP(A7,[1]!Tableau_cotisants,6,FALSE) -> 1 | G7: =VLOOKUP(A7,[1]!Tableau_cotisants,7,FALSE) -> 0 | H7: =VLOOKUP(A7,[1]!Tableau_cotisants,8,FALSE) -> 40596 | I7: =DATEDIF(H7,Date_du_jour,"y") & " an(s) " & DATEDIF(H7,$C$2,"ym") & " mois et " & DATEDIF(H7,$C$2,"md") & " jour(s)" -> 7 an(s) 10 mois et 25 jour(s) | J7: =VLOOKUP(A7,[1]!Tableau_cotisants,10,FALSE) -> BOURG-CHARENTE | K7: =VLOOKUP(A7,[1]!Tableau_cotisants,11,FALSE) -> Jarnac | L7: 1 | P7: 1
A8: F32-4 | B8: =VLOOKUP(A8,[1]!Tableau_cotisants,2,FALSE) -> DESSET | C8: =VLOOKUP(A8,[1]!Tableau_cotisants,3,FALSE) -> MARTINEZ PONCE | D8: =VLOOKUP(A8,[1]!Tableau_cotisants,4,FALSE) -> Valentina | E8: =VLOOKUP(A8,[1]!Tableau_cotisants,5,FALSE) -> 0 | F8: =VLOOKUP(A8,[1]!Tableau_cotisants,6,FALSE) -> 1 | G8: =VLOOKUP(A8,[1]!Tableau_cotisants,7,FALSE) -> 0 | H8: =VLOOKUP(A8,[1]!Tableau_cotisants,8,FALSE) -> 36516 | I8: =DATEDIF(H8,Date_du_jour,"y") & " an(s) " & DATEDIF(H8,$C$2,"ym") & " mois et " & DATEDIF(H8,$C$2,"md") & " jour(s)" -> 19 an(s) 0 mois et 25 jour(s) | J8: =VLOOKUP(A8,[1]!Tableau_cotisants,10,FALSE) -> BOURG-CHARENTE | K8: =VLOOKUP(A8,[1]!Tableau_cotisants,11,FALSE) -> Jarnac | L8: 1 | P8: 1
A9: AM6-1 | B9: =VLOOKUP(A9,[1]!Tableau_cotisants,2,FALSE) -> DEGRIS | C9: =VLOOKUP(A9,[1]!Tableau_cotisants,3,FALSE) -> DEGRIS | D9: =VLOOKUP(A9,[1]!Tableau_cotisants,4,FALSE) -> Laura | E9: =VLOOKUP(A9,[1]!Tableau_cotisants,5,FALSE) -> 1 | F9: =VLOOKUP(A9,[1]!Tableau_cotisants,6,FALSE) -> 1 | G9: =VLOOKUP(A9,[1]!Tableau_cotisants,7,FALSE) -> 0 | H9: =VLOOKUP(A9,[1]!Tableau_cotisants,8,FALSE) -> 32556 | I9: =DATEDIF(H9,Date_du_jour,"y") & " an(s) " & DATEDIF(H9,$C$2,"ym") & " mois et " & DATEDIF(H9,$C$2,"md") & " jour(s)" -> 29 an(s) 10 mois et 30 jour(s) | J9: =VLOOKUP(A9,[1]!Tableau_cotisants,10,FALSE) -> SALLES D'ANGLES | K9: =VLOOKUP(A9,[1]!Tableau_cotisants,11,FALSE) -> Champagne | L9: 1 | N9: 1
A10: AM6-4 | B10: =VLOOKUP(A10,[1]!Tableau_cotisants,2,FALSE) -> DEGRIS | C10: =VLOOKUP(A10,[1]!Tableau_cotisants,3,FALSE) -> GUYOT | D10: =VLOOKUP(A10,[1]!Tableau_cotisants,4,FALSE) -> Léanne | E10: =VLOOKUP(A10,[1]!Tableau_cotisants,5,FALSE) -> 1 | F10: =VLOOKUP(A10,[1]!Tableau_cotisants,6,FALSE) -> 1 | G10: =VLOOKUP(A10,[1]!Tableau_cotisants,7,FALSE) -> 0 | H10: =VLOOKUP(A10,[1]!Tableau_cotisants,8,FALSE) -> 41202 | I10: =DATEDIF(H10,Date_du_jour,"y") & " an(s) " & DATEDIF(H10,$C$2,"ym") & " mois et " & DATEDIF(H10,$C$2,"md") & " jour(s)" -> 6 an(s) 2 mois et 27 jour(s) | J10: =VLOOKUP(A10,[1]!Tableau_cotisants,10,FALSE) -> SALLES D'ANGLES | K10: =VLOOKUP(A10,[1]!Tableau_cotisants,11,FALSE) -> Champagne | L10: 1 | N10: 1
A11: AM6-5 | B11: =VLOOKUP(A11,[1]!Tableau_cotisants,2,FALSE) -> DEGRIS | C11: =VLOOKUP(A11,[1]!Tableau_cotisants,3,FALSE) -> GUYOT | D11: =VLOOKUP(A11,[1]!Tableau_cotisants,4,FALSE) -> Nathan | E11: =VLOOKUP(A11,[1]!Tableau_cotisants,5,FALSE) -> 1 | F11: =VLOOKUP(A11,[1]!Tableau_cotisants,6,FALSE) -> 0 | G11: =VLOOKUP(A11,[1]!Tableau_cotisants,7,FALSE) -> 1 | H11: =VLOOKUP(A11,[1]!Tableau_cotisants,8,FALSE) -> 42354 | I11: =DATEDIF(H11,Date_du_jour,"y") & " an(s) " & DATEDIF(H11,$C$2,"ym") & " mois et " & DATEDIF(H11,$C$2,"md") & " jour(s)" -> 3 an(s) 1 mois et 0 jour(s) | J11: =VLOOKUP(A11,[1]!Tableau_cotisants,10,FALSE) -> SALLES D'ANGLES | K11: =VLOOKUP(A11,[1]!Tableau_cotisants,11,FALSE) -> Champagne | L11: 1 | N11: 1
A12: AM6-6 | B12: =VLOOKUP(A12,[1]!Tableau_cotisants,2,FALSE) -> DEGRIS | C12: =VLOOKUP(A12,[1]!Tableau_cotisants,3,FALSE) -> GABORIT TRIJOL | D12: =VLOOKUP(A12,[1]!Tableau_cotisants,4,FALSE) -> Marceau | E12: =VLOOKUP(A12,[1]!Tableau_cotisants,5,FALSE) -> 1 | F12: =VLOOKUP(A12,[1]!Tableau_cotisants,6,FALSE) -> 0 | G12: =VLOOKUP(A12,[1]!Tableau_cotisants,7,FALSE) -> 1 | H12: =VLOOKUP(A12,[1]!Tableau_cotisants,8,FALSE) -> 43002 | I12: =DATEDIF(H12,Date_du_jour,"y") & " an(s) " & DATEDIF(H12,$C$2,"ym") & " mois et " & DATEDIF(H12,$C$2,"md") & " jour(s)" -> 1 an(s) 3 mois et 23 jour(s) | J12: =VLOOKUP(A12,[1]!Tableau_cotisants,10,FALSE) -> SALLES D'ANGLES | K12: =VLOOKUP(A12,[1]!Tableau_cotisants,11,FALSE) -> Champagne | L12: 1 | N12: 1
A13: AM6-9 | B13: =VLOOKUP(A13,[1]!Tableau_cotisants,2,FALSE) -> DEGRIS | C13: =VLOOKUP(A13,[1]!Tableau_cotisants,3,FALSE) -> Enfant gardé | D13: =VLOOKUP(A13,[1]!Tableau_cotisants,4,FALSE) -> Aëlynn | E13: =VLOOKUP(A13,[1]!Tableau_cotisants,5,FALSE) -> 1 | F13: =VLOOKUP(A13,[1]!Tableau_cotisants,6,FALSE) -> 1 | G13: =VLOOKUP(A13,[1]!Tableau_cotisants,7,FALSE) -> 0 | H13: =VLOOKUP(A13,[1]!Tableau_cotisants,8,FALSE) -> 43313 | I13: =DATEDIF(H13,Date_du_jour,"y") & " an(s) " & DATEDIF(H13,$C$2,"ym") & " mois et " & DATEDIF(H13,$C$2,"md") & " jour(s)" -> 0 an(s) 5 mois et 15 jour(s) | J13: =VLOOKUP(A13,[1]!Tableau_cotisants,10,FALSE) -> SALLES D'ANGLES | K13: =VLOOKUP(A13,[1]!Tableau_cotisants,11,FALSE) -> Champagne | L13: 1 | N13: 1
A14: F65-1 | B14: =VLOOKUP(A14,[1]!Tableau_cotisants,2,FALSE) -> RATIE/LONJARD | C14: =VLOOKUP(A14,[1]!Tableau_cotisants,3,FALSE) -> LONJARD | D14: =VLOOKUP(A14,[1]!Tableau_cotisants,4,FALSE) -> Nathalie | E14: =VLOOKUP(A14,[1]!Tableau_cotisants,5,FALSE) -> 0 | F14: =VLOOKUP(A14,[1]!Tableau_cotisants,6,FALSE) -> 1 | G14: =VLOOKUP(A14,[1]!Tableau_cotisants,7,FALSE) -> 0 | H14: =VLOOKUP(A14,[1]!Tableau_cotisants,8,FALSE) -> 23531 | I14: =DATEDIF(H14,Date_du_jour,"y") & " an(s) " & DATEDIF(H14,$C$2,"ym") & " mois et " & DATEDIF(H14,$C$2,"md") & " jour(s)" -> 54 an(s) 7 mois et 13 jour(s) | J14: =VLOOKUP(A14,[1]!Tableau_cotisants,10,FALSE) -> SEGONZAC | K14: =VLOOKUP(A14,[1]!Tableau_cotisants,11,FALSE) -> Champagne | L14: 1 | O14: 1
A15: F65-2 | B15: =VLOOKUP(A15,[1]!Tableau_cotisants,2,FALSE) -> RATIE/LONJARD | C15: =VLOOKUP(A15,[1]!Tableau_cotisants,3,FALSE) -> RATIE | D15: =VLOOKUP(A15,[1]!Tableau_cotisants,4,FALSE) -> Nathan | E15: =VLOOKUP(A15,[1]!Tableau_cotisants,5,FALSE) -> 0 | F15: =VLOOKUP(A15,[1]!Tableau_cotisants,6,FALSE) -> 0 | G15: =VLOOKUP(A15,[1]!Tableau_cotisants,7,FALSE) -> 1 | H15: =VLOOKUP(A15,[1]!Tableau_cotisants,8,FALSE) -> 40448 | I15: =DATEDIF(H15,Date_du_jour,"y") & " an(s) " & DATEDIF(H15,$C$2,"ym") & " mois et " & DATEDIF(H15,$C$2,"md") & " jour(s)" -> 8 an(s) 3 mois et 20 jour(s) | J15: =VLOOKUP(A15,[1]!Tableau_cotisants,10,FALSE) -> SEGONZAC | K15: =VLOOKUP(A15,[1]!Tableau_cotisants,11,FALSE) -> Champagne | L15: 1 | O15: 1
B16: ALSH JARNAC 6 enfants 1 anim
A17: F104-2 | B17: =VLOOKUP(A17,[1]!Tableau_cotisants,2,FALSE) -> PETIT | C17: =VLOOKUP(A17,[1]!Tableau_cotisants,3,FALSE) -> PETIT | D17: =VLOOKUP(A17,[1]!Tableau_cotisants,4,FALSE) -> Stéphanie | E17: =VLOOKUP(A17,[1]!Tableau_cotisants,5,FALSE) -> 0 | F17: =VLOOKUP(A17,[1]!Tableau_cotisants,6,FALSE) -> 1 | G17: =VLOOKUP(A17,[1]!Tableau_cotisants,7,FALSE) -> 0 | H17: =VLOOKUP(A17,[1]!Tableau_cotisants,8,FALSE) -> 30411 | I17: =DATEDIF(H17,Date_du_jour,"y") & " an(s) " & DATEDIF(H17,$C$2,"ym") & " mois et " & DATEDIF(H17,$C$2,"md") & " jour(s)" -> 35 an(s) 9 mois et 11 jour(s) | J17: =VLOOKUP(A17,[1]!Tableau_cotisants,10,FALSE) -> Saint Fort | K17: =VLOOKUP(A17,[1]!Tableau_cotisants,11,FALSE) -> Champagne | M17: 1 | N17: 1
A18: F104-3 | B18: =VLOOKUP(A18,[1]!Tableau_cotisants,2,FALSE) -> PETIT | C18: =VLOOKUP(A18,[1]!Tableau_cotisants,3,FALSE) -> PETIT | D18: =VLOOKUP(A18,[1]!Tableau_cotisants,4,FALSE) -> Priscillia | E18: =VLOOKUP(A18,[1]!Tableau_cotisants,5,FALSE) -> 0 | F18: =VLOOKUP(A18,[1]!Tableau_cotisants,6,FALSE) -> 1 | G18: =VLOOKUP(A18,[1]!Tableau_cotisants,7,FALSE) -> 0 | H18: =VLOOKUP(A18,[1]!Tableau_cotisants,8,FALSE) -> 39648 | I18: =DATEDIF(H18,Date_du_jour,"y") & " an(s) " & DATEDIF(H18,$C$2,"ym") & " mois et " & DATEDIF(H18,$C$2,"md") & " jour(s)" -> 10 an(s) 5 mois et 28 jour(s) | J18: =VLOOKUP(A18,[1]!Tableau_cotisants,10,FALSE) -> Saint Fort | K18: =VLOOKUP(A18,[1]!Tableau_cotisants,11,FALSE) -> Champagne | M18: 1 | N18: 1
A19: F109-1 | B19: =VLOOKUP(A19,[1]!Tableau_cotisants,2,FALSE) -> Barett De Coutures | C19: =VLOOKUP(A19,[1]!Tableau_cotisants,3,FALSE) -> Barett De Coutures | D19: =VLOOKUP(A19,[1]!Tableau_cotisants,4,FALSE) -> Sophie | E19: =VLOOKUP(A19,[1]!Tableau_cotisants,5,FALSE) -> 0 | F19: =VLOOKUP(A19,[1]!Tableau_cotisants,6,FALSE) -> 1 | G19: =VLOOKUP(A19,[1]!Tableau_cotisants,7,FALSE) -> 0 | H19: =VLOOKUP(A19,[1]!Tableau_cotisants,8,FALSE) -> 26736 | I19: =DATEDIF(H19,Date_du_jour,"y") & " an(s) " & DATEDIF(H19,$C$2,"ym") & " mois et " & DATEDIF(H19,$C$2,"md") & " jour(s)" -> 45 an(s) 10 mois et 3 jour(s) | J19: =VLOOKUP(A19,[1]!Tableau_cotisants,10,FALSE) -> Bourg Charente | K19: =VLOOKUP(A19,[1]!Tableau_cotisants,11,FALSE) -> Jarnac | M19: 1 | N19: 1
A20: F109-2 | B20: =VLOOKUP(A20,[1]!Tableau_cotisants,2,FALSE) -> Barett De Coutures | C20: =VLOOKUP(A20,[1]!Tableau_cotisants,3,FALSE) -> Barett De Coutures | D20: =VLOOKUP(A20,[1]!Tableau_cotisants,4,FALSE) -> Louise | E20: =VLOOKUP(A20,[1]!Tableau_cotisants,5,FALSE) -> 0 | F20: =VLOOKUP(A20,[1]!Tableau_cotisants,6,FALSE) -> 1 | G20: =VLOOKUP(A20,[1]!Tableau_cotisants,7,FALSE) -> 0 | H20: =VLOOKUP(A20,[1]!Tableau_cotisants,8,FALSE) -> 41504 | I20: =DATEDIF(H20,Date_du_jour,"y") & " an(s) " & DATEDIF(H20,$C$2,"ym") & " mois et " & DATEDIF(H20,$C$2,"md") & " jour(s)" -> 5 an(s) 4 mois et 29 jour(s) | J20: =VLOOKUP(A20,[1]!Tableau_cotisants,10,FALSE) -> Bourg Charente | K20: =VLOOKUP(A20,[1]!Tableau_cotisants,11,FALSE) -> Jarnac | M20: 1 | N20: 1
A21: F79-1 | B21: =VLOOKUP(A21,[1]!Tableau_cotisants,2,FALSE) -> MARY/SYLVESTRE | C21: =VLOOKUP(A21,[1]!Tableau_cotisants,3,FALSE) -> SILVESTRE | D21: =VLOOKUP(A21,[1]!Tableau_cotisants,4,FALSE) -> Aurélie | E21: =VLOOKUP(A21,[1]!Tableau_cotisants,5,FALSE) -> 0 | F21: =VLOOKUP(A21,[1]!Tableau_cotisants,6,FALSE) -> 1 | G21: =VLOOKUP(A21,[1]!Tableau_cotisants,7,FALSE) -> 0 | H21: =VLOOKUP(A21,[1]!Tableau_cotisants,8,FALSE) -> 30890 | I21: =DATEDIF(H21,Date_du_jour,"y") & " an(s) " & DATEDIF(H21,$C$2,"ym") & " mois et " & DATEDIF(H21,$C$2,"md") & " jour(s)" -> 34 an(s) 5 mois et 20 jour(s) | J21: =VLOOKUP(A21,[1]!Tableau_cotisants,10,FALSE) -> Juillac | K21: =VLOOKUP(A21,[1]!Tableau_cotisants,11,FALSE) -> Champagne | M21: 1 | P21: 1
A22: F79-2 | B22: =VLOOKUP(A22,[1]!Tableau_cotisants,2,FALSE) -> MARY/SYLVESTRE | C22: =VLOOKUP(A22,[1]!Tableau_cotisants,3,FALSE) -> MARY | D22: =VLOOKUP(A22,[1]!Tableau_cotisants,4,FALSE) -> Elouan | E22: =VLOOKUP(A22,[1]!Tableau_cotisants,5,FALSE) -> 0 | F22: =VLOOKUP(A22,[1]!Tableau_cotisants,6,FALSE) -> 0 | G22: =VLOOKUP(A22,[1]!Tableau_cotisants,7,FALSE) -> 1 | H22: =VLOOKUP(A22,[1]!Tableau_cotisants,8,FALSE) -> 39466 | I22: =DATEDIF(H22,Date_du_jour,"y") & " an(s) " & DATEDIF(H22,$C$2,"ym") & " mois et " & DATEDIF(H22,$C$2,"md") & " jour(s)" -> 10 an(s) 11 mois et 28 jour(s) | J22: =VLOOKUP(A22,[1]!Tableau_cotisants,10,FALSE) -> Juillac | K22: =VLOOKUP(A22,[1]!Tableau_cotisants,11,FALSE) -> Champagne | M22: 1 | P22: 1
A23: F79-3 | B23: =VLOOKUP(A23,[1]!Tableau_cotisants,2,FALSE) -> MARY/SYLVESTRE | C23: =VLOOKUP(A23,[1]!Tableau_cotisants,3,FALSE) -> MARY | D23: =VLOOKUP(A23,[1]!Tableau_cotisants,4,FALSE) -> Jules | E23: =VLOOKUP(A23,[1]!Tableau_cotisants,5,FALSE) -> 0 | F23: =VLOOKUP(A23,[1]!Tableau_cotisants,6,FALSE) -> 0 | G23: =VLOOKUP(A23,[1]!Tableau_cotisants,7,FALSE) -> 1 | H23: =VLOOKUP(A23,[1]!Tableau_cotisants,8,FALSE) -> 40806 | I23: =DATEDIF(H23,Date_du_jour,"y") & " an(s) " & DATEDIF(H23,$C$2,"ym") & " mois et " & DATEDIF(H23,$C$2,"md") & " jour(s)" -> 7 an(s) 3 mois et 27 jour(s) | J23: =VLOOKUP(A23,[1]!Tableau_cotisants,10,FALSE) -> Juillac | K23: =VLOOKUP(A23,[1]!Tableau_cotisants,11,FALSE) -> Champagne | M23: 1 | P23: 1
A24: F4-1 | B24: =VLOOKUP(A24,[1]!Tableau_cotisants,2,FALSE) -> SANSAUD/MOREAU | C24: =VLOOKUP(A24,[1]!Tableau_cotisants,3,FALSE) -> MOREAU | D24: =VLOOKUP(A24,[1]!Tableau_cotisants,4,FALSE) -> Emmanuelle | E24: =VLOOKUP(A24,[1]!Tableau_cotisants,5,FALSE) -> 0 | F24: =VLOOKUP(A24,[1]!Tableau_cotisants,6,FALSE) -> 1 | G24: =VLOOKUP(A24,[1]!Tableau_cotisants,7,FALSE) -> 0 | H24: =VLOOKUP(A24,[1]!Tableau_cotisants,8,FALSE) -> 29187 | I24: =DATEDIF(H24,Date_du_jour,"y") & " an(s) " & DATEDIF(H24,$C$2,"ym") & " mois et " & DATEDIF(H24,$C$2,"md") & " jour(s)" -> 39 an(s) 1 mois et 19 jour(s) | J24: =VLOOKUP(A24,[1]!Tableau_cotisants,10,FALSE) -> SEGONZAC | K24: =VLOOKUP(A24,[1]!Tableau_cotisants,11,FALSE) -> Champagne | M24: 1 | P24: 1
A25: F4-4 | B25: =VLOOKUP(A25,[1]!Tableau_cotisants,2,FALSE) -> SANSAUD/MOREAU | C25: =VLOOKUP(A25,[1]!Tableau_cotisants,3,FALSE) -> SANSAUD | D25: =VLOOKUP(A25,[1]!Tableau_cotisants,4,FALSE) -> Ethan | E25: =VLOOKUP(A25,[1]!Tableau_cotisants,5,FALSE) -> 0 | F25: =VLOOKUP(A25,[1]!Tableau_cotisants,6,FALSE) -> 0 | G25: =VLOOKUP(A25,[1]!Tableau_cotisants,7,FALSE) -> 1 | H25: =VLOOKUP(A25,[1]!Tableau_cotisants,8,FALSE) -> 41015 | I25: =DATEDIF(H25,Date_du_jour,"y") & " an(s) " & DATEDIF(H25,$C$2,"ym") & " mois et " & DATEDIF(H25,$C$2,"md") & " jour(s)" -> 6 an(s) 9 mois et 0 jour(s) | J25: =VLOOKUP(A25,[1]!Tableau_cotisants,10,FALSE) -> SEGONZAC | K25: =VLOOKUP(A25,[1]!Tableau_cotisants,11,FALSE) -> Champagne | M25: 1 | P25: 1
A26: F4-5 | B26: =VLOOKUP(A26,[1]!Tableau_cotisants,2,FALSE) -> SANSAUD/MOREAU | C26: =VLOOKUP(A26,[1]!Tableau_cotisants,3,FALSE) -> SANSAUD | D26: =VLOOKUP(A26,[1]!Tableau_cotisants,4,FALSE) -> Axel | E26: =VLOOKUP(A26,[1]!Tableau_cotisants,5,FALSE) -> 0 | F26: =VLOOKUP(A26,[1]!Tableau_cotisants,6,FALSE) -> 0 | G26: =VLOOKUP(A26,[1]!Tableau_cotisants,7,FALSE) -> 1 | H26: =VLOOKUP(A26,[1]!Tableau_cotisants,8,FALSE) -> 42407 | I26: =DATEDIF(H26,Date_du_jour,"y") & " an(s) " & DATEDIF(H26,$C$2,"ym") & " mois et " & DATEDIF(H26,$C$2,"md") & " jour(s)" -> 2 an(s) 11 mois et 9 jour(s) | J26: =VLOOKUP(A26,[1]!Tableau_cotisants,10,FALSE) -> SEGONZAC | K26: =VLOOKUP(A26,[1]!Tableau_cotisants,11,FALSE) -> Champagne | M26: 1 | P26: 1
A27: G7-1 | B27: =VLOOKUP(A27,[1]!Tableau_cotisants,2,FALSE) -> G7-1 | C27: =VLOOKUP(A27,[1]!Tableau_cotisants,3,FALSE) -> BARRY | D27: =VLOOKUP(A27,[1]!Tableau_cotisants,4,FALSE) -> Oksana | E27: =VLOOKUP(A27,[1]!Tableau_cotisants,5,FALSE) -> 0 | F27: =VLOOKUP(A27,[1]!Tableau_cotisants,6,FALSE) -> 1 | G27: =VLOOKUP(A27,[1]!Tableau_cotisants,7,FALSE) -> 0 | H27: =VLOOKUP(A27,[1]!Tableau_cotisants,8,FALSE) -> 30016 | I27: =DATEDIF(H27,Date_du_jour,"y") & " an(s) " & DATEDIF(H27,$C$2,"ym") & " mois et " & DATEDIF(H27,$C$2,"md") & " jour(s)" -> 36 an(s) 10 mois et 10 jour(s) | J27: =VLOOKUP(A27,[1]!Tableau_cotisants,10,FALSE) -> Bourg Charente | K27: =VLOOKUP(A27,[1]!Tableau_cotisants,11,FALSE) -> Jarnac | M27: 1 | O27: 1
A28: G7-2 | B28: =VLOOKUP(A28,[1]!Tableau_cotisants,2,FALSE) -> G7-2 | C28: =VLOOKUP(A28,[1]!Tableau_cotisants,3,FALSE) -> BARRY | D28: =VLOOKUP(A28,[1]!Tableau_cotisants,4,FALSE) -> Anastasia | E28: =VLOOKUP(A28,[1]!Tableau_cotisants,5,FALSE) -> 0 | F28: =VLOOKUP(A28,[1]!Tableau_cotisants,6,FALSE) -> 1 | G28: =VLOOKUP(A28,[1]!Tableau_cotisants,7,FALSE) -> 0 | H28: =VLOOKUP(A28,[1]!Tableau_cotisants,8,FALSE) -> 42267 | I28: =DATEDIF(H28,Date_du_jour,"y") & " an(s) " & DATEDIF(H28,$C$2,"ym") & " mois et " & DATEDIF(H28,$C$2,"md") & " jour(s)" -> 3 an(s) 3 mois et 27 jour(s) | J28: =VLOOKUP(A28,[1]!Tableau_cotisants,10,FALSE) -> Bourg Charente | K28: =VLOOKUP(A28,[1]!Tableau_cotisants,11,FALSE) -> Jarnac | M28: 1 | O28: 1
B29: ACCOLADE : MATER 7 E 1A
B30: PJ : 2 ados et 1 anim (W) 16h/17h30
E31: =SUM(E7:E30) -> 5 | F31: =SUM(F5:F30) -> 15 | G31: =SUM(G5:G30) -> 8 | K31: =SUM(K7:K30) -> 0 | L31: =SUM(L5:L30) -> 11 | M31: =SUM(M5:M30) -> 12 | N31: =SUM(N5:N30) -> 9 | O31: =SUM(O5:O30) -> 4 | P31: =SUM(P5:P30) -> 10 | Q31: =SUM(Q5:Q30) -> 0 | R31: =SUM(R5:R30) -> 0 | S31: =SUM(S5:S30) -> 0
B32: Matin : | F32: =F31+G31 -> 23 | L32: =L31+M31 -> 23 | N32: =N31+O31+P31 -> 23
B33: Après-midi : | L33: =L31+'09 janvier 2019'!L37 -> 22 | M33: =M31+'09 janvier 2019'!M37 -> 28 | N33: =N31+'09 janvier 2019'!N37 -> 23 | O33: =O31+'09 janvier 2019'!O37 -> 9 | P33: =P31+'09 janvier 2019'!P37 -> 18 | Q33: =Q31+'09 janvier 2019'!Q37 -> 0 | R33: =R31+'09 janvier 2019'!R37 -> 0 | S33: =S31+'09 janvier 2019'!S37 -> 0
L34: =L32+'09 janvier 2019'!L38:M38 -> 50 | N34: =N32+'09 janvier 2019'!N38:P38 -> 50
B35: Nb | C35: GROUPES | D35: Nb | E35: Individus
A36: Hors ACCOLADE | B36: 1 | C36: =B36+'09 janvier 2019'!B40 -> 1 | D36: 7 | E36: =D36+'09 janvier 2019'!E40:F40 -> 7
A37: ACCOLADE | B37: 2 | C37: =B37+'09 janvier 2019'!B41 -> 3 | D37: 11 | E37: =D37+'09 janvier 2019'!E41:F41 -> 21

Sheet 23 janvier 2019
B2: MERCREDI | C2: 43488 | K2: H&D | R2: 3
F3: SEXE | S3: Cartes de vœux
A4: CODE | B4: FAMILLE | C4: NOM | D4: Prénom | E4: ASSMAT | F4: F | G4: M | H4: naissance | I4: âge jour | J4: Commune | K4: TERRI TOIRE | L4: Matin | M4: AM | N4: JSP seul | O4: Emprunt seul | P4: JSP + emprunt | Q4: DEC | R4: Ponc tuel | S4: Ate lier
A5: AM2-1 | B5: =VLOOKUP(A5,[1]!Tableau_cotisants,2,FALSE) -> GUYOT | C5: =VLOOKUP(A5,[1]!Tableau_cotisants,3,FALSE) -> GUYOT | D5: =VLOOKUP(A5,[1]!Tableau_cotisants,4,FALSE) -> Virginie | E5: =VLOOKUP(A5,[1]!Tableau_cotisants,5,FALSE) -> 1 | F5: =VLOOKUP(A5,[1]!Tableau_cotisants,6,FALSE) -> 1 | G5: =VLOOKUP(A5,[1]!Tableau_cotisants,7,FALSE) -> 0 | H5: =VLOOKUP(A5,[1]!Tableau_cotisants,8,FALSE) -> 30012 | I5: =DATEDIF(H5,Date_du_jour,"y") & " an(s) " & DATEDIF(H5,$C$2,"ym") & " mois et " & DATEDIF(H5,$C$2,"md") & " jour(s)" -> 36 an(s) 10 mois et 21 jour(s) | J5: =VLOOKUP(A5,[1]!Tableau_cotisants,10,FALSE) -> Chateaubernard | K5: =VLOOKUP(A5,[1]!Tableau_cotisants,11,FALSE) -> Cognac | L5: 1 | P5: 1 | S5: 1
A6: AM2-8 | B6: =VLOOKUP(A6,[1]!Tableau_cotisants,2,FALSE) -> GUYOT | C6: =VLOOKUP(A6,[1]!Tableau_cotisants,3,FALSE) -> FARCY | D6: =VLOOKUP(A6,[1]!Tableau_cotisants,4,FALSE) -> Sacha | E6: =VLOOKUP(A6,[1]!Tableau_cotisants,5,FALSE) -> 1 | F6: =VLOOKUP(A6,[1]!Tableau_cotisants,6,FALSE) -> 0 | G6: =VLOOKUP(A6,[1]!Tableau_cotisants,7,FALSE) -> 1 | H6: =VLOOKUP(A6,[1]!Tableau_cotisants,8,FALSE) -> 43040 | I6: =DATEDIF(H6,Date_du_jour,"y") & " an(s) " & DATEDIF(H6,$C$2,"ym") & " mois et " & DATEDIF(H6,$C$2,"md") & " jour(s)" -> 1 an(s) 2 mois et 22 jour(s) | J6: =VLOOKUP(A6,[1]!Tableau_cotisants,10,FALSE) -> Chateaubernard | K6: =VLOOKUP(A6,[1]!Tableau_cotisants,11,FALSE) -> Cognac | L6: 1 | P6: 1
A7: AM2-10 | B7: =VLOOKUP(A7,[1]!Tableau_cotisants,2,FALSE) -> GUYOT | C7: =VLOOKUP(A7,[1]!Tableau_cotisants,3,FALSE) -> FORGEARD | D7: =VLOOKUP(A7,[1]!Tableau_cotisants,4,FALSE) -> Yanis | E7: =VLOOKUP(A7,[1]!Tableau_cotisants,5,FALSE) -> 1 | F7: =VLOOKUP(A7,[1]!Tableau_cotisants,6,FALSE) -> 0 | G7: =VLOOKUP(A7,[1]!Tableau_cotisants,7,FALSE) -> 1 | H7: =VLOOKUP(A7,[1]!Tableau_cotisants,8,FALSE) -> 43315 | I7: =DATEDIF(H7,Date_du_jour,"y") & " an(s) " & DATEDIF(H7,$C$2,"ym") & " mois et " & DATEDIF(H7,$C$2,"md") & " jour(s)" -> 0 an(s) 5 mois et 20 jour(s) | J7: =VLOOKUP(A7,[1]!Tableau_cotisants,10,FALSE) -> Chateaubernard | K7: =VLOOKUP(A7,[1]!Tableau_cotisants,11,FALSE) -> Cognac | L7: 1 | P7: 1 | S7: 1
A8: AM2-11 | B8: =VLOOKUP(A8,[1]!Tableau_cotisants,2,FALSE) -> GUYOT | C8: =VLOOKUP(A8,[1]!Tableau_cotisants,3,FALSE) -> FRIOUX-GARCIA | D8: =VLOOKUP(A8,[1]!Tableau_cotisants,4,FALSE) -> Marius | E8: =VLOOKUP(A8,[1]!Tableau_cotisants,5,FALSE) -> 1 | F8: =VLOOKUP(A8,[1]!Tableau_cotisants,6,FALSE) -> 0 | G8: =VLOOKUP(A8,[1]!Tableau_cotisants,7,FALSE) -> 1 | H8: =VLOOKUP(A8,[1]!Tableau_cotisants,8,FALSE) -> 43395 | I8: =DATEDIF(H8,Date_du_jour,"y") & " an(s) " & DATEDIF(H8,$C$2,"ym") & " mois et " & DATEDIF(H8,$C$2,"md") & " jour(s)" -> 0 an(s) 3 mois et 1 jour(s) | J8: =VLOOKUP(A8,[1]!Tableau_cotisants,10,FALSE) -> Chateaubernard | K8: =VLOOKUP(A8,[1]!Tableau_cotisants,11,FALSE) -> Cognac | L8: 1 | P8: 1 | S8: 1
A9: AM1-1 | B9: =VLOOKUP(A9,[1]!Tableau_cotisants,2,FALSE) -> COZIC | C9: =VLOOKUP(A9,[1]!Tableau_cotisants,3,FALSE) -> COZIC | D9: =VLOOKUP(A9,[1]!Tableau_cotisants,4,FALSE) -> Jennifer | E9: =VLOOKUP(A9,[1]!Tableau_cotisants,5,FALSE) -> 1 | F9: =VLOOKUP(A9,[1]!Tableau_cotisants,6,FALSE) -> 1 | G9: =VLOOKUP(A9,[1]!Tableau_cotisants,7,FALSE) -> 0 | H9: =VLOOKUP(A9,[1]!Tableau_cotisants,8,FALSE) -> 30554 | I9: =DATEDIF(H9,Date_du_jour,"y") & " an(s) " & DATEDIF(H9,$C$2,"ym") & " mois et " & DATEDIF(H9,$C$2,"md") & " jour(s)" -> 35 an(s) 4 mois et 28 jour(s) | J9: =VLOOKUP(A9,[1]!Tableau_cotisants,10,FALSE) -> Chateaubernard | K9: =VLOOKUP(A9,[1]!Tableau_cotisants,11,FALSE) -> Cognac | L9: 1 | P9: 1
A10: AM1-6 | B10: =VLOOKUP(A10,[1]!Tableau_cotisants,2,FALSE) -> COZIC | C10: =VLOOKUP(A10,[1]!Tableau_cotisants,3,FALSE) -> FRAISSINET COZIC | D10: =VLOOKUP(A10,[1]!Tableau_cotisants,4,FALSE) -> Kathleen | E10: =VLOOKUP(A10,[1]!Tableau_cotisants,5,FALSE) -> 1 | F10: =VLOOKUP(A10,[1]!Tableau_cotisants,6,FALSE) -> 1 | G10: =VLOOKUP(A10,[1]!Tableau_cotisants,7,FALSE) -> 0 | H10: =VLOOKUP(A10,[1]!Tableau_cotisants,8,FALSE) -> 39909 | I10: =DATEDIF(H10,Date_du_jour,"y") & " an(s) " & DATEDIF(H10,$C$2,"ym") & " mois et " & DATEDIF(H10,$C$2,"md") & " jour(s)" -> 9 an(s) 9 mois et 17 jour(s) | J10: =VLOOKUP(A10,[1]!Tableau_cotisants,10,FALSE) -> Chateaubernard | K10: =VLOOKUP(A10,[1]!Tableau_cotisants,11,FALSE) -> Cognac | L10: 1 | P10: 1
A11: AM1-7 | B11: =VLOOKUP(A11,[1]!Tableau_cotisants,2,FALSE) -> COZIC | C11: =VLOOKUP(A11,[1]!Tableau_cotisants,3,FALSE) -> FRAISSINET COZIC | D11: =VLOOKUP(A11,[1]!Tableau_cotisants,4,FALSE) -> Kendall | E11: =VLOOKUP(A11,[1]!Tableau_cotisants,5,FALSE) -> 1 | F11: =VLOOKUP(A11,[1]!Tableau_cotisants,6,FALSE) -> 0 | G11: =VLOOKUP(A11,[1]!Tableau_cotisants,7,FALSE) -> 1 | H11: =VLOOKUP(A11,[1]!Tableau_cotisants,8,FALSE) -> 40770 | I11: =DATEDIF(H11,Date_du_jour,"y") & " an(s) " & DATEDIF(H11,$C$2,"ym") & " mois et " & DATEDIF(H11,$C$2,"md") & " jour(s)" -> 7 an(s) 5 mois et 8 jour(s) | J11: =VLOOKUP(A11,[1]!Tableau_cotisants,10,FALSE) -> Chateaubernard | K11: =VLOOKUP(A11,[1]!Tableau_cotisants,11,FALSE) -> Cognac | L11: 1 | P11: 1
A12: AM1-10 | B12: =VLOOKUP(A12,[1]!Tableau_cotisants,2,FALSE) -> COZIC | C12: =VLOOKUP(A12,[1]!Tableau_cotisants,3,FALSE) -> TARDIEU | D12: =VLOOKUP(A12,[1]!Tableau_cotisants,4,FALSE) -> Gustave | E12: =VLOOKUP(A12,[1]!Tableau_cotisants,5,FALSE) -> 1 | F12: =VLOOKUP(A12,[1]!Tableau_cotisants,6,FALSE) -> 0 | G12: =VLOOKUP(A12,[1]!Tableau_cotisants,7,FALSE) -> 1 | H12: =VLOOKUP(A12,[1]!Tableau_cotisants,8,FALSE) -> 42917 | I12: =DATEDIF(H12,Date_du_jour,"y") & " an(s) " & DATEDIF(H12,$C$2,"ym") & " mois et " & DATEDIF(H12,$C$2,"md") & " jour(s)" -> 1 an(s) 6 mois et 22 jour(s) | J12: =VLOOKUP(A12,[1]!Tableau_cotisants,10,FALSE) -> Chateaubernard | K12: =VLOOKUP(A12,[1]!Tableau_cotisants,11,FALSE) -> Cognac | L12: 1 | P12: 1
A13: AM1-13 | B13: =VLOOKUP(A13,[1]!Tableau_cotisants,2,FALSE) -> COZIC | C13: =VLOOKUP(A13,[1]!Tableau_cotisants,3,FALSE) -> BARAUD | D13: =VLOOKUP(A13,[1]!Tableau_cotisants,4,FALSE) -> Théo | E13: =VLOOKUP(A13,[1]!Tableau_cotisants,5,FALSE) -> 1 | F13: =VLOOKUP(A13,[1]!Tableau_cotisants,6,FALSE) -> 0 | G13: =VLOOKUP(A13,[1]!Tableau_cotisants,7,FALSE) -> 1 | H13: =VLOOKUP(A13,[1]!Tableau_cotisants,8,FALSE) -> 43016 | I13: =DATEDIF(H13,Date_du_jour,"y") & " an(s) " & DATEDIF(H13,$C$2,"ym") & " mois et " & DATEDIF(H13,$C$2,"md") & " jour(s)" -> 1 an(s) 3 mois et 15 jour(s) | J13: =VLOOKUP(A13,[1]!Tableau_cotisants,10,FALSE) -> Chateaubernard | K13: =VLOOKUP(A13,[1]!Tableau_cotisants,11,FALSE) -> Cognac | L13: 1 | P13: 1
A14: F90-1 | B14: =VLOOKUP(A14,[1]!Tableau_cotisants,2,FALSE) -> CASTAINGS/LACROIX | C14: =VLOOKUP(A14,[1]!Tableau_cotisants,3,FALSE) -> LACROIX | D14: =VLOOKUP(A14,[1]!Tableau_cotisants,4,FALSE) -> Elodie | E14: =VLOOKUP(A14,[1]!Tableau_cotisants,5,FALSE) -> 0 | F14: =VLOOKUP(A14,[1]!Tableau_cotisants,6,FALSE) -> 1 | G14: =VLOOKUP(A14,[1]!Tableau_cotisants,7,FALSE) -> 0 | H14: =VLOOKUP(A14,[1]!Tableau_cotisants,8,FALSE) -> 30513 | I14: =DATEDIF(H14,Date_du_jour,"y") & " an(s) " & DATEDIF(H14,$C$2,"ym") & " mois et " & DATEDIF(H14,$C$2,"md") & " jour(s)" -> 35 an(s) 6 mois et 7 jour(s) | J14: =VLOOKUP(A14,[1]!Tableau_cotisants,10,FALSE) -> Cognac | K14: =VLOOKUP(A14,[1]!Tableau_cotisants,11,FALSE) -> Cognac | L14: 1 | P14: 1
A15: F90-2 | B15: =VLOOKUP(A15,[1]!Tableau_cotisants,2,FALSE) -> CASTAINGS/LACROIX | C15: =VLOOKUP(A15,[1]!Tableau_cotisants,3,FALSE) -> CASTAINGS | D15: =VLOOKUP(A15,[1]!Tableau_cotisants,4,FALSE) -> Léonard | E15: =VLOOKUP(A15,[1]!Tableau_cotisants,5,FALSE) -> 0 | F15: =VLOOKUP(A15,[1]!Tableau_cotisants,6,FALSE) -> 0 | G15: =VLOOKUP(A15,[1]!Tableau_cotisants,7,FALSE) -> 1 | H15: =VLOOKUP(A15,[1]!Tableau_cotisants,8,FALSE) -> 41472 | I15: =DATEDIF(H15,Date_du_jour,"y") & " an(s) " & DATEDIF(H15,$C$2,"ym") & " mois et " & DATEDIF(H15,$C$2,"md") & " jour(s)" -> 5 an(s) 6 mois et 6 jour(s) | J15: =VLOOKUP(A15,[1]!Tableau_cotisants,10,FALSE) -> Cognac | K15: =VLOOKUP(A15,[1]!Tableau_cotisants,11,FALSE) -> Cognac | L15: 1 | P15: 1
A16: F90-3 | B16: =VLOOKUP(A16,[1]!Tableau_cotisants,2,FALSE) -> CASTAINGS/LACROIX | C16: =VLOOKUP(A16,[1]!Tableau_cotisants,3,FALSE) -> CASTAINGS | D16: =VLOOKUP(A16,[1]!Tableau_cotisants,4,FALSE) -> Marilou | E16: =VLOOKUP(A16,[1]!Tableau_cotisants,5,FALSE) -> 0 | F16: =VLOOKUP(A16,[1]!Tableau_cotisants,6,FALSE) -> 1 | G16: =VLOOKUP(A16,[1]!Tableau_cotisants,7,FALSE) -> 0 | H16: =VLOOKUP(A16,[1]!Tableau_cotisants,8,FALSE) -> 42277 | I16: =DATEDIF(H16,Date_du_jour,"y") & " an(s) " & DATEDIF(H16,$C$2,"ym") & " mois et " & DATEDIF(H16,$C$2,"md") & " jour(s)" -> 3 an(s) 3 mois et 24 jour(s) | J16: =VLOOKUP(A16,[1]!Tableau_cotisants,10,FALSE) -> Cognac | K16: =VLOOKUP(A16,[1]!Tableau_cotisants,11,FALSE) -> Cognac | L16: 1 | P16: 1
A17: F9-1 | B17: =VLOOKUP(A17,[1]!Tableau_cotisants,2,FALSE) -> SAMOYEAU/RAPHOZ | C17: =VLOOKUP(A17,[1]!Tableau_cotisants,3,FALSE) -> SAMOYEAU | D17: =VLOOKUP(A17,[1]!Tableau_cotisants,4,FALSE) -> Romain | E17: =VLOOKUP(A17,[1]!Tableau_cotisants,5,FALSE) -> 0 | F17: =VLOOKUP(A17,[1]!Tableau_cotisants,6,FALSE) -> 0 | G17: =VLOOKUP(A17,[1]!Tableau_cotisants,7,FALSE) -> 1 | H17: =VLOOKUP(A17,[1]!Tableau_cotisants,8,FALSE) -> 30741 | I17: =DATEDIF(H17,Date_du_jour,"y") & " an(s) " & DATEDIF(H17,$C$2,"ym") & " mois et " & DATEDIF(H17,$C$2,"md") & " jour(s)" -> 34 an(s) 10 mois et 25 jour(s) | J17: =VLOOKUP(A17,[1]!Tableau_cotisants,10,FALSE) -> SEGONZAC | K17: =VLOOKUP(A17,[1]!Tableau_cotisants,11,FALSE) -> Champagne | L17: 1 | N17: 1
A18: F9-2 | B18: =VLOOKUP(A18,[1]!Tableau_cotisants,2,FALSE) -> SAMOYEAU/RAPHOZ | C18: =VLOOKUP(A18,[1]!Tableau_cotisants,3,FALSE) -> RAPHOZ_LASSAYS | D18: =VLOOKUP(A18,[1]!Tableau_cotisants,4,FALSE) -> Laurène | E18: =VLOOKUP(A18,[1]!Tableau_cotisants,5,FALSE) -> 0 | F18: =VLOOKUP(A18,[1]!Tableau_cotisants,6,FALSE) -> 1 | G18: =VLOOKUP(A18,[1]!Tableau_cotisants,7,FALSE) -> 0 | H18: =VLOOKUP(A18,[1]!Tableau_cotisants,8,FALSE) -> 31367 | I18: =DATEDIF(H18,Date_du_jour,"y") & " an(s) " & DATEDIF(H18,$C$2,"ym") & " mois et " & DATEDIF(H18,$C$2,"md") & " jour(s)" -> 33 an(s) 2 mois et 7 jour(s) | J18: =VLOOKUP(A18,[1]!Tableau_cotisants,10,FALSE) -> SEGONZAC | K18: =VLOOKUP(A18,[1]!Tableau_cotisants,11,FALSE) -> Champagne | L18: 1 | N18: 1
A19: F9-3 | B19: =VLOOKUP(A19,[1]!Tableau_cotisants,2,FALSE) -> SAMOYEAU/RAPHOZ | C19: =VLOOKUP(A19,[1]!Tableau_cotisants,3,FALSE) -> SAMOYEAU | D19: =VLOOKUP(A19,[1]!Tableau_cotisants,4,FALSE) -> Thomas | E19: =VLOOKUP(A19,[1]!Tableau_cotisants,5,FALSE) -> 0 | F19: =VLOOKUP(A19,[1]!Tableau_cotisants,6,FALSE) -> 0 | G19: =VLOOKUP(A19,[1]!Tableau_cotisants,7,FALSE) -> 1 | H19: =VLOOKUP(A19,[1]!Tableau_cotisants,8,FALSE) -> 41862 | I19: =DATEDIF(H19,Date_du_jour,"y") & " an(s) " & DATEDIF(H19,$C$2,"ym") & " mois et " & DATEDIF(H19,$C$2,"md") & " jour(s)" -> 4 an(s) 5 mois et 12 jour(s) | J19: =VLOOKUP(A19,[1]!Tableau_cotisants,10,FALSE) -> SEGONZAC | K19: =VLOOKUP(A19,[1]!Tableau_cotisants,11,FALSE) -> Champagne | L19: 1 | N19: 1
A20: F6-1 | B20: =VLOOKUP(A20,[1]!Tableau_cotisants,2,FALSE) -> BOUBEE-SAUNIER | C20: =VLOOKUP(A20,[1]!Tableau_cotisants,3,FALSE) -> SAUNIER | D20: =VLOOKUP(A20,[1]!Tableau_cotisants,4,FALSE) -> Amélie | E20: =VLOOKUP(A20,[1]!Tableau_cotisants,5,FALSE) -> 0 | F20: =VLOOKUP(A20,[1]!Tableau_cotisants,6,FALSE) -> 1 | G20: =VLOOKUP(A20,[1]!Tableau_cotisants,7,FALSE) -> 0 | H20: =VLOOKUP(A20,[1]!Tableau_cotisants,8,FALSE) -> 31304 | I20: =DATEDIF(H20,Date_du_jour,"y") & " an(s) " & DATEDIF(H20,$C$2,"ym") & " mois et " & DATEDIF(H20,$C$2,"md") & " jour(s)" -> 33 an(s) 4 mois et 9 jour(s) | J20: =VLOOKUP(A20,[1]!Tableau_cotisants,10,FALSE) -> SEGONZAC | K20: =VLOOKUP(A20,[1]!Tableau_cotisants,11,FALSE) -> Champagne | L20: 1 | N20: 1
A21: F6-2 | B21: =VLOOKUP(A21,[1]!Tableau_cotisants,2,FALSE) -> BOUBEE-SAUNIER | C21: =VLOOKUP(A21,[1]!Tableau_cotisants,3,FALSE) -> BOUBEE-SAUNIER | D21: =VLOOKUP(A21,[1]!Tableau_cotisants,4,FALSE) -> Lisa | E21: =VLOOKUP(A21,[1]!Tableau_cotisants,5,FALSE) -> 0 | F21: =VLOOKUP(A21,[1]!Tableau_cotisants,6,FALSE) -> 1 | G21: =VLOOKUP(A21,[1]!Tableau_cotisants,7,FALSE) -> 0 | H21: =VLOOKUP(A21,[1]!Tableau_cotisants,8,FALSE) -> 41245 | I21: =DATEDIF(H21,Date_du_jour,"y") & " an(s) " & DATEDIF(H21,$C$2,"ym") & " mois et " & DATEDIF(H21,$C$2,"md") & " jour(s)" -> 6 an(s) 1 mois et 21 jour(s) | J21: =VLOOKUP(A21,[1]!Tableau_cotisants,10,FALSE) -> SEGONZAC | K21: =VLOOKUP(A21,[1]!Tableau_cotisants,11,FALSE) -> Champagne | L21: 1 | N21: 1
A22: F6-3 | B22: =VLOOKUP(A22,[1]!Tableau_cotisants,2,FALSE) -> BOUBEE-SAUNIER | C22: =VLOOKUP(A22,[1]!Tableau_cotisants,3,FALSE) -> BOUBEE-SAUNIER | D22: =VLOOKUP(A22,[1]!Tableau_cotisants,4,FALSE) -> Lucas | E22: =VLOOKUP(A22,[1]!Tableau_cotisants,5,FALSE) -> 0 | F22: =VLOOKUP(A22,[1]!Tableau_cotisants,6,FALSE) -> 0 | G22: =VLOOKUP(A22,[1]!Tableau_cotisants,7,FALSE) -> 1 | H22: =VLOOKUP(A22,[1]!Tableau_cotisants,8,FALSE) -> 42216 | I22: =DATEDIF(H22,Date_du_jour,"y") & " an(s) " & DATEDIF(H22,$C$2,"ym") & " mois et " & DATEDIF(H22,$C$2,"md") & " jour(s)" -> 3 an(s) 5 mois et 23 jour(s) | J22: =VLOOKUP(A22,[1]!Tableau_cotisants,10,FALSE) -> SEGONZAC | K22: =VLOOKUP(A22,[1]!Tableau_cotisants,11,FALSE) -> Champagne | L22: 1 | N22: 1
A23: F112-1 | B23: =VLOOKUP(A23,[1]!Tableau_cotisants,2,FALSE) -> PRESSON-HALLYG | C23: =VLOOKUP(A23,[1]!Tableau_cotisants,3,FALSE) -> HALLYG | D23: =VLOOKUP(A23,[1]!Tableau_cotisants,4,FALSE) -> Bérangère | E23: =VLOOKUP(A23,[1]!Tableau_cotisants,5,FALSE) -> 0 | F23: =VLOOKUP(A23,[1]!Tableau_cotisants,6,FALSE) -> 1 | G23: =VLOOKUP(A23,[1]!Tableau_cotisants,7,FALSE) -> 0 | H23: =VLOOKUP(A23,[1]!Tableau_cotisants,8,FALSE) -> 27325 | I23: =DATEDIF(H23,Date_du_jour,"y") & " an(s) " & DATEDIF(H23,$C$2,"ym") & " mois et " & DATEDIF(H23,$C$2,"md") & " jour(s)" -> 44 an(s) 3 mois et 0 jour(s) | J23: =VLOOKUP(A23,[1]!Tableau_cotisants,10,FALSE) -> COGNAC | K23: =VLOOKUP(A23,[1]!Tableau_cotisants,11,FALSE) -> Cognac | L23: 1 | P23: 1
A24: F112-2 | B24: =VLOOKUP(A24,[1]!Tableau_cotisants,2,FALSE) -> PRESSON-HALLYG | C24: =VLOOKUP(A24,[1]!Tableau_cotisants,3,FALSE) -> PRESSON-HALLYG | D24: =VLOOKUP(A24,[1]!Tableau_cotisants,4,FALSE) -> Sasha | E24: =VLOOKUP(A24,[1]!Tableau_cotisants,5,FALSE) -> 0 | F24: =VLOOKUP(A24,[1]!Tableau_cotisants,6,FALSE) -> 0 | G24: =VLOOKUP(A24,[1]!Tableau_cotisants,7,FALSE) -> 1 | H24: =VLOOKUP(A24,[1]!Tableau_cotisants,8,FALSE) -> 41634 | I24: =DATEDIF(H24,Date_du_jour,"y") & " an(s) " & DATEDIF(H24,$C$2,"ym") & " mois et " & DATEDIF(H24,$C$2,"md") & " jour(s)" -> 5 an(s) 0 mois et 28 jour(s) | J24: =VLOOKUP(A24,[1]!Tableau_cotisants,10,FALSE) -> Cognac | K24: =VLOOKUP(A24,[1]!Tableau_cotisants,11,FALSE) -> Cognac | L24: 1 | P24: 1
A25: F111-1 | B25: =VLOOKUP(A25,[1]!Tableau_cotisants,2,FALSE) -> LIENART DELABEYE | C25: =VLOOKUP(A25,[1]!Tableau_cotisants,3,FALSE) -> LIENART DELABEYE | D25: =VLOOKUP(A25,[1]!Tableau_cotisants,4,FALSE) -> Brigitte | E25: =VLOOKUP(A25,[1]!Tableau_cotisants,5,FALSE) -> 0 | F25: =VLOOKUP(A25,[1]!Tableau_cotisants,6,FALSE) -> 1 | G25: =VLOOKUP(A25,[1]!Tableau_cotisants,7,FALSE) -> 0 | H25: =VLOOKUP(A25,[1]!Tableau_cotisants,8,FALSE) -> 20885 | I25: =DATEDIF(H25,Date_du_jour,"y") & " an(s) " & DATEDIF(H25,$C$2,"ym") & " mois et " & DATEDIF(H25,$C$2,"md") & " jour(s)" -> 61 an(s) 10 mois et 17 jour(s) | J25: =VLOOKUP(A25,[1]!Tableau_cotisants,10,FALSE) -> ANGEAC CHAMPAGNE | K25: =VLOOKUP(A25,[1]!Tableau_cotisants,11,FALSE) -> Champagne | L25: 1 | N25: 1
A26: F113-1 | B26: =VLOOKUP(A26,[1]!Tableau_cotisants,2,FALSE) -> GABORIT-TRIJOL | C26: =VLOOKUP(A26,[1]!Tableau_cotisants,3,FALSE) -> TRIJOL | D26: =VLOOKUP(A26,[1]!Tableau_cotisants,4,FALSE) -> Alexandra | E26: =VLOOKUP(A26,[1]!Tableau_cotisants,5,FALSE) -> 0 | F26: =VLOOKUP(A26,[1]!Tableau_cotisants,6,FALSE) -> 1 | G26: =VLOOKUP(A26,[1]!Tableau_cotisants,7,FALSE) -> 0 | H26: =VLOOKUP(A26,[1]!Tableau_cotisants,8,FALSE) -> 30766 | I26: =DATEDIF(H26,Date_du_jour,"y") & " an(s) " & DATEDIF(H26,$C$2,"ym") & " mois et " & DATEDIF(H26,$C$2,"md") & " jour(s)" -> 34 an(s) 9 mois et 29 jour(s) | J26: =VLOOKUP(A26,[1]!Tableau_cotisants,10,FALSE) -> Mainxe | K26: =VLOOKUP(A26,[1]!Tableau_cotisants,11,FALSE) -> Jarnac | L26: 1 | M26: 1 | N26: 2
A27: F111-2 | B27: =VLOOKUP(A27,[1]!Tableau_cotisants,2,FALSE) -> LIENART DELABEYE | C27: =VLOOKUP(A27,[1]!Tableau_cotisants,3,FALSE) -> LIENART | D27: =VLOOKUP(A27,[1]!Tableau_cotisants,4,FALSE) -> Séverine | E27: =VLOOKUP(A27,[1]!Tableau_cotisants,5,FALSE) -> 0 | F27: =VLOOKUP(A27,[1]!Tableau_cotisants,6,FALSE) -> 1 | G27: =VLOOKUP(A27,[1]!Tableau_cotisants,7,FALSE) -> 0 | H27: =VLOOKUP(A27,[1]!Tableau_cotisants,8,FALSE) -> 31438 | I27: =DATEDIF(H27,Date_du_jour,"y") & " an(s) " & DATEDIF(H27,$C$2,"ym") & " mois et " & DATEDIF(H27,$C$2,"md") & " jour(s)" -> 32 an(s) 11 mois et 28 jour(s) | J27: =VLOOKUP(A27,[1]!Tableau_cotisants,10,FALSE) -> ANGEAC CHAMPAGNE | K27: =VLOOKUP(A27,[1]!Tableau_cotisants,11,FALSE) -> Champagne | L27: 1 | N27: 1
A28: F111-3 | B28: =VLOOKUP(A28,[1]!Tableau_cotisants,2,FALSE) -> LIENART DELABEYE | C28: =VLOOKUP(A28,[1]!Tableau_cotisants,3,FALSE) -> LIENART | D28: =VLOOKUP(A28,[1]!Tableau_cotisants,4,FALSE) -> Sacha | E28: =VLOOKUP(A28,[1]!Tableau_cotisants,5,FALSE) -> 0 | F28: =VLOOKUP(A28,[1]!Tableau_cotisants,6,FALSE) -> 0 | G28: =VLOOKUP(A28,[1]!Tableau_cotisants,7,FALSE) -> 1 | H28: =VLOOKUP(A28,[1]!Tableau_cotisants,8,FALSE) -> 42830 | I28: =DATEDIF(H28,Date_du_jour,"y") & " an(s) " & DATEDIF(H28,$C$2,"ym") & " mois et " & DATEDIF(H28,$C$2,"md") & " jour(s)" -> 1 an(s) 9 mois et 18 jour(s) | J28: =VLOOKUP(A28,[1]!Tableau_cotisants,10,FALSE) -> ANGEAC CHAMPAGNE | K28: =VLOOKUP(A28,[1]!Tableau_cotisants,11,FALSE) -> Champagne | L28: 1 | N28: 1
B29: GROUPE ACCOLADE 5 enfants sans anim (anthony abs)
A30: F109-1 | B30: =VLOOKUP(A30,[1]!Tableau_cotisants,2,FALSE) -> Barett De Coutures | C30: =VLOOKUP(A30,[1]!Tableau_cotisants,3,FALSE) -> Barett De Coutures | D30: =VLOOKUP(A30,[1]!Tableau_cotisants,4,FALSE) -> Sophie | E30: =VLOOKUP(A30,[1]!Tableau_cotisants,5,FALSE) -> 0 | F30: =VLOOKUP(A30,[1]!Tableau_cotisants,6,FALSE) -> 1 | G30: =VLOOKUP(A30,[1]!Tableau_cotisants,7,FALSE) -> 0 | H30: =VLOOKUP(A30,[1]!Tableau_cotisants,8,FALSE) -> 26736 | I30: =DATEDIF(H30,Date_du_jour,"y") & " an(s) " & DATEDIF(H30,$C$2,"ym") & " mois et " & DATEDIF(H30,$C$2,"md") & " jour(s)" -> 45 an(s) 10 mois et 10 jour(s) | J30: =VLOOKUP(A30,[1]!Tableau_cotisants,10,FALSE) -> Bourg Charente | K30: =VLOOKUP(A30,[1]!Tableau_cotisants,11,FALSE) -> Jarnac | M30: 1 | N30: 1
A31: F109-2 | B31: =VLOOKUP(A31,[1]!Tableau_cotisants,2,FALSE) -> Barett De Coutures | C31: =VLOOKUP(A31,[1]!Tableau_cotisants,3,FALSE) -> Barett De Coutures | D31: =VLOOKUP(A31,[1]!Tableau_cotisants,4,FALSE) -> Louise | E31: =VLOOKUP(A31,[1]!Tableau_cotisants,5,FALSE) -> 0 | F31: =VLOOKUP(A31,[1]!Tableau_cotisants,6,FALSE) -> 1 | G31: =VLOOKUP(A31,[1]!Tableau_cotisants,7,FALSE) -> 0 | H31: =VLOOKUP(A31,[1]!Tableau_cotisants,8,FALSE) -> 41504 | I31: =DATEDIF(H31,Date_du_jour,"y") & " an(s) " & DATEDIF(H31,$C$2,"ym") & " mois et " & DATEDIF(H31,$C$2,"md") & " jour(s)" -> 5 an(s) 5 mois et 5 jour(s) | J31: =VLOOKUP(A31,[1]!Tableau_cotisants,10,FALSE) -> Bourg Charente | K31: =VLOOKUP(A31,[1]!Tableau_cotisants,11,FALSE) -> Jarnac | M31: 1 | N31: 1
A32: F113-2 | B32: =VLOOKUP(A32,[1]!Tableau_cotisants,2,FALSE) -> GABORIT-TRIJOL | C32: =VLOOKUP(A32,[1]!Tableau_cotisants,3,FALSE) -> GABORIT | D32: =VLOOKUP(A32,[1]!Tableau_cotisants,4,FALSE) -> Sylvain | E32: =VLOOKUP(A32,[1]!Tableau_cotisants,5,FALSE) -> 0 | F32: =VLOOKUP(A32,[1]!Tableau_cotisants,6,FALSE) -> 0 | G32: =VLOOKUP(A32,[1]!Tableau_cotisants,7,FALSE) -> 1 | H32: =VLOOKUP(A32,[1]!Tableau_cotisants,8,FALSE) -> 31045 | I32: =DATEDIF(H32,Date_du_jour,"y") & " an(s) " & DATEDIF(H32,$C$2,"ym") & " mois et " & DATEDIF(H32,$C$2,"md") & " jour(s)" -> 34 an(s) 0 mois et 25 jour(s) | J32: =VLOOKUP(A32,[1]!Tableau_cotisants,10,FALSE) -> Mainxe | K32: =VLOOKUP(A32,[1]!Tableau_cotisants,11,FALSE) -> Jarnac | M32: 1 | N32: 1
A33: F113-3 | B33: =VLOOKUP(A33,[1]!Tableau_cotisants,2,FALSE) -> GABORIT-TRIJOL | C33: =VLOOKUP(A33,[1]!Tableau_cotisants,3,FALSE) -> GABORIT-TRIJOL | D33: =VLOOKUP(A33,[1]!Tableau_cotisants,4,FALSE) -> Marceau | E33: =VLOOKUP(A33,[1]!Tableau_cotisants,5,FALSE) -> 0 | F33: =VLOOKUP(A33,[1]!Tableau_cotisants,6,FALSE) -> 0 | G33: =VLOOKUP(A33,[1]!Tableau_cotisants,7,FALSE) -> 1 | H33: =VLOOKUP(A33,[1]!Tableau_cotisants,8,FALSE) -> 43002 | I33: =DATEDIF(H33,Date_du_jour,"y") & " an(s) " & DATEDIF(H33,$C$2,"ym") & " mois et " & DATEDIF(H33,$C$2,"md") & " jour(s)" -> 1 an(s) 3 mois et 30 jour(s) | J33: =VLOOKUP(A33,[1]!Tableau_cotisants,10,FALSE) -> Mainxe | K33: =VLOOKUP(A33,[1]!Tableau_cotisants,11,FALSE) -> Jarnac | M33: 1 | N33: 1
A34: F114-1 | B34: =VLOOKUP(A34,[1]!Tableau_cotisants,2,FALSE) -> NADAL | C34: =VLOOKUP(A34,[1]!Tableau_cotisants,3,FALSE) -> NADAL | D34: =VLOOKUP(A34,[1]!Tableau_cotisants,4,FALSE) -> Stéphanie | E34: =VLOOKUP(A34,[1]!Tableau_cotisants,5,FALSE) -> 0 | F34: =VLOOKUP(A34,[1]!Tableau_cotisants,6,FALSE) -> 1 | G34: =VLOOKUP(A34,[1]!Tableau_cotisants,7,FALSE) -> 0 | H34: =VLOOKUP(A34,[1]!Tableau_cotisants,8,FALSE) -> 31160 | I34: =DATEDIF(H34,Date_du_jour,"y") & " an(s) " & DATEDIF(H34,$C$2,"ym") & " mois et " & DATEDIF(H34,$C$2,"md") & " jour(s)" -> 33 an(s) 9 mois et 0 jour(s) | J34: =VLOOKUP(A34,[1]!Tableau_cotisants,10,FALSE) -> Saint Même Les Carrières | K34: =VLOOKUP(A34,[1]!Tableau_cotisants,11,FALSE) -> Jarnac | M34: 1 | N34: 1
A35: F114-2 | B35: =VLOOKUP(A35,[1]!Tableau_cotisants,2,FALSE) -> NADAL | C35: =VLOOKUP(A35,[1]!Tableau_cotisants,3,FALSE) -> NADAL | D35: =VLOOKUP(A35,[1]!Tableau_cotisants,4,FALSE) -> Nicolas | E35: =VLOOKUP(A35,[1]!Tableau_cotisants,5,FALSE) -> 0 | F35: =VLOOKUP(A35,[1]!Tableau_cotisants,6,FALSE) -> 0 | G35: =VLOOKUP(A35,[1]!Tableau_cotisants,7,FALSE) -> 1 | H35: =VLOOKUP(A35,[1]!Tableau_cotisants,8,FALSE) -> 30526 | I35: =DATEDIF(H35,Date_du_jour,"y") & " an(s) " & DATEDIF(H35,$C$2,"ym") & " mois et " & DATEDIF(H35,$C$2,"md") & " jour(s)" -> 35 an(s) 5 mois et 25 jour(s) | J35: =VLOOKUP(A35,[1]!Tableau_cotisants,10,FALSE) -> Saint Même Les Carrières | K35: =VLOOKUP(A35,[1]!Tableau_cotisants,11,FALSE) -> Jarnac | M35: 1 | N35: 1
B36: HARDY/MARTIN | C36: MARTIN | D36: Sylvie | F36: 1 | H36: 21333 | I36: =DATEDIF(H36,Date_du_jour,"y") & " an(s) " & DATEDIF(H36,$C$2,"ym") & " mois et " & DATEDIF(H36,$C$2,"md") & " jour(s)" -> 60 an(s) 7 mois et 26 jour(s) | J36: Mainxe | K36: Jarnac | M36: 1 | N36: 1 | Q36: 1
B37: HARDY/MARTIN | C37: HARDY | D37: Adrien | G37: 1 | H37: 42545 | I37: =DATEDIF(H37,Date_du_jour,"y") & " an(s) " & DATEDIF(H37,$C$2,"ym") & " mois et " & DATEDIF(H37,$C$2,"md") & " jour(s)" -> 2 an(s) 6 mois et 30 jour(s) | J37: Mainxe | K37: Jarnac | M37: 1 | N37: 1 | Q37: 1
B38: MARTIN/PARCEILLER | C38: PARCEILLER | D38: Elodie | F38: 1 | H38: 33429 | I38: =DATEDIF(H38,Date_du_jour,"y") & " an(s) " & DATEDIF(H38,$C$2,"ym") & " mois et " & DATEDIF(H38,$C$2,"md") & " jour(s)" -> 27 an(s) 6 mois et 13 jour(s) | J38: Mainxe | K38: Jarnac | M38: 1 | N38: 1 | Q38: 1
B39: MARTIN/PARCEILLER | C39: MARTIN | D39: Julie | F39: 1 | H39: 42908 | I39: =DATEDIF(H39,Date_du_jour,"y") & " an(s) " & DATEDIF(H39,$C$2,"ym") & " mois et " & DATEDIF(H39,$C$2,"md") & " jour(s)" -> 1 an(s) 7 mois et 1 jour(s) | J39: Mainxe | K39: Jarnac | M39: 1 | N39: 1 | Q39: 1
B40: BRISSON | C40: BRISSON | D40: Emmanuelle | F40: 1 | H40: 32331 | I40: =DATEDIF(H40,Date_du_jour,"y") & " an(s) " & DATEDIF(H40,$C$2,"ym") & " mois et " & DATEDIF(H40,$C$2,"md") & " jour(s)" -> 30 an(s) 6 mois et 16 jour(s) | J40: SEGONZAC | K40: Champagne | M40: 1 | N40: 1 | Q40: 1
B41: BRISSON | C41: BRISSON | D41: Martin | G41: 1 | H41: 42869 | I41: =DATEDIF(H41,Date_du_jour,"y") & " an(s) " & DATEDIF(H41,$C$2,"ym") & " mois et " & DATEDIF(H41,$C$2,"md") & " jour(s)" -> 1 an(s) 8 mois et 9 jour(s) | J41: SEGONZAC | K41: Champagne | M41: 1 | N41: 1 | Q41: 1
A42: F4-1 | B42: =VLOOKUP(A42,[1]!Tableau_cotisants,2,FALSE) -> SANSAUD/MOREAU | C42: =VLOOKUP(A42,[1]!Tableau_cotisants,3,FALSE) -> MOREAU | D42: =VLOOKUP(A42,[1]!Tableau_cotisants,4,FALSE) -> Emmanuelle | E42: =VLOOKUP(A42,[1]!Tableau_cotisants,5,FALSE) -> 0 | F42: =VLOOKUP(A42,[1]!Tableau_cotisants,6,FALSE) -> 1 | G42: =VLOOKUP(A42,[1]!Tableau_cotisants,7,FALSE) -> 0 | H42: =VLOOKUP(A42,[1]!Tableau_cotisants,8,FALSE) -> 29187 | I42: =DATEDIF(H42,Date_du_jour,"y") & " an(s) " & DATEDIF(H42,$C$2,"ym") & " mois et " & DATEDIF(H42,$C$2,"md") & " jour(s)" -> 39 an(s) 1 mois et 26 jour(s) | J42: =VLOOKUP(A42,[1]!Tableau_cotisants,10,FALSE) -> SEGONZAC | K42: =VLOOKUP(A42,[1]!Tableau_cotisants,11,FALSE) -> Champagne | M42: 1 | P42: 1
A43: F4-4 | B43: =VLOOKUP(A43,[1]!Tableau_cotisants,2,FALSE) -> SANSAUD/MOREAU | C43: =VLOOKUP(A43,[1]!Tableau_cotisants,3,FALSE) -> SANSAUD | D43: =VLOOKUP(A43,[1]!Tableau_cotisants,4,FALSE) -> Ethan | E43: =VLOOKUP(A43,[1]!Tableau_cotisants,5,FALSE) -> 0 | F43: =VLOOKUP(A43,[1]!Tableau_cotisants,6,FALSE) -> 0 | G43: =VLOOKUP(A43,[1]!Tableau_cotisants,7,FALSE) -> 1 | H43: =VLOOKUP(A43,[1]!Tableau_cotisants,8,FALSE) -> 41015 | I43: =DATEDIF(H43,Date_du_jour,"y") & " an(s) " & DATEDIF(H43,$C$2,"ym") & " mois et " & DATEDIF(H43,$C$2,"md") & " jour(s)" -> 6 an(s) 9 mois et 7 jour(s) | J43: =VLOOKUP(A43,[1]!Tableau_cotisants,10,FALSE) -> SEGONZAC | K43: =VLOOKUP(A43,[1]!Tableau_cotisants,11,FALSE) -> Champagne | M43: 1 | P43: 1
A44: F4-5 | B44: =VLOOKUP(A44,[1]!Tableau_cotisants,2,FALSE) -> SANSAUD/MOREAU | C44: =VLOOKUP(A44,[1]!Tableau_cotisants,3,FALSE) -> SANSAUD | D44: =VLOOKUP(A44,[1]!Tableau_cotisants,4,FALSE) -> Axel | E44: =VLOOKUP(A44,[1]!Tableau_cotisants,5,FALSE) -> 0 | F44: =VLOOKUP(A44,[1]!Tableau_cotisants,6,FALSE) -> 0 | G44: =VLOOKUP(A44,[1]!Tableau_cotisants,7,FALSE) -> 1 | H44: =VLOOKUP(A44,[1]!Tableau_cotisants,8,FALSE) -> 42407 | I44: =DATEDIF(H44,Date_du_jour,"y") & " an(s) " & DATEDIF(H44,$C$2,"ym") & " mois et " & DATEDIF(H44,$C$2,"md") & " jour(s)" -> 2 an(s) 11 mois et 16 jour(s) | J44: =VLOOKUP(A44,[1]!Tableau_cotisants,10,FALSE) -> SEGONZAC | K44: =VLOOKUP(A44,[1]!Tableau_cotisants,11,FALSE) -> Champagne | M44: 1 | P44: 1
E45: =SUM(E7:E44) -> 7 | F45: =SUM(F5:F44) -> 20 | G45: =SUM(G5:G44) -> 19 | K45: =SUM(K7:K44) -> 0 | L45: =SUM(L5:L44) -> 24 | M45: =SUM(M5:M44) -> 16 | N45: =SUM(N5:N44) -> 23 | O45: =SUM(O5:O44) -> 0 | P45: =SUM(P5:P44) -> 17 | Q45: =SUM(Q5:Q44) -> 6 | R45: =SUM(R5:R44) -> 0 | S45: =SUM(S5:S44) -> 3
B46: Matin : 11h/12h30 | F46: =F45+G45 -> 39 | L46: =L45+M45 -> 40 | N46: =N45+O45+P45 -> 40
B47: Après-midi : 16h30/18h30 | F47: alexandra trijol Matin et AM | L47: =L45+'16 janvier 2019'!L33 -> 46 | M47: =M45+'16 janvier 2019'!M33 -> 44 | N47: =N45+'16 janvier 2019'!N33 -> 46 | O47: =O45+'16 janvier 2019'!O33 -> 9 | P47: =P45+'16 janvier 2019'!P33 -> 35 | Q47: =Q45+'16 janvier 2019'!Q33 -> 6 | R47: =R45+'16 janvier 2019'!R33 -> 0 | S47: =S45+'16 janvier 2019'!S33 -> 3
L48: =L46+'16 janvier 2019'!L34:M34 -> 90 | N48: =N46+'16 janvier 2019'!N34:P34 -> 90
B49: Nb | C49: GROUPES | D49: Nb | E49: Individus
A50: Hors ACCOLADE | B50: 0 | C50: =B50+'16 janvier 2019'!C36 -> 1 | D50: 0 | E50: =D50+'16 janvier 2019'!E36:F36 -> 7
A51: ACCOLADE | B51: 1 | C51: =B51+'16 janvier 2019'!C37 -> 4 | D51: 5 | E51: =D51+'16 janvier 2019'!E37:F37 -> 26

Sheet 30 janvier 2019
B2: MERCREDI | C2: 43495 | K2: Wesley matin (diane crevaison) | R2: 4
F3: SEXE | K3: Diane AM (Hélène garde enfant Malade)
A4: CODE | B4: FAMILLE | C4: NOM | D4: Prénom | E4: ASSMAT | F4: F | G4: M | H4: naissance | I4: âge jour | J4: Commune | K4: TERRI TOIRE | L4: Matin | M4: AM | N4: JSP seul | O4: Emprunt seul | P4: JSP + emprunt | Q4: DEC | R4: Ponc tuel | S4: Ate lier
A5: F9-1 | B5: =VLOOKUP(A5,[1]!Tableau_cotisants,2,FALSE) -> SAMOYEAU/RAPHOZ | C5: =VLOOKUP(A5,[1]!Tableau_cotisants,3,FALSE) -> SAMOYEAU | D5: =VLOOKUP(A5,[1]!Tableau_cotisants,4,FALSE) -> Romain | E5: =VLOOKUP(A5,[1]!Tableau_cotisants,5,FALSE) -> 0 | F5: =VLOOKUP(A5,[1]!Tableau_cotisants,6,FALSE) -> 0 | G5: =VLOOKUP(A5,[1]!Tableau_cotisants,7,FALSE) -> 1 | H5: =VLOOKUP(A5,[1]!Tableau_cotisants,8,FALSE) -> 30741 | I5: =DATEDIF(H5,Date_du_jour,"y") & " an(s) " & DATEDIF(H5,$C$2,"ym") & " mois et " & DATEDIF(H5,$C$2,"md") & " jour(s)" -> 34 an(s) 11 mois et 1 jour(s) | J5: =VLOOKUP(A5,[1]!Tableau_cotisants,10,FALSE) -> SEGONZAC | K5: =VLOOKUP(A5,[1]!Tableau_cotisants,11,FALSE) -> Champagne | L5: 1 | N5: 1
A6: F9-2 | B6: =VLOOKUP(A6,[1]!Tableau_cotisants,2,FALSE) -> SAMOYEAU/RAPHOZ | C6: =VLOOKUP(A6,[1]!Tableau_cotisants,3,FALSE) -> RAPHOZ_LASSAYS | D6: =VLOOKUP(A6,[1]!Tableau_cotisants,4,FALSE) -> Laurène | E6: =VLOOKUP(A6,[1]!Tableau_cotisants,5,FALSE) -> 0 | F6: =VLOOKUP(A6,[1]!Tableau_cotisants,6,FALSE) -> 1 | G6: =VLOOKUP(A6,[1]!Tableau_cotisants,7,FALSE) -> 0 | H6: =VLOOKUP(A6,[1]!Tableau_cotisants,8,FALSE) -> 31367 | I6: =DATEDIF(H6,Date_du_jour,"y") & " an(s) " & DATEDIF(H6,$C$2,"ym") & " mois et " & DATEDIF(H6,$C$2,"md") & " jour(s)" -> 33 an(s) 2 mois et 14 jour(s) | J6: =VLOOKUP(A6,[1]!Tableau_cotisants,10,FALSE) -> SEGONZAC | K6: =VLOOKUP(A6,[1]!Tableau_cotisants,11,FALSE) -> Champagne | L6: 1 | N6: 1
A7: AM4-1 | B7: =VLOOKUP(A7,[1]!Tableau_cotisants,2,FALSE) -> RÉGNIER | C7: =VLOOKUP(A7,[1]!Tableau_cotisants,3,FALSE) -> RÉGNIER | D7: =VLOOKUP(A7,[1]!Tableau_cotisants,4,FALSE) -> Laëtitia | E7: =VLOOKUP(A7,[1]!Tableau_cotisants,5,FALSE) -> 1 | F7: =VLOOKUP(A7,[1]!Tableau_cotisants,6,FALSE) -> 1 | G7: =VLOOKUP(A7,[1]!Tableau_cotisants,7,FALSE) -> 0 | H7: =VLOOKUP(A7,[1]!Tableau_cotisants,8,FALSE) -> 29180 | I7: =DATEDIF(H7,Date_du_jour,"y") & " an(s) " & DATEDIF(H7,$C$2,"ym") & " mois et " & DATEDIF(H7,$C$2,"md") & " jour(s)" -> 39 an(s) 2 mois et 9 jour(s) | J7: =VLOOKUP(A7,[1]!Tableau_cotisants,10,FALSE) -> COGNAC | K7: =VLOOKUP(A7,[1]!Tableau_cotisants,11,FALSE) -> Cognac | L7: 1 | P7: 1
A8: AM4-10 | B8: =VLOOKUP(A8,[1]!Tableau_cotisants,2,FALSE) -> RÉGNIER | C8: =VLOOKUP(A8,[1]!Tableau_cotisants,3,FALSE) -> 0 | D8: =VLOOKUP(A8,[1]!Tableau_cotisants,4,FALSE) -> Noa | E8: =VLOOKUP(A8,[1]!Tableau_cotisants,5,FALSE) -> 1 | F8: =VLOOKUP(A8,[1]!Tableau_cotisants,6,FALSE) -> 1 | G8: =VLOOKUP(A8,[1]!Tableau_cotisants,7,FALSE) -> 0 | H8: =VLOOKUP(A8,[1]!Tableau_cotisants,8,FALSE) -> 42979 | I8: =DATEDIF(H8,Date_du_jour,"y") & " an(s) " & DATEDIF(H8,$C$2,"ym") & " mois et " & DATEDIF(H8,$C$2,"md") & " jour(s)" -> 1 an(s) 4 mois et 29 jour(s) | J8: =VLOOKUP(A8,[1]!Tableau_cotisants,10,FALSE) -> COGNAC | K8: =VLOOKUP(A8,[1]!Tableau_cotisants,11,FALSE) -> Cognac | L8: 1 | P8: 1
B10: GROUPE JARNAC 6 enfants et 1 anim
B12: GROUPE Accolade Primaires 9 enfants et 2 anim (Anthony et Stéphanie)
B18: GROUPE JARNAC 6 enfants et 1 anim (mélanie)
A20: F103-1 | B20: =VLOOKUP(A20,[1]!Tableau_cotisants,2,FALSE) -> MONTGOMERY | C20: =VLOOKUP(A20,[1]!Tableau_cotisants,3,FALSE) -> MONTGOMERY | D20: =VLOOKUP(A20,[1]!Tableau_cotisants,4,FALSE) -> Rebecca | E20: =VLOOKUP(A20,[1]!Tableau_cotisants,5,FALSE) -> 0 | F20: =VLOOKUP(A20,[1]!Tableau_cotisants,6,FALSE) -> 1 | G20: =VLOOKUP(A20,[1]!Tableau_cotisants,7,FALSE) -> 0 | H20: =VLOOKUP(A20,[1]!Tableau_cotisants,8,FALSE) -> 26339 | I20: =DATEDIF(H20,Date_du_jour,"y") & " an(s) " & DATEDIF(H20,$C$2,"ym") & " mois et " & DATEDIF(H20,$C$2,"md") & " jour(s)" -> 46 an(s) 11 mois et 20 jour(s) | J20: =VLOOKUP(A20,[1]!Tableau_cotisants,10,FALSE) -> SEGONZAC | K20: =VLOOKUP(A20,[1]!Tableau_cotisants,11,FALSE) -> Champagne | M20: 1 | O20: 1
A21: F103-2 | B21: =VLOOKUP(A21,[1]!Tableau_cotisants,2,FALSE) -> MONTGOMERY | C21: =VLOOKUP(A21,[1]!Tableau_cotisants,3,FALSE) -> MONTGOMERY | D21: =VLOOKUP(A21,[1]!Tableau_cotisants,4,FALSE) -> William | E21: =VLOOKUP(A21,[1]!Tableau_cotisants,5,FALSE) -> 0 | F21: =VLOOKUP(A21,[1]!Tableau_cotisants,6,FALSE) -> 0 | G21: =VLOOKUP(A21,[1]!Tableau_cotisants,7,FALSE) -> 1 | H21: =VLOOKUP(A21,[1]!Tableau_cotisants,8,FALSE) -> 40227 | I21: =DATEDIF(H21,Date_du_jour,"y") & " an(s) " & DATEDIF(H21,$C$2,"ym") & " mois et " & DATEDIF(H21,$C$2,"md") & " jour(s)" -> 8 an(s) 11 mois et 12 jour(s) | J21: =VLOOKUP(A21,[1]!Tableau_cotisants,10,FALSE) -> SEGONZAC | K21: =VLOOKUP(A21,[1]!Tableau_cotisants,11,FALSE) -> Champagne | M21: 1 | O21: 1
A22: F19-1 | B22: =VLOOKUP(A22,[1]!Tableau_cotisants,2,FALSE) -> DUFFAU_LAGAROSSE | C22: =VLOOKUP(A22,[1]!Tableau_cotisants,3,FALSE) -> GARCIA | D22: =VLOOKUP(A22,[1]!Tableau_cotisants,4,FALSE) -> Stéphanie | E22: =VLOOKUP(A22,[1]!Tableau_cotisants,5,FALSE) -> 0 | F22: =VLOOKUP(A22,[1]!Tableau_cotisants,6,FALSE) -> 1 | G22: =VLOOKUP(A22,[1]!Tableau_cotisants,7,FALSE) -> 0 | H22: =VLOOKUP(A22,[1]!Tableau_cotisants,8,FALSE) -> 30715 | I22: =DATEDIF(H22,Date_du_jour,"y") & " an(s) " & DATEDIF(H22,$C$2,"ym") & " mois et " & DATEDIF(H22,$C$2,"md") & " jour(s)" -> 34 an(s) 11 mois et 27 jour(s) | J22: =VLOOKUP(A22,[1]!Tableau_cotisants,10,FALSE) -> GENSAC LA PALLUE | K22: =VLOOKUP(A22,[1]!Tableau_cotisants,11,FALSE) -> Champagne | M22: 1 | N22: 1
A23: F19-2 | B23: =VLOOKUP(A23,[1]!Tableau_cotisants,2,FALSE) -> DUFFAU_LAGAROSSE | C23: =VLOOKUP(A23,[1]!Tableau_cotisants,3,FALSE) -> DUFFAU_LAGAROSSE | D23: =VLOOKUP(A23,[1]!Tableau_cotisants,4,FALSE) -> Jean | E23: =VLOOKUP(A23,[1]!Tableau_cotisants,5,FALSE) -> 0 | F23: =VLOOKUP(A23,[1]!Tableau_cotisants,6,FALSE) -> 0 | G23: =VLOOKUP(A23,[1]!Tableau_cotisants,7,FALSE) -> 1 | H23: =VLOOKUP(A23,[1]!Tableau_cotisants,8,FALSE) -> 41861 | I23: =DATEDIF(H23,Date_du_jour,"y") & " an(s) " & DATEDIF(H23,$C$2,"ym") & " mois et " & DATEDIF(H23,$C$2,"md") & " jour(s)" -> 4 an(s) 5 mois et 20 jour(s) | J23: =VLOOKUP(A23,[1]!Tableau_cotisants,10,FALSE) -> GENSAC LA PALLUE | K23: =VLOOKUP(A23,[1]!Tableau_cotisants,11,FALSE) -> Champagne | M23: 1 | N23: 1
A24: F19-3 | B24: =VLOOKUP(A24,[1]!Tableau_cotisants,2,FALSE) -> DUFFAU_LAGAROSSE | C24: =VLOOKUP(A24,[1]!Tableau_cotisants,3,FALSE) -> DUFFAU_LAGAROSSE | D24: =VLOOKUP(A24,[1]!Tableau_cotisants,4,FALSE) -> Clovis | E24: =VLOOKUP(A24,[1]!Tableau_cotisants,5,FALSE) -> 0 | F24: =VLOOKUP(A24,[1]!Tableau_cotisants,6,FALSE) -> 0 | G24: =VLOOKUP(A24,[1]!Tableau_cotisants,7,FALSE) -> 1 | H24: =VLOOKUP(A24,[1]!Tableau_cotisants,8,FALSE) -> 42693 | I24: =DATEDIF(H24,Date_du_jour,"y") & " an(s) " & DATEDIF(H24,$C$2,"ym") & " mois et " & DATEDIF(H24,$C$2,"md") & " jour(s)" -> 2 an(s) 2 mois et 11 jour(s) | J24: =VLOOKUP(A24,[1]!Tableau_cotisants,10,FALSE) -> GENSAC LA PALLUE | K24: =VLOOKUP(A24,[1]!Tableau_cotisants,11,FALSE) -> Champagne | M24: 1 | N24: 1
A25: F4-1 | B25: =VLOOKUP(A25,[1]!Tableau_cotisants,2,FALSE) -> SANSAUD/MOREAU | C25: =VLOOKUP(A25,[1]!Tableau_cotisants,3,FALSE) -> MOREAU | D25: =VLOOKUP(A25,[1]!Tableau_cotisants,4,FALSE) -> Emmanuelle | E25: =VLOOKUP(A25,[1]!Tableau_cotisants,5,FALSE) -> 0 | F25: =VLOOKUP(A25,[1]!Tableau_cotisants,6,FALSE) -> 1 | G25: =VLOOKUP(A25,[1]!Tableau_cotisants,7,FALSE) -> 0 | H25: =VLOOKUP(A25,[1]!Tableau_cotisants,8,FALSE) -> 29187 | I25: =DATEDIF(H25,Date_du_jour,"y") & " an(s) " & DATEDIF(H25,$C$2,"ym") & " mois et " & DATEDIF(H25,$C$2,"md") & " jour(s)" -> 39 an(s) 2 mois et 2 jour(s) | J25: =VLOOKUP(A25,[1]!Tableau_cotisants,10,FALSE) -> SEGONZAC | K25: =VLOOKUP(A25,[1]!Tableau_cotisants,11,FALSE) -> Champagne | M25: 1 | N25: 1
A26: F4-4 | B26: =VLOOKUP(A26,[1]!Tableau_cotisants,2,FALSE) -> SANSAUD/MOREAU | C26: =VLOOKUP(A26,[1]!Tableau_cotisants,3,FALSE) -> SANSAUD | D26: =VLOOKUP(A26,[1]!Tableau_cotisants,4,FALSE) -> Ethan | E26: =VLOOKUP(A26,[1]!Tableau_cotisants,5,FALSE) -> 0 | F26: =VLOOKUP(A26,[1]!Tableau_cotisants,6,FALSE) -> 0 | G26: =VLOOKUP(A26,[1]!Tableau_cotisants,7,FALSE) -> 1 | H26: =VLOOKUP(A26,[1]!Tableau_cotisants,8,FALSE) -> 41015 | I26: =DATEDIF(H26,Date_du_jour,"y") & " an(s) " & DATEDIF(H26,$C$2,"ym") & " mois et " & DATEDIF(H26,$C$2,"md") & " jour(s)" -> 6 an(s) 9 mois et 14 jour(s) | J26: =VLOOKUP(A26,[1]!Tableau_cotisants,10,FALSE) -> SEGONZAC | K26: =VLOOKUP(A26,[1]!Tableau_cotisants,11,FALSE) -> Champagne | M26: 1 | N26: 1
A27: F4-5 | B27: =VLOOKUP(A27,[1]!Tableau_cotisants,2,FALSE) -> SANSAUD/MOREAU | C27: =VLOOKUP(A27,[1]!Tableau_cotisants,3,FALSE) -> SANSAUD | D27: =VLOOKUP(A27,[1]!Tableau_cotisants,4,FALSE) -> Axel | E27: =VLOOKUP(A27,[1]!Tableau_cotisants,5,FALSE) -> 0 | F27: =VLOOKUP(A27,[1]!Tableau_cotisants,6,FALSE) -> 0 | G27: =VLOOKUP(A27,[1]!Tableau_cotisants,7,FALSE) -> 1 | H27: =VLOOKUP(A27,[1]!Tableau_cotisants,8,FALSE) -> 42407 | I27: =DATEDIF(H27,Date_du_jour,"y") & " an(s) " & DATEDIF(H27,$C$2,"ym") & " mois et " & DATEDIF(H27,$C$2,"md") & " jour(s)" -> 2 an(s) 11 mois et 23 jour(s) | J27: =VLOOKUP(A27,[1]!Tableau_cotisants,10,FALSE) -> SEGONZAC | K27: =VLOOKUP(A27,[1]!Tableau_cotisants,11,FALSE) -> Champagne | M27: 1 | N27: 1
E28: =SUM(E7:E27) -> 2 | F28: =SUM(F5:F27) -> 6 | G28: =SUM(G5:G27) -> 6 | K28: =SUM(K7:K27) -> 0 | L28: =SUM(L5:L27) -> 4 | M28: =SUM(M5:M27) -> 8 | N28: =SUM(N5:N27) -> 8 | O28: =SUM(O5:O27) -> 2 | P28: =SUM(P5:P27) -> 2 | Q28: =SUM(Q5:Q27) -> 0 | R28: =SUM(R5:R27) -> 0 | S28: =SUM(S5:S27) -> 0
B29: Matin : | F29: =F28+G28 -> 12 | L29: =L28+M28 -> 12 | N29: =N28+O28+P28 -> 12
B30: Après-midi : | L30: =L28+'23 janvier 2019'!L47 -> 50 | M30: =M28+'23 janvier 2019'!M47 -> 52 | N30: =N28+'23 janvier 2019'!N47 -> 54 | O30: =O28+'23 janvier 2019'!O47 -> 11 | P30: =P28+'23 janvier 2019'!P47 -> 37 | Q30: =Q28+'23 janvier 2019'!Q47 -> 6 | R30: =R28+'23 janvier 2019'!R47 -> 0 | S30: =S28+'23 janvier 2019'!S47 -> 3
L31: =L29+'23 janvier 2019'!L48:M48 -> 102 | N31: =N29+'23 janvier 2019'!N48:P48 -> 102
B32: Nb | C32: GROUPES | D32: Nb | E32: Individus
A33: Hors ACCOLADE | B33: 2 | C33: =B33+'23 janvier 2019'!C50 -> 3 | D33: 14 | E33: =D33+'23 janvier 2019'!E50:F50 -> 21
A34: ACCOLADE | B34: 1 | C34: =B34+'23 janvier 2019'!C51 -> 5 | D34: 11 | E34: =D34+'23 janvier 2019'!E51:F51 -> 37

Sheet 06 fevrier 2019
B2: MERCREDI | C2: 43502 | M2: H&D | R2: 5
F3: SEXE
A4: CODE | B4: FAMILLE | C4: NOM | D4: Prénom | E4: ASSMAT | F4: F | G4: M | H4: naissance | I4: âge jour | J4: Commune | K4: TERRI TOIRE | L4: Matin | M4: AM | N4: JSP seul | O4: Emprunt seul | P4: JSP + emprunt | Q4: DEC | R4: Ponc tuel | S4: Ate lier
A5: F19-1 | B5: =VLOOKUP(A5,[1]!Tableau_cotisants,2,FALSE) -> DUFFAU_LAGAROSSE | C5: =VLOOKUP(A5,[1]!Tableau_cotisants,3,FALSE) -> GARCIA | D5: =VLOOKUP(A5,[1]!Tableau_cotisants,4,FALSE) -> Stéphanie | E5: =VLOOKUP(A5,[1]!Tableau_cotisants,5,FALSE) -> 0 | F5: =VLOOKUP(A5,[1]!Tableau_cotisants,6,FALSE) -> 1 | G5: =VLOOKUP(A5,[1]!Tableau_cotisants,7,FALSE) -> 0 | H5: =VLOOKUP(A5,[1]!Tableau_cotisants,8,FALSE) -> 30715 | I5: =DATEDIF(H5,Date_du_jour,"y") & " an(s) " & DATEDIF(H5,$C$2,"ym") & " mois et " & DATEDIF(H5,$C$2,"md") & " jour(s)" -> 35 an(s) 0 mois et 3 jour(s) | J5: =VLOOKUP(A5,[1]!Tableau_cotisants,10,FALSE) -> GENSAC LA PALLUE | K5: =VLOOKUP(A5,[1]!Tableau_cotisants,11,FALSE) -> Champagne | L5: 1 | P5: 1
A6: F19-2 | B6: =VLOOKUP(A6,[1]!Tableau_cotisants,2,FALSE) -> DUFFAU_LAGAROSSE | C6: =VLOOKUP(A6,[1]!Tableau_cotisants,3,FALSE) -> DUFFAU_LAGAROSSE | D6: =VLOOKUP(A6,[1]!Tableau_cotisants,4,FALSE) -> Jean | E6: =VLOOKUP(A6,[1]!Tableau_cotisants,5,FALSE) -> 0 | F6: =VLOOKUP(A6,[1]!Tableau_cotisants,6,FALSE) -> 0 | G6: =VLOOKUP(A6,[1]!Tableau_cotisants,7,FALSE) -> 1 | H6: =VLOOKUP(A6,[1]!Tableau_cotisants,8,FALSE) -> 41861 | I6: =DATEDIF(H6,Date_du_jour,"y") & " an(s) " & DATEDIF(H6,$C$2,"ym") & " mois et " & DATEDIF(H6,$C$2,"md") & " jour(s)" -> 4 an(s) 5 mois et 27 jour(s) | J6: =VLOOKUP(A6,[1]!Tableau_cotisants,10,FALSE) -> GENSAC LA PALLUE | K6: =VLOOKUP(A6,[1]!Tableau_cotisants,11,FALSE) -> Champagne | L6: 1 | P6: 1
A7: F19-3 | B7: =VLOOKUP(A7,[1]!Tableau_cotisants,2,FALSE) -> DUFFAU_LAGAROSSE | C7: =VLOOKUP(A7,[1]!Tableau_cotisants,3,FALSE) -> DUFFAU_LAGAROSSE | D7: =VLOOKUP(A7,[1]!Tableau_cotisants,4,FALSE) -> Clovis | E7: =VLOOKUP(A7,[1]!Tableau_cotisants,5,FALSE) -> 0 | F7: =VLOOKUP(A7,[1]!Tableau_cotisants,6,FALSE) -> 0 | G7: =VLOOKUP(A7,[1]!Tableau_cotisants,7,FALSE) -> 1 | H7: =VLOOKUP(A7,[1]!Tableau_cotisants,8,FALSE) -> 42693 | I7: =DATEDIF(H7,Date_du_jour,"y") & " an(s) " & DATEDIF(H7,$C$2,"ym") & " mois et " & DATEDIF(H7,$C$2,"md") & " jour(s)" -> 2 an(s) 2 mois et 18 jour(s) | J7: =VLOOKUP(A7,[1]!Tableau_cotisants,10,FALSE) -> GENSAC LA PALLUE | K7: =VLOOKUP(A7,[1]!Tableau_cotisants,11,FALSE) -> Champagne | L7: 1 | P7: 1
B10: GROUPE ACCOLADE PRIMAIRES 6 enfants et 1 anim
A16: G7-1 | B16: =VLOOKUP(A16,[1]!Tableau_cotisants,2,FALSE) -> G7-1 | C16: =VLOOKUP(A16,[1]!Tableau_cotisants,3,FALSE) -> BARRY | D16: =VLOOKUP(A16,[1]!Tableau_cotisants,4,FALSE) -> Oksana | E16: =VLOOKUP(A16,[1]!Tableau_cotisants,5,FALSE) -> 0 | F16: =VLOOKUP(A16,[1]!Tableau_cotisants,6,FALSE) -> 1 | G16: =VLOOKUP(A16,[1]!Tableau_cotisants,7,FALSE) -> 0 | H16: =VLOOKUP(A16,[1]!Tableau_cotisants,8,FALSE) -> 30016 | I16: =DATEDIF(H16,Date_du_jour,"y") & " an(s) " & DATEDIF(H16,$C$2,"ym") & " mois et " & DATEDIF(H16,$C$2,"md") & " jour(s)" -> 36 an(s) 11 mois et 0 jour(s) | J16: =VLOOKUP(A16,[1]!Tableau_cotisants,10,FALSE) -> Bourg Charente | K16: =VLOOKUP(A16,[1]!Tableau_cotisants,11,FALSE) -> Jarnac | M16: 1 | O16: 1
A17: G7-2 | B17: =VLOOKUP(A17,[1]!Tableau_cotisants,2,FALSE) -> G7-2 | C17: =VLOOKUP(A17,[1]!Tableau_cotisants,3,FALSE) -> BARRY | D17: =VLOOKUP(A17,[1]!Tableau_cotisants,4,FALSE) -> Anastasia | E17: =VLOOKUP(A17,[1]!Tableau_cotisants,5,FALSE) -> 0 | F17: =VLOOKUP(A17,[1]!Tableau_cotisants,6,FALSE) -> 1 | G17: =VLOOKUP(A17,[1]!Tableau_cotisants,7,FALSE) -> 0 | H17: =VLOOKUP(A17,[1]!Tableau_cotisants,8,FALSE) -> 42267 | I17: =DATEDIF(H17,Date_du_jour,"y") & " an(s) " & DATEDIF(H17,$C$2,"ym") & " mois et " & DATEDIF(H17,$C$2,"md") & " jour(s)" -> 3 an(s) 4 mois et 17 jour(s) | J17: =VLOOKUP(A17,[1]!Tableau_cotisants,10,FALSE) -> Bourg Charente | K17: =VLOOKUP(A17,[1]!Tableau_cotisants,11,FALSE) -> Jarnac | M17: 1 | O17: 1
B18: GROUPE AILAN 5 enfants et 1 anim (chloé)
B19: GROUPE IME FRAINEAU 6 enfants et 2 educs
A20: F57-1 | B20: =VLOOKUP(A20,[1]!Tableau_cotisants,2,FALSE) -> SUIRE/GIRAUD | C20: =VLOOKUP(A20,[1]!Tableau_cotisants,3,FALSE) -> GIRAUD | D20: =VLOOKUP(A20,[1]!Tableau_cotisants,4,FALSE) -> Julie | E20: =VLOOKUP(A20,[1]!Tableau_cotisants,5,FALSE) -> 0 | F20: =VLOOKUP(A20,[1]!Tableau_cotisants,6,FALSE) -> 1 | G20: =VLOOKUP(A20,[1]!Tableau_cotisants,7,FALSE) -> 0 | H20: =VLOOKUP(A20,[1]!Tableau_cotisants,8,FALSE) -> 31503 | I20: =DATEDIF(H20,Date_du_jour,"y") & " an(s) " & DATEDIF(H20,$C$2,"ym") & " mois et " & DATEDIF(H20,$C$2,"md") & " jour(s)" -> 32 an(s) 10 mois et 5 jour(s) | J20: =VLOOKUP(A20,[1]!Tableau_cotisants,10,FALSE) -> SEGONZAC | K20: =VLOOKUP(A20,[1]!Tableau_cotisants,11,FALSE) -> Champagne | M20: 1 | N20: 1
A21: F57-3 | B21: =VLOOKUP(A21,[1]!Tableau_cotisants,2,FALSE) -> SUIRE/GIRAUD | C21: =VLOOKUP(A21,[1]!Tableau_cotisants,3,FALSE) -> SUIRE | D21: =VLOOKUP(A21,[1]!Tableau_cotisants,4,FALSE) -> Romy | E21: =VLOOKUP(A21,[1]!Tableau_cotisants,5,FALSE) -> 0 | F21: =VLOOKUP(A21,[1]!Tableau_cotisants,6,FALSE) -> 1 | G21: =VLOOKUP(A21,[1]!Tableau_cotisants,7,FALSE) -> 0 | H21: =VLOOKUP(A21,[1]!Tableau_cotisants,8,FALSE) -> 41837 | I21: =DATEDIF(H21,Date_du_jour,"y") & " an(s) " & DATEDIF(H21,$C$2,"ym") & " mois et " & DATEDIF(H21,$C$2,"md") & " jour(s)" -> 4 an(s) 6 mois et 20 jour(s) | J21: =VLOOKUP(A21,[1]!Tableau_cotisants,10,FALSE) -> SEGONZAC | K21: =VLOOKUP(A21,[1]!Tableau_cotisants,11,FALSE) -> Champagne | M21: 1 | N21: 1
A22: F57-4 | B22: =VLOOKUP(A22,[1]!Tableau_cotisants,2,FALSE) -> SUIRE/GIRAUD | C22: =VLOOKUP(A22,[1]!Tableau_cotisants,3,FALSE) -> SUIRE | D22: =VLOOKUP(A22,[1]!Tableau_cotisants,4,FALSE) -> Giulia | E22: =VLOOKUP(A22,[1]!Tableau_cotisants,5,FALSE) -> 0 | F22: =VLOOKUP(A22,[1]!Tableau_cotisants,6,FALSE) -> 1 | G22: =VLOOKUP(A22,[1]!Tableau_cotisants,7,FALSE) -> 0 | H22: =VLOOKUP(A22,[1]!Tableau_cotisants,8,FALSE) -> 43038 | I22: =DATEDIF(H22,Date_du_jour,"y") & " an(s) " & DATEDIF(H22,$C$2,"ym") & " mois et " & DATEDIF(H22,$C$2,"md") & " jour(s)" -> 1 an(s) 3 mois et 7 jour(s) | J22: =VLOOKUP(A22,[1]!Tableau_cotisants,10,FALSE) -> SEGONZAC | K22: =VLOOKUP(A22,[1]!Tableau_cotisants,11,FALSE) -> Champagne | M22: 1 | N22: 1
A23: F6-1 | B23: =VLOOKUP(A23,[1]!Tableau_cotisants,2,FALSE) -> BOUBEE-SAUNIER | C23: =VLOOKUP(A23,[1]!Tableau_cotisants,3,FALSE) -> SAUNIER | D23: =VLOOKUP(A23,[1]!Tableau_cotisants,4,FALSE) -> Amélie | E23: =VLOOKUP(A23,[1]!Tableau_cotisants,5,FALSE) -> 0 | F23: =VLOOKUP(A23,[1]!Tableau_cotisants,6,FALSE) -> 1 | G23: =VLOOKUP(A23,[1]!Tableau_cotisants,7,FALSE) -> 0 | H23: =VLOOKUP(A23,[1]!Tableau_cotisants,8,FALSE) -> 31304 | I23: =DATEDIF(H23,Date_du_jour,"y") & " an(s) " & DATEDIF(H23,$C$2,"ym") & " mois et " & DATEDIF(H23,$C$2,"md") & " jour(s)" -> 33 an(s) 4 mois et 23 jour(s) | J23: =VLOOKUP(A23,[1]!Tableau_cotisants,10,FALSE) -> SEGONZAC | K23: =VLOOKUP(A23,[1]!Tableau_cotisants,11,FALSE) -> Champagne | M23: 1 | N23: 1
A24: F6-2 | B24: =VLOOKUP(A24,[1]!Tableau_cotisants,2,FALSE) -> BOUBEE-SAUNIER | C24: =VLOOKUP(A24,[1]!Tableau_cotisants,3,FALSE) -> BOUBEE-SAUNIER | D24: =VLOOKUP(A24,[1]!Tableau_cotisants,4,FALSE) -> Lisa | E24: =VLOOKUP(A24,[1]!Tableau_cotisants,5,FALSE) -> 0 | F24: =VLOOKUP(A24,[1]!Tableau_cotisants,6,FALSE) -> 1 | G24: =VLOOKUP(A24,[1]!Tableau_cotisants,7,FALSE) -> 0 | H24: =VLOOKUP(A24,[1]!Tableau_cotisants,8,FALSE) -> 41245 | I24: =DATEDIF(H24,Date_du_jour,"y") & " an(s) " & DATEDIF(H24,$C$2,"ym") & " mois et " & DATEDIF(H24,$C$2,"md") & " jour(s)" -> 6 an(s) 2 mois et 4 jour(s) | J24: =VLOOKUP(A24,[1]!Tableau_cotisants,10,FALSE) -> SEGONZAC | K24: =VLOOKUP(A24,[1]!Tableau_cotisants,11,FALSE) -> Champagne | M24: 1 | N24: 1
A25: F6-3 | B25: =VLOOKUP(A25,[1]!Tableau_cotisants,2,FALSE) -> BOUBEE-SAUNIER | C25: =VLOOKUP(A25,[1]!Tableau_cotisants,3,FALSE) -> BOUBEE-SAUNIER | D25: =VLOOKUP(A25,[1]!Tableau_cotisants,4,FALSE) -> Lucas | E25: =VLOOKUP(A25,[1]!Tableau_cotisants,5,FALSE) -> 0 | F25: =VLOOKUP(A25,[1]!Tableau_cotisants,6,FALSE) -> 0 | G25: =VLOOKUP(A25,[1]!Tableau_cotisants,7,FALSE) -> 1 | H25: =VLOOKUP(A25,[1]!Tableau_cotisants,8,FALSE) -> 42216 | I25: =DATEDIF(H25,Date_du_jour,"y") & " an(s) " & DATEDIF(H25,$C$2,"ym") & " mois et " & DATEDIF(H25,$C$2,"md") & " jour(s)" -> 3 an(s) 6 mois et 6 jour(s) | J25: =VLOOKUP(A25,[1]!Tableau_cotisants,10,FALSE) -> SEGONZAC | K25: =VLOOKUP(A25,[1]!Tableau_cotisants,11,FALSE) -> Champagne | M25: 1 | N25: 1
A26: F99-1 | B26: =VLOOKUP(A26,[1]!Tableau_cotisants,2,FALSE) -> MENON | C26: =VLOOKUP(A26,[1]!Tableau_cotisants,3,FALSE) -> MENON | D26: =VLOOKUP(A26,[1]!Tableau_cotisants,4,FALSE) -> Caroline | E26: =VLOOKUP(A26,[1]!Tableau_cotisants,5,FALSE) -> 0 | F26: =VLOOKUP(A26,[1]!Tableau_cotisants,6,FALSE) -> 1 | G26: =VLOOKUP(A26,[1]!Tableau_cotisants,7,FALSE) -> 0 | H26: =VLOOKUP(A26,[1]!Tableau_cotisants,8,FALSE) -> 29713 | I26: =DATEDIF(H26,Date_du_jour,"y") & " an(s) " & DATEDIF(H26,$C$2,"ym") & " mois et " & DATEDIF(H26,$C$2,"md") & " jour(s)" -> 37 an(s) 8 mois et 30 jour(s) | J26: =VLOOKUP(A26,[1]!Tableau_cotisants,10,FALSE) -> Genté | K26: =VLOOKUP(A26,[1]!Tableau_cotisants,11,FALSE) -> Champagne | M26: 1 | P26: 1
A27: F99-3 | B27: =VLOOKUP(A27,[1]!Tableau_cotisants,2,FALSE) -> MENON | C27: =VLOOKUP(A27,[1]!Tableau_cotisants,3,FALSE) -> MENON | D27: =VLOOKUP(A27,[1]!Tableau_cotisants,4,FALSE) -> Alienor | E27: =VLOOKUP(A27,[1]!Tableau_cotisants,5,FALSE) -> 0 | F27: =VLOOKUP(A27,[1]!Tableau_cotisants,6,FALSE) -> 1 | G27: =VLOOKUP(A27,[1]!Tableau_cotisants,7,FALSE) -> 0 | H27: =VLOOKUP(A27,[1]!Tableau_cotisants,8,FALSE) -> 38973 | I27: =DATEDIF(H27,Date_du_jour,"y") & " an(s) " & DATEDIF(H27,$C$2,"ym") & " mois et " & DATEDIF(H27,$C$2,"md") & " jour(s)" -> 12 an(s) 4 mois et 24 jour(s) | J27: =VLOOKUP(A27,[1]!Tableau_cotisants,10,FALSE) -> Genté | K27: =VLOOKUP(A27,[1]!Tableau_cotisants,11,FALSE) -> Champagne | M27: 1 | P27: 1
E28: =SUM(E7:E27) -> 0 | F28: =SUM(F5:F27) -> 10 | G28: =SUM(G5:G27) -> 3 | K28: =SUM(K7:K27) -> 0 | L28: =SUM(L5:L27) -> 3 | M28: =SUM(M5:M27) -> 10 | N28: =SUM(N5:N27) -> 6 | O28: =SUM(O5:O27) -> 2 | P28: =SUM(P5:P27) -> 5 | Q28: =SUM(Q5:Q27) -> 0 | R28: =SUM(R5:R27) -> 0 | S28: =SUM(S5:S27) -> 0
B29: Matin : | F29: =F28+G28 -> 13 | L29: =L28+M28 -> 13 | N29: =N28+O28+P28 -> 13
B30: Après-midi : | L30: =L28+'30 janvier 2019'!L30 -> 53 | M30: =M28+'30 janvier 2019'!M30 -> 62 | N30: =N28+'30 janvier 2019'!N30 -> 60 | O30: =O28+'30 janvier 2019'!O30 -> 13 | P30: =P28+'30 janvier 2019'!P30 -> 42 | Q30: =Q28+'30 janvier 2019'!Q30 -> 6 | R30: =R28+'30 janvier 2019'!R30 -> 0 | S30: =S28+'30 janvier 2019'!S30 -> 3
L31: =L29+'30 janvier 2019'!L31:M31 -> 115 | N31: =N29+'30 janvier 2019'!N31:P31 -> 115
B32: Nb | C32: GROUPES | D32: Nb | E32: Individus
A33: Hors ACCOLADE | B33: 2 | C33: =B33+'30 janvier 2019'!C33 -> 5 | D33: 14 | E33: =D33+'30 janvier 2019'!E33:F33 -> 35
A34: ACCOLADE | B34: 1 | C34: =B34+'30 janvier 2019'!C34 -> 6 | D34: 7 | E34: =D34+'30 janvier 2019'!E34:F34 -> 44
B35: =B34+B33 -> 3 | C35: =C34+C33 -> 11 | D35: =D34+D33 -> 21 | E35: =E34+E33 -> 79

Sheet 13 fevrier 2019
B2: MERCREDI | C2: 43509 | M2: Diane | R2: 6
F3: SEXE | M3: (Hélène malade)
A4: CODE | B4: FAMILLE | C4: NOM | D4: Prénom | E4: ASSMAT | F4: F | G4: M | H4: naissance | I4: âge jour | J4: Commune | K4: TERRI TOIRE | L4: Matin | M4: AM | N4: JSP seul | O4: Emprunt seul | P4: JSP + emprunt | Q4: DEC | R4: Ponc tuel | S4: Ate lier
A5: AM2-1 | B5: =VLOOKUP(A5,[1]!Tableau_cotisants,2,FALSE) -> GUYOT | C5: =VLOOKUP(A5,[1]!Tableau_cotisants,3,FALSE) -> GUYOT | D5: =VLOOKUP(A5,[1]!Tableau_cotisants,4,FALSE) -> Virginie | E5: =VLOOKUP(A5,[1]!Tableau_cotisants,5,FALSE) -> 1 | F5: =VLOOKUP(A5,[1]!Tableau_cotisants,6,FALSE) -> 1 | G5: =VLOOKUP(A5,[1]!Tableau_cotisants,7,FALSE) -> 0 | H5: =VLOOKUP(A5,[1]!Tableau_cotisants,8,FALSE) -> 30012 | I5: =DATEDIF(H5,Date_du_jour,"y") & " an(s) " & DATEDIF(H5,$C$2,"ym") & " mois et " & DATEDIF(H5,$C$2,"md") & " jour(s)" -> 36 an(s) 11 mois et 11 jour(s) | J5: =VLOOKUP(A5,[1]!Tableau_cotisants,10,FALSE) -> Chateaubernard | K5: =VLOOKUP(A5,[1]!Tableau_cotisants,11,FALSE) -> Cognac | L5: 1 | P5: 1
A6: AM2-8 | B6: =VLOOKUP(A6,[1]!Tableau_cotisants,2,FALSE) -> GUYOT | C6: =VLOOKUP(A6,[1]!Tableau_cotisants,3,FALSE) -> FARCY | D6: =VLOOKUP(A6,[1]!Tableau_cotisants,4,FALSE) -> Sacha | E6: =VLOOKUP(A6,[1]!Tableau_cotisants,5,FALSE) -> 1 | F6: =VLOOKUP(A6,[1]!Tableau_cotisants,6,FALSE) -> 0 | G6: =VLOOKUP(A6,[1]!Tableau_cotisants,7,FALSE) -> 1 | H6: =VLOOKUP(A6,[1]!Tableau_cotisants,8,FALSE) -> 43040 | I6: =DATEDIF(H6,Date_du_jour,"y") & " an(s) " & DATEDIF(H6,$C$2,"ym") & " mois et " & DATEDIF(H6,$C$2,"md") & " jour(s)" -> 1 an(s) 3 mois et 12 jour(s) | J6: =VLOOKUP(A6,[1]!Tableau_cotisants,10,FALSE) -> Chateaubernard | K6: =VLOOKUP(A6,[1]!Tableau_cotisants,11,FALSE) -> Cognac | L6: 1 | P6: 1
A7: AM2-10 | B7: =VLOOKUP(A7,[1]!Tableau_cotisants,2,FALSE) -> GUYOT | C7: =VLOOKUP(A7,[1]!Tableau_cotisants,3,FALSE) -> FORGEARD | D7: =VLOOKUP(A7,[1]!Tableau_cotisants,4,FALSE) -> Yanis | E7: =VLOOKUP(A7,[1]!Tableau_cotisants,5,FALSE) -> 1 | F7: =VLOOKUP(A7,[1]!Tableau_cotisants,6,FALSE) -> 0 | G7: =VLOOKUP(A7,[1]!Tableau_cotisants,7,FALSE) -> 1 | H7: =VLOOKUP(A7,[1]!Tableau_cotisants,8,FALSE) -> 43315 | I7: =DATEDIF(H7,Date_du_jour,"y") & " an(s) " & DATEDIF(H7,$C$2,"ym") & " mois et " & DATEDIF(H7,$C$2,"md") & " jour(s)" -> 0 an(s) 6 mois et 10 jour(s) | J7: =VLOOKUP(A7,[1]!Tableau_cotisants,10,FALSE) -> Chateaubernard | K7: =VLOOKUP(A7,[1]!Tableau_cotisants,11,FALSE) -> Cognac | L7: 1 | P7: 1
A8: AM2-11 | B8: =VLOOKUP(A8,[1]!Tableau_cotisants,2,FALSE) -> GUYOT | C8: =VLOOKUP(A8,[1]!Tableau_cotisants,3,FALSE) -> FRIOUX-GARCIA | D8: =VLOOKUP(A8,[1]!Tableau_cotisants,4,FALSE) -> Marius | E8: =VLOOKUP(A8,[1]!Tableau_cotisants,5,FALSE) -> 1 | F8: =VLOOKUP(A8,[1]!Tableau_cotisants,6,FALSE) -> 0 | G8: =VLOOKUP(A8,[1]!Tableau_cotisants,7,FALSE) -> 1 | H8: =VLOOKUP(A8,[1]!Tableau_cotisants,8,FALSE) -> 43395 | I8: =DATEDIF(H8,Date_du_jour,"y") & " an(s) " & DATEDIF(H8,$C$2,"ym") & " mois et " & DATEDIF(H8,$C$2,"md") & " jour(s)" -> 0 an(s) 3 mois et 22 jour(s) | J8: =VLOOKUP(A8,[1]!Tableau_cotisants,10,FALSE) -> Chateaubernard | K8: =VLOOKUP(A8,[1]!Tableau_cotisants,11,FALSE) -> Cognac | L8: 1 | P8: 1
A9: AM2-7 | B9: =VLOOKUP(A9,[1]!Tableau_cotisants,2,FALSE) -> GUYOT | C9: =VLOOKUP(A9,[1]!Tableau_cotisants,3,FALSE) -> ZIDI | D9: =VLOOKUP(A9,[1]!Tableau_cotisants,4,FALSE) -> Driss | E9: =VLOOKUP(A9,[1]!Tableau_cotisants,5,FALSE) -> 1 | F9: =VLOOKUP(A9,[1]!Tableau_cotisants,6,FALSE) -> 0 | G9: =VLOOKUP(A9,[1]!Tableau_cotisants,7,FALSE) -> 1 | H9: =VLOOKUP(A9,[1]!Tableau_cotisants,8,FALSE) -> 42935 | I9: =DATEDIF(H9,Date_du_jour,"y") & " an(s) " & DATEDIF(H9,$C$2,"ym") & " mois et " & DATEDIF(H9,$C$2,"md") & " jour(s)" -> 1 an(s) 6 mois et 25 jour(s) | J9: =VLOOKUP(A9,[1]!Tableau_cotisants,10,FALSE) -> Chateaubernard | K9: =VLOOKUP(A9,[1]!Tableau_cotisants,11,FALSE) -> Cognac | L9: 1 | P9: 1
A10: AM1-1 | B10: =VLOOKUP(A10,[1]!Tableau_cotisants,2,FALSE) -> COZIC | C10: =VLOOKUP(A10,[1]!Tableau_cotisants,3,FALSE) -> COZIC | D10: =VLOOKUP(A10,[1]!Tableau_cotisants,4,FALSE) -> Jennifer | E10: =VLOOKUP(A10,[1]!Tableau_cotisants,5,FALSE) -> 1 | F10: =VLOOKUP(A10,[1]!Tableau_cotisants,6,FALSE) -> 1 | G10: =VLOOKUP(A10,[1]!Tableau_cotisants,7,FALSE) -> 0 | H10: =VLOOKUP(A10,[1]!Tableau_cotisants,8,FALSE) -> 30554 | I10: =DATEDIF(H10,Date_du_jour,"y") & " an(s) " & DATEDIF(H10,$C$2,"ym") & " mois et " & DATEDIF(H10,$C$2,"md") & " jour(s)" -> 35 an(s) 5 mois et 18 jour(s) | J10: =VLOOKUP(A10,[1]!Tableau_cotisants,10,FALSE) -> Chateaubernard | K10: =VLOOKUP(A10,[1]!Tableau_cotisants,11,FALSE) -> Cognac | L10: 1 | P10: 1
A11: AM1-6 | B11: =VLOOKUP(A11,[1]!Tableau_cotisants,2,FALSE) -> COZIC | C11: =VLOOKUP(A11,[1]!Tableau_cotisants,3,FALSE) -> FRAISSINET COZIC | D11: =VLOOKUP(A11,[1]!Tableau_cotisants,4,FALSE) -> Kathleen | E11: =VLOOKUP(A11,[1]!Tableau_cotisants,5,FALSE) -> 1 | F11: =VLOOKUP(A11,[1]!Tableau_cotisants,6,FALSE) -> 1 | G11: =VLOOKUP(A11,[1]!Tableau_cotisants,7,FALSE) -> 0 | H11: =VLOOKUP(A11,[1]!Tableau_cotisants,8,FALSE) -> 39909 | I11: =DATEDIF(H11,Date_du_jour,"y") & " an(s) " & DATEDIF(H11,$C$2,"ym") & " mois et " & DATEDIF(H11,$C$2,"md") & " jour(s)" -> 9 an(s) 10 mois et 7 jour(s) | J11: =VLOOKUP(A11,[1]!Tableau_cotisants,10,FALSE) -> Chateaubernard | K11: =VLOOKUP(A11,[1]!Tableau_cotisants,11,FALSE) -> Cognac | L11: 1 | P11: 1
A12: AM1-7 | B12: =VLOOKUP(A12,[1]!Tableau_cotisants,2,FALSE) -> COZIC | C12: =VLOOKUP(A12,[1]!Tableau_cotisants,3,FALSE) -> FRAISSINET COZIC | D12: =VLOOKUP(A12,[1]!Tableau_cotisants,4,FALSE) -> Kendall | E12: =VLOOKUP(A12,[1]!Tableau_cotisants,5,FALSE) -> 1 | F12: =VLOOKUP(A12,[1]!Tableau_cotisants,6,FALSE) -> 0 | G12: =VLOOKUP(A12,[1]!Tableau_cotisants,7,FALSE) -> 1 | H12: =VLOOKUP(A12,[1]!Tableau_cotisants,8,FALSE) -> 40770 | I12: =DATEDIF(H12,Date_du_jour,"y") & " an(s) " & DATEDIF(H12,$C$2,"ym") & " mois et " & DATEDIF(H12,$C$2,"md") & " jour(s)" -> 7 an(s) 5 mois et 29 jour(s) | J12: =VLOOKUP(A12,[1]!Tableau_cotisants,10,FALSE) -> Chateaubernard | K12: =VLOOKUP(A12,[1]!Tableau_cotisants,11,FALSE) -> Cognac | L12: 1 | P12: 1
A13: AM1-10 | B13: =VLOOKUP(A13,[1]!Tableau_cotisants,2,FALSE) -> COZIC | C13: =VLOOKUP(A13,[1]!Tableau_cotisants,3,FALSE) -> TARDIEU | D13: =VLOOKUP(A13,[1]!Tableau_cotisants,4,FALSE) -> Gustave | E13: =VLOOKUP(A13,[1]!Tableau_cotisants,5,FALSE) -> 1 | F13: =VLOOKUP(A13,[1]!Tableau_cotisants,6,FALSE) -> 0 | G13: =VLOOKUP(A13,[1]!Tableau_cotisants,7,FALSE) -> 1 | H13: =VLOOKUP(A13,[1]!Tableau_cotisants,8,FALSE) -> 42917 | I13: =DATEDIF(H13,Date_du_jour,"y") & " an(s) " & DATEDIF(H13,$C$2,"ym") & " mois et " & DATEDIF(H13,$C$2,"md") & " jour(s)" -> 1 an(s) 7 mois et 12 jour(s) | J13: =VLOOKUP(A13,[1]!Tableau_cotisants,10,FALSE) -> Chateaubernard | K13: =VLOOKUP(A13,[1]!Tableau_cotisants,11,FALSE) -> Cognac | L13: 1 | P13: 1
A14: AM1-13 | B14: =VLOOKUP(A14,[1]!Tableau_cotisants,2,FALSE) -> COZIC | C14: =VLOOKUP(A14,[1]!Tableau_cotisants,3,FALSE) -> BARAUD | D14: =VLOOKUP(A14,[1]!Tableau_cotisants,4,FALSE) -> Théo | E14: =VLOOKUP(A14,[1]!Tableau_cotisants,5,FALSE) -> 1 | F14: =VLOOKUP(A14,[1]!Tableau_cotisants,6,FALSE) -> 0 | G14: =VLOOKUP(A14,[1]!Tableau_cotisants,7,FALSE) -> 1 | H14: =VLOOKUP(A14,[1]!Tableau_cotisants,8,FALSE) -> 43016 | I14: =DATEDIF(H14,Date_du_jour,"y") & " an(s) " & DATEDIF(H14,$C$2,"ym") & " mois et " & DATEDIF(H14,$C$2,"md") & " jour(s)" -> 1 an(s) 4 mois et 5 jour(s) | J14: =VLOOKUP(A14,[1]!Tableau_cotisants,10,FALSE) -> Chateaubernard | K14: =VLOOKUP(A14,[1]!Tableau_cotisants,11,FALSE) -> Cognac | L14: 1 | P14: 1
A15: AM1-11 | B15: =VLOOKUP(A15,[1]!Tableau_cotisants,2,FALSE) -> COZIC | C15: =VLOOKUP(A15,[1]!Tableau_cotisants,3,FALSE) -> VEZIN | D15: =VLOOKUP(A15,[1]!Tableau_cotisants,4,FALSE) -> Paulin | E15: =VLOOKUP(A15,[1]!Tableau_cotisants,5,FALSE) -> 1 | F15: =VLOOKUP(A15,[1]!Tableau_cotisants,6,FALSE) -> 0 | G15: =VLOOKUP(A15,[1]!Tableau_cotisants,7,FALSE) -> 1 | H15: =VLOOKUP(A15,[1]!Tableau_cotisants,8,FALSE) -> 43055 | I15: =DATEDIF(H15,Date_du_jour,"y") & " an(s) " & DATEDIF(H15,$C$2,"ym") & " mois et " & DATEDIF(H15,$C$2,"md") & " jour(s)" -> 1 an(s) 2 mois et 28 jour(s) | J15: =VLOOKUP(A15,[1]!Tableau_cotisants,10,FALSE) -> Chateaubernard | K15: =VLOOKUP(A15,[1]!Tableau_cotisants,11,FALSE) -> Cognac | L15: 1 | P15: 1
A16: F34-2 | B16: =VLOOKUP(A16,[1]!Tableau_cotisants,2,FALSE) -> EYMARD/LEHOUX | C16: =VLOOKUP(A16,[1]!Tableau_cotisants,3,FALSE) -> LEHOUX | D16: =VLOOKUP(A16,[1]!Tableau_cotisants,4,FALSE) -> Mélanie | E16: =VLOOKUP(A16,[1]!Tableau_cotisants,5,FALSE) -> 0 | F16: =VLOOKUP(A16,[1]!Tableau_cotisants,6,FALSE) -> 1 | G16: =VLOOKUP(A16,[1]!Tableau_cotisants,7,FALSE) -> 0 | H16: =VLOOKUP(A16,[1]!Tableau_cotisants,8,FALSE) -> 29361 | I16: =DATEDIF(H16,Date_du_jour,"y") & " an(s) " & DATEDIF(H16,$C$2,"ym") & " mois et " & DATEDIF(H16,$C$2,"md") & " jour(s)" -> 38 an(s) 8 mois et 24 jour(s) | J16: =VLOOKUP(A16,[1]!Tableau_cotisants,10,FALSE) -> SEGONZAC | K16: =VLOOKUP(A16,[1]!Tableau_cotisants,11,FALSE) -> Champagne | L16: 1 | N16: 1
A17: F34-6 | B17: =VLOOKUP(A17,[1]!Tableau_cotisants,2,FALSE) -> EYMARD/LEHOUX | C17: =VLOOKUP(A17,[1]!Tableau_cotisants,3,FALSE) -> EYMARD | D17: =VLOOKUP(A17,[1]!Tableau_cotisants,4,FALSE) -> Marius | E17: =VLOOKUP(A17,[1]!Tableau_cotisants,5,FALSE) -> 0 | F17: =VLOOKUP(A17,[1]!Tableau_cotisants,6,FALSE) -> 0 | G17: =VLOOKUP(A17,[1]!Tableau_cotisants,7,FALSE) -> 1 | H17: =VLOOKUP(A17,[1]!Tableau_cotisants,8,FALSE) -> 43320 | I17: =DATEDIF(H17,Date_du_jour,"y") & " an(s) " & DATEDIF(H17,$C$2,"ym") & " mois et " & DATEDIF(H17,$C$2,"md") & " jour(s)" -> 0 an(s) 6 mois et 5 jour(s) | J17: =VLOOKUP(A17,[1]!Tableau_cotisants,10,FALSE) -> SEGONZAC | K17: =VLOOKUP(A17,[1]!Tableau_cotisants,11,FALSE) -> Champagne | L17: 1 | N17: 1
B18: GROUPE JARNAC 6 enfants et 1 anim (Oriane)
B19: GROUPE ACCOLADE 10 enfants sans anim(malades)
A20: F35-2 | B20: =VLOOKUP(A20,[1]!Tableau_cotisants,2,FALSE) -> LOISEL/ROY | C20: =VLOOKUP(A20,[1]!Tableau_cotisants,3,FALSE) -> LOISEL | D20: =VLOOKUP(A20,[1]!Tableau_cotisants,4,FALSE) -> Romain | E20: =VLOOKUP(A20,[1]!Tableau_cotisants,5,FALSE) -> 0 | F20: =VLOOKUP(A20,[1]!Tableau_cotisants,6,FALSE) -> 0 | G20: =VLOOKUP(A20,[1]!Tableau_cotisants,7,FALSE) -> 1 | H20: =VLOOKUP(A20,[1]!Tableau_cotisants,8,FALSE) -> 29789 | I20: =DATEDIF(H20,Date_du_jour,"y") & " an(s) " & DATEDIF(H20,$C$2,"ym") & " mois et " & DATEDIF(H20,$C$2,"md") & " jour(s)" -> 37 an(s) 6 mois et 22 jour(s) | J20: =VLOOKUP(A20,[1]!Tableau_cotisants,10,FALSE) -> GENTE | K20: =VLOOKUP(A20,[1]!Tableau_cotisants,11,FALSE) -> Champagne | M20: 1 | O20: 1
A21: F19-1 | B21: =VLOOKUP(A21,[1]!Tableau_cotisants,2,FALSE) -> DUFFAU_LAGAROSSE | C21: =VLOOKUP(A21,[1]!Tableau_cotisants,3,FALSE) -> GARCIA | D21: =VLOOKUP(A21,[1]!Tableau_cotisants,4,FALSE) -> Stéphanie | E21: =VLOOKUP(A21,[1]!Tableau_cotisants,5,FALSE) -> 0 | F21: =VLOOKUP(A21,[1]!Tableau_cotisants,6,FALSE) -> 1 | G21: =VLOOKUP(A21,[1]!Tableau_cotisants,7,FALSE) -> 0 | H21: =VLOOKUP(A21,[1]!Tableau_cotisants,8,FALSE) -> 30715 | I21: =DATEDIF(H21,Date_du_jour,"y") & " an(s) " & DATEDIF(H21,$C$2,"ym") & " mois et " & DATEDIF(H21,$C$2,"md") & " jour(s)" -> 35 an(s) 0 mois et 10 jour(s) | J21: =VLOOKUP(A21,[1]!Tableau_cotisants,10,FALSE) -> GENSAC LA PALLUE | K21: =VLOOKUP(A21,[1]!Tableau_cotisants,11,FALSE) -> Champagne | M21: 1 | N21: 1
A22: F19-2 | B22: =VLOOKUP(A22,[1]!Tableau_cotisants,2,FALSE) -> DUFFAU_LAGAROSSE | C22: =VLOOKUP(A22,[1]!Tableau_cotisants,3,FALSE) -> DUFFAU_LAGAROSSE | D22: =VLOOKUP(A22,[1]!Tableau_cotisants,4,FALSE) -> Jean | E22: =VLOOKUP(A22,[1]!Tableau_cotisants,5,FALSE) -> 0 | F22: =VLOOKUP(A22,[1]!Tableau_cotisants,6,FALSE) -> 0 | G22: =VLOOKUP(A22,[1]!Tableau_cotisants,7,FALSE) -> 1 | H22: =VLOOKUP(A22,[1]!Tableau_cotisants,8,FALSE) -> 41861 | I22: =DATEDIF(H22,Date_du_jour,"y") & " an(s) " & DATEDIF(H22,$C$2,"ym") & " mois et " & DATEDIF(H22,$C$2,"md") & " jour(s)" -> 4 an(s) 6 mois et 3 jour(s) | J22: =VLOOKUP(A22,[1]!Tableau_cotisants,10,FALSE) -> GENSAC LA PALLUE | K22: =VLOOKUP(A22,[1]!Tableau_cotisants,11,FALSE) -> Champagne | M22: 1 | N22: 1
A23: F19-3 | B23: =VLOOKUP(A23,[1]!Tableau_cotisants,2,FALSE) -> DUFFAU_LAGAROSSE | C23: =VLOOKUP(A23,[1]!Tableau_cotisants,3,FALSE) -> DUFFAU_LAGAROSSE | D23: =VLOOKUP(A23,[1]!Tableau_cotisants,4,FALSE) -> Clovis | E23: =VLOOKUP(A23,[1]!Tableau_cotisants,5,FALSE) -> 0 | F23: =VLOOKUP(A23,[1]!Tableau_cotisants,6,FALSE) -> 0 | G23: =VLOOKUP(A23,[1]!Tableau_cotisants,7,FALSE) -> 1 | H23: =VLOOKUP(A23,[1]!Tableau_cotisants,8,FALSE) -> 42693 | I23: =DATEDIF(H23,Date_du_jour,"y") & " an(s) " & DATEDIF(H23,$C$2,"ym") & " mois et " & DATEDIF(H23,$C$2,"md") & " jour(s)" -> 2 an(s) 2 mois et 25 jour(s) | J23: =VLOOKUP(A23,[1]!Tableau_cotisants,10,FALSE) -> GENSAC LA PALLUE | K23: =VLOOKUP(A23,[1]!Tableau_cotisants,11,FALSE) -> Champagne | M23: 1 | N23: 1
A24: F19-4 | B24: =VLOOKUP(A24,[1]!Tableau_cotisants,2,FALSE) -> DUFFAU_LAGAROSSE | C24: =VLOOKUP(A24,[1]!Tableau_cotisants,3,FALSE) -> DUFFAU_LAGAROSSE | D24: =VLOOKUP(A24,[1]!Tableau_cotisants,4,FALSE) -> Corentin | E24: =VLOOKUP(A24,[1]!Tableau_cotisants,5,FALSE) -> 0 | F24: =VLOOKUP(A24,[1]!Tableau_cotisants,6,FALSE) -> 0 | G24: =VLOOKUP(A24,[1]!Tableau_cotisants,7,FALSE) -> 1 | H24: =VLOOKUP(A24,[1]!Tableau_cotisants,8,FALSE) -> 32564 | I24: =DATEDIF(H24,Date_du_jour,"y") & " an(s) " & DATEDIF(H24,$C$2,"ym") & " mois et " & DATEDIF(H24,$C$2,"md") & " jour(s)" -> 29 an(s) 11 mois et 19 jour(s) | J24: =VLOOKUP(A24,[1]!Tableau_cotisants,10,FALSE) -> GENSAC LA PALLUE | K24: =VLOOKUP(A24,[1]!Tableau_cotisants,11,FALSE) -> Champagne | M24: 1 | N24: 1
A25: F4-1 | B25: =VLOOKUP(A25,[1]!Tableau_cotisants,2,FALSE) -> SANSAUD/MOREAU | C25: =VLOOKUP(A25,[1]!Tableau_cotisants,3,FALSE) -> MOREAU | D25: =VLOOKUP(A25,[1]!Tableau_cotisants,4,FALSE) -> Emmanuelle | E25: =VLOOKUP(A25,[1]!Tableau_cotisants,5,FALSE) -> 0 | F25: =VLOOKUP(A25,[1]!Tableau_cotisants,6,FALSE) -> 1 | G25: =VLOOKUP(A25,[1]!Tableau_cotisants,7,FALSE) -> 0 | H25: =VLOOKUP(A25,[1]!Tableau_cotisants,8,FALSE) -> 29187 | I25: =DATEDIF(H25,Date_du_jour,"y") & " an(s) " & DATEDIF(H25,$C$2,"ym") & " mois et " & DATEDIF(H25,$C$2,"md") & " jour(s)" -> 39 an(s) 2 mois et 16 jour(s) | J25: =VLOOKUP(A25,[1]!Tableau_cotisants,10,FALSE) -> SEGONZAC | K25: =VLOOKUP(A25,[1]!Tableau_cotisants,11,FALSE) -> Champagne | M25: 1 | P25: 1
A26: F4-4 | B26: =VLOOKUP(A26,[1]!Tableau_cotisants,2,FALSE) -> SANSAUD/MOREAU | C26: =VLOOKUP(A26,[1]!Tableau_cotisants,3,FALSE) -> SANSAUD | D26: =VLOOKUP(A26,[1]!Tableau_cotisants,4,FALSE) -> Ethan | E26: =VLOOKUP(A26,[1]!Tableau_cotisants,5,FALSE) -> 0 | F26: =VLOOKUP(A26,[1]!Tableau_cotisants,6,FALSE) -> 0 | G26: =VLOOKUP(A26,[1]!Tableau_cotisants,7,FALSE) -> 1 | H26: =VLOOKUP(A26,[1]!Tableau_cotisants,8,FALSE) -> 41015 | I26: =DATEDIF(H26,Date_du_jour,"y") & " an(s) " & DATEDIF(H26,$C$2,"ym") & " mois et " & DATEDIF(H26,$C$2,"md") & " jour(s)" -> 6 an(s) 9 mois et 28 jour(s) | J26: =VLOOKUP(A26,[1]!Tableau_cotisants,10,FALSE) -> SEGONZAC | K26: =VLOOKUP(A26,[1]!Tableau_cotisants,11,FALSE) -> Champagne | M26: 1 | P26: 1
A27: F4-5 | B27: =VLOOKUP(A27,[1]!Tableau_cotisants,2,FALSE) -> SANSAUD/MOREAU | C27: =VLOOKUP(A27,[1]!Tableau_cotisants,3,FALSE) -> SANSAUD | D27: =VLOOKUP(A27,[1]!Tableau_cotisants,4,FALSE) -> Axel | E27: =VLOOKUP(A27,[1]!Tableau_cotisants,5,FALSE) -> 0 | F27: =VLOOKUP(A27,[1]!Tableau_cotisants,6,FALSE) -> 0 | G27: =VLOOKUP(A27,[1]!Tableau_cotisants,7,FALSE) -> 1 | H27: =VLOOKUP(A27,[1]!Tableau_cotisants,8,FALSE) -> 42407 | I27: =DATEDIF(H27,Date_du_jour,"y") & " an(s) " & DATEDIF(H27,$C$2,"ym") & " mois et " & DATEDIF(H27,$C$2,"md") & " jour(s)" -> 3 an(s) 0 mois et 6 jour(s) | J27: =VLOOKUP(A27,[1]!Tableau_cotisants,10,FALSE) -> SEGONZAC | K27: =VLOOKUP(A27,[1]!Tableau_cotisants,11,FALSE) -> Champagne | M27: 1 | P27: 1
E28: =SUM(E5:E27) -> 11 | F28: =SUM(F5:F27) -> 6 | G28: =SUM(G5:G27) -> 15 | K28: =SUM(K7:K27) -> 0 | L28: =SUM(L5:L27) -> 13 | M28: =SUM(M5:M27) -> 8 | N28: =SUM(N5:N27) -> 6 | O28: =SUM(O5:O27) -> 1 | P28: =SUM(P5:P27) -> 14 | Q28: =SUM(Q5:Q27) -> 0 | R28: =SUM(R5:R27) -> 0 | S28: =SUM(S5:S27) -> 0
B29: Matin : | F29: =F28+G28 -> 21 | L29: =L28+M28 -> 21 | N29: =N28+O28+P28 -> 21
B30: Après-midi : 17h->18h30 | L30: =L28+'06 fevrier 2019'!L30 -> 66 | M30: =M28+'06 fevrier 2019'!M30 -> 70 | N30: =N28+'06 fevrier 2019'!N30 -> 66 | O30: =O28+'06 fevrier 2019'!O30 -> 14 | P30: =P28+'06 fevrier 2019'!P30 -> 56 | Q30: =Q28+'06 fevrier 2019'!Q30 -> 6 | R30: =R28+'06 fevrier 2019'!R30 -> 0 | S30: =S28+'06 fevrier 2019'!S30 -> 3
L31: =L29+'06 fevrier 2019'!L31:M31 -> 136 | N31: =N29+'06 fevrier 2019'!N31:P31 -> 136
B32: Nb | C32: GROUPES | D32: Nb | E32: Individus
A33: Hors ACCOLADE | B33: 1 | C33: =B33+'06 fevrier 2019'!C33 -> 6 | D33: 7 | E33: =D33+'06 fevrier 2019'!E33:F33 -> 42
A34: ACCOLADE | B34: 1 | C34: =B34+'06 fevrier 2019'!C34 -> 7 | D34: 10 | E34: =D34+'06 fevrier 2019'!E34:F34 -> 54
B35: =B34+B33 -> 2 | C35: =C34+C33 -> 13 | D35: =D34+D33 -> 17 | E35: =E34+E33 -> 96

Sheet 06 mars 2019
B2: MERCREDI | C2: 43530 | M2: H & D | R2: 7
F3: SEXE
A4: CODE | B4: FAMILLE | C4: NOM | D4: Prénom | E4: ASSMAT | F4: F | G4: M | H4: naissance | I4: âge jour | J4: Commune | K4: TERRI TOIRE | L4: Matin | M4: AM | N4: JSP seul | O4: Emprunt seul | P4: JSP + emprunt | Q4: DEC | R4: Ponc tuel | S4: Ate lier
A5: AM4-1 | B5: =VLOOKUP(A5,[1]!Tableau_cotisants,2,FALSE) -> RÉGNIER | C5: =VLOOKUP(A5,[1]!Tableau_cotisants,3,FALSE) -> RÉGNIER | D5: =VLOOKUP(A5,[1]!Tableau_cotisants,4,FALSE) -> Laëtitia | E5: =VLOOKUP(A5,[1]!Tableau_cotisants,5,FALSE) -> 1 | F5: =VLOOKUP(A5,[1]!Tableau_cotisants,6,FALSE) -> 1 | G5: =VLOOKUP(A5,[1]!Tableau_cotisants,7,FALSE) -> 0 | H5: =VLOOKUP(A5,[1]!Tableau_cotisants,8,FALSE) -> 29180 | I5: =DATEDIF(H5,Date_du_jour,"y") & " an(s) " & DATEDIF(H5,$C$2,"ym") & " mois et " & DATEDIF(H5,$C$2,"md") & " jour(s)" -> 39 an(s) 3 mois et 13 jour(s) | J5: =VLOOKUP(A5,[1]!Tableau_cotisants,10,FALSE) -> COGNAC | K5: =VLOOKUP(A5,[1]!Tableau_cotisants,11,FALSE) -> Cognac | L5: 1 | N5: 1
A6: AM4-7 | B6: =VLOOKUP(A6,[1]!Tableau_cotisants,2,FALSE) -> RÉGNIER | C6: =VLOOKUP(A6,[1]!Tableau_cotisants,3,FALSE) -> VANDER-JENGT | D6: =VLOOKUP(A6,[1]!Tableau_cotisants,4,FALSE) -> Kilauéa | E6: =VLOOKUP(A6,[1]!Tableau_cotisants,5,FALSE) -> 1 | F6: =VLOOKUP(A6,[1]!Tableau_cotisants,6,FALSE) -> 0 | G6: =VLOOKUP(A6,[1]!Tableau_cotisants,7,FALSE) -> 1 | H6: =VLOOKUP(A6,[1]!Tableau_cotisants,8,FALSE) -> 42655 | I6: =DATEDIF(H6,Date_du_jour,"y") & " an(s) " & DATEDIF(H6,$C$2,"ym") & " mois et " & DATEDIF(H6,$C$2,"md") & " jour(s)" -> 2 an(s) 4 mois et 22 jour(s) | J6: =VLOOKUP(A6,[1]!Tableau_cotisants,10,FALSE) -> COGNAC | K6: =VLOOKUP(A6,[1]!Tableau_cotisants,11,FALSE) -> Cognac | L6: 1 | N6: 1
A7: AM1-1 | B7: =VLOOKUP(A7,[1]!Tableau_cotisants,2,FALSE) -> COZIC | C7: =VLOOKUP(A7,[1]!Tableau_cotisants,3,FALSE) -> COZIC | D7: =VLOOKUP(A7,[1]!Tableau_cotisants,4,FALSE) -> Jennifer | E7: =VLOOKUP(A7,[1]!Tableau_cotisants,5,FALSE) -> 1 | F7: =VLOOKUP(A7,[1]!Tableau_cotisants,6,FALSE) -> 1 | G7: =VLOOKUP(A7,[1]!Tableau_cotisants,7,FALSE) -> 0 | H7: =VLOOKUP(A7,[1]!Tableau_cotisants,8,FALSE) -> 30554 | I7: =DATEDIF(H7,Date_du_jour,"y") & " an(s) " & DATEDIF(H7,$C$2,"ym") & " mois et " & DATEDIF(H7,$C$2,"md") & " jour(s)" -> 35 an(s) 6 mois et 8 jour(s) | J7: =VLOOKUP(A7,[1]!Tableau_cotisants,10,FALSE) -> Chateaubernard | K7: =VLOOKUP(A7,[1]!Tableau_cotisants,11,FALSE) -> Cognac | L7: 1 | P7: 1
A8: AM1-6 | B8: =VLOOKUP(A8,[1]!Tableau_cotisants,2,FALSE) -> COZIC | C8: =VLOOKUP(A8,[1]!Tableau_cotisants,3,FALSE) -> FRAISSINET COZIC | D8: =VLOOKUP(A8,[1]!Tableau_cotisants,4,FALSE) -> Kathleen | E8: =VLOOKUP(A8,[1]!Tableau_cotisants,5,FALSE) -> 1 | F8: =VLOOKUP(A8,[1]!Tableau_cotisants,6,FALSE) -> 1 | G8: =VLOOKUP(A8,[1]!Tableau_cotisants,7,FALSE) -> 0 | H8: =VLOOKUP(A8,[1]!Tableau_cotisants,8,FALSE) -> 39909 | I8: =DATEDIF(H8,Date_du_jour,"y") & " an(s) " & DATEDIF(H8,$C$2,"ym") & " mois et " & DATEDIF(H8,$C$2,"md") & " jour(s)" -> 9 an(s) 11 mois et 0 jour(s) | J8: =VLOOKUP(A8,[1]!Tableau_cotisants,10,FALSE) -> Chateaubernard | K8: =VLOOKUP(A8,[1]!Tableau_cotisants,11,FALSE) -> Cognac | L8: 1 | P8: 1
A9: AM1-7 | B9: =VLOOKUP(A9,[1]!Tableau_cotisants,2,FALSE) -> COZIC | C9: =VLOOKUP(A9,[1]!Tableau_cotisants,3,FALSE) -> FRAISSINET COZIC | D9: =VLOOKUP(A9,[1]!Tableau_cotisants,4,FALSE) -> Kendall | E9: =VLOOKUP(A9,[1]!Tableau_cotisants,5,FALSE) -> 1 | F9: =VLOOKUP(A9,[1]!Tableau_cotisants,6,FALSE) -> 0 | G9: =VLOOKUP(A9,[1]!Tableau_cotisants,7,FALSE) -> 1 | H9: =VLOOKUP(A9,[1]!Tableau_cotisants,8,FALSE) -> 40770 | I9: =DATEDIF(H9,Date_du_jour,"y") & " an(s) " & DATEDIF(H9,$C$2,"ym") & " mois et " & DATEDIF(H9,$C$2,"md") & " jour(s)" -> 7 an(s) 6 mois et 19 jour(s) | J9: =VLOOKUP(A9,[1]!Tableau_cotisants,10,FALSE) -> Chateaubernard | K9: =VLOOKUP(A9,[1]!Tableau_cotisants,11,FALSE) -> Cognac | L9: 1 | P9: 1
A10: AM1-10 | B10: =VLOOKUP(A10,[1]!Tableau_cotisants,2,FALSE) -> COZIC | C10: =VLOOKUP(A10,[1]!Tableau_cotisants,3,FALSE) -> TARDIEU | D10: =VLOOKUP(A10,[1]!Tableau_cotisants,4,FALSE) -> Gustave | E10: =VLOOKUP(A10,[1]!Tableau_cotisants,5,FALSE) -> 1 | F10: =VLOOKUP(A10,[1]!Tableau_cotisants,6,FALSE) -> 0 | G10: =VLOOKUP(A10,[1]!Tableau_cotisants,7,FALSE) -> 1 | H10: =VLOOKUP(A10,[1]!Tableau_cotisants,8,FALSE) -> 42917 | I10: =DATEDIF(H10,Date_du_jour,"y") & " an(s) " & DATEDIF(H10,$C$2,"ym") & " mois et " & DATEDIF(H10,$C$2,"md") & " jour(s)" -> 1 an(s) 8 mois et 5 jour(s) | J10: =VLOOKUP(A10,[1]!Tableau_cotisants,10,FALSE) -> Chateaubernard | K10: =VLOOKUP(A10,[1]!Tableau_cotisants,11,FALSE) -> Cognac | L10: 1 | P10: 1
A11: AM1-13 | B11: =VLOOKUP(A11,[1]!Tableau_cotisants,2,FALSE) -> COZIC | C11: =VLOOKUP(A11,[1]!Tableau_cotisants,3,FALSE) -> BARAUD | D11: =VLOOKUP(A11,[1]!Tableau_cotisants,4,FALSE) -> Théo | E11: =VLOOKUP(A11,[1]!Tableau_cotisants,5,FALSE) -> 1 | F11: =VLOOKUP(A11,[1]!Tableau_cotisants,6,FALSE) -> 0 | G11: =VLOOKUP(A11,[1]!Tableau_cotisants,7,FALSE) -> 1 | H11: =VLOOKUP(A11,[1]!Tableau_cotisants,8,FALSE) -> 43016 | I11: =DATEDIF(H11,Date_du_jour,"y") & " an(s) " & DATEDIF(H11,$C$2,"ym") & " mois et " & DATEDIF(H11,$C$2,"md") & " jour(s)" -> 1 an(s) 4 mois et 26 jour(s) | J11: =VLOOKUP(A11,[1]!Tableau_cotisants,10,FALSE) -> Chateaubernard | K11: =VLOOKUP(A11,[1]!Tableau_cotisants,11,FALSE) -> Cognac | L11: 1 | P11: 1
A12: AM1-11 | B12: =VLOOKUP(A12,[1]!Tableau_cotisants,2,FALSE) -> COZIC | C12: =VLOOKUP(A12,[1]!Tableau_cotisants,3,FALSE) -> VEZIN | D12: =VLOOKUP(A12,[1]!Tableau_cotisants,4,FALSE) -> Paulin | E12: =VLOOKUP(A12,[1]!Tableau_cotisants,5,FALSE) -> 1 | F12: =VLOOKUP(A12,[1]!Tableau_cotisants,6,FALSE) -> 0 | G12: =VLOOKUP(A12,[1]!Tableau_cotisants,7,FALSE) -> 1 | H12: =VLOOKUP(A12,[1]!Tableau_cotisants,8,FALSE) -> 43055 | I12: =DATEDIF(H12,Date_du_jour,"y") & " an(s) " & DATEDIF(H12,$C$2,"ym") & " mois et " & DATEDIF(H12,$C$2,"md") & " jour(s)" -> 1 an(s) 3 mois et 18 jour(s) | J12: =VLOOKUP(A12,[1]!Tableau_cotisants,10,FALSE) -> Chateaubernard | K12: =VLOOKUP(A12,[1]!Tableau_cotisants,11,FALSE) -> Cognac | L12: 1 | P12: 1
A13: AM6-1 | B13: =VLOOKUP(A13,[1]!Tableau_cotisants,2,FALSE) -> DEGRIS | C13: =VLOOKUP(A13,[1]!Tableau_cotisants,3,FALSE) -> DEGRIS | D13: =VLOOKUP(A13,[1]!Tableau_cotisants,4,FALSE) -> Laura | E13: =VLOOKUP(A13,[1]!Tableau_cotisants,5,FALSE) -> 1 | F13: =VLOOKUP(A13,[1]!Tableau_cotisants,6,FALSE) -> 1 | G13: =VLOOKUP(A13,[1]!Tableau_cotisants,7,FALSE) -> 0 | H13: =VLOOKUP(A13,[1]!Tableau_cotisants,8,FALSE) -> 32556 | I13: =DATEDIF(H13,Date_du_jour,"y") & " an(s) " & DATEDIF(H13,$C$2,"ym") & " mois et " & DATEDIF(H13,$C$2,"md") & " jour(s)" -> 30 an(s) 0 mois et 17 jour(s) | J13: =VLOOKUP(A13,[1]!Tableau_cotisants,10,FALSE) -> SALLES D'ANGLES | K13: =VLOOKUP(A13,[1]!Tableau_cotisants,11,FALSE) -> Champagne | L13: 1 | N13: 1
A14: AM6-4 | B14: =VLOOKUP(A14,[1]!Tableau_cotisants,2,FALSE) -> DEGRIS | C14: =VLOOKUP(A14,[1]!Tableau_cotisants,3,FALSE) -> GUYOT | D14: =VLOOKUP(A14,[1]!Tableau_cotisants,4,FALSE) -> Léanne | E14: =VLOOKUP(A14,[1]!Tableau_cotisants,5,FALSE) -> 1 | F14: =VLOOKUP(A14,[1]!Tableau_cotisants,6,FALSE) -> 1 | G14: =VLOOKUP(A14,[1]!Tableau_cotisants,7,FALSE) -> 0 | H14: =VLOOKUP(A14,[1]!Tableau_cotisants,8,FALSE) -> 41202 | I14: =DATEDIF(H14,Date_du_jour,"y") & " an(s) " & DATEDIF(H14,$C$2,"ym") & " mois et " & DATEDIF(H14,$C$2,"md") & " jour(s)" -> 6 an(s) 4 mois et 14 jour(s) | J14: =VLOOKUP(A14,[1]!Tableau_cotisants,10,FALSE) -> SALLES D'ANGLES | K14: =VLOOKUP(A14,[1]!Tableau_cotisants,11,FALSE) -> Champagne | L14: 1 | N14: 1
A15: AM6-5 | B15: =VLOOKUP(A15,[1]!Tableau_cotisants,2,FALSE) -> DEGRIS | C15: =VLOOKUP(A15,[1]!Tableau_cotisants,3,FALSE) -> GUYOT | D15: =VLOOKUP(A15,[1]!Tableau_cotisants,4,FALSE) -> Nathan | E15: =VLOOKUP(A15,[1]!Tableau_cotisants,5,FALSE) -> 1 | F15: =VLOOKUP(A15,[1]!Tableau_cotisants,6,FALSE) -> 0 | G15: =VLOOKUP(A15,[1]!Tableau_cotisants,7,FALSE) -> 1 | H15: =VLOOKUP(A15,[1]!Tableau_cotisants,8,FALSE) -> 42354 | I15: =DATEDIF(H15,Date_du_jour,"y") & " an(s) " & DATEDIF(H15,$C$2,"ym") & " mois et " & DATEDIF(H15,$C$2,"md") & " jour(s)" -> 3 an(s) 2 mois et 18 jour(s) | J15: =VLOOKUP(A15,[1]!Tableau_cotisants,10,FALSE) -> SALLES D'ANGLES | K15: =VLOOKUP(A15,[1]!Tableau_cotisants,11,FALSE) -> Champagne | L15: 1 | N15: 1
A16: AM6-6 | B16: =VLOOKUP(A16,[1]!Tableau_cotisants,2,FALSE) -> DEGRIS | C16: =VLOOKUP(A16,[1]!Tableau_cotisants,3,FALSE) -> GABORIT TRIJOL | D16: =VLOOKUP(A16,[1]!Tableau_cotisants,4,FALSE) -> Marceau | E16: =VLOOKUP(A16,[1]!Tableau_cotisants,5,FALSE) -> 1 | F16: =VLOOKUP(A16,[1]!Tableau_cotisants,6,FALSE) -> 0 | G16: =VLOOKUP(A16,[1]!Tableau_cotisants,7,FALSE) -> 1 | H16: =VLOOKUP(A16,[1]!Tableau_cotisants,8,FALSE) -> 43002 | I16: =DATEDIF(H16,Date_du_jour,"y") & " an(s) " & DATEDIF(H16,$C$2,"ym") & " mois et " & DATEDIF(H16,$C$2,"md") & " jour(s)" -> 1 an(s) 5 mois et 10 jour(s) | J16: =VLOOKUP(A16,[1]!Tableau_cotisants,10,FALSE) -> SALLES D'ANGLES | K16: =VLOOKUP(A16,[1]!Tableau_cotisants,11,FALSE) -> Champagne | L16: 1 | N16: 1
A17: AM6-9 | B17: =VLOOKUP(A17,[1]!Tableau_cotisants,2,FALSE) -> DEGRIS | C17: =VLOOKUP(A17,[1]!Tableau_cotisants,3,FALSE) -> Enfant gardé | D17: =VLOOKUP(A17,[1]!Tableau_cotisants,4,FALSE) -> Aëlynn | E17: =VLOOKUP(A17,[1]!Tableau_cotisants,5,FALSE) -> 1 | F17: =VLOOKUP(A17,[1]!Tableau_cotisants,6,FALSE) -> 1 | G17: =VLOOKUP(A17,[1]!Tableau_cotisants,7,FALSE) -> 0 | H17: =VLOOKUP(A17,[1]!Tableau_cotisants,8,FALSE) -> 43313 | I17: =DATEDIF(H17,Date_du_jour,"y") & " an(s) " & DATEDIF(H17,$C$2,"ym") & " mois et " & DATEDIF(H17,$C$2,"md") & " jour(s)" -> 0 an(s) 7 mois et 5 jour(s) | J17: =VLOOKUP(A17,[1]!Tableau_cotisants,10,FALSE) -> SALLES D'ANGLES | K17: =VLOOKUP(A17,[1]!Tableau_cotisants,11,FALSE) -> Champagne | L17: 1 | N17: 1
A18: F93-1 | B18: =VLOOKUP(A18,[1]!Tableau_cotisants,2,FALSE) -> RENAUD/TALIERCO | C18: =VLOOKUP(A18,[1]!Tableau_cotisants,3,FALSE) -> TALIERCIO | D18: =VLOOKUP(A18,[1]!Tableau_cotisants,4,FALSE) -> Marie Line | E18: =VLOOKUP(A18,[1]!Tableau_cotisants,5,FALSE) -> 0 | F18: =VLOOKUP(A18,[1]!Tableau_cotisants,6,FALSE) -> 1 | G18: =VLOOKUP(A18,[1]!Tableau_cotisants,7,FALSE) -> 0 | H18: =VLOOKUP(A18,[1]!Tableau_cotisants,8,FALSE) -> 21821 | I18: =DATEDIF(H18,Date_du_jour,"y") & " an(s) " & DATEDIF(H18,$C$2,"ym") & " mois et " & DATEDIF(H18,$C$2,"md") & " jour(s)" -> 59 an(s) 5 mois et 6 jour(s) | J18: =VLOOKUP(A18,[1]!Tableau_cotisants,10,FALSE) -> Cognac | K18: =VLOOKUP(A18,[1]!Tableau_cotisants,11,FALSE) -> Cognac | L18: 1 | P18: 1
A19: F93-2 | B19: =VLOOKUP(A19,[1]!Tableau_cotisants,2,FALSE) -> RENAUD/TALIERCO | C19: =VLOOKUP(A19,[1]!Tableau_cotisants,3,FALSE) -> RENAUD | D19: =VLOOKUP(A19,[1]!Tableau_cotisants,4,FALSE) -> Jules | E19: =VLOOKUP(A19,[1]!Tableau_cotisants,5,FALSE) -> 0 | F19: =VLOOKUP(A19,[1]!Tableau_cotisants,6,FALSE) -> 0 | G19: =VLOOKUP(A19,[1]!Tableau_cotisants,7,FALSE) -> 1 | H19: =VLOOKUP(A19,[1]!Tableau_cotisants,8,FALSE) -> 42480 | I19: =DATEDIF(H19,Date_du_jour,"y") & " an(s) " & DATEDIF(H19,$C$2,"ym") & " mois et " & DATEDIF(H19,$C$2,"md") & " jour(s)" -> 2 an(s) 10 mois et 14 jour(s) | J19: =VLOOKUP(A19,[1]!Tableau_cotisants,10,FALSE) -> Cognac | K19: =VLOOKUP(A19,[1]!Tableau_cotisants,11,FALSE) -> Cognac | L19: 1 | P19: 1
A20: F9-1 | B20: =VLOOKUP(A20,[1]!Tableau_cotisants,2,FALSE) -> SAMOYEAU/RAPHOZ | C20: =VLOOKUP(A20,[1]!Tableau_cotisants,3,FALSE) -> SAMOYEAU | D20: =VLOOKUP(A20,[1]!Tableau_cotisants,4,FALSE) -> Romain | E20: =VLOOKUP(A20,[1]!Tableau_cotisants,5,FALSE) -> 0 | F20: =VLOOKUP(A20,[1]!Tableau_cotisants,6,FALSE) -> 0 | G20: =VLOOKUP(A20,[1]!Tableau_cotisants,7,FALSE) -> 1 | H20: =VLOOKUP(A20,[1]!Tableau_cotisants,8,FALSE) -> 30741 | I20: =DATEDIF(H20,Date_du_jour,"y") & " an(s) " & DATEDIF(H20,$C$2,"ym") & " mois et " & DATEDIF(H20,$C$2,"md") & " jour(s)" -> 35 an(s) 0 mois et 5 jour(s) | J20: =VLOOKUP(A20,[1]!Tableau_cotisants,10,FALSE) -> SEGONZAC | K20: =VLOOKUP(A20,[1]!Tableau_cotisants,11,FALSE) -> Champagne | L20: 1 | P20: 1
A21: F9-3 | B21: =VLOOKUP(A21,[1]!Tableau_cotisants,2,FALSE) -> SAMOYEAU/RAPHOZ | C21: =VLOOKUP(A21,[1]!Tableau_cotisants,3,FALSE) -> SAMOYEAU | D21: =VLOOKUP(A21,[1]!Tableau_cotisants,4,FALSE) -> Thomas | E21: =VLOOKUP(A21,[1]!Tableau_cotisants,5,FALSE) -> 0 | F21: =VLOOKUP(A21,[1]!Tableau_cotisants,6,FALSE) -> 0 | G21: =VLOOKUP(A21,[1]!Tableau_cotisants,7,FALSE) -> 1 | H21: =VLOOKUP(A21,[1]!Tableau_cotisants,8,FALSE) -> 41862 | I21: =DATEDIF(H21,Date_du_jour,"y") & " an(s) " & DATEDIF(H21,$C$2,"ym") & " mois et " & DATEDIF(H21,$C$2,"md") & " jour(s)" -> 4 an(s) 6 mois et 23 jour(s) | J21: =VLOOKUP(A21,[1]!Tableau_cotisants,10,FALSE) -> SEGONZAC | K21: =VLOOKUP(A21,[1]!Tableau_cotisants,11,FALSE) -> Champagne | L21: 1 | P21: 1
A22: F75-1 | B22: =VLOOKUP(A22,[1]!Tableau_cotisants,2,FALSE) -> BETTI JOSEPH | C22: =VLOOKUP(A22,[1]!Tableau_cotisants,3,FALSE) -> BETTI | D22: =VLOOKUP(A22,[1]!Tableau_cotisants,4,FALSE) -> Sandra | E22: =VLOOKUP(A22,[1]!Tableau_cotisants,5,FALSE) -> 0 | F22: =VLOOKUP(A22,[1]!Tableau_cotisants,6,FALSE) -> 1 | G22: =VLOOKUP(A22,[1]!Tableau_cotisants,7,FALSE) -> 0 | H22: =VLOOKUP(A22,[1]!Tableau_cotisants,8,FALSE) -> 30077 | I22: =DATEDIF(H22,Date_du_jour,"y") & " an(s) " & DATEDIF(H22,$C$2,"ym") & " mois et " & DATEDIF(H22,$C$2,"md") & " jour(s)" -> 36 an(s) 10 mois et 0 jour(s) | J22: =VLOOKUP(A22,[1]!Tableau_cotisants,10,FALSE) -> Lagarde sur le Né | K22: =VLOOKUP(A22,[1]!Tableau_cotisants,11,FALSE) -> Hors_CDA | M22: 1 | P22: 1
A23: F75-2 | B23: =VLOOKUP(A23,[1]!Tableau_cotisants,2,FALSE) -> BETTI JOSEPH | C23: =VLOOKUP(A23,[1]!Tableau_cotisants,3,FALSE) -> BETTI JOSEPH | D23: =VLOOKUP(A23,[1]!Tableau_cotisants,4,FALSE) -> Milan | E23: =VLOOKUP(A23,[1]!Tableau_cotisants,5,FALSE) -> 0 | F23: =VLOOKUP(A23,[1]!Tableau_cotisants,6,FALSE) -> 0 | G23: =VLOOKUP(A23,[1]!Tableau_cotisants,7,FALSE) -> 1 | H23: =VLOOKUP(A23,[1]!Tableau_cotisants,8,FALSE) -> 39998 | I23: =DATEDIF(H23,Date_du_jour,"y") & " an(s) " & DATEDIF(H23,$C$2,"ym") & " mois et " & DATEDIF(H23,$C$2,"md") & " jour(s)" -> 9 an(s) 8 mois et 2 jour(s) | J23: =VLOOKUP(A23,[1]!Tableau_cotisants,10,FALSE) -> Lagarde sur le Né | K23: =VLOOKUP(A23,[1]!Tableau_cotisants,11,FALSE) -> Hors_CDA | M23: 1 | P23: 1
A24: F75-3 | B24: =VLOOKUP(A24,[1]!Tableau_cotisants,2,FALSE) -> BETTI JOSEPH | C24: =VLOOKUP(A24,[1]!Tableau_cotisants,3,FALSE) -> BETTI JOSEPH | D24: =VLOOKUP(A24,[1]!Tableau_cotisants,4,FALSE) -> Tilia | E24: =VLOOKUP(A24,[1]!Tableau_cotisants,5,FALSE) -> 0 | F24: =VLOOKUP(A24,[1]!Tableau_cotisants,6,FALSE) -> 1 | G24: =VLOOKUP(A24,[1]!Tableau_cotisants,7,FALSE) -> 0 | H24: =VLOOKUP(A24,[1]!Tableau_cotisants,8,FALSE) -> 42247 | I24: =DATEDIF(H24,Date_du_jour,"y") & " an(s) " & DATEDIF(H24,$C$2,"ym") & " mois et " & DATEDIF(H24,$C$2,"md") & " jour(s)" -> 3 an(s) 6 mois et 3 jour(s) | J24: =VLOOKUP(A24,[1]!Tableau_cotisants,10,FALSE) -> Lagarde sur le Né | K24: =VLOOKUP(A24,[1]!Tableau_cotisants,11,FALSE) -> Hors_CDA | M24: 1 | P24: 1
B25: Geneau | C25: Geneau | D25: Magali | F25: 1 | H25: 26837 | I25: =DATEDIF(H25,Date_du_jour,"y") & " an(s) " & DATEDIF(H25,$C$2,"ym") & " mois et " & DATEDIF(H25,$C$2,"md") & " jour(s)" -> 45 an(s) 8 mois et 12 jour(s) | J25: Saint même | K25: Jarnac | M25: 1 | N25: 1 | R25: 1
B26: Geneau | C26: Geneau | D26: Louise | F26: 1 | H26: 40856 | I26: =DATEDIF(H26,Date_du_jour,"y") & " an(s) " & DATEDIF(H26,$C$2,"ym") & " mois et " & DATEDIF(H26,$C$2,"md") & " jour(s)" -> 7 an(s) 3 mois et 25 jour(s) | J26: Saint même | K26: Jarnac | M26: 1 | N26: 1 | R26: 1
A27: F123-2 | B27: =VLOOKUP(A27,[1]!Tableau_cotisants,2,FALSE) -> LACHAUME/MERCIER | C27: =VLOOKUP(A27,[1]!Tableau_cotisants,3,FALSE) -> LACHAUME | D27: =VLOOKUP(A27,[1]!Tableau_cotisants,4,FALSE) -> Charline | E27: =VLOOKUP(A27,[1]!Tableau_cotisants,5,FALSE) -> 0 | F27: =VLOOKUP(A27,[1]!Tableau_cotisants,6,FALSE) -> 1 | G27: =VLOOKUP(A27,[1]!Tableau_cotisants,7,FALSE) -> 0 | H27: =VLOOKUP(A27,[1]!Tableau_cotisants,8,FALSE) -> 32066 | I27: =DATEDIF(H27,Date_du_jour,"y") & " an(s) " & DATEDIF(H27,$C$2,"ym") & " mois et " & DATEDIF(H27,$C$2,"md") & " jour(s)" -> 31 an(s) 4 mois et 18 jour(s) | J27: =VLOOKUP(A27,[1]!Tableau_cotisants,10,FALSE) -> Boutiers | K27: =VLOOKUP(A27,[1]!Tableau_cotisants,11,FALSE) -> Cognac | M27: 1 | O27: 1
A28: F123-3 | B28: =VLOOKUP(A28,[1]!Tableau_cotisants,2,FALSE) -> LACHAUME/MERCIER | C28: =VLOOKUP(A28,[1]!Tableau_cotisants,3,FALSE) -> LACHAUME | D28: =VLOOKUP(A28,[1]!Tableau_cotisants,4,FALSE) -> Valentin | E28: =VLOOKUP(A28,[1]!Tableau_cotisants,5,FALSE) -> 0 | F28: =VLOOKUP(A28,[1]!Tableau_cotisants,6,FALSE) -> 0 | G28: =VLOOKUP(A28,[1]!Tableau_cotisants,7,FALSE) -> 1 | H28: =VLOOKUP(A28,[1]!Tableau_cotisants,8,FALSE) -> 42403 | I28: =DATEDIF(H28,Date_du_jour,"y") & " an(s) " & DATEDIF(H28,$C$2,"ym") & " mois et " & DATEDIF(H28,$C$2,"md") & " jour(s)" -> 3 an(s) 1 mois et 3 jour(s) | J28: =VLOOKUP(A28,[1]!Tableau_cotisants,10,FALSE) -> Boutiers | K28: =VLOOKUP(A28,[1]!Tableau_cotisants,11,FALSE) -> Cognac | M28: 1 | O28: 1
A29: F70-2 | B29: =VLOOKUP(A29,[1]!Tableau_cotisants,2,FALSE) -> DEFARGE | C29: =VLOOKUP(A29,[1]!Tableau_cotisants,3,FALSE) -> DEFARGE | D29: =VLOOKUP(A29,[1]!Tableau_cotisants,4,FALSE) -> Maxime | E29: =VLOOKUP(A29,[1]!Tableau_cotisants,5,FALSE) -> 0 | F29: =VLOOKUP(A29,[1]!Tableau_cotisants,6,FALSE) -> 0 | G29: =VLOOKUP(A29,[1]!Tableau_cotisants,7,FALSE) -> 1 | H29: =VLOOKUP(A29,[1]!Tableau_cotisants,8,FALSE) -> 39328 | I29: =DATEDIF(H29,Date_du_jour,"y") & " an(s) " & DATEDIF(H29,$C$2,"ym") & " mois et " & DATEDIF(H29,$C$2,"md") & " jour(s)" -> 11 an(s) 6 mois et 3 jour(s) | J29: =VLOOKUP(A29,[1]!Tableau_cotisants,10,FALSE) -> Cognac | K29: =VLOOKUP(A29,[1]!Tableau_cotisants,11,FALSE) -> Cognac | M29: 1 | P29: 1
A30: F70-3 | B30: =VLOOKUP(A30,[1]!Tableau_cotisants,2,FALSE) -> DEFARGE | C30: =VLOOKUP(A30,[1]!Tableau_cotisants,3,FALSE) -> DEFARGE | D30: =VLOOKUP(A30,[1]!Tableau_cotisants,4,FALSE) -> Coraline | E30: =VLOOKUP(A30,[1]!Tableau_cotisants,5,FALSE) -> 0 | F30: =VLOOKUP(A30,[1]!Tableau_cotisants,6,FALSE) -> 1 | G30: =VLOOKUP(A30,[1]!Tableau_cotisants,7,FALSE) -> 0 | H30: =VLOOKUP(A30,[1]!Tableau_cotisants,8,FALSE) -> 41450 | I30: =DATEDIF(H30,Date_du_jour,"y") & " an(s) " & DATEDIF(H30,$C$2,"ym") & " mois et " & DATEDIF(H30,$C$2,"md") & " jour(s)" -> 5 an(s) 8 mois et 9 jour(s) | J30: =VLOOKUP(A30,[1]!Tableau_cotisants,10,FALSE) -> Cognac | K30: =VLOOKUP(A30,[1]!Tableau_cotisants,11,FALSE) -> Cognac | M30: 1 | P30: 1
A31: F70-4 | B31: =VLOOKUP(A31,[1]!Tableau_cotisants,2,FALSE) -> DEFARGE | C31: =VLOOKUP(A31,[1]!Tableau_cotisants,3,FALSE) -> DEFARGE | D31: =VLOOKUP(A31,[1]!Tableau_cotisants,4,FALSE) -> Robin | E31: =VLOOKUP(A31,[1]!Tableau_cotisants,5,FALSE) -> 0 | F31: =VLOOKUP(A31,[1]!Tableau_cotisants,6,FALSE) -> 0 | G31: =VLOOKUP(A31,[1]!Tableau_cotisants,7,FALSE) -> 1 | H31: =VLOOKUP(A31,[1]!Tableau_cotisants,8,FALSE) -> 42172 | I31: =DATEDIF(H31,Date_du_jour,"y") & " an(s) " & DATEDIF(H31,$C$2,"ym") & " mois et " & DATEDIF(H31,$C$2,"md") & " jour(s)" -> 3 an(s) 8 mois et 17 jour(s) | J31: =VLOOKUP(A31,[1]!Tableau_cotisants,10,FALSE) -> Cognac | K31: =VLOOKUP(A31,[1]!Tableau_cotisants,11,FALSE) -> Cognac | M31: 1 | P31: 1
E35: =SUM(E5:E34) -> 13 | F35: =SUM(F5:F34) -> 13 | G35: =SUM(G5:G34) -> 14 | K35: =SUM(K7:K34) -> 0 | L35: =SUM(L5:L34) -> 17 | M35: =SUM(M5:M34) -> 10 | N35: =SUM(N5:N34) -> 9 | O35: =SUM(O5:O34) -> 2 | P35: =SUM(P5:P34) -> 16 | Q35: =SUM(Q5:Q34) -> 0 | R35: =SUM(R5:R34) -> 2 | S35: =SUM(S5:S34) -> 0
B36: Matin : | F36: =F35+G35 -> 27 | L36: =L35+M35 -> 27 | N36: =N35+O35+P35 -> 27
B37: Après-midi : | L37: =L35+'13 fevrier 2019'!L30 -> 83 | M37: =M35+'13 fevrier 2019'!M30 -> 80 | N37: =N35+'13 fevrier 2019'!N30 -> 75 | O37: =O35+'13 fevrier 2019'!O30 -> 16 | P37: =P35+'13 fevrier 2019'!P30 -> 72 | Q37: =Q35+'13 fevrier 2019'!Q30 -> 6 | R37: =R35+'13 fevrier 2019'!R30 -> 2 | S37: =S35+'13 fevrier 2019'!S30 -> 3
L38: =L36+'13 fevrier 2019'!L31:M31 -> 163 | N38: =N36+'13 fevrier 2019'!N31:P31 -> 163
B39: Nb | C39: GROUPES | D39: Nb | E39: Individus
A40: Hors ACCOLADE | C40: =B40+'13 fevrier 2019'!C33 -> 6 | E40: =D40+'13 fevrier 2019'!E33:F33 -> 42
A41: ACCOLADE | C41: =B41+'13 fevrier 2019'!C34 -> 7 | E41: =D41+'13 fevrier 2019'!E34:F34 -> 54
B42: =B41+B40 -> 0 | C42: =C41+C40 -> 13 | D42: =D41+D40 -> 0 | E42: =E41+E40 -> 96

Sheet 13 mars 2019
B2: MERCREDI | C2: 43537 | M2: H & D | R2: 8
F3: SEXE
A4: CODE | B4: FAMILLE | C4: NOM | D4: Prénom | E4: ASSMAT | F4: F | G4: M | H4: naissance | I4: âge jour | J4: Commune | K4: TERRI TOIRE | L4: Matin | M4: AM | N4: JSP seul | O4: Emprunt seul | P4: JSP + emprunt | Q4: DEC | R4: Ponc tuel | S4: Ate lier
A5: F111-1 | B5: =VLOOKUP(A5,[1]!Tableau_cotisants,2,FALSE) -> LIENART DELABEYE | C5: =VLOOKUP(A5,[1]!Tableau_cotisants,3,FALSE) -> LIENART DELABEYE | D5: =VLOOKUP(A5,[1]!Tableau_cotisants,4,FALSE) -> Brigitte | E5: =VLOOKUP(A5,[1]!Tableau_cotisants,5,FALSE) -> 0 | F5: =VLOOKUP(A5,[1]!Tableau_cotisants,6,FALSE) -> 1 | G5: =VLOOKUP(A5,[1]!Tableau_cotisants,7,FALSE) -> 0 | H5: =VLOOKUP(A5,[1]!Tableau_cotisants,8,FALSE) -> 20885 | I5: =DATEDIF(H5,Date_du_jour,"y") & " an(s) " & DATEDIF(H5,$C$2,"ym") & " mois et " & DATEDIF(H5,$C$2,"md") & " jour(s)" -> 62 an(s) 0 mois et 7 jour(s) | J5: =VLOOKUP(A5,[1]!Tableau_cotisants,10,FALSE) -> ANGEAC CHAMPAGNE | K5: =VLOOKUP(A5,[1]!Tableau_cotisants,11,FALSE) -> Champagne | L5: 1 | N5: 1
A6: F111-3 | B6: =VLOOKUP(A6,[1]!Tableau_cotisants,2,FALSE) -> LIENART DELABEYE | C6: =VLOOKUP(A6,[1]!Tableau_cotisants,3,FALSE) -> LIENART | D6: =VLOOKUP(A6,[1]!Tableau_cotisants,4,FALSE) -> Sacha | E6: =VLOOKUP(A6,[1]!Tableau_cotisants,5,FALSE) -> 0 | F6: =VLOOKUP(A6,[1]!Tableau_cotisants,6,FALSE) -> 0 | G6: =VLOOKUP(A6,[1]!Tableau_cotisants,7,FALSE) -> 1 | H6: =VLOOKUP(A6,[1]!Tableau_cotisants,8,FALSE) -> 42830 | I6: =DATEDIF(H6,Date_du_jour,"y") & " an(s) " & DATEDIF(H6,$C$2,"ym") & " mois et " & DATEDIF(H6,$C$2,"md") & " jour(s)" -> 1 an(s) 11 mois et 8 jour(s) | J6: =VLOOKUP(A6,[1]!Tableau_cotisants,10,FALSE) -> ANGEAC CHAMPAGNE | K6: =VLOOKUP(A6,[1]!Tableau_cotisants,11,FALSE) -> Champagne | L6: 1 | N6: 1
B12: GROUPE AILAN 1 anim et 6 enfants
B17: GROUPE accolade non reservé 9 enfants 1 anim
B18: GROUPE jarnac 1 anim 6 E
A19: F109-1 | B19: =VLOOKUP(A19,[1]!Tableau_cotisants,2,FALSE) -> Barett De Coutures | C19: =VLOOKUP(A19,[1]!Tableau_cotisants,3,FALSE) -> Barett De Coutures | D19: =VLOOKUP(A19,[1]!Tableau_cotisants,4,FALSE) -> Sophie | E19: =VLOOKUP(A19,[1]!Tableau_cotisants,5,FALSE) -> 0 | F19: =VLOOKUP(A19,[1]!Tableau_cotisants,6,FALSE) -> 1 | G19: =VLOOKUP(A19,[1]!Tableau_cotisants,7,FALSE) -> 0 | H19: =VLOOKUP(A19,[1]!Tableau_cotisants,8,FALSE) -> 26736 | I19: =DATEDIF(H19,Date_du_jour,"y") & " an(s) " & DATEDIF(H19,$C$2,"ym") & " mois et " & DATEDIF(H19,$C$2,"md") & " jour(s)" -> 46 an(s) 0 mois et 0 jour(s) | J19: =VLOOKUP(A19,[1]!Tableau_cotisants,10,FALSE) -> Bourg Charente | K19: =VLOOKUP(A19,[1]!Tableau_cotisants,11,FALSE) -> Jarnac | M19: 1 | N19: 1
A20: F109-2 | B20: =VLOOKUP(A20,[1]!Tableau_cotisants,2,FALSE) -> Barett De Coutures | C20: =VLOOKUP(A20,[1]!Tableau_cotisants,3,FALSE) -> Barett De Coutures | D20: =VLOOKUP(A20,[1]!Tableau_cotisants,4,FALSE) -> Louise | E20: =VLOOKUP(A20,[1]!Tableau_cotisants,5,FALSE) -> 0 | F20: =VLOOKUP(A20,[1]!Tableau_cotisants,6,FALSE) -> 1 | G20: =VLOOKUP(A20,[1]!Tableau_cotisants,7,FALSE) -> 0 | H20: =VLOOKUP(A20,[1]!Tableau_cotisants,8,FALSE) -> 41504 | I20: =DATEDIF(H20,Date_du_jour,"y") & " an(s) " & DATEDIF(H20,$C$2,"ym") & " mois et " & DATEDIF(H20,$C$2,"md") & " jour(s)" -> 5 an(s) 6 mois et 23 jour(s) | J20: =VLOOKUP(A20,[1]!Tableau_cotisants,10,FALSE) -> Bourg Charente | K20: =VLOOKUP(A20,[1]!Tableau_cotisants,11,FALSE) -> Jarnac | M20: 1 | N20: 1
A21: F99-1 | B21: =VLOOKUP(A21,[1]!Tableau_cotisants,2,FALSE) -> MENON | C21: =VLOOKUP(A21,[1]!Tableau_cotisants,3,FALSE) -> MENON | D21: =VLOOKUP(A21,[1]!Tableau_cotisants,4,FALSE) -> Caroline | E21: =VLOOKUP(A21,[1]!Tableau_cotisants,5,FALSE) -> 0 | F21: =VLOOKUP(A21,[1]!Tableau_cotisants,6,FALSE) -> 1 | G21: =VLOOKUP(A21,[1]!Tableau_cotisants,7,FALSE) -> 0 | H21: =VLOOKUP(A21,[1]!Tableau_cotisants,8,FALSE) -> 29713 | I21: =DATEDIF(H21,Date_du_jour,"y") & " an(s) " & DATEDIF(H21,$C$2,"ym") & " mois et " & DATEDIF(H21,$C$2,"md") & " jour(s)" -> 37 an(s) 10 mois et 6 jour(s) | J21: =VLOOKUP(A21,[1]!Tableau_cotisants,10,FALSE) -> Genté | K21: =VLOOKUP(A21,[1]!Tableau_cotisants,11,FALSE) -> Champagne | M21: 1 | O21: 1
A22: F34-2 | B22: =VLOOKUP(A22,[1]!Tableau_cotisants,2,FALSE) -> EYMARD/LEHOUX | C22: =VLOOKUP(A22,[1]!Tableau_cotisants,3,FALSE) -> LEHOUX | D22: =VLOOKUP(A22,[1]!Tableau_cotisants,4,FALSE) -> Mélanie | E22: =VLOOKUP(A22,[1]!Tableau_cotisants,5,FALSE) -> 0 | F22: =VLOOKUP(A22,[1]!Tableau_cotisants,6,FALSE) -> 1 | G22: =VLOOKUP(A22,[1]!Tableau_cotisants,7,FALSE) -> 0 | H22: =VLOOKUP(A22,[1]!Tableau_cotisants,8,FALSE) -> 29361 | I22: =DATEDIF(H22,Date_du_jour,"y") & " an(s) " & DATEDIF(H22,$C$2,"ym") & " mois et " & DATEDIF(H22,$C$2,"md") & " jour(s)" -> 38 an(s) 9 mois et 21 jour(s) | J22: =VLOOKUP(A22,[1]!Tableau_cotisants,10,FALSE) -> SEGONZAC | K22: =VLOOKUP(A22,[1]!Tableau_cotisants,11,FALSE) -> Champagne | M22: 1 | O22: 1
A23: F34-3 | B23: =VLOOKUP(A23,[1]!Tableau_cotisants,2,FALSE) -> EYMARD/LEHOUX | C23: =VLOOKUP(A23,[1]!Tableau_cotisants,3,FALSE) -> EYMARD | D23: =VLOOKUP(A23,[1]!Tableau_cotisants,4,FALSE) -> Léo | E23: =VLOOKUP(A23,[1]!Tableau_cotisants,5,FALSE) -> 0 | F23: =VLOOKUP(A23,[1]!Tableau_cotisants,6,FALSE) -> 0 | G23: =VLOOKUP(A23,[1]!Tableau_cotisants,7,FALSE) -> 1 | H23: =VLOOKUP(A23,[1]!Tableau_cotisants,8,FALSE) -> 41196 | I23: =DATEDIF(H23,Date_du_jour,"y") & " an(s) " & DATEDIF(H23,$C$2,"ym") & " mois et " & DATEDIF(H23,$C$2,"md") & " jour(s)" -> 6 an(s) 4 mois et 27 jour(s) | J23: =VLOOKUP(A23,[1]!Tableau_cotisants,10,FALSE) -> SEGONZAC | K23: =VLOOKUP(A23,[1]!Tableau_cotisants,11,FALSE) -> Champagne | M23: 1 | O23: 1
A24: F34-4 | B24: =VLOOKUP(A24,[1]!Tableau_cotisants,2,FALSE) -> EYMARD/LEHOUX | C24: =VLOOKUP(A24,[1]!Tableau_cotisants,3,FALSE) -> EYMARD | D24: =VLOOKUP(A24,[1]!Tableau_cotisants,4,FALSE) -> Victoire | E24: =VLOOKUP(A24,[1]!Tableau_cotisants,5,FALSE) -> 0 | F24: =VLOOKUP(A24,[1]!Tableau_cotisants,6,FALSE) -> 1 | G24: =VLOOKUP(A24,[1]!Tableau_cotisants,7,FALSE) -> 0 | H24: =VLOOKUP(A24,[1]!Tableau_cotisants,8,FALSE) -> 41603 | I24: =DATEDIF(H24,Date_du_jour,"y") & " an(s) " & DATEDIF(H24,$C$2,"ym") & " mois et " & DATEDIF(H24,$C$2,"md") & " jour(s)" -> 5 an(s) 3 mois et 16 jour(s) | J24: =VLOOKUP(A24,[1]!Tableau_cotisants,10,FALSE) -> SEGONZAC | K24: =VLOOKUP(A24,[1]!Tableau_cotisants,11,FALSE) -> Champagne | M24: 1 | O24: 1
A25: F34-6 | B25: =VLOOKUP(A25,[1]!Tableau_cotisants,2,FALSE) -> EYMARD/LEHOUX | C25: =VLOOKUP(A25,[1]!Tableau_cotisants,3,FALSE) -> EYMARD | D25: =VLOOKUP(A25,[1]!Tableau_cotisants,4,FALSE) -> Marius | E25: =VLOOKUP(A25,[1]!Tableau_cotisants,5,FALSE) -> 0 | F25: =VLOOKUP(A25,[1]!Tableau_cotisants,6,FALSE) -> 0 | G25: =VLOOKUP(A25,[1]!Tableau_cotisants,7,FALSE) -> 1 | H25: =VLOOKUP(A25,[1]!Tableau_cotisants,8,FALSE) -> 43320 | I25: =DATEDIF(H25,Date_du_jour,"y") & " an(s) " & DATEDIF(H25,$C$2,"ym") & " mois et " & DATEDIF(H25,$C$2,"md") & " jour(s)" -> 0 an(s) 7 mois et 5 jour(s) | J25: =VLOOKUP(A25,[1]!Tableau_cotisants,10,FALSE) -> SEGONZAC | K25: =VLOOKUP(A25,[1]!Tableau_cotisants,11,FALSE) -> Champagne | M25: 1 | O25: 1
B26: EYMARD/LEHOUX | C26: POULIN | D26: Marine | F26: 1 | H26: 34698 | I26: =DATEDIF(H26,Date_du_jour,"y") & " an(s) " & DATEDIF(H26,$C$2,"ym") & " mois et " & DATEDIF(H26,$C$2,"md") & " jour(s)" -> 24 an(s) 2 mois et 11 jour(s) | J26: SEGONZAC | K26: Champagne | M26: 1 | O26: 1 | Q26: 1
A27: F103-1 | B27: =VLOOKUP(A27,[1]!Tableau_cotisants,2,FALSE) -> MONTGOMERY | C27: =VLOOKUP(A27,[1]!Tableau_cotisants,3,FALSE) -> MONTGOMERY | D27: =VLOOKUP(A27,[1]!Tableau_cotisants,4,FALSE) -> Rebecca | E27: =VLOOKUP(A27,[1]!Tableau_cotisants,5,FALSE) -> 0 | F27: =VLOOKUP(A27,[1]!Tableau_cotisants,6,FALSE) -> 1 | G27: =VLOOKUP(A27,[1]!Tableau_cotisants,7,FALSE) -> 0 | H27: =VLOOKUP(A27,[1]!Tableau_cotisants,8,FALSE) -> 26339 | I27: =DATEDIF(H27,Date_du_jour,"y") & " an(s) " & DATEDIF(H27,$C$2,"ym") & " mois et " & DATEDIF(H27,$C$2,"md") & " jour(s)" -> 47 an(s) 1 mois et 3 jour(s) | J27: =VLOOKUP(A27,[1]!Tableau_cotisants,10,FALSE) -> SEGONZAC | K27: =VLOOKUP(A27,[1]!Tableau_cotisants,11,FALSE) -> Champagne | M27: 1 | O27: 1
B28: MACOUIN | C28: MACOUIN | D28: Evelyne | F28: 1 | H28: 23218 | I28: =DATEDIF(H28,Date_du_jour,"y") & " an(s) " & DATEDIF(H28,$C$2,"ym") & " mois et " & DATEDIF(H28,$C$2,"md") & " jour(s)" -> 55 an(s) 7 mois et 15 jour(s) | J28: Cognac | K28: cognac | M28: 1 | N28: 1 | Q28: 1
B29: PERARD/DEPRÉ | C29: PERARD | D29: Estelle | F29: 1 | H29: 34181 | I29: =DATEDIF(H29,Date_du_jour,"y") & " an(s) " & DATEDIF(H29,$C$2,"ym") & " mois et " & DATEDIF(H29,$C$2,"md") & " jour(s)" -> 25 an(s) 7 mois et 10 jour(s) | J29: Segonzac | K29: Champagne | M29: 1 | N29: 1 | Q29: 1
B30: PERARD/DEPRÉ | C30: DEPRÉ | D30: Timéo | G30: 1 | H30: 41883 | I30: =DATEDIF(H30,Date_du_jour,"y") & " an(s) " & DATEDIF(H30,$C$2,"ym") & " mois et " & DATEDIF(H30,$C$2,"md") & " jour(s)" -> 4 an(s) 6 mois et 12 jour(s) | J30: Segonzac | K30: Champagne | M30: 1 | N30: 1 | Q30: 1
B31: PERARD/NARDONE | C31: PERARD | D31: Edwige | F31: 1 | H31: 31842 | I31: =DATEDIF(H31,Date_du_jour,"y") & " an(s) " & DATEDIF(H31,$C$2,"ym") & " mois et " & DATEDIF(H31,$C$2,"md") & " jour(s)" -> 32 an(s) 0 mois et 7 jour(s) | J31: Genté | K31: Champagne | M31: 1 | N31: 1 | Q31: 1
B32: PERARD/NARDONE | C32: Jade | D32: Jade | F32: 1 | H32: 42105 | I32: =DATEDIF(H32,Date_du_jour,"y") & " an(s) " & DATEDIF(H32,$C$2,"ym") & " mois et " & DATEDIF(H32,$C$2,"md") & " jour(s)" -> 3 an(s) 11 mois et 2 jour(s) | J32: Genté | K32: Champagne | M32: 1 | N32: 1 | Q32: 1
E35: =SUM(E5:E34) -> 0 | F35: =SUM(F5:F34) -> 12 | G35: =SUM(G5:G34) -> 4 | K35: =SUM(K7:K34) -> 0 | L35: =SUM(L5:L34) -> 2 | M35: =SUM(M5:M34) -> 14 | N35: =SUM(N5:N34) -> 9 | O35: =SUM(O5:O34) -> 7 | P35: =SUM(P5:P34) -> 0 | Q35: =SUM(Q5:Q34) -> 6 | R35: =SUM(R5:R34) -> 0 | S35: =SUM(S5:S34) -> 0
B36: Matin : | F36: =F35+G35 -> 16 | L36: =L35+M35 -> 16 | N36: =N35+O35+P35 -> 16
B37: Après-midi : | L37: =L35+'06 mars 2019'!L37 -> 85 | M37: =M35+'06 mars 2019'!M37 -> 94 | N37: =N35+'06 mars 2019'!N37 -> 84 | O37: =O35+'06 mars 2019'!O37 -> 23 | P37: =P35+'06 mars 2019'!P37 -> 72 | Q37: =Q35+'06 mars 2019'!Q37 -> 12 | R37: =R35+'06 mars 2019'!R37 -> 2 | S37: =S35+'06 mars 2019'!S37 -> 3
L38: =L36+'06 mars 2019'!L38:M38 -> 179 | N38: =N36+'06 mars 2019'!N38:P38 -> 179
B39: Nb | C39: GROUPES | D39: Nb | E39: Individus
A40: Hors ACCOLADE | B40: 2 | C40: =B40+'06 mars 2019'!C40 -> 8 | D40: 14 | E40: =D40+'06 mars 2019'!E40:F40 -> 56
A41: ACCOLADE | B41: 1 | C41: =B41+'06 mars 2019'!C41 -> 8 | D41: 9 | E41: =D41+'06 mars 2019'!E41:F41 -> 63
B42: =B41+B40 -> 3 | C42: =C41+C40 -> 16 | D42: =D41+D40 -> 23 | E42: =E41+E40 -> 119

Sheet 20 mars 2019
B2: MERCREDI | C2: 43544 | M2: H & D | R2: 9
F3: SEXE
A4: CODE | B4: FAMILLE | C4: NOM | D4: Prénom | E4: ASSMAT | F4: F | G4: M | H4: naissance | I4: âge jour | J4: Commune | K4: TERRI TOIRE | L4: Matin | M4: AM | N4: JSP seul | O4: Emprunt seul | P4: JSP + emprunt | Q4: DEC | R4: Ponc tuel | S4: Ate lier
A5: F65-1 | B5: =VLOOKUP(A5,[1]!Tableau_cotisants,2,FALSE) -> RATIE/LONJARD | C5: =VLOOKUP(A5,[1]!Tableau_cotisants,3,FALSE) -> LONJARD | D5: =VLOOKUP(A5,[1]!Tableau_cotisants,4,FALSE) -> Nathalie | E5: =VLOOKUP(A5,[1]!Tableau_cotisants,5,FALSE) -> 0 | F5: =VLOOKUP(A5,[1]!Tableau_cotisants,6,FALSE) -> 1 | G5: =VLOOKUP(A5,[1]!Tableau_cotisants,7,FALSE) -> 0 | H5: =VLOOKUP(A5,[1]!Tableau_cotisants,8,FALSE) -> 23531 | I5: =DATEDIF(H5,Date_du_jour,"y") & " an(s) " & DATEDIF(H5,$C$2,"ym") & " mois et " & DATEDIF(H5,$C$2,"md") & " jour(s)" -> 54 an(s) 9 mois et 17 jour(s) | J5: =VLOOKUP(A5,[1]!Tableau_cotisants,10,FALSE) -> SEGONZAC | K5: =VLOOKUP(A5,[1]!Tableau_cotisants,11,FALSE) -> Champagne | L5: 1 | O5: 1
A6: F65-2 | B6: =VLOOKUP(A6,[1]!Tableau_cotisants,2,FALSE) -> RATIE/LONJARD | C6: =VLOOKUP(A6,[1]!Tableau_cotisants,3,FALSE) -> RATIE | D6: =VLOOKUP(A6,[1]!Tableau_cotisants,4,FALSE) -> Nathan | E6: =VLOOKUP(A6,[1]!Tableau_cotisants,5,FALSE) -> 0 | F6: =VLOOKUP(A6,[1]!Tableau_cotisants,6,FALSE) -> 0 | G6: =VLOOKUP(A6,[1]!Tableau_cotisants,7,FALSE) -> 1 | H6: =VLOOKUP(A6,[1]!Tableau_cotisants,8,FALSE) -> 40448 | I6: =DATEDIF(H6,Date_du_jour,"y") & " an(s) " & DATEDIF(H6,$C$2,"ym") & " mois et " & DATEDIF(H6,$C$2,"md") & " jour(s)" -> 8 an(s) 5 mois et 21 jour(s) | J6: =VLOOKUP(A6,[1]!Tableau_cotisants,10,FALSE) -> SEGONZAC | K6: =VLOOKUP(A6,[1]!Tableau_cotisants,11,FALSE) -> Champagne | L6: 1 | O6: 1
A7: AM2-1 | B7: =VLOOKUP(A7,[1]!Tableau_cotisants,2,FALSE) -> GUYOT | C7: =VLOOKUP(A7,[1]!Tableau_cotisants,3,FALSE) -> GUYOT | D7: =VLOOKUP(A7,[1]!Tableau_cotisants,4,FALSE) -> Virginie | E7: =VLOOKUP(A7,[1]!Tableau_cotisants,5,FALSE) -> 1 | F7: =VLOOKUP(A7,[1]!Tableau_cotisants,6,FALSE) -> 1 | G7: =VLOOKUP(A7,[1]!Tableau_cotisants,7,FALSE) -> 0 | H7: =VLOOKUP(A7,[1]!Tableau_cotisants,8,FALSE) -> 30012 | I7: =DATEDIF(H7,Date_du_jour,"y") & " an(s) " & DATEDIF(H7,$C$2,"ym") & " mois et " & DATEDIF(H7,$C$2,"md") & " jour(s)" -> 37 an(s) 0 mois et 18 jour(s) | J7: =VLOOKUP(A7,[1]!Tableau_cotisants,10,FALSE) -> Chateaubernard | K7: =VLOOKUP(A7,[1]!Tableau_cotisants,11,FALSE) -> Cognac | L7: 1 | P7: 1
A8: AM2-7 | B8: =VLOOKUP(A8,[1]!Tableau_cotisants,2,FALSE) -> GUYOT | C8: =VLOOKUP(A8,[1]!Tableau_cotisants,3,FALSE) -> ZIDI | D8: =VLOOKUP(A8,[1]!Tableau_cotisants,4,FALSE) -> Driss | E8: =VLOOKUP(A8,[1]!Tableau_cotisants,5,FALSE) -> 1 | F8: =VLOOKUP(A8,[1]!Tableau_cotisants,6,FALSE) -> 0 | G8: =VLOOKUP(A8,[1]!Tableau_cotisants,7,FALSE) -> 1 | H8: =VLOOKUP(A8,[1]!Tableau_cotisants,8,FALSE) -> 42935 | I8: =DATEDIF(H8,Date_du_jour,"y") & " an(s) " & DATEDIF(H8,$C$2,"ym") & " mois et " & DATEDIF(H8,$C$2,"md") & " jour(s)" -> 1 an(s) 8 mois et 1 jour(s) | J8: =VLOOKUP(A8,[1]!Tableau_cotisants,10,FALSE) -> Chateaubernard | K8: =VLOOKUP(A8,[1]!Tableau_cotisants,11,FALSE) -> Cognac | L8: 1 | P8: 1
A9: AM2-8 | B9: =VLOOKUP(A9,[1]!Tableau_cotisants,2,FALSE) -> GUYOT | C9: =VLOOKUP(A9,[1]!Tableau_cotisants,3,FALSE) -> FARCY | D9: =VLOOKUP(A9,[1]!Tableau_cotisants,4,FALSE) -> Sacha | E9: =VLOOKUP(A9,[1]!Tableau_cotisants,5,FALSE) -> 1 | F9: =VLOOKUP(A9,[1]!Tableau_cotisants,6,FALSE) -> 0 | G9: =VLOOKUP(A9,[1]!Tableau_cotisants,7,FALSE) -> 1 | H9: =VLOOKUP(A9,[1]!Tableau_cotisants,8,FALSE) -> 43040 | I9: =DATEDIF(H9,Date_du_jour,"y") & " an(s) " & DATEDIF(H9,$C$2,"ym") & " mois et " & DATEDIF(H9,$C$2,"md") & " jour(s)" -> 1 an(s) 4 mois et 19 jour(s) | J9: =VLOOKUP(A9,[1]!Tableau_cotisants,10,FALSE) -> Chateaubernard | K9: =VLOOKUP(A9,[1]!Tableau_cotisants,11,FALSE) -> Cognac | L9: 1 | P9: 1
A10: AM2-10 | B10: =VLOOKUP(A10,[1]!Tableau_cotisants,2,FALSE) -> GUYOT | C10: =VLOOKUP(A10,[1]!Tableau_cotisants,3,FALSE) -> FORGEARD | D10: =VLOOKUP(A10,[1]!Tableau_cotisants,4,FALSE) -> Yanis | E10: =VLOOKUP(A10,[1]!Tableau_cotisants,5,FALSE) -> 1 | F10: =VLOOKUP(A10,[1]!Tableau_cotisants,6,FALSE) -> 0 | G10: =VLOOKUP(A10,[1]!Tableau_cotisants,7,FALSE) -> 1 | H10: =VLOOKUP(A10,[1]!Tableau_cotisants,8,FALSE) -> 43315 | I10: =DATEDIF(H10,Date_du_jour,"y") & " an(s) " & DATEDIF(H10,$C$2,"ym") & " mois et " & DATEDIF(H10,$C$2,"md") & " jour(s)" -> 0 an(s) 7 mois et 17 jour(s) | J10: =VLOOKUP(A10,[1]!Tableau_cotisants,10,FALSE) -> Chateaubernard | K10: =VLOOKUP(A10,[1]!Tableau_cotisants,11,FALSE) -> Cognac | L10: 1 | P10: 1
A11: AM2-11 | B11: =VLOOKUP(A11,[1]!Tableau_cotisants,2,FALSE) -> GUYOT | C11: =VLOOKUP(A11,[1]!Tableau_cotisants,3,FALSE) -> FRIOUX-GARCIA | D11: =VLOOKUP(A11,[1]!Tableau_cotisants,4,FALSE) -> Marius | E11: =VLOOKUP(A11,[1]!Tableau_cotisants,5,FALSE) -> 1 | F11: =VLOOKUP(A11,[1]!Tableau_cotisants,6,FALSE) -> 0 | G11: =VLOOKUP(A11,[1]!Tableau_cotisants,7,FALSE) -> 1 | H11: =VLOOKUP(A11,[1]!Tableau_cotisants,8,FALSE) -> 43395 | I11: =DATEDIF(H11,Date_du_jour,"y") & " an(s) " & DATEDIF(H11,$C$2,"ym") & " mois et " & DATEDIF(H11,$C$2,"md") & " jour(s)" -> 0 an(s) 4 mois et 26 jour(s) | J11: =VLOOKUP(A11,[1]!Tableau_cotisants,10,FALSE) -> Chateaubernard | K11: =VLOOKUP(A11,[1]!Tableau_cotisants,11,FALSE) -> Cognac | L11: 1 | P11: 1
A12: AM1-1 | B12: =VLOOKUP(A12,[1]!Tableau_cotisants,2,FALSE) -> COZIC | C12: =VLOOKUP(A12,[1]!Tableau_cotisants,3,FALSE) -> COZIC | D12: =VLOOKUP(A12,[1]!Tableau_cotisants,4,FALSE) -> Jennifer | E12: =VLOOKUP(A12,[1]!Tableau_cotisants,5,FALSE) -> 1 | F12: =VLOOKUP(A12,[1]!Tableau_cotisants,6,FALSE) -> 1 | G12: =VLOOKUP(A12,[1]!Tableau_cotisants,7,FALSE) -> 0 | H12: =VLOOKUP(A12,[1]!Tableau_cotisants,8,FALSE) -> 30554 | I12: =DATEDIF(H12,Date_du_jour,"y") & " an(s) " & DATEDIF(H12,$C$2,"ym") & " mois et " & DATEDIF(H12,$C$2,"md") & " jour(s)" -> 35 an(s) 6 mois et 22 jour(s) | J12: =VLOOKUP(A12,[1]!Tableau_cotisants,10,FALSE) -> Chateaubernard | K12: =VLOOKUP(A12,[1]!Tableau_cotisants,11,FALSE) -> Cognac | L12: 1 | N12: 1
A13: Am1-13 | B13: =VLOOKUP(A13,[1]!Tableau_cotisants,2,FALSE) -> COZIC | C13: =VLOOKUP(A13,[1]!Tableau_cotisants,3,FALSE) -> BARAUD | D13: =VLOOKUP(A13,[1]!Tableau_cotisants,4,FALSE) -> Théo | E13: =VLOOKUP(A13,[1]!Tableau_cotisants,5,FALSE) -> 1 | F13: =VLOOKUP(A13,[1]!Tableau_cotisants,6,FALSE) -> 0 | G13: =VLOOKUP(A13,[1]!Tableau_cotisants,7,FALSE) -> 1 | H13: =VLOOKUP(A13,[1]!Tableau_cotisants,8,FALSE) -> 43016 | I13: =DATEDIF(H13,Date_du_jour,"y") & " an(s) " & DATEDIF(H13,$C$2,"ym") & " mois et " & DATEDIF(H13,$C$2,"md") & " jour(s)" -> 1 an(s) 5 mois et 12 jour(s) | J13: =VLOOKUP(A13,[1]!Tableau_cotisants,10,FALSE) -> Chateaubernard | K13: =VLOOKUP(A13,[1]!Tableau_cotisants,11,FALSE) -> Cognac | L13: 1 | N13: 1
A14: AM1-11 | B14: =VLOOKUP(A14,[1]!Tableau_cotisants,2,FALSE) -> COZIC | C14: =VLOOKUP(A14,[1]!Tableau_cotisants,3,FALSE) -> VEZIN | D14: =VLOOKUP(A14,[1]!Tableau_cotisants,4,FALSE) -> Paulin | E14: =VLOOKUP(A14,[1]!Tableau_cotisants,5,FALSE) -> 1 | F14: =VLOOKUP(A14,[1]!Tableau_cotisants,6,FALSE) -> 0 | G14: =VLOOKUP(A14,[1]!Tableau_cotisants,7,FALSE) -> 1 | H14: =VLOOKUP(A14,[1]!Tableau_cotisants,8,FALSE) -> 43055 | I14: =DATEDIF(H14,Date_du_jour,"y") & " an(s) " & DATEDIF(H14,$C$2,"ym") & " mois et " & DATEDIF(H14,$C$2,"md") & " jour(s)" -> 1 an(s) 4 mois et 4 jour(s) | J14: =VLOOKUP(A14,[1]!Tableau_cotisants,10,FALSE) -> Chateaubernard | K14: =VLOOKUP(A14,[1]!Tableau_cotisants,11,FALSE) -> Cognac | L14: 1 | N14: 1
A15: AM1-10 | B15: =VLOOKUP(A15,[1]!Tableau_cotisants,2,FALSE) -> COZIC | C15: =VLOOKUP(A15,[1]!Tableau_cotisants,3,FALSE) -> TARDIEU | D15: =VLOOKUP(A15,[1]!Tableau_cotisants,4,FALSE) -> Gustave | E15: =VLOOKUP(A15,[1]!Tableau_cotisants,5,FALSE) -> 1 | F15: =VLOOKUP(A15,[1]!Tableau_cotisants,6,FALSE) -> 0 | G15: =VLOOKUP(A15,[1]!Tableau_cotisants,7,FALSE) -> 1 | H15: =VLOOKUP(A15,[1]!Tableau_cotisants,8,FALSE) -> 42917 | I15: =DATEDIF(H15,Date_du_jour,"y") & " an(s) " & DATEDIF(H15,$C$2,"ym") & " mois et " & DATEDIF(H15,$C$2,"md") & " jour(s)" -> 1 an(s) 8 mois et 19 jour(s) | J15: =VLOOKUP(A15,[1]!Tableau_cotisants,10,FALSE) -> Chateaubernard | K15: =VLOOKUP(A15,[1]!Tableau_cotisants,11,FALSE) -> Cognac | L15: 1 | N15: 1
A16: AM1-6 | B16: =VLOOKUP(A16,[1]!Tableau_cotisants,2,FALSE) -> COZIC | C16: =VLOOKUP(A16,[1]!Tableau_cotisants,3,FALSE) -> FRAISSINET COZIC | D16: =VLOOKUP(A16,[1]!Tableau_cotisants,4,FALSE) -> Kathleen | E16: =VLOOKUP(A16,[1]!Tableau_cotisants,5,FALSE) -> 1 | F16: =VLOOKUP(A16,[1]!Tableau_cotisants,6,FALSE) -> 1 | G16: =VLOOKUP(A16,[1]!Tableau_cotisants,7,FALSE) -> 0 | H16: =VLOOKUP(A16,[1]!Tableau_cotisants,8,FALSE) -> 39909 | I16: =DATEDIF(H16,Date_du_jour,"y") & " an(s) " & DATEDIF(H16,$C$2,"ym") & " mois et " & DATEDIF(H16,$C$2,"md") & " jour(s)" -> 9 an(s) 11 mois et 14 jour(s) | J16: =VLOOKUP(A16,[1]!Tableau_cotisants,10,FALSE) -> Chateaubernard | K16: =VLOOKUP(A16,[1]!Tableau_cotisants,11,FALSE) -> Cognac | L16: 1 | N16: 1
A17: AM1-7 | B17: =VLOOKUP(A17,[1]!Tableau_cotisants,2,FALSE) -> COZIC | C17: =VLOOKUP(A17,[1]!Tableau_cotisants,3,FALSE) -> FRAISSINET COZIC | D17: =VLOOKUP(A17,[1]!Tableau_cotisants,4,FALSE) -> Kendall | E17: =VLOOKUP(A17,[1]!Tableau_cotisants,5,FALSE) -> 1 | F17: =VLOOKUP(A17,[1]!Tableau_cotisants,6,FALSE) -> 0 | G17: =VLOOKUP(A17,[1]!Tableau_cotisants,7,FALSE) -> 1 | H17: =VLOOKUP(A17,[1]!Tableau_cotisants,8,FALSE) -> 40770 | I17: =DATEDIF(H17,Date_du_jour,"y") & " an(s) " & DATEDIF(H17,$C$2,"ym") & " mois et " & DATEDIF(H17,$C$2,"md") & " jour(s)" -> 7 an(s) 7 mois et 5 jour(s) | J17: =VLOOKUP(A17,[1]!Tableau_cotisants,10,FALSE) -> Chateaubernard | K17: =VLOOKUP(A17,[1]!Tableau_cotisants,11,FALSE) -> Cognac | L17: 1 | N17: 1
A18: F112-1 | B18: =VLOOKUP(A18,[1]!Tableau_cotisants,2,FALSE) -> PRESSON-HALLYG | C18: =VLOOKUP(A18,[1]!Tableau_cotisants,3,FALSE) -> HALLYG | D18: =VLOOKUP(A18,[1]!Tableau_cotisants,4,FALSE) -> Bérangère | E18: =VLOOKUP(A18,[1]!Tableau_cotisants,5,FALSE) -> 0 | F18: =VLOOKUP(A18,[1]!Tableau_cotisants,6,FALSE) -> 1 | G18: =VLOOKUP(A18,[1]!Tableau_cotisants,7,FALSE) -> 0 | H18: =VLOOKUP(A18,[1]!Tableau_cotisants,8,FALSE) -> 27325 | I18: =DATEDIF(H18,Date_du_jour,"y") & " an(s) " & DATEDIF(H18,$C$2,"ym") & " mois et " & DATEDIF(H18,$C$2,"md") & " jour(s)" -> 44 an(s) 4 mois et 25 jour(s) | J18: =VLOOKUP(A18,[1]!Tableau_cotisants,10,FALSE) -> COGNAC | K18: =VLOOKUP(A18,[1]!Tableau_cotisants,11,FALSE) -> Cognac | L18: 1 | O18: 1
A19: AM12-1 | B19: =VLOOKUP(A19,[1]!Tableau_cotisants,2,FALSE) -> CHAGNEAU | C19: =VLOOKUP(A19,[1]!Tableau_cotisants,3,FALSE) -> CHAGNEAU | D19: =VLOOKUP(A19,[1]!Tableau_cotisants,4,FALSE) -> Karine | E19: =VLOOKUP(A19,[1]!Tableau_cotisants,5,FALSE) -> 1 | F19: =VLOOKUP(A19,[1]!Tableau_cotisants,6,FALSE) -> 1 | G19: =VLOOKUP(A19,[1]!Tableau_cotisants,7,FALSE) -> 0 | H19: =VLOOKUP(A19,[1]!Tableau_cotisants,8,FALSE) -> 29352 | I19: =DATEDIF(H19,Date_du_jour,"y") & " an(s) " & DATEDIF(H19,$C$2,"ym") & " mois et " & DATEDIF(H19,$C$2,"md") & " jour(s)" -> 38 an(s) 10 mois et 9 jour(s) | J19: =VLOOKUP(A19,[1]!Tableau_cotisants,10,FALSE) -> Merpins | K19: =VLOOKUP(A19,[1]!Tableau_cotisants,11,FALSE) -> Cognac | L19: 1 | N19: 1
A20: AM12-2 | B20: =VLOOKUP(A20,[1]!Tableau_cotisants,2,FALSE) -> CHAGNEAU | C20: =VLOOKUP(A20,[1]!Tableau_cotisants,3,FALSE) -> SAUVION | D20: =VLOOKUP(A20,[1]!Tableau_cotisants,4,FALSE) -> Emmy | E20: =VLOOKUP(A20,[1]!Tableau_cotisants,5,FALSE) -> 1 | F20: =VLOOKUP(A20,[1]!Tableau_cotisants,6,FALSE) -> 1 | G20: =VLOOKUP(A20,[1]!Tableau_cotisants,7,FALSE) -> 0 | H20: =VLOOKUP(A20,[1]!Tableau_cotisants,8,FALSE) -> 43213 | I20: =DATEDIF(H20,Date_du_jour,"y") & " an(s) " & DATEDIF(H20,$C$2,"ym") & " mois et " & DATEDIF(H20,$C$2,"md") & " jour(s)" -> 0 an(s) 10 mois et 25 jour(s) | J20: =VLOOKUP(A20,[1]!Tableau_cotisants,10,FALSE) -> Merpins | K20: =VLOOKUP(A20,[1]!Tableau_cotisants,11,FALSE) -> Cognac | L20: 1 | N20: 1
A21: AM12-3 | B21: =VLOOKUP(A21,[1]!Tableau_cotisants,2,FALSE) -> CHAGNEAU | C21: =VLOOKUP(A21,[1]!Tableau_cotisants,3,FALSE) -> DESBORDES | D21: =VLOOKUP(A21,[1]!Tableau_cotisants,4,FALSE) -> Paula | E21: =VLOOKUP(A21,[1]!Tableau_cotisants,5,FALSE) -> 1 | F21: =VLOOKUP(A21,[1]!Tableau_cotisants,6,FALSE) -> 1 | G21: =VLOOKUP(A21,[1]!Tableau_cotisants,7,FALSE) -> 0 | H21: =VLOOKUP(A21,[1]!Tableau_cotisants,8,FALSE) -> 43125 | I21: =DATEDIF(H21,Date_du_jour,"y") & " an(s) " & DATEDIF(H21,$C$2,"ym") & " mois et " & DATEDIF(H21,$C$2,"md") & " jour(s)" -> 1 an(s) 1 mois et 23 jour(s) | J21: =VLOOKUP(A21,[1]!Tableau_cotisants,10,FALSE) -> Merpins | K21: =VLOOKUP(A21,[1]!Tableau_cotisants,11,FALSE) -> Cognac | L21: 1 | N21: 1
A22: AM12-4 | B22: =VLOOKUP(A22,[1]!Tableau_cotisants,2,FALSE) -> CHAGNEAU | C22: =VLOOKUP(A22,[1]!Tableau_cotisants,3,FALSE) -> MEUNIER | D22: =VLOOKUP(A22,[1]!Tableau_cotisants,4,FALSE) -> Hugo | E22: =VLOOKUP(A22,[1]!Tableau_cotisants,5,FALSE) -> 1 | F22: =VLOOKUP(A22,[1]!Tableau_cotisants,6,FALSE) -> 0 | G22: =VLOOKUP(A22,[1]!Tableau_cotisants,7,FALSE) -> 1 | H22: =VLOOKUP(A22,[1]!Tableau_cotisants,8,FALSE) -> 43284 | I22: =DATEDIF(H22,Date_du_jour,"y") & " an(s) " & DATEDIF(H22,$C$2,"ym") & " mois et " & DATEDIF(H22,$C$2,"md") & " jour(s)" -> 0 an(s) 8 mois et 17 jour(s) | J22: =VLOOKUP(A22,[1]!Tableau_cotisants,10,FALSE) -> Merpins | K22: =VLOOKUP(A22,[1]!Tableau_cotisants,11,FALSE) -> Cognac | L22: 1 | N22: 1
A23: F111-2 | B23: =VLOOKUP(A23,[1]!Tableau_cotisants,2,FALSE) -> LIENART DELABEYE | C23: =VLOOKUP(A23,[1]!Tableau_cotisants,3,FALSE) -> LIENART | D23: =VLOOKUP(A23,[1]!Tableau_cotisants,4,FALSE) -> Séverine | E23: =VLOOKUP(A23,[1]!Tableau_cotisants,5,FALSE) -> 0 | F23: =VLOOKUP(A23,[1]!Tableau_cotisants,6,FALSE) -> 1 | G23: =VLOOKUP(A23,[1]!Tableau_cotisants,7,FALSE) -> 0 | H23: =VLOOKUP(A23,[1]!Tableau_cotisants,8,FALSE) -> 31438 | I23: =DATEDIF(H23,Date_du_jour,"y") & " an(s) " & DATEDIF(H23,$C$2,"ym") & " mois et " & DATEDIF(H23,$C$2,"md") & " jour(s)" -> 33 an(s) 1 mois et 22 jour(s) | J23: =VLOOKUP(A23,[1]!Tableau_cotisants,10,FALSE) -> ANGEAC CHAMPAGNE | K23: =VLOOKUP(A23,[1]!Tableau_cotisants,11,FALSE) -> Champagne | L23: 1 | N23: 1
A24: F113-1 | B24: =VLOOKUP(A24,[1]!Tableau_cotisants,2,FALSE) -> GABORIT-TRIJOL | C24: =VLOOKUP(A24,[1]!Tableau_cotisants,3,FALSE) -> TRIJOL | D24: =VLOOKUP(A24,[1]!Tableau_cotisants,4,FALSE) -> Alexandra | E24: =VLOOKUP(A24,[1]!Tableau_cotisants,5,FALSE) -> 0 | F24: =VLOOKUP(A24,[1]!Tableau_cotisants,6,FALSE) -> 1 | G24: =VLOOKUP(A24,[1]!Tableau_cotisants,7,FALSE) -> 0 | H24: =VLOOKUP(A24,[1]!Tableau_cotisants,8,FALSE) -> 30766 | I24: =DATEDIF(H24,Date_du_jour,"y") & " an(s) " & DATEDIF(H24,$C$2,"ym") & " mois et " & DATEDIF(H24,$C$2,"md") & " jour(s)" -> 34 an(s) 11 mois et 23 jour(s) | J24: =VLOOKUP(A24,[1]!Tableau_cotisants,10,FALSE) -> Mainxe | K24: =VLOOKUP(A24,[1]!Tableau_cotisants,11,FALSE) -> Jarnac | L24: 1 | N24: 1
B25: AM DOUHAUD | C25: DOUHAUD | D25: Magali | E25: 1 | F25: 1 | H25: 29128 | I25: =DATEDIF(H25,Date_du_jour,"y") & " an(s) " & DATEDIF(H25,$C$2,"ym") & " mois et " & DATEDIF(H25,$C$2,"md") & " jour(s)" -> 39 an(s) 5 mois et 18 jour(s) | J25: Merpins | K25: Cognac | L25: 1 | N25: 1
B26: AM DOUHAUD | C26: LOMBÉ | D26: Nolivé | E26: 1 | F26: 1 | H26: 42816 | I26: =DATEDIF(H26,Date_du_jour,"y") & " an(s) " & DATEDIF(H26,$C$2,"ym") & " mois et " & DATEDIF(H26,$C$2,"md") & " jour(s)" -> 1 an(s) 11 mois et 26 jour(s) | J26: Merpins | K26: Cognac | L26: 1 | N26: 1
B27: GROUPE accolade mater 8 enfants 1 anim (Oxana)
A28: F75-1 | B28: =VLOOKUP(A28,[1]!Tableau_cotisants,2,FALSE) -> BETTI JOSEPH | C28: =VLOOKUP(A28,[1]!Tableau_cotisants,3,FALSE) -> BETTI | D28: =VLOOKUP(A28,[1]!Tableau_cotisants,4,FALSE) -> Sandra | E28: =VLOOKUP(A28,[1]!Tableau_cotisants,5,FALSE) -> 0 | F28: =VLOOKUP(A28,[1]!Tableau_cotisants,6,FALSE) -> 1 | G28: =VLOOKUP(A28,[1]!Tableau_cotisants,7,FALSE) -> 0 | H28: =VLOOKUP(A28,[1]!Tableau_cotisants,8,FALSE) -> 30077 | I28: =DATEDIF(H28,Date_du_jour,"y") & " an(s) " & DATEDIF(H28,$C$2,"ym") & " mois et " & DATEDIF(H28,$C$2,"md") & " jour(s)" -> 36 an(s) 10 mois et 14 jour(s) | J28: =VLOOKUP(A28,[1]!Tableau_cotisants,10,FALSE) -> Lagarde sur le Né | K28: =VLOOKUP(A28,[1]!Tableau_cotisants,11,FALSE) -> Hors_CDA | M28: 1 | N28: 1 | S28: 1
A29: F75-2 | B29: =VLOOKUP(A29,[1]!Tableau_cotisants,2,FALSE) -> BETTI JOSEPH | C29: =VLOOKUP(A29,[1]!Tableau_cotisants,3,FALSE) -> BETTI JOSEPH | D29: =VLOOKUP(A29,[1]!Tableau_cotisants,4,FALSE) -> Milan | E29: =VLOOKUP(A29,[1]!Tableau_cotisants,5,FALSE) -> 0 | F29: =VLOOKUP(A29,[1]!Tableau_cotisants,6,FALSE) -> 0 | G29: =VLOOKUP(A29,[1]!Tableau_cotisants,7,FALSE) -> 1 | H29: =VLOOKUP(A29,[1]!Tableau_cotisants,8,FALSE) -> 39998 | I29: =DATEDIF(H29,Date_du_jour,"y") & " an(s) " & DATEDIF(H29,$C$2,"ym") & " mois et " & DATEDIF(H29,$C$2,"md") & " jour(s)" -> 9 an(s) 8 mois et 16 jour(s) | J29: =VLOOKUP(A29,[1]!Tableau_cotisants,10,FALSE) -> Lagarde sur le Né | K29: =VLOOKUP(A29,[1]!Tableau_cotisants,11,FALSE) -> Hors_CDA | M29: 1 | N29: 1 | S29: 1
A30: F75-3 | B30: =VLOOKUP(A30,[1]!Tableau_cotisants,2,FALSE) -> BETTI JOSEPH | C30: =VLOOKUP(A30,[1]!Tableau_cotisants,3,FALSE) -> BETTI JOSEPH | D30: =VLOOKUP(A30,[1]!Tableau_cotisants,4,FALSE) -> Tilia | E30: =VLOOKUP(A30,[1]!Tableau_cotisants,5,FALSE) -> 0 | F30: =VLOOKUP(A30,[1]!Tableau_cotisants,6,FALSE) -> 1 | G30: =VLOOKUP(A30,[1]!Tableau_cotisants,7,FALSE) -> 0 | H30: =VLOOKUP(A30,[1]!Tableau_cotisants,8,FALSE) -> 42247 | I30: =DATEDIF(H30,Date_du_jour,"y") & " an(s) " & DATEDIF(H30,$C$2,"ym") & " mois et " & DATEDIF(H30,$C$2,"md") & " jour(s)" -> 3 an(s) 6 mois et 17 jour(s) | J30: =VLOOKUP(A30,[1]!Tableau_cotisants,10,FALSE) -> Lagarde sur le Né | K30: =VLOOKUP(A30,[1]!Tableau_cotisants,11,FALSE) -> Hors_CDA | M30: 1 | N30: 1 | S30: 1
A31: F51-1 | B31: =VLOOKUP(A31,[1]!Tableau_cotisants,2,FALSE) -> MOREAU | C31: =VLOOKUP(A31,[1]!Tableau_cotisants,3,FALSE) -> MOREAU | D31: =VLOOKUP(A31,[1]!Tableau_cotisants,4,FALSE) -> Caroline | E31: =VLOOKUP(A31,[1]!Tableau_cotisants,5,FALSE) -> 0 | F31: =VLOOKUP(A31,[1]!Tableau_cotisants,6,FALSE) -> 1 | G31: =VLOOKUP(A31,[1]!Tableau_cotisants,7,FALSE) -> 0 | H31: =VLOOKUP(A31,[1]!Tableau_cotisants,8,FALSE) -> 29123 | I31: =DATEDIF(H31,Date_du_jour,"y") & " an(s) " & DATEDIF(H31,$C$2,"ym") & " mois et " & DATEDIF(H31,$C$2,"md") & " jour(s)" -> 39 an(s) 5 mois et 23 jour(s) | J31: =VLOOKUP(A31,[1]!Tableau_cotisants,10,FALSE) -> SEGONZAC | K31: =VLOOKUP(A31,[1]!Tableau_cotisants,11,FALSE) -> Champagne | M31: 1 | N31: 1 | S31: 1
A32: F51-3 | B32: =VLOOKUP(A32,[1]!Tableau_cotisants,2,FALSE) -> MOREAU | C32: =VLOOKUP(A32,[1]!Tableau_cotisants,3,FALSE) -> MOREAU | D32: =VLOOKUP(A32,[1]!Tableau_cotisants,4,FALSE) -> Eliot | E32: =VLOOKUP(A32,[1]!Tableau_cotisants,5,FALSE) -> 0 | F32: =VLOOKUP(A32,[1]!Tableau_cotisants,6,FALSE) -> 0 | G32: =VLOOKUP(A32,[1]!Tableau_cotisants,7,FALSE) -> 1 | H32: =VLOOKUP(A32,[1]!Tableau_cotisants,8,FALSE) -> 40452 | I32: =DATEDIF(H32,Date_du_jour,"y") & " an(s) " & DATEDIF(H32,$C$2,"ym") & " mois et " & DATEDIF(H32,$C$2,"md") & " jour(s)" -> 8 an(s) 5 mois et 19 jour(s) | J32: =VLOOKUP(A32,[1]!Tableau_cotisants,10,FALSE) -> SEGONZAC | K32: =VLOOKUP(A32,[1]!Tableau_cotisants,11,FALSE) -> Champagne | M32: 1 | N32: 1 | S32: 1
A33: F51-4 | B33: =VLOOKUP(A33,[1]!Tableau_cotisants,2,FALSE) -> MOREAU | C33: =VLOOKUP(A33,[1]!Tableau_cotisants,3,FALSE) -> MOREAU | D33: =VLOOKUP(A33,[1]!Tableau_cotisants,4,FALSE) -> Lily | E33: =VLOOKUP(A33,[1]!Tableau_cotisants,5,FALSE) -> 0 | F33: =VLOOKUP(A33,[1]!Tableau_cotisants,6,FALSE) -> 1 | G33: =VLOOKUP(A33,[1]!Tableau_cotisants,7,FALSE) -> 0 | H33: =VLOOKUP(A33,[1]!Tableau_cotisants,8,FALSE) -> 41223 | I33: =DATEDIF(H33,Date_du_jour,"y") & " an(s) " & DATEDIF(H33,$C$2,"ym") & " mois et " & DATEDIF(H33,$C$2,"md") & " jour(s)" -> 6 an(s) 4 mois et 10 jour(s) | J33: =VLOOKUP(A33,[1]!Tableau_cotisants,10,FALSE) -> SEGONZAC | K33: =VLOOKUP(A33,[1]!Tableau_cotisants,11,FALSE) -> Champagne | M33: 1 | N33: 1 | S33: 1
A34: AM6-1 | B34: =VLOOKUP(A34,[1]!Tableau_cotisants,2,FALSE) -> DEGRIS | C34: =VLOOKUP(A34,[1]!Tableau_cotisants,3,FALSE) -> DEGRIS | D34: =VLOOKUP(A34,[1]!Tableau_cotisants,4,FALSE) -> Laura | E34: =VLOOKUP(A34,[1]!Tableau_cotisants,5,FALSE) -> 1 | F34: =VLOOKUP(A34,[1]!Tableau_cotisants,6,FALSE) -> 1 | G34: =VLOOKUP(A34,[1]!Tableau_cotisants,7,FALSE) -> 0 | H34: =VLOOKUP(A34,[1]!Tableau_cotisants,8,FALSE) -> 32556 | I34: =DATEDIF(H34,Date_du_jour,"y") & " an(s) " & DATEDIF(H34,$C$2,"ym") & " mois et " & DATEDIF(H34,$C$2,"md") & " jour(s)" -> 30 an(s) 1 mois et 3 jour(s) | J34: =VLOOKUP(A34,[1]!Tableau_cotisants,10,FALSE) -> SALLES D'ANGLES | K34: =VLOOKUP(A34,[1]!Tableau_cotisants,11,FALSE) -> Champagne | M34: 1 | N34: 1 | S34: 1
A35: AM6-4 | B35: =VLOOKUP(A35,[1]!Tableau_cotisants,2,FALSE) -> DEGRIS | C35: =VLOOKUP(A35,[1]!Tableau_cotisants,3,FALSE) -> GUYOT | D35: =VLOOKUP(A35,[1]!Tableau_cotisants,4,FALSE) -> Léanne | E35: =VLOOKUP(A35,[1]!Tableau_cotisants,5,FALSE) -> 1 | F35: =VLOOKUP(A35,[1]!Tableau_cotisants,6,FALSE) -> 1 | G35: =VLOOKUP(A35,[1]!Tableau_cotisants,7,FALSE) -> 0 | H35: =VLOOKUP(A35,[1]!Tableau_cotisants,8,FALSE) -> 41202 | I35: =DATEDIF(H35,Date_du_jour,"y") & " an(s) " & DATEDIF(H35,$C$2,"ym") & " mois et " & DATEDIF(H35,$C$2,"md") & " jour(s)" -> 6 an(s) 5 mois et 0 jour(s) | J35: =VLOOKUP(A35,[1]!Tableau_cotisants,10,FALSE) -> SALLES D'ANGLES | K35: =VLOOKUP(A35,[1]!Tableau_cotisants,11,FALSE) -> Champagne | M35: 1 | N35: 1 | S35: 1
A36: AM6-5 | B36: =VLOOKUP(A36,[1]!Tableau_cotisants,2,FALSE) -> DEGRIS | C36: =VLOOKUP(A36,[1]!Tableau_cotisants,3,FALSE) -> GUYOT | D36: =VLOOKUP(A36,[1]!Tableau_cotisants,4,FALSE) -> Nathan | E36: =VLOOKUP(A36,[1]!Tableau_cotisants,5,FALSE) -> 1 | F36: =VLOOKUP(A36,[1]!Tableau_cotisants,6,FALSE) -> 0 | G36: =VLOOKUP(A36,[1]!Tableau_cotisants,7,FALSE) -> 1 | H36: =VLOOKUP(A36,[1]!Tableau_cotisants,8,FALSE) -> 42354 | I36: =DATEDIF(H36,Date_du_jour,"y") & " an(s) " & DATEDIF(H36,$C$2,"ym") & " mois et " & DATEDIF(H36,$C$2,"md") & " jour(s)" -> 3 an(s) 3 mois et 4 jour(s) | J36: =VLOOKUP(A36,[1]!Tableau_cotisants,10,FALSE) -> SALLES D'ANGLES | K36: =VLOOKUP(A36,[1]!Tableau_cotisants,11,FALSE) -> Champagne | M36: 1 | N36: 1
A37: AM6-6 | B37: =VLOOKUP(A37,[1]!Tableau_cotisants,2,FALSE) -> DEGRIS | C37: =VLOOKUP(A37,[1]!Tableau_cotisants,3,FALSE) -> GABORIT TRIJOL | D37: =VLOOKUP(A37,[1]!Tableau_cotisants,4,FALSE) -> Marceau | E37: =VLOOKUP(A37,[1]!Tableau_cotisants,5,FALSE) -> 1 | F37: =VLOOKUP(A37,[1]!Tableau_cotisants,6,FALSE) -> 0 | G37: =VLOOKUP(A37,[1]!Tableau_cotisants,7,FALSE) -> 1 | H37: =VLOOKUP(A37,[1]!Tableau_cotisants,8,FALSE) -> 43002 | I37: =DATEDIF(H37,Date_du_jour,"y") & " an(s) " & DATEDIF(H37,$C$2,"ym") & " mois et " & DATEDIF(H37,$C$2,"md") & " jour(s)" -> 1 an(s) 5 mois et 24 jour(s) | J37: =VLOOKUP(A37,[1]!Tableau_cotisants,10,FALSE) -> SALLES D'ANGLES | K37: =VLOOKUP(A37,[1]!Tableau_cotisants,11,FALSE) -> Champagne | M37: 1 | N37: 1
A38: AM6-9 | B38: =VLOOKUP(A38,[1]!Tableau_cotisants,2,FALSE) -> DEGRIS | C38: =VLOOKUP(A38,[1]!Tableau_cotisants,3,FALSE) -> Enfant gardé | D38: =VLOOKUP(A38,[1]!Tableau_cotisants,4,FALSE) -> Aëlynn | E38: =VLOOKUP(A38,[1]!Tableau_cotisants,5,FALSE) -> 1 | F38: =VLOOKUP(A38,[1]!Tableau_cotisants,6,FALSE) -> 1 | G38: =VLOOKUP(A38,[1]!Tableau_cotisants,7,FALSE) -> 0 | H38: =VLOOKUP(A38,[1]!Tableau_cotisants,8,FALSE) -> 43313 | I38: =DATEDIF(H38,Date_du_jour,"y") & " an(s) " & DATEDIF(H38,$C$2,"ym") & " mois et " & DATEDIF(H38,$C$2,"md") & " jour(s)" -> 0 an(s) 7 mois et 19 jour(s) | J38: =VLOOKUP(A38,[1]!Tableau_cotisants,10,FALSE) -> SALLES D'ANGLES | K38: =VLOOKUP(A38,[1]!Tableau_cotisants,11,FALSE) -> Champagne | M38: 1 | N38: 1
B39: ASSMAT DEGRIS | C39: Michel | D39: Lucie | F39: 1 | H39: 41202 | I39: =DATEDIF(H39,Date_du_jour,"y") & " an(s) " & DATEDIF(H39,$C$2,"ym") & " mois et " & DATEDIF(H39,$C$2,"md") & " jour(s)" -> 6 an(s) 5 mois et 0 jour(s) | J39: SALLES D'ANGLES | K39: champagne | M39: 1 | N39: 1 | S39: 1
A40: F68-1 | B40: =VLOOKUP(A40,[1]!Tableau_cotisants,2,FALSE) -> GUERARD/REDEUIL | C40: =VLOOKUP(A40,[1]!Tableau_cotisants,3,FALSE) -> REDEUIL | D40: =VLOOKUP(A40,[1]!Tableau_cotisants,4,FALSE) -> Florence | E40: =VLOOKUP(A40,[1]!Tableau_cotisants,5,FALSE) -> 0 | F40: =VLOOKUP(A40,[1]!Tableau_cotisants,6,FALSE) -> 1 | G40: =VLOOKUP(A40,[1]!Tableau_cotisants,7,FALSE) -> 0 | H40: =VLOOKUP(A40,[1]!Tableau_cotisants,8,FALSE) -> 23515 | I40: =DATEDIF(H40,Date_du_jour,"y") & " an(s) " & DATEDIF(H40,$C$2,"ym") & " mois et " & DATEDIF(H40,$C$2,"md") & " jour(s)" -> 54 an(s) 10 mois et 2 jour(s) | J40: =VLOOKUP(A40,[1]!Tableau_cotisants,10,FALSE) -> SEGONZAC | K40: =VLOOKUP(A40,[1]!Tableau_cotisants,11,FALSE) -> Champagne | M40: 1 | N40: 1 | S40: 1
A41: F4-1 | B41: =VLOOKUP(A41,[1]!Tableau_cotisants,2,FALSE) -> SANSAUD/MOREAU | C41: =VLOOKUP(A41,[1]!Tableau_cotisants,3,FALSE) -> MOREAU | D41: =VLOOKUP(A41,[1]!Tableau_cotisants,4,FALSE) -> Emmanuelle | E41: =VLOOKUP(A41,[1]!Tableau_cotisants,5,FALSE) -> 0 | F41: =VLOOKUP(A41,[1]!Tableau_cotisants,6,FALSE) -> 1 | G41: =VLOOKUP(A41,[1]!Tableau_cotisants,7,FALSE) -> 0 | H41: =VLOOKUP(A41,[1]!Tableau_cotisants,8,FALSE) -> 29187 | I41: =DATEDIF(H41,Date_du_jour,"y") & " an(s) " & DATEDIF(H41,$C$2,"ym") & " mois et " & DATEDIF(H41,$C$2,"md") & " jour(s)" -> 39 an(s) 3 mois et 20 jour(s) | J41: =VLOOKUP(A41,[1]!Tableau_cotisants,10,FALSE) -> SEGONZAC | K41: =VLOOKUP(A41,[1]!Tableau_cotisants,11,FALSE) -> Champagne | M41: 1 | P41: 1
A42: F4-4 | B42: =VLOOKUP(A42,[1]!Tableau_cotisants,2,FALSE) -> SANSAUD/MOREAU | C42: =VLOOKUP(A42,[1]!Tableau_cotisants,3,FALSE) -> SANSAUD | D42: =VLOOKUP(A42,[1]!Tableau_cotisants,4,FALSE) -> Ethan | E42: =VLOOKUP(A42,[1]!Tableau_cotisants,5,FALSE) -> 0 | F42: =VLOOKUP(A42,[1]!Tableau_cotisants,6,FALSE) -> 0 | G42: =VLOOKUP(A42,[1]!Tableau_cotisants,7,FALSE) -> 1 | H42: =VLOOKUP(A42,[1]!Tableau_cotisants,8,FALSE) -> 41015 | I42: =DATEDIF(H42,Date_du_jour,"y") & " an(s) " & DATEDIF(H42,$C$2,"ym") & " mois et " & DATEDIF(H42,$C$2,"md") & " jour(s)" -> 6 an(s) 11 mois et 4 jour(s) | J42: =VLOOKUP(A42,[1]!Tableau_cotisants,10,FALSE) -> SEGONZAC | K42: =VLOOKUP(A42,[1]!Tableau_cotisants,11,FALSE) -> Champagne | M42: 1 | P42: 1
A43: F4-5 | B43: =VLOOKUP(A43,[1]!Tableau_cotisants,2,FALSE) -> SANSAUD/MOREAU | C43: =VLOOKUP(A43,[1]!Tableau_cotisants,3,FALSE) -> SANSAUD | D43: =VLOOKUP(A43,[1]!Tableau_cotisants,4,FALSE) -> Axel | E43: =VLOOKUP(A43,[1]!Tableau_cotisants,5,FALSE) -> 0 | F43: =VLOOKUP(A43,[1]!Tableau_cotisants,6,FALSE) -> 0 | G43: =VLOOKUP(A43,[1]!Tableau_cotisants,7,FALSE) -> 1 | H43: =VLOOKUP(A43,[1]!Tableau_cotisants,8,FALSE) -> 42407 | I43: =DATEDIF(H43,Date_du_jour,"y") & " an(s) " & DATEDIF(H43,$C$2,"ym") & " mois et " & DATEDIF(H43,$C$2,"md") & " jour(s)" -> 3 an(s) 1 mois et 13 jour(s) | J43: =VLOOKUP(A43,[1]!Tableau_cotisants,10,FALSE) -> SEGONZAC | K43: =VLOOKUP(A43,[1]!Tableau_cotisants,11,FALSE) -> Champagne | M43: 1 | P43: 1
E44: =SUM(E5:E43) -> 22 | F44: =SUM(F5:F43) -> 22 | G44: =SUM(G5:G43) -> 16 | K44: =SUM(K7:K43) -> 0 | L44: =SUM(L5:L43) -> 22 | M44: =SUM(M5:M43) -> 16 | N44: =SUM(N5:N43) -> 27 | O44: =SUM(O5:O43) -> 3 | P44: =SUM(P5:P43) -> 8 | Q44: =SUM(Q5:Q43) -> 0 | R44: =SUM(R5:R43) -> 0 | S44: =SUM(S5:S43) -> 10
B45: Matin : | F45: =F44+G44 -> 38 | L45: =L44+M44 -> 38 | N45: =N44+O44+P44 -> 38
B46: Après-midi : | L46: =L44+'13 mars 2019'!L37 -> 107 | M46: =M44+'13 mars 2019'!M37 -> 110 | N46: =N44+'13 mars 2019'!N37 -> 111 | O46: =O44+'13 mars 2019'!O37 -> 26 | P46: =P44+'13 mars 2019'!P37 -> 80 | Q46: =Q44+'13 mars 2019'!Q37 -> 12 | R46: =R44+'13 mars 2019'!R37 -> 2 | S46: =S44+'13 mars 2019'!S37 -> 13
L47: =L45+'13 mars 2019'!L38:M38 -> 217 | N47: =N45+'13 mars 2019'!N38:P38 -> 217
B48: Nb | C48: GROUPES | D48: Nb | E48: Individus
A49: Hors ACCOLADE | C49: =B49+'13 mars 2019'!C40 -> 8 | E49: =D49+'13 mars 2019'!E40:F40 -> 56
A50: ACCOLADE | B50: 2 | C50: =B50+'13 mars 2019'!C41 -> 10 | D50: 12 | E50: =D50+'13 mars 2019'!E41:F41 -> 75 | H50: $
B51: =B50+B49 -> 2 | C51: =C50+C49 -> 18 | D51: =D50+D49 -> 12 | E51: =E50+E49 -> 131

Sheet 27 mars 2019
B2: MERCREDI | C2: 43551 | M2: H & D | R2: 10
F3: SEXE | M3: Diane arrivée 10h45
A4: CODE | B4: FAMILLE | C4: NOM | D4: Prénom | E4: ASSMAT | F4: F | G4: M | H4: naissance | I4: âge jour | J4: Commune | K4: TERRI TOIRE | L4: Matin | M4: AM | N4: JSP seul | O4: Emprunt seul | P4: JSP + emprunt | Q4: DEC | R4: Ponc tuel | S4: Ate lier
A5: F70-1 | B5: =VLOOKUP(A5,[1]!Tableau_cotisants,2,FALSE) -> DEFARGE | C5: =VLOOKUP(A5,[1]!Tableau_cotisants,3,FALSE) -> DEFARGE | D5: =VLOOKUP(A5,[1]!Tableau_cotisants,4,FALSE) -> Sonia | E5: =VLOOKUP(A5,[1]!Tableau_cotisants,5,FALSE) -> 0 | F5: =VLOOKUP(A5,[1]!Tableau_cotisants,6,FALSE) -> 1 | G5: =VLOOKUP(A5,[1]!Tableau_cotisants,7,FALSE) -> 0 | H5: =VLOOKUP(A5,[1]!Tableau_cotisants,8,FALSE) -> 27411 | I5: =DATEDIF(H5,Date_du_jour,"y") & " an(s) " & DATEDIF(H5,$C$2,"ym") & " mois et " & DATEDIF(H5,$C$2,"md") & " jour(s)" -> 44 an(s) 2 mois et 10 jour(s) | J5: =VLOOKUP(A5,[1]!Tableau_cotisants,10,FALSE) -> Cognac | K5: =VLOOKUP(A5,[1]!Tableau_cotisants,11,FALSE) -> Cognac | L5: 1 | P5: 1
A6: F70-3 | B6: =VLOOKUP(A6,[1]!Tableau_cotisants,2,FALSE) -> DEFARGE | C6: =VLOOKUP(A6,[1]!Tableau_cotisants,3,FALSE) -> DEFARGE | D6: =VLOOKUP(A6,[1]!Tableau_cotisants,4,FALSE) -> Coraline | E6: =VLOOKUP(A6,[1]!Tableau_cotisants,5,FALSE) -> 0 | F6: =VLOOKUP(A6,[1]!Tableau_cotisants,6,FALSE) -> 1 | G6: =VLOOKUP(A6,[1]!Tableau_cotisants,7,FALSE) -> 0 | H6: =VLOOKUP(A6,[1]!Tableau_cotisants,8,FALSE) -> 41450 | I6: =DATEDIF(H6,Date_du_jour,"y") & " an(s) " & DATEDIF(H6,$C$2,"ym") & " mois et " & DATEDIF(H6,$C$2,"md") & " jour(s)" -> 5 an(s) 9 mois et 2 jour(s) | J6: =VLOOKUP(A6,[1]!Tableau_cotisants,10,FALSE) -> Cognac | K6: =VLOOKUP(A6,[1]!Tableau_cotisants,11,FALSE) -> Cognac | L6: 1 | P6: 1
A7: F70-4 | B7: =VLOOKUP(A7,[1]!Tableau_cotisants,2,FALSE) -> DEFARGE | C7: =VLOOKUP(A7,[1]!Tableau_cotisants,3,FALSE) -> DEFARGE | D7: =VLOOKUP(A7,[1]!Tableau_cotisants,4,FALSE) -> Robin | E7: =VLOOKUP(A7,[1]!Tableau_cotisants,5,FALSE) -> 0 | F7: =VLOOKUP(A7,[1]!Tableau_cotisants,6,FALSE) -> 0 | G7: =VLOOKUP(A7,[1]!Tableau_cotisants,7,FALSE) -> 1 | H7: =VLOOKUP(A7,[1]!Tableau_cotisants,8,FALSE) -> 42172 | I7: =DATEDIF(H7,Date_du_jour,"y") & " an(s) " & DATEDIF(H7,$C$2,"ym") & " mois et " & DATEDIF(H7,$C$2,"md") & " jour(s)" -> 3 an(s) 9 mois et 10 jour(s) | J7: =VLOOKUP(A7,[1]!Tableau_cotisants,10,FALSE) -> Cognac | K7: =VLOOKUP(A7,[1]!Tableau_cotisants,11,FALSE) -> Cognac | L7: 1 | P7: 1
A8: F111-1 | B8: =VLOOKUP(A8,[1]!Tableau_cotisants,2,FALSE) -> LIENART DELABEYE | C8: =VLOOKUP(A8,[1]!Tableau_cotisants,3,FALSE) -> LIENART DELABEYE | D8: =VLOOKUP(A8,[1]!Tableau_cotisants,4,FALSE) -> Brigitte | E8: =VLOOKUP(A8,[1]!Tableau_cotisants,5,FALSE) -> 0 | F8: =VLOOKUP(A8,[1]!Tableau_cotisants,6,FALSE) -> 1 | G8: =VLOOKUP(A8,[1]!Tableau_cotisants,7,FALSE) -> 0 | H8: =VLOOKUP(A8,[1]!Tableau_cotisants,8,FALSE) -> 20885 | I8: =DATEDIF(H8,Date_du_jour,"y") & " an(s) " & DATEDIF(H8,$C$2,"ym") & " mois et " & DATEDIF(H8,$C$2,"md") & " jour(s)" -> 62 an(s) 0 mois et 21 jour(s) | J8: =VLOOKUP(A8,[1]!Tableau_cotisants,10,FALSE) -> ANGEAC CHAMPAGNE | K8: =VLOOKUP(A8,[1]!Tableau_cotisants,11,FALSE) -> Champagne | L8: 1 | N8: 1
A9: F111-3 | B9: =VLOOKUP(A9,[1]!Tableau_cotisants,2,FALSE) -> LIENART DELABEYE | C9: =VLOOKUP(A9,[1]!Tableau_cotisants,3,FALSE) -> LIENART | D9: =VLOOKUP(A9,[1]!Tableau_cotisants,4,FALSE) -> Sacha | E9: =VLOOKUP(A9,[1]!Tableau_cotisants,5,FALSE) -> 0 | F9: =VLOOKUP(A9,[1]!Tableau_cotisants,6,FALSE) -> 0 | G9: =VLOOKUP(A9,[1]!Tableau_cotisants,7,FALSE) -> 1 | H9: =VLOOKUP(A9,[1]!Tableau_cotisants,8,FALSE) -> 42830 | I9: =DATEDIF(H9,Date_du_jour,"y") & " an(s) " & DATEDIF(H9,$C$2,"ym") & " mois et " & DATEDIF(H9,$C$2,"md") & " jour(s)" -> 1 an(s) 11 mois et 22 jour(s) | J9: =VLOOKUP(A9,[1]!Tableau_cotisants,10,FALSE) -> ANGEAC CHAMPAGNE | K9: =VLOOKUP(A9,[1]!Tableau_cotisants,11,FALSE) -> Champagne | L9: 1 | N9: 1
A10: AM6-1 | B10: =VLOOKUP(A10,[1]!Tableau_cotisants,2,FALSE) -> DEGRIS | C10: =VLOOKUP(A10,[1]!Tableau_cotisants,3,FALSE) -> DEGRIS | D10: =VLOOKUP(A10,[1]!Tableau_cotisants,4,FALSE) -> Laura | E10: =VLOOKUP(A10,[1]!Tableau_cotisants,5,FALSE) -> 1 | F10: =VLOOKUP(A10,[1]!Tableau_cotisants,6,FALSE) -> 1 | G10: =VLOOKUP(A10,[1]!Tableau_cotisants,7,FALSE) -> 0 | H10: =VLOOKUP(A10,[1]!Tableau_cotisants,8,FALSE) -> 32556 | I10: =DATEDIF(H10,Date_du_jour,"y") & " an(s) " & DATEDIF(H10,$C$2,"ym") & " mois et " & DATEDIF(H10,$C$2,"md") & " jour(s)" -> 30 an(s) 1 mois et 10 jour(s) | J10: =VLOOKUP(A10,[1]!Tableau_cotisants,10,FALSE) -> SALLES D'ANGLES | K10: =VLOOKUP(A10,[1]!Tableau_cotisants,11,FALSE) -> Champagne | L10: 1 | N10: 1
A11: AM6-4 | B11: =VLOOKUP(A11,[1]!Tableau_cotisants,2,FALSE) -> DEGRIS | C11: =VLOOKUP(A11,[1]!Tableau_cotisants,3,FALSE) -> GUYOT | D11: =VLOOKUP(A11,[1]!Tableau_cotisants,4,FALSE) -> Léanne | E11: =VLOOKUP(A11,[1]!Tableau_cotisants,5,FALSE) -> 1 | F11: =VLOOKUP(A11,[1]!Tableau_cotisants,6,FALSE) -> 1 | G11: =VLOOKUP(A11,[1]!Tableau_cotisants,7,FALSE) -> 0 | H11: =VLOOKUP(A11,[1]!Tableau_cotisants,8,FALSE) -> 41202 | I11: =DATEDIF(H11,Date_du_jour,"y") & " an(s) " & DATEDIF(H11,$C$2,"ym") & " mois et " & DATEDIF(H11,$C$2,"md") & " jour(s)" -> 6 an(s) 5 mois et 7 jour(s) | J11: =VLOOKUP(A11,[1]!Tableau_cotisants,10,FALSE) -> SALLES D'ANGLES | K11: =VLOOKUP(A11,[1]!Tableau_cotisants,11,FALSE) -> Champagne | L11: 1 | N11: 1
A12: AM6-5 | B12: =VLOOKUP(A12,[1]!Tableau_cotisants,2,FALSE) -> DEGRIS | C12: =VLOOKUP(A12,[1]!Tableau_cotisants,3,FALSE) -> GUYOT | D12: =VLOOKUP(A12,[1]!Tableau_cotisants,4,FALSE) -> Nathan | E12: =VLOOKUP(A12,[1]!Tableau_cotisants,5,FALSE) -> 1 | F12: =VLOOKUP(A12,[1]!Tableau_cotisants,6,FALSE) -> 0 | G12: =VLOOKUP(A12,[1]!Tableau_cotisants,7,FALSE) -> 1 | H12: =VLOOKUP(A12,[1]!Tableau_cotisants,8,FALSE) -> 42354 | I12: =DATEDIF(H12,Date_du_jour,"y") & " an(s) " & DATEDIF(H12,$C$2,"ym") & " mois et " & DATEDIF(H12,$C$2,"md") & " jour(s)" -> 3 an(s) 3 mois et 11 jour(s) | J12: =VLOOKUP(A12,[1]!Tableau_cotisants,10,FALSE) -> SALLES D'ANGLES | K12: =VLOOKUP(A12,[1]!Tableau_cotisants,11,FALSE) -> Champagne | L12: 1 | N12: 1
A13: AM6-9 | B13: =VLOOKUP(A13,[1]!Tableau_cotisants,2,FALSE) -> DEGRIS | C13: =VLOOKUP(A13,[1]!Tableau_cotisants,3,FALSE) -> Enfant gardé | D13: =VLOOKUP(A13,[1]!Tableau_cotisants,4,FALSE) -> Aëlynn | E13: =VLOOKUP(A13,[1]!Tableau_cotisants,5,FALSE) -> 1 | F13: =VLOOKUP(A13,[1]!Tableau_cotisants,6,FALSE) -> 1 | G13: =VLOOKUP(A13,[1]!Tableau_cotisants,7,FALSE) -> 0 | H13: =VLOOKUP(A13,[1]!Tableau_cotisants,8,FALSE) -> 43313 | I13: =DATEDIF(H13,Date_du_jour,"y") & " an(s) " & DATEDIF(H13,$C$2,"ym") & " mois et " & DATEDIF(H13,$C$2,"md") & " jour(s)" -> 0 an(s) 7 mois et 26 jour(s) | J13: =VLOOKUP(A13,[1]!Tableau_cotisants,10,FALSE) -> SALLES D'ANGLES | K13: =VLOOKUP(A13,[1]!Tableau_cotisants,11,FALSE) -> Champagne | L13: 1 | N13: 1
A14: F77-4 | B14: =VLOOKUP(A14,[1]!Tableau_cotisants,2,FALSE) -> LIENART/HULIN | C14: =VLOOKUP(A14,[1]!Tableau_cotisants,3,FALSE) -> LIENART | D14: =VLOOKUP(A14,[1]!Tableau_cotisants,4,FALSE) -> Lionel | E14: =VLOOKUP(A14,[1]!Tableau_cotisants,5,FALSE) -> 0 | F14: =VLOOKUP(A14,[1]!Tableau_cotisants,6,FALSE) -> 0 | G14: =VLOOKUP(A14,[1]!Tableau_cotisants,7,FALSE) -> 1 | H14: =VLOOKUP(A14,[1]!Tableau_cotisants,8,FALSE) -> 30966 | I14: =DATEDIF(H14,Date_du_jour,"y") & " an(s) " & DATEDIF(H14,$C$2,"ym") & " mois et " & DATEDIF(H14,$C$2,"md") & " jour(s)" -> 34 an(s) 5 mois et 16 jour(s) | J14: =VLOOKUP(A14,[1]!Tableau_cotisants,10,FALSE) -> ANGEAC CHAMPAGNE | K14: =VLOOKUP(A14,[1]!Tableau_cotisants,11,FALSE) -> Champagne | L14: 1 | N14: 1
A15: F77-2 | B15: =VLOOKUP(A15,[1]!Tableau_cotisants,2,FALSE) -> LIENART/HULIN | C15: =VLOOKUP(A15,[1]!Tableau_cotisants,3,FALSE) -> LIENART | D15: =VLOOKUP(A15,[1]!Tableau_cotisants,4,FALSE) -> Elison | E15: =VLOOKUP(A15,[1]!Tableau_cotisants,5,FALSE) -> 0 | F15: =VLOOKUP(A15,[1]!Tableau_cotisants,6,FALSE) -> 0 | G15: =VLOOKUP(A15,[1]!Tableau_cotisants,7,FALSE) -> 1 | H15: =VLOOKUP(A15,[1]!Tableau_cotisants,8,FALSE) -> 41912 | I15: =DATEDIF(H15,Date_du_jour,"y") & " an(s) " & DATEDIF(H15,$C$2,"ym") & " mois et " & DATEDIF(H15,$C$2,"md") & " jour(s)" -> 4 an(s) 5 mois et 25 jour(s) | J15: =VLOOKUP(A15,[1]!Tableau_cotisants,10,FALSE) -> ANGEAC CHAMPAGNE | K15: =VLOOKUP(A15,[1]!Tableau_cotisants,11,FALSE) -> Champagne | L15: 1 | N15: 1
A16: F77-3 | B16: =VLOOKUP(A16,[1]!Tableau_cotisants,2,FALSE) -> LIENART/HULIN | C16: =VLOOKUP(A16,[1]!Tableau_cotisants,3,FALSE) -> LIENART | D16: =VLOOKUP(A16,[1]!Tableau_cotisants,4,FALSE) -> Raphaël | E16: =VLOOKUP(A16,[1]!Tableau_cotisants,5,FALSE) -> 0 | F16: =VLOOKUP(A16,[1]!Tableau_cotisants,6,FALSE) -> 0 | G16: =VLOOKUP(A16,[1]!Tableau_cotisants,7,FALSE) -> 1 | H16: =VLOOKUP(A16,[1]!Tableau_cotisants,8,FALSE) -> 43000 | I16: =DATEDIF(H16,Date_du_jour,"y") & " an(s) " & DATEDIF(H16,$C$2,"ym") & " mois et " & DATEDIF(H16,$C$2,"md") & " jour(s)" -> 1 an(s) 6 mois et 5 jour(s) | J16: =VLOOKUP(A16,[1]!Tableau_cotisants,10,FALSE) -> ANGEAC CHAMPAGNE | K16: =VLOOKUP(A16,[1]!Tableau_cotisants,11,FALSE) -> Champagne | L16: 1 | N16: 1
A17: F9-1 | B17: =VLOOKUP(A17,[1]!Tableau_cotisants,2,FALSE) -> SAMOYEAU/RAPHOZ | C17: =VLOOKUP(A17,[1]!Tableau_cotisants,3,FALSE) -> SAMOYEAU | D17: =VLOOKUP(A17,[1]!Tableau_cotisants,4,FALSE) -> Romain | E17: =VLOOKUP(A17,[1]!Tableau_cotisants,5,FALSE) -> 0 | F17: =VLOOKUP(A17,[1]!Tableau_cotisants,6,FALSE) -> 0 | G17: =VLOOKUP(A17,[1]!Tableau_cotisants,7,FALSE) -> 1 | H17: =VLOOKUP(A17,[1]!Tableau_cotisants,8,FALSE) -> 30741 | I17: =DATEDIF(H17,Date_du_jour,"y") & " an(s) " & DATEDIF(H17,$C$2,"ym") & " mois et " & DATEDIF(H17,$C$2,"md") & " jour(s)" -> 35 an(s) 0 mois et 26 jour(s) | J17: =VLOOKUP(A17,[1]!Tableau_cotisants,10,FALSE) -> SEGONZAC | K17: =VLOOKUP(A17,[1]!Tableau_cotisants,11,FALSE) -> Champagne | L17: 1 | N17: 1
A18: F9-2 | B18: =VLOOKUP(A18,[1]!Tableau_cotisants,2,FALSE) -> SAMOYEAU/RAPHOZ | C18: =VLOOKUP(A18,[1]!Tableau_cotisants,3,FALSE) -> RAPHOZ_LASSAYS | D18: =VLOOKUP(A18,[1]!Tableau_cotisants,4,FALSE) -> Laurène | E18: =VLOOKUP(A18,[1]!Tableau_cotisants,5,FALSE) -> 0 | F18: =VLOOKUP(A18,[1]!Tableau_cotisants,6,FALSE) -> 1 | G18: =VLOOKUP(A18,[1]!Tableau_cotisants,7,FALSE) -> 0 | H18: =VLOOKUP(A18,[1]!Tableau_cotisants,8,FALSE) -> 31367 | I18: =DATEDIF(H18,Date_du_jour,"y") & " an(s) " & DATEDIF(H18,$C$2,"ym") & " mois et " & DATEDIF(H18,$C$2,"md") & " jour(s)" -> 33 an(s) 4 mois et 11 jour(s) | J18: =VLOOKUP(A18,[1]!Tableau_cotisants,10,FALSE) -> SEGONZAC | K18: =VLOOKUP(A18,[1]!Tableau_cotisants,11,FALSE) -> Champagne | L18: 1 | N18: 1
A19: F9-3 | B19: =VLOOKUP(A19,[1]!Tableau_cotisants,2,FALSE) -> SAMOYEAU/RAPHOZ | C19: =VLOOKUP(A19,[1]!Tableau_cotisants,3,FALSE) -> SAMOYEAU | D19: =VLOOKUP(A19,[1]!Tableau_cotisants,4,FALSE) -> Thomas | E19: =VLOOKUP(A19,[1]!Tableau_cotisants,5,FALSE) -> 0 | F19: =VLOOKUP(A19,[1]!Tableau_cotisants,6,FALSE) -> 0 | G19: =VLOOKUP(A19,[1]!Tableau_cotisants,7,FALSE) -> 1 | H19: =VLOOKUP(A19,[1]!Tableau_cotisants,8,FALSE) -> 41862 | I19: =DATEDIF(H19,Date_du_jour,"y") & " an(s) " & DATEDIF(H19,$C$2,"ym") & " mois et " & DATEDIF(H19,$C$2,"md") & " jour(s)" -> 4 an(s) 7 mois et 16 jour(s) | J19: =VLOOKUP(A19,[1]!Tableau_cotisants,10,FALSE) -> SEGONZAC | K19: =VLOOKUP(A19,[1]!Tableau_cotisants,11,FALSE) -> Champagne | L19: 1 | N19: 1
B20: SAMOYEAU/RAPHOZ | C20: SAMOYEAU | D20: Camille | F20: 1 | H20: 43466 | I20: =DATEDIF(H20,Date_du_jour,"y") & " an(s) " & DATEDIF(H20,$C$2,"ym") & " mois et " & DATEDIF(H20,$C$2,"md") & " jour(s)" -> 0 an(s) 2 mois et 26 jour(s) | J20: SEGONZAC | K20: Champagne | L20: 1 | N20: 1
B21: ALSH JARNAC 1 anim (oriane)+ 6 enfants)
A22: F109-1 | B22: =VLOOKUP(A22,[1]!Tableau_cotisants,2,FALSE) -> Barett De Coutures | C22: =VLOOKUP(A22,[1]!Tableau_cotisants,3,FALSE) -> Barett De Coutures | D22: =VLOOKUP(A22,[1]!Tableau_cotisants,4,FALSE) -> Sophie | E22: =VLOOKUP(A22,[1]!Tableau_cotisants,5,FALSE) -> 0 | F22: =VLOOKUP(A22,[1]!Tableau_cotisants,6,FALSE) -> 1 | G22: =VLOOKUP(A22,[1]!Tableau_cotisants,7,FALSE) -> 0 | H22: =VLOOKUP(A22,[1]!Tableau_cotisants,8,FALSE) -> 26736 | I22: =DATEDIF(H22,Date_du_jour,"y") & " an(s) " & DATEDIF(H22,$C$2,"ym") & " mois et " & DATEDIF(H22,$C$2,"md") & " jour(s)" -> 46 an(s) 0 mois et 14 jour(s) | J22: =VLOOKUP(A22,[1]!Tableau_cotisants,10,FALSE) -> Bourg Charente | K22: =VLOOKUP(A22,[1]!Tableau_cotisants,11,FALSE) -> Jarnac | M22: 1 | N22: 1
A23: F109-2 | B23: =VLOOKUP(A23,[1]!Tableau_cotisants,2,FALSE) -> Barett De Coutures | C23: =VLOOKUP(A23,[1]!Tableau_cotisants,3,FALSE) -> Barett De Coutures | D23: =VLOOKUP(A23,[1]!Tableau_cotisants,4,FALSE) -> Louise | E23: =VLOOKUP(A23,[1]!Tableau_cotisants,5,FALSE) -> 0 | F23: =VLOOKUP(A23,[1]!Tableau_cotisants,6,FALSE) -> 1 | G23: =VLOOKUP(A23,[1]!Tableau_cotisants,7,FALSE) -> 0 | H23: =VLOOKUP(A23,[1]!Tableau_cotisants,8,FALSE) -> 41504 | I23: =DATEDIF(H23,Date_du_jour,"y") & " an(s) " & DATEDIF(H23,$C$2,"ym") & " mois et " & DATEDIF(H23,$C$2,"md") & " jour(s)" -> 5 an(s) 7 mois et 9 jour(s) | J23: =VLOOKUP(A23,[1]!Tableau_cotisants,10,FALSE) -> Bourg Charente | K23: =VLOOKUP(A23,[1]!Tableau_cotisants,11,FALSE) -> Jarnac | M23: 1 | N23: 1
A24: F12-1 | B24: =VLOOKUP(A24,[1]!Tableau_cotisants,2,FALSE) -> LANNE | C24: =VLOOKUP(A24,[1]!Tableau_cotisants,3,FALSE) -> LANNE | D24: =VLOOKUP(A24,[1]!Tableau_cotisants,4,FALSE) -> Jeanne | E24: =VLOOKUP(A24,[1]!Tableau_cotisants,5,FALSE) -> 0 | F24: =VLOOKUP(A24,[1]!Tableau_cotisants,6,FALSE) -> 1 | G24: =VLOOKUP(A24,[1]!Tableau_cotisants,7,FALSE) -> 0 | H24: =VLOOKUP(A24,[1]!Tableau_cotisants,8,FALSE) -> 31775 | I24: =DATEDIF(H24,Date_du_jour,"y") & " an(s) " & DATEDIF(H24,$C$2,"ym") & " mois et " & DATEDIF(H24,$C$2,"md") & " jour(s)" -> 32 an(s) 2 mois et 26 jour(s) | J24: =VLOOKUP(A24,[1]!Tableau_cotisants,10,FALSE) -> SEGONZAC | K24: =VLOOKUP(A24,[1]!Tableau_cotisants,11,FALSE) -> Champagne | M24: 1 | P24: 1
A25: F12-2 | B25: =VLOOKUP(A25,[1]!Tableau_cotisants,2,FALSE) -> LANNE | C25: =VLOOKUP(A25,[1]!Tableau_cotisants,3,FALSE) -> LANNE | D25: =VLOOKUP(A25,[1]!Tableau_cotisants,4,FALSE) -> Raphaël | E25: =VLOOKUP(A25,[1]!Tableau_cotisants,5,FALSE) -> 0 | F25: =VLOOKUP(A25,[1]!Tableau_cotisants,6,FALSE) -> 0 | G25: =VLOOKUP(A25,[1]!Tableau_cotisants,7,FALSE) -> 1 | H25: =VLOOKUP(A25,[1]!Tableau_cotisants,8,FALSE) -> 41156 | I25: =DATEDIF(H25,Date_du_jour,"y") & " an(s) " & DATEDIF(H25,$C$2,"ym") & " mois et " & DATEDIF(H25,$C$2,"md") & " jour(s)" -> 6 an(s) 6 mois et 23 jour(s) | J25: =VLOOKUP(A25,[1]!Tableau_cotisants,10,FALSE) -> SEGONZAC | K25: =VLOOKUP(A25,[1]!Tableau_cotisants,11,FALSE) -> Champagne | M25: 1 | P25: 1
A26: F4-1 | B26: =VLOOKUP(A26,[1]!Tableau_cotisants,2,FALSE) -> SANSAUD/MOREAU | C26: =VLOOKUP(A26,[1]!Tableau_cotisants,3,FALSE) -> MOREAU | D26: =VLOOKUP(A26,[1]!Tableau_cotisants,4,FALSE) -> Emmanuelle | E26: =VLOOKUP(A26,[1]!Tableau_cotisants,5,FALSE) -> 0 | F26: =VLOOKUP(A26,[1]!Tableau_cotisants,6,FALSE) -> 1 | G26: =VLOOKUP(A26,[1]!Tableau_cotisants,7,FALSE) -> 0 | H26: =VLOOKUP(A26,[1]!Tableau_cotisants,8,FALSE) -> 29187 | I26: =DATEDIF(H26,Date_du_jour,"y") & " an(s) " & DATEDIF(H26,$C$2,"ym") & " mois et " & DATEDIF(H26,$C$2,"md") & " jour(s)" -> 39 an(s) 3 mois et 27 jour(s) | J26: =VLOOKUP(A26,[1]!Tableau_cotisants,10,FALSE) -> SEGONZAC | K26: =VLOOKUP(A26,[1]!Tableau_cotisants,11,FALSE) -> Champagne | M26: 1 | N26: 1
A27: F4-4 | B27: =VLOOKUP(A27,[1]!Tableau_cotisants,2,FALSE) -> SANSAUD/MOREAU | C27: =VLOOKUP(A27,[1]!Tableau_cotisants,3,FALSE) -> SANSAUD | D27: =VLOOKUP(A27,[1]!Tableau_cotisants,4,FALSE) -> Ethan | E27: =VLOOKUP(A27,[1]!Tableau_cotisants,5,FALSE) -> 0 | F27: =VLOOKUP(A27,[1]!Tableau_cotisants,6,FALSE) -> 0 | G27: =VLOOKUP(A27,[1]!Tableau_cotisants,7,FALSE) -> 1 | H27: =VLOOKUP(A27,[1]!Tableau_cotisants,8,FALSE) -> 41015 | I27: =DATEDIF(H27,Date_du_jour,"y") & " an(s) " & DATEDIF(H27,$C$2,"ym") & " mois et " & DATEDIF(H27,$C$2,"md") & " jour(s)" -> 6 an(s) 11 mois et 11 jour(s) | J27: =VLOOKUP(A27,[1]!Tableau_cotisants,10,FALSE) -> SEGONZAC | K27: =VLOOKUP(A27,[1]!Tableau_cotisants,11,FALSE) -> Champagne | M27: 1 | N27: 1
A28: F4-5 | B28: =VLOOKUP(A28,[1]!Tableau_cotisants,2,FALSE) -> SANSAUD/MOREAU | C28: =VLOOKUP(A28,[1]!Tableau_cotisants,3,FALSE) -> SANSAUD | D28: =VLOOKUP(A28,[1]!Tableau_cotisants,4,FALSE) -> Axel | E28: =VLOOKUP(A28,[1]!Tableau_cotisants,5,FALSE) -> 0 | F28: =VLOOKUP(A28,[1]!Tableau_cotisants,6,FALSE) -> 0 | G28: =VLOOKUP(A28,[1]!Tableau_cotisants,7,FALSE) -> 1 | H28: =VLOOKUP(A28,[1]!Tableau_cotisants,8,FALSE) -> 42407 | I28: =DATEDIF(H28,Date_du_jour,"y") & " an(s) " & DATEDIF(H28,$C$2,"ym") & " mois et " & DATEDIF(H28,$C$2,"md") & " jour(s)" -> 3 an(s) 1 mois et 20 jour(s) | J28: =VLOOKUP(A28,[1]!Tableau_cotisants,10,FALSE) -> SEGONZAC | K28: =VLOOKUP(A28,[1]!Tableau_cotisants,11,FALSE) -> Champagne | M28: 1 | N28: 1
B29: ALSH JARNAC 1 anim (Mélanie) + 6 enfants
B30: Accolade 4 enfants sans animateur (prévu 8 avec anim mais Ana malade)
E44: =SUM(E5:E43) -> 4 | F44: =SUM(F5:F43) -> 12 | G44: =SUM(G5:G43) -> 11 | K44: =SUM(K7:K43) -> 0 | L44: =SUM(L5:L43) -> 16 | M44: =SUM(M5:M43) -> 7 | N44: =SUM(N5:N43) -> 18 | O44: =SUM(O5:O43) -> 0 | P44: =SUM(P5:P43) -> 5 | Q44: =SUM(Q5:Q43) -> 0 | R44: =SUM(R5:R43) -> 0 | S44: =SUM(S5:S43) -> 0
B45: Matin : | F45: =F44+G44 -> 23 | L45: =L44+M44 -> 23 | N45: =N44+O44+P44 -> 23
B46: Après-midi : | L46: =L44+'20 mars 2019'!L46 -> 123 | M46: =M44+'20 mars 2019'!M46 -> 117 | N46: =N44+'20 mars 2019'!N46 -> 129 | O46: =O44+'20 mars 2019'!O46 -> 26 | P46: =P44+'20 mars 2019'!P46 -> 85 | Q46: =Q44+'20 mars 2019'!Q46 -> 12 | R46: =R44+'20 mars 2019'!R46 -> 2 | S46: =S44+'20 mars 2019'!S46 -> 13
L47: =L45+'20 mars 2019'!L47:M47 -> 240 | N47: =N45+'20 mars 2019'!N47:P47 -> 240
B48: Nb | C48: GROUPES | D48: Nb | E48: Individus
A49: Hors ACCOLADE | B49: 2 | C49: =B49+'20 mars 2019'!C49 -> 10 | D49: 14 | E49: =D49+'20 mars 2019'!E49:F49 -> 70
A50: ACCOLADE | B50: 1 | C50: =B50+'20 mars 2019'!C50 -> 11 | D50: 4 | E50: =D50+'20 mars 2019'!E50:F50 -> 79
B51: =B50+B49 -> 3 | C51: =C50+C49 -> 21 | D51: =D50+D49 -> 18 | E51: =E50+E49 -> 149

Sheet 03 avril 2019
B2: MERCREDI | C2: 43558 | M2: H & D | R2: 11
F3: SEXE
A4: CODE | B4: FAMILLE | C4: NOM | D4: Prénom | E4: ASSMAT | F4: F | G4: M | H4: naissance | I4: âge jour | J4: Commune | K4: TERRI TOIRE | L4: Matin | M4: AM | N4: JSP seul | O4: Emprunt seul | P4: JSP + emprunt | Q4: DEC | R4: Ponc tuel | S4: Ate lier
A6: F100-1 | B6: =VLOOKUP(A6,[1]!Tableau_cotisants,2,FALSE) -> QUILLERE-GADRAS | C6: =VLOOKUP(A6,[1]!Tableau_cotisants,3,FALSE) -> QUILLERE-GADRAS | D6: =VLOOKUP(A6,[1]!Tableau_cotisants,4,FALSE) -> Marie-Laure | E6: =VLOOKUP(A6,[1]!Tableau_cotisants,5,FALSE) -> 0 | F6: =VLOOKUP(A6,[1]!Tableau_cotisants,6,FALSE) -> 1 | G6: =VLOOKUP(A6,[1]!Tableau_cotisants,7,FALSE) -> 0 | H6: =VLOOKUP(A6,[1]!Tableau_cotisants,8,FALSE) -> 27811 | I6: =DATEDIF(H6,Date_du_jour,"y") & " an(s) " & DATEDIF(H6,$C$2,"ym") & " mois et " & DATEDIF(H6,$C$2,"md") & " jour(s)" -> 43 an(s) 1 mois et 13 jour(s) | J6: =VLOOKUP(A6,[1]!Tableau_cotisants,10,FALSE) -> Bourg-Charente | K6: =VLOOKUP(A6,[1]!Tableau_cotisants,11,FALSE) -> Jarnac | L6: 1 | N6: 1
A7: F100-2 | B7: =VLOOKUP(A7,[1]!Tableau_cotisants,2,FALSE) -> QUILLERE-GADRAS | C7: =VLOOKUP(A7,[1]!Tableau_cotisants,3,FALSE) -> QUILLERE-GADRAS | D7: =VLOOKUP(A7,[1]!Tableau_cotisants,4,FALSE) -> Martin | E7: =VLOOKUP(A7,[1]!Tableau_cotisants,5,FALSE) -> 0 | F7: =VLOOKUP(A7,[1]!Tableau_cotisants,6,FALSE) -> 0 | G7: =VLOOKUP(A7,[1]!Tableau_cotisants,7,FALSE) -> 1 | H7: =VLOOKUP(A7,[1]!Tableau_cotisants,8,FALSE) -> 41338 | I7: =DATEDIF(H7,Date_du_jour,"y") & " an(s) " & DATEDIF(H7,$C$2,"ym") & " mois et " & DATEDIF(H7,$C$2,"md") & " jour(s)" -> 6 an(s) 0 mois et 29 jour(s) | J7: =VLOOKUP(A7,[1]!Tableau_cotisants,10,FALSE) -> Bourg-Charente | K7: =VLOOKUP(A7,[1]!Tableau_cotisants,11,FALSE) -> Jarnac | L7: 1 | N7: 1
A8: F100-3 | B8: =VLOOKUP(A8,[1]!Tableau_cotisants,2,FALSE) -> QUILLERE-GADRAS | C8: =VLOOKUP(A8,[1]!Tableau_cotisants,3,FALSE) -> QUILLERE-GADRAS | D8: =VLOOKUP(A8,[1]!Tableau_cotisants,4,FALSE) -> Margaux | E8: =VLOOKUP(A8,[1]!Tableau_cotisants,5,FALSE) -> 0 | F8: =VLOOKUP(A8,[1]!Tableau_cotisants,6,FALSE) -> 1 | G8: =VLOOKUP(A8,[1]!Tableau_cotisants,7,FALSE) -> 0 | H8: =VLOOKUP(A8,[1]!Tableau_cotisants,8,FALSE) -> 41338 | I8: =DATEDIF(H8,Date_du_jour,"y") & " an(s) " & DATEDIF(H8,$C$2,"ym") & " mois et " & DATEDIF(H8,$C$2,"md") & " jour(s)" -> 6 an(s) 0 mois et 29 jour(s) | J8: =VLOOKUP(A8,[1]!Tableau_cotisants,10,FALSE) -> Bourg-Charente | K8: =VLOOKUP(A8,[1]!Tableau_cotisants,11,FALSE) -> Jarnac | L8: 1 | N8: 1
A9: F36-1 | B9: =VLOOKUP(A9,[1]!Tableau_cotisants,2,FALSE) -> LOUVET | C9: =VLOOKUP(A9,[1]!Tableau_cotisants,3,FALSE) -> LOUVET | D9: =VLOOKUP(A9,[1]!Tableau_cotisants,4,FALSE) -> Anne-Sophie | E9: =VLOOKUP(A9,[1]!Tableau_cotisants,5,FALSE) -> 0 | F9: =VLOOKUP(A9,[1]!Tableau_cotisants,6,FALSE) -> 1 | G9: =VLOOKUP(A9,[1]!Tableau_cotisants,7,FALSE) -> 0 | H9: =VLOOKUP(A9,[1]!Tableau_cotisants,8,FALSE) -> 21832 | I9: =DATEDIF(H9,Date_du_jour,"y") & " an(s) " & DATEDIF(H9,$C$2,"ym") & " mois et " & DATEDIF(H9,$C$2,"md") & " jour(s)" -> 59 an(s) 5 mois et 25 jour(s) | J9: =VLOOKUP(A9,[1]!Tableau_cotisants,10,FALSE) -> SEGONZAC | K9: =VLOOKUP(A9,[1]!Tableau_cotisants,11,FALSE) -> Champagne | L9: 1 | P9: 1
A10: F36-2 | B10: =VLOOKUP(A10,[1]!Tableau_cotisants,2,FALSE) -> LOUVET | C10: =VLOOKUP(A10,[1]!Tableau_cotisants,3,FALSE) -> FREDES | D10: =VLOOKUP(A10,[1]!Tableau_cotisants,4,FALSE) -> Fausto | E10: =VLOOKUP(A10,[1]!Tableau_cotisants,5,FALSE) -> 0 | F10: =VLOOKUP(A10,[1]!Tableau_cotisants,6,FALSE) -> 0 | G10: =VLOOKUP(A10,[1]!Tableau_cotisants,7,FALSE) -> 1 | H10: =VLOOKUP(A10,[1]!Tableau_cotisants,8,FALSE) -> 40080 | I10: =DATEDIF(H10,Date_du_jour,"y") & " an(s) " & DATEDIF(H10,$C$2,"ym") & " mois et " & DATEDIF(H10,$C$2,"md") & " jour(s)" -> 9 an(s) 6 mois et 10 jour(s) | J10: =VLOOKUP(A10,[1]!Tableau_cotisants,10,FALSE) -> SEGONZAC | K10: =VLOOKUP(A10,[1]!Tableau_cotisants,11,FALSE) -> Champagne | L10: 1 | P10: 1
B21: 1 E accolade (Nathan) avec Stéphanie
B22: GAUCHOU/BERTRAND ROY | C22: GAUCHOU | D22: Bérengère | F22: 1 | H22: 26387 | I22: =DATEDIF(H22,Date_du_jour,"y") & " an(s) " & DATEDIF(H22,$C$2,"ym") & " mois et " & DATEDIF(H22,$C$2,"md") & " jour(s)" -> 47 an(s) 0 mois et 5 jour(s) | J22: Salignac | K22: Hors_Charente | M22: 1 | N22: 1 | Q22: 1
B23: GAUCHOU/BERTRAND ROY | C23: BERTRAND ROY | D23: Esteban | G23: 1 | H23: 40004 | I23: =DATEDIF(H23,Date_du_jour,"y") & " an(s) " & DATEDIF(H23,$C$2,"ym") & " mois et " & DATEDIF(H23,$C$2,"md") & " jour(s)" -> 9 an(s) 8 mois et 24 jour(s) | J23: Salignac | K23: Hors_Charente | M23: 1 | N23: 1 | Q23: 1
A24: F4-1 | B24: =VLOOKUP(A24,[1]!Tableau_cotisants,2,FALSE) -> SANSAUD/MOREAU | C24: =VLOOKUP(A24,[1]!Tableau_cotisants,3,FALSE) -> MOREAU | D24: =VLOOKUP(A24,[1]!Tableau_cotisants,4,FALSE) -> Emmanuelle | E24: =VLOOKUP(A24,[1]!Tableau_cotisants,5,FALSE) -> 0 | F24: =VLOOKUP(A24,[1]!Tableau_cotisants,6,FALSE) -> 1 | G24: =VLOOKUP(A24,[1]!Tableau_cotisants,7,FALSE) -> 0 | H24: =VLOOKUP(A24,[1]!Tableau_cotisants,8,FALSE) -> 29187 | I24: =DATEDIF(H24,Date_du_jour,"y") & " an(s) " & DATEDIF(H24,$C$2,"ym") & " mois et " & DATEDIF(H24,$C$2,"md") & " jour(s)" -> 39 an(s) 4 mois et 6 jour(s) | J24: =VLOOKUP(A24,[1]!Tableau_cotisants,10,FALSE) -> SEGONZAC | K24: =VLOOKUP(A24,[1]!Tableau_cotisants,11,FALSE) -> Champagne | M24: 1 | N24: 1
A25: F4-4 | B25: =VLOOKUP(A25,[1]!Tableau_cotisants,2,FALSE) -> SANSAUD/MOREAU | C25: =VLOOKUP(A25,[1]!Tableau_cotisants,3,FALSE) -> SANSAUD | D25: =VLOOKUP(A25,[1]!Tableau_cotisants,4,FALSE) -> Ethan | E25: =VLOOKUP(A25,[1]!Tableau_cotisants,5,FALSE) -> 0 | F25: =VLOOKUP(A25,[1]!Tableau_cotisants,6,FALSE) -> 0 | G25: =VLOOKUP(A25,[1]!Tableau_cotisants,7,FALSE) -> 1 | H25: =VLOOKUP(A25,[1]!Tableau_cotisants,8,FALSE) -> 41015 | I25: =DATEDIF(H25,Date_du_jour,"y") & " an(s) " & DATEDIF(H25,$C$2,"ym") & " mois et " & DATEDIF(H25,$C$2,"md") & " jour(s)" -> 6 an(s) 11 mois et 18 jour(s) | J25: =VLOOKUP(A25,[1]!Tableau_cotisants,10,FALSE) -> SEGONZAC | K25: =VLOOKUP(A25,[1]!Tableau_cotisants,11,FALSE) -> Champagne | M25: 1 | N25: 1
A26: F4-5 | B26: =VLOOKUP(A26,[1]!Tableau_cotisants,2,FALSE) -> SANSAUD/MOREAU | C26: =VLOOKUP(A26,[1]!Tableau_cotisants,3,FALSE) -> SANSAUD | D26: =VLOOKUP(A26,[1]!Tableau_cotisants,4,FALSE) -> Axel | E26: =VLOOKUP(A26,[1]!Tableau_cotisants,5,FALSE) -> 0 | F26: =VLOOKUP(A26,[1]!Tableau_cotisants,6,FALSE) -> 0 | G26: =VLOOKUP(A26,[1]!Tableau_cotisants,7,FALSE) -> 1 | H26: =VLOOKUP(A26,[1]!Tableau_cotisants,8,FALSE) -> 42407 | I26: =DATEDIF(H26,Date_du_jour,"y") & " an(s) " & DATEDIF(H26,$C$2,"ym") & " mois et " & DATEDIF(H26,$C$2,"md") & " jour(s)" -> 3 an(s) 1 mois et 27 jour(s) | J26: =VLOOKUP(A26,[1]!Tableau_cotisants,10,FALSE) -> SEGONZAC | K26: =VLOOKUP(A26,[1]!Tableau_cotisants,11,FALSE) -> Champagne | M26: 1 | N26: 1
B29: Accolade 7 E maternels 1 anim (Oksana)
E44: =SUM(E5:E43) -> 0 | F44: =SUM(F5:F43) -> 5 | G44: =SUM(G5:G43) -> 5 | K44: =SUM(K7:K43) -> 0 | L44: =SUM(L5:L43) -> 5 | M44: =SUM(M5:M43) -> 5 | N44: =SUM(N5:N43) -> 8 | O44: =SUM(O5:O43) -> 0 | P44: =SUM(P5:P43) -> 2 | Q44: =SUM(Q5:Q43) -> 2 | R44: =SUM(R5:R43) -> 0 | S44: =SUM(S5:S43) -> 0
B45: Matin : | F45: =F44+G44 -> 10 | L45: =L44+M44 -> 10 | N45: =N44+O44+P44 -> 10
B46: Après-midi : | L46: =L44+'27 mars 2019'!L46 -> 128 | M46: =M44+'27 mars 2019'!M46 -> 122 | N46: =N44+'27 mars 2019'!N46 -> 137 | O46: =O44+'27 mars 2019'!O46 -> 26 | P46: =P44+'27 mars 2019'!P46 -> 87 | Q46: =Q44+'27 mars 2019'!Q46 -> 14 | R46: =R44+'27 mars 2019'!R46 -> 2 | S46: =S44+'27 mars 2019'!S46 -> 13
L47: =L45+'27 mars 2019'!L47:M47 -> 250 | N47: =N45+'27 mars 2019'!N47:P47 -> 250
B48: Nb | C48: GROUPES | D48: Nb | E48: Individus
A49: Hors ACCOLADE | C49: =B49+'27 mars 2019'!C49 -> 10 | E49: =D49+'27 mars 2019'!E49:F49 -> 70
A50: ACCOLADE | B50: 2 | C50: =B50+'27 mars 2019'!C50 -> 13 | D50: 10 | E50: =D50+'27 mars 2019'!E50:F50 -> 89
B51: =B50+B49 -> 2 | C51: =C50+C49 -> 23 | D51: =D50+D49 -> 10 | E51: =E50+E49 -> 159

Sheet 10 avril 2019
B2: MERCREDI | C2: 43565 | M2: H & D | R2: 12
F3: SEXE
A4: CODE | B4: FAMILLE | C4: NOM | D4: Prénom | E4: ASSMAT | F4: F | G4: M | H4: naissance | I4: âge jour | J4: Commune | K4: TERRI TOIRE | L4: Matin | M4: AM | N4: JSP seul | O4: Emprunt seul | P4: JSP + emprunt | Q4: DEC | R4: Ponc tuel | S4: Ate lier
A5: F113-3 | B5: =VLOOKUP(A5,[1]!Tableau_cotisants,2,FALSE) -> GABORIT-TRIJOL | C5: =VLOOKUP(A5,[1]!Tableau_cotisants,3,FALSE) -> GABORIT-TRIJOL | D5: =VLOOKUP(A5,[1]!Tableau_cotisants,4,FALSE) -> Marceau | E5: =VLOOKUP(A5,[1]!Tableau_cotisants,5,FALSE) -> 0 | F5: =VLOOKUP(A5,[1]!Tableau_cotisants,6,FALSE) -> 0 | G5: =VLOOKUP(A5,[1]!Tableau_cotisants,7,FALSE) -> 1 | H5: =VLOOKUP(A5,[1]!Tableau_cotisants,8,FALSE) -> 43002 | I5: =DATEDIF(H5,Date_du_jour,"y") & " an(s) " & DATEDIF(H5,$C$2,"ym") & " mois et " & DATEDIF(H5,$C$2,"md") & " jour(s)" -> 1 an(s) 6 mois et 17 jour(s) | J5: =VLOOKUP(A5,[1]!Tableau_cotisants,10,FALSE) -> Mainxe | K5: =VLOOKUP(A5,[1]!Tableau_cotisants,11,FALSE) -> Jarnac | L5: 1 | N5: 1
A6: F113-4 | B6: =VLOOKUP(A6,[1]!Tableau_cotisants,2,FALSE) -> GABORIT-TRIJOL | C6: =VLOOKUP(A6,[1]!Tableau_cotisants,3,FALSE) -> GABORIT ROBREAU | D6: =VLOOKUP(A6,[1]!Tableau_cotisants,4,FALSE) -> Sylvie | E6: =VLOOKUP(A6,[1]!Tableau_cotisants,5,FALSE) -> 0 | F6: =VLOOKUP(A6,[1]!Tableau_cotisants,6,FALSE) -> 1 | G6: =VLOOKUP(A6,[1]!Tableau_cotisants,7,FALSE) -> 0 | H6: =VLOOKUP(A6,[1]!Tableau_cotisants,8,FALSE) -> 20290 | I6: =DATEDIF(H6,Date_du_jour,"y") & " an(s) " & DATEDIF(H6,$C$2,"ym") & " mois et " & DATEDIF(H6,$C$2,"md") & " jour(s)" -> 63 an(s) 8 mois et 21 jour(s) | J6: =VLOOKUP(A6,[1]!Tableau_cotisants,10,FALSE) -> Mainxe | K6: =VLOOKUP(A6,[1]!Tableau_cotisants,11,FALSE) -> Jarnac | L6: 1 | N6: 1
A7: AM4-1 | B7: =VLOOKUP(A7,[1]!Tableau_cotisants,2,FALSE) -> RÉGNIER | C7: =VLOOKUP(A7,[1]!Tableau_cotisants,3,FALSE) -> RÉGNIER | D7: =VLOOKUP(A7,[1]!Tableau_cotisants,4,FALSE) -> Laëtitia | E7: =VLOOKUP(A7,[1]!Tableau_cotisants,5,FALSE) -> 1 | F7: =VLOOKUP(A7,[1]!Tableau_cotisants,6,FALSE) -> 1 | G7: =VLOOKUP(A7,[1]!Tableau_cotisants,7,FALSE) -> 0 | H7: =VLOOKUP(A7,[1]!Tableau_cotisants,8,FALSE) -> 29180 | I7: =DATEDIF(H7,Date_du_jour,"y") & " an(s) " & DATEDIF(H7,$C$2,"ym") & " mois et " & DATEDIF(H7,$C$2,"md") & " jour(s)" -> 39 an(s) 4 mois et 20 jour(s) | J7: =VLOOKUP(A7,[1]!Tableau_cotisants,10,FALSE) -> COGNAC | K7: =VLOOKUP(A7,[1]!Tableau_cotisants,11,FALSE) -> Cognac | L7: 1 | P7: 1
A8: AM4-7 | B8: =VLOOKUP(A8,[1]!Tableau_cotisants,2,FALSE) -> RÉGNIER | C8: =VLOOKUP(A8,[1]!Tableau_cotisants,3,FALSE) -> VANDER-JENGT | D8: =VLOOKUP(A8,[1]!Tableau_cotisants,4,FALSE) -> Kilauéa | E8: =VLOOKUP(A8,[1]!Tableau_cotisants,5,FALSE) -> 1 | F8: =VLOOKUP(A8,[1]!Tableau_cotisants,6,FALSE) -> 0 | G8: =VLOOKUP(A8,[1]!Tableau_cotisants,7,FALSE) -> 1 | H8: =VLOOKUP(A8,[1]!Tableau_cotisants,8,FALSE) -> 42655 | I8: =DATEDIF(H8,Date_du_jour,"y") & " an(s) " & DATEDIF(H8,$C$2,"ym") & " mois et " & DATEDIF(H8,$C$2,"md") & " jour(s)" -> 2 an(s) 5 mois et 29 jour(s) | J8: =VLOOKUP(A8,[1]!Tableau_cotisants,10,FALSE) -> COGNAC | K8: =VLOOKUP(A8,[1]!Tableau_cotisants,11,FALSE) -> Cognac | L8: 1 | P8: 1
A9: AM6-1 | B9: =VLOOKUP(A9,[1]!Tableau_cotisants,2,FALSE) -> DEGRIS | C9: =VLOOKUP(A9,[1]!Tableau_cotisants,3,FALSE) -> DEGRIS | D9: =VLOOKUP(A9,[1]!Tableau_cotisants,4,FALSE) -> Laura | E9: =VLOOKUP(A9,[1]!Tableau_cotisants,5,FALSE) -> 1 | F9: =VLOOKUP(A9,[1]!Tableau_cotisants,6,FALSE) -> 1 | G9: =VLOOKUP(A9,[1]!Tableau_cotisants,7,FALSE) -> 0 | H9: =VLOOKUP(A9,[1]!Tableau_cotisants,8,FALSE) -> 32556 | I9: =DATEDIF(H9,Date_du_jour,"y") & " an(s) " & DATEDIF(H9,$C$2,"ym") & " mois et " & DATEDIF(H9,$C$2,"md") & " jour(s)" -> 30 an(s) 1 mois et 24 jour(s) | J9: =VLOOKUP(A9,[1]!Tableau_cotisants,10,FALSE) -> SALLES D'ANGLES | K9: =VLOOKUP(A9,[1]!Tableau_cotisants,11,FALSE) -> Champagne | L9: 1 | N9: 1
A10: AM6-4 | B10: =VLOOKUP(A10,[1]!Tableau_cotisants,2,FALSE) -> DEGRIS | C10: =VLOOKUP(A10,[1]!Tableau_cotisants,3,FALSE) -> GUYOT | D10: =VLOOKUP(A10,[1]!Tableau_cotisants,4,FALSE) -> Léanne | E10: =VLOOKUP(A10,[1]!Tableau_cotisants,5,FALSE) -> 1 | F10: =VLOOKUP(A10,[1]!Tableau_cotisants,6,FALSE) -> 1 | G10: =VLOOKUP(A10,[1]!Tableau_cotisants,7,FALSE) -> 0 | H10: =VLOOKUP(A10,[1]!Tableau_cotisants,8,FALSE) -> 41202 | I10: =DATEDIF(H10,Date_du_jour,"y") & " an(s) " & DATEDIF(H10,$C$2,"ym") & " mois et " & DATEDIF(H10,$C$2,"md") & " jour(s)" -> 6 an(s) 5 mois et 21 jour(s) | J10: =VLOOKUP(A10,[1]!Tableau_cotisants,10,FALSE) -> SALLES D'ANGLES | K10: =VLOOKUP(A10,[1]!Tableau_cotisants,11,FALSE) -> Champagne | L10: 1 | N10: 1
A11: AM6-5 | B11: =VLOOKUP(A11,[1]!Tableau_cotisants,2,FALSE) -> DEGRIS | C11: =VLOOKUP(A11,[1]!Tableau_cotisants,3,FALSE) -> GUYOT | D11: =VLOOKUP(A11,[1]!Tableau_cotisants,4,FALSE) -> Nathan | E11: =VLOOKUP(A11,[1]!Tableau_cotisants,5,FALSE) -> 1 | F11: =VLOOKUP(A11,[1]!Tableau_cotisants,6,FALSE) -> 0 | G11: =VLOOKUP(A11,[1]!Tableau_cotisants,7,FALSE) -> 1 | H11: =VLOOKUP(A11,[1]!Tableau_cotisants,8,FALSE) -> 42354 | I11: =DATEDIF(H11,Date_du_jour,"y") & " an(s) " & DATEDIF(H11,$C$2,"ym") & " mois et " & DATEDIF(H11,$C$2,"md") & " jour(s)" -> 3 an(s) 3 mois et 25 jour(s) | J11: =VLOOKUP(A11,[1]!Tableau_cotisants,10,FALSE) -> SALLES D'ANGLES | K11: =VLOOKUP(A11,[1]!Tableau_cotisants,11,FALSE) -> Champagne | L11: 1 | N11: 1
A12: AM6-9 | B12: =VLOOKUP(A12,[1]!Tableau_cotisants,2,FALSE) -> DEGRIS | C12: =VLOOKUP(A12,[1]!Tableau_cotisants,3,FALSE) -> Enfant gardé | D12: =VLOOKUP(A12,[1]!Tableau_cotisants,4,FALSE) -> Aëlynn | E12: =VLOOKUP(A12,[1]!Tableau_cotisants,5,FALSE) -> 1 | F12: =VLOOKUP(A12,[1]!Tableau_cotisants,6,FALSE) -> 1 | G12: =VLOOKUP(A12,[1]!Tableau_cotisants,7,FALSE) -> 0 | H12: =VLOOKUP(A12,[1]!Tableau_cotisants,8,FALSE) -> 43313 | I12: =DATEDIF(H12,Date_du_jour,"y") & " an(s) " & DATEDIF(H12,$C$2,"ym") & " mois et " & DATEDIF(H12,$C$2,"md") & " jour(s)" -> 0 an(s) 8 mois et 9 jour(s) | J12: =VLOOKUP(A12,[1]!Tableau_cotisants,10,FALSE) -> SALLES D'ANGLES | K12: =VLOOKUP(A12,[1]!Tableau_cotisants,11,FALSE) -> Champagne | L12: 1 | N12: 1
