Workbook
Name __com1: '[1]1 FAIR - Front Sheet'!$C$26
Name __com2: '[1]1 FAIR - Front Sheet'!$K$26
Name __red1: '[1]Content Sheet'!#REF!
Name __red2: '[1]Content Sheet'!#REF!
Name __red3: '[1]Content Sheet'!#REF!
Name __red4: '[1]Content Sheet'!#REF!
Name __red5: '[1]Content Sheet'!#REF!
Name __red6: '[1]Content Sheet'!#REF!
Name __red7: '[1]Content Sheet'!#REF!
Name __red8: '[1]Content Sheet'!#REF!
Name aze: #REF!
Name aze: #REF!
Name Choices_Wrapper: '6.4- RC'!Choices_Wrapper
Name Choices_Wrapper: [0]!Choices_Wrapper
Name contact: '[1]1 FAIR - Front Sheet'!$C$19
Name Control_Plan_Number: #REF!
Name Control_Plan_Number: #REF!
Name customer: #REF!
Name customer2: #REF!
Name datadate: '[1]9 Approved Data Cards'!$E$36
Name datasig: '[1]9 Approved Data Cards'!$C$36
Name datasig2: '[1]9 Approved Data Cards'!$A$36:$C$36
Name Date: '[1]1 FAIR - Front Sheet'!$Q$18
Name date1: #REF!
Name Date2: #REF!
Name Date3: #REF!
Name desc: '[1]1 FAIR - Front Sheet'!$D$13
Name draw_iss: '[1]1 FAIR - Front Sheet'!$Q$6
Name email: '[1]1 FAIR - Front Sheet'!$J$18
Name fax: '[1]1 FAIR - Front Sheet'!$Q$19
Name Fdate: '[1]1 FAIR - Front Sheet'!$Q$8
Name fdfg: #REF!
Name fdfg: #REF!
Name Fnum: '[1]1 FAIR - Front Sheet'!$Q$7
Name form2date: #REF!
Name form3date: '[1]15 AS-EN-SJAC 9102 Form 3'!$H$31
Name HIST: [3]Feuil3!$B$2:$B$3
Name IComp_langue: [4]Critères!$A$1
Name info: '[1]9 Approved Data Cards'!$A$30
Name info2: '[1]9 Approved Data Cards'!$A$29:$E$34
Name Issue: #REF!
Name Issue: #REF!
Name lab_ref: '[1]1 FAIR - Front Sheet'!$L$28
Name name2: '[1]1 FAIR - Front Sheet'!$C$25
Name name3: '[1]1 FAIR - Front Sheet'!$K$25
Name Oui: [3]Feuil3!$A$2:$A$3
Name p_des: '[1]1 FAIR - Front Sheet'!$D$7
Name page1: '[1]9 Approved Data Cards'!$A$221:$E$280
Name page2: '[1]9 Approved Data Cards'!$A$281:$E$340
Name page3: '[1]9 Approved Data Cards'!$A$341:$E$400
Name part_num: '[1]1 FAIR - Front Sheet'!$D$6
Name phone: '[1]1 FAIR - Front Sheet'!$J$19
Name Point_of_Embodiment: #REF!
Name Point_of_Embodiment: #REF!
Name prep: #REF!
Name prep2: #REF!
Name prepar: '[1]15 AS-EN-SJAC 9102 Form 3'!$C$31
Name prepar2: '[1]15 AS-EN-SJAC 9102 Form 3'!$A$31:$F$31
Name Product_Designation: #REF!
Name Product_Designation: #REF!

Sheet 6.4- RC
B1: RELEVE DE COTES | AC1: Dimensions linéaire
B3: Client | D3: Pièce | F3: Référence | J3: N°Plan | L3: Ind A | AC3: Classe de tolérance | AE3: 0.5 | AF3: 3 | AG3: 6 | AH3: 30 | AI3: 120 | AJ3: 400 | AK3: 1000 | AL3: 2000
B4: Classe de tolérance | D4: Quantité | F4: N° Commande client | J4: Type de RC | K4: Série | AC4: f | AE4: ±0,05 | AF4: ±0,05 | AG4: ±0,1 | AH4: ±0,15 | AI4: ±0,2 | AJ4: ±0,3 | AK4: ±0,5 | AL4: -
B5: SUIVANT ISO 2768 | AC5: c | AE5: ±0,2 | AF5: ±0,3 | AG5: ±0,5 | AH5: ±0,8 | AI5: ±1,2 | AJ5: ±2 | AK5: ±3 | AL5: ±4
AC6: v | AE6: - | AF6: ±0,5 | AG6: ±1 | AH6: ±1,5 | AI6: ±2,5 | AJ6: ±4 | AK6: ±6 | AL6: ±8
A7: SERIE | B7: LOCALISATION | C7: REPERE | D7: CRITICITE | E7: COTE THEORIQUE | F7: RELEVE | G7: VALEUR MINI | H7: VALEUR MAXI | I7: INSTRUMENT DE CONTRÔLE | K7: TAUX DE PRELEVEMENT | O7: NOMBRE | P7: TYPE DE COTE | Q7: COTE THEORIQUE | R7: INTERVALLE DE TOLERANCE | S7: REFERENCE | T7: FAMILLE | V7: LEGENDE | X7: TYPE DE COTE
A8: X | B8: COUPE A-A | C8: 1 | D8: High | E8: =IF(AND(O8="",P8="°"),Q8&P8&R8&S8, IF(AND(O8="",P8<>"°"),P8&Q8&R8&S8, IF(AND(O8<>"",P8="°"),O8&"x "&Q8&P8&R8&S8, IF(AND(O8<>"",P8<>"°"),O8&"x "&P8&Q8&R8&S8)))) -> Ø0,50 | G8: =IF(AND(R8="",Q8<>""),0, IF(AND(R8=0,Q8=""),"", IF(AND(R8<>"",Q8<>""),Q8-MID(R8,3,5),))) -> #VALUE! | H8: =IF(AND(R8="",Q8<>""),Q8, IF(AND(R8=0,Q8=""),"", IF(AND(R8<>"",Q8<>""),Q8+MID(R8,3,5)))) -> #VALUE! | P8: =X8 -> Ø | Q8: 0.5 | R8: =IF(AND(T8=$V$8,0.5<=Q8,Q8<=3,$C$4="f"),'6.4- RC'!$AE$4, IF(AND(T8=$V$8,3<Q8,Q8<=6,$C$4="f"),'6.4- RC'!$AF$4, IF(AND(T8=$V$8,6<Q8,Q8<=30,$C$4="f"),'6.4- RC'!$AG$4, IF(AND(T8=$V$8,30<Q8,Q8<=120,$C$4="f"),'6.4- RC'!$AH$4, IF(AND(T8=$V$8,120<Q8,Q8<=400,$C$4="f"),'6.4- RC'!$AI$4, IF(AND(T8=$V$8,400<Q8,Q8<=1000,$C$4="f"),'6.4- RC'!$AJ$4, IF(AND(T8=$V$8,1000<Q8,Q8<=2000,$C$4="f"),'6.4- RC'!$AK$4, IF(AND(T8=$V$8,2000<Q8,Q8<=4000,$C$4="f"),'6.4- RC'!$AL$4, IF(AND(T8=$V$9,0.5<=Q8,Q8<=3,$C$4="f"),'6.4- RC'!$AE$11, IF(AND(T8=$V$9,3<Q8,Q8<=6,$C$4="f"),'6.4- RC'!$AF$11, IF(AND(T8=$V$9,6<Q8,$C$4="f"),'6.4- RC'!$AG$11, IF(AND(T8=$V$8,0.5<=Q8,Q8<=3,$C$4="m"),'6.4- RC'!#REF!, IF(AND(T8=$V$8,3<Q8,Q8<=6,$C$4="m"),'6.4- RC'!#REF!, IF(AND(T8=$V$8,6<Q8,Q8<=30,$C$4="m"),'6.4- RC'!#REF!, IF(AND(T8=$V$8,30<Q8,Q8<=120,$C$4="m"),'6.4- RC'!#REF!, IF(AND(T8=$V$8,120<Q8,Q8<=400,$C$4="m"),'6.4- RC'!#REF!, IF(AND(T8=$V$8,400<Q8,Q8<=1000,$C$4="m"),'6.4- RC'!#REF!, IF(AND(T8=$V$8,1000<Q8,Q8<=2000,$C$4="m"),'6.4- RC'!#REF!, IF(AND(T8=$V$8,2000<Q8,Q8<=4000,$C$4="m"),'6.4- RC'!#REF!, IF(AND(T8=$V$9,0.5<=Q8,Q8<=3,$C$4="m"),'6.4- RC'!$AE$11, IF(AND(T8=$V$9,3<Q8,Q8<=6,$C$4="m"),'6.4- RC'!$AF$11, IF(AND(T8=$V$9,6<Q8,$C$4="m"),'6.4- RC'!$AG$11, IF(AND(T8=$V$8,0.5<=Q8,Q8<=3,$C$4="c"),'6.4- RC'!$AE$5, IF(AND(T8=$V$8,3<Q8,Q8<=6,$C$4="c"),'6.4- RC'!$AF$5, IF(AND(T8=$V$8,6<Q8,Q8<=30,$C$4="c"),'6.4- RC'!$AG$5, IF(AND(T8=$V$8,30<Q8,Q8<=120,$C$4="c"),'6.4- RC'!$AH$5, IF(AND(T8=$V$8,120<Q8,Q8<=400,$C$4="c"),'6.4- RC'!$AI$5, IF(AND(T8=$V$8,400<Q8,Q8<=1000,$C$4="c"),'6.4- RC'!$AJ$5, IF(AND(T8=$V$8,1000<Q8,Q8<=2000,$C$4="c"),'6.4- RC'!$AK$5, IF(AND(T8=$V$8,2000<Q8,Q8<=4000,$C$4="c"),'6.4- RC'!$AL$5, IF(AND(T8=$V$9,0.5<=Q8,Q8<=3,$C$4="c"),'6.4- RC'!$AE$13, IF(AND(T8=$V$9,3<Q8,Q8<=6,$C$4="c"),'6.4- RC'!$AF$13, IF(AND(T8=$V$9,6<Q8,$C$4="c"),'6.4- RC'!$AG$13, IF(AND(T8=$V$8,0.5<=Q8,Q8<=3,$C$4="v"),'6.4- RC'!$AE$6, IF(AND(T8=$V$8,3<Q8,Q8<=6,$C$4="v"),'6.4- RC'!$AF$6, IF(AND(T8=$V$8,6<Q8,Q8<=30,$C$4="v"),'6.4- RC'!$AG$6, IF(AND(T8=$V$8,30<Q8,Q8<=120,$C$4="v"),'6.4- RC'!$AH$6, IF(AND(T8=$V$8,120<Q8,Q8<=400,$C$4="v"),'6.4- RC'!$AI$6, IF(AND(T8=$V$8,400<Q8,Q8<=1000,$C$4="v"),'6.4- RC'!$AJ$6, IF(AND(T8=$V$8,1000<Q8,Q8<=2000,$C$4="v"),'6.4- RC'!$AK$6, IF(AND(T8=$V$8,2000<Q8,Q8<=4000,$C$4="v"),'6.4- RC'!$AL$6, IF(AND(T8=$V$9,0.5<=Q8,Q8<=3,$C$4="v"),'6.4- RC'!$AE$13, IF(AND(T8=$V$9,3<Q8,Q8<=6,$C$4="v"),'6.4- RC'!$AF$13, IF(AND(T8=$V$9,6<Q8,$C$4="v"),'6.4- RC'!$AG$13, )))))))))))))))))))))))))))))))))))))))))))) -> 0 | T8: =V9 -> Rayons ext et hauteurs de chanfrein | V8: Dimensions linéaire | X8: Ø | AC8: Rayons extérieurs & hauteurs de chanfreins
B9: COUPE A-A | C9: 2 | D9: Low | E9: =IF(AND(O9="",P9="°"),Q9&P9&R9&S9, IF(AND(O9="",P9<>"°"),P9&Q9&R9&S9, IF(AND(O9<>"",P9="°"),O9&"x "&Q9&P9&R9&S9, IF(AND(O9<>"",P9<>"°"),O9&"x "&P9&Q9&R9&S9)))) -> 1000 | G9: =IF(AND(R9="",Q9<>""),0, IF(AND(R9=0,Q9=""),"", IF(AND(R9<>"",Q9<>""),Q9-MID(R9,3,5),))) -> #VALUE! | H9: =IF(AND(R9="",Q9<>""),Q9, IF(AND(R9=0,Q9=""),"", IF(AND(R9<>"",Q9<>""),Q9+MID(R9,3,5)))) -> #VALUE! | Q9: 100 | R9: =IF(AND(T9=$V$8,0.5<=Q9,Q9<=3,$C$4="f"),'6.4- RC'!$AE$4, IF(AND(T9=$V$8,3<Q9,Q9<=6,$C$4="f"),'6.4- RC'!$AF$4, IF(AND(T9=$V$8,6<Q9,Q9<=30,$C$4="f"),'6.4- RC'!$AG$4, IF(AND(T9=$V$8,30<Q9,Q9<=120,$C$4="f"),'6.4- RC'!$AH$4, IF(AND(T9=$V$8,120<Q9,Q9<=400,$C$4="f"),'6.4- RC'!$AI$4, IF(AND(T9=$V$8,400<Q9,Q9<=1000,$C$4="f"),'6.4- RC'!$AJ$4, IF(AND(T9=$V$8,1000<Q9,Q9<=2000,$C$4="f"),'6.4- RC'!$AK$4, IF(AND(T9=$V$8,2000<Q9,Q9<=4000,$C$4="f"),'6.4- RC'!$AL$4, IF(AND(T9=$V$9,0.5<=Q9,Q9<=3,$C$4="f"),'6.4- RC'!$AE$11, IF(AND(T9=$V$9,3<Q9,Q9<=6,$C$4="f"),'6.4- RC'!$AF$11, IF(AND(T9=$V$9,6<Q9,$C$4="f"),'6.4- RC'!$AG$11, IF(AND(T9=$V$8,0.5<=Q9,Q9<=3,$C$4="m"),'6.4- RC'!#REF!, IF(AND(T9=$V$8,3<Q9,Q9<=6,$C$4="m"),'6.4- RC'!#REF!, IF(AND(T9=$V$8,6<Q9,Q9<=30,$C$4="m"),'6.4- RC'!#REF!, IF(AND(T9=$V$8,30<Q9,Q9<=120,$C$4="m"),'6.4- RC'!#REF!, IF(AND(T9=$V$8,120<Q9,Q9<=400,$C$4="m"),'6.4- RC'!#REF!, IF(AND(T9=$V$8,400<Q9,Q9<=1000,$C$4="m"),'6.4- RC'!#REF!, IF(AND(T9=$V$8,1000<Q9,Q9<=2000,$C$4="m"),'6.4- RC'!#REF!, IF(AND(T9=$V$8,2000<Q9,Q9<=4000,$C$4="m"),'6.4- RC'!#REF!, IF(AND(T9=$V$9,0.5<=Q9,Q9<=3,$C$4="m"),'6.4- RC'!$AE$11, IF(AND(T9=$V$9,3<Q9,Q9<=6,$C$4="m"),'6.4- RC'!$AF$11, IF(AND(T9=$V$9,6<Q9,$C$4="m"),'6.4- RC'!$AG$11, IF(AND(T9=$V$8,0.5<=Q9,Q9<=3,$C$4="c"),'6.4- RC'!$AE$5, IF(AND(T9=$V$8,3<Q9,Q9<=6,$C$4="c"),'6.4- RC'!$AF$5, IF(AND(T9=$V$8,6<Q9,Q9<=30,$C$4="c"),'6.4- RC'!$AG$5, IF(AND(T9=$V$8,30<Q9,Q9<=120,$C$4="c"),'6.4- RC'!$AH$5, IF(AND(T9=$V$8,120<Q9,Q9<=400,$C$4="c"),'6.4- RC'!$AI$5, IF(AND(T9=$V$8,400<Q9,Q9<=1000,$C$4="c"),'6.4- RC'!$AJ$5, IF(AND(T9=$V$8,1000<Q9,Q9<=2000,$C$4="c"),'6.4- RC'!$AK$5, IF(AND(T9=$V$8,2000<Q9,Q9<=4000,$C$4="c"),'6.4- RC'!$AL$5, IF(AND(T9=$V$9,0.5<=Q9,Q9<=3,$C$4="c"),'6.4- RC'!$AE$13, IF(AND(T9=$V$9,3<Q9,Q9<=6,$C$4="c"),'6.4- RC'!$AF$13, IF(AND(T9=$V$9,6<Q9,$C$4="c"),'6.4- RC'!$AG$13, IF(AND(T9=$V$8,0.5<=Q9,Q9<=3,$C$4="v"),'6.4- RC'!$AE$6, IF(AND(T9=$V$8,3<Q9,Q9<=6,$C$4="v"),'6.4- RC'!$AF$6, IF(AND(T9=$V$8,6<Q9,Q9<=30,$C$4="v"),'6.4- RC'!$AG$6, IF(AND(T9=$V$8,30<Q9,Q9<=120,$C$4="v"),'6.4- RC'!$AH$6, IF(AND(T9=$V$8,120<Q9,Q9<=400,$C$4="v"),'6.4- RC'!$AI$6, IF(AND(T9=$V$8,400<Q9,Q9<=1000,$C$4="v"),'6.4- RC'!$AJ$6, IF(AND(T9=$V$8,1000<Q9,Q9<=2000,$C$4="v"),'6.4- RC'!$AK$6, IF(AND(T9=$V$8,2000<Q9,Q9<=4000,$C$4="v"),'6.4- RC'!$AL$6, IF(AND(T9=$V$9,0.5<=Q9,Q9<=3,$C$4="v"),'6.4- RC'!$AE$13, IF(AND(T9=$V$9,3<Q9,Q9<=6,$C$4="v"),'6.4- RC'!$AF$13, IF(AND(T9=$V$9,6<Q9,$C$4="v"),'6.4- RC'!$AG$13, )))))))))))))))))))))))))))))))))))))))))))) -> 0 | T9: =V8 -> Dimensions linéaire | V9: Rayons ext et hauteurs de chanfrein | X9: ° | AC9: Classe de tolérance | AE9: 0.5 | AF9: 3 | AG9: 6
B10: COUPE A-A | C10: 3 | E10: =IF(AND(O10="",P10="°"),Q10&P10&R10&S10, IF(AND(O10="",P10<>"°"),P10&Q10&R10&S10, IF(AND(O10<>"",P10="°"),O10&"x "&Q10&P10&R10&S10, IF(AND(O10<>"",P10<>"°"),O10&"x "&P10&Q10&R10&S10)))) -> Parallélisme 0,1 | G10: =IF(AND(R10="",Q10<>""),0, IF(AND(R10=0,Q10=""),"", IF(AND(R10<>"",Q10<>""),Q10-MID(R10,3,5),))) -> 0 | H10: =IF(AND(R10="",Q10<>""),Q10, IF(AND(R10=0,Q10=""),"", IF(AND(R10<>"",Q10<>""),Q10+MID(R10,3,5)))) -> 0.1 | P10: =X10 -> Parallélisme | Q10: 0.1 | V10: Dimensions angulaire | X10: Parallélisme | AE10: 3 | AF10: 6
B11: COUPE A-A | C11: 4 | E11: =IF(AND(O11="",P11="°"),Q11&P11&R11&S11, IF(AND(O11="",P11<>"°"),P11&Q11&R11&S11, IF(AND(O11<>"",P11="°"),O11&"x "&Q11&P11&R11&S11, IF(AND(O11<>"",P11<>"°"),O11&"x "&P11&Q11&R11&S11)))) -> Localisation Ø6/D | G11: =IF(AND(R11="",Q11<>""),0, IF(AND(R11=0,Q11=""),"", IF(AND(R11<>"",Q11<>""),Q11-MID(R11,3,5),))) -> 0 | H11: =IF(AND(R11="",Q11<>""),Q11, IF(AND(R11=0,Q11=""),"", IF(AND(R11<>"",Q11<>""),Q11+MID(R11,3,5)))) -> 6 | P11: =X11 -> Localisation Ø | Q11: 6 | S11: /D | X11: Localisation Ø | AC11: f | AE11: ±0,2 | AF11: ±0,5 | AG11: ±1
A12: X | B12: COUPE A-A | C12: 5 | E12: =IF(AND(O12="",P12="°"),Q12&P12&R12&S12, IF(AND(O12="",P12<>"°"),P12&Q12&R12&S12, IF(AND(O12<>"",P12="°"),O12&"x "&Q12&P12&R12&S12, IF(AND(O12<>"",P12<>"°"),O12&"x "&P12&Q12&R12&S12)))) -> Localisation 20 | G12: =IF(AND(R12="",Q12<>""),0, IF(AND(R12=0,Q12=""),"", IF(AND(R12<>"",Q12<>""),Q12-MID(R12,3,5),))) -> 0 | H12: =IF(AND(R12="",Q12<>""),Q12, IF(AND(R12=0,Q12=""),"", IF(AND(R12<>"",Q12<>""),Q12+MID(R12,3,5)))) -> 20 | P12: Localisation | Q12: 20 | X12: Localisation | AC12: m
B13: COUPE A-A | C13: 6 | E13: =IF(AND(O13="",P13="°"),Q13&P13&R13&S13, IF(AND(O13="",P13<>"°"),P13&Q13&R13&S13, IF(AND(O13<>"",P13="°"),O13&"x "&Q13&P13&R13&S13, IF(AND(O13<>"",P13<>"°"),O13&"x "&P13&Q13&R13&S13)))) -> Cylindricité 95 | G13: =IF(AND(R13="",Q13<>""),0, IF(AND(R13=0,Q13=""),"", IF(AND(R13<>"",Q13<>""),Q13-MID(R13,3,5),))) -> 0 | H13: =IF(AND(R13="",Q13<>""),Q13, IF(AND(R13=0,Q13=""),"", IF(AND(R13<>"",Q13<>""),Q13+MID(R13,3,5)))) -> 95 | P13: =X13 -> Cylindricité | Q13: 95 | X13: Cylindricité | AC13: c | AE13: ±0,4 | AF13: ±1 | AG13: ±2
B14: COUPE A-A | C14: 7 | E14: =IF(AND(O14="",P14="°"),Q14&P14&R14&S14, IF(AND(O14="",P14<>"°"),P14&Q14&R14&S14, IF(AND(O14<>"",P14="°"),O14&"x "&Q14&P14&R14&S14, IF(AND(O14<>"",P14<>"°"),O14&"x "&P14&Q14&R14&S14)))) -> Concentricité 35/H | G14: =IF(AND(R14="",Q14<>""),0, IF(AND(R14=0,Q14=""),"", IF(AND(R14<>"",Q14<>""),Q14-MID(R14,3,5),))) -> 0 | H14: =IF(AND(R14="",Q14<>""),Q14, IF(AND(R14=0,Q14=""),"", IF(AND(R14<>"",Q14<>""),Q14+MID(R14,3,5)))) -> 35 | P14: =X14 -> Concentricité | Q14: 35 | S14: /H | X14: Concentricité | AC14: v
A15: X | B15: COUPE A-A | C15: 8 | E15: =IF(AND(O15="",P15="°"),Q15&P15&R15&S15, IF(AND(O15="",P15<>"°"),P15&Q15&R15&S15, IF(AND(O15<>"",P15="°"),O15&"x "&Q15&P15&R15&S15, IF(AND(O15<>"",P15<>"°"),O15&"x "&P15&Q15&R15&S15)))) -> Perpendicularité 45 | G15: =IF(AND(R15="",Q15<>""),0, IF(AND(R15=0,Q15=""),"", IF(AND(R15<>"",Q15<>""),Q15-MID(R15,3,5),))) -> 0 | H15: =IF(AND(R15="",Q15<>""),Q15, IF(AND(R15=0,Q15=""),"", IF(AND(R15<>"",Q15<>""),Q15+MID(R15,3,5)))) -> 45 | P15: =X15 -> Perpendicularité | Q15: 45 | X15: Perpendicularité
A16: X | B16: COUPE A-A | C16: 9 | E16: =IF(AND(O16="",P16="°"),Q16&P16&R16&S16, IF(AND(O16="",P16<>"°"),P16&Q16&R16&S16, IF(AND(O16<>"",P16="°"),O16&"x "&Q16&P16&R16&S16, IF(AND(O16<>"",P16<>"°"),O16&"x "&P16&Q16&R16&S16)))) -> Rectitude 60 | G16: =IF(AND(R16="",Q16<>""),0, IF(AND(R16=0,Q16=""),"", IF(AND(R16<>"",Q16<>""),Q16-MID(R16,3,5),))) -> 0 | H16: =IF(AND(R16="",Q16<>""),Q16, IF(AND(R16=0,Q16=""),"", IF(AND(R16<>"",Q16<>""),Q16+MID(R16,3,5)))) -> 60 | P16: =X16 -> Rectitude | Q16: 60 | X16: Rectitude | AC16: Dimensions angulaires
A17: X | B17: COUPE A-A | C17: 10 | E17: =IF(AND(O17="",P17="°"),Q17&P17&R17&S17, IF(AND(O17="",P17<>"°"),P17&Q17&R17&S17, IF(AND(O17<>"",P17="°"),O17&"x "&Q17&P17&R17&S17, IF(AND(O17<>"",P17<>"°"),O17&"x "&P17&Q17&R17&S17)))) -> Planéité 125 | G17: =IF(AND(R17="",Q17<>""),0, IF(AND(R17=0,Q17=""),"", IF(AND(R17<>"",Q17<>""),Q17-MID(R17,3,5),))) -> 0 | H17: =IF(AND(R17="",Q17<>""),Q17, IF(AND(R17=0,Q17=""),"", IF(AND(R17<>"",Q17<>""),Q17+MID(R17,3,5)))) -> 125 | P17: =X17 -> Planéité | Q17: 125 | X17: Planéité | AC17: Classe de tolérance | AF17: 10 | AG17: 50 | AH17: 120 | AI17: 400
E18: =IF(AND(O18="",P18="°"),Q18&P18&R18&S18, IF(AND(O18="",P18<>"°"),P18&Q18&R18&S18, IF(AND(O18<>"",P18="°"),O18&"x "&Q18&P18&R18&S18, IF(AND(O18<>"",P18<>"°"),O18&"x "&P18&Q18&R18&S18)))) -> 0 | G18: =IF(AND(R18="",Q18<>""),0, IF(AND(R18=0,Q18=""),"", IF(AND(R18<>"",Q18<>""),Q18-MID(R18,3,5),))) | H18: =IF(AND(R18="",Q18<>""),Q18, IF(AND(R18=0,Q18=""),"", IF(AND(R18<>"",Q18<>""),Q18+MID(R18,3,5)))) | R18: =IF(AND(T18=$V$8,0.5<=Q18,Q18<=3,$C$4="f"),'6.4- RC'!$AE$4, IF(AND(T18=$V$8,3<Q18,Q18<=6,$C$4="f"),'6.4- RC'!$AF$4, IF(AND(T18=$V$8,6<Q18,Q18<=30,$C$4="f"),'6.4- RC'!$AG$4, IF(AND(T18=$V$8,30<Q18,Q18<=120,$C$4="f"),'6.4- RC'!$AH$4, IF(AND(T18=$V$8,120<Q18,Q18<=400,$C$4="f"),'6.4- RC'!$AI$4, IF(AND(T18=$V$8,400<Q18,Q18<=1000,$C$4="f"),'6.4- RC'!$AJ$4, IF(AND(T18=$V$8,1000<Q18,Q18<=2000,$C$4="f"),'6.4- RC'!$AK$4, IF(AND(T18=$V$8,2000<Q18,Q18<=4000,$C$4="f"),'6.4- RC'!$AL$4, IF(AND(T18=$V$9,0.5<=Q18,Q18<=3,$C$4="f"),'6.4- RC'!$AE$11, IF(AND(T18=$V$9,3<Q18,Q18<=6,$C$4="f"),'6.4- RC'!$AF$11, IF(AND(T18=$V$9,6<Q18,$C$4="f"),'6.4- RC'!$AG$11, IF(AND(T18=$V$8,0.5<=Q18,Q18<=3,$C$4="m"),'6.4- RC'!#REF!, IF(AND(T18=$V$8,3<Q18,Q18<=6,$C$4="m"),'6.4- RC'!#REF!, IF(AND(T18=$V$8,6<Q18,Q18<=30,$C$4="m"),'6.4- RC'!#REF!, IF(AND(T18=$V$8,30<Q18,Q18<=120,$C$4="m"),'6.4- RC'!#REF!, IF(AND(T18=$V$8,120<Q18,Q18<=400,$C$4="m"),'6.4- RC'!#REF!, IF(AND(T18=$V$8,400<Q18,Q18<=1000,$C$4="m"),'6.4- RC'!#REF!, IF(AND(T18=$V$8,1000<Q18,Q18<=2000,$C$4="m"),'6.4- RC'!#REF!, IF(AND(T18=$V$8,2000<Q18,Q18<=4000,$C$4="m"),'6.4- RC'!#REF!, IF(AND(T18=$V$9,0.5<=Q18,Q18<=3,$C$4="m"),'6.4- RC'!$AE$11, IF(AND(T18=$V$9,3<Q18,Q18<=6,$C$4="m"),'6.4- RC'!$AF$11, IF(AND(T18=$V$9,6<Q18,$C$4="m"),'6.4- RC'!$AG$11, IF(AND(T18=$V$8,0.5<=Q18,Q18<=3,$C$4="c"),'6.4- RC'!$AE$5, IF(AND(T18=$V$8,3<Q18,Q18<=6,$C$4="c"),'6.4- RC'!$AF$5, IF(AND(T18=$V$8,6<Q18,Q18<=30,$C$4="c"),'6.4- RC'!$AG$5, IF(AND(T18=$V$8,30<Q18,Q18<=120,$C$4="c"),'6.4- RC'!$AH$5, IF(AND(T18=$V$8,120<Q18,Q18<=400,$C$4="c"),'6.4- RC'!$AI$5, IF(AND(T18=$V$8,400<Q18,Q18<=1000,$C$4="c"),'6.4- RC'!$AJ$5, IF(AND(T18=$V$8,1000<Q18,Q18<=2000,$C$4="c"),'6.4- RC'!$AK$5, IF(AND(T18=$V$8,2000<Q18,Q18<=4000,$C$4="c"),'6.4- RC'!$AL$5, IF(AND(T18=$V$9,0.5<=Q18,Q18<=3,$C$4="c"),'6.4- RC'!$AE$13, IF(AND(T18=$V$9,3<Q18,Q18<=6,$C$4="c"),'6.4- RC'!$AF$13, IF(AND(T18=$V$9,6<Q18,$C$4="c"),'6.4- RC'!$AG$13, IF(AND(T18=$V$8,0.5<=Q18,Q18<=3,$C$4="v"),'6.4- RC'!$AE$6, IF(AND(T18=$V$8,3<Q18,Q18<=6,$C$4="v"),'6.4- RC'!$AF$6, IF(AND(T18=$V$8,6<Q18,Q18<=30,$C$4="v"),'6.4- RC'!$AG$6, IF(AND(T18=$V$8,30<Q18,Q18<=120,$C$4="v"),'6.4- RC'!$AH$6, IF(AND(T18=$V$8,120<Q18,Q18<=400,$C$4="v"),'6.4- RC'!$AI$6, IF(AND(T18=$V$8,400<Q18,Q18<=1000,$C$4="v"),'6.4- RC'!$AJ$6, IF(AND(T18=$V$8,1000<Q18,Q18<=2000,$C$4="v"),'6.4- RC'!$AK$6, IF(AND(T18=$V$8,2000<Q18,Q18<=4000,$C$4="v"),'6.4- RC'!$AL$6, IF(AND(T18=$V$9,0.5<=Q18,Q18<=3,$C$4="v"),'6.4- RC'!$AE$13, IF(AND(T18=$V$9,3<Q18,Q18<=6,$C$4="v"),'6.4- RC'!$AF$13, IF(AND(T18=$V$9,6<Q18,$C$4="v"),'6.4- RC'!$AG$13, )))))))))))))))))))))))))))))))))))))))))))) -> 0 | AE18: 10 | AF18: 50 | AG18: 120 | AH18: 400
E19: =IF(AND(O19="",P19="°"),Q19&P19&R19&S19, IF(AND(O19="",P19<>"°"),P19&Q19&R19&S19, IF(AND(O19<>"",P19="°"),O19&"x "&Q19&P19&R19&S19, IF(AND(O19<>"",P19<>"°"),O19&"x "&P19&Q19&R19&S19)))) -> 0 | G19: =IF(AND(R19="",Q19<>""),0, IF(AND(R19=0,Q19=""),"", IF(AND(R19<>"",Q19<>""),Q19-MID(R19,3,5),))) | H19: =IF(AND(R19="",Q19<>""),Q19, IF(AND(R19=0,Q19=""),"", IF(AND(R19<>"",Q19<>""),Q19+MID(R19,3,5)))) | R19: =IF(AND(T19=$V$8,0.5<=Q19,Q19<=3,$C$4="f"),'6.4- RC'!$AE$4, IF(AND(T19=$V$8,3<Q19,Q19<=6,$C$4="f"),'6.4- RC'!$AF$4, IF(AND(T19=$V$8,6<Q19,Q19<=30,$C$4="f"),'6.4- RC'!$AG$4, IF(AND(T19=$V$8,30<Q19,Q19<=120,$C$4="f"),'6.4- RC'!$AH$4, IF(AND(T19=$V$8,120<Q19,Q19<=400,$C$4="f"),'6.4- RC'!$AI$4, IF(AND(T19=$V$8,400<Q19,Q19<=1000,$C$4="f"),'6.4- RC'!$AJ$4, IF(AND(T19=$V$8,1000<Q19,Q19<=2000,$C$4="f"),'6.4- RC'!$AK$4, IF(AND(T19=$V$8,2000<Q19,Q19<=4000,$C$4="f"),'6.4- RC'!$AL$4, IF(AND(T19=$V$9,0.5<=Q19,Q19<=3,$C$4="f"),'6.4- RC'!$AE$11, IF(AND(T19=$V$9,3<Q19,Q19<=6,$C$4="f"),'6.4- RC'!$AF$11, IF(AND(T19=$V$9,6<Q19,$C$4="f"),'6.4- RC'!$AG$11, IF(AND(T19=$V$8,0.5<=Q19,Q19<=3,$C$4="m"),'6.4- RC'!#REF!, IF(AND(T19=$V$8,3<Q19,Q19<=6,$C$4="m"),'6.4- RC'!#REF!, IF(AND(T19=$V$8,6<Q19,Q19<=30,$C$4="m"),'6.4- RC'!#REF!, IF(AND(T19=$V$8,30<Q19,Q19<=120,$C$4="m"),'6.4- RC'!#REF!, IF(AND(T19=$V$8,120<Q19,Q19<=400,$C$4="m"),'6.4- RC'!#REF!, IF(AND(T19=$V$8,400<Q19,Q19<=1000,$C$4="m"),'6.4- RC'!#REF!, IF(AND(T19=$V$8,1000<Q19,Q19<=2000,$C$4="m"),'6.4- RC'!#REF!, IF(AND(T19=$V$8,2000<Q19,Q19<=4000,$C$4="m"),'6.4- RC'!#REF!, IF(AND(T19=$V$9,0.5<=Q19,Q19<=3,$C$4="m"),'6.4- RC'!$AE$11, IF(AND(T19=$V$9,3<Q19,Q19<=6,$C$4="m"),'6.4- RC'!$AF$11, IF(AND(T19=$V$9,6<Q19,$C$4="m"),'6.4- RC'!$AG$11, IF(AND(T19=$V$8,0.5<=Q19,Q19<=3,$C$4="c"),'6.4- RC'!$AE$5, IF(AND(T19=$V$8,3<Q19,Q19<=6,$C$4="c"),'6.4- RC'!$AF$5, IF(AND(T19=$V$8,6<Q19,Q19<=30,$C$4="c"),'6.4- RC'!$AG$5, IF(AND(T19=$V$8,30<Q19,Q19<=120,$C$4="c"),'6.4- RC'!$AH$5, IF(AND(T19=$V$8,120<Q19,Q19<=400,$C$4="c"),'6.4- RC'!$AI$5, IF(AND(T19=$V$8,400<Q19,Q19<=1000,$C$4="c"),'6.4- RC'!$AJ$5, IF(AND(T19=$V$8,1000<Q19,Q19<=2000,$C$4="c"),'6.4- RC'!$AK$5, IF(AND(T19=$V$8,2000<Q19,Q19<=4000,$C$4="c"),'6.4- RC'!$AL$5, IF(AND(T19=$V$9,0.5<=Q19,Q19<=3,$C$4="c"),'6.4- RC'!$AE$13, IF(AND(T19=$V$9,3<Q19,Q19<=6,$C$4="c"),'6.4- RC'!$AF$13, IF(AND(T19=$V$9,6<Q19,$C$4="c"),'6.4- RC'!$AG$13, IF(AND(T19=$V$8,0.5<=Q19,Q19<=3,$C$4="v"),'6.4- RC'!$AE$6, IF(AND(T19=$V$8,3<Q19,Q19<=6,$C$4="v"),'6.4- RC'!$AF$6, IF(AND(T19=$V$8,6<Q19,Q19<=30,$C$4="v"),'6.4- RC'!$AG$6, IF(AND(T19=$V$8,30<Q19,Q19<=120,$C$4="v"),'6.4- RC'!$AH$6, IF(AND(T19=$V$8,120<Q19,Q19<=400,$C$4="v"),'6.4- RC'!$AI$6, IF(AND(T19=$V$8,400<Q19,Q19<=1000,$C$4="v"),'6.4- RC'!$AJ$6, IF(AND(T19=$V$8,1000<Q19,Q19<=2000,$C$4="v"),'6.4- RC'!$AK$6, IF(AND(T19=$V$8,2000<Q19,Q19<=4000,$C$4="v"),'6.4- RC'!$AL$6, IF(AND(T19=$V$9,0.5<=Q19,Q19<=3,$C$4="v"),'6.4- RC'!$AE$13, IF(AND(T19=$V$9,3<Q19,Q19<=6,$C$4="v"),'6.4- RC'!$AF$13, IF(AND(T19=$V$9,6<Q19,$C$4="v"),'6.4- RC'!$AG$13, )))))))))))))))))))))))))))))))))))))))))))) -> 0 | AC19: f | AE19: ±1° | AF19: ±0°30' | AG19: ±0°20' | AH19: ±0°10' | AI19: ±0°50'
E20: =IF(AND(O20="",P20="°"),Q20&P20&R20&S20, IF(AND(O20="",P20<>"°"),P20&Q20&R20&S20, IF(AND(O20<>"",P20="°"),O20&"x "&Q20&P20&R20&S20, IF(AND(O20<>"",P20<>"°"),O20&"x "&P20&Q20&R20&S20)))) -> 0 | G20: =IF(AND(R20="",Q20<>""),0, IF(AND(R20=0,Q20=""),"", IF(AND(R20<>"",Q20<>""),Q20-MID(R20,3,5),))) | H20: =IF(AND(R20="",Q20<>""),Q20, IF(AND(R20=0,Q20=""),"", IF(AND(R20<>"",Q20<>""),Q20+MID(R20,3,5)))) | R20: =IF(AND(T20=$V$8,0.5<=Q20,Q20<=3,$C$4="f"),'6.4- RC'!$AE$4, IF(AND(T20=$V$8,3<Q20,Q20<=6,$C$4="f"),'6.4- RC'!$AF$4, IF(AND(T20=$V$8,6<Q20,Q20<=30,$C$4="f"),'6.4- RC'!$AG$4, IF(AND(T20=$V$8,30<Q20,Q20<=120,$C$4="f"),'6.4- RC'!$AH$4, IF(AND(T20=$V$8,120<Q20,Q20<=400,$C$4="f"),'6.4- RC'!$AI$4, IF(AND(T20=$V$8,400<Q20,Q20<=1000,$C$4="f"),'6.4- RC'!$AJ$4, IF(AND(T20=$V$8,1000<Q20,Q20<=2000,$C$4="f"),'6.4- RC'!$AK$4, IF(AND(T20=$V$8,2000<Q20,Q20<=4000,$C$4="f"),'6.4- RC'!$AL$4, IF(AND(T20=$V$9,0.5<=Q20,Q20<=3,$C$4="f"),'6.4- RC'!$AE$11, IF(AND(T20=$V$9,3<Q20,Q20<=6,$C$4="f"),'6.4- RC'!$AF$11, IF(AND(T20=$V$9,6<Q20,$C$4="f"),'6.4- RC'!$AG$11, IF(AND(T20=$V$8,0.5<=Q20,Q20<=3,$C$4="m"),'6.4- RC'!#REF!, IF(AND(T20=$V$8,3<Q20,Q20<=6,$C$4="m"),'6.4- RC'!#REF!, IF(AND(T20=$V$8,6<Q20,Q20<=30,$C$4="m"),'6.4- RC'!#REF!, IF(AND(T20=$V$8,30<Q20,Q20<=120,$C$4="m"),'6.4- RC'!#REF!, IF(AND(T20=$V$8,120<Q20,Q20<=400,$C$4="m"),'6.4- RC'!#REF!, IF(AND(T20=$V$8,400<Q20,Q20<=1000,$C$4="m"),'6.4- RC'!#REF!, IF(AND(T20=$V$8,1000<Q20,Q20<=2000,$C$4="m"),'6.4- RC'!#REF!, IF(AND(T20=$V$8,2000<Q20,Q20<=4000,$C$4="m"),'6.4- RC'!#REF!, IF(AND(T20=$V$9,0.5<=Q20,Q20<=3,$C$4="m"),'6.4- RC'!$AE$11, IF(AND(T20=$V$9,3<Q20,Q20<=6,$C$4="m"),'6.4- RC'!$AF$11, IF(AND(T20=$V$9,6<Q20,$C$4="m"),'6.4- RC'!$AG$11, IF(AND(T20=$V$8,0.5<=Q20,Q20<=3,$C$4="c"),'6.4- RC'!$AE$5, IF(AND(T20=$V$8,3<Q20,Q20<=6,$C$4="c"),'6.4- RC'!$AF$5, IF(AND(T20=$V$8,6<Q20,Q20<=30,$C$4="c"),'6.4- RC'!$AG$5, IF(AND(T20=$V$8,30<Q20,Q20<=120,$C$4="c"),'6.4- RC'!$AH$5, IF(AND(T20=$V$8,120<Q20,Q20<=400,$C$4="c"),'6.4- RC'!$AI$5, IF(AND(T20=$V$8,400<Q20,Q20<=1000,$C$4="c"),'6.4- RC'!$AJ$5, IF(AND(T20=$V$8,1000<Q20,Q20<=2000,$C$4="c"),'6.4- RC'!$AK$5, IF(AND(T20=$V$8,2000<Q20,Q20<=4000,$C$4="c"),'6.4- RC'!$AL$5, IF(AND(T20=$V$9,0.5<=Q20,Q20<=3,$C$4="c"),'6.4- RC'!$AE$13, IF(AND(T20=$V$9,3<Q20,Q20<=6,$C$4="c"),'6.4- RC'!$AF$13, IF(AND(T20=$V$9,6<Q20,$C$4="c"),'6.4- RC'!$AG$13, IF(AND(T20=$V$8,0.5<=Q20,Q20<=3,$C$4="v"),'6.4- RC'!$AE$6, IF(AND(T20=$V$8,3<Q20,Q20<=6,$C$4="v"),'6.4- RC'!$AF$6, IF(AND(T20=$V$8,6<Q20,Q20<=30,$C$4="v"),'6.4- RC'!$AG$6, IF(AND(T20=$V$8,30<Q20,Q20<=120,$C$4="v"),'6.4- RC'!$AH$6, IF(AND(T20=$V$8,120<Q20,Q20<=400,$C$4="v"),'6.4- RC'!$AI$6, IF(AND(T20=$V$8,400<Q20,Q20<=1000,$C$4="v"),'6.4- RC'!$AJ$6, IF(AND(T20=$V$8,1000<Q20,Q20<=2000,$C$4="v"),'6.4- RC'!$AK$6, IF(AND(T20=$V$8,2000<Q20,Q20<=4000,$C$4="v"),'6.4- RC'!$AL$6, IF(AND(T20=$V$9,0.5<=Q20,Q20<=3,$C$4="v"),'6.4- RC'!$AE$13, IF(AND(T20=$V$9,3<Q20,Q20<=6,$C$4="v"),'6.4- RC'!$AF$13, IF(AND(T20=$V$9,6<Q20,$C$4="v"),'6.4- RC'!$AG$13, )))))))))))))))))))))))))))))))))))))))))))) -> 0 | AC20: m
E21: =IF(AND(O21="",P21="°"),Q21&P21&R21&S21, IF(AND(O21="",P21<>"°"),P21&Q21&R21&S21, IF(AND(O21<>"",P21="°"),O21&"x "&Q21&P21&R21&S21, IF(AND(O21<>"",P21<>"°"),O21&"x "&P21&Q21&R21&S21)))) -> 0 | G21: =IF(AND(R21="",Q21<>""),0, IF(AND(R21=0,Q21=""),"", IF(AND(R21<>"",Q21<>""),Q21-MID(R21,3,5),))) | H21: =IF(AND(R21="",Q21<>""),Q21, IF(AND(R21=0,Q21=""),"", IF(AND(R21<>"",Q21<>""),Q21+MID(R21,3,5)))) | R21: =IF(AND(T21=$V$8,0.5<=Q21,Q21<=3,$C$4="f"),'6.4- RC'!$AE$4, IF(AND(T21=$V$8,3<Q21,Q21<=6,$C$4="f"),'6.4- RC'!$AF$4, IF(AND(T21=$V$8,6<Q21,Q21<=30,$C$4="f"),'6.4- RC'!$AG$4, IF(AND(T21=$V$8,30<Q21,Q21<=120,$C$4="f"),'6.4- RC'!$AH$4, IF(AND(T21=$V$8,120<Q21,Q21<=400,$C$4="f"),'6.4- RC'!$AI$4, IF(AND(T21=$V$8,400<Q21,Q21<=1000,$C$4="f"),'6.4- RC'!$AJ$4, IF(AND(T21=$V$8,1000<Q21,Q21<=2000,$C$4="f"),'6.4- RC'!$AK$4, IF(AND(T21=$V$8,2000<Q21,Q21<=4000,$C$4="f"),'6.4- RC'!$AL$4, IF(AND(T21=$V$9,0.5<=Q21,Q21<=3,$C$4="f"),'6.4- RC'!$AE$11, IF(AND(T21=$V$9,3<Q21,Q21<=6,$C$4="f"),'6.4- RC'!$AF$11, IF(AND(T21=$V$9,6<Q21,$C$4="f"),'6.4- RC'!$AG$11, IF(AND(T21=$V$8,0.5<=Q21,Q21<=3,$C$4="m"),'6.4- RC'!#REF!, IF(AND(T21=$V$8,3<Q21,Q21<=6,$C$4="m"),'6.4- RC'!#REF!, IF(AND(T21=$V$8,6<Q21,Q21<=30,$C$4="m"),'6.4- RC'!#REF!, IF(AND(T21=$V$8,30<Q21,Q21<=120,$C$4="m"),'6.4- RC'!#REF!, IF(AND(T21=$V$8,120<Q21,Q21<=400,$C$4="m"),'6.4- RC'!#REF!, IF(AND(T21=$V$8,400<Q21,Q21<=1000,$C$4="m"),'6.4- RC'!#REF!, IF(AND(T21=$V$8,1000<Q21,Q21<=2000,$C$4="m"),'6.4- RC'!#REF!, IF(AND(T21=$V$8,2000<Q21,Q21<=4000,$C$4="m"),'6.4- RC'!#REF!, IF(AND(T21=$V$9,0.5<=Q21,Q21<=3,$C$4="m"),'6.4- RC'!$AE$11, IF(AND(T21=$V$9,3<Q21,Q21<=6,$C$4="m"),'6.4- RC'!$AF$11, IF(AND(T21=$V$9,6<Q21,$C$4="m"),'6.4- RC'!$AG$11, IF(AND(T21=$V$8,0.5<=Q21,Q21<=3,$C$4="c"),'6.4- RC'!$AE$5, IF(AND(T21=$V$8,3<Q21,Q21<=6,$C$4="c"),'6.4- RC'!$AF$5, IF(AND(T21=$V$8,6<Q21,Q21<=30,$C$4="c"),'6.4- RC'!$AG$5, IF(AND(T21=$V$8,30<Q21,Q21<=120,$C$4="c"),'6.4- RC'!$AH$5, IF(AND(T21=$V$8,120<Q21,Q21<=400,$C$4="c"),'6.4- RC'!$AI$5, IF(AND(T21=$V$8,400<Q21,Q21<=1000,$C$4="c"),'6.4- RC'!$AJ$5, IF(AND(T21=$V$8,1000<Q21,Q21<=2000,$C$4="c"),'6.4- RC'!$AK$5, IF(AND(T21=$V$8,2000<Q21,Q21<=4000,$C$4="c"),'6.4- RC'!$AL$5, IF(AND(T21=$V$9,0.5<=Q21,Q21<=3,$C$4="c"),'6.4- RC'!$AE$13, IF(AND(T21=$V$9,3<Q21,Q21<=6,$C$4="c"),'6.4- RC'!$AF$13, IF(AND(T21=$V$9,6<Q21,$C$4="c"),'6.4- RC'!$AG$13, IF(AND(T21=$V$8,0.5<=Q21,Q21<=3,$C$4="v"),'6.4- RC'!$AE$6, IF(AND(T21=$V$8,3<Q21,Q21<=6,$C$4="v"),'6.4- RC'!$AF$6, IF(AND(T21=$V$8,6<Q21,Q21<=30,$C$4="v"),'6.4- RC'!$AG$6, IF(AND(T21=$V$8,30<Q21,Q21<=120,$C$4="v"),'6.4- RC'!$AH$6, IF(AND(T21=$V$8,120<Q21,Q21<=400,$C$4="v"),'6.4- RC'!$AI$6, IF(AND(T21=$V$8,400<Q21,Q21<=1000,$C$4="v"),'6.4- RC'!$AJ$6, IF(AND(T21=$V$8,1000<Q21,Q21<=2000,$C$4="v"),'6.4- RC'!$AK$6, IF(AND(T21=$V$8,2000<Q21,Q21<=4000,$C$4="v"),'6.4- RC'!$AL$6, IF(AND(T21=$V$9,0.5<=Q21,Q21<=3,$C$4="v"),'6.4- RC'!$AE$13, IF(AND(T21=$V$9,3<Q21,Q21<=6,$C$4="v"),'6.4- RC'!$AF$13, IF(AND(T21=$V$9,6<Q21,$C$4="v"),'6.4- RC'!$AG$13, )))))))))))))))))))))))))))))))))))))))))))) -> 0 | AC21: c | AE21: ±1°30' | AF21: ±1° | AG21: ±0°30' | AH21: ±0°15' | AI21: ±0°10'
E22: =IF(AND(O22="",P22="°"),Q22&P22&R22&S22, IF(AND(O22="",P22<>"°"),P22&Q22&R22&S22, IF(AND(O22<>"",P22="°"),O22&"x "&Q22&P22&R22&S22, IF(AND(O22<>"",P22<>"°"),O22&"x "&P22&Q22&R22&S22)))) -> 0 | G22: =IF(AND(R22="",Q22<>""),0, IF(AND(R22=0,Q22=""),"", IF(AND(R22<>"",Q22<>""),Q22-MID(R22,3,5),))) | H22: =IF(AND(R22="",Q22<>""),Q22, IF(AND(R22=0,Q22=""),"", IF(AND(R22<>"",Q22<>""),Q22+MID(R22,3,5)))) | R22: =IF(AND(T22=$V$8,0.5<=Q22,Q22<=3,$C$4="f"),'6.4- RC'!$AE$4, IF(AND(T22=$V$8,3<Q22,Q22<=6,$C$4="f"),'6.4- RC'!$AF$4, IF(AND(T22=$V$8,6<Q22,Q22<=30,$C$4="f"),'6.4- RC'!$AG$4, IF(AND(T22=$V$8,30<Q22,Q22<=120,$C$4="f"),'6.4- RC'!$AH$4, IF(AND(T22=$V$8,120<Q22,Q22<=400,$C$4="f"),'6.4- RC'!$AI$4, IF(AND(T22=$V$8,400<Q22,Q22<=1000,$C$4="f"),'6.4- RC'!$AJ$4, IF(AND(T22=$V$8,1000<Q22,Q22<=2000,$C$4="f"),'6.4- RC'!$AK$4, IF(AND(T22=$V$8,2000<Q22,Q22<=4000,$C$4="f"),'6.4- RC'!$AL$4, IF(AND(T22=$V$9,0.5<=Q22,Q22<=3,$C$4="f"),'6.4- RC'!$AE$11, IF(AND(T22=$V$9,3<Q22,Q22<=6,$C$4="f"),'6.4- RC'!$AF$11, IF(AND(T22=$V$9,6<Q22,$C$4="f"),'6.4- RC'!$AG$11, IF(AND(T22=$V$8,0.5<=Q22,Q22<=3,$C$4="m"),'6.4- RC'!#REF!, IF(AND(T22=$V$8,3<Q22,Q22<=6,$C$4="m"),'6.4- RC'!#REF!, IF(AND(T22=$V$8,6<Q22,Q22<=30,$C$4="m"),'6.4- RC'!#REF!, IF(AND(T22=$V$8,30<Q22,Q22<=120,$C$4="m"),'6.4- RC'!#REF!, IF(AND(T22=$V$8,120<Q22,Q22<=400,$C$4="m"),'6.4- RC'!#REF!, IF(AND(T22=$V$8,400<Q22,Q22<=1000,$C$4="m"),'6.4- RC'!#REF!, IF(AND(T22=$V$8,1000<Q22,Q22<=2000,$C$4="m"),'6.4- RC'!#REF!, IF(AND(T22=$V$8,2000<Q22,Q22<=4000,$C$4="m"),'6.4- RC'!#REF!, IF(AND(T22=$V$9,0.5<=Q22,Q22<=3,$C$4="m"),'6.4- RC'!$AE$11, IF(AND(T22=$V$9,3<Q22,Q22<=6,$C$4="m"),'6.4- RC'!$AF$11, IF(AND(T22=$V$9,6<Q22,$C$4="m"),'6.4- RC'!$AG$11, IF(AND(T22=$V$8,0.5<=Q22,Q22<=3,$C$4="c"),'6.4- RC'!$AE$5, IF(AND(T22=$V$8,3<Q22,Q22<=6,$C$4="c"),'6.4- RC'!$AF$5, IF(AND(T22=$V$8,6<Q22,Q22<=30,$C$4="c"),'6.4- RC'!$AG$5, IF(AND(T22=$V$8,30<Q22,Q22<=120,$C$4="c"),'6.4- RC'!$AH$5, IF(AND(T22=$V$8,120<Q22,Q22<=400,$C$4="c"),'6.4- RC'!$AI$5, IF(AND(T22=$V$8,400<Q22,Q22<=1000,$C$4="c"),'6.4- RC'!$AJ$5, IF(AND(T22=$V$8,1000<Q22,Q22<=2000,$C$4="c"),'6.4- RC'!$AK$5, IF(AND(T22=$V$8,2000<Q22,Q22<=4000,$C$4="c"),'6.4- RC'!$AL$5, IF(AND(T22=$V$9,0.5<=Q22,Q22<=3,$C$4="c"),'6.4- RC'!$AE$13, IF(AND(T22=$V$9,3<Q22,Q22<=6,$C$4="c"),'6.4- RC'!$AF$13, IF(AND(T22=$V$9,6<Q22,$C$4="c"),'6.4- RC'!$AG$13, IF(AND(T22=$V$8,0.5<=Q22,Q22<=3,$C$4="v"),'6.4- RC'!$AE$6, IF(AND(T22=$V$8,3<Q22,Q22<=6,$C$4="v"),'6.4- RC'!$AF$6, IF(AND(T22=$V$8,6<Q22,Q22<=30,$C$4="v"),'6.4- RC'!$AG$6, IF(AND(T22=$V$8,30<Q22,Q22<=120,$C$4="v"),'6.4- RC'!$AH$6, IF(AND(T22=$V$8,120<Q22,Q22<=400,$C$4="v"),'6.4- RC'!$AI$6, IF(AND(T22=$V$8,400<Q22,Q22<=1000,$C$4="v"),'6.4- RC'!$AJ$6, IF(AND(T22=$V$8,1000<Q22,Q22<=2000,$C$4="v"),'6.4- RC'!$AK$6, IF(AND(T22=$V$8,2000<Q22,Q22<=4000,$C$4="v"),'6.4- RC'!$AL$6, IF(AND(T22=$V$9,0.5<=Q22,Q22<=3,$C$4="v"),'6.4- RC'!$AE$13, IF(AND(T22=$V$9,3<Q22,Q22<=6,$C$4="v"),'6.4- RC'!$AF$13, IF(AND(T22=$V$9,6<Q22,$C$4="v"),'6.4- RC'!$AG$13, )))))))))))))))))))))))))))))))))))))))))))) -> 0 | AC22: v | AE22: ±3° | AF22: ±2° | AG22: ±1° | AH22: ±0°30' | AI22: ±0°20'
E23: =IF(AND(O23="",P23="°"),Q23&P23&R23&S23, IF(AND(O23="",P23<>"°"),P23&Q23&R23&S23, IF(AND(O23<>"",P23="°"),O23&"x "&Q23&P23&R23&S23, IF(AND(O23<>"",P23<>"°"),O23&"x "&P23&Q23&R23&S23)))) -> 0 | G23: =IF(AND(R23="",Q23<>""),0, IF(AND(R23=0,Q23=""),"", IF(AND(R23<>"",Q23<>""),Q23-MID(R23,3,5),))) | H23: =IF(AND(R23="",Q23<>""),Q23, IF(AND(R23=0,Q23=""),"", IF(AND(R23<>"",Q23<>""),Q23+MID(R23,3,5)))) | R23: =IF(AND(T23=$V$8,0.5<=Q23,Q23<=3,$C$4="f"),'6.4- RC'!$AE$4, IF(AND(T23=$V$8,3<Q23,Q23<=6,$C$4="f"),'6.4- RC'!$AF$4, IF(AND(T23=$V$8,6<Q23,Q23<=30,$C$4="f"),'6.4- RC'!$AG$4, IF(AND(T23=$V$8,30<Q23,Q23<=120,$C$4="f"),'6.4- RC'!$AH$4, IF(AND(T23=$V$8,120<Q23,Q23<=400,$C$4="f"),'6.4- RC'!$AI$4, IF(AND(T23=$V$8,400<Q23,Q23<=1000,$C$4="f"),'6.4- RC'!$AJ$4, IF(AND(T23=$V$8,1000<Q23,Q23<=2000,$C$4="f"),'6.4- RC'!$AK$4, IF(AND(T23=$V$8,2000<Q23,Q23<=4000,$C$4="f"),'6.4- RC'!$AL$4, IF(AND(T23=$V$9,0.5<=Q23,Q23<=3,$C$4="f"),'6.4- RC'!$AE$11, IF(AND(T23=$V$9,3<Q23,Q23<=6,$C$4="f"),'6.4- RC'!$AF$11, IF(AND(T23=$V$9,6<Q23,$C$4="f"),'6.4- RC'!$AG$11, IF(AND(T23=$V$8,0.5<=Q23,Q23<=3,$C$4="m"),'6.4- RC'!#REF!, IF(AND(T23=$V$8,3<Q23,Q23<=6,$C$4="m"),'6.4- RC'!#REF!, IF(AND(T23=$V$8,6<Q23,Q23<=30,$C$4="m"),'6.4- RC'!#REF!, IF(AND(T23=$V$8,30<Q23,Q23<=120,$C$4="m"),'6.4- RC'!#REF!, IF(AND(T23=$V$8,120<Q23,Q23<=400,$C$4="m"),'6.4- RC'!#REF!, IF(AND(T23=$V$8,400<Q23,Q23<=1000,$C$4="m"),'6.4- RC'!#REF!, IF(AND(T23=$V$8,1000<Q23,Q23<=2000,$C$4="m"),'6.4- RC'!#REF!, IF(AND(T23=$V$8,2000<Q23,Q23<=4000,$C$4="m"),'6.4- RC'!#REF!, IF(AND(T23=$V$9,0.5<=Q23,Q23<=3,$C$4="m"),'6.4- RC'!$AE$11, IF(AND(T23=$V$9,3<Q23,Q23<=6,$C$4="m"),'6.4- RC'!$AF$11, IF(AND(T23=$V$9,6<Q23,$C$4="m"),'6.4- RC'!$AG$11, IF(AND(T23=$V$8,0.5<=Q23,Q23<=3,$C$4="c"),'6.4- RC'!$AE$5, IF(AND(T23=$V$8,3<Q23,Q23<=6,$C$4="c"),'6.4- RC'!$AF$5, IF(AND(T23=$V$8,6<Q23,Q23<=30,$C$4="c"),'6.4- RC'!$AG$5, IF(AND(T23=$V$8,30<Q23,Q23<=120,$C$4="c"),'6.4- RC'!$AH$5, IF(AND(T23=$V$8,120<Q23,Q23<=400,$C$4="c"),'6.4- RC'!$AI$5, IF(AND(T23=$V$8,400<Q23,Q23<=1000,$C$4="c"),'6.4- RC'!$AJ$5, IF(AND(T23=$V$8,1000<Q23,Q23<=2000,$C$4="c"),'6.4- RC'!$AK$5, IF(AND(T23=$V$8,2000<Q23,Q23<=4000,$C$4="c"),'6.4- RC'!$AL$5, IF(AND(T23=$V$9,0.5<=Q23,Q23<=3,$C$4="c"),'6.4- RC'!$AE$13, IF(AND(T23=$V$9,3<Q23,Q23<=6,$C$4="c"),'6.4- RC'!$AF$13, IF(AND(T23=$V$9,6<Q23,$C$4="c"),'6.4- RC'!$AG$13, IF(AND(T23=$V$8,0.5<=Q23,Q23<=3,$C$4="v"),'6.4- RC'!$AE$6, IF(AND(T23=$V$8,3<Q23,Q23<=6,$C$4="v"),'6.4- RC'!$AF$6, IF(AND(T23=$V$8,6<Q23,Q23<=30,$C$4="v"),'6.4- RC'!$AG$6, IF(AND(T23=$V$8,30<Q23,Q23<=120,$C$4="v"),'6.4- RC'!$AH$6, IF(AND(T23=$V$8,120<Q23,Q23<=400,$C$4="v"),'6.4- RC'!$AI$6, IF(AND(T23=$V$8,400<Q23,Q23<=1000,$C$4="v"),'6.4- RC'!$AJ$6, IF(AND(T23=$V$8,1000<Q23,Q23<=2000,$C$4="v"),'6.4- RC'!$AK$6, IF(AND(T23=$V$8,2000<Q23,Q23<=4000,$C$4="v"),'6.4- RC'!$AL$6, IF(AND(T23=$V$9,0.5<=Q23,Q23<=3,$C$4="v"),'6.4- RC'!$AE$13, IF(AND(T23=$V$9,3<Q23,Q23<=6,$C$4="v"),'6.4- RC'!$AF$13, IF(AND(T23=$V$9,6<Q23,$C$4="v"),'6.4- RC'!$AG$13, )))))))))))))))))))))))))))))))))))))))))))) -> 0
E24: =IF(AND(O24="",P24="°"),Q24&P24&R24&S24, IF(AND(O24="",P24<>"°"),P24&Q24&R24&S24, IF(AND(O24<>"",P24="°"),O24&"x "&Q24&P24&R24&S24, IF(AND(O24<>"",P24<>"°"),O24&"x "&P24&Q24&R24&S24)))) -> 0 | G24: =IF(AND(R24="",Q24<>""),0, IF(AND(R24=0,Q24=""),"", IF(AND(R24<>"",Q24<>""),Q24-MID(R24,3,5),))) | H24: =IF(AND(R24="",Q24<>""),Q24, IF(AND(R24=0,Q24=""),"", IF(AND(R24<>"",Q24<>""),Q24+MID(R24,3,5)))) | R24: =IF(AND(T24=$V$8,0.5<=Q24,Q24<=3,$C$4="f"),'6.4- RC'!$AE$4, IF(AND(T24=$V$8,3<Q24,Q24<=6,$C$4="f"),'6.4- RC'!$AF$4, IF(AND(T24=$V$8,6<Q24,Q24<=30,$C$4="f"),'6.4- RC'!$AG$4, IF(AND(T24=$V$8,30<Q24,Q24<=120,$C$4="f"),'6.4- RC'!$AH$4, IF(AND(T24=$V$8,120<Q24,Q24<=400,$C$4="f"),'6.4- RC'!$AI$4, IF(AND(T24=$V$8,400<Q24,Q24<=1000,$C$4="f"),'6.4- RC'!$AJ$4, IF(AND(T24=$V$8,1000<Q24,Q24<=2000,$C$4="f"),'6.4- RC'!$AK$4, IF(AND(T24=$V$8,2000<Q24,Q24<=4000,$C$4="f"),'6.4- RC'!$AL$4, IF(AND(T24=$V$9,0.5<=Q24,Q24<=3,$C$4="f"),'6.4- RC'!$AE$11, IF(AND(T24=$V$9,3<Q24,Q24<=6,$C$4="f"),'6.4- RC'!$AF$11, IF(AND(T24=$V$9,6<Q24,$C$4="f"),'6.4- RC'!$AG$11, IF(AND(T24=$V$8,0.5<=Q24,Q24<=3,$C$4="m"),'6.4- RC'!#REF!, IF(AND(T24=$V$8,3<Q24,Q24<=6,$C$4="m"),'6.4- RC'!#REF!, IF(AND(T24=$V$8,6<Q24,Q24<=30,$C$4="m"),'6.4- RC'!#REF!, IF(AND(T24=$V$8,30<Q24,Q24<=120,$C$4="m"),'6.4- RC'!#REF!, IF(AND(T24=$V$8,120<Q24,Q24<=400,$C$4="m"),'6.4- RC'!#REF!, IF(AND(T24=$V$8,400<Q24,Q24<=1000,$C$4="m"),'6.4- RC'!#REF!, IF(AND(T24=$V$8,1000<Q24,Q24<=2000,$C$4="m"),'6.4- RC'!#REF!, IF(AND(T24=$V$8,2000<Q24,Q24<=4000,$C$4="m"),'6.4- RC'!#REF!, IF(AND(T24=$V$9,0.5<=Q24,Q24<=3,$C$4="m"),'6.4- RC'!$AE$11, IF(AND(T24=$V$9,3<Q24,Q24<=6,$C$4="m"),'6.4- RC'!$AF$11, IF(AND(T24=$V$9,6<Q24,$C$4="m"),'6.4- RC'!$AG$11, IF(AND(T24=$V$8,0.5<=Q24,Q24<=3,$C$4="c"),'6.4- RC'!$AE$5, IF(AND(T24=$V$8,3<Q24,Q24<=6,$C$4="c"),'6.4- RC'!$AF$5, IF(AND(T24=$V$8,6<Q24,Q24<=30,$C$4="c"),'6.4- RC'!$AG$5, IF(AND(T24=$V$8,30<Q24,Q24<=120,$C$4="c"),'6.4- RC'!$AH$5, IF(AND(T24=$V$8,120<Q24,Q24<=400,$C$4="c"),'6.4- RC'!$AI$5, IF(AND(T24=$V$8,400<Q24,Q24<=1000,$C$4="c"),'6.4- RC'!$AJ$5, IF(AND(T24=$V$8,1000<Q24,Q24<=2000,$C$4="c"),'6.4- RC'!$AK$5, IF(AND(T24=$V$8,2000<Q24,Q24<=4000,$C$4="c"),'6.4- RC'!$AL$5, IF(AND(T24=$V$9,0.5<=Q24,Q24<=3,$C$4="c"),'6.4- RC'!$AE$13, IF(AND(T24=$V$9,3<Q24,Q24<=6,$C$4="c"),'6.4- RC'!$AF$13, IF(AND(T24=$V$9,6<Q24,$C$4="c"),'6.4- RC'!$AG$13, IF(AND(T24=$V$8,0.5<=Q24,Q24<=3,$C$4="v"),'6.4- RC'!$AE$6, IF(AND(T24=$V$8,3<Q24,Q24<=6,$C$4="v"),'6.4- RC'!$AF$6, IF(AND(T24=$V$8,6<Q24,Q24<=30,$C$4="v"),'6.4- RC'!$AG$6, IF(AND(T24=$V$8,30<Q24,Q24<=120,$C$4="v"),'6.4- RC'!$AH$6, IF(AND(T24=$V$8,120<Q24,Q24<=400,$C$4="v"),'6.4- RC'!$AI$6, IF(AND(T24=$V$8,400<Q24,Q24<=1000,$C$4="v"),'6.4- RC'!$AJ$6, IF(AND(T24=$V$8,1000<Q24,Q24<=2000,$C$4="v"),'6.4- RC'!$AK$6, IF(AND(T24=$V$8,2000<Q24,Q24<=4000,$C$4="v"),'6.4- RC'!$AL$6, IF(AND(T24=$V$9,0.5<=Q24,Q24<=3,$C$4="v"),'6.4- RC'!$AE$13, IF(AND(T24=$V$9,3<Q24,Q24<=6,$C$4="v"),'6.4- RC'!$AF$13, IF(AND(T24=$V$9,6<Q24,$C$4="v"),'6.4- RC'!$AG$13, )))))))))))))))))))))))))))))))))))))))))))) -> 0
E25: =IF(AND(O25="",P25="°"),Q25&P25&R25&S25, IF(AND(O25="",P25<>"°"),P25&Q25&R25&S25, IF(AND(O25<>"",P25="°"),O25&"x "&Q25&P25&R25&S25, IF(AND(O25<>"",P25<>"°"),O25&"x "&P25&Q25&R25&S25)))) -> 0 | G25: =IF(AND(R25="",Q25<>""),0, IF(AND(R25=0,Q25=""),"", IF(AND(R25<>"",Q25<>""),Q25-MID(R25,3,5),))) | H25: =IF(AND(R25="",Q25<>""),Q25, IF(AND(R25=0,Q25=""),"", IF(AND(R25<>"",Q25<>""),Q25+MID(R25,3,5)))) | R25: =IF(AND(T25=$V$8,0.5<=Q25,Q25<=3,$C$4="f"),'6.4- RC'!$AE$4, IF(AND(T25=$V$8,3<Q25,Q25<=6,$C$4="f"),'6.4- RC'!$AF$4, IF(AND(T25=$V$8,6<Q25,Q25<=30,$C$4="f"),'6.4- RC'!$AG$4, IF(AND(T25=$V$8,30<Q25,Q25<=120,$C$4="f"),'6.4- RC'!$AH$4, IF(AND(T25=$V$8,120<Q25,Q25<=400,$C$4="f"),'6.4- RC'!$AI$4, IF(AND(T25=$V$8,400<Q25,Q25<=1000,$C$4="f"),'6.4- RC'!$AJ$4, IF(AND(T25=$V$8,1000<Q25,Q25<=2000,$C$4="f"),'6.4- RC'!$AK$4, IF(AND(T25=$V$8,2000<Q25,Q25<=4000,$C$4="f"),'6.4- RC'!$AL$4, IF(AND(T25=$V$9,0.5<=Q25,Q25<=3,$C$4="f"),'6.4- RC'!$AE$11, IF(AND(T25=$V$9,3<Q25,Q25<=6,$C$4="f"),'6.4- RC'!$AF$11, IF(AND(T25=$V$9,6<Q25,$C$4="f"),'6.4- RC'!$AG$11, IF(AND(T25=$V$8,0.5<=Q25,Q25<=3,$C$4="m"),'6.4- RC'!#REF!, IF(AND(T25=$V$8,3<Q25,Q25<=6,$C$4="m"),'6.4- RC'!#REF!, IF(AND(T25=$V$8,6<Q25,Q25<=30,$C$4="m"),'6.4- RC'!#REF!, IF(AND(T25=$V$8,30<Q25,Q25<=120,$C$4="m"),'6.4- RC'!#REF!, IF(AND(T25=$V$8,120<Q25,Q25<=400,$C$4="m"),'6.4- RC'!#REF!, IF(AND(T25=$V$8,400<Q25,Q25<=1000,$C$4="m"),'6.4- RC'!#REF!, IF(AND(T25=$V$8,1000<Q25,Q25<=2000,$C$4="m"),'6.4- RC'!#REF!, IF(AND(T25=$V$8,2000<Q25,Q25<=4000,$C$4="m"),'6.4- RC'!#REF!, IF(AND(T25=$V$9,0.5<=Q25,Q25<=3,$C$4="m"),'6.4- RC'!$AE$11, IF(AND(T25=$V$9,3<Q25,Q25<=6,$C$4="m"),'6.4- RC'!$AF$11, IF(AND(T25=$V$9,6<Q25,$C$4="m"),'6.4- RC'!$AG$11, IF(AND(T25=$V$8,0.5<=Q25,Q25<=3,$C$4="c"),'6.4- RC'!$AE$5, IF(AND(T25=$V$8,3<Q25,Q25<=6,$C$4="c"),'6.4- RC'!$AF$5, IF(AND(T25=$V$8,6<Q25,Q25<=30,$C$4="c"),'6.4- RC'!$AG$5, IF(AND(T25=$V$8,30<Q25,Q25<=120,$C$4="c"),'6.4- RC'!$AH$5, IF(AND(T25=$V$8,120<Q25,Q25<=400,$C$4="c"),'6.4- RC'!$AI$5, IF(AND(T25=$V$8,400<Q25,Q25<=1000,$C$4="c"),'6.4- RC'!$AJ$5, IF(AND(T25=$V$8,1000<Q25,Q25<=2000,$C$4="c"),'6.4- RC'!$AK$5, IF(AND(T25=$V$8,2000<Q25,Q25<=4000,$C$4="c"),'6.4- RC'!$AL$5, IF(AND(T25=$V$9,0.5<=Q25,Q25<=3,$C$4="c"),'6.4- RC'!$AE$13, IF(AND(T25=$V$9,3<Q25,Q25<=6,$C$4="c"),'6.4- RC'!$AF$13, IF(AND(T25=$V$9,6<Q25,$C$4="c"),'6.4- RC'!$AG$13, IF(AND(T25=$V$8,0.5<=Q25,Q25<=3,$C$4="v"),'6.4- RC'!$AE$6, IF(AND(T25=$V$8,3<Q25,Q25<=6,$C$4="v"),'6.4- RC'!$AF$6, IF(AND(T25=$V$8,6<Q25,Q25<=30,$C$4="v"),'6.4- RC'!$AG$6, IF(AND(T25=$V$8,30<Q25,Q25<=120,$C$4="v"),'6.4- RC'!$AH$6, IF(AND(T25=$V$8,120<Q25,Q25<=400,$C$4="v"),'6.4- RC'!$AI$6, IF(AND(T25=$V$8,400<Q25,Q25<=1000,$C$4="v"),'6.4- RC'!$AJ$6, IF(AND(T25=$V$8,1000<Q25,Q25<=2000,$C$4="v"),'6.4- RC'!$AK$6, IF(AND(T25=$V$8,2000<Q25,Q25<=4000,$C$4="v"),'6.4- RC'!$AL$6, IF(AND(T25=$V$9,0.5<=Q25,Q25<=3,$C$4="v"),'6.4- RC'!$AE$13, IF(AND(T25=$V$9,3<Q25,Q25<=6,$C$4="v"),'6.4- RC'!$AF$13, IF(AND(T25=$V$9,6<Q25,$C$4="v"),'6.4- RC'!$AG$13, )))))))))))))))))))))))))))))))))))))))))))) -> 0
E26: =IF(AND(O26="",P26="°"),Q26&P26&R26&S26, IF(AND(O26="",P26<>"°"),P26&Q26&R26&S26, IF(AND(O26<>"",P26="°"),O26&"x "&Q26&P26&R26&S26, IF(AND(O26<>"",P26<>"°"),O26&"x "&P26&Q26&R26&S26)))) -> 0 | G26: =IF(AND(R26="",Q26<>""),0, IF(AND(R26=0,Q26=""),"", IF(AND(R26<>"",Q26<>""),Q26-MID(R26,3,5),))) | H26: =IF(AND(R26="",Q26<>""),Q26, IF(AND(R26=0,Q26=""),"", IF(AND(R26<>"",Q26<>""),Q26+MID(R26,3,5)))) | R26: =IF(AND(T26=$V$8,0.5<=Q26,Q26<=3,$C$4="f"),'6.4- RC'!$AE$4, IF(AND(T26=$V$8,3<Q26,Q26<=6,$C$4="f"),'6.4- RC'!$AF$4, IF(AND(T26=$V$8,6<Q26,Q26<=30,$C$4="f"),'6.4- RC'!$AG$4, IF(AND(T26=$V$8,30<Q26,Q26<=120,$C$4="f"),'6.4- RC'!$AH$4, IF(AND(T26=$V$8,120<Q26,Q26<=400,$C$4="f"),'6.4- RC'!$AI$4, IF(AND(T26=$V$8,400<Q26,Q26<=1000,$C$4="f"),'6.4- RC'!$AJ$4, IF(AND(T26=$V$8,1000<Q26,Q26<=2000,$C$4="f"),'6.4- RC'!$AK$4, IF(AND(T26=$V$8,2000<Q26,Q26<=4000,$C$4="f"),'6.4- RC'!$AL$4, IF(AND(T26=$V$9,0.5<=Q26,Q26<=3,$C$4="f"),'6.4- RC'!$AE$11, IF(AND(T26=$V$9,3<Q26,Q26<=6,$C$4="f"),'6.4- RC'!$AF$11, IF(AND(T26=$V$9,6<Q26,$C$4="f"),'6.4- RC'!$AG$11, IF(AND(T26=$V$8,0.5<=Q26,Q26<=3,$C$4="m"),'6.4- RC'!#REF!, IF(AND(T26=$V$8,3<Q26,Q26<=6,$C$4="m"),'6.4- RC'!#REF!, IF(AND(T26=$V$8,6<Q26,Q26<=30,$C$4="m"),'6.4- RC'!#REF!, IF(AND(T26=$V$8,30<Q26,Q26<=120,$C$4="m"),'6.4- RC'!#REF!, IF(AND(T26=$V$8,120<Q26,Q26<=400,$C$4="m"),'6.4- RC'!#REF!, IF(AND(T26=$V$8,400<Q26,Q26<=1000,$C$4="m"),'6.4- RC'!#REF!, IF(AND(T26=$V$8,1000<Q26,Q26<=2000,$C$4="m"),'6.4- RC'!#REF!, IF(AND(T26=$V$8,2000<Q26,Q26<=4000,$C$4="m"),'6.4- RC'!#REF!, IF(AND(T26=$V$9,0.5<=Q26,Q26<=3,$C$4="m"),'6.4- RC'!$AE$11, IF(AND(T26=$V$9,3<Q26,Q26<=6,$C$4="m"),'6.4- RC'!$AF$11, IF(AND(T26=$V$9,6<Q26,$C$4="m"),'6.4- RC'!$AG$11, IF(AND(T26=$V$8,0.5<=Q26,Q26<=3,$C$4="c"),'6.4- RC'!$AE$5, IF(AND(T26=$V$8,3<Q26,Q26<=6,$C$4="c"),'6.4- RC'!$AF$5, IF(AND(T26=$V$8,6<Q26,Q26<=30,$C$4="c"),'6.4- RC'!$AG$5, IF(AND(T26=$V$8,30<Q26,Q26<=120,$C$4="c"),'6.4- RC'!$AH$5, IF(AND(T26=$V$8,120<Q26,Q26<=400,$C$4="c"),'6.4- RC'!$AI$5, IF(AND(T26=$V$8,400<Q26,Q26<=1000,$C$4="c"),'6.4- RC'!$AJ$5, IF(AND(T26=$V$8,1000<Q26,Q26<=2000,$C$4="c"),'6.4- RC'!$AK$5, IF(AND(T26=$V$8,2000<Q26,Q26<=4000,$C$4="c"),'6.4- RC'!$AL$5, IF(AND(T26=$V$9,0.5<=Q26,Q26<=3,$C$4="c"),'6.4- RC'!$AE$13, IF(AND(T26=$V$9,3<Q26,Q26<=6,$C$4="c"),'6.4- RC'!$AF$13, IF(AND(T26=$V$9,6<Q26,$C$4="c"),'6.4- RC'!$AG$13, IF(AND(T26=$V$8,0.5<=Q26,Q26<=3,$C$4="v"),'6.4- RC'!$AE$6, IF(AND(T26=$V$8,3<Q26,Q26<=6,$C$4="v"),'6.4- RC'!$AF$6, IF(AND(T26=$V$8,6<Q26,Q26<=30,$C$4="v"),'6.4- RC'!$AG$6, IF(AND(T26=$V$8,30<Q26,Q26<=120,$C$4="v"),'6.4- RC'!$AH$6, IF(AND(T26=$V$8,120<Q26,Q26<=400,$C$4="v"),'6.4- RC'!$AI$6, IF(AND(T26=$V$8,400<Q26,Q26<=1000,$C$4="v"),'6.4- RC'!$AJ$6, IF(AND(T26=$V$8,1000<Q26,Q26<=2000,$C$4="v"),'6.4- RC'!$AK$6, IF(AND(T26=$V$8,2000<Q26,Q26<=4000,$C$4="v"),'6.4- RC'!$AL$6, IF(AND(T26=$V$9,0.5<=Q26,Q26<=3,$C$4="v"),'6.4- RC'!$AE$13, IF(AND(T26=$V$9,3<Q26,Q26<=6,$C$4="v"),'6.4- RC'!$AF$13, IF(AND(T26=$V$9,6<Q26,$C$4="v"),'6.4- RC'!$AG$13, )))))))))))))))))))))))))))))))))))))))))))) -> 0
E27: =IF(AND(O27="",P27="°"),Q27&P27&R27&S27, IF(AND(O27="",P27<>"°"),P27&Q27&R27&S27, IF(AND(O27<>"",P27="°"),O27&"x "&Q27&P27&R27&S27, IF(AND(O27<>"",P27<>"°"),O27&"x "&P27&Q27&R27&S27)))) -> 0 | G27: =IF(AND(R27="",Q27<>""),0, IF(AND(R27=0,Q27=""),"", IF(AND(R27<>"",Q27<>""),Q27-MID(R27,3,5),))) | H27: =IF(AND(R27="",Q27<>""),Q27, IF(AND(R27=0,Q27=""),"", IF(AND(R27<>"",Q27<>""),Q27+MID(R27,3,5)))) | R27: =IF(AND(T27=$V$8,0.5<=Q27,Q27<=3,$C$4="f"),'6.4- RC'!$AE$4, IF(AND(T27=$V$8,3<Q27,Q27<=6,$C$4="f"),'6.4- RC'!$AF$4, IF(AND(T27=$V$8,6<Q27,Q27<=30,$C$4="f"),'6.4- RC'!$AG$4, IF(AND(T27=$V$8,30<Q27,Q27<=120,$C$4="f"),'6.4- RC'!$AH$4, IF(AND(T27=$V$8,120<Q27,Q27<=400,$C$4="f"),'6.4- RC'!$AI$4, IF(AND(T27=$V$8,400<Q27,Q27<=1000,$C$4="f"),'6.4- RC'!$AJ$4, IF(AND(T27=$V$8,1000<Q27,Q27<=2000,$C$4="f"),'6.4- RC'!$AK$4, IF(AND(T27=$V$8,2000<Q27,Q27<=4000,$C$4="f"),'6.4- RC'!$AL$4, IF(AND(T27=$V$9,0.5<=Q27,Q27<=3,$C$4="f"),'6.4- RC'!$AE$11, IF(AND(T27=$V$9,3<Q27,Q27<=6,$C$4="f"),'6.4- RC'!$AF$11, IF(AND(T27=$V$9,6<Q27,$C$4="f"),'6.4- RC'!$AG$11, IF(AND(T27=$V$8,0.5<=Q27,Q27<=3,$C$4="m"),'6.4- RC'!#REF!, IF(AND(T27=$V$8,3<Q27,Q27<=6,$C$4="m"),'6.4- RC'!#REF!, IF(AND(T27=$V$8,6<Q27,Q27<=30,$C$4="m"),'6.4- RC'!#REF!, IF(AND(T27=$V$8,30<Q27,Q27<=120,$C$4="m"),'6.4- RC'!#REF!, IF(AND(T27=$V$8,120<Q27,Q27<=400,$C$4="m"),'6.4- RC'!#REF!, IF(AND(T27=$V$8,400<Q27,Q27<=1000,$C$4="m"),'6.4- RC'!#REF!, IF(AND(T27=$V$8,1000<Q27,Q27<=2000,$C$4="m"),'6.4- RC'!#REF!, IF(AND(T27=$V$8,2000<Q27,Q27<=4000,$C$4="m"),'6.4- RC'!#REF!, IF(AND(T27=$V$9,0.5<=Q27,Q27<=3,$C$4="m"),'6.4- RC'!$AE$11, IF(AND(T27=$V$9,3<Q27,Q27<=6,$C$4="m"),'6.4- RC'!$AF$11, IF(AND(T27=$V$9,6<Q27,$C$4="m"),'6.4- RC'!$AG$11, IF(AND(T27=$V$8,0.5<=Q27,Q27<=3,$C$4="c"),'6.4- RC'!$AE$5, IF(AND(T27=$V$8,3<Q27,Q27<=6,$C$4="c"),'6.4- RC'!$AF$5, IF(AND(T27=$V$8,6<Q27,Q27<=30,$C$4="c"),'6.4- RC'!$AG$5, IF(AND(T27=$V$8,30<Q27,Q27<=120,$C$4="c"),'6.4- RC'!$AH$5, IF(AND(T27=$V$8,120<Q27,Q27<=400,$C$4="c"),'6.4- RC'!$AI$5, IF(AND(T27=$V$8,400<Q27,Q27<=1000,$C$4="c"),'6.4- RC'!$AJ$5, IF(AND(T27=$V$8,1000<Q27,Q27<=2000,$C$4="c"),'6.4- RC'!$AK$5, IF(AND(T27=$V$8,2000<Q27,Q27<=4000,$C$4="c"),'6.4- RC'!$AL$5, IF(AND(T27=$V$9,0.5<=Q27,Q27<=3,$C$4="c"),'6.4- RC'!$AE$13, IF(AND(T27=$V$9,3<Q27,Q27<=6,$C$4="c"),'6.4- RC'!$AF$13, IF(AND(T27=$V$9,6<Q27,$C$4="c"),'6.4- RC'!$AG$13, IF(AND(T27=$V$8,0.5<=Q27,Q27<=3,$C$4="v"),'6.4- RC'!$AE$6, IF(AND(T27=$V$8,3<Q27,Q27<=6,$C$4="v"),'6.4- RC'!$AF$6, IF(AND(T27=$V$8,6<Q27,Q27<=30,$C$4="v"),'6.4- RC'!$AG$6, IF(AND(T27=$V$8,30<Q27,Q27<=120,$C$4="v"),'6.4- RC'!$AH$6, IF(AND(T27=$V$8,120<Q27,Q27<=400,$C$4="v"),'6.4- RC'!$AI$6, IF(AND(T27=$V$8,400<Q27,Q27<=1000,$C$4="v"),'6.4- RC'!$AJ$6, IF(AND(T27=$V$8,1000<Q27,Q27<=2000,$C$4="v"),'6.4- RC'!$AK$6, IF(AND(T27=$V$8,2000<Q27,Q27<=4000,$C$4="v"),'6.4- RC'!$AL$6, IF(AND(T27=$V$9,0.5<=Q27,Q27<=3,$C$4="v"),'6.4- RC'!$AE$13, IF(AND(T27=$V$9,3<Q27,Q27<=6,$C$4="v"),'6.4- RC'!$AF$13, IF(AND(T27=$V$9,6<Q27,$C$4="v"),'6.4- RC'!$AG$13, )))))))))))))))))))))))))))))))))))))))))))) -> 0
E28: =IF(AND(O28="",P28="°"),Q28&P28&R28&S28, IF(AND(O28="",P28<>"°"),P28&Q28&R28&S28, IF(AND(O28<>"",P28="°"),O28&"x "&Q28&P28&R28&S28, IF(AND(O28<>"",P28<>"°"),O28&"x "&P28&Q28&R28&S28)))) -> 0 | G28: =IF(AND(R28="",Q28<>""),0, IF(AND(R28=0,Q28=""),"", IF(AND(R28<>"",Q28<>""),Q28-MID(R28,3,5),))) | H28: =IF(AND(R28="",Q28<>""),Q28, IF(AND(R28=0,Q28=""),"", IF(AND(R28<>"",Q28<>""),Q28+MID(R28,3,5)))) | R28: =IF(AND(T28=$V$8,0.5<=Q28,Q28<=3,$C$4="f"),'6.4- RC'!$AE$4, IF(AND(T28=$V$8,3<Q28,Q28<=6,$C$4="f"),'6.4- RC'!$AF$4, IF(AND(T28=$V$8,6<Q28,Q28<=30,$C$4="f"),'6.4- RC'!$AG$4, IF(AND(T28=$V$8,30<Q28,Q28<=120,$C$4="f"),'6.4- RC'!$AH$4, IF(AND(T28=$V$8,120<Q28,Q28<=400,$C$4="f"),'6.4- RC'!$AI$4, IF(AND(T28=$V$8,400<Q28,Q28<=1000,$C$4="f"),'6.4- RC'!$AJ$4, IF(AND(T28=$V$8,1000<Q28,Q28<=2000,$C$4="f"),'6.4- RC'!$AK$4, IF(AND(T28=$V$8,2000<Q28,Q28<=4000,$C$4="f"),'6.4- RC'!$AL$4, IF(AND(T28=$V$9,0.5<=Q28,Q28<=3,$C$4="f"),'6.4- RC'!$AE$11, IF(AND(T28=$V$9,3<Q28,Q28<=6,$C$4="f"),'6.4- RC'!$AF$11, IF(AND(T28=$V$9,6<Q28,$C$4="f"),'6.4- RC'!$AG$11, IF(AND(T28=$V$8,0.5<=Q28,Q28<=3,$C$4="m"),'6.4- RC'!#REF!, IF(AND(T28=$V$8,3<Q28,Q28<=6,$C$4="m"),'6.4- RC'!#REF!, IF(AND(T28=$V$8,6<Q28,Q28<=30,$C$4="m"),'6.4- RC'!#REF!, IF(AND(T28=$V$8,30<Q28,Q28<=120,$C$4="m"),'6.4- RC'!#REF!, IF(AND(T28=$V$8,120<Q28,Q28<=400,$C$4="m"),'6.4- RC'!#REF!, IF(AND(T28=$V$8,400<Q28,Q28<=1000,$C$4="m"),'6.4- RC'!#REF!, IF(AND(T28=$V$8,1000<Q28,Q28<=2000,$C$4="m"),'6.4- RC'!#REF!, IF(AND(T28=$V$8,2000<Q28,Q28<=4000,$C$4="m"),'6.4- RC'!#REF!, IF(AND(T28=$V$9,0.5<=Q28,Q28<=3,$C$4="m"),'6.4- RC'!$AE$11, IF(AND(T28=$V$9,3<Q28,Q28<=6,$C$4="m"),'6.4- RC'!$AF$11, IF(AND(T28=$V$9,6<Q28,$C$4="m"),'6.4- RC'!$AG$11, IF(AND(T28=$V$8,0.5<=Q28,Q28<=3,$C$4="c"),'6.4- RC'!$AE$5, IF(AND(T28=$V$8,3<Q28,Q28<=6,$C$4="c"),'6.4- RC'!$AF$5, IF(AND(T28=$V$8,6<Q28,Q28<=30,$C$4="c"),'6.4- RC'!$AG$5, IF(AND(T28=$V$8,30<Q28,Q28<=120,$C$4="c"),'6.4- RC'!$AH$5, IF(AND(T28=$V$8,120<Q28,Q28<=400,$C$4="c"),'6.4- RC'!$AI$5, IF(AND(T28=$V$8,400<Q28,Q28<=1000,$C$4="c"),'6.4- RC'!$AJ$5, IF(AND(T28=$V$8,1000<Q28,Q28<=2000,$C$4="c"),'6.4- RC'!$AK$5, IF(AND(T28=$V$8,2000<Q28,Q28<=4000,$C$4="c"),'6.4- RC'!$AL$5, IF(AND(T28=$V$9,0.5<=Q28,Q28<=3,$C$4="c"),'6.4- RC'!$AE$13, IF(AND(T28=$V$9,3<Q28,Q28<=6,$C$4="c"),'6.4- RC'!$AF$13, IF(AND(T28=$V$9,6<Q28,$C$4="c"),'6.4- RC'!$AG$13, IF(AND(T28=$V$8,0.5<=Q28,Q28<=3,$C$4="v"),'6.4- RC'!$AE$6, IF(AND(T28=$V$8,3<Q28,Q28<=6,$C$4="v"),'6.4- RC'!$AF$6, IF(AND(T28=$V$8,6<Q28,Q28<=30,$C$4="v"),'6.4- RC'!$AG$6, IF(AND(T28=$V$8,30<Q28,Q28<=120,$C$4="v"),'6.4- RC'!$AH$6, IF(AND(T28=$V$8,120<Q28,Q28<=400,$C$4="v"),'6.4- RC'!$AI$6, IF(AND(T28=$V$8,400<Q28,Q28<=1000,$C$4="v"),'6.4- RC'!$AJ$6, IF(AND(T28=$V$8,1000<Q28,Q28<=2000,$C$4="v"),'6.4- RC'!$AK$6, IF(AND(T28=$V$8,2000<Q28,Q28<=4000,$C$4="v"),'6.4- RC'!$AL$6, IF(AND(T28=$V$9,0.5<=Q28,Q28<=3,$C$4="v"),'6.4- RC'!$AE$13, IF(AND(T28=$V$9,3<Q28,Q28<=6,$C$4="v"),'6.4- RC'!$AF$13, IF(AND(T28=$V$9,6<Q28,$C$4="v"),'6.4- RC'!$AG$13, )))))))))))))))))))))))))))))))))))))))))))) -> 0
E29: =IF(AND(O29="",P29="°"),Q29&P29&R29&S29, IF(AND(O29="",P29<>"°"),P29&Q29&R29&S29, IF(AND(O29<>"",P29="°"),O29&"x "&Q29&P29&R29&S29, IF(AND(O29<>"",P29<>"°"),O29&"x "&P29&Q29&R29&S29)))) -> 0 | G29: =IF(AND(R29="",Q29<>""),0, IF(AND(R29=0,Q29=""),"", IF(AND(R29<>"",Q29<>""),Q29-MID(R29,3,5),))) | H29: =IF(AND(R29="",Q29<>""),Q29, IF(AND(R29=0,Q29=""),"", IF(AND(R29<>"",Q29<>""),Q29+MID(R29,3,5)))) | R29: =IF(AND(T29=$V$8,0.5<=Q29,Q29<=3,$C$4="f"),'6.4- RC'!$AE$4, IF(AND(T29=$V$8,3<Q29,Q29<=6,$C$4="f"),'6.4- RC'!$AF$4, IF(AND(T29=$V$8,6<Q29,Q29<=30,$C$4="f"),'6.4- RC'!$AG$4, IF(AND(T29=$V$8,30<Q29,Q29<=120,$C$4="f"),'6.4- RC'!$AH$4, IF(AND(T29=$V$8,120<Q29,Q29<=400,$C$4="f"),'6.4- RC'!$AI$4, IF(AND(T29=$V$8,400<Q29,Q29<=1000,$C$4="f"),'6.4- RC'!$AJ$4, IF(AND(T29=$V$8,1000<Q29,Q29<=2000,$C$4="f"),'6.4- RC'!$AK$4, IF(AND(T29=$V$8,2000<Q29,Q29<=4000,$C$4="f"),'6.4- RC'!$AL$4, IF(AND(T29=$V$9,0.5<=Q29,Q29<=3,$C$4="f"),'6.4- RC'!$AE$11, IF(AND(T29=$V$9,3<Q29,Q29<=6,$C$4="f"),'6.4- RC'!$AF$11, IF(AND(T29=$V$9,6<Q29,$C$4="f"),'6.4- RC'!$AG$11, IF(AND(T29=$V$8,0.5<=Q29,Q29<=3,$C$4="m"),'6.4- RC'!#REF!, IF(AND(T29=$V$8,3<Q29,Q29<=6,$C$4="m"),'6.4- RC'!#REF!, IF(AND(T29=$V$8,6<Q29,Q29<=30,$C$4="m"),'6.4- RC'!#REF!, IF(AND(T29=$V$8,30<Q29,Q29<=120,$C$4="m"),'6.4- RC'!#REF!, IF(AND(T29=$V$8,120<Q29,Q29<=400,$C$4="m"),'6.4- RC'!#REF!, IF(AND(T29=$V$8,400<Q29,Q29<=1000,$C$4="m"),'6.4- RC'!#REF!, IF(AND(T29=$V$8,1000<Q29,Q29<=2000,$C$4="m"),'6.4- RC'!#REF!, IF(AND(T29=$V$8,2000<Q29,Q29<=4000,$C$4="m"),'6.4- RC'!#REF!, IF(AND(T29=$V$9,0.5<=Q29,Q29<=3,$C$4="m"),'6.4- RC'!$AE$11, IF(AND(T29=$V$9,3<Q29,Q29<=6,$C$4="m"),'6.4- RC'!$AF$11, IF(AND(T29=$V$9,6<Q29,$C$4="m"),'6.4- RC'!$AG$11, IF(AND(T29=$V$8,0.5<=Q29,Q29<=3,$C$4="c"),'6.4- RC'!$AE$5, IF(AND(T29=$V$8,3<Q29,Q29<=6,$C$4="c"),'6.4- RC'!$AF$5, IF(AND(T29=$V$8,6<Q29,Q29<=30,$C$4="c"),'6.4- RC'!$AG$5, IF(AND(T29=$V$8,30<Q29,Q29<=120,$C$4="c"),'6.4- RC'!$AH$5, IF(AND(T29=$V$8,120<Q29,Q29<=400,$C$4="c"),'6.4- RC'!$AI$5, IF(AND(T29=$V$8,400<Q29,Q29<=1000,$C$4="c"),'6.4- RC'!$AJ$5, IF(AND(T29=$V$8,1000<Q29,Q29<=2000,$C$4="c"),'6.4- RC'!$AK$5, IF(AND(T29=$V$8,2000<Q29,Q29<=4000,$C$4="c"),'6.4- RC'!$AL$5, IF(AND(T29=$V$9,0.5<=Q29,Q29<=3,$C$4="c"),'6.4- RC'!$AE$13, IF(AND(T29=$V$9,3<Q29,Q29<=6,$C$4="c"),'6.4- RC'!$AF$13, IF(AND(T29=$V$9,6<Q29,$C$4="c"),'6.4- RC'!$AG$13, IF(AND(T29=$V$8,0.5<=Q29,Q29<=3,$C$4="v"),'6.4- RC'!$AE$6, IF(AND(T29=$V$8,3<Q29,Q29<=6,$C$4="v"),'6.4- RC'!$AF$6, IF(AND(T29=$V$8,6<Q29,Q29<=30,$C$4="v"),'6.4- RC'!$AG$6, IF(AND(T29=$V$8,30<Q29,Q29<=120,$C$4="v"),'6.4- RC'!$AH$6, IF(AND(T29=$V$8,120<Q29,Q29<=400,$C$4="v"),'6.4- RC'!$AI$6, IF(AND(T29=$V$8,400<Q29,Q29<=1000,$C$4="v"),'6.4- RC'!$AJ$6, IF(AND(T29=$V$8,1000<Q29,Q29<=2000,$C$4="v"),'6.4- RC'!$AK$6, IF(AND(T29=$V$8,2000<Q29,Q29<=4000,$C$4="v"),'6.4- RC'!$AL$6, IF(AND(T29=$V$9,0.5<=Q29,Q29<=3,$C$4="v"),'6.4- RC'!$AE$13, IF(AND(T29=$V$9,3<Q29,Q29<=6,$C$4="v"),'6.4- RC'!$AF$13, IF(AND(T29=$V$9,6<Q29,$C$4="v"),'6.4- RC'!$AG$13, )))))))))))))))))))))))))))))))))))))))))))) -> 0
E30: =IF(AND(O30="",P30="°"),Q30&P30&R30&S30, IF(AND(O30="",P30<>"°"),P30&Q30&R30&S30, IF(AND(O30<>"",P30="°"),O30&"x "&Q30&P30&R30&S30, IF(AND(O30<>"",P30<>"°"),O30&"x "&P30&Q30&R30&S30)))) -> 0 | G30: =IF(AND(R30="",Q30<>""),0, IF(AND(R30=0,Q30=""),"", IF(AND(R30<>"",Q30<>""),Q30-MID(R30,3,5),))) | H30: =IF(AND(R30="",Q30<>""),Q30, IF(AND(R30=0,Q30=""),"", IF(AND(R30<>"",Q30<>""),Q30+MID(R30,3,5)))) | R30: =IF(AND(T30=$V$8,0.5<=Q30,Q30<=3,$C$4="f"),'6.4- RC'!$AE$4, IF(AND(T30=$V$8,3<Q30,Q30<=6,$C$4="f"),'6.4- RC'!$AF$4, IF(AND(T30=$V$8,6<Q30,Q30<=30,$C$4="f"),'6.4- RC'!$AG$4, IF(AND(T30=$V$8,30<Q30,Q30<=120,$C$4="f"),'6.4- RC'!$AH$4, IF(AND(T30=$V$8,120<Q30,Q30<=400,$C$4="f"),'6.4- RC'!$AI$4, IF(AND(T30=$V$8,400<Q30,Q30<=1000,$C$4="f"),'6.4- RC'!$AJ$4, IF(AND(T30=$V$8,1000<Q30,Q30<=2000,$C$4="f"),'6.4- RC'!$AK$4, IF(AND(T30=$V$8,2000<Q30,Q30<=4000,$C$4="f"),'6.4- RC'!$AL$4, IF(AND(T30=$V$9,0.5<=Q30,Q30<=3,$C$4="f"),'6.4- RC'!$AE$11, IF(AND(T30=$V$9,3<Q30,Q30<=6,$C$4="f"),'6.4- RC'!$AF$11, IF(AND(T30=$V$9,6<Q30,$C$4="f"),'6.4- RC'!$AG$11, IF(AND(T30=$V$8,0.5<=Q30,Q30<=3,$C$4="m"),'6.4- RC'!#REF!, IF(AND(T30=$V$8,3<Q30,Q30<=6,$C$4="m"),'6.4- RC'!#REF!, IF(AND(T30=$V$8,6<Q30,Q30<=30,$C$4="m"),'6.4- RC'!#REF!, IF(AND(T30=$V$8,30<Q30,Q30<=120,$C$4="m"),'6.4- RC'!#REF!, IF(AND(T30=$V$8,120<Q30,Q30<=400,$C$4="m"),'6.4- RC'!#REF!, IF(AND(T30=$V$8,400<Q30,Q30<=1000,$C$4="m"),'6.4- RC'!#REF!, IF(AND(T30=$V$8,1000<Q30,Q30<=2000,$C$4="m"),'6.4- RC'!#REF!, IF(AND(T30=$V$8,2000<Q30,Q30<=4000,$C$4="m"),'6.4- RC'!#REF!, IF(AND(T30=$V$9,0.5<=Q30,Q30<=3,$C$4="m"),'6.4- RC'!$AE$11, IF(AND(T30=$V$9,3<Q30,Q30<=6,$C$4="m"),'6.4- RC'!$AF$11, IF(AND(T30=$V$9,6<Q30,$C$4="m"),'6.4- RC'!$AG$11, IF(AND(T30=$V$8,0.5<=Q30,Q30<=3,$C$4="c"),'6.4- RC'!$AE$5, IF(AND(T30=$V$8,3<Q30,Q30<=6,$C$4="c"),'6.4- RC'!$AF$5, IF(AND(T30=$V$8,6<Q30,Q30<=30,$C$4="c"),'6.4- RC'!$AG$5, IF(AND(T30=$V$8,30<Q30,Q30<=120,$C$4="c"),'6.4- RC'!$AH$5, IF(AND(T30=$V$8,120<Q30,Q30<=400,$C$4="c"),'6.4- RC'!$AI$5, IF(AND(T30=$V$8,400<Q30,Q30<=1000,$C$4="c"),'6.4- RC'!$AJ$5, IF(AND(T30=$V$8,1000<Q30,Q30<=2000,$C$4="c"),'6.4- RC'!$AK$5, IF(AND(T30=$V$8,2000<Q30,Q30<=4000,$C$4="c"),'6.4- RC'!$AL$5, IF(AND(T30=$V$9,0.5<=Q30,Q30<=3,$C$4="c"),'6.4- RC'!$AE$13, IF(AND(T30=$V$9,3<Q30,Q30<=6,$C$4="c"),'6.4- RC'!$AF$13, IF(AND(T30=$V$9,6<Q30,$C$4="c"),'6.4- RC'!$AG$13, IF(AND(T30=$V$8,0.5<=Q30,Q30<=3,$C$4="v"),'6.4- RC'!$AE$6, IF(AND(T30=$V$8,3<Q30,Q30<=6,$C$4="v"),'6.4- RC'!$AF$6, IF(AND(T30=$V$8,6<Q30,Q30<=30,$C$4="v"),'6.4- RC'!$AG$6, IF(AND(T30=$V$8,30<Q30,Q30<=120,$C$4="v"),'6.4- RC'!$AH$6, IF(AND(T30=$V$8,120<Q30,Q30<=400,$C$4="v"),'6.4- RC'!$AI$6, IF(AND(T30=$V$8,400<Q30,Q30<=1000,$C$4="v"),'6.4- RC'!$AJ$6, IF(AND(T30=$V$8,1000<Q30,Q30<=2000,$C$4="v"),'6.4- RC'!$AK$6, IF(AND(T30=$V$8,2000<Q30,Q30<=4000,$C$4="v"),'6.4- RC'!$AL$6, IF(AND(T30=$V$9,0.5<=Q30,Q30<=3,$C$4="v"),'6.4- RC'!$AE$13, IF(AND(T30=$V$9,3<Q30,Q30<=6,$C$4="v"),'6.4- RC'!$AF$13, IF(AND(T30=$V$9,6<Q30,$C$4="v"),'6.4- RC'!$AG$13, )))))))))))))))))))))))))))))))))))))))))))) -> 0
E31: =IF(AND(O31="",P31="°"),Q31&P31&R31&S31, IF(AND(O31="",P31<>"°"),P31&Q31&R31&S31, IF(AND(O31<>"",P31="°"),O31&"x "&Q31&P31&R31&S31, IF(AND(O31<>"",P31<>"°"),O31&"x "&P31&Q31&R31&S31)))) -> 0 | G31: =IF(AND(R31="",Q31<>""),0, IF(AND(R31=0,Q31=""),"", IF(AND(R31<>"",Q31<>""),Q31-MID(R31,3,5),))) | H31: =IF(AND(R31="",Q31<>""),Q31, IF(AND(R31=0,Q31=""),"", IF(AND(R31<>"",Q31<>""),Q31+MID(R31,3,5)))) | R31: =IF(AND(T31=$V$8,0.5<=Q31,Q31<=3,$C$4="f"),'6.4- RC'!$AE$4, IF(AND(T31=$V$8,3<Q31,Q31<=6,$C$4="f"),'6.4- RC'!$AF$4, IF(AND(T31=$V$8,6<Q31,Q31<=30,$C$4="f"),'6.4- RC'!$AG$4, IF(AND(T31=$V$8,30<Q31,Q31<=120,$C$4="f"),'6.4- RC'!$AH$4, IF(AND(T31=$V$8,120<Q31,Q31<=400,$C$4="f"),'6.4- RC'!$AI$4, IF(AND(T31=$V$8,400<Q31,Q31<=1000,$C$4="f"),'6.4- RC'!$AJ$4, IF(AND(T31=$V$8,1000<Q31,Q31<=2000,$C$4="f"),'6.4- RC'!$AK$4, IF(AND(T31=$V$8,2000<Q31,Q31<=4000,$C$4="f"),'6.4- RC'!$AL$4, IF(AND(T31=$V$9,0.5<=Q31,Q31<=3,$C$4="f"),'6.4- RC'!$AE$11, IF(AND(T31=$V$9,3<Q31,Q31<=6,$C$4="f"),'6.4- RC'!$AF$11, IF(AND(T31=$V$9,6<Q31,$C$4="f"),'6.4- RC'!$AG$11, IF(AND(T31=$V$8,0.5<=Q31,Q31<=3,$C$4="m"),'6.4- RC'!#REF!, IF(AND(T31=$V$8,3<Q31,Q31<=6,$C$4="m"),'6.4- RC'!#REF!, IF(AND(T31=$V$8,6<Q31,Q31<=30,$C$4="m"),'6.4- RC'!#REF!, IF(AND(T31=$V$8,30<Q31,Q31<=120,$C$4="m"),'6.4- RC'!#REF!, IF(AND(T31=$V$8,120<Q31,Q31<=400,$C$4="m"),'6.4- RC'!#REF!, IF(AND(T31=$V$8,400<Q31,Q31<=1000,$C$4="m"),'6.4- RC'!#REF!, IF(AND(T31=$V$8,1000<Q31,Q31<=2000,$C$4="m"),'6.4- RC'!#REF!, IF(AND(T31=$V$8,2000<Q31,Q31<=4000,$C$4="m"),'6.4- RC'!#REF!, IF(AND(T31=$V$9,0.5<=Q31,Q31<=3,$C$4="m"),'6.4- RC'!$AE$11, IF(AND(T31=$V$9,3<Q31,Q31<=6,$C$4="m"),'6.4- RC'!$AF$11, IF(AND(T31=$V$9,6<Q31,$C$4="m"),'6.4- RC'!$AG$11, IF(AND(T31=$V$8,0.5<=Q31,Q31<=3,$C$4="c"),'6.4- RC'!$AE$5, IF(AND(T31=$V$8,3<Q31,Q31<=6,$C$4="c"),'6.4- RC'!$AF$5, IF(AND(T31=$V$8,6<Q31,Q31<=30,$C$4="c"),'6.4- RC'!$AG$5, IF(AND(T31=$V$8,30<Q31,Q31<=120,$C$4="c"),'6.4- RC'!$AH$5, IF(AND(T31=$V$8,120<Q31,Q31<=400,$C$4="c"),'6.4- RC'!$AI$5, IF(AND(T31=$V$8,400<Q31,Q31<=1000,$C$4="c"),'6.4- RC'!$AJ$5, IF(AND(T31=$V$8,1000<Q31,Q31<=2000,$C$4="c"),'6.4- RC'!$AK$5, IF(AND(T31=$V$8,2000<Q31,Q31<=4000,$C$4="c"),'6.4- RC'!$AL$5, IF(AND(T31=$V$9,0.5<=Q31,Q31<=3,$C$4="c"),'6.4- RC'!$AE$13, IF(AND(T31=$V$9,3<Q31,Q31<=6,$C$4="c"),'6.4- RC'!$AF$13, IF(AND(T31=$V$9,6<Q31,$C$4="c"),'6.4- RC'!$AG$13, IF(AND(T31=$V$8,0.5<=Q31,Q31<=3,$C$4="v"),'6.4- RC'!$AE$6, IF(AND(T31=$V$8,3<Q31,Q31<=6,$C$4="v"),'6.4- RC'!$AF$6, IF(AND(T31=$V$8,6<Q31,Q31<=30,$C$4="v"),'6.4- RC'!$AG$6, IF(AND(T31=$V$8,30<Q31,Q31<=120,$C$4="v"),'6.4- RC'!$AH$6, IF(AND(T31=$V$8,120<Q31,Q31<=400,$C$4="v"),'6.4- RC'!$AI$6, IF(AND(T31=$V$8,400<Q31,Q31<=1000,$C$4="v"),'6.4- RC'!$AJ$6, IF(AND(T31=$V$8,1000<Q31,Q31<=2000,$C$4="v"),'6.4- RC'!$AK$6, IF(AND(T31=$V$8,2000<Q31,Q31<=4000,$C$4="v"),'6.4- RC'!$AL$6, IF(AND(T31=$V$9,0.5<=Q31,Q31<=3,$C$4="v"),'6.4- RC'!$AE$13, IF(AND(T31=$V$9,3<Q31,Q31<=6,$C$4="v"),'6.4- RC'!$AF$13, IF(AND(T31=$V$9,6<Q31,$C$4="v"),'6.4- RC'!$AG$13, )))))))))))))))))))))))))))))))))))))))))))) -> 0
E32: =IF(AND(O32="",P32="°"),Q32&P32&R32&S32, IF(AND(O32="",P32<>"°"),P32&Q32&R32&S32, IF(AND(O32<>"",P32="°"),O32&"x "&Q32&P32&R32&S32, IF(AND(O32<>"",P32<>"°"),O32&"x "&P32&Q32&R32&S32)))) -> 0 | G32: =IF(AND(R32="",Q32<>""),0, IF(AND(R32=0,Q32=""),"", IF(AND(R32<>"",Q32<>""),Q32-MID(R32,3,5),))) | H32: =IF(AND(R32="",Q32<>""),Q32, IF(AND(R32=0,Q32=""),"", IF(AND(R32<>"",Q32<>""),Q32+MID(R32,3,5)))) | R32: =IF(AND(T32=$V$8,0.5<=Q32,Q32<=3,$C$4="f"),'6.4- RC'!$AE$4, IF(AND(T32=$V$8,3<Q32,Q32<=6,$C$4="f"),'6.4- RC'!$AF$4, IF(AND(T32=$V$8,6<Q32,Q32<=30,$C$4="f"),'6.4- RC'!$AG$4, IF(AND(T32=$V$8,30<Q32,Q32<=120,$C$4="f"),'6.4- RC'!$AH$4, IF(AND(T32=$V$8,120<Q32,Q32<=400,$C$4="f"),'6.4- RC'!$AI$4, IF(AND(T32=$V$8,400<Q32,Q32<=1000,$C$4="f"),'6.4- RC'!$AJ$4, IF(AND(T32=$V$8,1000<Q32,Q32<=2000,$C$4="f"),'6.4- RC'!$AK$4, IF(AND(T32=$V$8,2000<Q32,Q32<=4000,$C$4="f"),'6.4- RC'!$AL$4, IF(AND(T32=$V$9,0.5<=Q32,Q32<=3,$C$4="f"),'6.4- RC'!$AE$11, IF(AND(T32=$V$9,3<Q32,Q32<=6,$C$4="f"),'6.4- RC'!$AF$11, IF(AND(T32=$V$9,6<Q32,$C$4="f"),'6.4- RC'!$AG$11, IF(AND(T32=$V$8,0.5<=Q32,Q32<=3,$C$4="m"),'6.4- RC'!#REF!, IF(AND(T32=$V$8,3<Q32,Q32<=6,$C$4="m"),'6.4- RC'!#REF!, IF(AND(T32=$V$8,6<Q32,Q32<=30,$C$4="m"),'6.4- RC'!#REF!, IF(AND(T32=$V$8,30<Q32,Q32<=120,$C$4="m"),'6.4- RC'!#REF!, IF(AND(T32=$V$8,120<Q32,Q32<=400,$C$4="m"),'6.4- RC'!#REF!, IF(AND(T32=$V$8,400<Q32,Q32<=1000,$C$4="m"),'6.4- RC'!#REF!, IF(AND(T32=$V$8,1000<Q32,Q32<=2000,$C$4="m"),'6.4- RC'!#REF!, IF(AND(T32=$V$8,2000<Q32,Q32<=4000,$C$4="m"),'6.4- RC'!#REF!, IF(AND(T32=$V$9,0.5<=Q32,Q32<=3,$C$4="m"),'6.4- RC'!$AE$11, IF(AND(T32=$V$9,3<Q32,Q32<=6,$C$4="m"),'6.4- RC'!$AF$11, IF(AND(T32=$V$9,6<Q32,$C$4="m"),'6.4- RC'!$AG$11, IF(AND(T32=$V$8,0.5<=Q32,Q32<=3,$C$4="c"),'6.4- RC'!$AE$5, IF(AND(T32=$V$8,3<Q32,Q32<=6,$C$4="c"),'6.4- RC'!$AF$5, IF(AND(T32=$V$8,6<Q32,Q32<=30,$C$4="c"),'6.4- RC'!$AG$5, IF(AND(T32=$V$8,30<Q32,Q32<=120,$C$4="c"),'6.4- RC'!$AH$5, IF(AND(T32=$V$8,120<Q32,Q32<=400,$C$4="c"),'6.4- RC'!$AI$5, IF(AND(T32=$V$8,400<Q32,Q32<=1000,$C$4="c"),'6.4- RC'!$AJ$5, IF(AND(T32=$V$8,1000<Q32,Q32<=2000,$C$4="c"),'6.4- RC'!$AK$5, IF(AND(T32=$V$8,2000<Q32,Q32<=4000,$C$4="c"),'6.4- RC'!$AL$5, IF(AND(T32=$V$9,0.5<=Q32,Q32<=3,$C$4="c"),'6.4- RC'!$AE$13, IF(AND(T32=$V$9,3<Q32,Q32<=6,$C$4="c"),'6.4- RC'!$AF$13, IF(AND(T32=$V$9,6<Q32,$C$4="c"),'6.4- RC'!$AG$13, IF(AND(T32=$V$8,0.5<=Q32,Q32<=3,$C$4="v"),'6.4- RC'!$AE$6, IF(AND(T32=$V$8,3<Q32,Q32<=6,$C$4="v"),'6.4- RC'!$AF$6, IF(AND(T32=$V$8,6<Q32,Q32<=30,$C$4="v"),'6.4- RC'!$AG$6, IF(AND(T32=$V$8,30<Q32,Q32<=120,$C$4="v"),'6.4- RC'!$AH$6, IF(AND(T32=$V$8,120<Q32,Q32<=400,$C$4="v"),'6.4- RC'!$AI$6, IF(AND(T32=$V$8,400<Q32,Q32<=1000,$C$4="v"),'6.4- RC'!$AJ$6, IF(AND(T32=$V$8,1000<Q32,Q32<=2000,$C$4="v"),'6.4- RC'!$AK$6, IF(AND(T32=$V$8,2000<Q32,Q32<=4000,$C$4="v"),'6.4- RC'!$AL$6, IF(AND(T32=$V$9,0.5<=Q32,Q32<=3,$C$4="v"),'6.4- RC'!$AE$13, IF(AND(T32=$V$9,3<Q32,Q32<=6,$C$4="v"),'6.4- RC'!$AF$13, IF(AND(T32=$V$9,6<Q32,$C$4="v"),'6.4- RC'!$AG$13, )))))))))))))))))))))))))))))))))))))))))))) -> 0
