Workbook
Name achattsttss: 'DATA 2'!$C$2:$C$5
Name achattt: 'DATA 2'!$C$2:$C$4
Name bien: 'DATA 2'!$C$2:$C$3
Name blaze: DATA!$D$1:$E$7
Name charge: 'DATA 2'!$B$2:$B$7
Name commerciaux: 'DATA 2'!$H$2:$H$8
Name Durée: 'DATA 2'!$J$2:$J$30
Name durée23: 'DATA 2'!$J$2:$J$31
Name dureee: 'DATA 2'!$L$2:$L$361
Name duréemois: 'DATA 2'!$L$2:$L$241
Name ech: 'DATA 2'!$F$36:$F$37
Name echeance: 'DATA 2'!$G$12:$G$14
Name echeances: 'DATA 2'!$G$9:$G$14
Name echeancess: 'DATA 2'!$C$31:$C$36
Name foyer: 'DATA 2'!$D$14:$D$20
Name fraisnotaire: 'DATA 2'!$F$22:$F$24
Name FRNOT: DATA!$A$1:$A$3
Name lisstecreds: 'DATA 2'!$A$20:$A$29
Name listedescred: 'DATA 2'!$A$20:$B$29
Name mois: Simulateur!$C$37
Name moisrachat: 'DATA 2'!$L$61:$L$241
Name monat: 'DATA 2'!$A$12:$B$13
Name newtable: DATA!$A$11:$B$14
Name opéra: 'DATA 2'!$G$16:$G$17
Name pret: 'DATA 2'!$F$2:$F$4
Name pret22: 'DATA 2'!$A$18:$B$19
Name pret23: 'DATA 2'!$A$18:$A$19
Name pret24: 'DATA 2'!$A$22:$A$24
Name pret25: 'DATA 2'!$A$22:$A$25
Name pret26: 'DATA 2'!$A$22:$A$29
Name resid: 'DATA 2'!$D$2:$D$5
Name residence: 'DATA 2'!$D$2:$D$4
Name Situation: 'DATA 2'!$A$2:$A$7
Name tablezaaa: DATA!$A$1:$B$3
Name Taux: DATA!$B$1:$B$3
Name timelaps: 'DATA 2'!$L$1:$L$31
Name tx: 'DATA 2'!$G$22:$G$24
Name type: DATA!$B$7:$B$8
Name type2: DATA!$B$7:$B$9

Sheet Simulateur
A2: ETUDE DE FINANCEMENT
G5: Durée du crédit | H5: Date de Fin
F6: Prêt classique | G6: 25 | H6: =EOMONTH(B7,H27) -> 53327
A7: Date début prêt : | B7: 44185 | F7: PTZ | G7: 20 | H7: =EOMONTH(B7,H28) -> 51501 | I7: Votre situtation
F8: 1% Patronal | G8: 20 | H8: =EOMONTH(B7,H29) -> 51501
F9: Prêt jeune CM | G9: 10 | H9: =EOMONTH(B7,H30) -> 47848
A11: Votre Situation | F11: Votre endettement actuel
A12: Situation de Famille | C12: Pacsé | F12: 0 | G12: par mois jusqu'au
A13: Personnes à charge | C13: 0 | F13: 0 | G13: par mois jusqu'au
A14: Revenu mensuel net du foyer | C14: =2220+2250 -> 4470 | F14: 0 | G14: par mois jusqu'au
A16: Assur Emprunteur | B16: 0.0015 | F16: Situation
A17: Assur Emprunteur | B17: 0.0015 | F17: Terrain : | G17: Maison : | H17: Finitions :
A18: Assur Emprunteur | B18: 0.0015 | F18: 200000 | G18: 200000
A19: Assur Emprunteur | B19: 0.0015
A21: Votre projet Immobilier
A22: Nature | C22: Achat neuf | F22: Date de signature | H22: 44185
A23: Destination | C23: Résidence Principale | F23: Montant de l'opération | H23: =SUM(F18:H18) -> 400000
A25: Dépenses | C25: Montant | D25: Plan de financement | F25: Montant | G25: Taux | H25: Durée en Mois
A26: Prix d'acquisition | C26: =F18 -> 200000
A27: Prêt Lissage Variable | D27: Prêt Lissage Taux Fixe | F27: =C35-(F28+F29+F30) -> 241700 | G27: 0.0115 | H27: =G6*12 -> 300
A28: PTZ | D28: PTZ | F28: 75600 | G28: 0 | H28: =G7*12 -> 240
A29: 1% logement | D29: Crédit N°2 | F29: 40000 | G29: 0.005 | H29: =G8*12 -> 240
A30: FR Notaire Neuf° | B30: 0.08 | C30: =C$26*B30 -> 16000 | D30: Prêt jeune CM | F30: 20000 | G30: 0 | H30: =G9*12 -> 120
A31: Aucun | B31: =VLOOKUP(A31,newtable,2,FALSE) -> 0 | C31: =C$27*B31 -> 0
A32: Frais de garantie° | B32: 0.005 | C32: =IF(A27="Crédit '[Simulateur Emprunt simple.xls]TAM'!$D$32",(C27*B32)+(C26*B32),+C26*B32) -> 1000
A33: Frais de dossier | B33: =(C33*B32)/C32 -> 0.0015 | C33: 300
A34: Apport Personnel | C34: 40000
A35: Total des dépenses | C35: =F18+G18+H18+C30+C31+C32+C33-C34 -> 377300 | D35: Total prêt | F35: =F28+F27+F29+F30 -> 377300
A36: °Estimation
A37: Remboursements | C37: =IF(H12="",0,(YEAR(H12)-YEAR(B7))*12+MONTH(H12)-MONTH(B7)&" mois") -> 0 | D37: =IF($H$13="",0,(YEAR(H13)-YEAR(B7))*12+MONTH(H13)-MONTH(B7)&" mois") -> 0 | E37: =IF(H14="",0,(YEAR(H14)-YEAR(B7))*12+MONTH(H14)-MONTH(B7)&" mois") -> 0 | F37: =H29&" mois" -> 240 mois | G37: =H28&" mois" -> 240 mois | H37: =H27&" mois" -> 300 mois
A38: Échéance actuelle 1 | C38: =F12 -> 0
A39: Échéance actuelle 2 | D39: =F13 -> 0
A40: Échéance actuelle 3 | E40: =F14 -> 0
A41: Échéance Lissé 2 | B41: =H29/12&" ans" -> 20 ans | F41: =IF($H$29=0,0,PMT(G29/12,H29,-F29)) -> 175.17356
A42: Échéance PTZ / PPL | B42: =H28/12&" ans" -> 20 ans | G42: =IF($H$28=0,0,PMT(G28/12,H28,-F28)) -> 315
A43: Échéance | B43: =H27/12&" ans" -> 25 ans | H43: =IF($H$27=0,0,PMT(G27/12,H27,-F27)) -> 927.40641
A44: Échéance | B44: =H30/12&" ans" -> 10 ans
A45: Assurance de prêt | B45: =(F28*B17)/12 -> 9.45
A46: Assurance de prêt | B46: =(F27*B16)/12 -> 30.2125
A47: Assurance de prêt | B47: =(F29*B18)/12 -> 5
...

Sheet DATA
A1: FR Notaire Ancien° | B1: 0.08
A2: FR Notaire Neuf° | B2: 0.02
A3: Pénalité Rachat° | B3: 0.03
A4: Aucun | B4: 0
B7: Travaux
B8: Crédit 2
B9: Frais de Mobilier
A11: FR Notaire Ancien° | B11: 0.08 | G11: Reste à vivre | H11: Échéance de Crédit
A12: FR Notaire Neuf° | B12: 0.02 | G12: =(Simulateur!$C$14)-(Simulateur!C49) -> 3005.2575 | H12: =Simulateur!$C$49 -> 1464.7425
A13: Pénalité Rachat° | B13: 0.03 | G13: =100% -> 1 | H13: =Simulateur!C50 -> 0.32768288
A14: Aucun | B14: 0
G16: Durée du crédit
F17: Crédit 1 | G17: =Simulateur!$G$6 -> 25
F18: Crédit 2 | G18: =Simulateur!$G$7 -> 20
F19: Crédit 3 | G19: =Simulateur!$G$8 -> 20
F20: Crédit 4 | G20: =IF(Simulateur!H12="",0,(YEAR(Simulateur!H12)-YEAR(Simulateur!B7))) -> 0
F21: Crédit 5 | G21: =IF(Simulateur!H13="",0,(YEAR(Simulateur!H13)-YEAR(Simulateur!B7))) -> 0
F22: Crédit 6 | G22: =IF(Simulateur!H14="",0,(YEAR(Simulateur!H14)-YEAR(Simulateur!B7))) -> 0

Sheet DATA 2
L1: 0
A2: Célibataire | B2: 1 | C2: Achat ancien | D2: Résidence Principale | F2: Prêt Lissage Taux Fixe | J2: 5 | L2: 1
A3: Marié | B3: 2 | C3: Achat neuf | D3: Résidence Secondaire | F3: Prêt Lissage Taux Mixte | J3: 6 | L3: 2
A4: Divorcé | B4: 3 | C4: Achat Local Commercial | D4: Investissement | F4: Prêt Lissage Variable | J4: 7 | L4: 3
A5: Pacsé | B5: 4 | C5: Aucun | D5: Rachat de crédit | J5: 8 | L5: 4
A6: Concubinage | B6: 5 | J6: 9 | L6: 5
A7: Veuf | B7: 6 | J7: 10 | L7: 6
J8: 11 | L8: 7
G9: Aucun | J9: 12 | L9: 8
G10: Prêt Pallier 3 | J10: 13 | L10: 9
G11: Prêt Pallier 2 | J11: 14 | L11: 10
A12: Montant de l'opération | G12: Échéance Lissé 2 | J12: 15 | L12: 11
A13: Capital Restant Dû | G13: Échéance PTZ / PPL | J13: 16 | L13: 12
D14: 0 | G14: Échéance Mixte | J14: 17 | L14: 13
D15: 1 | J15: 18 | L15: 14
D16: 2 | G16: Prix d'acquisition | J16: 19 | L16: 15
D17: 3 | G17: Capital Restant Dû | J17: 20 | L17: 16
D18: 4 | J18: 21 | L18: 17
D19: 5 | J19: 22 | L19: 18
A20: Prêt Lissage Taux Fixe | D20: 6 | J20: 23 | L20: 19
A21: Prêt Lissage Taux Mixte | J21: 24 | L21: 20
A22: Prêt Lissage Variable | F22: FR Notaire Ancien° | G22: 0.08 | J22: 25 | L22: 21
A23: Crédit N°2 | F23: FR Notaire Neuf° | G23: 0.02 | J23: 26 | L23: 22
A24: PTZ | F24: Pénalité Rachat° | G24: 0.03 | J24: 27 | L24: 23
A25: PPL | J25: 28 | L25: 24
A26: Prêt Palier 1 | L26: 25
A27: Prêt Pallier 2 | L27: 26
A28: Prêt Pallier 3 | L28: 27
A29: Aucun | H29: Échéance Lissé 2 | J29: 29 | L29: 28
F30: 0.08 | H30: Échéance PTZ | J30: 30 | L30: 29
C31: Aucun | F31: 0.02 | H31: Échéance Mixte | J31: 0 | L31: 30
C32: Prêt Pallier 3 | F32: 0.03 | L32: 31
C33: Prêt Pallier 2 | L33: 32
C34: Échéance Lissée | L34: 33
C35: Échéance PTZ / PPL | L35: 34
C36: Échéance Mixte | F36: Échéance | L36: 35
F37: Échéance Pallier 1 | L37: 36
L38: 37
L39: 38
L40: 39
...
