Workbook

Sheet Collab
A1: NomsFeuilles | B1: NomsCollab
A2: Début | B2: Eric
A3: Nordea | B3: Nordine
A4: Rabo Ftbtr | B4: Brian
A5: OneALM | B5: Emmanuel
A6: LCH | B6: Nadine
A7: Bankdata | B7: Anas
A8: Santander | B8: Marc
A9: DNB | B9: Karim
A10: Fin
C14: June | E14: July | G14: Aug | I14: Sep | K14: Oct | M14: Nov | O14: Dec | Q14: Jan | S14: Feb | U14: Mar | W14: Apr | Y14: May
C15: Jours | D15: FTE | E15: Jours | F15: FTE | G15: Jours | H15: FTE | I15: Jours | J15: FTE | K15: Jours | L15: FTE | M15: Jours | N15: FTE | O15: Jours | P15: FTE | Q15: Jours | R15: FTE | S15: Jours | T15: FTE | U15: Jours | V15: FTE | W15: Jours | X15: FTE | Y15: Jours | Z15: FTE
B16: Eric | C16: =SUMPRODUCT(SUMIF(INDIRECT("'"&A2:A10&"'!Nordea!B7"),B2)) -> #REF!
B17: Nordine
B18: Brian
B19: Emmanuel
B20: Nadine
B21: Anas
B22: Marc
B23: Karim
AC30: SOMMEPROD(SOMME.SI(INDIRECT("'"&M1:M3&"'!f7");B2;INDIRECT("'"&M1:M3&"'!c115")))

Sheet GAP
B2: June | C2: July | D2: Aug | E2: Sep | F2: Oct | G2: Nov | H2: Dec | I2: Jan | J2: Feb | K2: Mar | L2: Apr | M2: May
A3: TOTAL FTE | B3: =SUM(Début:Fin!B4) -> 8.7340426 | C3: =SUM(Début:Fin!D4) -> 7.6170213 | D3: =SUM(Début:Fin!F4) -> 8.3085106 | E3: =SUM(Début:Fin!H4) -> 10.25 | F3: =SUM(Début:Fin!J4) -> 10.382979 | G3: =SUM(Début:Fin!L4) -> 10.648936 | H3: =SUM(Début:Fin!N4) -> 10.648936 | I3: =SUM(Début:Fin!P4) -> 10.648936 | J3: =SUM(Début:Fin!R4) -> 10.648936 | K3: =SUM(Début:Fin!T4) -> 10.648936 | L3: =SUM(Début:Fin!V4) -> 10.648936 | M3: =SUM(Début:Fin!X4) -> 10.648936
A4: TOTAL FTE TODAY | B4: =SUM(Début:Fin!B5) -> 5.7340426 | C4: =SUM(Début:Fin!D5) -> 4.6170213 | D4: =SUM(Début:Fin!F5) -> 5.3085106 | E4: =SUM(Début:Fin!H5) -> 6.5851064 | F4: =SUM(Début:Fin!J5) -> 6.5851064 | G4: =SUM(Début:Fin!L5) -> 6.5851064 | H4: =SUM(Début:Fin!N5) -> 6.5851064 | I4: =SUM(Début:Fin!P5) -> 6.5851064 | J4: =SUM(Début:Fin!R5) -> 6.5851064 | K4: =SUM(Début:Fin!T5) -> 6.5851064 | L4: =SUM(Début:Fin!V5) -> 6.5851064 | M4: =SUM(Début:Fin!X5) -> 6.5851064
A5: TOTAL FTE NEEDED | B5: =SUM(Début:Fin!B6) -> 3 | C5: =SUM(Début:Fin!D6) -> 3 | D5: =SUM(Début:Fin!F6) -> 3 | E5: =SUM(Début:Fin!H6) -> 3.6648936 | F5: =SUM(Début:Fin!J6) -> 3.7978723 | G5: =SUM(Début:Fin!L6) -> 4.0638298 | H5: =SUM(Début:Fin!N6) -> 4.0638298 | I5: =SUM(Début:Fin!P6) -> 4.0638298 | J5: =SUM(Début:Fin!R6) -> 4.0638298 | K5: =SUM(Début:Fin!T6) -> 4.0638298 | L5: =SUM(Début:Fin!V6) -> 4.0638298 | M5: =SUM(Début:Fin!X6) -> 4.0638298
A11: ! Ne pas modifier ci-dessous !
A13: NORDEA | B13: =Nordea!B7 -> June | D13: =Nordea!D7 -> July | F13: =Nordea!F7 -> Aug | H13: =Nordea!H7 -> Sep | J13: =Nordea!J7 -> Oct | L13: =Nordea!L7 -> Nov | N13: =Nordea!N7 -> Dec | P13: =Nordea!P7 -> Jan | R13: =Nordea!R7 -> Feb | T13: =Nordea!T7 -> Mar | V13: =Nordea!V7 -> Apr | X13: =Nordea!X7 -> May
B14: =Nordea!B8 -> Jours | C14: =Nordea!C8 -> FTE | D14: =Nordea!D8 -> Jours | E14: =Nordea!E8 -> FTE | F14: =Nordea!F8 -> Jours | G14: =Nordea!G8 -> FTE | H14: =Nordea!H8 -> Jours | I14: =Nordea!I8 -> FTE | ... Y14: =Nordea!Y8 -> FTE
A15: =Nordea!A9 -> Eric | B15: =Nordea!B9 -> 12 | C15: =Nordea!C9 -> 0.63829787 | D15: =Nordea!D9 -> 10 | E15: =Nordea!E9 -> 0.53191489 | F15: =Nordea!F9 -> 10 | G15: =Nordea!G9 -> 0.53191489 | H15: =Nordea!H9 -> 12 | ... Y15: =Nordea!Y9 -> 0.63829787
A16: =Nordea!A10 -> Nordine | B16: =Nordea!B10 -> 4 | C16: =Nordea!C10 -> 0.21276596 | D16: =Nordea!D10 -> 0 | E16: =Nordea!E10 -> 0 | F16: =Nordea!F10 -> 4 | G16: =Nordea!G10 -> 0.21276596 | H16: =Nordea!H10 -> 4 | ... Y16: =Nordea!Y10 -> 0.21276596
A17: =Nordea!A11 -> Brian | B17: =Nordea!B11 -> 12 | C17: =Nordea!C11 -> 0.63829787 | D17: =Nordea!D11 -> 12 | E17: =Nordea!E11 -> 0.63829787 | F17: =Nordea!F11 -> 10 | G17: =Nordea!G11 -> 0.53191489 | H17: =Nordea!H11 -> 12 | ... Y17: =Nordea!Y11 -> 0.63829787
A18: =Nordea!A12 -> Emmanuel | B18: =Nordea!B12 -> 12 | C18: =Nordea!C12 -> 0.63829787 | D18: =Nordea!D12 -> 12 | E18: =Nordea!E12 -> 0.63829787 | F18: =Nordea!F12 -> 10 | G18: =Nordea!G12 -> 0.53191489 | H18: =Nordea!H12 -> 12 | ... Y18: =Nordea!Y12 -> 0.63829787
A19: =Nordea!A13 -> Nadine | B19: =Nordea!B13 -> 4 | C19: =Nordea!C13 -> 0.21276596 | D19: =Nordea!D13 -> 2 | E19: =Nordea!E13 -> 0.10638298 | F19: =Nordea!F13 -> 2 | G19: =Nordea!G13 -> 0.10638298 | H19: =Nordea!H13 -> 4 | ... Y19: =Nordea!Y13 -> 0.21276596
A20: =Nordea!A14 -> Karim | B20: =Nordea!B14 -> 12 | C20: =Nordea!C14 -> 0.63829787 | D20: =Nordea!D14 -> 12 | E20: =Nordea!E14 -> 0.63829787 | F20: =Nordea!F14 -> 12 | G20: =Nordea!G14 -> 0.63829787 | H20: =Nordea!H14 -> 12 | ... Y20: =Nordea!Y14 -> 0.63829787
A23: RABO Ftbtr | B23: ='Rabo Ftbtr'!B7 -> June | D23: ='Rabo Ftbtr'!D7 -> July | F23: ='Rabo Ftbtr'!F7 -> Aug | H23: ='Rabo Ftbtr'!H7 -> Sep | J23: ='Rabo Ftbtr'!J7 -> Oct | L23: ='Rabo Ftbtr'!L7 -> Nov | N23: ='Rabo Ftbtr'!N7 -> Dec | P23: ='Rabo Ftbtr'!P7 -> Jan | R23: ='Rabo Ftbtr'!R7 -> Feb | T23: ='Rabo Ftbtr'!T7 -> Mar | V23: ='Rabo Ftbtr'!V7 -> Apr | X23: ='Rabo Ftbtr'!X7 -> May
B24: ='Rabo Ftbtr'!B8 -> Jours | C24: ='Rabo Ftbtr'!C8 -> FTE | D24: ='Rabo Ftbtr'!D8 -> Jours | E24: ='Rabo Ftbtr'!E8 -> FTE | F24: ='Rabo Ftbtr'!F8 -> Jours | G24: ='Rabo Ftbtr'!G8 -> FTE | H24: ='Rabo Ftbtr'!H8 -> Jours | I24: ='Rabo Ftbtr'!I8 -> FTE | ... Y24: ='Rabo Ftbtr'!Y8 -> FTE
A25: ='Rabo Ftbtr'!A9 -> Anas | B25: ='Rabo Ftbtr'!B9 -> 18.8 | C25: ='Rabo Ftbtr'!C9 -> 1 | D25: ='Rabo Ftbtr'!D9 -> 18.8 | E25: ='Rabo Ftbtr'!E9 -> 1 | F25: ='Rabo Ftbtr'!F9 -> 18.8 | G25: ='Rabo Ftbtr'!G9 -> 1 | H25: ='Rabo Ftbtr'!H9 -> 18.8 | ... Y25: ='Rabo Ftbtr'!Y9 -> 1
A26: ='Rabo Ftbtr'!A10 -> Nordine | B26: ='Rabo Ftbtr'!B10 -> 13 | C26: ='Rabo Ftbtr'!C10 -> 0.69148936 | D26: ='Rabo Ftbtr'!D10 -> 0 | E26: ='Rabo Ftbtr'!E10 -> 0 | F26: ='Rabo Ftbtr'!F10 -> 13 | G26: ='Rabo Ftbtr'!G10 -> 0.69148936 | H26: ='Rabo Ftbtr'!H10 -> 13 | ... Y26: ='Rabo Ftbtr'!Y10 -> 0.69148936
A27: ='Rabo Ftbtr'!A11 -> ? | B27: ='Rabo Ftbtr'!B11 -> 18.8 | C27: ='Rabo Ftbtr'!C11 -> 1 | D27: ='Rabo Ftbtr'!D11 -> 18.8 | E27: ='Rabo Ftbtr'!E11 -> 1 | F27: ='Rabo Ftbtr'!F11 -> 18.8 | G27: ='Rabo Ftbtr'!G11 -> 1 | H27: ='Rabo Ftbtr'!H11 -> 18.8 | ... Y27: ='Rabo Ftbtr'!Y11 -> 1
A28: ='Rabo Ftbtr'!A12 -> ? | B28: ='Rabo Ftbtr'!B12 -> 18.8 | C28: ='Rabo Ftbtr'!C12 -> 1 | D28: ='Rabo Ftbtr'!D12 -> 18.8 | E28: ='Rabo Ftbtr'!E12 -> 1 | F28: ='Rabo Ftbtr'!F12 -> 18.8 | G28: ='Rabo Ftbtr'!G12 -> 1 | H28: ='Rabo Ftbtr'!H12 -> 18.8 | ... Y28: ='Rabo Ftbtr'!Y12 -> 1
A31: OneALM | B31: =OneALM!B7 -> June | D31: =OneALM!D7 -> July | F31: =OneALM!F7 -> Aug | H31: =OneALM!H7 -> Sep | J31: =OneALM!J7 -> Oct | L31: =OneALM!L7 -> Nov | N31: =OneALM!N7 -> Dec | P31: =OneALM!P7 -> Jan | R31: =OneALM!R7 -> Feb | T31: =OneALM!T7 -> Mar | V31: =OneALM!V7 -> Apr | X31: =OneALM!X7 -> May
B32: =OneALM!B8 -> Jours | C32: =OneALM!C8 -> FTE | D32: =OneALM!D8 -> Jours | E32: =OneALM!E8 -> FTE | F32: =OneALM!F8 -> Jours | G32: =OneALM!G8 -> FTE | H32: =OneALM!H8 -> Jours | I32: =OneALM!I8 -> FTE | ... Y32: =OneALM!Y8 -> FTE
A33: =OneALM!A9 -> Marc | B33: =OneALM!B9 -> 8 | C33: =OneALM!C9 -> 0.42553191 | D33: =OneALM!D9 -> 8 | E33: =OneALM!E9 -> 0.42553191 | F33: =OneALM!F9 -> 8 | G33: =OneALM!G9 -> 0.42553191 | H33: =OneALM!H9 -> 8 | ... Y33: =OneALM!Y9 -> 0.42553191
A36: LCH | B36: =LCH!B7 -> June | C36: =LCH!C7 -> 0 | D36: =LCH!D7 -> July | E36: =LCH!E7 -> 0 | F36: =LCH!F7 -> Aug | G36: =LCH!G7 -> 0 | H36: =LCH!H7 -> Sep | I36: =LCH!I7 -> 0 | ... Y36: =LCH!Y7 -> 0
B37: =LCH!B8 -> Jours | C37: =LCH!C8 -> FTE | D37: =LCH!D8 -> Jours | E37: =LCH!E8 -> FTE | F37: =LCH!F8 -> Jours | G37: =LCH!G8 -> FTE | H37: =LCH!H8 -> Jours | I37: =LCH!I8 -> FTE | ... Y37: =LCH!Y8 -> FTE
A38: =LCH!A9 -> Nordine | B38: =LCH!B9 -> 5 | C38: =LCH!C9 -> 0.26595745 | D38: =LCH!D9 -> 5 | E38: =LCH!E9 -> 0.26595745 | F38: =LCH!F9 -> 5 | G38: =LCH!G9 -> 0.26595745 | H38: =LCH!H9 -> 5 | ... Y38: =LCH!Y9 -> 0.26595745
A41: BANKDATA | B41: =Bankdata!B7 -> June | C41: =Bankdata!C7 -> 0 | D41: =Bankdata!D7 -> July | E41: =Bankdata!E7 -> 0 | F41: =Bankdata!F7 -> Aug | G41: =Bankdata!G7 -> 0 | H41: =Bankdata!H7 -> Sep | I41: =Bankdata!I7 -> 0 | ... Y41: =Bankdata!Y7 -> 0
B42: =Bankdata!B8 -> Jours | C42: =Bankdata!C8 -> FTE | D42: =Bankdata!D8 -> Jours | E42: =Bankdata!E8 -> FTE | F42: =Bankdata!F8 -> Jours | G42: =Bankdata!G8 -> FTE | H42: =Bankdata!H8 -> Jours | I42: =Bankdata!I8 -> FTE | ... Y42: =Bankdata!Y8 -> FTE
A43: =Bankdata!A9 -> Brian | B43: =Bankdata!B9 -> 7 | C43: =Bankdata!C9 -> 0.37234043 | D43: =Bankdata!D9 -> 7 | E43: =Bankdata!E9 -> 0.37234043 | F43: =Bankdata!F9 -> 7 | G43: =Bankdata!G9 -> 0.37234043 | H43: =Bankdata!H9 -> 7 | ... Y43: =Bankdata!Y9 -> 0.37234043
A44: =Bankdata!A10 -> ? | B44: =Bankdata!B10 -> 18.8 | C44: =Bankdata!C10 -> 1 | D44: =Bankdata!D10 -> 18.8 | E44: =Bankdata!E10 -> 1 | F44: =Bankdata!F10 -> 18.8 | G44: =Bankdata!G10 -> 1 | H44: =Bankdata!H10 -> 18.8 | ... Y44: =Bankdata!Y10 -> 1
A47: SANTANDER | B47: =Santander!B7 -> June | C47: =Santander!C7 -> 0 | D47: =Santander!D7 -> July | E47: =Santander!E7 -> 0 | F47: =Santander!F7 -> Aug | G47: =Santander!G7 -> 0 | H47: =Santander!H7 -> Sep | I47: =Santander!I7 -> 0 | ... Y47: =Santander!Y7 -> 0
B48: =Santander!B8 -> Jours | C48: =Santander!C8 -> FTE | D48: =Santander!D8 -> Jours | E48: =Santander!E8 -> FTE | F48: =Santander!F8 -> Jours | G48: =Santander!G8 -> FTE | H48: =Santander!H8 -> Jours | I48: =Santander!I8 -> FTE | ... Y48: =Santander!Y8 -> FTE
A49: =Santander!A9 -> Marc | B49: =Santander!B9 -> 0 | C49: =Santander!C9 -> 0 | D49: =Santander!D9 -> 0 | E49: =Santander!E9 -> 0 | F49: =Santander!F9 -> 0 | G49: =Santander!G9 -> 0 | H49: =Santander!H9 -> 8 | ... Y49: =Santander!Y9 -> 0.42553191
A50: =Santander!A10 -> Anas | B50: =Santander!B10 -> 0 | C50: =Santander!C10 -> 0 | D50: =Santander!D10 -> 0 | E50: =Santander!E10 -> 0 | F50: =Santander!F10 -> 0 | G50: =Santander!G10 -> 0 | H50: =Santander!H10 -> 8 | ... Y50: =Santander!Y10 -> 0.42553191
A53: DNB | B53: =DNB!B7 -> June | C53: =DNB!C7 -> 0 | D53: =DNB!D7 -> July | E53: =DNB!E7 -> 0 | F53: =DNB!F7 -> Aug | G53: =DNB!G7 -> 0 | H53: =DNB!H7 -> Sep | I53: =DNB!I7 -> 0 | ... Y53: =DNB!Y7 -> 0
B54: =DNB!B8 -> Jours | C54: =DNB!C8 -> FTE | D54: =DNB!D8 -> Jours | E54: =DNB!E8 -> FTE | F54: =DNB!F8 -> Jours | G54: =DNB!G8 -> FTE | H54: =DNB!H8 -> Jours | I54: =DNB!I8 -> FTE | ... Y54: =DNB!Y8 -> FTE
A55: =DNB!A9 -> ? | B55: =DNB!B9 -> 0 | C55: =DNB!C9 -> 0 | D55: =DNB!D9 -> 0 | E55: =DNB!E9 -> 0 | F55: =DNB!F9 -> 0 | G55: =DNB!G9 -> 0 | H55: =DNB!H9 -> 2.5 | ... Y55: =DNB!Y9 -> 0.21276596
A56: =DNB!A10 -> ? | B56: =DNB!B10 -> 0 | C56: =DNB!C10 -> 0 | D56: =DNB!D10 -> 0 | E56: =DNB!E10 -> 0 | F56: =DNB!F10 -> 0 | G56: =DNB!G10 -> 0 | H56: =DNB!H10 -> 2.5 | ... Y56: =DNB!Y10 -> 0.21276596
A57: =DNB!A11 -> ? | B57: =DNB!B11 -> 0 | C57: =DNB!C11 -> 0 | D57: =DNB!D11 -> 0 | E57: =DNB!E11 -> 0 | F57: =DNB!F11 -> 0 | G57: =DNB!G11 -> 0 | H57: =DNB!H11 -> 2.5 | ... Y57: =DNB!Y11 -> 0.21276596
A58: =DNB!A12 -> ? | B58: =DNB!B12 -> 0 | C58: =DNB!C12 -> 0 | D58: =DNB!D12 -> 0 | E58: =DNB!E12 -> 0 | F58: =DNB!F12 -> 0 | G58: =DNB!G12 -> 0 | H58: =DNB!H12 -> 2.5 | ... Y58: =DNB!Y12 -> 0.21276596
A59: =DNB!A13 -> ? | B59: =DNB!B13 -> 0 | C59: =DNB!C13 -> 0 | D59: =DNB!D13 -> 0 | E59: =DNB!E13 -> 0 | F59: =DNB!F13 -> 0 | G59: =DNB!G13 -> 0 | H59: =DNB!H13 -> 2.5 | ... Y59: =DNB!Y13 -> 0.21276596

Sheet Début

Sheet Nordea
A1: 18.8
A3: TOTAL J | B3: =SUM(B9:B105) -> 56 | D3: =SUM(D9:D105) -> 48 | F3: =SUM(F9:F105) -> 48 | H3: =SUM(H9:H105) -> 56 | J3: =SUM(J9:J105) -> 56 | L3: =SUM(L9:L105) -> 56 | N3: =SUM(N9:N105) -> 56 | P3: =SUM(P9:P105) -> 56 | R3: =SUM(R9:R105) -> 56 | T3: =SUM(T9:T105) -> 56 | V3: =SUM(V9:V105) -> 56 | X3: =SUM(X9:X105) -> 56 | AA3: =SUM(B3:Y3) -> 656
A4: TOTAL FTE | B4: =SUM(C9:C102) -> 2.9787234 | D4: =SUM(E9:E102) -> 2.5531915 | F4: =SUM(G9:G102) -> 2.5531915 | H4: =SUM(I9:I102) -> 2.9787234 | J4: =SUM(K9:K102) -> 2.9787234 | L4: =SUM(M9:M102) -> 2.9787234 | N4: =SUM(O9:O102) -> 2.9787234 | P4: =SUM(Q9:Q102) -> 2.9787234 | R4: =SUM(S9:S102) -> 2.9787234 | T4: =SUM(U9:U102) -> 2.9787234 | V4: =SUM(W9:W102) -> 2.9787234 | X4: =SUM(Y9:Y102) -> 2.9787234 | AA4: =SUM(B4:Y4) -> 34.893617
A5: TOTAL FTE Capacity | B5: =B4-B6 -> 2.9787234 | D5: =D4-D6 -> 2.5531915 | F5: =F4-F6 -> 2.5531915 | H5: =H4-H6 -> 2.9787234 | J5: =J4-J6 -> 2.9787234 | L5: =L4-L6 -> 2.9787234 | N5: =N4-N6 -> 2.9787234 | P5: =P4-P6 -> 2.9787234 | R5: =R4-R6 -> 2.9787234 | T5: =T4-T6 -> 2.9787234 | V5: =V4-V6 -> 2.9787234 | X5: =X4-X6 -> 2.9787234
A6: TOTAL FTE GAP | B6: =SUMIFS(C9:C101,$A$9:$A$101,"?") -> 0 | D6: =SUMIFS(E9:E101,$A$9:$A$101,"?") -> 0 | F6: =SUMIFS(G9:G101,$A$9:$A$101,"?") -> 0 | H6: =SUMIFS(I9:I101,$A$9:$A$101,"?") -> 0 | J6: =SUMIFS(K9:K101,$A$9:$A$101,"?") -> 0 | L6: =SUMIFS(M9:M101,$A$9:$A$101,"?") -> 0 | N6: =SUMIFS(O9:O101,$A$9:$A$101,"?") -> 0 | P6: =SUMIFS(Q9:Q101,$A$9:$A$101,"?") -> 0 | R6: =SUMIFS(S9:S101,$A$9:$A$101,"?") -> 0 | T6: =SUMIFS(U9:U101,$A$9:$A$101,"?") -> 0 | V6: =SUMIFS(W9:W101,$A$9:$A$101,"?") -> 0 | X6: =SUMIFS(Y9:Y101,$A$9:$A$101,"?") -> 0 | AA6: =SUM(B6:Y6) -> 0
B7: June | D7: July | F7: Aug | H7: Sep | J7: Oct | L7: Nov | N7: Dec | P7: Jan | R7: Feb | T7: Mar | V7: Apr | X7: May | AA7: TOTAL J | AB7: TOTAL FTE
B8: Jours | C8: FTE | D8: Jours | E8: FTE | F8: Jours | G8: FTE | H8: Jours | I8: FTE | J8: Jours | K8: FTE | L8: Jours | M8: FTE | N8: Jours | O8: FTE | P8: Jours | Q8: FTE | R8: Jours | S8: FTE | T8: Jours | U8: FTE | V8: Jours | W8: FTE | X8: Jours | Y8: FTE
A9: Eric | B9: 12 | C9: =B9/$A$1 -> 0.63829787 | D9: 10 | E9: =D9/$A$1 -> 0.53191489 | F9: 10 | G9: =F9/$A$1 -> 0.53191489 | H9: 12 | I9: =H9/$A$1 -> 0.63829787 | J9: 12 | K9: =J9/$A$1 -> 0.63829787 | L9: 12 | M9: =L9/$A$1 -> 0.63829787 | N9: 12 | O9: =N9/$A$1 -> 0.63829787 | P9: 12 | Q9: =P9/$A$1 -> 0.63829787 | R9: 12 | S9: =R9/$A$1 -> 0.63829787 | T9: 12 | U9: =T9/$A$1 -> 0.63829787 | V9: 12 | W9: =V9/$A$1 -> 0.63829787 | X9: 12 | Y9: =X9/$A$1 -> 0.63829787 | AA9: =SUM(B9,D9,F9,H9,J9,L9,N9,P9,R9,T9,V9,X9) -> 140 | AB9: =SUM(C9,E9,G9,I9,K9,M9,O9,Q9,S9,U9,W9,Y9) -> 7.4468085
A10: Nordine | B10: 4 | C10: =B10/$A$1 -> 0.21276596 | D10: 0 | E10: =D10/$A$1 -> 0 | F10: 4 | G10: =F10/$A$1 -> 0.21276596 | H10: 4 | I10: =H10/$A$1 -> 0.21276596 | J10: 4 | K10: =J10/$A$1 -> 0.21276596 | L10: 4 | M10: =L10/$A$1 -> 0.21276596 | N10: 4 | O10: =N10/$A$1 -> 0.21276596 | P10: 4 | Q10: =P10/$A$1 -> 0.21276596 | R10: 4 | S10: =R10/$A$1 -> 0.21276596 | T10: 4 | U10: =T10/$A$1 -> 0.21276596 | V10: 4 | W10: =V10/$A$1 -> 0.21276596 | X10: 4 | Y10: =X10/$A$1 -> 0.21276596 | AA10: =SUM(B10,D10,F10,H10,J10,L10,N10,P10,R10,T10,V10,X10) -> 44 | AB10: =SUM(C10,E10,G10,I10,K10,M10,O10,Q10,S10,U10,W10,Y10) -> 2.3404255
A11: Brian | B11: 12 | C11: =B11/$A$1 -> 0.63829787 | D11: 12 | E11: =D11/$A$1 -> 0.63829787 | F11: 10 | G11: =F11/$A$1 -> 0.53191489 | H11: 12 | I11: =H11/$A$1 -> 0.63829787 | J11: 12 | K11: =J11/$A$1 -> 0.63829787 | L11: 12 | M11: =L11/$A$1 -> 0.63829787 | N11: 12 | O11: =N11/$A$1 -> 0.63829787 | P11: 12 | Q11: =P11/$A$1 -> 0.63829787 | R11: 12 | S11: =R11/$A$1 -> 0.63829787 | T11: 12 | U11: =T11/$A$1 -> 0.63829787 | V11: 12 | W11: =V11/$A$1 -> 0.63829787 | X11: 12 | Y11: =X11/$A$1 -> 0.63829787 | AA11: =SUM(B11,D11,F11,H11,J11,L11,N11,P11,R11,T11,V11,X11) -> 142 | AB11: =SUM(C11,E11,G11,I11,K11,M11,O11,Q11,S11,U11,W11,Y11) -> 7.5531915
A12: Emmanuel | B12: 12 | C12: =B12/$A$1 -> 0.63829787 | D12: 12 | E12: =D12/$A$1 -> 0.63829787 | F12: 10 | G12: =F12/$A$1 -> 0.53191489 | H12: 12 | I12: =H12/$A$1 -> 0.63829787 | J12: 12 | K12: =J12/$A$1 -> 0.63829787 | L12: 12 | M12: =L12/$A$1 -> 0.63829787 | N12: 12 | O12: =N12/$A$1 -> 0.63829787 | P12: 12 | Q12: =P12/$A$1 -> 0.63829787 | R12: 12 | S12: =R12/$A$1 -> 0.63829787 | T12: 12 | U12: =T12/$A$1 -> 0.63829787 | V12: 12 | W12: =V12/$A$1 -> 0.63829787 | X12: 12 | Y12: =X12/$A$1 -> 0.63829787 | AA12: =SUM(B12,D12,F12,H12,J12,L12,N12,P12,R12,T12,V12,X12) -> 142 | AB12: =SUM(C12,E12,G12,I12,K12,M12,O12,Q12,S12,U12,W12,Y12) -> 7.5531915
A13: Nadine | B13: 4 | C13: =B13/$A$1 -> 0.21276596 | D13: 2 | E13: =D13/$A$1 -> 0.10638298 | F13: 2 | G13: =F13/$A$1 -> 0.10638298 | H13: 4 | I13: =H13/$A$1 -> 0.21276596 | J13: 4 | K13: =J13/$A$1 -> 0.21276596 | L13: 4 | M13: =L13/$A$1 -> 0.21276596 | N13: 4 | O13: =N13/$A$1 -> 0.21276596 | P13: 4 | Q13: =P13/$A$1 -> 0.21276596 | R13: 4 | S13: =R13/$A$1 -> 0.21276596 | T13: 4 | U13: =T13/$A$1 -> 0.21276596 | V13: 4 | W13: =V13/$A$1 -> 0.21276596 | X13: 4 | Y13: =X13/$A$1 -> 0.21276596
A14: Karim | B14: 12 | C14: =B14/$A$1 -> 0.63829787 | D14: 12 | E14: =D14/$A$1 -> 0.63829787 | F14: 12 | G14: =F14/$A$1 -> 0.63829787 | H14: 12 | I14: =H14/$A$1 -> 0.63829787 | J14: 12 | K14: =J14/$A$1 -> 0.63829787 | L14: 12 | M14: =L14/$A$1 -> 0.63829787 | N14: 12 | O14: =N14/$A$1 -> 0.63829787 | P14: 12 | Q14: =P14/$A$1 -> 0.63829787 | R14: 12 | S14: =R14/$A$1 -> 0.63829787 | T14: 12 | U14: =T14/$A$1 -> 0.63829787 | V14: 12 | W14: =V14/$A$1 -> 0.63829787 | X14: 12 | Y14: =X14/$A$1 -> 0.63829787

Sheet Rabo Ftbtr
A1: 18.8
A2: Nordea
A3: TOTAL J | B3: =SUM(B9:B105) -> 69.4 | D3: =SUM(D9:D105) -> 56.4 | F3: =SUM(F9:F105) -> 69.4 | H3: =SUM(H9:H105) -> 69.4 | J3: =SUM(J9:J105) -> 69.4 | L3: =SUM(L9:L105) -> 69.4 | N3: =SUM(N9:N105) -> 69.4 | P3: =SUM(P9:P105) -> 69.4 | R3: =SUM(R9:R105) -> 69.4 | T3: =SUM(T9:T105) -> 69.4 | V3: =SUM(V9:V105) -> 69.4 | X3: =SUM(X9:X105) -> 69.4 | AA3: =SUM(B3:Y3) -> 819.8
A4: TOTAL FTE | B4: =SUM(C9:C102) -> 3.6914894 | D4: =SUM(E9:E102) -> 3 | F4: =SUM(G9:G102) -> 3.6914894 | H4: =SUM(I9:I102) -> 3.6914894 | J4: =SUM(K9:K102) -> 3.6914894 | L4: =SUM(M9:M102) -> 3.6914894 | N4: =SUM(O9:O102) -> 3.6914894 | P4: =SUM(Q9:Q102) -> 3.6914894 | R4: =SUM(S9:S102) -> 3.6914894 | T4: =SUM(U9:U102) -> 3.6914894 | V4: =SUM(W9:W102) -> 3.6914894 | X4: =SUM(Y9:Y102) -> 3.6914894 | AA4: =SUM(B4:Y4) -> 43.606383
A5: TOTAL FTE Capacity | B5: =B4-B6 -> 1.6914894 | D5: =D4-D6 -> 1 | F5: =F4-F6 -> 1.6914894 | H5: =H4-H6 -> 1.6914894 | J5: =J4-J6 -> 1.6914894 | L5: =L4-L6 -> 1.6914894 | N5: =N4-N6 -> 1.6914894 | P5: =P4-P6 -> 1.6914894 | R5: =R4-R6 -> 1.6914894 | T5: =T4-T6 -> 1.6914894 | V5: =V4-V6 -> 1.6914894 | X5: =X4-X6 -> 1.6914894
A6: TOTAL FTE GAP | B6: =SUMIFS(C9:C101,$A$9:$A$101,"?") -> 2 | D6: =SUMIFS(E9:E101,$A$9:$A$101,"?") -> 2 | F6: =SUMIFS(G9:G101,$A$9:$A$101,"?") -> 2 | H6: =SUMIFS(I9:I101,$A$9:$A$101,"?") -> 2 | J6: =SUMIFS(K9:K101,$A$9:$A$101,"?") -> 2 | L6: =SUMIFS(M9:M101,$A$9:$A$101,"?") -> 2 | N6: =SUMIFS(O9:O101,$A$9:$A$101,"?") -> 2 | P6: =SUMIFS(Q9:Q101,$A$9:$A$101,"?") -> 2 | R6: =SUMIFS(S9:S101,$A$9:$A$101,"?") -> 2 | T6: =SUMIFS(U9:U101,$A$9:$A$101,"?") -> 2 | V6: =SUMIFS(W9:W101,$A$9:$A$101,"?") -> 2 | X6: =SUMIFS(Y9:Y101,$A$9:$A$101,"?") -> 2 | AA6: =SUM(B6:Y6) -> 24
B7: June | D7: July | F7: Aug | H7: Sep | J7: Oct | L7: Nov | N7: Dec | P7: Jan | R7: Feb | T7: Mar | V7: Apr | X7: May | AA7: TOTAL J | AB7: TOTAL FTE
B8: Jours | C8: FTE | D8: Jours | E8: FTE | F8: Jours | G8: FTE | H8: Jours | I8: FTE | J8: Jours | K8: FTE | L8: Jours | M8: FTE | N8: Jours | O8: FTE | P8: Jours | Q8: FTE | R8: Jours | S8: FTE | T8: Jours | U8: FTE | V8: Jours | W8: FTE | X8: Jours | Y8: FTE
A9: Anas | B9: 18.8 | C9: =B9/$A$1 -> 1 | D9: 18.8 | E9: =D9/$A$1 -> 1 | F9: 18.8 | G9: =F9/$A$1 -> 1 | H9: 18.8 | I9: =H9/$A$1 -> 1 | J9: 18.8 | K9: =J9/$A$1 -> 1 | L9: 18.8 | M9: =L9/$A$1 -> 1 | N9: 18.8 | O9: =N9/$A$1 -> 1 | P9: 18.8 | Q9: =P9/$A$1 -> 1 | R9: 18.8 | S9: =R9/$A$1 -> 1 | T9: 18.8 | U9: =T9/$A$1 -> 1 | V9: 18.8 | W9: =V9/$A$1 -> 1 | X9: 18.8 | Y9: =X9/$A$1 -> 1 | AA9: =SUM(B9,D9,F9,H9,J9,L9,N9,P9,R9,T9,V9,X9) -> 225.6 | AB9: =SUM(C9,E9,G9,I9,K9,M9,O9,Q9,S9,U9,W9,Y9) -> 12
A10: Nordine | B10: 13 | C10: =B10/$A$1 -> 0.69148936 | D10: 0 | E10: =D10/$A$1 -> 0 | F10: 13 | G10: =F10/$A$1 -> 0.69148936 | H10: 13 | I10: =H10/$A$1 -> 0.69148936 | J10: 13 | K10: =J10/$A$1 -> 0.69148936 | L10: 13 | M10: =L10/$A$1 -> 0.69148936 | N10: 13 | O10: =N10/$A$1 -> 0.69148936 | P10: 13 | Q10: =P10/$A$1 -> 0.69148936 | R10: 13 | S10: =R10/$A$1 -> 0.69148936 | T10: 13 | U10: =T10/$A$1 -> 0.69148936 | V10: 13 | W10: =V10/$A$1 -> 0.69148936 | X10: 13 | Y10: =X10/$A$1 -> 0.69148936 | AA10: =SUM(B10,D10,F10,H10,J10,L10,N10,P10,R10,T10,V10,X10) -> 143 | AB10: =SUM(C10,E10,G10,I10,K10,M10,O10,Q10,S10,U10,W10,Y10) -> 7.606383
A11: ? | B11: 18.8 | C11: =B11/$A$1 -> 1 | D11: 18.8 | E11: =D11/$A$1 -> 1 | F11: 18.8 | G11: =F11/$A$1 -> 1 | H11: 18.8 | I11: =H11/$A$1 -> 1 | J11: 18.8 | K11: =J11/$A$1 -> 1 | L11: 18.8 | M11: =L11/$A$1 -> 1 | N11: 18.8 | O11: =N11/$A$1 -> 1 | P11: 18.8 | Q11: =P11/$A$1 -> 1 | R11: 18.8 | S11: =R11/$A$1 -> 1 | T11: 18.8 | U11: =T11/$A$1 -> 1 | V11: 18.8 | W11: =V11/$A$1 -> 1 | X11: 18.8 | Y11: =X11/$A$1 -> 1 | AA11: =SUM(B11,D11,F11,H11,J11,L11,N11,P11,R11,T11,V11,X11) -> 225.6 | AB11: =SUM(C11,E11,G11,I11,K11,M11,O11,Q11,S11,U11,W11,Y11) -> 12
A12: ? | B12: 18.8 | C12: =B12/$A$1 -> 1 | D12: 18.8 | E12: =D12/$A$1 -> 1 | F12: 18.8 | G12: =F12/$A$1 -> 1 | H12: 18.8 | I12: =H12/$A$1 -> 1 | J12: 18.8 | K12: =J12/$A$1 -> 1 | L12: 18.8 | M12: =L12/$A$1 -> 1 | N12: 18.8 | O12: =N12/$A$1 -> 1 | P12: 18.8 | Q12: =P12/$A$1 -> 1 | R12: 18.8 | S12: =R12/$A$1 -> 1 | T12: 18.8 | U12: =T12/$A$1 -> 1 | V12: 18.8 | W12: =V12/$A$1 -> 1 | X12: 18.8 | Y12: =X12/$A$1 -> 1 | AA12: =SUM(B12,D12,F12,H12,J12,L12,N12,P12,R12,T12,V12,X12) -> 225.6 | AB12: =SUM(C12,E12,G12,I12,K12,M12,O12,Q12,S12,U12,W12,Y12) -> 12

Sheet OneALM
A1: 18.8
A2: OneALM
A3: TOTAL J | B3: =SUM(B9:B102) -> 8 | D3: =SUM(D9:D102) -> 8 | F3: =SUM(F9:F102) -> 8 | H3: =SUM(H9:H102) -> 8 | J3: =SUM(J9:J102) -> 8 | L3: =SUM(L9:L102) -> 8 | N3: =SUM(N9:N102) -> 8 | P3: =SUM(P9:P102) -> 8 | R3: =SUM(R9:R102) -> 8 | T3: =SUM(T9:T102) -> 8 | V3: =SUM(V9:V102) -> 8 | X3: =SUM(X9:X102) -> 8 | AA3: =SUM(B3:Y3) -> 96
A4: TOTAL FTE | B4: =SUM(C9:C99) -> 0.42553191 | D4: =SUM(E9:E99) -> 0.42553191 | F4: =SUM(G9:G99) -> 0.42553191 | H4: =SUM(I9:I99) -> 0.42553191 | J4: =SUM(K9:K99) -> 0.42553191 | L4: =SUM(M9:M99) -> 0.42553191 | N4: =SUM(O9:O99) -> 0.42553191 | P4: =SUM(Q9:Q99) -> 0.42553191 | R4: =SUM(S9:S99) -> 0.42553191 | T4: =SUM(U9:U99) -> 0.42553191 | V4: =SUM(W9:W99) -> 0.42553191 | X4: =SUM(Y9:Y99) -> 0.42553191 | AA4: =SUM(B4:Y4) -> 5.106383
A5: TOTAL FTE Capacity | B5: =B4-B6 -> 0.42553191 | D5: =D4-D6 -> 0.42553191 | F5: =F4-F6 -> 0.42553191 | H5: =H4-H6 -> 0.42553191 | J5: =J4-J6 -> 0.42553191 | L5: =L4-L6 -> 0.42553191 | N5: =N4-N6 -> 0.42553191 | P5: =P4-P6 -> 0.42553191 | R5: =R4-R6 -> 0.42553191 | T5: =T4-T6 -> 0.42553191 | V5: =V4-V6 -> 0.42553191 | X5: =X4-X6 -> 0.42553191
A6: TOTAL FTE GAP | B6: =SUMIFS(C9:C101,$A$9:$A$101,"?") -> 0 | D6: =SUMIFS(E9:E101,$A$9:$A$101,"?") -> 0 | F6: =SUMIFS(G9:G101,$A$9:$A$101,"?") -> 0 | H6: =SUMIFS(I9:I101,$A$9:$A$101,"?") -> 0 | J6: =SUMIFS(K9:K101,$A$9:$A$101,"?") -> 0 | L6: =SUMIFS(M9:M101,$A$9:$A$101,"?") -> 0 | N6: =SUMIFS(O9:O101,$A$9:$A$101,"?") -> 0 | P6: =SUMIFS(Q9:Q101,$A$9:$A$101,"?") -> 0 | R6: =SUMIFS(S9:S101,$A$9:$A$101,"?") -> 0 | T6: =SUMIFS(U9:U101,$A$9:$A$101,"?") -> 0 | V6: =SUMIFS(W9:W101,$A$9:$A$101,"?") -> 0 | X6: =SUMIFS(Y9:Y101,$A$9:$A$101,"?") -> 0 | AA6: =SUM(B6:Y6) -> 0
B7: June | D7: July | F7: Aug | H7: Sep | J7: Oct | L7: Nov | N7: Dec | P7: Jan | R7: Feb | T7: Mar | V7: Apr | X7: May | AA7: TOTAL J | AB7: TOTAL FTE
B8: Jours | C8: FTE | D8: Jours | E8: FTE | F8: Jours | G8: FTE | H8: Jours | I8: FTE | J8: Jours | K8: FTE | L8: Jours | M8: FTE | N8: Jours | O8: FTE | P8: Jours | Q8: FTE | R8: Jours | S8: FTE | T8: Jours | U8: FTE | V8: Jours | W8: FTE | X8: Jours | Y8: FTE
A9: Marc | B9: 8 | C9: =B9/$A$1 -> 0.42553191 | D9: 8 | E9: =D9/$A$1 -> 0.42553191 | F9: 8 | G9: =F9/$A$1 -> 0.42553191 | H9: 8 | I9: =H9/$A$1 -> 0.42553191 | J9: 8 | K9: =J9/$A$1 -> 0.42553191 | L9: 8 | M9: =L9/$A$1 -> 0.42553191 | N9: 8 | O9: =N9/$A$1 -> 0.42553191 | P9: 8 | Q9: =P9/$A$1 -> 0.42553191 | R9: 8 | S9: =R9/$A$1 -> 0.42553191 | T9: 8 | U9: =T9/$A$1 -> 0.42553191 | V9: 8 | W9: =V9/$A$1 -> 0.42553191 | X9: 8 | Y9: =X9/$A$1 -> 0.42553191 | AA9: =SUM(B9,D9,F9,H9,J9,L9,N9,P9,R9,T9,V9,X9) -> 96 | AB9: =SUM(C9,E9,G9,I9,K9,M9,O9,Q9,S9,U9,W9,Y9) -> 5.106383

Sheet LCH
A1: 18.8
A3: TOTAL J | B3: =SUM(B9:B102) -> 5 | D3: =SUM(D9:D102) -> 5 | F3: =SUM(F9:F102) -> 5 | H3: =SUM(H9:H102) -> 5 | J3: =SUM(J9:J102) -> 5 | L3: =SUM(L9:L102) -> 5 | N3: =SUM(N9:N102) -> 5 | P3: =SUM(P9:P102) -> 5 | R3: =SUM(R9:R102) -> 5 | T3: =SUM(T9:T102) -> 5 | V3: =SUM(V9:V102) -> 5 | X3: =SUM(X9:X102) -> 5 | AA3: =SUM(B3:Y3) -> 60
A4: TOTAL FTE | B4: =SUM(C9:C99) -> 0.26595745 | D4: =SUM(E9:E99) -> 0.26595745 | F4: =SUM(G9:G99) -> 0.26595745 | H4: =SUM(I9:I99) -> 0.26595745 | J4: =SUM(K9:K99) -> 0.26595745 | L4: =SUM(M9:M99) -> 0.26595745 | N4: =SUM(O9:O99) -> 0.26595745 | P4: =SUM(Q9:Q99) -> 0.26595745 | R4: =SUM(S9:S99) -> 0.26595745 | T4: =SUM(U9:U99) -> 0.26595745 | V4: =SUM(W9:W99) -> 0.26595745 | X4: =SUM(Y9:Y99) -> 0.26595745 | AA4: =SUM(B4:Y4) -> 3.1914894
A5: TOTAL FTE Capacity | B5: =B4-B6 -> 0.26595745 | D5: =D4-D6 -> 0.26595745 | F5: =F4-F6 -> 0.26595745 | H5: =H4-H6 -> 0.26595745 | J5: =J4-J6 -> 0.26595745 | L5: =L4-L6 -> 0.26595745 | N5: =N4-N6 -> 0.26595745 | P5: =P4-P6 -> 0.26595745 | R5: =R4-R6 -> 0.26595745 | T5: =T4-T6 -> 0.26595745 | V5: =V4-V6 -> 0.26595745 | X5: =X4-X6 -> 0.26595745
A6: TOTAL FTE GAP | B6: =SUMIFS(C9:C101,$A$9:$A$101,"?") -> 0 | D6: =SUMIFS(E9:E101,$A$9:$A$101,"?") -> 0 | F6: =SUMIFS(G9:G101,$A$9:$A$101,"?") -> 0 | H6: =SUMIFS(I9:I101,$A$9:$A$101,"?") -> 0 | J6: =SUMIFS(K9:K101,$A$9:$A$101,"?") -> 0 | L6: =SUMIFS(M9:M101,$A$9:$A$101,"?") -> 0 | N6: =SUMIFS(O9:O101,$A$9:$A$101,"?") -> 0 | P6: =SUMIFS(Q9:Q101,$A$9:$A$101,"?") -> 0 | R6: =SUMIFS(S9:S101,$A$9:$A$101,"?") -> 0 | T6: =SUMIFS(U9:U101,$A$9:$A$101,"?") -> 0 | V6: =SUMIFS(W9:W101,$A$9:$A$101,"?") -> 0 | X6: =SUMIFS(Y9:Y101,$A$9:$A$101,"?") -> 0 | AA6: =SUM(B6:Y6) -> 0
B7: June | D7: July | F7: Aug | H7: Sep | J7: Oct | L7: Nov | N7: Dec | P7: Jan | R7: Feb | T7: Mar | V7: Apr | X7: May | AA7: TOTAL J | AB7: TOTAL FTE
B8: Jours | C8: FTE | D8: Jours | E8: FTE | F8: Jours | G8: FTE | H8: Jours | I8: FTE | J8: Jours | K8: FTE | L8: Jours | M8: FTE | N8: Jours | O8: FTE | P8: Jours | Q8: FTE | R8: Jours | S8: FTE | T8: Jours | U8: FTE | V8: Jours | W8: FTE | X8: Jours | Y8: FTE
A9: Nordine | B9: 5 | C9: =B9/$A$1 -> 0.26595745 | D9: 5 | E9: =D9/$A$1 -> 0.26595745 | F9: 5 | G9: =F9/$A$1 -> 0.26595745 | H9: 5 | I9: =H9/$A$1 -> 0.26595745 | J9: 5 | K9: =J9/$A$1 -> 0.26595745 | L9: 5 | M9: =L9/$A$1 -> 0.26595745 | N9: 5 | O9: =N9/$A$1 -> 0.26595745 | P9: 5 | Q9: =P9/$A$1 -> 0.26595745 | R9: 5 | S9: =R9/$A$1 -> 0.26595745 | T9: 5 | U9: =T9/$A$1 -> 0.26595745 | V9: 5 | W9: =V9/$A$1 -> 0.26595745 | X9: 5 | Y9: =X9/$A$1 -> 0.26595745 | AA9: =SUM(B9,D9,F9,H9,J9,L9,N9,P9,R9,T9,V9,X9) -> 60 | AB9: =SUM(C9,E9,G9,I9,K9,M9,O9,Q9,S9,U9,W9,Y9) -> 3.1914894

Sheet Bankdata
A1: 18.8
A3: TOTAL J | B3: =SUM(B9:B102) -> 25.8 | D3: =SUM(D9:D102) -> 25.8 | F3: =SUM(F9:F102) -> 25.8 | H3: =SUM(H9:H102) -> 25.8 | J3: =SUM(J9:J102) -> 25.8 | L3: =SUM(L9:L102) -> 25.8 | N3: =SUM(N9:N102) -> 25.8 | P3: =SUM(P9:P102) -> 25.8 | R3: =SUM(R9:R102) -> 25.8 | T3: =SUM(T9:T102) -> 25.8 | V3: =SUM(V9:V102) -> 25.8 | X3: =SUM(X9:X102) -> 25.8 | AA3: =SUM(B3:Y3) -> 309.6
A4: TOTAL FTE | B4: =SUM(C9:C99) -> 1.3723404 | D4: =SUM(E9:E99) -> 1.3723404 | F4: =SUM(G9:G99) -> 1.3723404 | H4: =SUM(I9:I99) -> 1.3723404 | J4: =SUM(K9:K99) -> 1.3723404 | L4: =SUM(M9:M99) -> 1.3723404 | N4: =SUM(O9:O99) -> 1.3723404 | P4: =SUM(Q9:Q99) -> 1.3723404 | R4: =SUM(S9:S99) -> 1.3723404 | T4: =SUM(U9:U99) -> 1.3723404 | V4: =SUM(W9:W99) -> 1.3723404 | X4: =SUM(Y9:Y99) -> 1.3723404 | AA4: =SUM(B4:Y4) -> 16.468085
A5: TOTAL FTE Capacity | B5: =B4-B6 -> 0.37234043 | D5: =D4-D6 -> 0.37234043 | F5: =F4-F6 -> 0.37234043 | H5: =H4-H6 -> 0.37234043 | J5: =J4-J6 -> 0.37234043 | L5: =L4-L6 -> 0.37234043 | N5: =N4-N6 -> 0.37234043 | P5: =P4-P6 -> 0.37234043 | R5: =R4-R6 -> 0.37234043 | T5: =T4-T6 -> 0.37234043 | V5: =V4-V6 -> 0.37234043 | X5: =X4-X6 -> 0.37234043
A6: TOTAL FTE GAP | B6: =SUMIFS(C9:C98,$A$9:$A$98,"?") -> 1 | D6: =SUMIFS(E9:E98,$A$9:$A$98,"?") -> 1 | F6: =SUMIFS(G9:G98,$A$9:$A$98,"?") -> 1 | H6: =SUMIFS(I9:I98,$A$9:$A$98,"?") -> 1 | J6: =SUMIFS(K9:K98,$A$9:$A$98,"?") -> 1 | L6: =SUMIFS(M9:M98,$A$9:$A$98,"?") -> 1 | N6: =SUMIFS(O9:O98,$A$9:$A$98,"?") -> 1 | P6: =SUMIFS(Q9:Q98,$A$9:$A$98,"?") -> 1 | R6: =SUMIFS(S9:S98,$A$9:$A$98,"?") -> 1 | T6: =SUMIFS(U9:U98,$A$9:$A$98,"?") -> 1 | V6: =SUMIFS(W9:W98,$A$9:$A$98,"?") -> 1 | X6: =SUMIFS(Y9:Y98,$A$9:$A$98,"?") -> 1 | AA6: =SUM(B6:Y6) -> 12
B7: June | D7: July | F7: Aug | H7: Sep | J7: Oct | L7: Nov | N7: Dec | P7: Jan | R7: Feb | T7: Mar | V7: Apr | X7: May | AA7: TOTAL J | AB7: TOTAL FTE
B8: Jours | C8: FTE | D8: Jours | E8: FTE | F8: Jours | G8: FTE | H8: Jours | I8: FTE | J8: Jours | K8: FTE | L8: Jours | M8: FTE | N8: Jours | O8: FTE | P8: Jours | Q8: FTE | R8: Jours | S8: FTE | T8: Jours | U8: FTE | V8: Jours | W8: FTE | X8: Jours | Y8: FTE
A9: Brian | B9: 7 | C9: =B9/$A$1 -> 0.37234043 | D9: 7 | E9: =D9/$A$1 -> 0.37234043 | F9: 7 | G9: =F9/$A$1 -> 0.37234043 | H9: 7 | I9: =H9/$A$1 -> 0.37234043 | J9: 7 | K9: =J9/$A$1 -> 0.37234043 | L9: 7 | M9: =L9/$A$1 -> 0.37234043 | N9: 7 | O9: =N9/$A$1 -> 0.37234043 | P9: 7 | Q9: =P9/$A$1 -> 0.37234043 | R9: 7 | S9: =R9/$A$1 -> 0.37234043 | T9: 7 | U9: =T9/$A$1 -> 0.37234043 | V9: 7 | W9: =V9/$A$1 -> 0.37234043 | X9: 7 | Y9: =X9/$A$1 -> 0.37234043 | AA9: =SUM(B9,D9,F9,H9,J9,L9,N9,P9,R9,T9,V9,X9) -> 84 | AB9: =SUM(C9,E9,G9,I9,K9,M9,O9,Q9,S9,U9,W9,Y9) -> 4.4680851
A10: ? | B10: 18.8 | C10: =B10/$A$1 -> 1 | D10: 18.8 | E10: =D10/$A$1 -> 1 | F10: 18.8 | G10: =F10/$A$1 -> 1 | H10: 18.8 | I10: =H10/$A$1 -> 1 | J10: 18.8 | K10: =J10/$A$1 -> 1 | L10: 18.8 | M10: =L10/$A$1 -> 1 | N10: 18.8 | O10: =N10/$A$1 -> 1 | P10: 18.8 | Q10: =P10/$A$1 -> 1 | R10: 18.8 | S10: =R10/$A$1 -> 1 | T10: 18.8 | U10: =T10/$A$1 -> 1 | V10: 18.8 | W10: =V10/$A$1 -> 1 | X10: 18.8 | Y10: =X10/$A$1 -> 1 | AA10: =SUM(B10,D10,F10,H10,J10,L10,N10,P10,R10,T10,V10,X10) -> 225.6 | AB10: =SUM(C10,E10,G10,I10,K10,M10,O10,Q10,S10,U10,W10,Y10) -> 12

Sheet Santander
A1: 18.8
A3: TOTAL J | B3: =SUM(B9:B102) -> 0 | D3: =SUM(D9:D102) -> 0 | F3: =SUM(F9:F102) -> 0 | H3: =SUM(H9:H102) -> 16 | J3: =SUM(J9:J102) -> 16 | L3: =SUM(L9:L102) -> 16 | N3: =SUM(N9:N102) -> 16 | P3: =SUM(P9:P102) -> 16 | R3: =SUM(R9:R102) -> 16 | T3: =SUM(T9:T102) -> 16 | V3: =SUM(V9:V102) -> 16 | X3: =SUM(X9:X102) -> 16 | AA3: =SUM(B3:Y3) -> 144
A4: TOTAL FTE | B4: =SUM(C9:C99) -> 0 | D4: =SUM(E9:E99) -> 0 | F4: =SUM(G9:G99) -> 0 | H4: =SUM(I9:I99) -> 0.85106383 | J4: =SUM(K9:K99) -> 0.85106383 | L4: =SUM(M9:M99) -> 0.85106383 | N4: =SUM(O9:O99) -> 0.85106383 | P4: =SUM(Q9:Q99) -> 0.85106383 | R4: =SUM(S9:S99) -> 0.85106383 | T4: =SUM(U9:U99) -> 0.85106383 | V4: =SUM(W9:W99) -> 0.85106383 | X4: =SUM(Y9:Y99) -> 0.85106383 | AA4: =SUM(B4:Y4) -> 7.6595745
A5: TOTAL FTE Capacity | B5: =B4-B6 -> 0 | D5: =D4-D6 -> 0 | F5: =F4-F6 -> 0 | H5: =H4-H6 -> 0.85106383 | J5: =J4-J6 -> 0.85106383 | L5: =L4-L6 -> 0.85106383 | N5: =N4-N6 -> 0.85106383 | P5: =P4-P6 -> 0.85106383 | R5: =R4-R6 -> 0.85106383 | T5: =T4-T6 -> 0.85106383 | V5: =V4-V6 -> 0.85106383 | X5: =X4-X6 -> 0.85106383
A6: TOTAL FTE GAP | B6: =SUMIFS(C9:C99,$A$9:$A$99,"?") -> 0 | D6: =SUMIFS(E9:E99,$A$9:$A$99,"?") -> 0 | F6: =SUMIFS(G9:G99,$A$9:$A$99,"?") -> 0 | H6: =SUMIFS(I9:I99,$A$9:$A$99,"?") -> 0 | J6: =SUMIFS(K9:K99,$A$9:$A$99,"?") -> 0 | L6: =SUMIFS(M9:M99,$A$9:$A$99,"?") -> 0 | N6: =SUMIFS(O9:O99,$A$9:$A$99,"?") -> 0 | P6: =SUMIFS(Q9:Q99,$A$9:$A$99,"?") -> 0 | R6: =SUMIFS(S9:S99,$A$9:$A$99,"?") -> 0 | T6: =SUMIFS(U9:U99,$A$9:$A$99,"?") -> 0 | V6: =SUMIFS(W9:W99,$A$9:$A$99,"?") -> 0 | X6: =SUMIFS(Y9:Y99,$A$9:$A$99,"?") -> 0 | AA6: =SUM(B6:Y6) -> 0
B7: June | D7: July | F7: Aug | H7: Sep | J7: Oct | L7: Nov | N7: Dec | P7: Jan | R7: Feb | T7: Mar | V7: Apr | X7: May | AA7: TOTAL J | AB7: TOTAL FTE
B8: Jours | C8: FTE | D8: Jours | E8: FTE | F8: Jours | G8: FTE | H8: Jours | I8: FTE | J8: Jours | K8: FTE | L8: Jours | M8: FTE | N8: Jours | O8: FTE | P8: Jours | Q8: FTE | R8: Jours | S8: FTE | T8: Jours | U8: FTE | V8: Jours | W8: FTE | X8: Jours | Y8: FTE
A9: Marc | H9: 8 | I9: =H9/$A$1 -> 0.42553191 | J9: 8 | K9: =J9/$A$1 -> 0.42553191 | L9: 8 | M9: =L9/$A$1 -> 0.42553191 | N9: 8 | O9: =N9/$A$1 -> 0.42553191 | P9: 8 | Q9: =P9/$A$1 -> 0.42553191 | R9: 8 | S9: =R9/$A$1 -> 0.42553191 | T9: 8 | U9: =T9/$A$1 -> 0.42553191 | V9: 8 | W9: =V9/$A$1 -> 0.42553191 | X9: 8 | Y9: =X9/$A$1 -> 0.42553191 | AA9: =SUM(B9,D9,F9,H9,J9,L9,N9,P9,R9,T9,V9,X9) -> 72 | AB9: =SUM(C9,E9,G9,I9,K9,M9,O9,Q9,S9,U9,W9,Y9) -> 3.8297872
A10: Anas | H10: 8 | I10: =H10/$A$1 -> 0.42553191 | J10: 8 | K10: =J10/$A$1 -> 0.42553191 | L10: 8 | M10: =L10/$A$1 -> 0.42553191 | N10: 8 | O10: =N10/$A$1 -> 0.42553191 | P10: 8 | Q10: =P10/$A$1 -> 0.42553191 | R10: 8 | S10: =R10/$A$1 -> 0.42553191 | T10: 8 | U10: =T10/$A$1 -> 0.42553191 | V10: 8 | W10: =V10/$A$1 -> 0.42553191 | X10: 8 | Y10: =X10/$A$1 -> 0.42553191 | AA10: =SUM(B10,D10,F10,H10,J10,L10,N10,P10,R10,T10,V10,X10) -> 72 | AB10: =SUM(C10,E10,G10,I10,K10,M10,O10,Q10,S10,U10,W10,Y10) -> 3.8297872

Sheet DNB
A1: 18.8
A3: TOTAL J | B3: =SUM(B9:B105) -> 0 | D3: =SUM(D9:D105) -> 0 | F3: =SUM(F9:F105) -> 0 | H3: =SUM(H9:H105) -> 12.5 | J3: =SUM(J9:J105) -> 15 | L3: =SUM(L9:L105) -> 20 | N3: =SUM(N9:N105) -> 20 | P3: =SUM(P9:P105) -> 20 | R3: =SUM(R9:R105) -> 20 | T3: =SUM(T9:T105) -> 20 | V3: =SUM(V9:V105) -> 20 | X3: =SUM(X9:X105) -> 20 | AA3: =SUM(B3:Y3) -> 167.5
A4: TOTAL FTE | B4: =SUM(C9:C102) -> 0 | D4: =SUM(E9:E102) -> 0 | F4: =SUM(G9:G102) -> 0 | H4: =SUM(I9:I102) -> 0.66489362 | J4: =SUM(K9:K102) -> 0.79787234 | L4: =SUM(M9:M102) -> 1.0638298 | N4: =SUM(O9:O102) -> 1.0638298 | P4: =SUM(Q9:Q102) -> 1.0638298 | R4: =SUM(S9:S102) -> 1.0638298 | T4: =SUM(U9:U102) -> 1.0638298 | V4: =SUM(W9:W102) -> 1.0638298 | X4: =SUM(Y9:Y102) -> 1.0638298 | AA4: =SUM(B4:Y4) -> 8.9095745
A5: TOTAL FTE Capacity | B5: =B4-B6 -> 0 | D5: =D4-D6 -> 0 | F5: =F4-F6 -> 0 | H5: =H4-H6 -> 0 | J5: =J4-J6 -> 0 | L5: =L4-L6 -> 0 | N5: =N4-N6 -> 0 | P5: =P4-P6 -> 0 | R5: =R4-R6 -> 0 | T5: =T4-T6 -> 0 | V5: =V4-V6 -> 0 | X5: =X4-X6 -> 0
A6: TOTAL FTE GAP | B6: =SUMIFS(C9:C101,$A$9:$A$101,"?") -> 0 | D6: =SUMIFS(E9:E101,$A$9:$A$101,"?") -> 0 | F6: =SUMIFS(G9:G101,$A$9:$A$101,"?") -> 0 | H6: =SUMIFS(I9:I101,$A$9:$A$101,"?") -> 0.66489362 | J6: =SUMIFS(K9:K101,$A$9:$A$101,"?") -> 0.79787234 | L6: =SUMIFS(M9:M101,$A$9:$A$101,"?") -> 1.0638298 | N6: =SUMIFS(O9:O101,$A$9:$A$101,"?") -> 1.0638298 | P6: =SUMIFS(Q9:Q101,$A$9:$A$101,"?") -> 1.0638298 | R6: =SUMIFS(S9:S101,$A$9:$A$101,"?") -> 1.0638298 | T6: =SUMIFS(U9:U101,$A$9:$A$101,"?") -> 1.0638298 | V6: =SUMIFS(W9:W101,$A$9:$A$101,"?") -> 1.0638298 | X6: =SUMIFS(Y9:Y101,$A$9:$A$101,"?") -> 1.0638298 | AA6: =SUM(B6:Y6) -> 8.9095745
B7: June | D7: July | F7: Aug | H7: Sep | J7: Oct | L7: Nov | N7: Dec | P7: Jan | R7: Feb | T7: Mar | V7: Apr | X7: May | AA7: TOTAL J | AB7: TOTAL FTE
B8: Jours | C8: FTE | D8: Jours | E8: FTE | F8: Jours | G8: FTE | H8: Jours | I8: FTE | J8: Jours | K8: FTE | L8: Jours | M8: FTE | N8: Jours | O8: FTE | P8: Jours | Q8: FTE | R8: Jours | S8: FTE | T8: Jours | U8: FTE | V8: Jours | W8: FTE | X8: Jours | Y8: FTE
A9: ? | H9: 2.5 | I9: =H9/$A$1 -> 0.13297872 | J9: 3 | K9: =J9/$A$1 -> 0.15957447 | L9: 4 | M9: =L9/$A$1 -> 0.21276596 | N9: 4 | O9: =N9/$A$1 -> 0.21276596 | P9: 4 | Q9: =P9/$A$1 -> 0.21276596 | R9: 4 | S9: =R9/$A$1 -> 0.21276596 | T9: 4 | U9: =T9/$A$1 -> 0.21276596 | V9: 4 | W9: =V9/$A$1 -> 0.21276596 | X9: 4 | Y9: =X9/$A$1 -> 0.21276596 | AA9: =SUM(B9,D9,F9,H9,J9,L9,N9,P9,R9,T9,V9,X9) -> 33.5 | AB9: =SUM(C9,E9,G9,I9,K9,M9,O9,Q9,S9,U9,W9,Y9) -> 1.7819149
A10: ? | H10: 2.5 | I10: =H10/$A$1 -> 0.13297872 | J10: 3 | K10: =J10/$A$1 -> 0.15957447 | L10: 4 | M10: =L10/$A$1 -> 0.21276596 | N10: 4 | O10: =N10/$A$1 -> 0.21276596 | P10: 4 | Q10: =P10/$A$1 -> 0.21276596 | R10: 4 | S10: =R10/$A$1 -> 0.21276596 | T10: 4 | U10: =T10/$A$1 -> 0.21276596 | V10: 4 | W10: =V10/$A$1 -> 0.21276596 | X10: 4 | Y10: =X10/$A$1 -> 0.21276596 | AA10: =SUM(B10,D10,F10,H10,J10,L10,N10,P10,R10,T10,V10,X10) -> 33.5 | AB10: =SUM(C10,E10,G10,I10,K10,M10,O10,Q10,S10,U10,W10,Y10) -> 1.7819149
A11: ? | H11: 2.5 | I11: =H11/$A$1 -> 0.13297872 | J11: 3 | K11: =J11/$A$1 -> 0.15957447 | L11: 4 | M11: =L11/$A$1 -> 0.21276596 | N11: 4 | O11: =N11/$A$1 -> 0.21276596 | P11: 4 | Q11: =P11/$A$1 -> 0.21276596 | R11: 4 | S11: =R11/$A$1 -> 0.21276596 | T11: 4 | U11: =T11/$A$1 -> 0.21276596 | V11: 4 | W11: =V11/$A$1 -> 0.21276596 | X11: 4 | Y11: =X11/$A$1 -> 0.21276596 | AA11: =SUM(B11,D11,F11,H11,J11,L11,N11,P11,R11,T11,V11,X11) -> 33.5 | AB11: =SUM(C11,E11,G11,I11,K11,M11,O11,Q11,S11,U11,W11,Y11) -> 1.7819149
A12: ? | H12: 2.5 | I12: =H12/$A$1 -> 0.13297872 | J12: 3 | K12: =J12/$A$1 -> 0.15957447 | L12: 4 | M12: =L12/$A$1 -> 0.21276596 | N12: 4 | O12: =N12/$A$1 -> 0.21276596 | P12: 4 | Q12: =P12/$A$1 -> 0.21276596 | R12: 4 | S12: =R12/$A$1 -> 0.21276596 | T12: 4 | U12: =T12/$A$1 -> 0.21276596 | V12: 4 | W12: =V12/$A$1 -> 0.21276596 | X12: 4 | Y12: =X12/$A$1 -> 0.21276596 | AA12: =SUM(B12,D12,F12,H12,J12,L12,N12,P12,R12,T12,V12,X12) -> 33.5 | AB12: =SUM(C12,E12,G12,I12,K12,M12,O12,Q12,S12,U12,W12,Y12) -> 1.7819149
A13: ? | H13: 2.5 | I13: =H13/$A$1 -> 0.13297872 | J13: 3 | K13: =J13/$A$1 -> 0.15957447 | L13: 4 | M13: =L13/$A$1 -> 0.21276596 | N13: 4 | O13: =N13/$A$1 -> 0.21276596 | P13: 4 | Q13: =P13/$A$1 -> 0.21276596 | R13: 4 | S13: =R13/$A$1 -> 0.21276596 | T13: 4 | U13: =T13/$A$1 -> 0.21276596 | V13: 4 | W13: =V13/$A$1 -> 0.21276596 | X13: 4 | Y13: =X13/$A$1 -> 0.21276596 | AA13: =SUM(B13,D13,F13,H13,J13,L13,N13,P13,R13,T13,V13,X13) -> 33.5 | AB13: =SUM(C13,E13,G13,I13,K13,M13,O13,Q13,S13,U13,W13,Y13) -> 1.7819149

Sheet Fin

Sheet Note
B10: June | D10: July | F10: Aug | H10: Sep | J10: Oct | L10: Nov | N10: Dec | P10: Jan | R10: Feb | T10: Mar | V10: Apr | X10: May | Z10: TOTAL
B11: min | C11: max | D11: min | E11: max | F11: min | G11: max | H11: min | I11: max | J11: min | K11: max | L11: min | M11: max | N11: min | O11: max | P11: min | Q11: max | R11: min | S11: max | T11: min | U11: max | V11: min | W11: max | X11: min | Y11: max
A12: Rabo FtBtR
A13: Nb consultant | B13: 4 | C13: 5
A14: FTE
A15: Rabo OneALM
A16: jours | B16: 2 | C16: 3
A17: FTE
A18: Bankdata
A19: Nb consultant | B19: 1 | C19: 5
A20: FTE
A21: LCH
A22: Nb consultant | B22: 1 | C22: 1
A23: FTE
A24: Nordea
A25: Nb consultant | B25: 5 | C25: 10
A26: FTE
A27: DNB
A28: Nb consultant | B28: 3 | C28: 5
A29: FTE
A30: Santander
A31: Nb consultant | B31: 4 | C31: 4
A32: FTE
