Workbook
Name Semaine_Affichage: #REF!
Name Semaine_Affichage: #REF!
Name Début_Projet: #REF!
Name fin_tâche: #REF!
Name avancement_tâche: #REF!
Name début_tâche: #REF!
Name Début_Projet: #REF!

Sheet Suivi Activité
B1: =TODAY() -> 45162 | C1: =IF(D1>=E1,"N","J") -> J | D1: =NOW() -> 45162.545 | E1: =TODAY()&" 15:00:00" -> 45162 15:00:00 | F1: =TEXT(F2,"mmmm") -> août | M1: =IF(TEXT(M2,"mmmm")=F1,"",TEXT(M2,"mmmm")) | T1: =IF(OR(TEXT(T2,"mmmm")=M1,TEXT(T2,"mmmm")=F1),"",TEXT(T2,"mmmm")) | AA1: =IF(OR(TEXT(AA2,"mmmm")=T1,TEXT(AA2,"mmmm")=M1,TEXT(AA2,"mmmm")=F1),"",TEXT(AA2,"mmmm")) -> septembre
F2: 45155 | G2: {=IF(WEEKDAY(F2,2)=5,XLOOKUP(F2,OFFSET('Paramètres'!$B$1:$RX$1,0,0),OFFSET('Paramètres'!$B$1:$RX$1,0,1)),IF(F3="J",F2,XLOOKUP(F2,OFFSET('Paramètres'!$B$1:$RX$1,0,0),OFFSET('Paramètres'!$B$1:$RX$1,0,1))))} -> 45155 | H2: {=IF(WEEKDAY(G2,2)=5,XLOOKUP(G2,OFFSET('Paramètres'!$B$1:$RX$1,0,0),OFFSET('Paramètres'!$B$1:$RX$1,0,1)),IF(G3="J",G2,XLOOKUP(G2,OFFSET('Paramètres'!$B$1:$RX$1,0,0),OFFSET('Paramètres'!$B$1:$RX$1,0,1))))} -> 45156 | I2: {=IF(WEEKDAY(H2,2)=5,XLOOKUP(H2,OFFSET('Paramètres'!$B$1:$RX$1,0,0),OFFSET('Paramètres'!$B$1:$RX$1,0,1)),IF(H3="J",H2,XLOOKUP(H2,OFFSET('Paramètres'!$B$1:$RX$1,0,0),OFFSET('Paramètres'!$B$1:$RX$1,0,1))))} -> 45159 | J2: {=IF(WEEKDAY(I2,2)=5,XLOOKUP(I2,OFFSET('Paramètres'!$B$1:$RX$1,0,0),OFFSET('Paramètres'!$B$1:$RX$1,0,1)),IF(I3="J",I2,XLOOKUP(I2,OFFSET('Paramètres'!$B$1:$RX$1,0,0),OFFSET('Paramètres'!$B$1:$RX$1,0,1))))} -> 45159 | K2: {=IF(WEEKDAY(J2,2)=5,XLOOKUP(J2,OFFSET('Paramètres'!$B$1:$RX$1,0,0),OFFSET('Paramètres'!$B$1:$RX$1,0,1)),IF(J3="J",J2,XLOOKUP(J2,OFFSET('Paramètres'!$B$1:$RX$1,0,0),OFFSET('Paramètres'!$B$1:$RX$1,0,1))))} -> 45160 | L2: {=IF(WEEKDAY(K2,2)=5,XLOOKUP(K2,OFFSET('Paramètres'!$B$1:$RX$1,0,0),OFFSET('Paramètres'!$B$1:$RX$1,0,1)),IF(K3="J",K2,XLOOKUP(K2,OFFSET('Paramètres'!$B$1:$RX$1,0,0),OFFSET('Paramètres'!$B$1:$RX$1,0,1))))} -> 45160 | M2: {=IF(WEEKDAY(L2,2)=5,XLOOKUP(L2,OFFSET('Paramètres'!$B$1:$RX$1,0,0),OFFSET('Paramètres'!$B$1:$RX$1,0,1)),IF(L3="J",L2,XLOOKUP(L2,OFFSET('Paramètres'!$B$1:$RX$1,0,0),OFFSET('Paramètres'!$B$1:$RX$1,0,1))))} -> 45161 | N2: {=IF(WEEKDAY(M2,2)=5,XLOOKUP(M2,OFFSET('Paramètres'!$B$1:$RX$1,0,0),OFFSET('Paramètres'!$B$1:$RX$1,0,1)),IF(M3="J",M2,XLOOKUP(M2,OFFSET('Paramètres'!$B$1:$RX$1,0,0),OFFSET('Paramètres'!$B$1:$RX$1,0,1))))} -> 45161 | ... AC2: {=IF(WEEKDAY(AB2,2)=5,XLOOKUP(AB2,OFFSET('Paramètres'!$B$1:$RX$1,0,0),OFFSET('Paramètres'!$B$1:$RX$1,0,1)),IF(AB3="J",AB2,XLOOKUP(AB2,OFFSET('Paramètres'!$B$1:$RX$1,0,0),OFFSET('Paramètres'!$B$1:$RX$1,0,1))))} -> 45174
F3: J | G3: =IF(F3="","",IF(OR(WEEKDAY(F2,2)=5,F3="N"),"J","N")) -> N | H3: =IF(G3="","",IF(OR(WEEKDAY(G2,2)=5,G3="N"),"J","N")) -> J | I3: =IF(H3="","",IF(OR(WEEKDAY(H2,2)=5,H3="N"),"J","N")) -> J | J3: =IF(I3="","",IF(OR(WEEKDAY(I2,2)=5,I3="N"),"J","N")) -> N | K3: =IF(J3="","",IF(OR(WEEKDAY(J2,2)=5,J3="N"),"J","N")) -> J | L3: =IF(K3="","",IF(OR(WEEKDAY(K2,2)=5,K3="N"),"J","N")) -> N | M3: =IF(L3="","",IF(OR(WEEKDAY(L2,2)=5,L3="N"),"J","N")) -> J | N3: =IF(M3="","",IF(OR(WEEKDAY(M2,2)=5,M3="N"),"J","N")) -> N | ... AC3: =IF(AB3="","",IF(OR(WEEKDAY(AB2,2)=5,AB3="N"),"J","N")) -> J
B4: Tâche | C4: Etat | D4: Date & Vac clôture | F4: 1 | G4: =F4+1 -> 2 | H4: =G4+1 -> 3 | I4: =H4+1 -> 4 | J4: =I4+1 -> 5 | K4: =J4+1 -> 6 | L4: =K4+1 -> 7 | M4: =L4+1 -> 8 | N4: =M4+1 -> 9 | ... AC4: =AB4+1 -> 24

Sheet Paramètres
A1: dates 2023-2024 (hors WK, JF, ACT) : | B1: 44929 | C1: 44930 | D1: 44931 | E1: 44932 | F1: 44935 | G1: 44936 | H1: 44937 | I1: 44938 | J1: 44939 | K1: 44942 | L1: 44943 | M1: 44944 | N1: 44945 | O1: 44946 | P1: 44949 | Q1: 44950 | R1: 44951 | S1: 44952 | T1: 44953 | U1: 44956 | V1: 44957 | W1: 44958 | X1: 44959 | Y1: 44960 | Z1: 44963 | AA1: 44964 | AB1: 44965 | AC1: 44966 | AD1: 44967 | AE1: 44970 | AF1: 44971 | AG1: 44972 | AH1: 44973 | AI1: 44974 | AJ1: 44977 | AK1: 44978 | AL1: 44979 | AM1: 44980 | AN1: 44981 | AO1: 44984 | AP1: 44985 | AQ1: 44986 | AR1: 44987 | AS1: 44988 | AT1: 44991 | AU1: 44992 | AV1: 44993 | AW1: 44994 | AX1: 44995 | AY1: 44998 | AZ1: 44999 | BA1: 45000 | BB1: 45001 | BC1: 45002 | BD1: 45005 | BE1: 45006 | BF1: 45007 | BG1: 45008 | BH1: 45009 | BI1: 45012 | BJ1: 45013 | BK1: 45014 | BL1: 45015 | BM1: 45016 | BN1: 45019 | BO1: 45020 | BP1: 45021 | BQ1: 45022 | BR1: 45023 | BS1: 45027 | BT1: 45028 | BU1: 45029 | BV1: 45030 | BW1: 45033 | BX1: 45034 | BY1: 45035 | BZ1: 45036 | CA1: 45037 | CB1: 45040 | CC1: 45041 | CD1: 45042 | CE1: 45043 | CF1: 45044 | CG1: 45048 | CH1: 45049 | CI1: 45050 | CJ1: 45051 | CK1: 45055 | CL1: 45056 | CM1: 45057 | CN1: 45058 | CO1: 45061 | CP1: 45062 | CQ1: 45063 | CR1: 45065 | CS1: 45068 | CT1: 45069 | CU1: 45070 | CV1: 45071 | CW1: 45072 | CX1: 45076 | CY1: 45077 | CZ1: 45078 | DA1: 45079 | DB1: 45082 | DC1: 45083 | DD1: 45084 | DE1: 45085 | DF1: 45086 | DG1: 45089 | DH1: 45090 | DI1: 45091 | DJ1: 45092 | DK1: 45093 | DL1: 45096 | DM1: 45097 | DN1: 45098 | DO1: 45099 | DP1: 45100 | DQ1: 45103 | DR1: 45104 | DS1: 45105 | DT1: 45106 | DU1: 45107 | DV1: 45110 | DW1: 45111 | DX1: 45112 | DY1: 45113 | DZ1: 45114 | EA1: 45117 | EB1: 45118 | EC1: 45119 | ED1: 45120 | EE1: 45124 | EF1: 45125 | EG1: 45126 | EH1: 45127 | EI1: 45128 | EJ1: 45131 | EK1: 45132 | EL1: 45133 | EM1: 45134 | EN1: 45135 | EO1: 45138 | EP1: 45139 | EQ1: 45140 | ER1: 45141 | ES1: 45142 | ET1: 45145 | EU1: 45146 | EV1: 45147 | EW1: 45148 | EX1: 45149 | EY1: 45154 | EZ1: 45155 | FA1: 45156 | FB1: 45159 | FC1: 45160 | FD1: 45161 | FE1: 45162 | FF1: 45163 | FG1: 45166 | FH1: 45167 | FI1: 45168 | FJ1: 45169 | FK1: 45170 | FL1: 45173 | FM1: 45174 | FN1: 45175 | FO1: 45176 | FP1: 45177 | FQ1: 45180 | FR1: 45181 | FS1: 45182 | FT1: 45183 | FU1: 45184 | FV1: 45187 | FW1: 45188 | FX1: 45189 | FY1: 45190 | FZ1: 45191 | GA1: 45194 | GB1: 45195 | GC1: 45196 | GD1: 45197 | GE1: 45198 | GF1: 45201 | GG1: 45202 | GH1: 45203 | GI1: 45204 | GJ1: 45205 | GK1: 45208 | GL1: 45209 | GM1: 45210 | GN1: 45211 | GO1: 45212 | GP1: 45215 | GQ1: 45216 | GR1: 45217 | GS1: 45218 | GT1: 45219 | GU1: 45222 | GV1: 45223 | GW1: 45224 | GX1: 45225 | GY1: 45226 | GZ1: 45229 | HA1: 45230 | HB1: 45232 | HC1: 45233 | HD1: 45236 | HE1: 45237 | HF1: 45238 | HG1: 45239 | HH1: 45240 | HI1: 45243 | HJ1: 45244 | HK1: 45245 | HL1: 45246 | HM1: 45247 | HN1: 45250 | HO1: 45251 | HP1: 45252 | HQ1: 45253 | HR1: 45254 | HS1: 45257 | HT1: 45258 | HU1: 45259 | HV1: 45260 | HW1: 45261 | HX1: 45264 | HY1: 45265 | HZ1: 45266 | IA1: 45267 | IB1: 45268 | IC1: 45271 | ID1: 45272 | IE1: 45273 | IF1: 45274 | IG1: 45275 | IH1: 45278 | II1: 45279 | IJ1: 45280 | IK1: 45281 | IL1: 45282 | IM1: 45293 | IN1: 45294 | IO1: 45295 | IP1: 45296 | IQ1: 45299 | IR1: 45300 | IS1: 45301 | IT1: 45302 | IU1: 45303 | IV1: 45306 | IW1: 45307 | IX1: 45308 | IY1: 45309 | IZ1: 45310 | JA1: 45313 | JB1: 45314 | JC1: 45315 | JD1: 45316 | JE1: 45317 | JF1: 45320 | JG1: 45321 | JH1: 45322 | JI1: 45323 | JJ1: 45324 | JK1: 45327 | JL1: 45328 | JM1: 45329 | JN1: 45330 | JO1: 45331 | JP1: 45334 | JQ1: 45335 | JR1: 45336 | JS1: 45337 | JT1: 45338 | JU1: 45341 | JV1: 45342 | JW1: 45343 | JX1: 45344 | JY1: 45345 | JZ1: 45348 | KA1: 45349 | KB1: 45350 | KC1: 45351 | KD1: 45352 | KE1: 45355 | KF1: 45356 | KG1: 45357 | KH1: 45358 | KI1: 45359 | KJ1: 45362 | KK1: 45363 | KL1: 45364 | KM1: 45365 | KN1: 45366 | KO1: 45369 | KP1: 45370 | KQ1: 45371 | KR1: 45372 | KS1: 45373 | KT1: 45376 | KU1: 45377 | KV1: 45378 | KW1: 45379 | KX1: 45380 | KY1: 45384 | KZ1: 45385 | LA1: 45386 | LB1: 45387 | LC1: 45390 | LD1: 45391 | LE1: 45392 | LF1: 45393 | LG1: 45394 | LH1: 45397 | LI1: 45398 | LJ1: 45399 | LK1: 45400 | LL1: 45401 | LM1: 45404 | LN1: 45405 | LO1: 45406 | LP1: 45407 | LQ1: 45408 | LR1: 45411 | LS1: 45412 | LT1: 45414 | LU1: 45415 | LV1: 45418 | LW1: 45419 | LX1: 45425 | LY1: 45426 | LZ1: 45427 | MA1: 45429 | MB1: 45433 | MC1: 45434 | MD1: 45435 | ME1: 45436 | MF1: 45439 | MG1: 45440 | MH1: 45441 | MI1: 45442 | MJ1: 45443 | MK1: 45446 | ML1: 45447 | MM1: 45448 | MN1: 45449 | MO1: 45450 | MP1: 45453 | MQ1: 45454 | MR1: 45455 | MS1: 45456 | MT1: 45457 | MU1: 45460 | MV1: 45461 | MW1: 45462 | MX1: 45463 | MY1: 45464 | MZ1: 45467 | NA1: 45468 | NB1: 45469 | NC1: 45470 | ND1: 45471 | NE1: 45474 | NF1: 45475 | NG1: 45476 | NH1: 45477 | NI1: 45478 | NJ1: 45481 | NK1: 45482 | NL1: 45483 | NM1: 45484 | NN1: 45485 | NO1: 45488 | NP1: 45489 | NQ1: 45490 | NR1: 45491 | NS1: 45492 | NT1: 45495 | NU1: 45496 | NV1: 45497 | NW1: 45498 | NX1: 45499 | NY1: 45502 | NZ1: 45503 | OA1: 45504 | OB1: 45505 | OC1: 45506 | OD1: 45509 | OE1: 45510 | OF1: 45511 | OG1: 45512 | OH1: 45513 | OI1: 45516 | OJ1: 45517 | OK1: 45518 | OL1: 45520 | OM1: 45523 | ON1: 45524 | OO1: 45525 | OP1: 45526 | OQ1: 45527 | OR1: 45530 | OS1: 45531 | OT1: 45532 | OU1: 45533 | OV1: 45534 | OW1: 45537 | OX1: 45538 | OY1: 45539 | OZ1: 45540 | PA1: 45541 | PB1: 45544 | PC1: 45545 | PD1: 45546 | PE1: 45547 | PF1: 45548 | PG1: 45551 | PH1: 45552 | PI1: 45553 | PJ1: 45554 | PK1: 45555 | PL1: 45558 | PM1: 45559 | PN1: 45560 | PO1: 45561 | PP1: 45562 | PQ1: 45565 | PR1: 45566 | PS1: 45567 | PT1: 45568 | PU1: 45569 | PV1: 45572 | PW1: 45573 | PX1: 45574 | PY1: 45575 | PZ1: 45576 | QA1: 45579 | QB1: 45580 | QC1: 45581 | QD1: 45582 | QE1: 45583 | QF1: 45586 | QG1: 45587 | QH1: 45588 | QI1: 45589 | QJ1: 45590 | QK1: 45593 | QL1: 45594 | QM1: 45595 | QN1: 45596 | QO1: 45600 | QP1: 45601 | QQ1: 45602 | QR1: 45603 | QS1: 45604 | QT1: 45608 | QU1: 45609 | QV1: 45610 | QW1: 45611 | QX1: 45614 | QY1: 45615 | QZ1: 45616 | RA1: 45617 | RB1: 45618 | RC1: 45621 | RD1: 45622 | RE1: 45623 | RF1: 45624 | RG1: 45625 | RH1: 45628 | RI1: 45629 | RJ1: 45630 | RK1: 45631 | RL1: 45632 | RM1: 45635 | RN1: 45636 | RO1: 45637 | RP1: 45638 | RQ1: 45639 | RR1: 45642 | RS1: 45643 | RT1: 45644 | RU1: 45645 | RV1: 45646 | RW1: 45656 | RX1: 45657
