Workbook
Name Semaine_Affichage: #REF!
Name fin_tâche: #REF!
Name avancement_tâche: #REF!
Name début_tâche: #REF!
Name Semaine_Affichage: #REF!
Name Début_Projet: #REF!
Name fin_tâche: #REF!
Name avancement_tâche: #REF!
Name début_tâche: #REF!
Name Début_Projet: #REF!

Sheet Feuil1
D1: 45154 | E1: {=IF(WEEKDAY(D1,2)=5,XLOOKUP(D1,OFFSET('Paramètres'!$B$1:$RX$1,0,0),OFFSET('Paramètres'!$B$1:$RX$1,0,1)),IF(D2="J",D1,XLOOKUP(D1,OFFSET('Paramètres'!$B$1:$RX$1,0,0),OFFSET('Paramètres'!$B$1:$RX$1,0,1))))} -> 45155 | F1: {=IF(WEEKDAY(E1,2)=5,XLOOKUP(E1,OFFSET('Paramètres'!$B$1:$RX$1,0,0),OFFSET('Paramètres'!$B$1:$RX$1,0,1)),IF(E2="J",E1,XLOOKUP(E1,OFFSET('Paramètres'!$B$1:$RX$1,0,0),OFFSET('Paramètres'!$B$1:$RX$1,0,1))))} -> 45155 | G1: {=IF(WEEKDAY(F1,2)=5,XLOOKUP(F1,OFFSET('Paramètres'!$B$1:$RX$1,0,0),OFFSET('Paramètres'!$B$1:$RX$1,0,1)),IF(F2="J",F1,XLOOKUP(F1,OFFSET('Paramètres'!$B$1:$RX$1,0,0),OFFSET('Paramètres'!$B$1:$RX$1,0,1))))} -> 45156 | H1: {=IF(WEEKDAY(G1,2)=5,XLOOKUP(G1,OFFSET('Paramètres'!$B$1:$RX$1,0,0),OFFSET('Paramètres'!$B$1:$RX$1,0,1)),IF(G2="J",G1,XLOOKUP(G1,OFFSET('Paramètres'!$B$1:$RX$1,0,0),OFFSET('Paramètres'!$B$1:$RX$1,0,1))))} -> 45159 | I1: {=IF(WEEKDAY(H1,2)=5,XLOOKUP(H1,OFFSET('Paramètres'!$B$1:$RX$1,0,0),OFFSET('Paramètres'!$B$1:$RX$1,0,1)),IF(H2="J",H1,XLOOKUP(H1,OFFSET('Paramètres'!$B$1:$RX$1,0,0),OFFSET('Paramètres'!$B$1:$RX$1,0,1))))} -> 45159 | J1: {=IF(WEEKDAY(I1,2)=5,XLOOKUP(I1,OFFSET('Paramètres'!$B$1:$RX$1,0,0),OFFSET('Paramètres'!$B$1:$RX$1,0,1)),IF(I2="J",I1,XLOOKUP(I1,OFFSET('Paramètres'!$B$1:$RX$1,0,0),OFFSET('Paramètres'!$B$1:$RX$1,0,1))))} -> 45160 | K1: {=IF(WEEKDAY(J1,2)=5,XLOOKUP(J1,OFFSET('Paramètres'!$B$1:$RX$1,0,0),OFFSET('Paramètres'!$B$1:$RX$1,0,1)),IF(J2="J",J1,XLOOKUP(J1,OFFSET('Paramètres'!$B$1:$RX$1,0,0),OFFSET('Paramètres'!$B$1:$RX$1,0,1))))} -> 45160 | L1: {=IF(WEEKDAY(K1,2)=5,XLOOKUP(K1,OFFSET('Paramètres'!$B$1:$RX$1,0,0),OFFSET('Paramètres'!$B$1:$RX$1,0,1)),IF(K2="J",K1,XLOOKUP(K1,OFFSET('Paramètres'!$B$1:$RX$1,0,0),OFFSET('Paramètres'!$B$1:$RX$1,0,1))))} -> 45161 | ... Y1: {=IF(WEEKDAY(X1,2)=5,XLOOKUP(X1,OFFSET('Paramètres'!$B$1:$RX$1,0,0),OFFSET('Paramètres'!$B$1:$RX$1,0,1)),IF(X2="J",X1,XLOOKUP(X1,OFFSET('Paramètres'!$B$1:$RX$1,0,0),OFFSET('Paramètres'!$B$1:$RX$1,0,1))))} -> 45170
B2: TÂCHE | C2: Etat | D2: N | E2: =IF(D2="","",IF(OR(WEEKDAY(D1,2)=5,D2="N"),"J","N")) -> J | F2: =IF(E2="","",IF(OR(WEEKDAY(E1,2)=5,E2="N"),"J","N")) -> N | G2: =IF(F2="","",IF(OR(WEEKDAY(F1,2)=5,F2="N"),"J","N")) -> J | H2: =IF(G2="","",IF(OR(WEEKDAY(G1,2)=5,G2="N"),"J","N")) -> J | I2: =IF(H2="","",IF(OR(WEEKDAY(H1,2)=5,H2="N"),"J","N")) -> N | J2: =IF(I2="","",IF(OR(WEEKDAY(I1,2)=5,I2="N"),"J","N")) -> J | K2: =IF(J2="","",IF(OR(WEEKDAY(J1,2)=5,J2="N"),"J","N")) -> N | L2: =IF(K2="","",IF(OR(WEEKDAY(K1,2)=5,K2="N"),"J","N")) -> J | ... T2: =IF(S2="","",IF(OR(WEEKDAY(S1,2)=5,S2="N"),"J","N")) -> N | U2: =IF(T2="","",IF(OR(WEEKDAY(T1,2)=5,T2="J"),"N","J")) -> J | V2: =IF(U2="","",IF(OR(WEEKDAY(U1,2)=5,U2="J"),"N","J")) -> N | W2: =IF(V2="","",IF(OR(WEEKDAY(V1,2)=5,V2="J"),"N","J")) -> J | X2: =IF(W2="","",IF(OR(WEEKDAY(W1,2)=5,W2="J"),"N","J")) -> N | Y2: =IF(X2="","",IF(OR(WEEKDAY(X1,2)=5,X2="J"),"N","J")) -> J
C10: V
C11: O
C12: R

Sheet test planning suivi activité
B1: Date Final Cabine : | D1: =TEXT(D2,"mmmm") -> août | L1: =IF(TEXT(L2,"mmmm")=D1,"",TEXT(L2,"mmmm")) | S1: =IF(OR(TEXT(S2,"mmmm")=L1,TEXT(S2,"mmmm")=D1),"",TEXT(S2,"mmmm")) | Z1: =IF(OR(TEXT(Z2,"mmmm")=S1,TEXT(Z2,"mmmm")=L1,TEXT(Z2,"mmmm")=D1),"",TEXT(Z2,"mmmm"))
B2: 45158 | D2: 45153 | E2: =D2 -> 45153 | G2: =E2+1 -> 45154 | H2: =G2 -> 45154 | I2: =H2+1 -> 45155 | J2: =I2 -> 45155 | K2: =J2+1 -> 45156 | L2: =K2 -> 45156 | M2: =L2+1 -> 45157 | N2: =M2 -> 45157 | O2: =N2+1 -> 45158 | P2: =O2 -> 45158 | Q2: =P2+1 -> 45159 | R2: =Q2 -> 45159 | S2: =R2+1 -> 45160 | T2: =S2 -> 45160 | U2: =T2+1 -> 45161 | V2: =U2 -> 45161 | W2: =V2+1 -> 45162 | X2: =W2 -> 45162 | Y2: =X2+1 -> 45163 | Z2: =Y2 -> 45163 | AA2: =Z2+1 -> 45164 | AB2: =AA2 -> 45164 | AC2: =AB2+1 -> 45165 | AD2: =AC2 -> 45165 | AE2: =AD2+1 -> 45166 | AF2: =AE2 -> 45166
D3: =TEXT(D2,"ddd") -> mar. | E3: =TEXT(E2,"ddd") -> mar. | G3: =TEXT(G2,"ddd") -> mer. | H3: =TEXT(H2,"ddd") -> mer. | I3: =TEXT(I2,"ddd") -> jeu. | J3: =TEXT(J2,"ddd") -> jeu. | K3: =TEXT(K2,"ddd") -> ven. | L3: =TEXT(L2,"ddd") -> ven. | M3: =TEXT(M2,"ddd") -> sam. | N3: =TEXT(N2,"ddd") -> sam. | ... AF3: =TEXT(AF2,"ddd") -> lun.
B4: TÂCHE | C4: OK/NOK | D4: J | E4: N | G4: J | H4: N | I4: J | J4: N | K4: J | L4: N | M4: J | N4: N | O4: J | P4: N | Q4: J | R4: N | S4: J | T4: N | U4: J | V4: N | W4: J | X4: N | Y4: J | Z4: N | AA4: J | AB4: N | AC4: J | AD4: N | AE4: J | AF4: N
D5: 1 | E5: =D5+1 -> 2 | G5: =E5+1 -> 3 | H5: =G5+1 -> 4 | I5: =H5+1 -> 5 | J5: =I5+1 -> 6 | K5: =J5+1 -> 7 | L5: =K5+1 -> 8 | M5: =L5+1 -> 9 | N5: =M5+1 -> 10 | O5: =N5+1 -> 11 | ... AF5: =AE5+1 -> 28
A6: CABINE | B6: Porte PAX 1 Gauche | C6: liste déroulante | E6: A FAIRE | F6: FAIT
B7: Changer encadrement porte | D7: RAS
E8: A faire, NC bloqué piece | F8: Retard POC | G8: A faire, NC bloqué piece
B9: Porte PAX 1 Droite
B10: OPE 10
B11: OPE 20
B12: OPE 30
B13: OPE 40
B19: Tâche 4
B20: Tâche 5
B21: Soute 1
B22: Soute 2
A23: GREEN | B23: Belly Fairing
B36: Zone arrière
B37: Zone carburant
B38: Case de train

Sheet Paramètres
A1: dates 2023-2024 hors WK, JF, ACT | B1: 44929 | C1: 44930 | D1: 44931 | E1: 44932 | F1: 44935 | G1: 44936 | H1: 44937 | I1: 44938 | J1: 44939 | K1: 44942 | L1: 44943 | M1: 44944 | N1: 44945 | O1: 44946 | P1: 44949 | Q1: 44950 | R1: 44951 | S1: 44952 | T1: 44953 | U1: 44956 | V1: 44957 | W1: 44958 | X1: 44959 | Y1: 44960 | Z1: 44963 | AA1: 44964 | AB1: 44965 | AC1: 44966 | AD1: 44967 | AE1: 44970 | AF1: 44971 | AG1: 44972 | AH1: 44973 | AI1: 44974 | AJ1: 44977 | AK1: 44978 | AL1: 44979 | AM1: 44980 | AN1: 44981 | AO1: 44984 | AP1: 44985 | AQ1: 44986 | AR1: 44987 | AS1: 44988 | AT1: 44991 | AU1: 44992 | AV1: 44993 | AW1: 44994 | AX1: 44995 | AY1: 44998 | AZ1: 44999 | BA1: 45000 | BB1: 45001 | BC1: 45002 | BD1: 45005 | BE1: 45006 | BF1: 45007 | BG1: 45008 | BH1: 45009 | BI1: 45012 | BJ1: 45013 | BK1: 45014 | BL1: 45015 | BM1: 45016 | BN1: 45019 | BO1: 45020 | BP1: 45021 | BQ1: 45022 | BR1: 45023 | BS1: 45027 | BT1: 45028 | BU1: 45029 | BV1: 45030 | BW1: 45033 | BX1: 45034 | BY1: 45035 | BZ1: 45036 | CA1: 45037 | CB1: 45040 | CC1: 45041 | CD1: 45042 | CE1: 45043 | CF1: 45044 | CG1: 45048 | CH1: 45049 | CI1: 45050 | CJ1: 45051 | CK1: 45055 | CL1: 45056 | CM1: 45057 | CN1: 45058 | CO1: 45061 | CP1: 45062 | CQ1: 45063 | CR1: 45065 | CS1: 45068 | CT1: 45069 | CU1: 45070 | CV1: 45071 | CW1: 45072 | CX1: 45076 | CY1: 45077 | CZ1: 45078 | DA1: 45079 | DB1: 45082 | DC1: 45083 | DD1: 45084 | DE1: 45085 | DF1: 45086 | DG1: 45089 | DH1: 45090 | DI1: 45091 | DJ1: 45092 | DK1: 45093 | DL1: 45096 | DM1: 45097 | DN1: 45098 | DO1: 45099 | DP1: 45100 | DQ1: 45103 | DR1: 45104 | DS1: 45105 | DT1: 45106 | DU1: 45107 | DV1: 45110 | DW1: 45111 | DX1: 45112 | DY1: 45113 | DZ1: 45114 | EA1: 45117 | EB1: 45118 | EC1: 45119 | ED1: 45120 | EE1: 45124 | EF1: 45125 | EG1: 45126 | EH1: 45127 | EI1: 45128 | EJ1: 45131 | EK1: 45132 | EL1: 45133 | EM1: 45134 | EN1: 45135 | EO1: 45138 | EP1: 45139 | EQ1: 45140 | ER1: 45141 | ES1: 45142 | ET1: 45145 | EU1: 45146 | EV1: 45147 | EW1: 45148 | EX1: 45149 | EY1: 45154 | EZ1: 45155 | FA1: 45156 | FB1: 45159 | FC1: 45160 | FD1: 45161 | FE1: 45162 | FF1: 45163 | FG1: 45166 | FH1: 45167 | FI1: 45168 | FJ1: 45169 | FK1: 45170 | FL1: 45173 | FM1: 45174 | FN1: 45175 | FO1: 45176 | FP1: 45177 | FQ1: 45180 | FR1: 45181 | FS1: 45182 | FT1: 45183 | FU1: 45184 | FV1: 45187 | FW1: 45188 | FX1: 45189 | FY1: 45190 | FZ1: 45191 | GA1: 45194 | GB1: 45195 | GC1: 45196 | GD1: 45197 | GE1: 45198 | GF1: 45201 | GG1: 45202 | GH1: 45203 | GI1: 45204 | GJ1: 45205 | GK1: 45208 | GL1: 45209 | GM1: 45210 | GN1: 45211 | GO1: 45212 | GP1: 45215 | GQ1: 45216 | GR1: 45217 | GS1: 45218 | GT1: 45219 | GU1: 45222 | GV1: 45223 | GW1: 45224 | GX1: 45225 | GY1: 45226 | GZ1: 45229 | HA1: 45230 | HB1: 45232 | HC1: 45233 | HD1: 45236 | HE1: 45237 | HF1: 45238 | HG1: 45239 | HH1: 45240 | HI1: 45243 | HJ1: 45244 | HK1: 45245 | HL1: 45246 | HM1: 45247 | HN1: 45250 | HO1: 45251 | HP1: 45252 | HQ1: 45253 | HR1: 45254 | HS1: 45257 | HT1: 45258 | HU1: 45259 | HV1: 45260 | HW1: 45261 | HX1: 45264 | HY1: 45265 | HZ1: 45266 | IA1: 45267 | IB1: 45268 | IC1: 45271 | ID1: 45272 | IE1: 45273 | IF1: 45274 | IG1: 45275 | IH1: 45278 | II1: 45279 | IJ1: 45280 | IK1: 45281 | IL1: 45282 | IM1: 45293 | IN1: 45294 | IO1: 45295 | IP1: 45296 | IQ1: 45299 | IR1: 45300 | IS1: 45301 | IT1: 45302 | IU1: 45303 | IV1: 45306 | IW1: 45307 | IX1: 45308 | IY1: 45309 | IZ1: 45310 | JA1: 45313 | JB1: 45314 | JC1: 45315 | JD1: 45316 | JE1: 45317 | JF1: 45320 | JG1: 45321 | JH1: 45322 | JI1: 45323 | JJ1: 45324 | JK1: 45327 | JL1: 45328 | JM1: 45329 | JN1: 45330 | JO1: 45331 | JP1: 45334 | JQ1: 45335 | JR1: 45336 | JS1: 45337 | JT1: 45338 | JU1: 45341 | JV1: 45342 | JW1: 45343 | JX1: 45344 | JY1: 45345 | JZ1: 45348 | KA1: 45349 | KB1: 45350 | KC1: 45351 | KD1: 45352 | KE1: 45355 | KF1: 45356 | KG1: 45357 | KH1: 45358 | KI1: 45359 | KJ1: 45362 | KK1: 45363 | KL1: 45364 | KM1: 45365 | KN1: 45366 | KO1: 45369 | KP1: 45370 | KQ1: 45371 | KR1: 45372 | KS1: 45373 | KT1: 45376 | KU1: 45377 | KV1: 45378 | KW1: 45379 | KX1: 45380 | KY1: 45384 | KZ1: 45385 | LA1: 45386 | LB1: 45387 | LC1: 45390 | LD1: 45391 | LE1: 45392 | LF1: 45393 | LG1: 45394 | LH1: 45397 | LI1: 45398 | LJ1: 45399 | LK1: 45400 | LL1: 45401 | LM1: 45404 | LN1: 45405 | LO1: 45406 | LP1: 45407 | LQ1: 45408 | LR1: 45411 | LS1: 45412 | LT1: 45414 | LU1: 45415 | LV1: 45418 | LW1: 45419 | LX1: 45425 | LY1: 45426 | LZ1: 45427 | MA1: 45429 | MB1: 45433 | MC1: 45434 | MD1: 45435 | ME1: 45436 | MF1: 45439 | MG1: 45440 | MH1: 45441 | MI1: 45442 | MJ1: 45443 | MK1: 45446 | ML1: 45447 | MM1: 45448 | MN1: 45449 | MO1: 45450 | MP1: 45453 | MQ1: 45454 | MR1: 45455 | MS1: 45456 | MT1: 45457 | MU1: 45460 | MV1: 45461 | MW1: 45462 | MX1: 45463 | MY1: 45464 | MZ1: 45467 | NA1: 45468 | NB1: 45469 | NC1: 45470 | ND1: 45471 | NE1: 45474 | NF1: 45475 | NG1: 45476 | NH1: 45477 | NI1: 45478 | NJ1: 45481 | NK1: 45482 | NL1: 45483 | NM1: 45484 | NN1: 45485 | NO1: 45488 | NP1: 45489 | NQ1: 45490 | NR1: 45491 | NS1: 45492 | NT1: 45495 | NU1: 45496 | NV1: 45497 | NW1: 45498 | NX1: 45499 | NY1: 45502 | NZ1: 45503 | OA1: 45504 | OB1: 45505 | OC1: 45506 | OD1: 45509 | OE1: 45510 | OF1: 45511 | OG1: 45512 | OH1: 45513 | OI1: 45516 | OJ1: 45517 | OK1: 45518 | OL1: 45520 | OM1: 45523 | ON1: 45524 | OO1: 45525 | OP1: 45526 | OQ1: 45527 | OR1: 45530 | OS1: 45531 | OT1: 45532 | OU1: 45533 | OV1: 45534 | OW1: 45537 | OX1: 45538 | OY1: 45539 | OZ1: 45540 | PA1: 45541 | PB1: 45544 | PC1: 45545 | PD1: 45546 | PE1: 45547 | PF1: 45548 | PG1: 45551 | PH1: 45552 | PI1: 45553 | PJ1: 45554 | PK1: 45555 | PL1: 45558 | PM1: 45559 | PN1: 45560 | PO1: 45561 | PP1: 45562 | PQ1: 45565 | PR1: 45566 | PS1: 45567 | PT1: 45568 | PU1: 45569 | PV1: 45572 | PW1: 45573 | PX1: 45574 | PY1: 45575 | PZ1: 45576 | QA1: 45579 | QB1: 45580 | QC1: 45581 | QD1: 45582 | QE1: 45583 | QF1: 45586 | QG1: 45587 | QH1: 45588 | QI1: 45589 | QJ1: 45590 | QK1: 45593 | QL1: 45594 | QM1: 45595 | QN1: 45596 | QO1: 45600 | QP1: 45601 | QQ1: 45602 | QR1: 45603 | QS1: 45604 | QT1: 45608 | QU1: 45609 | QV1: 45610 | QW1: 45611 | QX1: 45614 | QY1: 45615 | QZ1: 45616 | RA1: 45617 | RB1: 45618 | RC1: 45621 | RD1: 45622 | RE1: 45623 | RF1: 45624 | RG1: 45625 | RH1: 45628 | RI1: 45629 | RJ1: 45630 | RK1: 45631 | RL1: 45632 | RM1: 45635 | RN1: 45636 | RO1: 45637 | RP1: 45638 | RQ1: 45639 | RR1: 45642 | RS1: 45643 | RT1: 45644 | RU1: 45645 | RV1: 45646 | RW1: 45656 | RX1: 45657
