Workbook
Name \A: #REF!
Name \B: #REF!
Name \M: #REF!
Name \P: #REF!
Name \R: #REF!
Name \S: #REF!
Name \V: #REF!
Name _.Next: #REF!
Name _L: #REF!
Name _MU1: '[1]Données de Base'!$E$13
Name _MU2: '[1]Données de Base'!$E$14
Name _MU3: '[1]Données de Base'!$E$15
Name _MU4: '[1]Données de Base'!$E$16
Name _MU5: '[1]Données de Base'!$E$17
Name _PFR1: '[2]CA mag par PFR'!#REF!
Name _PFR2: '[2]CA mag par PFR'!#REF!
Name _PFR3: '[2]CA mag par PFR'!#REF!
Name _PFR4: '[2]CA mag par PFR'!#REF!
Name _PFR5: '[2]CA mag par PFR'!#REF!
Name _PFR6: '[2]CA mag par PFR'!#REF!
Name _r: [0]!_r
Name a: [0]!a
Name ABORT: #REF!
Name Activité: #REF!
Name Actor: #REF!
Name Actors: #REF!
Name ALL: #REF!
Name Alt_Currency_Cols: '[3]P & L'!$E$1:$E$65536,'[3]P & L'!$G$1:$G$65536,'[3]P & L'!$I$1:$I$65536,'[3]P & L'!$K$1:$K$65536,'[3]P & L'!$M$1:$M$65536
Name Annuité: [0]!Tx_intérêt_par_an/#REF!
Name Annuité2: [0]!Tx_intérêt_par_an/#REF!
Name ARCHAT: [0]!ARCHAT
Name b: [0]!b
Name BALIJON: [0]!BALIJON
Name Base_Curr_Cols: '[3]P & L'!$D$1:$D$65536,'[3]P & L'!$F$1:$F$65536,'[3]P & L'!$H$1:$H$65536,'[3]P & L'!$J$1:$J$65536,'[3]P & L'!$L$1:$L$65536
Name base_graph: '[4]Simul Cout actu'!#REF!
Name bbb: #REF!
Name BDentities: #REF!
Name Bouton7_QuandClic: [5]!Bouton7_QuandClic
Name BRUYATR: [0]!BRUYATR
Name BulkSpace: '[3]bulk space'!$D$10:$I$11,'[3]bulk space'!$D$15:$I$17,'[3]bulk space'!$D$19:$I$19,'[3]bulk space'!$D$21:$I$21
Name BV: [0]!BV
Name CA: '[6]Compte UOs'!$T$77
Name caltagirone: [0]!caltagirone
Name Chiffre_montécharge_annuel: '[7]Montée en charge PLANNING'!#REF!
Name chiffre_montécharge_mensuel: '[7]Montée en charge PLANNING'!#REF!
Name Choix: '[8]Base de données'!$Y$3:$Y$8
Name COLO: [0]!COLO
Name COMCG: #REF!
Name company: '[9]Contact List'!$D$11:$E$100
Name COMPMR: #REF!
Name COMPUTER: [10]Cmptr!$A$1
Name CPNMB: "1"
Name Critères: '[8]Base de données'!$E$2:$E$12
Name Critères1: '[8]Base de données'!$E$3:$E$12
Name CSR: #REF!
Name CSRATE: #REF!
Name CSRHW: #REF!
Name CSRPEN: #REF!
Name CurrAvRate: #REF!
Name CustomerName: '[9]Setup Sheet'!$C$11

Sheet KPI Mensuel
B1: Site de Wissous II | C1: MASQUE
B2: Réf: MA-WSS2-CL-005 | C2: KPI'S SITE MENSUELS
B3: Date de création : 17/07/2018
B4: Date de modification : 17/07/18
C6: Date Réunion :
B8: MISE EN PERFORMANCE | C8: OBJECTIF 2017 | E8: 43466 | F8: 43497 | G8: 43525 | H8: 43556 | I8: 43586 | J8: 43617 | K8: 43647 | L8: 43678 | M8: 43709 | N8: 43739 | O8: 43770 | P8: 43800 | Q8: Total
B9: Indice KNPS - Green Level | C9: ≥ | D9: 0.8 | E9: =IF(#REF!="","",#REF!) -> #REF! | F9: =IF(#REF!="","",#REF!) -> #REF! | G9: =IF(#REF!="","",#REF!) -> #REF! | H9: =IF(#REF!="","",#REF!) -> #REF! | I9: =IF(#REF!="","",#REF!) -> #REF! | J9: =IF(#REF!="","",#REF!) -> #REF! | K9: =IF(#REF!="","",#REF!) -> #REF! | L9: =IF(#REF!="","",#REF!) -> #REF! | ... P9: =IF(#REF!="","",#REF!) -> #REF! | Q9: =MAX(K9:P9) -> #REF!
B10: Indice KNPS - Bronze Level | C10: ≥ | D10: 0.8
B11: Nombre de Suggestions relevé | C11: ≥ | D11: 3
B12: Nombre de Redtag Traités dans le mois | C12: ≥ | D12: 3
B13: EXPLOITATION | C13: =C8 -> OBJECTIF 2017 | E13: =E8 -> 43466 | F13: =F8 -> 43497 | G13: =G8 -> 43525 | H13: =H8 -> 43556 | I13: =I8 -> 43586 | J13: =J8 -> 43617 | K13: =K8 -> 43647 | L13: =L8 -> 43678 | ... P13: =P8 -> 43800 | Q13: Total
B14: Productivités global site | C14: ≥ | D14: 1 | E14: =+#REF! -> #REF! | F14: =+#REF! -> #REF! | G14: =+#REF! -> #REF! | H14: =+#REF! -> #REF! | I14: =+#REF! -> #REF! | J14: =+#REF! -> #REF! | K14: =+#REF! -> #REF! | L14: =+#REF! -> #REF! | ... Q14: =+#REF! -> #REF!
B15: Taux de contenants flashés et expédiés | C15: ≥ | D15: 1
B16: CLIENTS | C16: =C11 -> ≥ | E16: =E8 -> 43466 | F16: =F8 -> 43497 | G16: =G8 -> 43525 | H16: =H8 -> 43556 | I16: =I8 -> 43586 | J16: =J8 -> 43617 | K16: =K8 -> 43647 | L16: =L8 -> 43678 | ... P16: =P8 -> 43800 | Q16: Total
B17: Délai d'entrée en stock des réceptions | C17: = | D17: 1 | E17: ='feuil 1'!F3 -> 0.8058 | F17: ='feuil 1'!G3 -> 1 | G17: ='feuil 1'!H3 -> 1 | H17: ='feuil 1'!I3 -> 1
B18: Taux de disponibilité (prep) | C18: ≥ | D18: 0.9975 | E18: ='feuil 1'!F4 -> 0.99855538 | F18: ='feuil 1'!G4 -> 0.999 | G18: ='feuil 1'!H4 -> 0.9994 | H18: ='feuil 1'!I4 -> 0.9993
B19: Taux de commandes conformes (Retail - MU) | C19: ≥ | D19: 0.9995 | E19: ='feuil 1'!F5 -> 1 | F19: ='feuil 1'!G5 -> 1 | G19: ='feuil 1'!H5 -> 1 | H19: ='feuil 1'!I5 -> 1
B20: Délai de préparation de commande (Retail) | C20: ≥ | D20: 0.99 | E20: ='feuil 1'!#REF! -> #REF! | F20: ='feuil 1'!#REF! -> #REF! | G20: ='feuil 1'!#REF! -> #REF! | H20: ='feuil 1'!#REF! -> #REF!
B21: Délai de préparation de cde (Ecom Chrono) | C21: ≥ | D21: 0.999 | E21: ='feuil 1'!#REF! -> #REF! | F21: ='feuil 1'!#REF! -> #REF! | G21: ='feuil 1'!#REF! -> #REF! | H21: ='feuil 1'!#REF! -> #REF!
B22: Délai de préparation de commande (Ecom) | C22: ≥ | D22: 0.999 | E22: ='feuil 1'!#REF! -> #REF! | F22: ='feuil 1'!#REF! -> #REF! | G22: ='feuil 1'!#REF! -> #REF! | H22: ='feuil 1'!#REF! -> #REF!
B23: Délai de traitements des retours e-commerce | C23: ≥ | D23: 0.99 | E23: ='feuil 1'!#REF! -> #REF! | F23: ='feuil 1'!#REF! -> #REF! | G23: ='feuil 1'!#REF! -> #REF! | H23: ='feuil 1'!#REF! -> #REF!
B24: RH | C24: =C13 -> OBJECTIF 2017 | E24: =E8 -> 43466 | F24: =F8 -> 43497 | G24: =G8 -> 43525 | H24: =H8 -> 43556 | I24: =I8 -> 43586 | J24: =J8 -> 43617 | K24: =K8 -> 43647 | L24: =L8 -> 43678 | ... N24: =N8 -> 43739 | O24: =AVERAGE(E24:N24) -> 43602 | P24: =P8 -> 43800 | Q24: Total
B25: Taux d'heures supplémentaires | C25: ≤
B26: Intégration Personnes avec Hand. | C26: ≥ | D26: 0.06
B27: PATRIMOINE & SECURITE | C27: =C24 -> OBJECTIF 2017 | E27: =E8 -> 43466 | F27: =F8 -> 43497 | G27: =G8 -> 43525 | H27: =H8 -> 43556 | I27: =I8 -> 43586 | J27: =J8 -> 43617 | K27: =K8 -> 43647 | L27: =L8 -> 43678 | ... P27: =P8 -> 43800 | Q27: Total
B28: Taux de Fréquence AT | C28: ≤ | D28: 55
B29: Taux de Gravité AT | C29: ≤ | D29: 3.5
B30: Fondamentaux RM - Suite à Audit RM | C30: ≤ | D30: 0.9
B31: Stop O' Risk - Formation Encadrement | C31: = | D31: 1
B32: Stop O' Risk - Application - Nb SD | C32: = | D32: 1
B33: Dév. Durable - Valorisation globale | C33: ≥ | D33: 0.8
B34: Dév. Durable - Valorisation Déchets recylés | C34: ≥ | D34: 0.6
B35: Application WI Sûreté Standard | C35: ≥ | D35: 0.85
B36: Formation White & Blue Colars | C36: = | D36: 1
B37: Indice Tour de Site - HSA | C37: ≥ | D37: 0.85 | E37: 0.9 | F37: 0.8 | G37: 0.9 | H37: NC | Q37: =AVERAGE(E37:P37) -> 0.86666667
B38: ADMINISTRATIF & FINANCIER | C38: =C27 -> OBJECTIF 2017 | E38: =E8 -> 43466 | F38: =F8 -> 43497 | G38: =G8 -> 43525 | H38: =H8 -> 43556 | I38: =I8 -> 43586 | J38: =J8 -> 43617 | K38: =K8 -> 43647 | L38: =L8 -> 43678 | ... P38: =P8 -> 43800 | Q38: Total
B39: Résultat NP1 (écart VS target) | C39: ≥ | D39: Target | E39: =#REF! -> #REF! | F39: =#REF! -> #REF! | G39: =#REF! -> #REF! | H39: =#REF! -> #REF! | I39: =#REF! -> #REF! | J39: =#REF! -> #REF! | K39: =#REF! -> #REF! | L39: =#REF! -> #REF! | ... Q39: =#REF! -> #REF!
B40: Résultat NP2 (écart VS target) | C40: ≥ | D40: Target | E40: =#REF! -> #REF! | F40: =#REF! -> #REF! | G40: =#REF! -> #REF! | H40: =#REF! -> #REF! | I40: =#REF! -> #REF! | J40: =#REF! -> #REF! | K40: =#REF! -> #REF! | L40: =#REF! -> #REF! | ... Q40: =#REF! -> #REF!
C42: -3400
B43: PERFORMANCE SITE
...

Sheet feuil 1
C2: 2019 | D2: OBJ | E2: SEUIL | F2: Janvier | G2: Février | H2: Mars | I2: Avril | J2: Mai | K2: Juin | L2: Juillet | M2: Août | N2: Septembre | O2: Octobre | P2: Novembre | Q2: Décembre
A3: Délai d'entrée en stock des réceptions | D3: 1 | E3: 0.93 | F3: 0.8058 | G3: 1 | H3: 1 | I3: 1 | J3: 1 | K3: 1 | L3: 1 | M3: 1 | N3: 1 | O3: 1 | P3: 1 | Q3: 1
A4: Taux de disponibilité | D4: 0.9975 | E4: 0.975 | F4: 0.99855538 | G4: 0.999 | H4: 0.9994 | I4: 0.9993 | J4: 0.9972 | K4: 0.9997 | L4: 0.9994 | M4: 0.9998 | N4: 0.9999 | O4: 0.9997 | P4: 0.9996 | Q4: 0.9995
A5: Taux de cdes conformes | D5: 0.9995 | E5: 0.98 | F5: 1 | G5: 1 | H5: 1 | I5: 1 | J5: 1 | K5: 1 | L5: 1 | M5: 1 | N5: 1 | O5: 0.9997 | P5: 0.9963 | Q5: 0.9988
A6: Délai de préparation de cde Retail | D6: 0.999 | E6: 0.98 | F6: 0.99058884 | G6: 0.9949 | H6: 0.99827789 | I6: 0.997 | J6: 0.9956 | K6: 0.9998 | L6: 0.9997 | M6: 0.9999 | N6: 1 | O6: 1 | P6: 1 | Q6: 0.9999
A7: Délai de préparation de cde Ecom Chrono | D7: 0.99 | E7: 0.97 | F7: 0.93265007 | G7: 0.97069597 | H7: 1 | I7: 1 | J7: 1 | K7: 1 | L7: 1 | M7: 0.9902 | N7: 1 | O7: 1 | P7: 0.9967
A8: Délai de préparation de cde Ecom | D8: 0.99 | E8: 0.97 | F8: 0.74232347 | G8: 0.9869 | H8: 0.9908 | I8: 0.9834 | J8: 0.9492 | K8: 0.9999 | L8: 0.9996 | M8: 0.9997 | N8: 0.9975 | O8: 0.9991 | P8: 0.9988 | Q8: 0.9984
A9: Délai de traitements des retours Ecom | D9: 0.99 | E9: 0.95 | F9: 1 | G9: 1 | H9: 1 | I9: 1 | J9: 1 | K9: 1 | L9: 1 | M9: 1 | N9: 1 | O9: 1 | P9: 1 | Q9: 1

Sheet Test
C1: 2019 | F1: Janvier | G1: Février | H1: Mars | I1: Avril | J1: Mai | K1: Juin | L1: Juillet | M1: Août | N1: Septembre | O1: Octobre | P1: Novembre | Q1: Décembre
A2: Délai d'entrée en stock des réceptions | F2: 0.8058 | G2: 1 | H2: 1 | I2: 1 | J2: 1 | K2: 1 | L2: 1 | M2: 1 | N2: 1 | O2: 1 | P2: 1 | Q2: 1
C3: OBJ | F3: 1 | G3: 1 | H3: 1 | I3: 1 | J3: 1 | K3: 1 | L3: 1 | M3: 1 | N3: 1 | O3: 1 | P3: 1 | Q3: 1
C4: SEUIL | F4: 0.93 | G4: 0.93 | H4: 0.93 | I4: 0.93 | J4: 0.93 | K4: 0.93 | L4: 0.93 | M4: 0.93 | N4: 0.93 | O4: 0.93 | P4: 0.93 | Q4: 0.93
D6: OBJ | E6: SEUIL
A7: Taux de disponibilité (prep) | D7: 0.9975 | E7: 0.975 | F7: 0.99855538 | G7: 0.999 | H7: 0.9994 | I7: 0.9993 | J7: 0.9972 | K7: 0.9997 | L7: 0.9994 | M7: 0.9998 | N7: 0.9999 | O7: 0.9997 | P7: 0.9996 | Q7: 0.9995
A8: Taux de cdes conformes (Retail - MU) | D8: 0.9995 | E8: 0.98 | F8: 1 | G8: 1 | H8: 1 | I8: 1 | J8: 1 | K8: 1 | L8: 1 | M8: 1 | N8: 1 | O8: 0.9997 | P8: 0.9963 | Q8: 0.9988
A9: Délai de préparation de cde Retail | D9: 0.999 | E9: 0.98 | F9: 0.99058884 | G9: 0.9949 | H9: 0.99827789 | I9: 0.997 | J9: 0.9956 | K9: 0.9998 | L9: 0.9997 | M9: 0.9999 | N9: 1 | O9: 1 | P9: 1 | Q9: 0.9999
A10: Délai de préparation de cde Ecom Chrono | D10: 0.99 | E10: 0.97 | F10: 0.93265007 | G10: 0.97069597 | H10: 1 | I10: 1 | J10: 1 | K10: 1 | L10: 1 | M10: 0.9902 | N10: 1 | O10: 1 | P10: 0.9967
A11: Délai de préparation de cde Ecom | D11: 0.99 | E11: 0.97 | F11: 0.74232347 | G11: 0.9869 | H11: 0.9908 | I11: 0.9834 | J11: 0.9492 | K11: 0.9999 | L11: 0.9996 | M11: 0.9997 | N11: 0.9975 | O11: 0.9991 | P11: 0.9988 | Q11: 0.9984
A12: Délai de traitements des retours Ecom | D12: 0.99 | E12: 0.95 | F12: 1 | G12: 1 | H12: 1 | I12: 1 | J12: 1 | K12: 1 | L12: 1 | M12: 1 | N12: 1 | O12: 1 | P12: 1 | Q12: 1
