Workbook

Sheet paramètres
A1: =MID(CELL("filename",Sommaire!G14),FIND("[",CELL("filename",Sommaire!G14)),SUM(FIND({"[";"]"},CELL("filename",Sommaire!G14))*{-1;1})+1) -> [programmation de la maintenance.xlsx]
A2: Plaques_en_fibro_ciment | B2: B4 | E2: Concerné | H2: Niveau d'intervention : | J2: Pour mémoire
A3: Plaques_en_acier_ou_alu | B3: B4 | E3: Non concerné | J3: suggérée
A4: couverture_zinc_ou_cuivre | B4: B4 | J4: recommandée
A5: Plaques_translucides | B5: B4 | J5: obligatoire
A6: =MID(CELL("filename",Sommaire!I17),FIND("[",CELL("filename",Sommaire!I17)),SUM(FIND({"[";"]"},CELL("filename",Sommaire!I17))*{-1;1})+1) -> [programmation de la maintenance.xlsx]
A7: fenêtre_de_toit | B7: B4
A8: Verrière | B8: B4
A9: =MID(CELL("filename",Sommaire!I18),FIND("[",CELL("filename",Sommaire!I18)),SUM(FIND({"[";"]"},CELL("filename",Sommaire!I18))*{-1;1})+1) -> [programmation de la maintenance.xlsx]
A10: Toiture_terrasse | B10: B4
A11: Toiture_terrasse_végétalisée | B11: B4
A12: =MID(CELL("filename",Sommaire!I19),FIND("[",CELL("filename",Sommaire!I19)),SUM(FIND({"[";"]"},CELL("filename",Sommaire!I19))*{-1;1})+1) -> [programmation de la maintenance.xlsx]
A13: Garde_corps | B13: B4
A14: Ligne_de_vie | B14: B4
A15: =MID(CELL("filename",Sommaire!I20),FIND("[",CELL("filename",Sommaire!I20)),SUM(FIND({"[";"]"},CELL("filename",Sommaire!I20))*{-1;1})+1) -> [programmation de la maintenance.xlsx]
A16: maçonnée | B16: B4
A17: en_pierres_ou_briques | B17: B4
A18: façade_béton_armé | B18: B4
A20: =MID(CELL("filename",Sommaire!I22),FIND("[",CELL("filename",Sommaire!I22)),SUM(FIND({"[";"]"},CELL("filename",Sommaire!I22))*{-1;1})+1) -> [programmation de la maintenance.xlsx]
A21: façade_légère | B21: B4
A22: bardage_métallique | B22: B4
A23: bois | B23: B4
A24: bardage_PVC | B24: B4
A26: RESERVE
A30: =MID(CELL("filename",Sommaire!I25),FIND("[",CELL("filename",Sommaire!I25)),SUM(FIND({"[";"]"},CELL("filename",Sommaire!I25))*{-1;1})+1) -> [programmation de la maintenance.xlsx]
A31: automatique_et_semie_auto | B31: B4
A32: manuels | B32: B4
A33: =MID(CELL("filename",Sommaire!I26),FIND("[",CELL("filename",Sommaire!I26)),SUM(FIND({"[";"]"},CELL("filename",Sommaire!I26))*{-1;1})+1) -> [programmation de la maintenance.xlsx]
A34: portes_en_verre | B34: B4
A35: pivot_de_sol | B35: B4
A37: =MID(CELL("filename",Sommaire!I27),FIND("[",CELL("filename",Sommaire!I27)),SUM(FIND({"[";"]"},CELL("filename",Sommaire!I27))*{-1;1})+1) -> [programmation de la maintenance.xlsx]
A38: volet_persienne_pare_soleil | B38: B4
A39: store | B39: B4
A41: =MID(CELL("filename",Sommaire!I28),FIND("[",CELL("filename",Sommaire!I28)),SUM(FIND({"[";"]"},CELL("filename",Sommaire!I28))*{-1;1})+1) -> [programmation de la maintenance.xlsx]
A42: plaques_de_plâtre | B42: B4
A43: carreau_ou_brique_de_plâtre | B43: B4
A44: cloison_amovible | B44: B4
A46: =MID(CELL("filename",Sommaire!I29),FIND("[",CELL("filename",Sommaire!I29)),SUM(FIND({"[";"]"},CELL("filename",Sommaire!I29))*{-1;1})+1) -> [programmation de la maintenance.xlsx]
A47: plafond_suspendu | B47: B4
A48: plafond_béton_brut | B48: B4
...

Sheet Sommaire
B2: PROGRAMMATION DE LA MAINTENANCE
B4: Nom de l'affaire : | M4: Maitre d'ouvrage :
A5: SOMMAIRE
B7: REFERENTIEL DES TACHES A EFFECTUER | J7: ESTIMATION DES COUTS OPERATIONS DE MAINTENANCE
K8: ESTIMATION
K9: SUIVI DES COUTS
J11: REFERENTIEL DES ENTREPRISES, CONTRATS ET PLANNINGS
B13: DOMAINE | C13: LOTS | D13: OUVRAGES SPECIFIQUES | E13: ELEMENTS | F13: CONCERNE/ NON CONCERNE | G13: IMPORTANCE
B14: GROS ŒUVRE, STRUCTURES | C14: INFRASCTRUCTURE ET STRUCTURE MACONNEE | F14: Concerné
B15: CLOS COUVERT | C15: CHARPENTE | D15: Charpente metallique | E15: charpente_metallique | F15: Concerné | H15: aller à ...
C16: COUVERTURE | D16: Couverture en grands éléments | E16: Plaques_en_acier_ou_alu | F16: Non concerné | H16: =HYPERLINK(paramètres!A1&E16&"!"&VLOOKUP(E16,paramètres!$A$2:$B$5,2,9),"aller à …") -> aller à …
D17: Verrière et ouvrant de toiture | E17: fenêtre_de_toit | F17: Concerné | H17: =HYPERLINK(paramètres!A6&E17&"!"&VLOOKUP(E17,paramètres!$A$7:$B$8,2,9),"aller à …") -> aller à …
D18: Toiture-terrasse | E18: Toiture_terrasse | F18: Non concerné | H18: =HYPERLINK(paramètres!A9&E18&"!"&VLOOKUP(E18,paramètres!$A$10:$B$11,2,9),"aller à …") -> aller à …
D19: Equipement de sécurité | E19: Garde_corps | F19: Non concerné | H19: =HYPERLINK(paramètres!A12&E19&"!"&VLOOKUP(E19,paramètres!$A$13:$B$14,2,9),"aller à …") -> aller à …
C20: FACADES | D20: Façade | E20: maçonnée | F20: Non concerné | H20: =HYPERLINK(paramètres!A15&E20&"!"&VLOOKUP(E20,paramètres!$A$16:$B$18,2,9),"aller à …") -> aller à …
D21: Mur-rideau | E21: mur_rideau | F21: Non concerné | H21: aller à ...
D22: Revêtement de façade | E22: bois | F22: Non concerné | H22: =HYPERLINK(paramètres!A20&E22&"!"&VLOOKUP(E22,paramètres!$A$21:$B$24,2,9),"aller à …") -> aller à …
D23: Balcon maçonné | E23: balcon_maçonné | F23: Non concerné | H23: aller à ...
C24: MENUISERIES EXTERIEURES | D24: Porte et fenêtre | F24: Non concerné
D25: Porte et portail | E25: automatique_et_semie_auto | F25: Non concerné | H25: =HYPERLINK(paramètres!A30&E25&"!"&VLOOKUP(E25,paramètres!$A$31:$B$32,2,9),"aller à …") -> aller à …
D26: Miroiterie | E26: pivot_de_sol | F26: Non concerné | H26: =HYPERLINK(paramètres!A33&E26&"!"&VLOOKUP(E26,paramètres!$A$34:$B$36,2,9),"aller à …") -> aller à …
D27: Occultation | E27: store | F27: Non concerné | H27: =HYPERLINK(paramètres!A37&E27&"!"&VLOOKUP(E27,paramètres!$A$38:$B$40,2,9),"aller à …") -> aller à …
B28: SECOND ŒUVRE | C28: CLOISONS | D28: Cloison, cloison mobile, plaque de plâtre… | E28: cloison_amovible | F28: Non concerné | H28: =HYPERLINK(paramètres!A41&E28&"!"&VLOOKUP(E28,paramètres!$A$42:$B$44,2,9),"aller à …") -> aller à …
C29: PLAFONDS | D29: Plafond suspendu, brut de béton, plaque de plâtre | E29: plafond_suspendu | F29: Non concerné | H29: =HYPERLINK(paramètres!A46&E29&"!"&VLOOKUP(E29,paramètres!$A$47:$B$49,2,9),"aller à …") -> aller à …
C30: REVETEMENTS MUR ET SOL | D30: Carrelage et faïence | E30: carrelage | F30: Non concerné | H30: =HYPERLINK(paramètres!A51&E30&"!"&VLOOKUP(E30,paramètres!$A$52:$B$53,2,9),"aller à …") -> aller à …
D31: Revêtements de sol souple | E31: tapis_et_moquette | F31: Non concerné | H31: =HYPERLINK(paramètres!A54&E31&"!"&VLOOKUP(E31,paramètres!$A$55:$B$59,2,9),"aller à …") -> aller à …
C32: MENUISERIES INTERIEURES | D32: Portes | E32: porte_coupe_feu | F32: Non concerné | H32: =HYPERLINK(paramètres!A61&E32&"!"&VLOOKUP(E32,paramètres!$A$62:$B$64,2,9),"aller à …") -> aller à …
B33: INSTALLATION TECHNIQUE | C33: SERRURERIE - METALLERIE | D33: Garde-corps et barreaudage | E33: Garde-corps et barreaudage | F33: Non concerné | H33: aller à ...
D34: Echelle à crinoline | E34: echelle à crinoline | F34: Non concerné | H34: aller à ...
D35: Escaliers | E35: escalier_en_pierre | F35: Non concerné | H35: =HYPERLINK(paramètres!A65&E35&"!"&VLOOKUP(E35,paramètres!$A$66:$B$69,2,9),"aller à …") -> aller à …
C36: CHAUFFAGE, VENTILATION ET CLIMATISATION | D36: Production de chaleur | E36: régulation | F36: Non concerné | H36: =HYPERLINK(paramètres!A71&E36&"!"&VLOOKUP(vanne!C6,paramètres!$A$72:$B$78,2,9),"aller à …") -> aller à …
D37: Distribution de chaleur | E37: réseau | F37: Non concerné | H37: =HYPERLINK(paramètres!A79&E37&"!"&VLOOKUP(E37,paramètres!$A$80:$B$91,2,0),"aller à …") -> aller à …
D38: VMC | E38: VMC_simple_flux | F38: Non concerné | H38: =HYPERLINK(paramètres!A93&E38&"!"&VLOOKUP(E38,paramètres!$A$94:$B$96,2,0),"aller à …") -> aller à …
D39: Production de froid | E39: groupe_froid | F39: Non concerné | H39: =HYPERLINK(paramètres!A98&E39&"!"&VLOOKUP(E39,paramètres!$A$99:$B$103,2,0),"aller à …") -> aller à …
D40: Distribution de froid | E40: réseau_aéraulique | F40: Non concerné | H40: =HYPERLINK(paramètres!A105&E40&"!"&VLOOKUP(E40,paramètres!$A$106:$B$107,2,0),"aller à …") -> aller à …
C41: PLOMBERIE | D41: Réseau de distribution d'eau sanitaire | E41: appareil_sanitaires | F41: Non concerné | H41: =HYPERLINK(paramètres!A109&E41&"!"&VLOOKUP(E41,paramètres!$A$110:$B$119,2,0),"aller à …") -> aller à …
D42: Eau chaude sanitaire | E42: réseau_ECS | F42: Non concerné | H42: =HYPERLINK(paramètres!A121&E42&"!"&VLOOKUP(E42,paramètres!$A$122:$B$127,2,0),"aller à …") -> aller à …
D43: Réseau d'évacuation | E43: pompe_de_relevage | F43: Non concerné | H43: =HYPERLINK(paramètres!A129&E43&"!"&VLOOKUP(E43,paramètres!$A$130:$B$131,2,0),"aller à …") -> aller à …
C44: ELECTRICITE | D44: Courant fort | E44: luminaires | F44: Non concerné | H44: =HYPERLINK(paramètres!A133&E44&"!"&VLOOKUP(E44,paramètres!$A$134:$B$140,2,0),"aller à …") -> aller à …
D45: Courant faible : informatique et téléphonie | E45: terminal | F45: Non concerné | H45: =HYPERLINK(paramètres!A141&E45&"!"&VLOOKUP(E45,paramètres!$A$142:$B$145,2,0),"aller à …") -> aller à …
...

Sheet charpente_metallique
B2: PROGRAMMATION DE LA MAINTENANCE
B4: Nom de l'affaire : | L4: Maitre d'ouvrage :
A5: TACHES A EFFECTUER
B8: SOMMAIRE
B10: Charpente métallique
B11: durée de vie : 100 ans
B12: Eléments | C12: Type d'entretien | E12: Actions a réaliser | F12: Plannification | H12: Niveau d'intervention | I12: Acteurs | J12: Traçabilité | K12: Références | L12: Observations
C13: Visite de contrôle | D13: Entretien préventif | F13: Fréquence | G13: Periode
B14: Charpente metallique | C14: X | E14: Vérification des assemblages Surveiller la corrosion Vérifier l'absence de déformtion Vérifier l'absence de fuite en toiture | F14: Annuelle | H14: suggérée | I14: technicien | J14: Carnet de traçabilité | K14: Norme NF DTU 32-1 Norme NF P22-202-2
D15: X | E15: Appliquer une peinture antirouille dès l'apparition de trace d'oxydation | G15: selon besoin | H15: suggérée | I15: technicien | L15: Attention à la compatibilité des peintures
B16: Boulonnerie | D16: X | E16: Vérifier et resserrer | F16: Au minimum tous les 5 ans | G16: Après de fortes tempêtes | H16: recommandée | I16: technicien

Sheet Plaques_en_fibro_ciment
B2: PROGRAMMATION DE LA MAINTENANCE
B4: Nom de l'affaire : | L4: Maitre d'ouvrage :
A5: TACHES A EFFECTUER
B8: SOMMAIRE
B10: Plaques ondulées en fibro-ciment
B11: durée de vie : 30 à 40 ans
B12: Eléments | C12: Type d'entretien | E12: Actions a réaliser | F12: Plannification | H12: Niveau d'intervention | I12: Acteurs | J12: Traçabilité | K12: Références | L12: Observations
C13: Visite de contrôle | D13: Entretien préventif | F13: Fréquence | G13: Periode
B14: Surface de la toiture | D14: X | E14: nettoyage et démoussage | F14: Annuelle | H14: recommandée | I14: technicien | J14: Carnet de santé | K14: Recommandation CNAMTS R343 | L14: Risque de présence d'amiante si la construction est antérieure au 1er juillet 1997
C15: X | E15: Vérifier la planitude | F15: 2 ans | H15: Pour mémoire | I15: technicien | L15: absence d'affaissement
B16: Faitieres et bandes de rives | C16: X | E16: Vérifier la bonne fixation | F16: 2 ans | H16: Pour mémoire | I16: technicien
B17: tire -fonds | D17: X | E17: Examen de la tête des tire-fonds Vérifier l'état du mortier de l'embarrure (fissure) | F17: 3 ans | H17: recommandée | I17: couvreur | L17: Dévisser la tête des tire-fonds Seulement en cas de présence d'arêtier ou de noue
B18: Plaques ondulées en fibro-ciment | D18: X | E18: Changer les plaques fissurés Effectuer les peintures d'étanchéité ou d'encapsulage et les reprises de fixations | F18: Selon besoin | H18: obligatoire | I18: couvreur
B19: Eléments d'évacuation : tuyau, regard, gouttière, chéneau | D19: X | E19: Nettoyage et désencombrement Vérifier le bon emboitement et les soudure entre les éléments | F19: Annuelle | H19: recommandée | I19: technicien

Sheet Plaques_en_acier_ou_alu
B2: PROGRAMMATION DE LA MAINTENANCE
B4: Nom de l'affaire : | L4: Maitre d'ouvrage :
A5: TACHES A EFFECTUER
B8: SOMMAIRE
B10: Plaques nervurées en acier ou en aluminium
B11: durée de vie : 30 à 40 ans
B12: Eléments | C12: Type d'entretien | E12: Actions a réaliser | F12: Plannification | H12: Niveau d'intervention | I12: Acteurs | J12: Traçabilité | K12: Références | L12: Observations
C13: Visite de contrôle | D13: Entretien préventif | F13: Fréquence | G13: Periode
B14: Eléments d'évacuation : tuyau, regard, gouttière, chéneau | D14: X | E14: Nettoyage et désencombrement Vérifier le bon emboitement et les soudure entre les éléments | F14: Annuelle | H14: suggérée | I14: technicien | J14: Carnet de santé
B15: Solins, lamiers et bandeaux | C15: X | E15: Vérifier les bandes maçonnées et l'état de la peinture de protection si besoin | F15: Annuelle | H15: suggérée | I15: technicien
B16: Plaques pleines et/ou translucide et plaques en acier | C16: X | E16: Examen visuel de la couverture et des points singuliers Vérifier les jonctions des plaques Effectuer un contrôle des plaques acier et des fixations | F16: 2 ans | H16: Pour mémoire | I16: technicien | L16: Les couvertures métalliques doivent être ventillées en sous-face pour éviter la condensation qui mettrait en danger la charpente
B17: Eléments en acier laqué | D17: X | E17: reprise des fixations et de la peinture | F17: 5 à 7 ans | H17: recommandée | I17: couvreur

Sheet couverture_zinc_ou_cuivre
B2: PROGRAMMATION DE LA MAINTENANCE
B4: Nom de l'affaire : | L4: Maitre d'ouvrage :
A5: TACHES A EFFECTUER
B8: SOMMAIRE
B10: Couverture à feuille métallique en zinc ou en cuivre
B11: durée de vie : 35 à 45 ans pour le zinc, 70 ans pour le cuivre
B12: Eléments | C12: Type d'entretien | E12: Actions a réaliser | F12: Plannification | H12: Niveau d'intervention | I12: Acteurs | J12: Traçabilité | K12: Références | L12: Observations
C13: Visite de contrôle | D13: Entretien préventif | F13: Fréquence | G13: Periode
B14: Eléments d'évacuation : tuyau, regard, gouttière, chéneau | D14: X | E14: Nettoyage et désencombrement Vérifier le bon emboitement et les soudure entre les éléments | F14: Annuelle | H14: recommandée | I14: technicien | J14: Carnet de santé
B15: Solins et rives | C15: X | E15: Vérifier les bandes maçonnées | F15: Annuelle | H15: recommandée | I15: couvreur
B16: Plaques de zinc | C16: X | E16: Examiner les soudures des émergences Vérifier l'absence de dégradation près des cheminées et le bon état du raccord entre brisis et terrasson | F16: Annuelle | H16: recommandée | I16: couvreur | L16: Les couvertures métalliques doivent être ventillées en sous-face pour éviter la condensation qui mettrait en danger la charpente
B17: Les joints | C17: X | E17: Vérifier le positionnement des couvres joints Vérifier l'absence de déformation des joints debout Vérifier l'état général | F17: Annuelle | H17: recommandée | I17: couvreur
B18: Couverture | D18: X | E18: Remplacer les éléments dégradés | F18: 10 à 15 ans | H18: obligatoire | I18: couvreur
C19: X | E19: Contrôler la planéité | F19: 2 ans | H19: Pour mémoire | I19: technicien

Sheet Plaques_translucides
B2: PROGRAMMATION DE LA MAINTENANCE
B4: Nom de l'affaire : | L4: Maitre d'ouvrage :
A5: TACHES A EFFECTUER
B8: SOMMAIRE
B10: Plaques translucides
B11: durée de vie : 10 ans en polyester, 30 à 40 ans en polycarbonate
B12: Eléments | C12: Type d'entretien | E12: Actions a réaliser | F12: Plannification | H12: Niveau d'intervention | I12: Acteurs | J12: Traçabilité | K12: Références | L12: Observations
C13: Visite de contrôle | D13: Entretien préventif | F13: Fréquence | G13: Periode
B14: Eléments d'évacuation : tuyau, regard, gouttière, chéneau | D14: X | E14: Nettoyage et désencombrement Vérifier le bon emboitement et les soudure entre les éléments | F14: Annuelle | H14: recommandée | I14: technicien | J14: Carnet de santé | K14: Recommandation CNAMTS R343
B15: Feuille métallique en zinc ou en cuivre | C15: X | E15: Vérifier l'absence de déformation au droit des fixations et contrôler l'absence de fissuration | F15: 2 ans | H15: suggérée | I15: couvreur

Sheet fenêtre_de_toit
B2: PROGRAMMATION DE LA MAINTENANCE
B4: Nom de l'affaire : | L4: Maitre d'ouvrage :
A5: TACHES A EFFECTUER
B8: SOMMAIRE
B10: Fenêtre de toit
B11: Eléments | C11: Type d'entretien | E11: Actions a réaliser | F11: Plannification | H11: Niveau d'intervention | I11: Acteurs | J11: Traçabilité | K11: Références | L11: Observations
C12: Visite de contrôle | D12: Entretien préventif | F12: Fréquence | G12: Periode
B13: Eléments de rotation de fermeture | D13: X | E13: Nettoyage et lubrifier | F13: Annuelle | H13: suggérée | I13: Technicien spécialisé
B14: Joints d'étanchéité | C14: X | E14: Vérifier l'état | F14: Annuelle | H14: suggérée | I14: Technicien spécialisé
B15: Ouvrant | D15: X | E15: Effectuer le changement (fin de vie du double vitrage | F15: 15 ans | H15: recommandée | I15: Technicien spécialisé
B16: Fenêtre de toit | D16: X | E16: Procéder au renouvellement total | F16: 20 ans | H16: obligatoire | I16: Couvreur

Sheet Verrière
B2: PROGRAMMATION DE LA MAINTENANCE
B4: Nom de l'affaire : | L4: Maitre d'ouvrage :
A5: TACHES A EFFECTUER
B8: SOMMAIRE
B10: Verrière
B11: Eléments | C11: Type d'entretien | E11: Actions a réaliser | F11: Plannification | H11: Niveau d'intervention | I11: Acteurs | J11: Traçabilité | K11: Références | L11: Observations
C12: Visite de contrôle | D12: Entretien préventif | F12: Fréquence | G12: Periode
B13: Verrière | D13: X | E13: Contrôler l'état du vitrage et des joints d'étanchéité Nettoyer le vitrage, les joints périphériques, les gorges d'évacuation et le drainage de la feuillure | F13: 2 ans | H13: suggérée | I13: Couvreur
C14: X | E14: Procéder au changement du vitrage | F14: 15 ans | H14: recommandée | I14: Couvreur

Sheet Toiture_terrasse
B2: PROGRAMMATION DE LA MAINTENANCE
B4: Nom de l'affaire : | L4: Maitre d'ouvrage :
A5: TACHES A EFFECTUER
B8: SOMMAIRE
B10: Toiture-terrasse
B11: Eléments | C11: Type d'entretien | E11: Actions a réaliser | F11: Plannification | H11: Niveau d'intervention | I11: Acteurs | J11: Traçabilité | K11: Références | L11: Observations
C12: Visite de contrôle | D12: Entretien préventif | F12: Fréquence | G12: Periode
B13: Etanchéité | C13: X | E13: Procéder a un contrôle de l'état de l'étanchéité et vérifier qu'aucun élement n'est venu endommager l'étanchéité (y compris les relevés) | F13: annuelle (minimum) OU Semestrielle (idéale) | G13: Après la chute des feuilles | H13: recommandée | I13: Etancheur ou technicien | J13: Carnet de santé | K13: Norme NF P84-204 | L13: Si besoin de réparation : - par rustine en feuille de bitume armée en cas de cloque, percement, ou fissuration de l'étanchéité chaque fois que nécessaire - par reprise d'un lé de protection ou par une couche d'enduit d'application à chaud si la zone est plus grande chaque fois que nécessaire
G14: Après les fortes tempêtes | H14: suggérée
D15: X | E15: Réfection totale | F15: 20 - 30 ou 50 ans (selon qualité de mise en œuvre) | H15: obligatoire | I15: Couvreur
B16: Eléments complémentaires visibles : souches, édicules, lanternaux, acrotères, joints de dilatation | C16: X | E16: Vérifier les élements ainsi que,la présence et le positionnement des grilles pare graviers | F16: annuelle | H16: recommandée | I16: Etancheur ou technicien | L16: Si fonction désenfumage sur le lanternau, voir les normes de sécurité incendie pour les contrôles des dispositifs d'ouverture
B17: Couvertine | C17: X | E17: Vérifier les fixations, le recouvrement… | F17: annuelle | H17: recommandée | I17: Couvreur
B18: Eléments d'évacuation : tuyau, regard, gouttière, chéneau | D18: X | E18: Nettoyage et désencombrement Vérifier le bon emboitement et les soudure entre les éléments | F18: Annuelle | H18: recommandée | I18: technicien

Sheet Toiture_terrasse_végétalisée
B2: PROGRAMMATION DE LA MAINTENANCE
B4: Nom de l'affaire : | L4: Maitre d'ouvrage :
A5: TACHES A EFFECTUER
B8: SOMMAIRE
B10: Toiture-terrasse
B11: Eléments | C11: Type d'entretien | E11: Actions a réaliser | F11: Plannification | H11: Niveau d'intervention | I11: Acteurs | J11: Traçabilité | K11: Références | L11: Observations
C12: Visite de contrôle | D12: Entretien préventif | F12: Fréquence | G12: Periode
B13: Etanchéité | C13: X | E13: Procéder a un contrôle de l'état de l'étanchéité et vérifier qu'aucun élement n'est venu endommager l'étanchéité (y compris,les relevés) | F13: annuelle (minimum) OU Semestrielle (idéale) | G13: Après la chute des feuilles | H13: recommandée | I13: Etancheur ou technicien | J13: Carnet de santé | K13: Norme NF P84-204 | L13: Si besoin de réparation : - par rustine en feuille de bitume armée en cas de cloque, percement, ou fissuration de l'étanchéité chaque fois que nécessaire - par reprise d'un lé de protection ou par une couche d'enduit d'application à chaud si la zone est plus grande chaque fois que nécessaire
G14: Après les fortes tempêtes | H14: suggérée
D15: X | E15: Réfection totale | F15: 20 - 30 ou 50 ans (selon qualité de mise en œuvre) | H15: obligatoire | I15: Couvreur
B16: Eléments complémentaires visibles : souches, édicules, lanternaux, acrotères, joints de dilatation | C16: X | E16: Vérifier les élements ainsi que,la présence et le positionnement des grilles pare graviers | F16: annuelle | H16: recommandée | I16: Etancheur ou technicien | L16: Si fonction désenfumage sur le lanternau, voir les normes de sécurité incendie pour les contrôles des dispositifs d'ouverture
B17: Couvertine | C17: X | E17: Vérifier les fixations, le recouvrement… | F17: annuelle | H17: recommandée | I17: Couvreur
B18: Végétalisation | D18: X | E18: Désherbage, fertilisation et enlèvement des éléments morts ou abîmés | F18: annuelle | H18: suggérée | I18: Jardinier | L18: La végétalisation d'une toiture-terrasse augmente sa durée de vie (durée de vie 40 à 50 ans)
B19: Système de drainage | C19: X | E19: Contrôle du bon fonctionnement du système | F19: annuelle | H19: suggérée | I19: Technicien
B20: Eléments d'évacuation : tuyau, regard, gouttière, chéneau | D20: X | E20: Nettoyage et désencombrement Vérifier le bon emboitement et les soudure entre les éléments | F20: Annuelle | H20: recommandée | I20: technicien

Sheet Garde_corps
B2: PROGRAMMATION DE LA MAINTENANCE
B4: Nom de l'affaire : | L4: Maitre d'ouvrage :
A5: TACHES A EFFECTUER
B8: SOMMAIRE
B10: Garde-corps
B11: durée de vie : 50 ans
B12: Eléments | C12: Type d'entretien | E12: Actions a réaliser | F12: Plannification | H12: Niveau d'intervention | I12: Acteurs | J12: Traçabilité | K12: Références | L12: Observations
C13: Visite de contrôle | D13: Entretien préventif | F13: Fréquence | G13: Periode
B14: Garde-corps | C14: X | E14: Procéder au contrôle de la structure, continuité, fixations ou fourreaux éventuels Contrôler la facilité de manœuvre et l'absence de risque pour les garde-corps relevables | F14: Annuelle | H14: suggérée | I14: Technicien | J14: Carnet de santé | K14: Norme NF E 85-015 | L14: Les garde-corps etant des protections passives, il n'y a pas d'obligation légale de maintenance
D15: X | E15: Mise en peinture | F15: 7 à 10 ans | H15: Pour mémoire | I15: Technicien | L15: Si les garde-corps ne sont pas galvanisés à chaud ou en aluminium
B16: Dispsositif d'ancrage | C16: X | E16: Procéder à un examen de contrôle Vérifier l'état des structures d'acceuil | F16: Annuelle | H16: recommandée | I16: Technicien | J16: Carnet de santé et Registre de sécurité | K16: Norme NF EN 795 Recommandation CNAMTS R430 | L16: Maintenance selon les instructions du fournisseur ou de l'installateur

Sheet Ligne_de_vie
B2: PROGRAMMATION DE LA MAINTENANCE
B4: Nom de l'affaire : | L4: Maitre d'ouvrage :
A5: TACHES A EFFECTUER
B8: SOMMAIRE
B10: Ligne de vie et rail d'assurage
B11: Eléments | C11: Type d'entretien | E11: Actions a réaliser | F11: Plannification | H11: Niveau d'intervention | I11: Acteurs | J11: Traçabilité | K11: Références | L11: Observations
C12: Visite de contrôle | D12: Entretien préventif | F12: Fréquence | G12: Periode
B13: Ligne de vie et rail d'assurage | D13: X | E13: Examen de détection d'anomalie naissante (amorce de rouille, décollement d'une piéce d'étanchéité, états des éléménts de fixation…) | F13: Annuelle | H13: recommandée | I13: Technicien | J13: Carnet de santé Registre de sécurité | K13: Décret n°2004-924 Norme NF EN 795 Recommandation CNAMTS R430 | L13: Maintenance selon les instructions du fournisseur ou de l'installateur Procéder à un examen visuel avant chaque utilisation
B14: Dispsositif d'ancrage | C14: X | E14: Procéder à un examen de contrôle Vérifier l'état des structures d'acceuil | F14: Annuelle | H14: recommandée | I14: Technicien | J14: Carnet de santé et Registre de sécurité | K14: Norme NF EN 795 Recommandation CNAMTS R430 | L14: Maintenance selon les instructions du fournisseur ou de l'installateur

Sheet maçonnée
B2: PROGRAMMATION DE LA MAINTENANCE
B4: Nom de l'affaire : | L4: Maitre d'ouvrage :
A5: TACHES A EFFECTUER
B8: SOMMAIRE
B10: Façade maçonnée
B11: Eléments | C11: Type d'entretien | E11: Actions a réaliser | F11: Plannification | H11: Niveau d'intervention | I11: Acteurs | J11: Traçabilité | K11: Références | L11: Observations
C12: Visite de contrôle | D12: Entretien préventif | F12: Fréquence | G12: Periode
B13: Façade | C13: X | E13: Vérifier l'absence de fissure (angle, chaînage, linteau…) Vérifier l'absence de taches d'humidité, de faïençage Supprimer les mousses et salissures sur les élements en saillie du nu de la façade | F13: Annuelle | H13: Pour mémoire | I13: Technicien | L13: Entretien visuel Si la fissure affecte la structure et pas seulement l'enduit, poser un témoin pour surveiller l'évolution
D14: X | E14: Effectuer un ravalement | F14: Selon besoin (décennale à Paris) | H14: recommandée | I14: Entreprise spécialisée | K14: CCH, art. L. 132-1 à 5 (Obligation pour Paris)

Sheet en_pierres_ou_briques
B2: PROGRAMMATION DE LA MAINTENANCE
B4: Nom de l'affaire : | L4: Maitre d'ouvrage :
A5: TACHES A EFFECTUER
B8: SOMMAIRE
B10: Façade en pierres et briques apparentes
B11: Eléments | C11: Type d'entretien | E11: Actions a réaliser | F11: Plannification | H11: Niveau d'intervention | I11: Acteurs | J11: Traçabilité | K11: Références | L11: Observations
C12: Visite de contrôle | D12: Entretien préventif | F12: Fréquence | G12: Periode
B13: Façade | C13: X | E13: Examiner les joints | F13: 2 ans | H13: suggérée | I13: Technicien
D14: X | E14: Nettoyer les pierres et les briques, changer les éléments abîmés et refaire les joints Vérifier l'absence de fissures | F14: Selon besoin (décennale à Paris) | H14: recommandée | I14: Entreprise spécialisée | K14: CCH, art. L. 132-1 à 5 (Obligation pour Paris) | L14: Si la fissure affecte la structure, poser un témoin pour surveiller l'évolution

Sheet façade_béton_armé
B2: PROGRAMMATION DE LA MAINTENANCE
B4: Nom de l'affaire : | L4: Maitre d'ouvrage :
A5: TACHES A EFFECTUER
B8: SOMMAIRE
B10: Façade en béton armé
B11: Eléments | C11: Type d'entretien | E11: Actions a réaliser | F11: Plannification | H11: Niveau d'intervention | I11: Acteurs | J11: Traçabilité | K11: Références | L11: Observations
C12: Visite de contrôle | D12: Entretien préventif | F12: Fréquence | G12: Periode
B13: Façade | C13: X | E13: Examiner les dispositifs de calfeutrement des joints de dilatation et vérifier l'absence d'éclatement | F13: Annuelle | H13: suggérée | I13: Technicien
D14: X | E14: Nettoyer ou peindre selon finition | F14: Selon besoin (décennale à Paris) | H14: recommandée | I14: Entreprise spécialisée | K14: CCH, art. L. 132-1 à 5 (Obligation pour Paris) | L14: Ne pas effectuer de nettoyage à haute pression

Sheet mur_rideau
B2: PROGRAMMATION DE LA MAINTENANCE
B4: Nom de l'affaire : | L4: Maitre d'ouvrage :
A5: TACHES A EFFECTUER
B8: SOMMAIRE
B10: Mur-rideau
B11: durée de vie : 25 à 30 ans
B12: Eléments | C12: Type d'entretien | E12: Actions a réaliser | F12: Plannification | H12: Niveau d'intervention | I12: Acteurs | J12: Traçabilité | K12: Références | L12: Observations
C13: Visite de contrôle | D13: Entretien préventif | F13: Fréquence | G13: Periode
B14: Panneaux en verres | D14: X | E14: Nettoyer les panneaux verriers | F14: Annuelle | H14: recommandée | I14: Technicien qualifié
D15: X | E15: Changer des éléments verriers si de la buée est présente à l'intérieur du double vitrage | F15: selon besoin 10 à 15 ans | H15: recommandée | I15: Miroitier
B16: joints d'étanchéité | C16: X | E16: Vérifier l'état Vérifier la géométrie de l'ensemble (rupture de fixations) | F16: Annuelle | H16: recommandée | I16: Technicien qualifié | L16: Refaire les joints et le mastic d'étanchéité selon besoin Examen visuel associée au nettoyage des vitres

Sheet façade_légère
B2: PROGRAMMATION DE LA MAINTENANCE
B4: Nom de l'affaire : | L4: Maitre d'ouvrage :
A5: TACHES A EFFECTUER
B8: SOMMAIRE
B10: Tout type de façade légère
B11: Eléments | C11: Type d'entretien | E11: Actions a réaliser | F11: Plannification | H11: Niveau d'intervention | I11: Acteurs | J11: Traçabilité | K11: Références | L11: Observations
C12: Visite de contrôle | D12: Entretien préventif | F12: Fréquence | G12: Periode
B13: Ensemble du montage | C13: X | E13: Vérifier et réviser | F13: 15 ans | H13: recommandée | I13: Technicien spécialisé | J13: Carnet de santé
B14: Système de fixations | C14: X | E14: Vérifier la bonne tenue | F14: 7 ans | H14: recommandée | I14: Technicien | J14: Carnet de santé

Sheet bardage_métallique
B2: PROGRAMMATION DE LA MAINTENANCE
B4: Nom de l'affaire : | L4: Maitre d'ouvrage :
A5: TACHES A EFFECTUER
B8: SOMMAIRE
B10: Bardage métallique
B11: durée de vie : 35 ans
B12: Eléments | C12: Type d'entretien | E12: Actions a réaliser | F12: Plannification | H12: Niveau d'intervention | I12: Acteurs | J12: Traçabilité | K12: Références | L12: Observations
C13: Visite de contrôle | D13: Entretien préventif | F13: Fréquence | G13: Periode
B14: Façade | D14: X | E14: Netoyer les soubassements | F14: Annuelle | H14: Pour mémoire | I14: Technicien | J14: Carnet de santé
B15: Lame/plaque en métal | C15: X | E15: Vérifier les fixations Vérifier l'absence de points de corrosion | F15: Annuelle | H15: suggérée | I15: Technicien | J15: Carnet de santé | L15: En cas de choc ou de corrosion, faire une reprise de peinture
B16: Vêtage | C16: X | E16: Vérifier l'état de la zone d'attache Vérifier l'étanchéité des points singulier Observer la planéité des éléments agrafés Vérifier qu'il n'y a pas mise en charge d'une zone par la rangée supérieure | F16: Annuelle | H16: recommandée | I16: Technicien | J16: Carnet de santé
B17: Vêture | C17: X | E17: Vérifier le bon état des joints ou du recouvrement entre les éléments pour éviter la dégradation de l'isolant Vérifier l'étanchéité aux points singulier (baies, angle…) Observer la planéité du bardage | F17: Annuelle | H17: suggérée | I17: Technicien | J17: Carnet de santé

Sheet bois
B2: PROGRAMMATION DE LA MAINTENANCE
B4: Nom de l'affaire : | L4: Maitre d'ouvrage :
A5: TACHES A EFFECTUER
B8: SOMMAIRE
B10: Bardage bois
B11: durée de vie : bardage bois 35 ans
B12: Eléments | C12: Type d'entretien | E12: Actions a réaliser | F12: Plannification | H12: Niveau d'intervention | I12: Acteurs | J12: Traçabilité | K12: Références | L12: Observations
C13: Visite de contrôle | D13: Entretien préventif | F13: Fréquence | G13: Periode
B14: Façade | D14: X | E14: Netoyer les soubassements | F14: Annuelle | H14: Pour mémoire | I14: Technicien | J14: Carnet de santé
B15: Lame/plaque en bois | C15: X | E15: Vérifier les fixations et le recouvrement | F15: Annuelle | H15: suggérée | I15: Technicien | J15: Carnet de santé
D16: X | E16: Refaire la peinture ou appliquer un traitement | F16: Selon besoin | H16: suggérée
B17: Vêtage | C17: X | E17: Vérifier l'état de la zone d'attache Vérifier l'étanchéité des points singulier Observer la planéité des éléments agrafés Vérifier qu'il n'y a pas mise en charge d'une zone par la rangée supérieure | F17: Annuelle | H17: recommandée | I17: Technicien | J17: Carnet de santé
B18: Vêture | C18: X | E18: Vérifier le bon état des joints ou du recouvrement entre les éléments pour éviter la dégradation de l'isolant Vérifier l'étanchéité aux points singulier (baies, angle…) Observer la planéité du bardage | F18: Annuelle | H18: suggérée | I18: Technicien | J18: Carnet de santé

Sheet bardage_PVC
B2: PROGRAMMATION DE LA MAINTENANCE
B4: Nom de l'affaire : | L4: Maitre d'ouvrage :
A5: TACHES A EFFECTUER
B8: SOMMAIRE
B10: Bardage PVC
B11: durée de vie : bardage PVC 35 ans
B12: Eléments | C12: Type d'entretien | E12: Actions a réaliser | F12: Plannification | H12: Niveau d'intervention | I12: Acteurs | J12: Traçabilité | K12: Références | L12: Observations
C13: Visite de contrôle | D13: Entretien préventif | F13: Fréquence | G13: Periode
B14: Façade | D14: X | E14: Netoyer les soubassements | F14: Annuelle | H14: Pour mémoire | I14: Technicien | J14: Carnet de santé
B15: Lame/plaque en PVC | C15: X | E15: Vérifier les fixations et le recouvrement | F15: Annuelle | H15: suggérée | I15: Technicien | J15: Carnet de santé
D16: X | E16: Nettoyer | F16: Selon besoin | H16: suggérée
B17: Vêtage | C17: X | E17: Vérifier l'état de la zone d'attache Vérifier l'étanchéité des points singulier Observer la planéité des éléments agrafés Vérifier qu'il n'y a pas mise en charge d'une zone par la rangée supérieure | F17: Annuelle | H17: recommandée | I17: Technicien | J17: Carnet de santé
B18: Vêture | C18: X | E18: Vérifier le bon état des joints ou du recouvrement entre les éléments pour éviter la dégradation de l'isolant Vérifier l'étanchéité aux points singulier (baies, angle…) Observer la planéité du bardage | F18: Annuelle | H18: suggérée | I18: Technicien | J18: Carnet de santé

Sheet balcon_maçonné
B2: PROGRAMMATION DE LA MAINTENANCE
B4: Nom de l'affaire : | L4: Maitre d'ouvrage :
A5: TACHES A EFFECTUER
B8: SOMMAIRE
B10: Balcon maçonné
B11: Eléments | C11: Type d'entretien | E11: Actions a réaliser | F11: Plannification | H11: Niveau d'intervention | I11: Acteurs | J11: Traçabilité | K11: Références | L11: Observations
C12: Visite de contrôle | D12: Entretien préventif | F12: Fréquence | G12: Periode
B13: Eléménts d'évacuation | D13: X | E13: Déboucher les orifices d'évacuation des eaux pluviales | F13: Semestrielle | H13: Pour mémoire | I13: Utilisateur
B14: Balcon | C14: X | E14: Vérifier l'absence de fissuration en jonction avec la façade Contrôler l'absence d'éclatement de béton Enlever l'eventuelle mousse | F14: Annuelle | H14: suggérée | I14: Technicien
B15: Garde-corps | C15: X | E15: Contrôler le scellement | F15: Annuelle | H15: suggérée | I15: Technicien

Sheet menuiseries_ext_bois
B2: SOMMAIRE
B4: Porte, fenêtre
B5: Actions a réaliser | C5: Fréquence | D5: Periode | E5: Niveau | I5: Acteurs | J5: Traçabilité | K5: Références | L5: Observations
E6: 1 | F6: 2 | G6: 3 | H6: 4
B7: Nettoyer l'ensemble de la menuiserie | C7: Annuelle | F7: x | I7: Technicien | J7: Carnet de santé
B8: Repeindre les menuiseries bois | C8: Lasure 3 ans, Peinture 5 à 7 ans selon exposition | F8: x | I8: peintre
B9: Face extérieur
B10: Actions a réaliser | C10: Fréquence | D10: Periode | E10: Niveau | I10: Acteurs | J10: Traçabilité | K10: Références | L10: Observations
E11: 1 | F11: 2 | G11: 3 | H11: 4
B12: Vérifier les joints d'étanchéité et de liaison avec la maçonnerie, les pièces d'appuis et de rejet d'eau | C12: Annuelle | F12: x | I12: Technicien | J12: Carnet de santé | L12: Si équipement en alu, vérifier la présence des busettes à clapet devant les orifices extérieurs des trous d'évacuation des buées
B13: Joint vitrage
B14: Actions a réaliser | C14: Fréquence | D14: Periode | E14: Niveau | I14: Acteurs | J14: Traçabilité | K14: Références | L14: Observations
E15: 1 | F15: 2 | G15: 3 | H15: 4
B16: Vérifier leurs présence, état et bon positionnement | C16: Annuelle | F16: x | I16: Technicien | J16: Carnet de santé
B17: Ouvrant
B18: Actions a réaliser | C18: Fréquence | D18: Periode | E18: Niveau | I18: Acteurs | J18: Traçabilité | K18: Références | L18: Observations
E19: 1 | F19: 2 | G19: 3 | H19: 4
B20: Vérifier le bon fonctionnement Vérifier les joints de calfeutrement Nettoyer les grilles d'entrée d'air | C20: Annuelle | F20: x | I20: Technicien | J20: Carnet de santé
B21: Effectuer un réglage complet | C21: 2 à 5 ans selon utilisation | G21: x | I21: Menuisier | J21: Carnet de santé
B22: Baie coulissante
B23: durée de vie : 20 ans
B24: Actions a réaliser | C24: Fréquence | D24: Periode | E24: Niveau | I24: Acteurs | J24: Traçabilité | K24: Références | L24: Observations
E25: 1 | F25: 2 | G25: 3 | H25: 4
B26: Nettoyer les rails | C26: Selon besoin | E26: x | I26: Personnel d'entretien
B27: Verifier le bon fonctionnement Nettoyer et lubrifier la quincaillerie, les grilles d'entrée d'airvet le systéme de roulement Vérifier les joints d'étanchéité | C27: Annuelle | E27: x | I27: Personnel d'entretien
B28: Oscillo-battant
B29: Actions a réaliser | C29: Fréquence | D29: Periode | E29: Niveau | I29: Acteurs | J29: Traçabilité | K29: Références | L29: Observations
E30: 1 | F30: 2 | G30: 3 | H30: 4
B31: Vérifier le systéme de sécurité interdisant la mise en drapeau | C31: Annuelle | E31: x | I31: Technicien | J31: Carnet de santé

Sheet menuiseries_ext_PVC
B2: SOMMAIRE
B4: Porte, fenêtre
B5: Actions a réaliser | C5: Fréquence | D5: Periode | E5: Niveau | I5: Acteurs | J5: Traçabilité | K5: Références | L5: Observations
E6: 1 | F6: 2 | G6: 3 | H6: 4
B7: Nettoyer l'ensemble de la menuiserie | C7: Annuelle | F7: x | I7: Technicien | J7: Carnet de santé
B8: Repeindre les menuiseries bois | C8: Lasure 3 ans, Peinture 5 à 7 ans selon exposition | F8: x | I8: peintre
B9: Face extérieur
B10: Actions a réaliser | C10: Fréquence | D10: Periode | E10: Niveau | I10: Acteurs | J10: Traçabilité | K10: Références | L10: Observations
E11: 1 | F11: 2 | G11: 3 | H11: 4
B12: Vérifier les joints d'étanchéité et de liaison avec la maçonnerie, les pièces d'appuis et de rejet d'eau | C12: Annuelle | F12: x | I12: Technicien | J12: Carnet de santé | L12: Si équipement en alu, vérifier la présence des busettes à clapet devant les orifices extérieurs des trous d'évacuation des buées
B13: Joint vitrage
B14: Actions a réaliser | C14: Fréquence | D14: Periode | E14: Niveau | I14: Acteurs | J14: Traçabilité | K14: Références | L14: Observations
E15: 1 | F15: 2 | G15: 3 | H15: 4
B16: Vérifier leurs présence, état et bon positionnement | C16: Annuelle | F16: x | I16: Technicien | J16: Carnet de santé
B17: Ouvrant
B18: Actions a réaliser | C18: Fréquence | D18: Periode | E18: Niveau | I18: Acteurs | J18: Traçabilité | K18: Références | L18: Observations
E19: 1 | F19: 2 | G19: 3 | H19: 4
B20: Vérifier le bon fonctionnement Vérifier les joints de calfeutrement Nettoyer les grilles d'entrée d'air | C20: Annuelle | F20: x | I20: Technicien | J20: Carnet de santé
B21: Effectuer un réglage complet | C21: 2 à 5 ans selon utilisation | G21: x | I21: Menuisier | J21: Carnet de santé
B22: Baie coulissante
B23: durée de vie : 20 ans
B24: Actions a réaliser | C24: Fréquence | D24: Periode | E24: Niveau | I24: Acteurs | J24: Traçabilité | K24: Références | L24: Observations
E25: 1 | F25: 2 | G25: 3 | H25: 4
B26: Nettoyer les rails | C26: Selon besoin | E26: x | I26: Personnel d'entretien
B27: Verifier le bon fonctionnement Nettoyer et lubrifier la quincaillerie, les grilles d'entrée d'airvet le systéme de roulement Vérifier les joints d'étanchéité | C27: Annuelle | E27: x | I27: Personnel d'entretien
B28: Oscillo-battant
B29: Actions a réaliser | C29: Fréquence | D29: Periode | E29: Niveau | I29: Acteurs | J29: Traçabilité | K29: Références | L29: Observations
E30: 1 | F30: 2 | G30: 3 | H30: 4
B31: Vérifier le systéme de sécurité interdisant la mise en drapeau | C31: Annuelle | E31: x | I31: Technicien | J31: Carnet de santé

Sheet baie_coulissante
B2: SOMMAIRE
B4: Face extérieur
B5: Actions a réaliser | C5: Fréquence | D5: Periode | E5: Niveau | I5: Acteurs | J5: Traçabilité | K5: Références | L5: Observations
E6: 1 | F6: 2 | G6: 3 | H6: 4
B7: Vérifier les joints d'étanchéité et de liaison avec la maçonnerie, les pièces d'appuis et de rejet d'eau | C7: Annuelle | F7: x | I7: Technicien | J7: Carnet de santé | L7: Si équipement en alu, vérifier la présence des busettes à clapet devant les orifices extérieurs des trous d'évacuation des buées
B8: Joint vitrage
B9: Actions a réaliser | C9: Fréquence | D9: Periode | E9: Niveau | I9: Acteurs | J9: Traçabilité | K9: Références | L9: Observations
E10: 1 | F10: 2 | G10: 3 | H10: 4
B11: Vérifier leurs présence, état et bon positionnement | C11: Annuelle | F11: x | I11: Technicien | J11: Carnet de santé
B12: Ouvrant
B13: Actions a réaliser | C13: Fréquence | D13: Periode | E13: Niveau | I13: Acteurs | J13: Traçabilité | K13: Références | L13: Observations
E14: 1 | F14: 2 | G14: 3 | H14: 4
B15: Vérifier le bon fonctionnement Vérifier les joints de calfeutrement Nettoyer les grilles d'entrée d'air | C15: Annuelle | F15: x | I15: Technicien | J15: Carnet de santé
B16: Effectuer un réglage complet | C16: 2 à 5 ans selon utilisation | G16: x | I16: Menuisier | J16: Carnet de santé
B17: Baie coulissante
B18: durée de vie : 20 ans
B19: Actions a réaliser | C19: Fréquence | D19: Periode | E19: Niveau | I19: Acteurs | J19: Traçabilité | K19: Références | L19: Observations
E20: 1 | F20: 2 | G20: 3 | H20: 4
B21: Nettoyer les rails | C21: Selon besoin | E21: x | I21: Personnel d'entretien
B22: Verifier le bon fonctionnement Nettoyer et lubrifier la quincaillerie, les grilles d'entrée d'airvet le systéme de roulement Vérifier les joints d'étanchéité | C22: Annuelle | E22: x | I22: Personnel d'entretien
B23: Oscillo-battant
B24: Actions a réaliser | C24: Fréquence | D24: Periode | E24: Niveau | I24: Acteurs | J24: Traçabilité | K24: Références | L24: Observations
E25: 1 | F25: 2 | G25: 3 | H25: 4
B26: Vérifier le systéme de sécurité interdisant la mise en drapeau | C26: Annuelle | E26: x | I26: Technicien | J26: Carnet de santé

Sheet automatique_et_semie_auto
B2: SOMMAIRE
B4: Porte et portail automatiques, semi-automatiques
B5: Actions a réaliser | C5: Fréquence | D5: Periode | E5: Niveau | I5: Acteurs | J5: Traçabilité | K5: Références | L5: Observations
E6: 1 | F6: 2 | G6: 3 | H6: 4
B7: Entretenir et vérifier les éléments du portail (guidage, articulations, cellules, les organes de commandes, la vitesse, le moteur, les éléments courants à la sécurité de fonctionnement…) | C7: Semestrielle | G7: x | I7: Technicien ou entreprise qualifié | J7: Livret d'entretien | K7: C. Trav;art.R.4224-12 Arrêté du 21 déc 1993, art.9
B8: Porte automatique servant d'issue de secours
B9: Actions a réaliser | C9: Fréquence | D9: Periode | E9: Niveau | I9: Acteurs | J9: Traçabilité | K9: Références | L9: Observations
E10: 1 | F10: 2 | G10: 3 | H10: 4
B11: Exécuter les actions précédentes, mais effectuer en plus un test d'ouverture de secours et contrôler le boîtier de commande d'urgence | C11: Semestrielle | G11: x | I11: Technicien ou entreprise qualifié | J11: Livret d'entretien | K11: Règlement SI pour les ERP, art.CO48,§3 Arrêté du 21 décembre 1993, art10 et du 10 novembre 1994 | L11: Les portes automatiques doivent faire l'objet d'un contrat d'entretien Les portes automatiques de façades sont asservies à la détection automatique (incendie) et doivent être contrôlées dans le cadre des vérifications du SSI
B12: Porte automatique de garage
B13: durée de vie : 10 à 20 ans selon usage
B14: Actions a réaliser | C14: Fréquence | D14: Periode | E14: Niveau | I14: Acteurs | J14: Traçabilité | K14: Références | L14: Observations
E15: 1 | F15: 2 | G15: 3 | H15: 4
B16: Entretien : Nettoyer, graisser, régler les organes mécaniques, électriaues, électroniques Réparer ou remplacer les pièces constituant les systèmes de sécurité hors d'usage ou usées : barres palpeuses, cellules phto-éléectriques, limiteurs de couple mécaniques ou électro-mécaniques, câbles, systèmes empêchant la chute du tablier, organes de commande et télécommande pour la partie récepteur | C16: Semestrielle | G16: x | J16: Livret d'entretien | K16: Arrêté du 12 novembre 1990 | L16: Obligation pour le propriétaire d'avoi un constat d'entretien, art.R.125-5 du CCH Conformité selon l'art.R.125-3-1 du CCH
B17: Visite périodique : Vérifier le bon fonctionnement des dispositifs de sécurité Vérifier le bon fonctionnement du débrayage manuel Vérifier le bon fonctionnement du limiteur d'effort Vérifier les articulations (charnières, pivots…) Vérifier les cycles de fonctionnement dans les zones d'accostage Vérifier le bon fonctionnement et l'état de la signalisation Vérifier les éléments de transmission du mouvement Lubrifier et effectuer les réglages nécessaires au bon fonctionnement Vérifier l'opérateur (moto réducteur électrique...) Effectuer un examen général du fonctionnement de la porte | C17: Semestrielle | G17: x
B18: Le verrouillage de la porte Les éléments de guidage Les organes de commandes Les systèmes d'équilibrage L'armoire de commande et ses composants La fixation de la porte Le fonctionnement du sytéme empêchant la chute du tablier L'état des peintures et de la corrosion | C18: Annuelle | G18: x

Sheet manuels
B2: SOMMAIRE
B4: Porte et portail manuels
B5: Actions a réaliser | C5: Fréquence | D5: Periode | E5: Niveau | I5: Acteurs | J5: Traçabilité | K5: Références | L5: Observations
E6: 1 | F6: 2 | G6: 3 | H6: 4
B7: Vérifier le bon fonctionnement et l'état général Vérifier les articulations des éléments de guidage Vérifier le systéme d'équilibrage si besoin Lubrifier et effectuer les réglages nécessaires au bon fonctionnement | C7: Annuelle | F7: x | I7: Technicien ou entreprise qualifié | L7: Périodicité appropriée selon l'art.R.4224-12,C.trav. Nécessité d'adapter la périodicité à la fréquence et au type d'utilisation

Sheet portes_en_verre
B2: SOMMAIRE
B4: Portes en verre
B5: Actions a réaliser | C5: Fréquence | D5: Periode | E5: Niveau | I5: Acteurs | J5: Traçabilité | K5: Références | L5: Observations
E6: 1 | F6: 2 | G6: 3 | H6: 4
B7: Vérifier le jeu entre les ouvrants Vérifier le serrage et le dispsoitif de pose des serrures Vérifier le joint en caoutchouc | C7: Annuelle | F7: x | I7: Miroitier ou technicien | L7: Les serrures de milieu sont préférables aux serrures basses qui sont peu confortables

Sheet pivot_de_sol
B2: SOMMAIRE
B4: Pivot de sol
B5: Actions a réaliser | C5: Fréquence | D5: Periode | E5: Niveau | I5: Acteurs | J5: Traçabilité | K5: Références | L5: Observations
E6: 1 | F6: 2 | G6: 3 | H6: 4
B7: Nettoyer le mécanisme Régler la vitesse de fermeture Vérifier le bon état | C7: Annuelle | G7: x | I7: Miroitier ou technicien

Sheet volet_persienne_pare_soleil
B2: SOMMAIRE
B4: Pare-soleil, volet, persienne, jalousie et volet roulant PVC/Alu/bois/métal(hors alu)
B5: durée de vie moyenne des volets, persiennes et jalousies : 30 ans (60 ans pour volets bois pleins et enrouleurs bois)
B6: Actions a réaliser | C6: Fréquence | D6: Periode | E6: Niveau | I6: Acteurs | J6: Traçabilité | K6: Références | L6: Observations
E7: 1 | F7: 2 | G7: 3 | H7: 4
B8: Vérifier les dispositifs d'ouverture/fermeture Contrôler la corrosion des pièces métalliques Si les éléments motorisés, les essayer et régler la fin de course Nettoyer et vérifier les guidages et enrouleurs | C8: Annuelle | G8: x | I8: Technicien | L8: Le technicien doit être formé aux travaux en hauteur
B9: Effectuer l'entretien du bois | C9: Lasure 3 ans, si peinture 5 à 7 ans | G9: x | I9: peintre | L9: Si élément en bois
B10: Repeindre | C10: 5 à 7 ans | G10: x | I10: peintre | L10: Sur élément en métal (hors alu)
B11: changement du moteur | C11: 10 ans | G11: x | L11: Si motorisé
B12: Volet ou panneau coulissant
B13: Actions a réaliser | C13: Fréquence | D13: Periode | E13: Niveau | I13: Acteurs | J13: Traçabilité | K13: Références | L13: Observations
E14: 1 | F14: 2 | G14: 3 | H14: 4
B15: Contrôler et graisser les fixations et les élements de roulement | C15: Annuelle | G15: x
B16: Appliquer traitement ou peinture | C16: 5 à 7 ans | G16: x

Sheet store
B2: SOMMAIRE
B4: Store en toile ou intisé
B5: Actions a réaliser | C5: Fréquence | D5: Periode | E5: Niveau | I5: Acteurs | J5: Traçabilité | K5: Références | L5: Observations
E6: 1 | F6: 2 | G6: 3 | H6: 4
B7: Vérifier les dispositifs d'ouverture/fermeture Nettoyer la toile, les guidages et enrouleurs | C7: Annuelle | G7: x | I7: Technicien
B8: Contrôler les attaches Changer la toile | C8: 5 ans selon exposition | G8: x | I8: Technicien
B9: Effectuer un changement complet | C9: 5 à 12 ans selon entretien et utilisation | G9: x | I9: Technicien

Sheet plaques_de_plâtre
B2: SOMMAIRE
B4: Tout type de cloison
B5: durée de vie : 30 à 50 ans
B6: Actions a réaliser | C6: Fréquence | D6: Periode | E6: Niveau | I6: Acteurs | J6: Traçabilité | K6: Références | L6: Observations
E7: 1 | F7: 2 | G7: 3 | H7: 4
B8: Vérifier la planéité, l'absence d'humidité Contrôler l'état de la protection | C8: Annuelle | E8: x | I8: Technicien | J8: Carnet de santé | L8: Attention a la conservation éventuelle du degré coupe-feu lors de travaux de passage de câbles, gaines et tuyaux
B9: Plaque de plâtre
B10: Actions a réaliser | C10: Fréquence | D10: Periode | E10: Niveau | I10: Acteurs | J10: Traçabilité | K10: Références | L10: Observations
E11: 1 | F11: 2 | G11: 3 | H11: 4
B12: Contrôler et reboucher d'éventuelles fissures aux joints entre plaques Effectuer une éventuelle reprise des bandes de joints | C12: 7 ans | G12: x | I12: Plâtrier | J12: Carnet de santé | L12: Attention a la conservation éventuelle du degré coupe-feu lors de travaux de passage de câbles, gaines et tuyaux

Sheet carreau_ou_brique_de_plâtre
B2: SOMMAIRE
B4: Tout type de cloison
B5: durée de vie : 30 à 50 ans
B6: Actions a réaliser | C6: Fréquence | D6: Periode | E6: Niveau | I6: Acteurs | J6: Traçabilité | K6: Références | L6: Observations
E7: 1 | F7: 2 | G7: 3 | H7: 4
B8: Vérifier la planéité, l'absence d'humidité Contrôler l'état de la protection | C8: Annuelle | E8: x | I8: Technicien | J8: Carnet de santé | L8: Attention a la conservation éventuelle du degré coupe-feu lors de travaux de passage de câbles, gaines et tuyaux
B9: Carreau de plâtre/Brique plâtrière
B10: Actions a réaliser | C10: Fréquence | D10: Periode | E10: Niveau | I10: Acteurs | J10: Traçabilité | K10: Références | L10: Observations
E11: 1 | F11: 2 | G11: 3 | H11: 4
B12: Contrôler et reboucher d'éventuelles fissures | C12: 10 ans | I12: Plâtrier | J12: Carnet de santé | L12: Attention a la conservation éventuelle du degré coupe-feu lors de travaux de passage de câbles, gaines et tuyaux

Sheet cloison_amovible
B2: SOMMAIRE
B4: Tout type de cloison
B5: durée de vie : 30 à 50 ans
B6: Actions a réaliser | C6: Fréquence | D6: Periode | E6: Niveau | I6: Acteurs | J6: Traçabilité | K6: Références | L6: Observations
E7: 1 | F7: 2 | G7: 3 | H7: 4
B8: Vérifier la planéité, l'absence d'humidité Contrôler l'état de la protection | C8: Annuelle | E8: x | I8: Technicien | J8: Carnet de santé | L8: Attention a la conservation éventuelle du degré coupe-feu lors de travaux de passage de câbles, gaines et tuyaux
B9: Cloison mobile
B10: Actions a réaliser | C10: Fréquence | D10: Periode | E10: Niveau | I10: Acteurs | J10: Traçabilité | K10: Références | L10: Observations
E11: 1 | F11: 2 | G11: 3 | H11: 4
B12: Vérifier le bon fonctionnement Nettoyer les éléments de guidage | C12: Annuelle | G12: x | I12: Technicien | J12: Carnet de santé
B13: Contrôler les joints entre les cloisons | C13: 7 à 10 ans selon utilisation | I13: Technicien

Sheet plafond_suspendu
B2: SOMMAIRE
B4: Plafond suspendu en fibres minérales
B5: Actions a réaliser | C5: Fréquence | D5: Periode | E5: Niveau | I5: Acteurs | J5: Traçabilité | K5: Références | L5: Observations
E6: 1 | F6: 2 | G6: 3 | H6: 4
B7: Contrôler la planéité du plafond et l'absence de tâche d'humidité | C7: Annuelle | F7: x | I7: Technicien | L7: Contôle visuel
B8: Vérifier que les entretoises portent bien sur les profils porteurs Vérifier le plénum s'il n'y a pas de rupture dans la fixation d'une suspente et vérifier si présence d'humidité | K8: Carnet de santé | L8: Si défaut de planéité, reposer les entretoises si elles ne reposent plus sur les profils porteurs et si plaque tachée par l'humidité, remplacer la plaque après réparation de la fuite

Sheet plafond_béton_brut
B2: SOMMAIRE
B4: Plafond brut de béton (sous face d'un plancher béton armé)
B5: Actions a réaliser | C5: Fréquence | D5: Periode | E5: Niveau | I5: Acteurs | J5: Traçabilité | K5: Références | L5: Observations
E6: 1 | F6: 2 | G6: 3 | H6: 4
B7: Vérifier l'absence de fissuration ou d'éclatement avec aciers apparent , de l'absence de trace d'humidité Vérifier la planéité (hourdis ou pré-dalle) et les appuis de poutrelles (si visible) | C7: Annuelle | E7: x | I7: Technicien | L7: Contôle visuel de la sous face

Sheet plafond_plaques_de_plâtre
B2: SOMMAIRE
B4: Plafond en plaques de plâtre cartonnées
B5: Actions a réaliser | C5: Fréquence | D5: Periode | E5: Niveau | I5: Acteurs | J5: Traçabilité | K5: Références | L5: Observations
E6: 1 | F6: 2 | G6: 3 | H6: 4
B7: Contrôler la planéité du plafond et l'absence de tâche d'humidité ainsi que le non décollement des bandes de joints | C7: Annuelle | F7: x | I7: Technicien | K7: Carnet de santé | L7: Contrôle visuel Si plaque tachée par l'humidité, remplacer la plaque après réparation de la fuite et si décolement des bandes de joints effectuer une reprise partielle ou totale

Sheet carrelage
B2: SOMMAIRE
B4: Carrelage
B5: durée de vie : 30 à 40 ans selon usage
B6: Actions a réaliser | C6: Fréquence | D6: Periode | E6: Niveau | I6: Acteurs | J6: Traçabilité | K6: Références | L6: Observations
E7: 1 | F7: 2 | G7: 3 | H7: 4
B8: Examiner l'état du joint de fractionnement, l'état du carrelage et la non infiltration des eaux | C8: Annuelle | E8: x | I8: Technicien | L8: Contrôle visuel
B9: Changer un élément en cas de rupture importante | C9: selon besoin | G9: x | I9: Carreleur

Sheet faïence
B2: SOMMAIRE
B4: Faïence
B5: durée de vie : 30 à 40 ans selon usage
B6: Actions a réaliser | C6: Fréquence | D6: Periode | E6: Niveau | I6: Acteurs | J6: Traçabilité | K6: Références | L6: Observations
E7: 1 | F7: 2 | G7: 3 | H7: 4
B8: Examiner les joints de faïence et au silicone | C8: Annuelle | F8: x | I8: Technicien | L8: Contrôle visuel Refaire les joints si besoin
B9: Refaire l'ensemble des joints | C9: 10 à 15 ans selon utilisation | F9: x
B10: Changer un élément en cas d'éclat important ou de fissure | C10: selon besoin | G10: x | I10: Carreleur

Sheet parquet_massif
B2: SOMMAIRE
B4: Parquet en bois massif
B5: Actions a réaliser | C5: Fréquence | D5: Periode | E5: Niveau | I5: Acteurs | J5: Traçabilité | K5: Références | L5: Observations
E6: 1 | F6: 2 | G6: 3 | H6: 4
B7: Poncer et vitrifier | C7: 7 à 10 ans selon utilisation et essence de bois | F7: x | I7: Technicien | L7: L'entretien et la durée de vie sont impactés par le type de pose , l'essence du bois et l'utilisation
B8: Changer une ou plusieurs lames | C8: Selon besoin | H8: x | I8: Menuisier
B9: Effectuer une réfection totale | C9: 50 ans à 100 ans selon essence de bois | H9: x | I9: Menuisier

Sheet parquet_contre_collé
B2: SOMMAIRE
B4: Parquet contre-collé
B5: Actions a réaliser | C5: Fréquence | D5: Periode | E5: Niveau | I5: Acteurs | J5: Traçabilité | K5: Références | L5: Observations
E6: 1 | F6: 2 | G6: 3 | H6: 4
B7: Poncer et vitrifier | C7: 7 à 10 ans selon utilisation et essence de bois | F7: x | I7: Technicien | L7: L'entretien et la durée de vie dépendent de l'épaisseur, l'utilisation, l'essence et de la couche d'usure
B8: Changer une ou plusieurs lames | C8: Selon besoin | G8: x | I8: Menuisier
B9: Effectuer une réfection totale | C9: 30 ans à 50 ans selon essence de bois | G9: x | I9: Menuisier

Sheet stratifié
B2: SOMMAIRE
B4: Sol stratifié
B5: Actions a réaliser | C5: Fréquence | D5: Periode | E5: Niveau | I5: Acteurs | J5: Traçabilité | K5: Références | L5: Observations
E6: 1 | F6: 2 | G6: 3 | H6: 4
B7: Effectuer une réfection totale | C7: 10 à 15 ans selon la qualité et passage | G7: x | I7: Technicien | L7: Pour le nettoyage quotidien veiller a bien suivre les préconisations du fabriquant dans l'utulisation des produits de nettoyage

Sheet PVC
B2: SOMMAIRE
B4: Sol PVC
B5: Actions a réaliser | C5: Fréquence | D5: Periode | E5: Niveau | I5: Acteurs | J5: Traçabilité | K5: Références | L5: Observations
E6: 1 | F6: 2 | G6: 3 | H6: 4
B7: Rénover par métallisation | C7: 2 à 5 ans | F7: x | I7: Technicien | L7: Sauf pour les sols PVC revêtus d'un traitement photoréticulé
B8: Effectuer une refection totale | C8: 20 ans | G8: x | I8: Technicien

Sheet tapis_et_moquette
B2: SOMMAIRE
B4: Tapis/Moquette
B5: Actions a réaliser | C5: Fréquence | D5: Periode | E5: Niveau | I5: Acteurs | J5: Traçabilité | K5: Références | L5: Observations
E6: 1 | F6: 2 | G6: 3 | H6: 4
B7: Effectuer une refection totale | C7: 7 à 10 ans | G7: x | I7: Technicien | L7: Ne pas effectuer d'entretien en dehors du shampooinage

Sheet tous_style_de_portes
B2: SOMMAIRE
B4: Porte / porte coulissante / porte en verre / porte double
B5: Actions a réaliser | C5: Fréquence | D5: Periode | E5: Niveau | I5: Acteurs | J5: Traçabilité | K5: Références | L5: Observations
E6: 1 | F6: 2 | G6: 3 | H6: 4
B7: Contrôler le bon fonctionnement et l'état géneral Vérifier l'accroche entre bec de canne et gâche Effectuer un réglage éventuel par resserrage des vis des paumelles, ajout d'une seconde paumelle en tête ou pose de bagues sur les paumelles | C7: Annuelle | F7: x | I7: Technicien | J7: Carnet de santé | L7: Entretien réglementaire annuel
B8: Vérificatin du dispositif de fixation des serrures sur l'ouvrant | C8: semestrielle | F8: x | I8: Technicien | L8: Entretien à réaliser en plus de l'entretien annuel, uniquement pour porte en verre
B9: Nettoyage des rails, des roulements et des pièces de suspension(lubrification si nécessaire) | C9: Annuelle | F9: x | I9: Technicien | L9: Entretien à réaliser en plus de l'entretien annuel, uniquement pour porte coulissante
B10: Nettoyage régulier du culot encastré dans le sol du vantail semi-fixe équipé d'une crémone | C10: Mensuelle | E10: x | I10: Personnel chargé du ménage | L10: Entretien à réaliser en plus de l'entretien annuel, uniquement pour porte double
B11: Opérer une remise en jeu | D11: selon besoin | H11: x | I11: Menuisier
B12: Appliquer une peinture éventuelle | F12: x | I12: Peintre
B13: Serrure et paumelle
B14: Actions a réaliser | C14: Fréquence | D14: Periode | E14: Niveau | I14: Acteurs | J14: Traçabilité | K14: Références | L14: Observations
E15: 1 | F15: 2 | G15: 3 | H15: 4
B16: Lubrifier les mécanismes des serrures et les têtes des paumelles | C16: Annuelle | F16: x | I16: Technicien | J16: Carnet de santé | L16: Eviter l'huile et la graisse qui sont déconseillées dans les cylindres et barillets

Sheet porte_coupe_feu
B2: SOMMAIRE
B4: Porte coupe-feu battante
B5: durée de vie : 20 à 30 ans
B6: Actions a réaliser | C6: Fréquence | D6: Periode | E6: Niveau | I6: Acteurs | J6: Traçabilité | K6: Références | L6: Observations
E7: 1 | F7: 2 | G7: 3 | H7: 4
B8: Test manuel, par détetction et déclenchement automatiques de la porte et vérifier la bonne fermeture (temps, vitesse…) | C8: Mensuelle | F8: x | I8: Technicien | J8: Registre de contrôle | K8: Référentiel APSAD R16 Norme NF S 61-937-2 Norme NF S 61-933
B9: vérifier l'état mécanique (corrosion,serrage…) des pivots et roulements, du ferme porte et bras, des serrures, du sélécteur de vantaux Vérifier les réglages de jeu et d'aplomb de la porte Vérifier la présence et l'état des joints intumescents (qui doivent conserver leurs état d'origine, gainé et de couleur noir) Nettoyer les parements des vantaux afin d'éliminer tout agent agressif et/ou corrosif Vérifier le système de détectio et de déclenchement s'il y a lieu | C9: Selon notice constructeur | I9: Technicien spécialisé | J9: Registre de contrôle | L9: Maintenance préventive, fréquence annuelle conseillée
