Workbook
Name Autre: données!$A$48:$A$50
Name Chœur: données!$A$120:$A$135
Name Continuo: données!$A$53:$A$63
Name Cordes: données!$A$2:$A$13
Name Créateur: données!$A$99:$A$104
Name Cuivres: données!$A$30:$A$45
Name Famille: données!$A$79:$A$83
Name Orchestre: données!$A$138:$A$142
Name Production: données!$A$113:$A$117
Name Soliste: données!$A$107:$A$110
Name Structure: données!$D$2:$D$14
Name Vents: données!$A$16:$A$27

Sheet SYNTHESE PROJET
A1: SYNTHESE PROJETS
A2: Balance projets par date
A3: PROJETS | B3: DATE | C3: Structure | D3: Montant REPETITION | E3: Montant Représentation | F3: Soliste | G3: cout annexe | H3: total coûts | I3: produits | J3: BALANCE
A4: Leçons | B4: 43572 | C4: NDF | D4: =SUMIFS(ACTIVITE!$N$11:$N$232,ACTIVITE!$AC$11:$AC$232,'SYNTHESE PROJET'!$B$12,ACTIVITE!$A$11:$A$232,'SYNTHESE PROJET'!$A4,ACTIVITE!$B$11:$B$232,'SYNTHESE PROJET'!$B4) -> 900 | E4: =SUMIFS(ACTIVITE!$R$11:$R$232,ACTIVITE!$AC$11:$AC$232,'SYNTHESE PROJET'!$B$12,ACTIVITE!$A$11:$A$232,'SYNTHESE PROJET'!$A4,ACTIVITE!$B$11:$B$232,'SYNTHESE PROJET'!$B4) -> 2025 | F4: =SUMIFS(ACTIVITE!$T$11:$T$232,ACTIVITE!$A$11:$A$232,'SYNTHESE PROJET'!$A4,ACTIVITE!$B$11:$B$232,'SYNTHESE PROJET'!$B4,ACTIVITE!$C$11:$C$232,$F3) -> 600 | G4: =SUMIFS(ACTIVITE!$U$11:$U$232,ACTIVITE!$B$11:$B$232,'SYNTHESE PROJET'!$B4,ACTIVITE!$A$11:$A$232,'SYNTHESE PROJET'!$A4) -> 0 | H4: =D4+E4+G4 -> 2925 | I4: =SUMIFS($D$23:$D$30,$A$23:$A$30,$A4,$B$23:$B$30,$B4)+SUMIFS($E$23:$E$30,$A$23:$A$30,$A4,$B$23:$B$30,$B4)+SUMIFS($F$23:$F$30,$A$23:$A$30,$A4,$B$23:$B$30,$B4)+SUMIFS($G$23:$G$30,$A$23:$A$30,$A4,$B$23:$B$30,$B4)+SUMIFS($H$23:$H$30,$A$23:$A$30,$A4,$B$23:$B$30,$B4)+SUMIFS($I$23:$I$30,$A$23:$A$30,$A4,$B$23:$B$30,$B4)+SUMIFS($J$23:$J$30,$A$23:$A$30,$A4,$B$23:$B$30,$B4) -> 5000 | J4: =I4-H4 -> 2075
A5: CD couperin | B5: 43576 | C5: Chapelle de la trinité | D5: =SUMIFS(ACTIVITE!$N$11:$N$232,ACTIVITE!$AC$11:$AC$232,'SYNTHESE PROJET'!$B$12,ACTIVITE!$A$11:$A$232,'SYNTHESE PROJET'!$A5,ACTIVITE!$B$11:$B$232,'SYNTHESE PROJET'!$B5) -> #REF! | E5: =SUMIFS(ACTIVITE!$R$11:$R$232,ACTIVITE!$AC$11:$AC$232,'SYNTHESE PROJET'!$B$12,ACTIVITE!$A$11:$A$232,'SYNTHESE PROJET'!$A5,ACTIVITE!$B$11:$B$232,'SYNTHESE PROJET'!$B5) -> 0 | F5: =SUMIFS(ACTIVITE!$T$11:$T$232,ACTIVITE!$A$11:$A$232,'SYNTHESE PROJET'!$A5,ACTIVITE!$B$11:$B$232,'SYNTHESE PROJET'!$B5,ACTIVITE!$C$11:$C$232,$F4) -> 0 | G5: =SUMIFS(ACTIVITE!$U$11:$U$232,ACTIVITE!$B$11:$B$232,'SYNTHESE PROJET'!$B5,ACTIVITE!$A$11:$A$232,'SYNTHESE PROJET'!$A5) -> 0 | H5: =D5+E5+G5 -> #REF! | I5: =SUMIFS($D$23:$D$30,$A$23:$A$30,$A5,$B$23:$B$30,$B5)+SUMIFS($E$23:$E$30,$A$23:$A$30,$A5,$B$23:$B$30,$B5)+SUMIFS($F$23:$F$30,$A$23:$A$30,$A5,$B$23:$B$30,$B5)+SUMIFS($G$23:$G$30,$A$23:$A$30,$A5,$B$23:$B$30,$B5)+SUMIFS($H$23:$H$30,$A$23:$A$30,$A5,$B$23:$B$30,$B5)+SUMIFS($I$23:$I$30,$A$23:$A$30,$A5,$B$23:$B$30,$B5)+SUMIFS($J$23:$J$30,$A$23:$A$30,$A5,$B$23:$B$30,$B5) -> 6000 | J5: =I5-H5 -> #REF! | L5: attention réalisé/prévi
A6: La Resurrezionne | B6: 43793 | C6: CVS | D6: =SUMIFS(ACTIVITE!$N$11:$N$232,ACTIVITE!$AC$11:$AC$232,'SYNTHESE PROJET'!$B$12,ACTIVITE!$A$11:$A$232,'SYNTHESE PROJET'!$A6,ACTIVITE!$B$11:$B$232,'SYNTHESE PROJET'!$B6) -> #REF! | E6: =SUMIFS(ACTIVITE!$R$11:$R$232,ACTIVITE!$AC$11:$AC$232,'SYNTHESE PROJET'!$B$12,ACTIVITE!$A$11:$A$232,'SYNTHESE PROJET'!$A6,ACTIVITE!$B$11:$B$232,'SYNTHESE PROJET'!$B6) -> 24930 | F6: =SUMIFS(ACTIVITE!$T$11:$T$232,ACTIVITE!$A$11:$A$232,'SYNTHESE PROJET'!$A6,ACTIVITE!$B$11:$B$232,'SYNTHESE PROJET'!$B6,ACTIVITE!$C$11:$C$232,$F5) -> 0 | G6: =SUMIFS(ACTIVITE!$U$11:$U$232,ACTIVITE!$B$11:$B$232,'SYNTHESE PROJET'!$B6,ACTIVITE!$A$11:$A$232,'SYNTHESE PROJET'!$A6) -> 0 | H6: =D6+E6+G6 -> #REF! | I6: =SUMIFS($D$23:$D$30,$A$23:$A$30,$A6,$B$23:$B$30,$B6)+SUMIFS($E$23:$E$30,$A$23:$A$30,$A6,$B$23:$B$30,$B6)+SUMIFS($F$23:$F$30,$A$23:$A$30,$A6,$B$23:$B$30,$B6)+SUMIFS($G$23:$G$30,$A$23:$A$30,$A6,$B$23:$B$30,$B6)+SUMIFS($H$23:$H$30,$A$23:$A$30,$A6,$B$23:$B$30,$B6)+SUMIFS($I$23:$I$30,$A$23:$A$30,$A6,$B$23:$B$30,$B6)+SUMIFS($J$23:$J$30,$A$23:$A$30,$A6,$B$23:$B$30,$B6) -> 0 | J6: =I6-H6 -> #REF! | L6: remarque : manque les constructions achats et autres dépenses de création, édition, etc)
A7: Batailles et Carnaval | B7: 43610 | C7: festival de froville | D7: =SUMIFS(ACTIVITE!$N$11:$N$232,ACTIVITE!$AC$11:$AC$232,'SYNTHESE PROJET'!$B$12,ACTIVITE!$A$11:$A$232,'SYNTHESE PROJET'!$A7,ACTIVITE!$B$11:$B$232,'SYNTHESE PROJET'!$B7) -> 0 | E7: =SUMIFS(ACTIVITE!$R$11:$R$232,ACTIVITE!$AC$11:$AC$232,'SYNTHESE PROJET'!$B$12,ACTIVITE!$A$11:$A$232,'SYNTHESE PROJET'!$A7,ACTIVITE!$B$11:$B$232,'SYNTHESE PROJET'!$B7) -> 0 | F7: =SUMIFS(ACTIVITE!$T$11:$T$232,ACTIVITE!$A$11:$A$232,'SYNTHESE PROJET'!$A7,ACTIVITE!$B$11:$B$232,'SYNTHESE PROJET'!$B7,ACTIVITE!$C$11:$C$232,$F6) -> 0 | G7: =SUMIFS(ACTIVITE!$U$11:$U$232,ACTIVITE!$B$11:$B$232,'SYNTHESE PROJET'!$B7,ACTIVITE!$A$11:$A$232,'SYNTHESE PROJET'!$A7) -> 0 | H7: =D7+E7+G7 -> 0 | I7: =SUMIFS($D$23:$D$30,$A$23:$A$30,$A7,$B$23:$B$30,$B7)+SUMIFS($E$23:$E$30,$A$23:$A$30,$A7,$B$23:$B$30,$B7)+SUMIFS($F$23:$F$30,$A$23:$A$30,$A7,$B$23:$B$30,$B7)+SUMIFS($G$23:$G$30,$A$23:$A$30,$A7,$B$23:$B$30,$B7)+SUMIFS($H$23:$H$30,$A$23:$A$30,$A7,$B$23:$B$30,$B7)+SUMIFS($I$23:$I$30,$A$23:$A$30,$A7,$B$23:$B$30,$B7)+SUMIFS($J$23:$J$30,$A$23:$A$30,$A7,$B$23:$B$30,$B7) -> 8185 | J7: =I7-H7 -> 8185
D8: =SUMIFS(ACTIVITE!$N$11:$N$232,ACTIVITE!$AC$11:$AC$232,'SYNTHESE PROJET'!$B$12,ACTIVITE!$A$11:$A$232,'SYNTHESE PROJET'!$A8,ACTIVITE!$B$11:$B$232,'SYNTHESE PROJET'!$B8) -> 0 | E8: =SUMIFS(ACTIVITE!$R$11:$R$232,ACTIVITE!$AC$11:$AC$232,'SYNTHESE PROJET'!$B$12,ACTIVITE!$A$11:$A$232,'SYNTHESE PROJET'!$A8,ACTIVITE!$B$11:$B$232,'SYNTHESE PROJET'!$B8) -> 0 | F8: =SUMIFS(ACTIVITE!$T$11:$T$232,ACTIVITE!$A$11:$A$232,'SYNTHESE PROJET'!$A8,ACTIVITE!$B$11:$B$232,'SYNTHESE PROJET'!$B8,ACTIVITE!$C$11:$C$232,$F7) -> 0 | G8: =SUMIFS(ACTIVITE!$U$11:$U$232,ACTIVITE!$B$11:$B$232,'SYNTHESE PROJET'!$B8,ACTIVITE!$A$11:$A$232,'SYNTHESE PROJET'!$A8) -> 0 | H8: =D8+E8+G8 -> 0 | I8: =SUMIFS($D$23:$D$30,$A$23:$A$30,$A8,$B$23:$B$30,$B8)+SUMIFS($E$23:$E$30,$A$23:$A$30,$A8,$B$23:$B$30,$B8)+SUMIFS($F$23:$F$30,$A$23:$A$30,$A8,$B$23:$B$30,$B8)+SUMIFS($G$23:$G$30,$A$23:$A$30,$A8,$B$23:$B$30,$B8)+SUMIFS($H$23:$H$30,$A$23:$A$30,$A8,$B$23:$B$30,$B8)+SUMIFS($I$23:$I$30,$A$23:$A$30,$A8,$B$23:$B$30,$B8)+SUMIFS($J$23:$J$30,$A$23:$A$30,$A8,$B$23:$B$30,$B8) -> 0 | J8: =I8-H8 -> 0
D9: =SUMIFS(ACTIVITE!$N$11:$N$232,ACTIVITE!$AC$11:$AC$232,'SYNTHESE PROJET'!$B$12,ACTIVITE!$A$11:$A$232,'SYNTHESE PROJET'!$A9,ACTIVITE!$B$11:$B$232,'SYNTHESE PROJET'!$B9) -> 0 | E9: =SUMIFS(ACTIVITE!$R$11:$R$232,ACTIVITE!$AC$11:$AC$232,'SYNTHESE PROJET'!$B$12,ACTIVITE!$A$11:$A$232,'SYNTHESE PROJET'!$A9,ACTIVITE!$B$11:$B$232,'SYNTHESE PROJET'!$B9) -> 0 | F9: =SUMIFS(ACTIVITE!$T$11:$T$232,ACTIVITE!$A$11:$A$232,'SYNTHESE PROJET'!$A9,ACTIVITE!$B$11:$B$232,'SYNTHESE PROJET'!$B9,ACTIVITE!$C$11:$C$232,$F8) -> 0 | G9: =SUMIFS(ACTIVITE!$U$11:$U$232,ACTIVITE!$B$11:$B$232,'SYNTHESE PROJET'!$B9,ACTIVITE!$A$11:$A$232,'SYNTHESE PROJET'!$A9) -> 0 | H9: =D9+E9+G9 -> 0 | I9: =SUMIFS($D$23:$D$30,$A$23:$A$30,$A9,$B$23:$B$30,$B9)+SUMIFS($E$23:$E$30,$A$23:$A$30,$A9,$B$23:$B$30,$B9)+SUMIFS($F$23:$F$30,$A$23:$A$30,$A9,$B$23:$B$30,$B9)+SUMIFS($G$23:$G$30,$A$23:$A$30,$A9,$B$23:$B$30,$B9)+SUMIFS($H$23:$H$30,$A$23:$A$30,$A9,$B$23:$B$30,$B9)+SUMIFS($I$23:$I$30,$A$23:$A$30,$A9,$B$23:$B$30,$B9)+SUMIFS($J$23:$J$30,$A$23:$A$30,$A9,$B$23:$B$30,$B9) -> 0 | J9: =I9-H9 -> 0
A11: Coûts Projet par exercice et global
A12: Exercice : | B12: 2019 | C12: 2020 | D12: 2021 | E12: 2022
A13: PROJETS | B13: Montant REPETITION | C13: coût spectacles | D13: coûts annexes | E13: Cumulé exploitation | G13: PROJETS | H13: NBR de LIEU | I13: NBR de SPECT. | J13: fréquentation publique
A14: Leçons | B14: =SUMIFS(ACTIVITE!$N$11:$N$232,ACTIVITE!$AC$11:$AC$232,'SYNTHESE PROJET'!$B$12,ACTIVITE!$A$11:$A$232,'SYNTHESE PROJET'!$A14)+SUMIFS(ACTIVITE!$N$11:$N$232,ACTIVITE!$AC$11:$AC$232,'SYNTHESE PROJET'!$C$12,ACTIVITE!$A$11:$A$232,'SYNTHESE PROJET'!$A14)+SUMIFS(ACTIVITE!$N$11:$N$232,ACTIVITE!$AC$11:$AC$232,'SYNTHESE PROJET'!$D$12,ACTIVITE!$A$11:$A$232,'SYNTHESE PROJET'!$A14)+SUMIFS(ACTIVITE!$N$11:$N$232,ACTIVITE!$AC$11:$AC$232,'SYNTHESE PROJET'!$E$12,ACTIVITE!$A$11:$A$232,'SYNTHESE PROJET'!$A14) -> 900 | C14: =SUMIFS(ACTIVITE!$R$11:$R$232,ACTIVITE!$AC$11:$AC$232,'SYNTHESE PROJET'!$B$12,ACTIVITE!$A$11:$A$232,'SYNTHESE PROJET'!$A14)+SUMIFS(ACTIVITE!$R$11:$R$232,ACTIVITE!$AC$11:$AC$232,'SYNTHESE PROJET'!$C$12,ACTIVITE!$A$11:$A$232,'SYNTHESE PROJET'!$A14)+SUMIFS(ACTIVITE!$R$11:$R$232,ACTIVITE!$AC$11:$AC$232,'SYNTHESE PROJET'!$D$12,ACTIVITE!$A$11:$A$232,'SYNTHESE PROJET'!$A14)+SUMIFS(ACTIVITE!$R$11:$R$232,ACTIVITE!$AC$11:$AC$232,'SYNTHESE PROJET'!$E$12,ACTIVITE!$A$11:$A$232,'SYNTHESE PROJET'!$A14) -> 2025 | D14: =SUMIFS(ACTIVITE!$U$11:$U$232,ACTIVITE!$A$11:$A$232,'SYNTHESE PROJET'!$B$12,ACTIVITE!$A$11:$A$232,'SYNTHESE PROJET'!$A14)+SUMIFS(ACTIVITE!$U$11:$U$232,ACTIVITE!$A$11:$A$232,'SYNTHESE PROJET'!$C$12,ACTIVITE!$A$11:$A$232,'SYNTHESE PROJET'!$A14)+SUMIFS(ACTIVITE!$U$11:$U$232,ACTIVITE!$A$11:$A$232,'SYNTHESE PROJET'!$D$12,ACTIVITE!$A$11:$A$232,'SYNTHESE PROJET'!$A14)+SUMIFS(ACTIVITE!$U$11:$U$232,ACTIVITE!$A$11:$A$232,'SYNTHESE PROJET'!$E$12,ACTIVITE!$A$11:$A$232,'SYNTHESE PROJET'!$A14) -> 0 | E14: =B14+C14 -> 2925 | G14: Leçons | H14: 2 | I14: 2 | J14: =110+250 -> 360
A15: CD couperin | B15: =SUMIFS(ACTIVITE!$N$11:$N$232,ACTIVITE!$AC$11:$AC$232,'SYNTHESE PROJET'!$B$12,ACTIVITE!$A$11:$A$232,'SYNTHESE PROJET'!$A15)+SUMIFS(ACTIVITE!$N$11:$N$232,ACTIVITE!$AC$11:$AC$232,'SYNTHESE PROJET'!$C$12,ACTIVITE!$A$11:$A$232,'SYNTHESE PROJET'!$A15)+SUMIFS(ACTIVITE!$N$11:$N$232,ACTIVITE!$AC$11:$AC$232,'SYNTHESE PROJET'!$D$12,ACTIVITE!$A$11:$A$232,'SYNTHESE PROJET'!$A15)+SUMIFS(ACTIVITE!$N$11:$N$232,ACTIVITE!$AC$11:$AC$232,'SYNTHESE PROJET'!$E$12,ACTIVITE!$A$11:$A$232,'SYNTHESE PROJET'!$A15) -> #REF! | C15: =SUMIFS(ACTIVITE!$R$11:$R$232,ACTIVITE!$AC$11:$AC$232,'SYNTHESE PROJET'!$B$12,ACTIVITE!$A$11:$A$232,'SYNTHESE PROJET'!$A15)+SUMIFS(ACTIVITE!$R$11:$R$232,ACTIVITE!$AC$11:$AC$232,'SYNTHESE PROJET'!$C$12,ACTIVITE!$A$11:$A$232,'SYNTHESE PROJET'!$A15)+SUMIFS(ACTIVITE!$R$11:$R$232,ACTIVITE!$AC$11:$AC$232,'SYNTHESE PROJET'!$D$12,ACTIVITE!$A$11:$A$232,'SYNTHESE PROJET'!$A15)+SUMIFS(ACTIVITE!$R$11:$R$232,ACTIVITE!$AC$11:$AC$232,'SYNTHESE PROJET'!$E$12,ACTIVITE!$A$11:$A$232,'SYNTHESE PROJET'!$A15) -> 0 | D15: =SUMIFS(ACTIVITE!$U$11:$U$232,ACTIVITE!$A$11:$A$232,'SYNTHESE PROJET'!$B$12,ACTIVITE!$A$11:$A$232,'SYNTHESE PROJET'!$A15)+SUMIFS(ACTIVITE!$U$11:$U$232,ACTIVITE!$A$11:$A$232,'SYNTHESE PROJET'!$C$12,ACTIVITE!$A$11:$A$232,'SYNTHESE PROJET'!$A15)+SUMIFS(ACTIVITE!$U$11:$U$232,ACTIVITE!$A$11:$A$232,'SYNTHESE PROJET'!$D$12,ACTIVITE!$A$11:$A$232,'SYNTHESE PROJET'!$A15)+SUMIFS(ACTIVITE!$U$11:$U$232,ACTIVITE!$A$11:$A$232,'SYNTHESE PROJET'!$E$12,ACTIVITE!$A$11:$A$232,'SYNTHESE PROJET'!$A15) -> 0 | E15: =B15+C15 -> #REF! | G15: Batailles et Carnaval | H15: 1 | I15: 1
A16: Le Devin | B16: =SUMIFS(ACTIVITE!$N$11:$N$232,ACTIVITE!$AC$11:$AC$232,'SYNTHESE PROJET'!$B$12,ACTIVITE!$A$11:$A$232,'SYNTHESE PROJET'!$A16)+SUMIFS(ACTIVITE!$N$11:$N$232,ACTIVITE!$AC$11:$AC$232,'SYNTHESE PROJET'!$C$12,ACTIVITE!$A$11:$A$232,'SYNTHESE PROJET'!$A16)+SUMIFS(ACTIVITE!$N$11:$N$232,ACTIVITE!$AC$11:$AC$232,'SYNTHESE PROJET'!$D$12,ACTIVITE!$A$11:$A$232,'SYNTHESE PROJET'!$A16)+SUMIFS(ACTIVITE!$N$11:$N$232,ACTIVITE!$AC$11:$AC$232,'SYNTHESE PROJET'!$E$12,ACTIVITE!$A$11:$A$232,'SYNTHESE PROJET'!$A16) -> 0 | C16: =SUMIFS(ACTIVITE!$R$11:$R$232,ACTIVITE!$AC$11:$AC$232,'SYNTHESE PROJET'!$B$12,ACTIVITE!$A$11:$A$232,'SYNTHESE PROJET'!$A16)+SUMIFS(ACTIVITE!$R$11:$R$232,ACTIVITE!$AC$11:$AC$232,'SYNTHESE PROJET'!$C$12,ACTIVITE!$A$11:$A$232,'SYNTHESE PROJET'!$A16)+SUMIFS(ACTIVITE!$R$11:$R$232,ACTIVITE!$AC$11:$AC$232,'SYNTHESE PROJET'!$D$12,ACTIVITE!$A$11:$A$232,'SYNTHESE PROJET'!$A16)+SUMIFS(ACTIVITE!$R$11:$R$232,ACTIVITE!$AC$11:$AC$232,'SYNTHESE PROJET'!$E$12,ACTIVITE!$A$11:$A$232,'SYNTHESE PROJET'!$A16) -> 0 | D16: =SUMIFS(ACTIVITE!$U$11:$U$232,ACTIVITE!$A$11:$A$232,'SYNTHESE PROJET'!$B$12,ACTIVITE!$A$11:$A$232,'SYNTHESE PROJET'!$A16)+SUMIFS(ACTIVITE!$U$11:$U$232,ACTIVITE!$A$11:$A$232,'SYNTHESE PROJET'!$C$12,ACTIVITE!$A$11:$A$232,'SYNTHESE PROJET'!$A16)+SUMIFS(ACTIVITE!$U$11:$U$232,ACTIVITE!$A$11:$A$232,'SYNTHESE PROJET'!$D$12,ACTIVITE!$A$11:$A$232,'SYNTHESE PROJET'!$A16)+SUMIFS(ACTIVITE!$U$11:$U$232,ACTIVITE!$A$11:$A$232,'SYNTHESE PROJET'!$E$12,ACTIVITE!$A$11:$A$232,'SYNTHESE PROJET'!$A16) -> 0 | E16: =B16+C16 -> 0
A17: La Resurrezionne | B17: =SUMIFS(ACTIVITE!$N$11:$N$232,ACTIVITE!$AC$11:$AC$232,'SYNTHESE PROJET'!$B$12,ACTIVITE!$A$11:$A$232,'SYNTHESE PROJET'!$A17)+SUMIFS(ACTIVITE!$N$11:$N$232,ACTIVITE!$AC$11:$AC$232,'SYNTHESE PROJET'!$C$12,ACTIVITE!$A$11:$A$232,'SYNTHESE PROJET'!$A17)+SUMIFS(ACTIVITE!$N$11:$N$232,ACTIVITE!$AC$11:$AC$232,'SYNTHESE PROJET'!$D$12,ACTIVITE!$A$11:$A$232,'SYNTHESE PROJET'!$A17)+SUMIFS(ACTIVITE!$N$11:$N$232,ACTIVITE!$AC$11:$AC$232,'SYNTHESE PROJET'!$E$12,ACTIVITE!$A$11:$A$232,'SYNTHESE PROJET'!$A17) -> #REF! | C17: =SUMIFS(ACTIVITE!$R$11:$R$232,ACTIVITE!$AC$11:$AC$232,'SYNTHESE PROJET'!$B$12,ACTIVITE!$A$11:$A$232,'SYNTHESE PROJET'!$A17)+SUMIFS(ACTIVITE!$R$11:$R$232,ACTIVITE!$AC$11:$AC$232,'SYNTHESE PROJET'!$C$12,ACTIVITE!$A$11:$A$232,'SYNTHESE PROJET'!$A17)+SUMIFS(ACTIVITE!$R$11:$R$232,ACTIVITE!$AC$11:$AC$232,'SYNTHESE PROJET'!$D$12,ACTIVITE!$A$11:$A$232,'SYNTHESE PROJET'!$A17)+SUMIFS(ACTIVITE!$R$11:$R$232,ACTIVITE!$AC$11:$AC$232,'SYNTHESE PROJET'!$E$12,ACTIVITE!$A$11:$A$232,'SYNTHESE PROJET'!$A17) -> 24930 | D17: =SUMIFS(ACTIVITE!$U$11:$U$232,ACTIVITE!$A$11:$A$232,'SYNTHESE PROJET'!$B$12,ACTIVITE!$A$11:$A$232,'SYNTHESE PROJET'!$A17)+SUMIFS(ACTIVITE!$U$11:$U$232,ACTIVITE!$A$11:$A$232,'SYNTHESE PROJET'!$C$12,ACTIVITE!$A$11:$A$232,'SYNTHESE PROJET'!$A17)+SUMIFS(ACTIVITE!$U$11:$U$232,ACTIVITE!$A$11:$A$232,'SYNTHESE PROJET'!$D$12,ACTIVITE!$A$11:$A$232,'SYNTHESE PROJET'!$A17)+SUMIFS(ACTIVITE!$U$11:$U$232,ACTIVITE!$A$11:$A$232,'SYNTHESE PROJET'!$E$12,ACTIVITE!$A$11:$A$232,'SYNTHESE PROJET'!$A17) -> 0 | E17: =B17+C17 -> #REF!
A18: Il Trionfo | B18: =SUMIFS(ACTIVITE!$N$11:$N$232,ACTIVITE!$AC$11:$AC$232,'SYNTHESE PROJET'!$B$12,ACTIVITE!$A$11:$A$232,'SYNTHESE PROJET'!$A18)+SUMIFS(ACTIVITE!$N$11:$N$232,ACTIVITE!$AC$11:$AC$232,'SYNTHESE PROJET'!$C$12,ACTIVITE!$A$11:$A$232,'SYNTHESE PROJET'!$A18)+SUMIFS(ACTIVITE!$N$11:$N$232,ACTIVITE!$AC$11:$AC$232,'SYNTHESE PROJET'!$D$12,ACTIVITE!$A$11:$A$232,'SYNTHESE PROJET'!$A18)+SUMIFS(ACTIVITE!$N$11:$N$232,ACTIVITE!$AC$11:$AC$232,'SYNTHESE PROJET'!$E$12,ACTIVITE!$A$11:$A$232,'SYNTHESE PROJET'!$A18) -> 0 | C18: =SUMIFS(ACTIVITE!$R$11:$R$232,ACTIVITE!$AC$11:$AC$232,'SYNTHESE PROJET'!$B$12,ACTIVITE!$A$11:$A$232,'SYNTHESE PROJET'!$A18)+SUMIFS(ACTIVITE!$R$11:$R$232,ACTIVITE!$AC$11:$AC$232,'SYNTHESE PROJET'!$C$12,ACTIVITE!$A$11:$A$232,'SYNTHESE PROJET'!$A18)+SUMIFS(ACTIVITE!$R$11:$R$232,ACTIVITE!$AC$11:$AC$232,'SYNTHESE PROJET'!$D$12,ACTIVITE!$A$11:$A$232,'SYNTHESE PROJET'!$A18)+SUMIFS(ACTIVITE!$R$11:$R$232,ACTIVITE!$AC$11:$AC$232,'SYNTHESE PROJET'!$E$12,ACTIVITE!$A$11:$A$232,'SYNTHESE PROJET'!$A18) -> 0 | D18: =SUMIFS(ACTIVITE!$U$11:$U$232,ACTIVITE!$A$11:$A$232,'SYNTHESE PROJET'!$B$12,ACTIVITE!$A$11:$A$232,'SYNTHESE PROJET'!$A18)+SUMIFS(ACTIVITE!$U$11:$U$232,ACTIVITE!$A$11:$A$232,'SYNTHESE PROJET'!$C$12,ACTIVITE!$A$11:$A$232,'SYNTHESE PROJET'!$A18)+SUMIFS(ACTIVITE!$U$11:$U$232,ACTIVITE!$A$11:$A$232,'SYNTHESE PROJET'!$D$12,ACTIVITE!$A$11:$A$232,'SYNTHESE PROJET'!$A18)+SUMIFS(ACTIVITE!$U$11:$U$232,ACTIVITE!$A$11:$A$232,'SYNTHESE PROJET'!$E$12,ACTIVITE!$A$11:$A$232,'SYNTHESE PROJET'!$A18) -> 0 | E18: =B18+C18 -> 0
B19: =SUMIFS(ACTIVITE!$N$11:$N$232,ACTIVITE!$AC$11:$AC$232,'SYNTHESE PROJET'!$B$12,ACTIVITE!$A$11:$A$232,'SYNTHESE PROJET'!$A19)+SUMIFS(ACTIVITE!$N$11:$N$232,ACTIVITE!$AC$11:$AC$232,'SYNTHESE PROJET'!$C$12,ACTIVITE!$A$11:$A$232,'SYNTHESE PROJET'!$A19)+SUMIFS(ACTIVITE!$N$11:$N$232,ACTIVITE!$AC$11:$AC$232,'SYNTHESE PROJET'!$D$12,ACTIVITE!$A$11:$A$232,'SYNTHESE PROJET'!$A19)+SUMIFS(ACTIVITE!$N$11:$N$232,ACTIVITE!$AC$11:$AC$232,'SYNTHESE PROJET'!$E$12,ACTIVITE!$A$11:$A$232,'SYNTHESE PROJET'!$A19) -> 0 | C19: =SUMIFS(ACTIVITE!$R$11:$R$232,ACTIVITE!$AC$11:$AC$232,'SYNTHESE PROJET'!$B$12,ACTIVITE!$A$11:$A$232,'SYNTHESE PROJET'!$A19)+SUMIFS(ACTIVITE!$R$11:$R$232,ACTIVITE!$AC$11:$AC$232,'SYNTHESE PROJET'!$C$12,ACTIVITE!$A$11:$A$232,'SYNTHESE PROJET'!$A19)+SUMIFS(ACTIVITE!$R$11:$R$232,ACTIVITE!$AC$11:$AC$232,'SYNTHESE PROJET'!$D$12,ACTIVITE!$A$11:$A$232,'SYNTHESE PROJET'!$A19)+SUMIFS(ACTIVITE!$R$11:$R$232,ACTIVITE!$AC$11:$AC$232,'SYNTHESE PROJET'!$E$12,ACTIVITE!$A$11:$A$232,'SYNTHESE PROJET'!$A19) -> 0 | D19: =SUMIFS(ACTIVITE!$U$11:$U$232,ACTIVITE!$A$11:$A$232,'SYNTHESE PROJET'!$B$12,ACTIVITE!$A$11:$A$232,'SYNTHESE PROJET'!$A19)+SUMIFS(ACTIVITE!$U$11:$U$232,ACTIVITE!$A$11:$A$232,'SYNTHESE PROJET'!$C$12,ACTIVITE!$A$11:$A$232,'SYNTHESE PROJET'!$A19)+SUMIFS(ACTIVITE!$U$11:$U$232,ACTIVITE!$A$11:$A$232,'SYNTHESE PROJET'!$D$12,ACTIVITE!$A$11:$A$232,'SYNTHESE PROJET'!$A19)+SUMIFS(ACTIVITE!$U$11:$U$232,ACTIVITE!$A$11:$A$232,'SYNTHESE PROJET'!$E$12,ACTIVITE!$A$11:$A$232,'SYNTHESE PROJET'!$A19) -> 0 | E19: =B19+C19 -> 0 | L19: + les couts de construction achatsetc…
A21: PRODUITS par PROJETS
A22: projets | B22: DATE | C22: Structure | D22: cession HT | E22: refacturation | F22: subvention | G22: co prod | H22: co-réalisation | I22: résidence | J22: mécénat
A23: Batailles et Carnaval | B23: 43610 | C23: festival de froville | D23: 7585
A24: Batailles et Carnaval | B24: 43610 | C24: festival de froville | E24: 600
A25: Leçons | B25: 43572 | C25: NDF | D25: 5000
A26: CD couperin | B26: 43576 | G26: 3000 | J26: 3000
A31: BALANCE PAR PROJET | G31: BALANCE PAR STRUCTURE et EXERCICE
A32: projets | B32: coûts cumulés | C32: cessions+refacturation cumulées | D32: balance | G32: Structure | H32: produits | I32: coûts | J32: balance
A33: Batailles et Carnaval | D33: =C33-B33 -> 0 | G33: festival de froville | H33: =SUMIFS(D23:D30,C23:C30,G33)+SUMIFS(E23:E30,C23:C30,G33)+SUMIFS(F23:F30,C23:C30,G33)+SUMIFS(G23:G30,C23:C30,G33)+SUMIFS(H23:H30,C23:C30,G33)+SUMIFS(I23:I30,C23:C30,G33)+SUMIFS(J23:J30,C23:C30,G33) -> 8185 | L33: rajouter les exercices
D34: =C34-B34 -> 0 | G34: NDF | H34: =SUMIFS(D24:D31,C24:C31,G34)+SUMIFS(E24:E31,C24:C31,G34)+SUMIFS(F24:F31,C24:C31,G34)+SUMIFS(G24:G31,C24:C31,G34)+SUMIFS(H24:H31,C24:C31,G34)+SUMIFS(I24:I31,C24:C31,G34)+SUMIFS(J24:J31,C24:C31,G34) -> 5000 | L34: rajouter les coûts de construction etc…
D35: =C35-B35 -> 0 | H35: =SUMIFS(D25:D32,C25:C32,G35)+SUMIFS(E25:E32,C25:C32,G35)+SUMIFS(F25:F32,C25:C32,G35)+SUMIFS(G25:G32,C25:C32,G35)+SUMIFS(H25:H32,C25:C32,G35)+SUMIFS(I25:I32,C25:C32,G35)+SUMIFS(J25:J32,C25:C32,G35) -> 0
D36: =C36-B36 -> 0 | H36: =SUMIFS(D26:D33,C26:C33,G36)+SUMIFS(E26:E33,C26:C33,G36)+SUMIFS(F26:F33,C26:C33,G36)+SUMIFS(G26:G33,C26:C33,G36)+SUMIFS(H26:H33,C26:C33,G36)+SUMIFS(I26:I33,C26:C33,G36)+SUMIFS(J26:J33,C26:C33,G36) -> 0
D37: =C37-B37 -> 0 | H37: =SUMIFS(D27:D34,C27:C34,G37)+SUMIFS(E27:E34,C27:C34,G37)+SUMIFS(F27:F34,C27:C34,G37)+SUMIFS(G27:G34,C27:C34,G37)+SUMIFS(H27:H34,C27:C34,G37)+SUMIFS(I27:I34,C27:C34,G37)+SUMIFS(J27:J34,C27:C34,G37) -> 0
D38: =C38-B38 -> 0 | H38: =SUMIFS(D28:D35,C28:C35,G38)+SUMIFS(E28:E35,C28:C35,G38)+SUMIFS(F28:F35,C28:C35,G38)+SUMIFS(G28:G35,C28:C35,G38)+SUMIFS(H28:H35,C28:C35,G38)+SUMIFS(I28:I35,C28:C35,G38)+SUMIFS(J28:J35,C28:C35,G38) -> 0

Sheet DEVIS
A1: DEVIS PROPOSITION
A3: PROJETS : | C3: La Resurrezionne
A5: création
A6: coût plateau théorique
A8: nbr de spectacles envisagés
A10: amortissement créa+diff
A11: amortissement frais fixes
B16: effectif | C16: nbr de jours | D16: coût | J16: effectif | K16: nbr de jours | L16: coût
A17: reprise I | B17: =SUM('modèle prod'!$T$38:$T$39,'modèle prod'!$T$41:$T$45,'modèle prod'!$T$47:$T$51,'modèle prod'!$T$53:$T$56,'modèle prod'!$T$58:$T$60) -> 0 | D17: =SUM('modèle prod'!$V$38:$V$39,'modèle prod'!$V$41:$V$45,'modèle prod'!$V$47:$V$51,'modèle prod'!$V$53:$V$56,'modèle prod'!$V$58:$V$60) -> 0 | I17: reprise II | J17: =SUM('modèle prod'!$AB$38:$AB$39,'modèle prod'!$AB$41:$AB$45,'modèle prod'!$AB$47:$AB$51,'modèle prod'!$AB$53:$AB$56,'modèle prod'!$AB$58:$AB$60) -> 0 | L17: =SUM('modèle prod'!$AD$38:$AD$39:'modèle prod'!$AD$41:$AD$45,'modèle prod'!$AD$47:$AD$51,'modèle prod'!$AD$53:$AD$56,'modèle prod'!$AD$58:$AD$60) -> 0
A18: solistes | D18: =SUM('modèle prod'!$V$41:$V$45) -> 0 | I18: solistes | J18: =SUM('modèle prod'!$AB$41:$AB$45) -> 0 | L18: =SUM('modèle prod'!AE41:AE45) -> 0
A19: orchestre | B19: =SUM('modèle prod'!T47:T51) -> 0 | I19: orchestre | J19: =SUM('modèle prod'!AB47:AB51) -> 0
A20: chœur | B20: =SUM('modèle prod'!T53:T56) -> 0 | I20: chœur | J20: =SUM('modèle prod'!AB53:AB56) -> 0
A22: frais transport | I22: frais transport
A23: autre frais | C23: repas | I23: autre frais | J23: repas
C24: achat | J24: achat
A26: marge rep I | D26: =$C$18*7.5% -> 0 | I26: marge rep II | L26: =$K$18*5% -> 0
A28: devis HT | I28: devis HT
A30: TVA | D30: =$D$31+$D$32 -> 0 | I30: TVA | L30: =$L$31+$L$32 -> 0
C31: TVA cession | K31: TVA cession | L31: =SUM(K17,K23:K24,L26)*5.5% -> 0
C32: TVA transport | D32: =C22*20% -> 0 | K32: TVA transport | L32: =K22*20% -> 0
A34: DEVIS TTC rep I | D34: =C17+SUM(C22:C24)+D26+D30 -> 0 | I34: DEVIS rep II | L34: =SUM(K17,K22:K24,L26,L30) -> 0

Sheet ACTIVITE
A1: BUDGET de PRODUCTION et de CREATION
A10: PROJET | B10: DATE REPRESENTATION | C10: Famille | D10: catégorie | E10: rôle | F10: rôle chanteur | G10: prénom | H10: nom | I10: engagement | J10: Taux de CSP | K10: Nbr de Jours | L10: BRUT REPETITION | M10: Charges REPETITION | N10: TOTAL REPETITION | O10: BRUT REPRESENTATION | P10: NB REPRESENTATIONS | Q10: charge REPRESENTATION | R10: TOTAL REPRESENTATION | S10: Masse Salariale | T10: M.S. réalisée | U10: TOTAL FRAIS | V10: voyage | W10: nombre de repas | X10: coût repas (18,75€) | Y10: cout hotel | Z10: nombre de nuits | AA10: total hotel | AB10: autres | AC10: Année Représentation
A11: Leçons | B11: 43572 | C11: Créateur | D11: direction musicale | G11: sébastien | H11: d'hérin | I11: intermittent | J11: =IF(I11="",0%,VLOOKUP(I11,données!$A$71:$B$77,2)) -> 0.5 | M11: =L11*J11 -> 0 | N11: =L11+M11 -> 0 | O11: 200 | P11: 1 | Q11: =O11*P11*J11 -> 100 | R11: =(O11*P11)+Q11 -> 300 | S11: =N11+R11 -> 300 | T11: =S11 -> 300 | U11: =V11+X11+AA11+AB11 -> 0 | X11: =W11*18.75 -> 0 | AA11: =Y11*Z11 -> 0 | AC11: =IF(B11="","-",YEAR(B11)) -> 2019
A12: Leçons | B12: 43572 | C12: Soliste | D12: soprano | F12: 1er dessus | G12: caroline | H12: mutel | I12: intermittent | J12: =IF(I12="",0%,VLOOKUP(I12,données!$A$71:$B$77,2)) -> 0.5 | K12: 2 | M12: =L12*J12 -> 0 | N12: =(L12+M12)*K12 -> 0 | O12: 150 | P12: 1 | Q12: =O12*P12*J12 -> 75 | R12: =(O12*P12)+Q12 -> 225 | S12: =N12+R12 -> 225 | T12: =S12 -> 225 | U12: =V12+X12+AA12+AB12 -> 0 | X12: =W12*18.75 -> 0 | AA12: =Y12*Z12 -> 0 | AC12: =IF(B12="","-",YEAR(B12)) -> 2019
A13: Leçons | B13: 43572 | C13: Soliste | D13: mezzo | F13: 2ème dessus | G13: karine | H13: deshayes | I13: intermittent | J13: =IF(I13="",0%,VLOOKUP(I13,données!$A$71:$B$77,2)) -> 0.5 | K13: 0 | L13: 250 | M13: =L13*J13 -> 125 | N13: =(L13+M13)*K13 -> 0 | O13: 250 | P13: 1 | Q13: =O13*P13*J13 -> 125 | R13: =(O13*P13)+Q13 -> 375 | S13: =N13+R13 -> 375 | T13: =S13 -> 375 | U13: =V13+X13+AA13+AB13 -> 0 | X13: =W13*18.75 -> 0 | AA13: =Y13*Z13 -> 0 | AC13: =IF(B13="","-",YEAR(B13)) -> 2019
A14: Leçons | B14: 43572 | C14: Orchestre | D14: Continuo | E14: violoncelle | G14: hager | H14: hanana | I14: intermittent | J14: =IF(I14="",0%,VLOOKUP(I14,données!$A$71:$B$77,2)) -> 0.5 | K14: 2 | L14: 150 | M14: =L14*J14 -> 75 | N14: =(L14+M14)*K14 -> 450 | O14: 150 | P14: 2 | Q14: =O14*P14*J14 -> 150 | R14: =(O14*P14)+Q14 -> 450 | S14: =N14+R14 -> 900 | T14: =S14 -> 900 | U14: =V14+X14+AA14+AB14 -> 0 | X14: =W14*18.75 -> 0 | AA14: =Y14*Z14 -> 0 | AC14: =IF(B14="","-",YEAR(B14)) -> 2019
A15: Leçons | B15: 43572 | C15: Orchestre | D15: Continuo | E15: viole de gambe | G15: martin | H15: bauer | I15: intermittent | J15: =IF(I15="",0%,VLOOKUP(I15,données!$A$71:$B$77,2)) -> 0.5 | K15: 2 | L15: 150 | M15: =L15*J15 -> 75 | N15: =(L15+M15)*K15 -> 450 | O15: 150 | P15: 2 | Q15: =O15*P15*J15 -> 150 | R15: =(O15*P15)+Q15 -> 450 | S15: =N15+R15 -> 900 | T15: =S15 -> 900 | U15: =V15+X15+AA15+AB15 -> 0 | X15: =W15*18.75 -> 0 | AA15: =Y15*Z15 -> 0 | AC15: =IF(B15="","-",YEAR(B15)) -> 2019
A16: Leçons | B16: 43572 | C16: Orchestre | D16: Continuo | E16: orgue | G16: kazuya | H16: gunji | I16: intermittent | J16: =IF(I16="",0%,VLOOKUP(I16,données!$A$71:$B$77,2)) -> 0.5 | K16: 0 | L16: 150 | M16: =L16*J16 -> 75 | N16: =(L16+M16)*K16 -> 0 | O16: 150 | P16: 1 | Q16: =O16*P16*J16 -> 75 | R16: =(O16*P16)+Q16 -> 225 | S16: =N16+R16 -> 225 | T16: =S16 -> 225 | U16: =V16+X16+AA16+AB16 -> 0 | X16: =W16*18.75 -> 0 | AA16: =Y16*Z16 -> 0 | AC16: =IF(B16="","-",YEAR(B16)) -> 2019
A17: CD couperin | B17: 43576 | C17: Créateur | D17: direction musicale | G17: sébastien | H17: d'hérin | I17: intermittent | J17: =IF(I17="",0%,VLOOKUP(I17,données!$A$71:$B$77,2)) -> 0.5 | L17: =#REF!*#REF! -> #REF! | M17: =L17*J17 -> #REF! | N17: =L17+M17 -> #REF! | P17: 0 | Q17: =O17*P17*J17 -> 0 | R17: =(O17*P17)+Q17 -> 0 | S17: =N17+R17 -> #REF! | T17: =S17 -> #REF! | U17: =V17+X17+AA17+AB17 -> 0 | X17: =W17*18.75 -> 0 | AA17: =Y17*Z17 -> 0 | AC17: =IF(B17="","-",YEAR(B17)) -> 2019
A18: CD couperin | B18: 43576 | C18: Soliste | D18: soprano | F18: 1er dessus | G18: caroline | H18: mutel | I18: intermittent | J18: =IF(I18="",0%,VLOOKUP(I18,données!$A$71:$B$77,2)) -> 0.5 | L18: =#REF!*#REF! -> #REF! | M18: =L18*J18 -> #REF! | N18: =L18+M18 -> #REF! | P18: 0 | Q18: =O18*J18 -> 0 | R18: =O18+Q18 -> 0 | S18: =N18+R18 -> #REF! | T18: =S18 -> #REF! | U18: =V18+X18+AA18+AB18 -> 0 | X18: =W18*18.75 -> 0 | AA18: =Y18*Z18 -> 0 | AC18: =IF(B18="","-",YEAR(B18)) -> 2019
A19: CD couperin | B19: 43576 | C19: Soliste | D19: mezzo | F19: 2ème dessus | G19: karine | H19: deshayes | I19: intermittent | J19: =IF(I19="",0%,VLOOKUP(I19,données!$A$71:$B$77,2)) -> 0.5 | L19: =#REF!*#REF! -> #REF! | M19: =L19*J19 -> #REF! | N19: =L19+M19 -> #REF! | P19: 0 | Q19: =O19*J19 -> 0 | R19: =O19+Q19 -> 0 | S19: =N19+R19 -> #REF! | T19: =S19 -> #REF! | U19: =V19+X19+AA19+AB19 -> 0 | X19: =W19*18.75 -> 0 | AA19: =Y19*Z19 -> 0 | AC19: =IF(B19="","-",YEAR(B19)) -> 2019
A20: CD couperin | B20: 43576 | C20: Orchestre | D20: Continuo | G20: hager | H20: hanana | I20: intermittent | J20: =IF(I20="",0%,VLOOKUP(I20,données!$A$71:$B$77,2)) -> 0.5 | L20: =#REF!*#REF! -> #REF! | M20: =L20*J20 -> #REF! | N20: =L20+M20 -> #REF! | P20: 0 | Q20: =O20*J20 -> 0 | R20: =O20+Q20 -> 0 | S20: =N20+R20 -> #REF! | T20: =S20 -> #REF! | U20: =V20+X20+AA20+AB20 -> 0 | X20: =W20*18.75 -> 0 | AA20: =Y20*Z20 -> 0 | AC20: =IF(B20="","-",YEAR(B20)) -> 2019
A21: CD couperin | B21: 43576 | C21: Orchestre | D21: Continuo | G21: kazuya | H21: gunji | I21: intermittent | J21: =IF(I21="",0%,VLOOKUP(I21,données!$A$71:$B$77,2)) -> 0.5 | L21: =#REF!*#REF! -> #REF! | M21: =L21*J21 -> #REF! | N21: =L21+M21 -> #REF! | P21: 0 | Q21: =O21*J21 -> 0 | R21: =O21+Q21 -> 0 | S21: =N21+R21 -> #REF! | T21: =S21 -> #REF! | U21: =V21+X21+AA21+AB21 -> 0 | X21: =W21*18.75 -> 0 | AA21: =Y21*Z21 -> 0 | AC21: =IF(B21="","-",YEAR(B21)) -> 2019
A22: CD couperin | B22: 43576 | C22: Orchestre | D22: Continuo | G22: louise | H22: bouedo | I22: intermittent | J22: =IF(I22="",0%,VLOOKUP(I22,données!$A$71:$B$77,2)) -> 0.5 | L22: =#REF!*#REF! -> #REF! | M22: =L22*J22 -> #REF! | N22: =L22+M22 -> #REF! | P22: 0 | Q22: =O22*J22 -> 0 | R22: =O22+Q22 -> 0 | S22: =N22+R22 -> #REF! | T22: =S22 -> #REF! | U22: =V22+X22+AA22+AB22 -> 0 | X22: =W22*18.75 -> 0 | AA22: =Y22*Z22 -> 0 | AC22: =IF(B22="","-",YEAR(B22)) -> 2019
A23: CD couperin | B23: 43576 | C23: Orchestre | D23: Continuo | G23: martin | H23: bauer | I23: intermittent | J23: =IF(I23="",0%,VLOOKUP(I23,données!$A$71:$B$77,2)) -> 0.5 | L23: =#REF!*#REF! -> #REF! | M23: =L23*J23 -> #REF! | N23: =L23+M23 -> #REF! | P23: 0 | Q23: =O23*J23 -> 0 | R23: =O23+Q23 -> 0 | S23: =N23+R23 -> #REF! | T23: =S23 -> #REF! | U23: =V23+X23+AA23+AB23 -> 0 | X23: =W23*18.75 -> 0 | AA23: =Y23*Z23 -> 0 | AC23: =IF(B23="","-",YEAR(B23)) -> 2019
A24: CD couperin | B24: 43576 | C24: Production | D24: chargée de prod | G24: anne | H24: decroly | I24: intermittent | J24: =IF(I24="",0%,VLOOKUP(I24,données!$A$71:$B$77,2)) -> 0.5 | L24: =#REF!*#REF! -> #REF! | M24: =L24*J24 -> #REF! | N24: =L24+M24 -> #REF! | P24: 0 | Q24: =O24*J24 -> 0 | R24: =O24+Q24 -> 0 | S24: =N24+R24 -> #REF! | T24: =S24 -> #REF! | U24: =V24+X24+AA24+AB24 -> 0 | X24: =W24*18.75 -> 0 | AA24: =Y24*Z24 -> 0 | AC24: =IF(B24="","-",YEAR(B24)) -> 2019
A25: Batailles et Carnaval | B25: 43610 | C25: Créateur | D25: direction musicale | G25: sébastien | H25: d'hérin | I25: intermittent | J25: =IF(I25="",0%,VLOOKUP(I25,données!$A$71:$B$77,2)) -> 0.5 | K25: 3 | P25: 1 | T25: =S25 -> 0 | AC25: =IF(B25="","-",YEAR(B25)) -> 2019
A26: Batailles et Carnaval | B26: 43610 | C26: Chœur | D26: soprano 1 | G26: caroline | H26: mutel | I26: intermittent | J26: =IF(I26="",0%,VLOOKUP(I26,données!$A$71:$B$77,2)) -> 0.5 | K26: 3 | P26: 1 | T26: =S26 -> 0 | AC26: =IF(B26="","-",YEAR(B26)) -> 2019
A27: Batailles et Carnaval | B27: 43610 | C27: Chœur | D27: contre ténor | G27: théophile | H27: alexandre | I27: intermittent | J27: =IF(I27="",0%,VLOOKUP(I27,données!$A$71:$B$77,2)) -> 0.5 | K27: 1 | P27: 1 | T27: =S27 -> 0
A28: Batailles et Carnaval | B28: 43610 | C28: Chœur | D28: ténor 1 | G28: jean-françois | H28: novelli | I28: intermittent | J28: =IF(I28="",0%,VLOOKUP(I28,données!$A$71:$B$77,2)) -> 0.5 | K28: 3 | P28: 1 | T28: =S28 -> 0
A29: Batailles et Carnaval | B29: 43610 | C29: Chœur | D29: basse | G29: romain | H29: bockler | I29: intermittent | J29: =IF(I29="",0%,VLOOKUP(I29,données!$A$71:$B$77,2)) -> 0.5 | K29: 3 | P29: 1 | T29: =S29 -> 0
A30: Batailles et Carnaval | B30: 43610 | C30: Orchestre | D30: Cordes | E30: violon 1 | G30: nn | H30: nn | I30: intermittent | J30: =IF(I30="",0%,VLOOKUP(I30,données!$A$71:$B$77,2)) -> 0.5 | K30: 1 | P30: 1 | T30: =S30 -> 0
A31: Batailles et Carnaval | B31: 43610 | C31: Orchestre | D31: Cordes | E31: violon 2 | G31: florian | H31: verhaegen | I31: intermittent | J31: =IF(I31="",0%,VLOOKUP(I31,données!$A$71:$B$77,2)) -> 0.5 | K31: 1 | P31: 1 | T31: =S31 -> 0
A32: Batailles et Carnaval | B32: 43610 | C32: Orchestre | D32: Continuo | E32: viole de gambe | G32: étienne | H32: floutier | I32: intermittent | J32: =IF(I32="",0%,VLOOKUP(I32,données!$A$71:$B$77,2)) -> 0.5 | K32: 1 | P32: 1 | T32: =S32 -> 0
A33: Il Trionfo | B33: 43618 | C33: Créateur | D33: direction musicale | G33: sébastien | H33: d'hérin | I33: intermittent | J33: =IF(I33="",0%,VLOOKUP(I33,données!$A$71:$B$77,2)) -> 0.5 | T33: =S33 -> 0
A34: Il Trionfo | B34: 43618 | C34: soliste | D34: soprano | F34: bellezza | G34: caroline | H34: mutel | I34: intermittent | J34: =IF(I34="",0%,VLOOKUP(I34,données!$A$71:$B$77,2)) -> 0.5 | T34: =S34 -> 0
A35: Il Trionfo | B35: 43618 | C35: soliste | D35: mezzo | F35: piacere | G35: blandine | H35: staskiewicz | I35: intermittent | J35: =IF(I35="",0%,VLOOKUP(I35,données!$A$71:$B$77,2)) -> 0.5 | T35: =S35 -> 0
A36: Il Trionfo | B36: 43618 | C36: soliste | D36: mezzo | F36: disinganno | G36: raffaelle | H36: pe | I36: a1 | J36: =IF(I36="",0%,VLOOKUP(I36,données!$A$71:$B$77,2)) -> 0.15 | T36: =S36 -> 0
A37: Il Trionfo | B37: 43618 | C37: soliste | D37: ténor | F37: tempo | G37: matthias | H37: vidal | I37: intermittent | J37: =IF(I37="",0%,VLOOKUP(I37,données!$A$71:$B$77,2)) -> 0.5 | T37: =S37 -> 0
A38: Il Trionfo | B38: 43618 | C38: orchestre | D38: Continuo | E38: viole de gambe | G38: martin | H38: bauer | I38: intermittent | J38: =IF(I38="",0%,VLOOKUP(I38,données!$A$71:$B$77,2)) -> 0.5 | T38: =S38 -> 0
A39: Il Trionfo | B39: 43618 | C39: orchestre | D39: Continuo | E39: orgue | G39: bastien | H39: terras | I39: intermittent | J39: =IF(I39="",0%,VLOOKUP(I39,données!$A$71:$B$77,2)) -> 0.5 | T39: =S39 -> 0
A40: Il Trionfo | B40: 43618 | C40: orchestre | D40: Continuo | E40: théorbe | G40: marc | H40: wolf | I40: intermittent | J40: =IF(I40="",0%,VLOOKUP(I40,données!$A$71:$B$77,2)) -> 0.5 | T40: =S40 -> 0
A41: Il Trionfo | B41: 43618 | C41: orchestre | D41: Continuo | E41: violoncelle | G41: cécile | H41: vérolles | I41: intermittent | J41: =IF(I41="",0%,VLOOKUP(I41,données!$A$71:$B$77,2)) -> 0.5 | T41: =S41 -> 0
A42: Il Trionfo | B42: 43618 | C42: orchestre | D42: Cordes | E42: violon solo | G42: christophe | H42: robert | I42: intermittent | J42: =IF(I42="",0%,VLOOKUP(I42,données!$A$71:$B$77,2)) -> 0.5 | T42: =S42 -> 0
A43: Il Trionfo | B43: 43618 | C43: orchestre | D43: Cordes | E43: violon solo | G43: armelle | H43: cuny | I43: intermittent | J43: =IF(I43="",0%,VLOOKUP(I43,données!$A$71:$B$77,2)) -> 0.5 | T43: =S43 -> 0
A44: Il Trionfo | B44: 43618 | C44: orchestre | D44: Cordes | E44: violon 1 | G44: birgit | H44: goris | I44: intermittent | J44: =IF(I44="",0%,VLOOKUP(I44,données!$A$71:$B$77,2)) -> 0.5 | T44: =S44 -> 0
A45: Il Trionfo | B45: 43618 | C45: orchestre | D45: Cordes | E45: violon 1 | G45: isabella | H45: bison | J45: =IF(I45="",0%,VLOOKUP(I45,données!$A$71:$B$77,2)) -> 0 | T45: =S45 -> 0
A46: Il Trionfo | B46: 43618 | C46: orchestre | D46: Cordes | E46: violon 1 | G46: nn | H46: nn | J46: =IF(I46="",0%,VLOOKUP(I46,données!$A$71:$B$77,2)) -> 0 | T46: =S46 -> 0
A47: Il Trionfo | B47: 43618 | C47: orchestre | D47: Cordes | E47: violon 2 | G47: catherine | H47: ambach | I47: intermittent | J47: =IF(I47="",0%,VLOOKUP(I47,données!$A$71:$B$77,2)) -> 0.5 | T47: =S47 -> 0
A48: Il Trionfo | B48: 43618 | C48: orchestre | D48: Cordes | E48: violon 2 | G48: louise | H48: salmona | I48: fonctionnaire | J48: =IF(I48="",0%,VLOOKUP(I48,données!$A$71:$B$77,2)) -> 0.4 | T48: =S48 -> 0
...

Sheet Projets
A1: PROJETS
C3: TITRE | D3: COMPOSITEUR | E3: mise en scène | F3: analytique | G3: saison de lancement
A4: OPERAS | C4: Le Devin | D4: Rousseau | G4: 2016
C5: Fairy Queen | D5: Purcell | G5: 2009
C6: Circé | D6: Henri Desmarest | G6: 2020
A8: ORATORIOS | C8: Il Trionfo | D8: Haendel | G8: 2019
C9: La Resurrezionne | D9: Haendel | G9: 2019
C10: Requiem & David | D10: Mozart | G10: 2020
A12: Musique de chambre | B12: profane | C12: Batailles et Carnaval
B14: sacrée | C14: Leçons | D14: Couperin | G14: 2019
A16: SPECTACLE | B16: jeune public
B18: Théâtre musical | C18: Stabat | D18: Pergolese | E18: bobée / mutel | G18: 2017
A20: MEDIATION
A22: ENREGISTREMENT | C22: CD couperin | D22: Couperin | G22: 2019
A24: MUSICOLOGIE | B24: édition | C24: Don Chisciotte | D24: Salieri | G24: 2016
B26: organologie | C26: Ténor de violon

Sheet La Resurrezionne
A1: PROJETS : | C1: =RIGHT(CELL("filename",A1),LEN(CELL("filename",A1))-SEARCH("]",CELL("filename",A1))) -> La Resurrezionne
A3: titre
A4: compositeur
A7: effectif global | B7: =$C$64+B9 -> 14 | E7: budget de création | F7: =SUM($F$38:$F$39,$F$41:$F$45,$F$47:$F$51,$F$53:$F$56,$F$58:$F$60) -> 8280
A8: équipe artistique | B8: =$C$66 -> 1 | E8: coût plateau | F8: =SUM($F$38:$F$39,$F$41:$F$45)+(SUM($E$47*$D$47,$E$48*$D$48,$E$49*$D$49,$E$50*$D$50,$E$51*$D$51,$E$53*$D$53,$E$54*$D$54,$E$55*$D$55,$E$56*$D$56,$E$58*$D$58,$E$59*$D$59,$E$60*$D$60)*1.5) -> 5175
A9: solistes | B9: 0 | E9: coût solistes | F9: =SUM($F$41:$F$45) -> 0
A10: nb instmt | B10: =$C$72 -> 10 | E10: journée tutti | F10: =SUM($D$47*$E$47,$D$48*$E$48,$D$49*$E$49,$D$50*$E$50,$D$51*$E$51,$D$53*$E$53,$D$54*$E$54,$D$55*$E$55,$D$56*$E$56,$D$58*$E$58,$D$59*$E$59,$D$60*$E$60)*1.5 -> 3375
A11: nb de choristes | B11: =$C$79 -> 3 | E11: journée orchestre | F11: =(SUM($D$47*$E$47,$D$48*$E$48,$D$49*$E$49,$D$50*$E$50,$D$51*$E$51)*1.5)+($E$60*1.5) -> 2700
A12: production | B12: =$C$85 -> 0 | E12: journée cordes | F12: =SUM($D$47*$E$47,$D$48*$E$48)*1.5 -> 1890
E13: journée chœur | F13: =(SUM(D53:D56)*E53*1.5)+(E60*1.5) -> 675
E14: montage
A17: phase I | C17: coût HT | E17: phase II
A18: création | C18: =$C$19+$C$20 -> 4230 | E18: exploitation | G18: =$G$19+$G$20 -> 5175
B19: répétition | C19: =($F$47-($D$47*$E$47))+($F$48-($D$48*$E$48))+($F$49-($D$49*$E$49))+($F$50-($D$50*$E$50))+($F$51-($D$51*$E$51))+($F$53-($D$53*$E$53))+($F$54-($D$54*$E$54))+($F$55-($D$55*$E$55))+($F$56-($D$56*$E$56)) -> 4230 | F19: M.S.plateau | G19: =SUM($F$38:$F$39,$F$41:$F$45)+(SUM($E$47*$D$47,$E$48*$D$48,$E$49*$D$49,$E$50*$D$50,$E$51*$D$51,$E$53*$D$53,$E$54*$D$54,$E$55*$D$55,$E$56*$D$56,$E$59*$D$58,$E$59*$D$59,$E$60*$D$60)*1.5) -> 5175
B20: construction | C20: =IF(W67,"",0) -> 0 | F20: achat exploitation | G20: 0
A22: diffusion | C22: =C23+C24 -> 0 | E22: nbr de spect. envisagées. | G22: 1
B23: MS diffusion
B24: achat diffusion | E24: amortissement | G24: =$G$25+$G$26 -> 4230
A25: coût création | C25: =$C$22+$C$18 -> 4230 | F25: création | G25: =$C$18/$G$22 -> 4230
F26: diffusion | G26: =$C$22/$G$22 -> 0
A27: appréciation bénévolat | C27: =C28+C29 -> 0 | E27: coût plateau | G27: =$G$18+$G$24 -> 9405
B28: création - bénévolat
B29: diff. - bénévolat | E29: amortissement frais fixes
A31: proposition cession HT | G31: =$G$27+$G$29 -> 9405
E36: planning de création | T36: scénario de reprise I | AB36: scénario de reprise II
C37: catégories | D37: nbr | E37: salaire journalier brut /personne | F37: Masse salariale chargée | G37: nbr de jour | H37: J-10 | I37: J-9 | J37: J-8 | K37: J-7 | L37: J-6 | M37: J-5 | N37: J-4 | O37: J-3 | P37: J-2 | Q37: J-1 | R37: J | S37: J+1 | T37: nbr | U37: sal/brut/pers | V37: masse salariale chargée | W37: nbr de jour | X37: J-3 | Y37: J-2 | Z37: J-1 | AA37: J | AB37: nbr | AC37: sal/brut/pers | AD37: masse salariale chargée | AE37: nbr de jour | AF37: J-2 | AG37: J-1 | AH37: J
B38: équipe artistique | C38: d.m | D38: =C67 -> 1 | E38: 1200 | F38: =D38*E38*1.5 -> 1800 | G38: =COUNTIF(H38:S38,"o") -> 1 | R38: o | T38: =C66 -> 1 | U38: 1200 | V38: =T38*U38*1.5 -> 1800 | W38: =COUNTIF(X38:AA38,"o") -> 1 | AA38: o | AB38: =C67 -> 1 | AC38: 1200 | AD38: =AB38*AC38*1.5 -> 1800 | AE38: =COUNTIF(AF38:AH38,"o") -> 1 | AH38: o
B39: cachet | D39: =C68 -> 0 | F39: =D39*E39*1.5 -> 0 | G39: =COUNTIF(H39:S39,"o") -> 0 | V39: =T39*U39*1.5 -> 0 | W39: =COUNTIF(X39:AA39,"o") -> 0 | AD39: =AB39*AC39*1.5 -> 0 | AE39: =COUNTIF(AF39:AH39,"o") -> 0
B41: solistes | D41: 0 | E41: 300 | F41: =D41*E41*1.5 -> 0 | G41: =COUNTIF(H41:S41,"o") -> 2 | Q41: o | R41: o | T41: 1 | U41: 300 | V41: =T41*U41*1.5 -> 450 | W41: =COUNTIF(X41:AA41,"o") -> 0 | AC41: 300 | AD41: =AB41*AC41*1.5 -> 0 | AE41: =COUNTIF(AF41:AH41,"o") -> 0
B42: cachet | D42: 0 | E42: 300 | F42: =D42*E42*1.5 -> 0 | G42: =COUNTIF(H42:S42,"o") -> 2 | Q42: o | R42: o | T42: 1 | U42: 300 | V42: =T42*U42*1.5 -> 450 | W42: =COUNTIF(X42:AA42,"o") -> 0 | AC42: 300 | AD42: =AB42*AC42*1.5 -> 0 | AE42: =COUNTIF(AF42:AH42,"o") -> 0
D43: 0 | E43: 300 | F43: =D43*E43*1.5 -> 0 | G43: =COUNTIF(H43:S43,"o") -> 3 | P43: o | Q43: o | R43: o | T43: 1 | U43: 300 | V43: =T43*U43*1.5 -> 450 | W43: =COUNTIF(X43:AA43,"o") -> 0 | AC43: 300 | AD43: =AB43*AC43*1.5 -> 0 | AE43: =COUNTIF(AF43:AH43,"o") -> 0
C44: petits rôles | D44: 0 | F44: =D44*E44*1.5 -> 0 | G44: =COUNTIF(H44:S44,"o") -> 0 | T44: 1 | V44: =T44*U44*1.5 -> 0 | W44: =COUNTIF(X44:AA44,"o") -> 0 | AD44: =AB44*AC44*1.5 -> 0 | AE44: =COUNTIF(AF44:AH44,"o") -> 0
C45: A1 | D45: 0 | F45: =D45*E45*1.15 -> 0 | G45: =COUNTIF(H45:S45,"o") -> 0 | T45: 1 | V45: =T45*U45*1.15 -> 0 | W45: =COUNTIF(X45:AA45,"o") -> 0 | AD45: =AB45*AC45*1.15 -> 0 | AE45: =COUNTIF(AF45:AH45,"o") -> 0
B47: orchestre | C47: continuo | D47: =C73 -> 4 | E47: 180 | F47: =D47*E47*1.5*G47 -> 3240 | G47: =COUNTIF(H47:S47,"o") -> 3 | P47: o | Q47: o | R47: o | T47: 4 | U47: 180 | V47: =T47*U47*1.5*W47 -> 2160 | W47: =COUNTIF(X47:AA47,"o") -> 2 | Z47: o | AA47: o | AB47: 3 | AC47: 180 | AD47: =AB47*AC47*1.5*AE47 -> 810 | AE47: =COUNTIF(AF47:AH47,"o") -> 1 | AH47: o
C48: cordes | D48: =C74 -> 3 | E48: 180 | F48: =D48*E48*1.5*G48 -> 1620 | G48: =COUNTIF(H48:S48,"o") -> 2 | Q48: o | R48: o | T48: 3 | U48: 180 | V48: =T48*U48*1.5*W48 -> 1620 | W48: =COUNTIF(X48:AA48,"o") -> 2 | Z48: o | AA48: o | AB48: 2 | AC48: 180 | AD48: =AB48*AC48*1.5*AE48 -> 540 | AE48: =COUNTIF(AF48:AH48,"o") -> 1 | AH48: o
C49: vents | D49: =C75 -> 3 | E49: 180 | F49: =D49*E49*1.5*G49 -> 1620 | G49: =COUNTIF(H49:S49,"o") -> 2 | Q49: o | R49: o | T49: 3 | U49: 180 | V49: =T49*U49*1.5*W49 -> 810 | W49: =COUNTIF(X49:AA49,"o") -> 1 | AA49: o | AB49: 2 | AC49: 180 | AD49: =AB49*AC49*1.5*AE49 -> 540 | AE49: =COUNTIF(AF49:AH49,"o") -> 1 | AH49: o
C50: cuivres | D50: =C76 -> 0 | E50: 180 | F50: =D50*E50*1.5*G50 -> 0 | G50: =COUNTIF(H50:S50,"o") -> 0 | T50: 3 | U50: 180 | V50: =T50*U50*1.5*W50 -> 0 | W50: =COUNTIF(X50:AA50,"o") -> 0 | AB50: 2 | AC50: 180 | AD50: =AB50*AC50*1.5*AE50 -> 0 | AE50: =COUNTIF(AF50:AH50,"o") -> 0
C51: autre | D51: =C77 -> 0 | F51: =D51*E51*1.5*G51 -> 0 | G51: =COUNTIF(H51:S51,"o") -> 0 | V51: =T51*U51*1.5*W51 -> 0 | W51: =COUNTIF(X51:AA51,"o") -> 0 | AD51: =AB51*AC51*1.5*AE51 -> 0 | AE51: =COUNTIF(AF51:AH51,"o") -> 0
B53: choriste | C53: soprano | D53: =C80 -> 1 | E53: 150 | F53: =D53*E53*1.5*G53 -> 0 | G53: =COUNTIF(H53:S53,"o") -> 0 | T53: 1 | U53: 150 | V53: =T53*U53*1.5*W53 -> 450 | W53: =COUNTIF(X53:AA53,"o") -> 2 | Z53: o | AA53: o | AB53: 1 | AC53: 150 | AD53: =AB53*AC53*1.5*AE53 -> 225 | AE53: =COUNTIF(AF53:AH53,"o") -> 1 | AH53: o
C54: mezzo/alto | D54: =C81 -> 1 | E54: 150 | F54: =D54*E54*1.5*G54 -> 0 | G54: =COUNTIF(H54:S54,"o") -> 0 | T54: 1 | U54: 150 | V54: =T54*U54*1.5*W54 -> 450 | W54: =COUNTIF(X54:AA54,"o") -> 2 | Z54: o | AA54: o | AB54: 1 | AC54: 150 | AD54: =AB54*AC54*1.5*AE54 -> 225 | AE54: =COUNTIF(AF54:AH54,"o") -> 1 | AH54: o
...

Sheet Il Trionfo
A1: PROJETS : | C1: Il TRIONFO
A3: titre | B3: Il Trionfo
A4: compositeur | B4: Haendel
A7: effectif global | B7: =$C$64+B9 -> 28 | E7: budget de création | F7: =SUM($F$38:$F$39,$F$41:$F$45,$F$47:$F$51,$F$53:$F$56,$F$58:$F$60) -> 38400
A8: équipe artistique | B8: =$C$66 -> 1 | E8: coût plateau | F8: =SUM($F$38:$F$39,$F$41:$F$45)+(SUM($E$47*$D$47,$E$48*$D$48,$E$49*$D$49,$E$50*$D$50,$E$51*$D$51,$E$53*$D$53,$E$54*$D$54,$E$55*$D$55,$E$56*$D$56,$E$58*$D$58,$E$59*$D$59,$E$60*$D$60)*1.5) -> 20835
A9: solistes | B9: 4 | E9: coût solistes | F9: =SUM($F$41:$F$45) -> 12000
A10: nb instmt | B10: =$C$72 -> 21 | E10: journée tutti | F10: =SUM($D$47*$E$47,$D$48*$E$48,$D$49*$E$49,$D$50*$E$50,$D$51*$E$51,$D$53*$E$53,$D$54*$E$54,$D$55*$E$55,$D$56*$E$56,$D$58*$E$58,$D$59*$E$59,$D$60*$E$60)*1.5 -> 5835
A11: nb de choristes | B11: =$C$79 -> 0 | E11: journée orchestre | F11: =(SUM($D$47*$E$47,$D$48*$E$48,$D$49*$E$49,$D$50*$E$50,$D$51*$E$51)*1.5)+($E$60*1.5) -> 5580
A12: production | B12: =$C$85 -> 2 | E12: journée cordes | F12: =SUM($D$47*$E$47,$D$48*$E$48)*1.5 -> 4590
E13: journée chœur | F13: =(SUM(D53:D56)*E53*1.5)+(E60*1.5) -> 225
E14: montage
A17: phase I | C17: coût HT | E17: phase II
A18: création | C18: =$C$19+$C$20 -> 18870 | E18: exploitation | G18: =$G$19+$G$20 -> 20580
B19: répétition | C19: =($F$47-($D$47*$E$47))+($F$48-($D$48*$E$48))+($F$49-($D$49*$E$49))+($F$50-($D$50*$E$50))+($F$51-($D$51*$E$51))+($F$53-($D$53*$E$53))+($F$54-($D$54*$E$54))+($F$55-($D$55*$E$55))+($F$56-($D$56*$E$56)) -> 18870 | F19: M.S.plateau | G19: =SUM($F$38:$F$39,$F$41:$F$45)+(SUM($E$47*$D$47,$E$48*$D$48,$E$49*$D$49,$E$50*$D$50,$E$51*$D$51,$E$53*$D$53,$E$54*$D$54,$E$55*$D$55,$E$56*$D$56,$E$59*$D$58,$E$59*$D$59,$E$60*$D$60)*1.5) -> 20580
B20: construction | C20: =IF(W67,"",0) -> 0 | F20: achat exploitation | G20: 0
A22: diffusion | C22: =C23+C24 -> 0 | E22: nbr de spect. envisagées. | G22: 1
B23: MS diffusion
B24: achat diffusion | E24: amortissement | G24: =$G$25+$G$26 -> 18870
A25: coût création | C25: =$C$22+$C$18 -> 18870 | F25: création | G25: =$C$18/$G$22 -> 18870
F26: diffusion | G26: =$C$22/$G$22 -> 0
A27: appréciation bénévolat | C27: =C28+C29 -> 0 | E27: coût plateau | G27: =$G$18+$G$24 -> 39450
B28: création - bénévolat
B29: diff. - bénévolat | E29: amortissement frais fixes
A31: proposition cession HT | G31: =$G$27+$G$29 -> 39450
E36: planning de création | T36: scénario de reprise I | AB36: scénario de reprise II
C37: catégories | D37: nbr | E37: salaire journalier brut /personne | F37: Masse salariale chargée | G37: nbr de jour | H37: J-10 | I37: J-9 | J37: J-8 | K37: J-7 | L37: J-6 | M37: J-5 | N37: J-4 | O37: J-3 | P37: J-2 | Q37: J-1 | R37: J | S37: J+1 | T37: nbr | U37: sal/brut/pers | V37: masse salariale chargée | W37: nbr de jour | X37: J-3 | Y37: J-2 | Z37: J-1 | AA37: J | AB37: nbr | AC37: sal/brut/pers | AD37: masse salariale chargée | AE37: nbr de jour | AF37: J-2 | AG37: J-1 | AH37: J
B38: équipe artistique | C38: d.m | D38: =C67 -> 1 | E38: 2000 | F38: =D38*E38*1.5 -> 3000 | G38: =COUNTIF(H38:S38,"o") -> 5 | O38: o | P38: o | Q38: o | R38: o | S38: o | T38: =C66 -> 1 | U38: 1500 | V38: =T38*U38*1.5 -> 2250 | W38: =COUNTIF(X38:AA38,"o") -> 2 | Z38: o | AA38: o | AB38: =C67 -> 1 | AC38: 1500 | AD38: =AB38*AC38*1.5 -> 2250 | AE38: =COUNTIF(AF38:AH38,"o") -> 1 | AH38: o
B39: cachet | D39: =C68 -> 0 | F39: =D39*E39*1.5 -> 0 | G39: =COUNTIF(H39:S39,"o") -> 0 | V39: =T39*U39*1.5 -> 0 | W39: =COUNTIF(X39:AA39,"o") -> 0 | AD39: =AB39*AC39*1.5 -> 0 | AE39: =COUNTIF(AF39:AH39,"o") -> 0
B41: solistes | D41: 2 | E41: 2000 | F41: =D41*E41*1.5 -> 6000 | G41: =COUNTIF(H41:S41,"o") -> 5 | O41: o | P41: o | Q41: o | R41: o | S41: o | T41: 2 | U41: 1500 | V41: =T41*U41*1.5 -> 4500 | W41: =COUNTIF(X41:AA41,"o") -> 2 | Z41: o | AA41: o | AB41: 2 | AC41: 1500 | AD41: =AB41*AC41*1.5 -> 4500 | AE41: =COUNTIF(AF41:AH41,"o") -> 1 | AH41: o
B42: cachet | D42: 1 | E42: 2500 | F42: =D42*E42*1.5 -> 3750 | G42: =COUNTIF(H42:S42,"o") -> 5 | O42: o | P42: o | Q42: o | R42: o | S42: o | T42: 2 | U42: 2200 | V42: =T42*U42*1.5 -> 6600 | W42: =COUNTIF(X42:AA42,"o") -> 2 | Z42: o | AA42: o | AB42: 2 | AC42: 2000 | AD42: =AB42*AC42*1.5 -> 6000 | AE42: =COUNTIF(AF42:AH42,"o") -> 1 | AH42: o
D43: 1 | E43: 1500 | F43: =D43*E43*1.5 -> 2250 | G43: =COUNTIF(H43:S43,"o") -> 4 | P43: o | Q43: o | R43: o | S43: o | T43: =D43 -> 1 | V43: =T43*U43*1.5 -> 0 | W43: =COUNTIF(X43:AA43,"o") -> 0 | AD43: =AB43*AC43*1.5 -> 0 | AE43: =COUNTIF(AF43:AH43,"o") -> 0
C44: petits rôles | D44: 0 | F44: =D44*E44*1.5 -> 0 | G44: =COUNTIF(H44:S44,"o") -> 0 | T44: =D44 -> 0 | V44: =T44*U44*1.5 -> 0 | W44: =COUNTIF(X44:AA44,"o") -> 0 | AD44: =AB44*AC44*1.5 -> 0 | AE44: =COUNTIF(AF44:AH44,"o") -> 0
C45: A1 | D45: 0 | F45: =D45*E45*1.15 -> 0 | G45: =COUNTIF(H45:S45,"o") -> 0 | T45: =D45 -> 0 | V45: =T45*U45*1.15 -> 0 | W45: =COUNTIF(X45:AA45,"o") -> 0 | AD45: =AB45*AC45*1.15 -> 0 | AE45: =COUNTIF(AF45:AH45,"o") -> 0
B47: orchestre | C47: continuo | D47: =C73 -> 4 | E47: 170 | F47: =D47*E47*1.5*G47 -> 5100 | G47: =COUNTIF(H47:S47,"o") -> 5 | O47: o | P47: o | Q47: o | R47: o | S47: o | T47: 4 | U47: 170 | V47: =T47*U47*1.5*W47 -> 2040 | W47: =COUNTIF(X47:AA47,"o") -> 2 | Z47: o | AA47: o | AB47: 4 | AC47: 160 | AD47: =AB47*AC47*1.5*AE47 -> 960 | AE47: =COUNTIF(AF47:AH47,"o") -> 1 | AH47: o
C48: cordes | D48: =C74 -> 14 | E48: 170 | F48: =D48*E48*1.5*G48 -> 14280 | G48: =COUNTIF(H48:S48,"o") -> 4 | P48: o | Q48: o | R48: o | S48: o | T48: 10 | U48: 160 | V48: =T48*U48*1.5*W48 -> 4800 | W48: =COUNTIF(X48:AA48,"o") -> 2 | Z48: o | AA48: o | AB48: 10 | AC48: 160 | AD48: =AB48*AC48*1.5*AE48 -> 2400 | AE48: =COUNTIF(AF48:AH48,"o") -> 1 | AH48: o
C49: vents | D49: =C75 -> 3 | E49: 170 | F49: =D49*E49*1.5*G49 -> 3060 | G49: =COUNTIF(H49:S49,"o") -> 4 | P49: o | Q49: o | R49: o | S49: o | T49: 3 | U49: 160 | V49: =T49*U49*1.5*W49 -> 1440 | W49: =COUNTIF(X49:AA49,"o") -> 2 | Z49: o | AA49: o | AB49: 3 | AC49: 160 | AD49: =AB49*AC49*1.5*AE49 -> 720 | AE49: =COUNTIF(AF49:AH49,"o") -> 1 | AH49: o
C50: cuivres | D50: =C76 -> 0 | F50: =D50*E50*1.5*G50 -> 0 | G50: =COUNTIF(H50:S50,"o") -> 0 | V50: =T50*U50*1.5*W50 -> 0 | W50: =COUNTIF(X50:AA50,"o") -> 0 | AD50: =AB50*AC50*1.5*AE50 -> 0 | AE50: =COUNTIF(AF50:AH50,"o") -> 0
C51: autre | D51: =C77 -> 0 | F51: =D51*E51*1.5*G51 -> 0 | G51: =COUNTIF(H51:S51,"o") -> 0 | V51: =T51*U51*1.5*W51 -> 0 | W51: =COUNTIF(X51:AA51,"o") -> 0 | AD51: =AB51*AC51*1.5*AE51 -> 0 | AE51: =COUNTIF(AF51:AH51,"o") -> 0
B53: choriste | C53: soprano | D53: =C80 -> 0 | F53: =D53*E53*1.5*G53 -> 0 | G53: =COUNTIF(H53:S53,"o") -> 0 | V53: =T53*U53*1.5*W53 -> 0 | W53: =COUNTIF(X53:AA53,"o") -> 0 | AD53: =AB53*AC53*1.5*AE53 -> 0 | AE53: =COUNTIF(AF53:AH53,"o") -> 0
C54: mezzo/alto | D54: =C81 -> 0 | F54: =D54*E54*1.5*G54 -> 0 | G54: =COUNTIF(H54:S54,"o") -> 0 | V54: =T54*U54*1.5*W54 -> 0 | W54: =COUNTIF(X54:AA54,"o") -> 0 | AD54: =AB54*AC54*1.5*AE54 -> 0 | AE54: =COUNTIF(AF54:AH54,"o") -> 0
...

Sheet Batailles & Carnaval
A1: PROJETS : | C1: BATAILLES & CARNAVAL
A3: titre | B3: Batailles et Carnaval
A4: compositeur
A7: effectif global | B7: =$C$64+B9 -> 8 | E7: budget de création | F7: =SUM($F$38:$F$39,$F$41:$F$45,$F$47:$F$51,$F$53:$F$56,$F$58:$F$60) -> 6480
A8: équipe artistique | B8: =$C$66 -> 1 | E8: coût plateau | F8: =SUM($F$38:$F$39,$F$41:$F$45)+(SUM($E$47*$D$47,$E$48*$D$48,$E$49*$D$49,$E$50*$D$50,$E$51*$D$51,$E$53*$D$53,$E$54*$D$54,$E$55*$D$55,$E$56*$D$56,$E$58*$D$58,$E$59*$D$59,$E$60*$D$60)*1.5) -> 2880
A9: solistes | B9: 0 | E9: coût solistes | F9: =SUM($F$41:$F$45) -> 0
A10: nb instmt | B10: =$C$72 -> 3 | E10: journée tutti | F10: =SUM($D$47*$E$47,$D$48*$E$48,$D$49*$E$49,$D$50*$E$50,$D$51*$E$51,$D$53*$E$53,$D$54*$E$54,$D$55*$E$55,$D$56*$E$56,$D$58*$E$58,$D$59*$E$59,$D$60*$E$60)*1.5 -> 1980
A11: nb de choristes | B11: =$C$79 -> 4 | E11: journée orchestre | F11: =(SUM($D$47*$E$47,$D$48*$E$48,$D$49*$E$49,$D$50*$E$50,$D$51*$E$51)*1.5)+($E$60*1.5) -> 840
A12: production | B12: =$C$85 -> 0 | E12: journée cordes | F12: =SUM($D$47*$E$47,$D$48*$E$48)*1.5 -> 840
E13: journée chœur | F13: =(SUM(D53:D56)*E53*1.5)+(E60*1.5) -> 1080
E14: montage
A17: phase I | C17: coût HT | E17: phase II
A18: création | C18: =$C$19+$C$20 -> 4260 | E18: exploitation | G18: =$G$19+$G$20 -> 2880
B19: répétition | C19: =($F$47-($D$47*$E$47))+($F$48-($D$48*$E$48))+($F$49-($D$49*$E$49))+($F$50-($D$50*$E$50))+($F$51-($D$51*$E$51))+($F$53-($D$53*$E$53))+($F$54-($D$54*$E$54))+($F$55-($D$55*$E$55))+($F$56-($D$56*$E$56)) -> 4260 | F19: M.S.plateau | G19: =SUM($F$38:$F$39,$F$41:$F$45)+(SUM($E$47*$D$47,$E$48*$D$48,$E$49*$D$49,$E$50*$D$50,$E$51*$D$51,$E$53*$D$53,$E$54*$D$54,$E$55*$D$55,$E$56*$D$56,$E$59*$D$58,$E$59*$D$59,$E$60*$D$60)*1.5) -> 2880
B20: construction | C20: =IF(W67,"",0) -> 0 | F20: achat exploitation | G20: 0
A22: diffusion | C22: =C23+C24 -> 0 | E22: nbr de spect. envisagées. | G22: 1
B23: MS diffusion
B24: achat diffusion | E24: amortissement | G24: =$G$25+$G$26 -> 4260
A25: coût création | C25: =$C$22+$C$18 -> 4260 | F25: création | G25: =$C$18/$G$22 -> 4260
F26: diffusion | G26: =$C$22/$G$22 -> 0
A27: appréciation bénévolat | C27: =C28+C29 -> 0 | E27: coût plateau | G27: =$G$18+$G$24 -> 7140
B28: création - bénévolat
B29: diff. - bénévolat | E29: amortissement frais fixes
A31: proposition cession HT | G31: =$G$27+$G$29 -> 7140
E36: planning de création | T36: scénario de reprise I | AB36: scénario de reprise II
C37: catégories | D37: nbr | E37: salaire journalier brut /personne | F37: Masse salariale chargée | G37: nbr de jour | H37: J-10 | I37: J-9 | J37: J-8 | K37: J-7 | L37: J-6 | M37: J-5 | N37: J-4 | O37: J-3 | P37: J-2 | Q37: J-1 | R37: J | S37: J+1 | T37: nbr | U37: sal/brut/pers | V37: masse salariale chargée | W37: nbr de jour | X37: J-3 | Y37: J-2 | Z37: J-1 | AA37: J | AB37: nbr | AC37: sal/brut/pers | AD37: masse salariale chargée | AE37: nbr de jour | AF37: J-2 | AG37: J-1 | AH37: J
B38: équipe artistique | C38: d.m | D38: =C67 -> 1 | E38: 600 | F38: =D38*E38*1.5 -> 900 | G38: =COUNTIF(H38:S38,"o") -> 4 | O38: o | P38: o | Q38: o | R38: o | T38: =C66 -> 1 | U38: 600 | V38: =T38*U38*1.5 -> 900 | W38: =COUNTIF(X38:AA38,"o") -> 4 | X38: o | Y38: o | Z38: o | AA38: o | AB38: =C67 -> 1 | AD38: =AB38*AC38*1.5 -> 0 | AE38: =COUNTIF(AF38:AH38,"o") -> 0
B39: cachet | D39: =C68 -> 0 | F39: =D39*E39*1.5 -> 0 | G39: =COUNTIF(H39:S39,"o") -> 0 | V39: =T39*U39*1.5 -> 0 | W39: =COUNTIF(X39:AA39,"o") -> 0 | AD39: =AB39*AC39*1.5 -> 0 | AE39: =COUNTIF(AF39:AH39,"o") -> 0
B41: solistes | D41: 0 | F41: =D41*E41*1.5 -> 0 | G41: =COUNTIF(H41:S41,"o") -> 0 | T41: =D41 -> 0 | V41: =T41*U41*1.5 -> 0 | W41: =COUNTIF(X41:AA41,"o") -> 0 | AD41: =AB41*AC41*1.5 -> 0 | AE41: =COUNTIF(AF41:AH41,"o") -> 0
B42: cachet | D42: 0 | F42: =D42*E42*1.5 -> 0 | G42: =COUNTIF(H42:S42,"o") -> 0 | T42: =D42 -> 0 | V42: =T42*U42*1.5 -> 0 | W42: =COUNTIF(X42:AA42,"o") -> 0 | AD42: =AB42*AC42*1.5 -> 0 | AE42: =COUNTIF(AF42:AH42,"o") -> 0
D43: 0 | F43: =D43*E43*1.5 -> 0 | G43: =COUNTIF(H43:S43,"o") -> 0 | T43: =D43 -> 0 | V43: =T43*U43*1.5 -> 0 | W43: =COUNTIF(X43:AA43,"o") -> 0 | AD43: =AB43*AC43*1.5 -> 0 | AE43: =COUNTIF(AF43:AH43,"o") -> 0
C44: petits rôles | D44: 0 | F44: =D44*E44*1.5 -> 0 | G44: =COUNTIF(H44:S44,"o") -> 0 | T44: =D44 -> 0 | V44: =T44*U44*1.5 -> 0 | W44: =COUNTIF(X44:AA44,"o") -> 0 | AD44: =AB44*AC44*1.5 -> 0 | AE44: =COUNTIF(AF44:AH44,"o") -> 0
C45: A1 | D45: 0 | F45: =D45*E45*1.15 -> 0 | G45: =COUNTIF(H45:S45,"o") -> 0 | T45: =D45 -> 0 | V45: =T45*U45*1.15 -> 0 | W45: =COUNTIF(X45:AA45,"o") -> 0 | AD45: =AB45*AC45*1.15 -> 0 | AE45: =COUNTIF(AF45:AH45,"o") -> 0
B47: orchestre | C47: continuo | D47: =C73 -> 1 | E47: 220 | F47: =D47*E47*1.5*G47 -> 660 | G47: =COUNTIF(H47:S47,"o") -> 2 | Q47: o | R47: o | T47: 1 | U47: 220 | V47: =T47*U47*1.5*W47 -> 660 | W47: =COUNTIF(X47:AA47,"o") -> 2 | Z47: o | AA47: o | AD47: =AB47*AC47*1.5*AE47 -> 0 | AE47: =COUNTIF(AF47:AH47,"o") -> 0
C48: cordes | D48: =C74 -> 2 | E48: 170 | F48: =D48*E48*1.5*G48 -> 1020 | G48: =COUNTIF(H48:S48,"o") -> 2 | Q48: o | R48: o | T48: 2 | U48: 170 | V48: =T48*U48*1.5*W48 -> 1020 | W48: =COUNTIF(X48:AA48,"o") -> 2 | Z48: o | AA48: o | AD48: =AB48*AC48*1.5*AE48 -> 0 | AE48: =COUNTIF(AF48:AH48,"o") -> 0
C49: vents | D49: =C75 -> 0 | F49: =D49*E49*1.5*G49 -> 0 | G49: =COUNTIF(H49:S49,"o") -> 0 | V49: =T49*U49*1.5*W49 -> 0 | W49: =COUNTIF(X49:AA49,"o") -> 0 | AD49: =AB49*AC49*1.5*AE49 -> 0 | AE49: =COUNTIF(AF49:AH49,"o") -> 0
C50: cuivres | D50: =C76 -> 0 | F50: =D50*E50*1.5*G50 -> 0 | G50: =COUNTIF(H50:S50,"o") -> 0 | V50: =T50*U50*1.5*W50 -> 0 | W50: =COUNTIF(X50:AA50,"o") -> 0 | AD50: =AB50*AC50*1.5*AE50 -> 0 | AE50: =COUNTIF(AF50:AH50,"o") -> 0
C51: autre | D51: =C77 -> 0 | F51: =D51*E51*1.5*G51 -> 0 | G51: =COUNTIF(H51:S51,"o") -> 0 | V51: =T51*U51*1.5*W51 -> 0 | W51: =COUNTIF(X51:AA51,"o") -> 0 | AD51: =AB51*AC51*1.5*AE51 -> 0 | AE51: =COUNTIF(AF51:AH51,"o") -> 0
B53: choriste | C53: soprano | D53: =C80 -> 1 | E53: 180 | F53: =D53*E53*1.5*G53 -> 1080 | G53: =COUNTIF(H53:S53,"o") -> 4 | O53: o | P53: o | Q53: o | R53: o | T53: 1 | U53: 180 | V53: =T53*U53*1.5*W53 -> 1080 | W53: =COUNTIF(X53:AA53,"o") -> 4 | X53: o | Y53: o | Z53: o | AA53: o | AD53: =AB53*AC53*1.5*AE53 -> 0 | AE53: =COUNTIF(AF53:AH53,"o") -> 0
C54: mezzo/alto | D54: =C81 -> 1 | E54: 220 | F54: =D54*E54*1.5*G54 -> 660 | G54: =COUNTIF(H54:S54,"o") -> 2 | Q54: o | R54: o | T54: 1 | U54: 220 | V54: =T54*U54*1.5*W54 -> 660 | W54: =COUNTIF(X54:AA54,"o") -> 2 | Z54: o | AA54: o | AD54: =AB54*AC54*1.5*AE54 -> 0 | AE54: =COUNTIF(AF54:AH54,"o") -> 0
...

Sheet CD Couperin
A1: PROJETS : | C1: CD couperin
A3: titre | B3: CD couperin
A4: compositeur | B4: Couperin
A7: effectif global | B7: =B58 -> 5
A8: équipe artistique | B8: =B59 -> 1
A9: solistes | B9: 2
A10: nb instmt | B10: =B65 -> 4
A11: nb de choristes | B11: =B72 -> 0
A12: production | B12: =B78 -> 0
A15: budget de création | B15: =SUM(E32:E33,E35:E39,E41:E45,E47:E50,E52:E54) -> 3975 | E15: effectif | F15: coût
A16: coût plateau | B16: =SUM(E32:E33,E35:E39)+(SUM(D41*C41,D42*C42,D43*C43,D44*C44,D45*C45,D47*C47,D48*C48,D49*C49,D50*C50,D52*C52,D53*C53,D54*C54)*1.5) -> 1950 | D16: reprise I | E16: =SUM(S32:S33,S35:S39,S41:S45,S47:S50,S52:S54) -> 3 | F16: =SUM(U32:U33,U35:U39,U41:U45,U47:U50,U52:U54) -> 0
A17: coût solistes | B17: =SUM(E35:E39) -> 600 | D17: solistes | E17: =SUM(S35:S39) -> 2 | F17: =SUM(U35:U39) -> 0
A18: journée tutti | B18: =SUM(C41*D41,C42*D42,C43*D43,C44*D44,C45*D45,C47*D47,C48*D48,C49*D49,C50*D50,C52*D52,C53*D53,C54*D54)*1.5 -> 1050 | D18: frais I
A19: journée orchestre | B19: =(SUM(C41*D41,C42*D42,C43*D43,C44*D44,C45*D45)*1.5)+(D52*1.5) -> 1050
A20: journée cordes | B20: =SUM(C41*D41,C42*D42)*1.5 -> 1050
A21: journée chœur | B21: =(SUM(C47:C50)*D49*1.5)+(D52*1.5) -> 0 | D21: reprise II | E21: =SUM(AA32:AA33,AA35:AA39,AA41:AA45,AA47:AA50,AA52:AA54) -> 1 | F21: =SUM(AC32:AC33:AC35:AC39,AC41:AC45,AC47:AC50,AC52:AC54) -> 0
D22: solistes | E22: =SUM(AA35:AA39) -> 0 | F22: =SUM(AB35:AB39) -> 0
A23: montage | D23: frais II
A24: estimation frais/date
D29: scénario de PLANNING
D30: planning de création | U30: scénario de reprise I | AA30: scénario de reprise II
B31: catégories | C31: nbr | D31: salaire journalier brut /personne | E31: Masse salariale chargée | F31: nbr de jour | G31: J-10 | H31: J-9 | I31: J-8 | J31: J-7 | K31: J-6 | L31: J-5 | M31: J-4 | N31: J-3 | O31: J-2 | P31: J-1 | Q31: J | R31: J+1 | S31: nbr | T31: sal/brut/pers | U31: masse salariale chargée | V31: nbr de jour | W31: J-3 | X31: J-2 | Y31: J-1 | Z31: J | AA31: nbr | AB31: sal/brut/pers | AC31: masse salariale chargée | AD31: nbr de jour | AE31: J-2 | AF31: J-1 | AG31: J
A32: équipe artistique | B32: d.m | C32: =B60 -> 1 | D32: 200 | E32: =C32*D32*1.5 -> 300 | F32: =COUNTIF(G32:R32,"o") -> 2 | O32: o | P32: o | S32: =B59 -> 1 | U32: =S32*T32*1.5 -> 0 | V32: =COUNTIF(W32:Z32,"o") -> 0 | AA32: =B60 -> 1 | AC32: =AA32*AB32*1.5 -> 0 | AD32: =COUNTIF(AE32:AG32,"o") -> 0
A33: cachet | C33: =B61 -> 0 | E33: =C33*D33*1.5 -> 0 | F33: =COUNTIF(G33:R33,"o") -> 0 | U33: =S33*T33*1.5 -> 0 | V33: =COUNTIF(W33:Z33,"o") -> 0 | AC33: =AA33*AB33*1.5 -> 0 | AD33: =COUNTIF(AE33:AG33,"o") -> 0
A35: solistes | C35: 1 | D35: 150 | E35: =C35*D35*1.5 -> 225 | F35: =COUNTIF(G35:R35,"o") -> 4 | O35: o | P35: o | Q35: o | R35: o | S35: =C35 -> 1 | U35: =S35*T35*1.5 -> 0 | V35: =COUNTIF(W35:Z35,"o") -> 0 | AC35: =AA35*AB35*1.5 -> 0 | AD35: =COUNTIF(AE35:AG35,"o") -> 0
A36: cachet | C36: 1 | D36: 250 | E36: =C36*D36*1.5 -> 375 | F36: =COUNTIF(G36:R36,"o") -> 2 | O36: o | P36: o | S36: =C36 -> 1 | U36: =S36*T36*1.5 -> 0 | V36: =COUNTIF(W36:Z36,"o") -> 0 | AC36: =AA36*AB36*1.5 -> 0 | AD36: =COUNTIF(AE36:AG36,"o") -> 0
C37: 0 | E37: =C37*D37*1.5 -> 0 | F37: =COUNTIF(G37:R37,"o") -> 0 | S37: =C37 -> 0 | U37: =S37*T37*1.5 -> 0 | V37: =COUNTIF(W37:Z37,"o") -> 0 | AC37: =AA37*AB37*1.5 -> 0 | AD37: =COUNTIF(AE37:AG37,"o") -> 0
B38: petits rôles | C38: 0 | E38: =C38*D38*1.5 -> 0 | F38: =COUNTIF(G38:R38,"o") -> 0 | S38: =C38 -> 0 | U38: =S38*T38*1.5 -> 0 | V38: =COUNTIF(W38:Z38,"o") -> 0 | AC38: =AA38*AB38*1.5 -> 0 | AD38: =COUNTIF(AE38:AG38,"o") -> 0
B39: A1 | C39: 0 | E39: =C39*D39*1.15 -> 0 | F39: =COUNTIF(G39:R39,"o") -> 0 | S39: =C39 -> 0 | U39: =S39*T39*1.15 -> 0 | V39: =COUNTIF(W39:Z39,"o") -> 0 | AC39: =AA39*AB39*1.15 -> 0 | AD39: =COUNTIF(AE39:AG39,"o") -> 0
A41: orchestre | B41: continuo | C41: =B66 -> 3 | D41: 150 | E41: =C41*D41*1.5*F41 -> 2700 | F41: =COUNTIF(G41:R41,"o") -> 4 | O41: o | P41: o | Q41: o | R41: o | U41: =S41*T41*1.5*V41 -> 0 | V41: =COUNTIF(W41:Z41,"o") -> 0 | AC41: =AA41*AB41*1.5*AD41 -> 0 | AD41: =COUNTIF(AE41:AG41,"o") -> 0
B42: cordes | C42: =B67 -> 1 | D42: 250 | E42: =C42*D42*1.5*F42 -> 375 | F42: =COUNTIF(G42:R42,"o") -> 1 | R42: o | U42: =S42*T42*1.5*V42 -> 0 | V42: =COUNTIF(W42:Z42,"o") -> 0 | AC42: =AA42*AB42*1.5*AD42 -> 0 | AD42: =COUNTIF(AE42:AG42,"o") -> 0
B43: vents | C43: =B68 -> 0 | E43: =C43*D43*1.5*F43 -> 0 | F43: =COUNTIF(G43:R43,"o") -> 0 | U43: =S43*T43*1.5*V43 -> 0 | V43: =COUNTIF(W43:Z43,"o") -> 0 | AC43: =AA43*AB43*1.5*AD43 -> 0 | AD43: =COUNTIF(AE43:AG43,"o") -> 0
B44: cuivres | C44: =B69 -> 0 | E44: =C44*D44*1.5*F44 -> 0 | F44: =COUNTIF(G44:R44,"o") -> 0 | U44: =S44*T44*1.5*V44 -> 0 | V44: =COUNTIF(W44:Z44,"o") -> 0 | AC44: =AA44*AB44*1.5*AD44 -> 0 | AD44: =COUNTIF(AE44:AG44,"o") -> 0
