Workbook
Name Fer: Fériés!$B$2:$B$16
Name HF: MODELE!$R$7
Name HJ: MODELE!$R$3
Name HN: MODELE!$R$4
Name HS_1: MODELE!$R$5
Name HS_2: MODELE!$R$6

Sheet MODELE
B1: COMPTEUR: | C1: 25% | D1: =N38/"1:" -> 0 | F1: 50% | G1: =O38/"1:" -> 0 | I1: 100% NUIT | K1: =J38/"1:" -> 0 | M1: 100% D&F | O1: =K38/"1:" -> 2
A2: 43617 | B2: Date début de la vacation | C2: 1 si Férié chômé et payé | D2: DEBUT | E2: PAUSE | F2: REPRISE | G2: FIN | H2: Total Journée Nuit + Jour | I2: ="Dont H Jour ("&TEXT(HJ,"hh")&" à "&TEXT(HN,"hh")&")" -> Dont H Jour (07 à 20) | J2: ="Dont H Nuit ("&TEXT(HN,"hh")&" à "&TEXT(HJ,"hh")&")" -> Dont H Nuit (20 à 07) | K2: Dont H fériées + dimanche | L2: Total hebdo | M2: Dont 0 à 35 | N2: Dont 35 à 43 | O2: Dont >43 | P2: ASTREINTES CONGES ABSENCES
A3: =MID(CELL("filename",A1),FIND("]",CELL("filename",A1))+1,32) -> MODELE | B3: =IF(OR( DAY(EOMONTH(A2,-1))-DAY(DATE(YEAR(A2),MONTH(A2),0)+2-WEEKDAY(DATE(YEAR(A2),MONTH(A2),0)))<3, DAY(EOMONTH(A2,-1))-DAY(DATE(YEAR(A2),MONTH(A2),0)+2-WEEKDAY(DATE(YEAR(A2),MONTH(A2),0)))>7), DATE(YEAR(A2),MONTH(A2),0)+2-WEEKDAY(DATE(YEAR(A2),MONTH(A2),0)), DATE(YEAR(A2),MONTH(A2),0)+2-WEEKDAY(DATE(YEAR(A2),MONTH(A2),0))+7) -> 43619 | H3: =MAX(MOD(($E3+$G3-$D3-$F3),1),C3*HF) -> 0 | I3: =$H3-$J3 -> 0 | J3: =($D3<>"")*(MAX(0,MIN($E3,HJ)-IF($E3>$D3,$D3,MIN(0,$D3-HJ)))+MAX(0,1-MAX(HN,$D3)-IF($E3>$D3,1-$E3,MIN(0,HN-$E3)))) +($F3<>"")*(MAX(0,MIN($G3,HJ)-IF($G3>$F3,$F3,MIN(0,$F3-HJ)))+MAX(0,1-MAX(HN,$F3)-IF($G3>$F3,1-$G3,MIN(0,HN-$G3)))) -> 0 | K3: =MAX(COUNTIF(Fer,B3)*($E3<$D3)*($E3-MIN(0,$D3)) +COUNTIF(Fer,B3)*($F3<$E3)*($G3-$F3) +COUNTIF(Fer,B3)*($F3>$E3)*($G3<$F3)*($G3-MIN($F3,0)) +COUNTIF(Fer,B3)*($E3>$D3)*(MIN($E3,1)-$D3) +COUNTIF(Fer,B3)*($E3<$D3)*(MAX($E3,1)-$D3) +COUNTIF(Fer,B3)*($G3>$F3)*($F3>$E3)*(MIN($G3,1)-$F3) +COUNTIF(Fer,B3)*($G3<$F3)*($F3>$E3)*(MAX($G3,1)-$F3), (WEEKDAY(B3)=1)*H3,C3*HF) -> 0 | L3: =(WEEKDAY(B3)=1)*SUM(OFFSET(H3,,,-MIN(ROWS($3:3),7))) -> 0 | M3: =(WEEKDAY(B3)=1)*MIN(HS_1,L3) -> 0 | N3: =(WEEKDAY(B3)=1)*MIN(HS_2-HS_1,L3-M3) -> 0 | O3: =(WEEKDAY(B3)=1)*L3-M3-N3 -> 0 | P3: CONGE | Q3: Début jour : | R3: 0.29166667
B4: =B3+1 -> 43620 | H4: =MAX(MOD(($E4+$G4-$D4-$F4),1),C4*HF) -> 0 | I4: =$H4-$J4 -> 0 | J4: =($D4<>"")*(MAX(0,MIN($E4,HJ)-IF($E4>$D4,$D4,MIN(0,$D4-HJ)))+MAX(0,1-MAX(HN,$D4)-IF($E4>$D4,1-$E4,MIN(0,HN-$E4)))) +($F4<>"")*(MAX(0,MIN($G4,HJ)-IF($G4>$F4,$F4,MIN(0,$F4-HJ)))+MAX(0,1-MAX(HN,$F4)-IF($G4>$F4,1-$G4,MIN(0,HN-$G4)))) -> 0 | K4: =MAX(COUNTIF(Fer,B4)*($E4<$D4)*($E4-MIN(0,$D4)) +COUNTIF(Fer,B4)*($F4<$E4)*($G4-$F4) +COUNTIF(Fer,B4)*($F4>$E4)*($G4<$F4)*($G4-MIN($F4,0)) +COUNTIF(Fer,B4)*($E4>$D4)*(MIN($E4,1)-$D4) +COUNTIF(Fer,B4)*($E4<$D4)*(MAX($E4,1)-$D4) +COUNTIF(Fer,B4)*($G4>$F4)*($F4>$E4)*(MIN($G4,1)-$F4) +COUNTIF(Fer,B4)*($G4<$F4)*($F4>$E4)*(MAX($G4,1)-$F4), (WEEKDAY(B4)=1)*H4,C4*HF) -> 0 | L4: =(WEEKDAY(B4)=1)*SUM(OFFSET(H4,,,-MIN(ROWS($3:4),7))) -> 0 | M4: =(WEEKDAY(B4)=1)*MIN(HS_1,L4) -> 0 | N4: =(WEEKDAY(B4)=1)*MIN(HS_2-HS_1,L4-M4) -> 0 | O4: =(WEEKDAY(B4)=1)*L4-M4-N4 -> 0 | P4: CONGE | Q4: Début nuit : | R4: 0.83333333
B5: =B4+1 -> 43621 | H5: =MAX(MOD(($E5+$G5-$D5-$F5),1),C5*HF) -> 0 | I5: =$H5-$J5 -> 0 | J5: =($D5<>"")*(MAX(0,MIN($E5,HJ)-IF($E5>$D5,$D5,MIN(0,$D5-HJ)))+MAX(0,1-MAX(HN,$D5)-IF($E5>$D5,1-$E5,MIN(0,HN-$E5)))) +($F5<>"")*(MAX(0,MIN($G5,HJ)-IF($G5>$F5,$F5,MIN(0,$F5-HJ)))+MAX(0,1-MAX(HN,$F5)-IF($G5>$F5,1-$G5,MIN(0,HN-$G5)))) -> 0 | K5: =MAX(COUNTIF(Fer,B5)*($E5<$D5)*($E5-MIN(0,$D5)) +COUNTIF(Fer,B5)*($F5<$E5)*($G5-$F5) +COUNTIF(Fer,B5)*($F5>$E5)*($G5<$F5)*($G5-MIN($F5,0)) +COUNTIF(Fer,B5)*($E5>$D5)*(MIN($E5,1)-$D5) +COUNTIF(Fer,B5)*($E5<$D5)*(MAX($E5,1)-$D5) +COUNTIF(Fer,B5)*($G5>$F5)*($F5>$E5)*(MIN($G5,1)-$F5) +COUNTIF(Fer,B5)*($G5<$F5)*($F5>$E5)*(MAX($G5,1)-$F5), (WEEKDAY(B5)=1)*H5,C5*HF) -> 0 | L5: =(WEEKDAY(B5)=1)*SUM(OFFSET(H5,,,-MIN(ROWS($3:5),7))) -> 0 | M5: =(WEEKDAY(B5)=1)*MIN(HS_1,L5) -> 0 | N5: =(WEEKDAY(B5)=1)*MIN(HS_2-HS_1,L5-M5) -> 0 | O5: =(WEEKDAY(B5)=1)*L5-M5-N5 -> 0 | Q5: HS_1 : > | R5: =RIGHT(M2,2)/24 -> 1.4583333
B6: =B5+1 -> 43622 | H6: =MAX(MOD(($E6+$G6-$D6-$F6),1),C6*HF) -> 0 | I6: =$H6-$J6 -> 0 | J6: =($D6<>"")*(MAX(0,MIN($E6,HJ)-IF($E6>$D6,$D6,MIN(0,$D6-HJ)))+MAX(0,1-MAX(HN,$D6)-IF($E6>$D6,1-$E6,MIN(0,HN-$E6)))) +($F6<>"")*(MAX(0,MIN($G6,HJ)-IF($G6>$F6,$F6,MIN(0,$F6-HJ)))+MAX(0,1-MAX(HN,$F6)-IF($G6>$F6,1-$G6,MIN(0,HN-$G6)))) -> 0 | K6: =MAX(COUNTIF(Fer,B6)*($E6<$D6)*($E6-MIN(0,$D6)) +COUNTIF(Fer,B6)*($F6<$E6)*($G6-$F6) +COUNTIF(Fer,B6)*($F6>$E6)*($G6<$F6)*($G6-MIN($F6,0)) +COUNTIF(Fer,B6)*($E6>$D6)*(MIN($E6,1)-$D6) +COUNTIF(Fer,B6)*($E6<$D6)*(MAX($E6,1)-$D6) +COUNTIF(Fer,B6)*($G6>$F6)*($F6>$E6)*(MIN($G6,1)-$F6) +COUNTIF(Fer,B6)*($G6<$F6)*($F6>$E6)*(MAX($G6,1)-$F6), (WEEKDAY(B6)=1)*H6,C6*HF) -> 0 | L6: =(WEEKDAY(B6)=1)*SUM(OFFSET(H6,,,-MIN(ROWS($3:6),7))) -> 0 | M6: =(WEEKDAY(B6)=1)*MIN(HS_1,L6) -> 0 | N6: =(WEEKDAY(B6)=1)*MIN(HS_2-HS_1,L6-M6) -> 0 | O6: =(WEEKDAY(B6)=1)*L6-M6-N6 -> 0 | Q6: HS_2 : > | R6: =RIGHT(N2,2)/24 -> 1.7916667
B7: =B6+1 -> 43623 | H7: =MAX(MOD(($E7+$G7-$D7-$F7),1),C7*HF) -> 0 | I7: =$H7-$J7 -> 0 | J7: =($D7<>"")*(MAX(0,MIN($E7,HJ)-IF($E7>$D7,$D7,MIN(0,$D7-HJ)))+MAX(0,1-MAX(HN,$D7)-IF($E7>$D7,1-$E7,MIN(0,HN-$E7)))) +($F7<>"")*(MAX(0,MIN($G7,HJ)-IF($G7>$F7,$F7,MIN(0,$F7-HJ)))+MAX(0,1-MAX(HN,$F7)-IF($G7>$F7,1-$G7,MIN(0,HN-$G7)))) -> 0 | K7: =MAX(COUNTIF(Fer,B7)*($E7<$D7)*($E7-MIN(0,$D7)) +COUNTIF(Fer,B7)*($F7<$E7)*($G7-$F7) +COUNTIF(Fer,B7)*($F7>$E7)*($G7<$F7)*($G7-MIN($F7,0)) +COUNTIF(Fer,B7)*($E7>$D7)*(MIN($E7,1)-$D7) +COUNTIF(Fer,B7)*($E7<$D7)*(MAX($E7,1)-$D7) +COUNTIF(Fer,B7)*($G7>$F7)*($F7>$E7)*(MIN($G7,1)-$F7) +COUNTIF(Fer,B7)*($G7<$F7)*($F7>$E7)*(MAX($G7,1)-$F7), (WEEKDAY(B7)=1)*H7,C7*HF) -> 0 | L7: =(WEEKDAY(B7)=1)*SUM(OFFSET(H7,,,-MIN(ROWS($3:7),7))) -> 0 | M7: =(WEEKDAY(B7)=1)*MIN(HS_1,L7) -> 0 | N7: =(WEEKDAY(B7)=1)*MIN(HS_2-HS_1,L7-M7) -> 0 | O7: =(WEEKDAY(B7)=1)*L7-M7-N7 -> 0 | P7: CONGE | Q7: Férié | R7: 0.29166667
B8: =B7+1 -> 43624 | D8: 0.5 | E8: 0.58333333 | H8: =MAX(MOD(($E8+$G8-$D8-$F8),1),C8*HF) -> 0.083333333 | I8: =$H8-$J8 -> 0.083333333 | J8: =($D8<>"")*(MAX(0,MIN($E8,HJ)-IF($E8>$D8,$D8,MIN(0,$D8-HJ)))+MAX(0,1-MAX(HN,$D8)-IF($E8>$D8,1-$E8,MIN(0,HN-$E8)))) +($F8<>"")*(MAX(0,MIN($G8,HJ)-IF($G8>$F8,$F8,MIN(0,$F8-HJ)))+MAX(0,1-MAX(HN,$F8)-IF($G8>$F8,1-$G8,MIN(0,HN-$G8)))) -> 0 | K8: =MAX(COUNTIF(Fer,B8)*($E8<$D8)*($E8-MIN(0,$D8)) +COUNTIF(Fer,B8)*($F8<$E8)*($G8-$F8) +COUNTIF(Fer,B8)*($F8>$E8)*($G8<$F8)*($G8-MIN($F8,0)) +COUNTIF(Fer,B8)*($E8>$D8)*(MIN($E8,1)-$D8) +COUNTIF(Fer,B8)*($E8<$D8)*(MAX($E8,1)-$D8) +COUNTIF(Fer,B8)*($G8>$F8)*($F8>$E8)*(MIN($G8,1)-$F8) +COUNTIF(Fer,B8)*($G8<$F8)*($F8>$E8)*(MAX($G8,1)-$F8), (WEEKDAY(B8)=1)*H8,C8*HF) -> 0 | L8: =(WEEKDAY(B8)=1)*SUM(OFFSET(H8,,,-MIN(ROWS($3:8),7))) -> 0 | M8: =(WEEKDAY(B8)=1)*MIN(HS_1,L8) -> 0 | N8: =(WEEKDAY(B8)=1)*MIN(HS_2-HS_1,L8-M8) -> 0 | O8: =(WEEKDAY(B8)=1)*L8-M8-N8 -> 0 | P8: =IF(H8<>0,"ASTREINTE","") -> ASTREINTE
B9: =B8+1 -> 43625 | D9: 0.5 | E9: 0.58333333 | H9: =MAX(MOD(($E9+$G9-$D9-$F9),1),C9*HF) -> 0.083333333 | I9: =$H9-$J9 -> 0.083333333 | J9: =($D9<>"")*(MAX(0,MIN($E9,HJ)-IF($E9>$D9,$D9,MIN(0,$D9-HJ)))+MAX(0,1-MAX(HN,$D9)-IF($E9>$D9,1-$E9,MIN(0,HN-$E9)))) +($F9<>"")*(MAX(0,MIN($G9,HJ)-IF($G9>$F9,$F9,MIN(0,$F9-HJ)))+MAX(0,1-MAX(HN,$F9)-IF($G9>$F9,1-$G9,MIN(0,HN-$G9)))) -> 0 | K9: =MAX(COUNTIF(Fer,B9)*($E9<$D9)*($E9-MIN(0,$D9)) +COUNTIF(Fer,B9)*($F9<$E9)*($G9-$F9) +COUNTIF(Fer,B9)*($F9>$E9)*($G9<$F9)*($G9-MIN($F9,0)) +COUNTIF(Fer,B9)*($E9>$D9)*(MIN($E9,1)-$D9) +COUNTIF(Fer,B9)*($E9<$D9)*(MAX($E9,1)-$D9) +COUNTIF(Fer,B9)*($G9>$F9)*($F9>$E9)*(MIN($G9,1)-$F9) +COUNTIF(Fer,B9)*($G9<$F9)*($F9>$E9)*(MAX($G9,1)-$F9), (WEEKDAY(B9)=1)*H9,C9*HF) -> 0.083333333 | L9: =(WEEKDAY(B9)=1)*SUM(OFFSET(H9,,,-MIN(ROWS($3:9),7))) -> 0.16666667 | M9: =(WEEKDAY(B9)=1)*MIN(HS_1,L9) -> 0.16666667 | N9: =(WEEKDAY(B9)=1)*MIN(HS_2-HS_1,L9-M9) -> 0 | O9: =(WEEKDAY(B9)=1)*L9-M9-N9 -> 0 | P9: =IF(H9<>0,"ASTREINTE","") -> ASTREINTE
B10: =B9+1 -> 43626 | H10: =MAX(MOD(($E10+$G10-$D10-$F10),1),C10*HF) -> 0 | I10: =$H10-$J10 -> 0 | J10: =($D10<>"")*(MAX(0,MIN($E10,HJ)-IF($E10>$D10,$D10,MIN(0,$D10-HJ)))+MAX(0,1-MAX(HN,$D10)-IF($E10>$D10,1-$E10,MIN(0,HN-$E10)))) +($F10<>"")*(MAX(0,MIN($G10,HJ)-IF($G10>$F10,$F10,MIN(0,$F10-HJ)))+MAX(0,1-MAX(HN,$F10)-IF($G10>$F10,1-$G10,MIN(0,HN-$G10)))) -> 0 | K10: =MAX(COUNTIF(Fer,B10)*($E10<$D10)*($E10-MIN(0,$D10)) +COUNTIF(Fer,B10)*($F10<$E10)*($G10-$F10) +COUNTIF(Fer,B10)*($F10>$E10)*($G10<$F10)*($G10-MIN($F10,0)) +COUNTIF(Fer,B10)*($E10>$D10)*(MIN($E10,1)-$D10) +COUNTIF(Fer,B10)*($E10<$D10)*(MAX($E10,1)-$D10) +COUNTIF(Fer,B10)*($G10>$F10)*($F10>$E10)*(MIN($G10,1)-$F10) +COUNTIF(Fer,B10)*($G10<$F10)*($F10>$E10)*(MAX($G10,1)-$F10), (WEEKDAY(B10)=1)*H10,C10*HF) -> 0 | L10: =(WEEKDAY(B10)=1)*SUM(OFFSET(H10,,,-MIN(ROWS($3:10),7))) -> 0 | M10: =(WEEKDAY(B10)=1)*MIN(HS_1,L10) -> 0 | N10: =(WEEKDAY(B10)=1)*MIN(HS_2-HS_1,L10-M10) -> 0 | O10: =(WEEKDAY(B10)=1)*L10-M10-N10 -> 0
B11: =B10+1 -> 43627 | H11: =MAX(MOD(($E11+$G11-$D11-$F11),1),C11*HF) -> 0 | I11: =$H11-$J11 -> 0 | J11: =($D11<>"")*(MAX(0,MIN($E11,HJ)-IF($E11>$D11,$D11,MIN(0,$D11-HJ)))+MAX(0,1-MAX(HN,$D11)-IF($E11>$D11,1-$E11,MIN(0,HN-$E11)))) +($F11<>"")*(MAX(0,MIN($G11,HJ)-IF($G11>$F11,$F11,MIN(0,$F11-HJ)))+MAX(0,1-MAX(HN,$F11)-IF($G11>$F11,1-$G11,MIN(0,HN-$G11)))) -> 0 | K11: =MAX(COUNTIF(Fer,B11)*($E11<$D11)*($E11-MIN(0,$D11)) +COUNTIF(Fer,B11)*($F11<$E11)*($G11-$F11) +COUNTIF(Fer,B11)*($F11>$E11)*($G11<$F11)*($G11-MIN($F11,0)) +COUNTIF(Fer,B11)*($E11>$D11)*(MIN($E11,1)-$D11) +COUNTIF(Fer,B11)*($E11<$D11)*(MAX($E11,1)-$D11) +COUNTIF(Fer,B11)*($G11>$F11)*($F11>$E11)*(MIN($G11,1)-$F11) +COUNTIF(Fer,B11)*($G11<$F11)*($F11>$E11)*(MAX($G11,1)-$F11), (WEEKDAY(B11)=1)*H11,C11*HF) -> 0 | L11: =(WEEKDAY(B11)=1)*SUM(OFFSET(H11,,,-MIN(ROWS($3:11),7))) -> 0 | M11: =(WEEKDAY(B11)=1)*MIN(HS_1,L11) -> 0 | N11: =(WEEKDAY(B11)=1)*MIN(HS_2-HS_1,L11-M11) -> 0 | O11: =(WEEKDAY(B11)=1)*L11-M11-N11 -> 0
B12: =B11+1 -> 43628 | H12: =MAX(MOD(($E12+$G12-$D12-$F12),1),C12*HF) -> 0 | I12: =$H12-$J12 -> 0 | J12: =($D12<>"")*(MAX(0,MIN($E12,HJ)-IF($E12>$D12,$D12,MIN(0,$D12-HJ)))+MAX(0,1-MAX(HN,$D12)-IF($E12>$D12,1-$E12,MIN(0,HN-$E12)))) +($F12<>"")*(MAX(0,MIN($G12,HJ)-IF($G12>$F12,$F12,MIN(0,$F12-HJ)))+MAX(0,1-MAX(HN,$F12)-IF($G12>$F12,1-$G12,MIN(0,HN-$G12)))) -> 0 | K12: =MAX(COUNTIF(Fer,B12)*($E12<$D12)*($E12-MIN(0,$D12)) +COUNTIF(Fer,B12)*($F12<$E12)*($G12-$F12) +COUNTIF(Fer,B12)*($F12>$E12)*($G12<$F12)*($G12-MIN($F12,0)) +COUNTIF(Fer,B12)*($E12>$D12)*(MIN($E12,1)-$D12) +COUNTIF(Fer,B12)*($E12<$D12)*(MAX($E12,1)-$D12) +COUNTIF(Fer,B12)*($G12>$F12)*($F12>$E12)*(MIN($G12,1)-$F12) +COUNTIF(Fer,B12)*($G12<$F12)*($F12>$E12)*(MAX($G12,1)-$F12), (WEEKDAY(B12)=1)*H12,C12*HF) -> 0 | L12: =(WEEKDAY(B12)=1)*SUM(OFFSET(H12,,,-MIN(ROWS($3:12),7))) -> 0 | M12: =(WEEKDAY(B12)=1)*MIN(HS_1,L12) -> 0 | N12: =(WEEKDAY(B12)=1)*MIN(HS_2-HS_1,L12-M12) -> 0 | O12: =(WEEKDAY(B12)=1)*L12-M12-N12 -> 0
B13: =B12+1 -> 43629 | H13: =MAX(MOD(($E13+$G13-$D13-$F13),1),C13*HF) -> 0 | I13: =$H13-$J13 -> 0 | J13: =($D13<>"")*(MAX(0,MIN($E13,HJ)-IF($E13>$D13,$D13,MIN(0,$D13-HJ)))+MAX(0,1-MAX(HN,$D13)-IF($E13>$D13,1-$E13,MIN(0,HN-$E13)))) +($F13<>"")*(MAX(0,MIN($G13,HJ)-IF($G13>$F13,$F13,MIN(0,$F13-HJ)))+MAX(0,1-MAX(HN,$F13)-IF($G13>$F13,1-$G13,MIN(0,HN-$G13)))) -> 0 | K13: =MAX(COUNTIF(Fer,B13)*($E13<$D13)*($E13-MIN(0,$D13)) +COUNTIF(Fer,B13)*($F13<$E13)*($G13-$F13) +COUNTIF(Fer,B13)*($F13>$E13)*($G13<$F13)*($G13-MIN($F13,0)) +COUNTIF(Fer,B13)*($E13>$D13)*(MIN($E13,1)-$D13) +COUNTIF(Fer,B13)*($E13<$D13)*(MAX($E13,1)-$D13) +COUNTIF(Fer,B13)*($G13>$F13)*($F13>$E13)*(MIN($G13,1)-$F13) +COUNTIF(Fer,B13)*($G13<$F13)*($F13>$E13)*(MAX($G13,1)-$F13), (WEEKDAY(B13)=1)*H13,C13*HF) -> 0 | L13: =(WEEKDAY(B13)=1)*SUM(OFFSET(H13,,,-MIN(ROWS($3:13),7))) -> 0 | M13: =(WEEKDAY(B13)=1)*MIN(HS_1,L13) -> 0 | N13: =(WEEKDAY(B13)=1)*MIN(HS_2-HS_1,L13-M13) -> 0 | O13: =(WEEKDAY(B13)=1)*L13-M13-N13 -> 0
B14: =B13+1 -> 43630 | H14: =MAX(MOD(($E14+$G14-$D14-$F14),1),C14*HF) -> 0 | I14: =$H14-$J14 -> 0 | J14: =($D14<>"")*(MAX(0,MIN($E14,HJ)-IF($E14>$D14,$D14,MIN(0,$D14-HJ)))+MAX(0,1-MAX(HN,$D14)-IF($E14>$D14,1-$E14,MIN(0,HN-$E14)))) +($F14<>"")*(MAX(0,MIN($G14,HJ)-IF($G14>$F14,$F14,MIN(0,$F14-HJ)))+MAX(0,1-MAX(HN,$F14)-IF($G14>$F14,1-$G14,MIN(0,HN-$G14)))) -> 0 | K14: =MAX(COUNTIF(Fer,B14)*($E14<$D14)*($E14-MIN(0,$D14)) +COUNTIF(Fer,B14)*($F14<$E14)*($G14-$F14) +COUNTIF(Fer,B14)*($F14>$E14)*($G14<$F14)*($G14-MIN($F14,0)) +COUNTIF(Fer,B14)*($E14>$D14)*(MIN($E14,1)-$D14) +COUNTIF(Fer,B14)*($E14<$D14)*(MAX($E14,1)-$D14) +COUNTIF(Fer,B14)*($G14>$F14)*($F14>$E14)*(MIN($G14,1)-$F14) +COUNTIF(Fer,B14)*($G14<$F14)*($F14>$E14)*(MAX($G14,1)-$F14), (WEEKDAY(B14)=1)*H14,C14*HF) -> 0 | L14: =(WEEKDAY(B14)=1)*SUM(OFFSET(H14,,,-MIN(ROWS($3:14),7))) -> 0 | M14: =(WEEKDAY(B14)=1)*MIN(HS_1,L14) -> 0 | N14: =(WEEKDAY(B14)=1)*MIN(HS_2-HS_1,L14-M14) -> 0 | O14: =(WEEKDAY(B14)=1)*L14-M14-N14 -> 0
B15: =B14+1 -> 43631 | H15: =MAX(MOD(($E15+$G15-$D15-$F15),1),C15*HF) -> 0 | I15: =$H15-$J15 -> 0 | J15: =($D15<>"")*(MAX(0,MIN($E15,HJ)-IF($E15>$D15,$D15,MIN(0,$D15-HJ)))+MAX(0,1-MAX(HN,$D15)-IF($E15>$D15,1-$E15,MIN(0,HN-$E15)))) +($F15<>"")*(MAX(0,MIN($G15,HJ)-IF($G15>$F15,$F15,MIN(0,$F15-HJ)))+MAX(0,1-MAX(HN,$F15)-IF($G15>$F15,1-$G15,MIN(0,HN-$G15)))) -> 0 | K15: =MAX(COUNTIF(Fer,B15)*($E15<$D15)*($E15-MIN(0,$D15)) +COUNTIF(Fer,B15)*($F15<$E15)*($G15-$F15) +COUNTIF(Fer,B15)*($F15>$E15)*($G15<$F15)*($G15-MIN($F15,0)) +COUNTIF(Fer,B15)*($E15>$D15)*(MIN($E15,1)-$D15) +COUNTIF(Fer,B15)*($E15<$D15)*(MAX($E15,1)-$D15) +COUNTIF(Fer,B15)*($G15>$F15)*($F15>$E15)*(MIN($G15,1)-$F15) +COUNTIF(Fer,B15)*($G15<$F15)*($F15>$E15)*(MAX($G15,1)-$F15), (WEEKDAY(B15)=1)*H15,C15*HF) -> 0 | L15: =(WEEKDAY(B15)=1)*SUM(OFFSET(H15,,,-MIN(ROWS($3:15),7))) -> 0 | M15: =(WEEKDAY(B15)=1)*MIN(HS_1,L15) -> 0 | N15: =(WEEKDAY(B15)=1)*MIN(HS_2-HS_1,L15-M15) -> 0 | O15: =(WEEKDAY(B15)=1)*L15-M15-N15 -> 0 | P15: =IF(H15<>0,"ASTREINTE","")
B16: =B15+1 -> 43632 | H16: =MAX(MOD(($E16+$G16-$D16-$F16),1),C16*HF) -> 0 | I16: =$H16-$J16 -> 0 | J16: =($D16<>"")*(MAX(0,MIN($E16,HJ)-IF($E16>$D16,$D16,MIN(0,$D16-HJ)))+MAX(0,1-MAX(HN,$D16)-IF($E16>$D16,1-$E16,MIN(0,HN-$E16)))) +($F16<>"")*(MAX(0,MIN($G16,HJ)-IF($G16>$F16,$F16,MIN(0,$F16-HJ)))+MAX(0,1-MAX(HN,$F16)-IF($G16>$F16,1-$G16,MIN(0,HN-$G16)))) -> 0 | K16: =MAX(COUNTIF(Fer,B16)*($E16<$D16)*($E16-MIN(0,$D16)) +COUNTIF(Fer,B16)*($F16<$E16)*($G16-$F16) +COUNTIF(Fer,B16)*($F16>$E16)*($G16<$F16)*($G16-MIN($F16,0)) +COUNTIF(Fer,B16)*($E16>$D16)*(MIN($E16,1)-$D16) +COUNTIF(Fer,B16)*($E16<$D16)*(MAX($E16,1)-$D16) +COUNTIF(Fer,B16)*($G16>$F16)*($F16>$E16)*(MIN($G16,1)-$F16) +COUNTIF(Fer,B16)*($G16<$F16)*($F16>$E16)*(MAX($G16,1)-$F16), (WEEKDAY(B16)=1)*H16,C16*HF) -> 0 | L16: =(WEEKDAY(B16)=1)*SUM(OFFSET(H16,,,-MIN(ROWS($3:16),7))) -> 0 | M16: =(WEEKDAY(B16)=1)*MIN(HS_1,L16) -> 0 | N16: =(WEEKDAY(B16)=1)*MIN(HS_2-HS_1,L16-M16) -> 0 | O16: =(WEEKDAY(B16)=1)*L16-M16-N16 -> 0 | P16: =IF(H16<>0,"ASTREINTE","")
B17: =B16+1 -> 43633 | H17: =MAX(MOD(($E17+$G17-$D17-$F17),1),C17*HF) -> 0 | I17: =$H17-$J17 -> 0 | J17: =($D17<>"")*(MAX(0,MIN($E17,HJ)-IF($E17>$D17,$D17,MIN(0,$D17-HJ)))+MAX(0,1-MAX(HN,$D17)-IF($E17>$D17,1-$E17,MIN(0,HN-$E17)))) +($F17<>"")*(MAX(0,MIN($G17,HJ)-IF($G17>$F17,$F17,MIN(0,$F17-HJ)))+MAX(0,1-MAX(HN,$F17)-IF($G17>$F17,1-$G17,MIN(0,HN-$G17)))) -> 0 | K17: =MAX(COUNTIF(Fer,B17)*($E17<$D17)*($E17-MIN(0,$D17)) +COUNTIF(Fer,B17)*($F17<$E17)*($G17-$F17) +COUNTIF(Fer,B17)*($F17>$E17)*($G17<$F17)*($G17-MIN($F17,0)) +COUNTIF(Fer,B17)*($E17>$D17)*(MIN($E17,1)-$D17) +COUNTIF(Fer,B17)*($E17<$D17)*(MAX($E17,1)-$D17) +COUNTIF(Fer,B17)*($G17>$F17)*($F17>$E17)*(MIN($G17,1)-$F17) +COUNTIF(Fer,B17)*($G17<$F17)*($F17>$E17)*(MAX($G17,1)-$F17), (WEEKDAY(B17)=1)*H17,C17*HF) -> 0 | L17: =(WEEKDAY(B17)=1)*SUM(OFFSET(H17,,,-MIN(ROWS($3:17),7))) -> 0 | M17: =(WEEKDAY(B17)=1)*MIN(HS_1,L17) -> 0 | N17: =(WEEKDAY(B17)=1)*MIN(HS_2-HS_1,L17-M17) -> 0 | O17: =(WEEKDAY(B17)=1)*L17-M17-N17 -> 0
B18: =B17+1 -> 43634 | H18: =MAX(MOD(($E18+$G18-$D18-$F18),1),C18*HF) -> 0 | I18: =$H18-$J18 -> 0 | J18: =($D18<>"")*(MAX(0,MIN($E18,HJ)-IF($E18>$D18,$D18,MIN(0,$D18-HJ)))+MAX(0,1-MAX(HN,$D18)-IF($E18>$D18,1-$E18,MIN(0,HN-$E18)))) +($F18<>"")*(MAX(0,MIN($G18,HJ)-IF($G18>$F18,$F18,MIN(0,$F18-HJ)))+MAX(0,1-MAX(HN,$F18)-IF($G18>$F18,1-$G18,MIN(0,HN-$G18)))) -> 0 | K18: =MAX(COUNTIF(Fer,B18)*($E18<$D18)*($E18-MIN(0,$D18)) +COUNTIF(Fer,B18)*($F18<$E18)*($G18-$F18) +COUNTIF(Fer,B18)*($F18>$E18)*($G18<$F18)*($G18-MIN($F18,0)) +COUNTIF(Fer,B18)*($E18>$D18)*(MIN($E18,1)-$D18) +COUNTIF(Fer,B18)*($E18<$D18)*(MAX($E18,1)-$D18) +COUNTIF(Fer,B18)*($G18>$F18)*($F18>$E18)*(MIN($G18,1)-$F18) +COUNTIF(Fer,B18)*($G18<$F18)*($F18>$E18)*(MAX($G18,1)-$F18), (WEEKDAY(B18)=1)*H18,C18*HF) -> 0 | L18: =(WEEKDAY(B18)=1)*SUM(OFFSET(H18,,,-MIN(ROWS($3:18),7))) -> 0 | M18: =(WEEKDAY(B18)=1)*MIN(HS_1,L18) -> 0 | N18: =(WEEKDAY(B18)=1)*MIN(HS_2-HS_1,L18-M18) -> 0 | O18: =(WEEKDAY(B18)=1)*L18-M18-N18 -> 0
B19: =B18+1 -> 43635 | H19: =MAX(MOD(($E19+$G19-$D19-$F19),1),C19*HF) -> 0 | I19: =$H19-$J19 -> 0 | J19: =($D19<>"")*(MAX(0,MIN($E19,HJ)-IF($E19>$D19,$D19,MIN(0,$D19-HJ)))+MAX(0,1-MAX(HN,$D19)-IF($E19>$D19,1-$E19,MIN(0,HN-$E19)))) +($F19<>"")*(MAX(0,MIN($G19,HJ)-IF($G19>$F19,$F19,MIN(0,$F19-HJ)))+MAX(0,1-MAX(HN,$F19)-IF($G19>$F19,1-$G19,MIN(0,HN-$G19)))) -> 0 | K19: =MAX(COUNTIF(Fer,B19)*($E19<$D19)*($E19-MIN(0,$D19)) +COUNTIF(Fer,B19)*($F19<$E19)*($G19-$F19) +COUNTIF(Fer,B19)*($F19>$E19)*($G19<$F19)*($G19-MIN($F19,0)) +COUNTIF(Fer,B19)*($E19>$D19)*(MIN($E19,1)-$D19) +COUNTIF(Fer,B19)*($E19<$D19)*(MAX($E19,1)-$D19) +COUNTIF(Fer,B19)*($G19>$F19)*($F19>$E19)*(MIN($G19,1)-$F19) +COUNTIF(Fer,B19)*($G19<$F19)*($F19>$E19)*(MAX($G19,1)-$F19), (WEEKDAY(B19)=1)*H19,C19*HF) -> 0 | L19: =(WEEKDAY(B19)=1)*SUM(OFFSET(H19,,,-MIN(ROWS($3:19),7))) -> 0 | M19: =(WEEKDAY(B19)=1)*MIN(HS_1,L19) -> 0 | N19: =(WEEKDAY(B19)=1)*MIN(HS_2-HS_1,L19-M19) -> 0 | O19: =(WEEKDAY(B19)=1)*L19-M19-N19 -> 0
B20: =B19+1 -> 43636 | H20: =MAX(MOD(($E20+$G20-$D20-$F20),1),C20*HF) -> 0 | I20: =$H20-$J20 -> 0 | J20: =($D20<>"")*(MAX(0,MIN($E20,HJ)-IF($E20>$D20,$D20,MIN(0,$D20-HJ)))+MAX(0,1-MAX(HN,$D20)-IF($E20>$D20,1-$E20,MIN(0,HN-$E20)))) +($F20<>"")*(MAX(0,MIN($G20,HJ)-IF($G20>$F20,$F20,MIN(0,$F20-HJ)))+MAX(0,1-MAX(HN,$F20)-IF($G20>$F20,1-$G20,MIN(0,HN-$G20)))) -> 0 | K20: =MAX(COUNTIF(Fer,B20)*($E20<$D20)*($E20-MIN(0,$D20)) +COUNTIF(Fer,B20)*($F20<$E20)*($G20-$F20) +COUNTIF(Fer,B20)*($F20>$E20)*($G20<$F20)*($G20-MIN($F20,0)) +COUNTIF(Fer,B20)*($E20>$D20)*(MIN($E20,1)-$D20) +COUNTIF(Fer,B20)*($E20<$D20)*(MAX($E20,1)-$D20) +COUNTIF(Fer,B20)*($G20>$F20)*($F20>$E20)*(MIN($G20,1)-$F20) +COUNTIF(Fer,B20)*($G20<$F20)*($F20>$E20)*(MAX($G20,1)-$F20), (WEEKDAY(B20)=1)*H20,C20*HF) -> 0 | L20: =(WEEKDAY(B20)=1)*SUM(OFFSET(H20,,,-MIN(ROWS($3:20),7))) -> 0 | M20: =(WEEKDAY(B20)=1)*MIN(HS_1,L20) -> 0 | N20: =(WEEKDAY(B20)=1)*MIN(HS_2-HS_1,L20-M20) -> 0 | O20: =(WEEKDAY(B20)=1)*L20-M20-N20 -> 0
B21: =B20+1 -> 43637 | H21: =MAX(MOD(($E21+$G21-$D21-$F21),1),C21*HF) -> 0 | I21: =$H21-$J21 -> 0 | J21: =($D21<>"")*(MAX(0,MIN($E21,HJ)-IF($E21>$D21,$D21,MIN(0,$D21-HJ)))+MAX(0,1-MAX(HN,$D21)-IF($E21>$D21,1-$E21,MIN(0,HN-$E21)))) +($F21<>"")*(MAX(0,MIN($G21,HJ)-IF($G21>$F21,$F21,MIN(0,$F21-HJ)))+MAX(0,1-MAX(HN,$F21)-IF($G21>$F21,1-$G21,MIN(0,HN-$G21)))) -> 0 | K21: =MAX(COUNTIF(Fer,B21)*($E21<$D21)*($E21-MIN(0,$D21)) +COUNTIF(Fer,B21)*($F21<$E21)*($G21-$F21) +COUNTIF(Fer,B21)*($F21>$E21)*($G21<$F21)*($G21-MIN($F21,0)) +COUNTIF(Fer,B21)*($E21>$D21)*(MIN($E21,1)-$D21) +COUNTIF(Fer,B21)*($E21<$D21)*(MAX($E21,1)-$D21) +COUNTIF(Fer,B21)*($G21>$F21)*($F21>$E21)*(MIN($G21,1)-$F21) +COUNTIF(Fer,B21)*($G21<$F21)*($F21>$E21)*(MAX($G21,1)-$F21), (WEEKDAY(B21)=1)*H21,C21*HF) -> 0 | L21: =(WEEKDAY(B21)=1)*SUM(OFFSET(H21,,,-MIN(ROWS($3:21),7))) -> 0 | M21: =(WEEKDAY(B21)=1)*MIN(HS_1,L21) -> 0 | N21: =(WEEKDAY(B21)=1)*MIN(HS_2-HS_1,L21-M21) -> 0 | O21: =(WEEKDAY(B21)=1)*L21-M21-N21 -> 0
B22: =B21+1 -> 43638 | H22: =MAX(MOD(($E22+$G22-$D22-$F22),1),C22*HF) -> 0 | I22: =$H22-$J22 -> 0 | J22: =($D22<>"")*(MAX(0,MIN($E22,HJ)-IF($E22>$D22,$D22,MIN(0,$D22-HJ)))+MAX(0,1-MAX(HN,$D22)-IF($E22>$D22,1-$E22,MIN(0,HN-$E22)))) +($F22<>"")*(MAX(0,MIN($G22,HJ)-IF($G22>$F22,$F22,MIN(0,$F22-HJ)))+MAX(0,1-MAX(HN,$F22)-IF($G22>$F22,1-$G22,MIN(0,HN-$G22)))) -> 0 | K22: =MAX(COUNTIF(Fer,B22)*($E22<$D22)*($E22-MIN(0,$D22)) +COUNTIF(Fer,B22)*($F22<$E22)*($G22-$F22) +COUNTIF(Fer,B22)*($F22>$E22)*($G22<$F22)*($G22-MIN($F22,0)) +COUNTIF(Fer,B22)*($E22>$D22)*(MIN($E22,1)-$D22) +COUNTIF(Fer,B22)*($E22<$D22)*(MAX($E22,1)-$D22) +COUNTIF(Fer,B22)*($G22>$F22)*($F22>$E22)*(MIN($G22,1)-$F22) +COUNTIF(Fer,B22)*($G22<$F22)*($F22>$E22)*(MAX($G22,1)-$F22), (WEEKDAY(B22)=1)*H22,C22*HF) -> 0 | L22: =(WEEKDAY(B22)=1)*SUM(OFFSET(H22,,,-MIN(ROWS($3:22),7))) -> 0 | M22: =(WEEKDAY(B22)=1)*MIN(HS_1,L22) -> 0 | N22: =(WEEKDAY(B22)=1)*MIN(HS_2-HS_1,L22-M22) -> 0 | O22: =(WEEKDAY(B22)=1)*L22-M22-N22 -> 0 | P22: =IF(H22<>0,"ASTREINTE","")
B23: =B22+1 -> 43639 | H23: =MAX(MOD(($E23+$G23-$D23-$F23),1),C23*HF) -> 0 | I23: =$H23-$J23 -> 0 | J23: =($D23<>"")*(MAX(0,MIN($E23,HJ)-IF($E23>$D23,$D23,MIN(0,$D23-HJ)))+MAX(0,1-MAX(HN,$D23)-IF($E23>$D23,1-$E23,MIN(0,HN-$E23)))) +($F23<>"")*(MAX(0,MIN($G23,HJ)-IF($G23>$F23,$F23,MIN(0,$F23-HJ)))+MAX(0,1-MAX(HN,$F23)-IF($G23>$F23,1-$G23,MIN(0,HN-$G23)))) -> 0 | K23: =MAX(COUNTIF(Fer,B23)*($E23<$D23)*($E23-MIN(0,$D23)) +COUNTIF(Fer,B23)*($F23<$E23)*($G23-$F23) +COUNTIF(Fer,B23)*($F23>$E23)*($G23<$F23)*($G23-MIN($F23,0)) +COUNTIF(Fer,B23)*($E23>$D23)*(MIN($E23,1)-$D23) +COUNTIF(Fer,B23)*($E23<$D23)*(MAX($E23,1)-$D23) +COUNTIF(Fer,B23)*($G23>$F23)*($F23>$E23)*(MIN($G23,1)-$F23) +COUNTIF(Fer,B23)*($G23<$F23)*($F23>$E23)*(MAX($G23,1)-$F23), (WEEKDAY(B23)=1)*H23,C23*HF) -> 0 | L23: =(WEEKDAY(B23)=1)*SUM(OFFSET(H23,,,-MIN(ROWS($3:23),7))) -> 0 | M23: =(WEEKDAY(B23)=1)*MIN(HS_1,L23) -> 0 | N23: =(WEEKDAY(B23)=1)*MIN(HS_2-HS_1,L23-M23) -> 0 | O23: =(WEEKDAY(B23)=1)*L23-M23-N23 -> 0 | P23: =IF(H23<>0,"ASTREINTE","")
B24: =B23+1 -> 43640 | D24: 0.33333333 | E24: 0.5 | H24: =MAX(MOD(($E24+$G24-$D24-$F24),1),C24*HF) -> 0.16666667 | I24: =$H24-$J24 -> 0.16666667 | J24: =($D24<>"")*(MAX(0,MIN($E24,HJ)-IF($E24>$D24,$D24,MIN(0,$D24-HJ)))+MAX(0,1-MAX(HN,$D24)-IF($E24>$D24,1-$E24,MIN(0,HN-$E24)))) +($F24<>"")*(MAX(0,MIN($G24,HJ)-IF($G24>$F24,$F24,MIN(0,$F24-HJ)))+MAX(0,1-MAX(HN,$F24)-IF($G24>$F24,1-$G24,MIN(0,HN-$G24)))) -> 0 | K24: =MAX(COUNTIF(Fer,B24)*($E24<$D24)*($E24-MIN(0,$D24)) +COUNTIF(Fer,B24)*($F24<$E24)*($G24-$F24) +COUNTIF(Fer,B24)*($F24>$E24)*($G24<$F24)*($G24-MIN($F24,0)) +COUNTIF(Fer,B24)*($E24>$D24)*(MIN($E24,1)-$D24) +COUNTIF(Fer,B24)*($E24<$D24)*(MAX($E24,1)-$D24) +COUNTIF(Fer,B24)*($G24>$F24)*($F24>$E24)*(MIN($G24,1)-$F24) +COUNTIF(Fer,B24)*($G24<$F24)*($F24>$E24)*(MAX($G24,1)-$F24), (WEEKDAY(B24)=1)*H24,C24*HF) -> 0 | L24: =(WEEKDAY(B24)=1)*SUM(OFFSET(H24,,,-MIN(ROWS($3:24),7))) -> 0 | M24: =(WEEKDAY(B24)=1)*MIN(HS_1,L24) -> 0 | N24: =(WEEKDAY(B24)=1)*MIN(HS_2-HS_1,L24-M24) -> 0 | O24: =(WEEKDAY(B24)=1)*L24-M24-N24 -> 0
B25: =B24+1 -> 43641 | H25: =MAX(MOD(($E25+$G25-$D25-$F25),1),C25*HF) -> 0 | I25: =$H25-$J25 -> 0 | J25: =($D25<>"")*(MAX(0,MIN($E25,HJ)-IF($E25>$D25,$D25,MIN(0,$D25-HJ)))+MAX(0,1-MAX(HN,$D25)-IF($E25>$D25,1-$E25,MIN(0,HN-$E25)))) +($F25<>"")*(MAX(0,MIN($G25,HJ)-IF($G25>$F25,$F25,MIN(0,$F25-HJ)))+MAX(0,1-MAX(HN,$F25)-IF($G25>$F25,1-$G25,MIN(0,HN-$G25)))) -> 0 | K25: =MAX(COUNTIF(Fer,B25)*($E25<$D25)*($E25-MIN(0,$D25)) +COUNTIF(Fer,B25)*($F25<$E25)*($G25-$F25) +COUNTIF(Fer,B25)*($F25>$E25)*($G25<$F25)*($G25-MIN($F25,0)) +COUNTIF(Fer,B25)*($E25>$D25)*(MIN($E25,1)-$D25) +COUNTIF(Fer,B25)*($E25<$D25)*(MAX($E25,1)-$D25) +COUNTIF(Fer,B25)*($G25>$F25)*($F25>$E25)*(MIN($G25,1)-$F25) +COUNTIF(Fer,B25)*($G25<$F25)*($F25>$E25)*(MAX($G25,1)-$F25), (WEEKDAY(B25)=1)*H25,C25*HF) -> 0 | L25: =(WEEKDAY(B25)=1)*SUM(OFFSET(H25,,,-MIN(ROWS($3:25),7))) -> 0 | M25: =(WEEKDAY(B25)=1)*MIN(HS_1,L25) -> 0 | N25: =(WEEKDAY(B25)=1)*MIN(HS_2-HS_1,L25-M25) -> 0 | O25: =(WEEKDAY(B25)=1)*L25-M25-N25 -> 0
B26: =B25+1 -> 43642 | H26: =MAX(MOD(($E26+$G26-$D26-$F26),1),C26*HF) -> 0 | I26: =$H26-$J26 -> 0 | J26: =($D26<>"")*(MAX(0,MIN($E26,HJ)-IF($E26>$D26,$D26,MIN(0,$D26-HJ)))+MAX(0,1-MAX(HN,$D26)-IF($E26>$D26,1-$E26,MIN(0,HN-$E26)))) +($F26<>"")*(MAX(0,MIN($G26,HJ)-IF($G26>$F26,$F26,MIN(0,$F26-HJ)))+MAX(0,1-MAX(HN,$F26)-IF($G26>$F26,1-$G26,MIN(0,HN-$G26)))) -> 0 | K26: =MAX(COUNTIF(Fer,B26)*($E26<$D26)*($E26-MIN(0,$D26)) +COUNTIF(Fer,B26)*($F26<$E26)*($G26-$F26) +COUNTIF(Fer,B26)*($F26>$E26)*($G26<$F26)*($G26-MIN($F26,0)) +COUNTIF(Fer,B26)*($E26>$D26)*(MIN($E26,1)-$D26) +COUNTIF(Fer,B26)*($E26<$D26)*(MAX($E26,1)-$D26) +COUNTIF(Fer,B26)*($G26>$F26)*($F26>$E26)*(MIN($G26,1)-$F26) +COUNTIF(Fer,B26)*($G26<$F26)*($F26>$E26)*(MAX($G26,1)-$F26), (WEEKDAY(B26)=1)*H26,C26*HF) -> 0 | L26: =(WEEKDAY(B26)=1)*SUM(OFFSET(H26,,,-MIN(ROWS($3:26),7))) -> 0 | M26: =(WEEKDAY(B26)=1)*MIN(HS_1,L26) -> 0 | N26: =(WEEKDAY(B26)=1)*MIN(HS_2-HS_1,L26-M26) -> 0 | O26: =(WEEKDAY(B26)=1)*L26-M26-N26 -> 0
B27: =B26+1 -> 43643 | H27: =MAX(MOD(($E27+$G27-$D27-$F27),1),C27*HF) -> 0 | I27: =$H27-$J27 -> 0 | J27: =($D27<>"")*(MAX(0,MIN($E27,HJ)-IF($E27>$D27,$D27,MIN(0,$D27-HJ)))+MAX(0,1-MAX(HN,$D27)-IF($E27>$D27,1-$E27,MIN(0,HN-$E27)))) +($F27<>"")*(MAX(0,MIN($G27,HJ)-IF($G27>$F27,$F27,MIN(0,$F27-HJ)))+MAX(0,1-MAX(HN,$F27)-IF($G27>$F27,1-$G27,MIN(0,HN-$G27)))) -> 0 | K27: =MAX(COUNTIF(Fer,B27)*($E27<$D27)*($E27-MIN(0,$D27)) +COUNTIF(Fer,B27)*($F27<$E27)*($G27-$F27) +COUNTIF(Fer,B27)*($F27>$E27)*($G27<$F27)*($G27-MIN($F27,0)) +COUNTIF(Fer,B27)*($E27>$D27)*(MIN($E27,1)-$D27) +COUNTIF(Fer,B27)*($E27<$D27)*(MAX($E27,1)-$D27) +COUNTIF(Fer,B27)*($G27>$F27)*($F27>$E27)*(MIN($G27,1)-$F27) +COUNTIF(Fer,B27)*($G27<$F27)*($F27>$E27)*(MAX($G27,1)-$F27), (WEEKDAY(B27)=1)*H27,C27*HF) -> 0 | L27: =(WEEKDAY(B27)=1)*SUM(OFFSET(H27,,,-MIN(ROWS($3:27),7))) -> 0 | M27: =(WEEKDAY(B27)=1)*MIN(HS_1,L27) -> 0 | N27: =(WEEKDAY(B27)=1)*MIN(HS_2-HS_1,L27-M27) -> 0 | O27: =(WEEKDAY(B27)=1)*L27-M27-N27 -> 0
B28: =B27+1 -> 43644 | H28: =MAX(MOD(($E28+$G28-$D28-$F28),1),C28*HF) -> 0 | I28: =$H28-$J28 -> 0 | J28: =($D28<>"")*(MAX(0,MIN($E28,HJ)-IF($E28>$D28,$D28,MIN(0,$D28-HJ)))+MAX(0,1-MAX(HN,$D28)-IF($E28>$D28,1-$E28,MIN(0,HN-$E28)))) +($F28<>"")*(MAX(0,MIN($G28,HJ)-IF($G28>$F28,$F28,MIN(0,$F28-HJ)))+MAX(0,1-MAX(HN,$F28)-IF($G28>$F28,1-$G28,MIN(0,HN-$G28)))) -> 0 | K28: =MAX(COUNTIF(Fer,B28)*($E28<$D28)*($E28-MIN(0,$D28)) +COUNTIF(Fer,B28)*($F28<$E28)*($G28-$F28) +COUNTIF(Fer,B28)*($F28>$E28)*($G28<$F28)*($G28-MIN($F28,0)) +COUNTIF(Fer,B28)*($E28>$D28)*(MIN($E28,1)-$D28) +COUNTIF(Fer,B28)*($E28<$D28)*(MAX($E28,1)-$D28) +COUNTIF(Fer,B28)*($G28>$F28)*($F28>$E28)*(MIN($G28,1)-$F28) +COUNTIF(Fer,B28)*($G28<$F28)*($F28>$E28)*(MAX($G28,1)-$F28), (WEEKDAY(B28)=1)*H28,C28*HF) -> 0 | L28: =(WEEKDAY(B28)=1)*SUM(OFFSET(H28,,,-MIN(ROWS($3:28),7))) -> 0 | M28: =(WEEKDAY(B28)=1)*MIN(HS_1,L28) -> 0 | N28: =(WEEKDAY(B28)=1)*MIN(HS_2-HS_1,L28-M28) -> 0 | O28: =(WEEKDAY(B28)=1)*L28-M28-N28 -> 0
B29: =B28+1 -> 43645 | D29: 0.33333333 | E29: 0.5 | H29: =MAX(MOD(($E29+$G29-$D29-$F29),1),C29*HF) -> 0.16666667 | I29: =$H29-$J29 -> 0.16666667 | J29: =($D29<>"")*(MAX(0,MIN($E29,HJ)-IF($E29>$D29,$D29,MIN(0,$D29-HJ)))+MAX(0,1-MAX(HN,$D29)-IF($E29>$D29,1-$E29,MIN(0,HN-$E29)))) +($F29<>"")*(MAX(0,MIN($G29,HJ)-IF($G29>$F29,$F29,MIN(0,$F29-HJ)))+MAX(0,1-MAX(HN,$F29)-IF($G29>$F29,1-$G29,MIN(0,HN-$G29)))) -> 0 | K29: =MAX(COUNTIF(Fer,B29)*($E29<$D29)*($E29-MIN(0,$D29)) +COUNTIF(Fer,B29)*($F29<$E29)*($G29-$F29) +COUNTIF(Fer,B29)*($F29>$E29)*($G29<$F29)*($G29-MIN($F29,0)) +COUNTIF(Fer,B29)*($E29>$D29)*(MIN($E29,1)-$D29) +COUNTIF(Fer,B29)*($E29<$D29)*(MAX($E29,1)-$D29) +COUNTIF(Fer,B29)*($G29>$F29)*($F29>$E29)*(MIN($G29,1)-$F29) +COUNTIF(Fer,B29)*($G29<$F29)*($F29>$E29)*(MAX($G29,1)-$F29), (WEEKDAY(B29)=1)*H29,C29*HF) -> 0 | L29: =(WEEKDAY(B29)=1)*SUM(OFFSET(H29,,,-MIN(ROWS($3:29),7))) -> 0 | M29: =(WEEKDAY(B29)=1)*MIN(HS_1,L29) -> 0 | N29: =(WEEKDAY(B29)=1)*MIN(HS_2-HS_1,L29-M29) -> 0 | O29: =(WEEKDAY(B29)=1)*L29-M29-N29 -> 0 | P29: =IF(H29<>0,"ASTREINTE","") -> ASTREINTE
B30: =B29+1 -> 43646 | H30: =MAX(MOD(($E30+$G30-$D30-$F30),1),C30*HF) -> 0 | I30: =$H30-$J30 -> 0 | J30: =($D30<>"")*(MAX(0,MIN($E30,HJ)-IF($E30>$D30,$D30,MIN(0,$D30-HJ)))+MAX(0,1-MAX(HN,$D30)-IF($E30>$D30,1-$E30,MIN(0,HN-$E30)))) +($F30<>"")*(MAX(0,MIN($G30,HJ)-IF($G30>$F30,$F30,MIN(0,$F30-HJ)))+MAX(0,1-MAX(HN,$F30)-IF($G30>$F30,1-$G30,MIN(0,HN-$G30)))) -> 0 | K30: =MAX(COUNTIF(Fer,B30)*($E30<$D30)*($E30-MIN(0,$D30)) +COUNTIF(Fer,B30)*($F30<$E30)*($G30-$F30) +COUNTIF(Fer,B30)*($F30>$E30)*($G30<$F30)*($G30-MIN($F30,0)) +COUNTIF(Fer,B30)*($E30>$D30)*(MIN($E30,1)-$D30) +COUNTIF(Fer,B30)*($E30<$D30)*(MAX($E30,1)-$D30) +COUNTIF(Fer,B30)*($G30>$F30)*($F30>$E30)*(MIN($G30,1)-$F30) +COUNTIF(Fer,B30)*($G30<$F30)*($F30>$E30)*(MAX($G30,1)-$F30), (WEEKDAY(B30)=1)*H30,C30*HF) -> 0 | L30: =(WEEKDAY(B30)=1)*SUM(OFFSET(H30,,,-MIN(ROWS($3:30),7))) -> 0.33333333 | M30: =(WEEKDAY(B30)=1)*MIN(HS_1,L30) -> 0.33333333 | N30: =(WEEKDAY(B30)=1)*MIN(HS_2-HS_1,L30-M30) -> 0 | O30: =(WEEKDAY(B30)=1)*L30-M30-N30 -> 0 | P30: =IF(H30<>0,"ASTREINTE","")
B31: =B30+1 -> 43647 | H31: =MAX(MOD(($E31+$G31-$D31-$F31),1),C31*HF) -> 0 | I31: =$H31-$J31 -> 0 | J31: =($D31<>"")*(MAX(0,MIN($E31,HJ)-IF($E31>$D31,$D31,MIN(0,$D31-HJ)))+MAX(0,1-MAX(HN,$D31)-IF($E31>$D31,1-$E31,MIN(0,HN-$E31)))) +($F31<>"")*(MAX(0,MIN($G31,HJ)-IF($G31>$F31,$F31,MIN(0,$F31-HJ)))+MAX(0,1-MAX(HN,$F31)-IF($G31>$F31,1-$G31,MIN(0,HN-$G31)))) -> 0 | K31: =MAX(COUNTIF(Fer,B31)*($E31<$D31)*($E31-MIN(0,$D31)) +COUNTIF(Fer,B31)*($F31<$E31)*($G31-$F31) +COUNTIF(Fer,B31)*($F31>$E31)*($G31<$F31)*($G31-MIN($F31,0)) +COUNTIF(Fer,B31)*($E31>$D31)*(MIN($E31,1)-$D31) +COUNTIF(Fer,B31)*($E31<$D31)*(MAX($E31,1)-$D31) +COUNTIF(Fer,B31)*($G31>$F31)*($F31>$E31)*(MIN($G31,1)-$F31) +COUNTIF(Fer,B31)*($G31<$F31)*($F31>$E31)*(MAX($G31,1)-$F31), (WEEKDAY(B31)=1)*H31,C31*HF) -> 0 | L31: =(WEEKDAY(B31)=1)*SUM(OFFSET(H31,,,-MIN(ROWS($3:31),7))) -> 0 | M31: =(WEEKDAY(B31)=1)*MIN(HS_1,L31) -> 0 | N31: =(WEEKDAY(B31)=1)*MIN(HS_2-HS_1,L31-M31) -> 0 | O31: =(WEEKDAY(B31)=1)*L31-M31-N31 -> 0
B32: =B31+1 -> 43648 | H32: =MAX(MOD(($E32+$G32-$D32-$F32),1),C32*HF) -> 0 | I32: =$H32-$J32 -> 0 | J32: =($D32<>"")*(MAX(0,MIN($E32,HJ)-IF($E32>$D32,$D32,MIN(0,$D32-HJ)))+MAX(0,1-MAX(HN,$D32)-IF($E32>$D32,1-$E32,MIN(0,HN-$E32)))) +($F32<>"")*(MAX(0,MIN($G32,HJ)-IF($G32>$F32,$F32,MIN(0,$F32-HJ)))+MAX(0,1-MAX(HN,$F32)-IF($G32>$F32,1-$G32,MIN(0,HN-$G32)))) -> 0 | K32: =MAX(COUNTIF(Fer,B32)*($E32<$D32)*($E32-MIN(0,$D32)) +COUNTIF(Fer,B32)*($F32<$E32)*($G32-$F32) +COUNTIF(Fer,B32)*($F32>$E32)*($G32<$F32)*($G32-MIN($F32,0)) +COUNTIF(Fer,B32)*($E32>$D32)*(MIN($E32,1)-$D32) +COUNTIF(Fer,B32)*($E32<$D32)*(MAX($E32,1)-$D32) +COUNTIF(Fer,B32)*($G32>$F32)*($F32>$E32)*(MIN($G32,1)-$F32) +COUNTIF(Fer,B32)*($G32<$F32)*($F32>$E32)*(MAX($G32,1)-$F32), (WEEKDAY(B32)=1)*H32,C32*HF) -> 0 | L32: =(WEEKDAY(B32)=1)*SUM(OFFSET(H32,,,-MIN(ROWS($3:32),7))) -> 0 | M32: =(WEEKDAY(B32)=1)*MIN(HS_1,L32) -> 0 | N32: =(WEEKDAY(B32)=1)*MIN(HS_2-HS_1,L32-M32) -> 0 | O32: =(WEEKDAY(B32)=1)*L32-M32-N32 -> 0
B33: =B32+1 -> 43649 | H33: =MAX(MOD(($E33+$G33-$D33-$F33),1),C33*HF) -> 0 | I33: =$H33-$J33 -> 0 | J33: =($D33<>"")*(MAX(0,MIN($E33,HJ)-IF($E33>$D33,$D33,MIN(0,$D33-HJ)))+MAX(0,1-MAX(HN,$D33)-IF($E33>$D33,1-$E33,MIN(0,HN-$E33)))) +($F33<>"")*(MAX(0,MIN($G33,HJ)-IF($G33>$F33,$F33,MIN(0,$F33-HJ)))+MAX(0,1-MAX(HN,$F33)-IF($G33>$F33,1-$G33,MIN(0,HN-$G33)))) -> 0 | K33: =MAX(COUNTIF(Fer,B33)*($E33<$D33)*($E33-MIN(0,$D33)) +COUNTIF(Fer,B33)*($F33<$E33)*($G33-$F33) +COUNTIF(Fer,B33)*($F33>$E33)*($G33<$F33)*($G33-MIN($F33,0)) +COUNTIF(Fer,B33)*($E33>$D33)*(MIN($E33,1)-$D33) +COUNTIF(Fer,B33)*($E33<$D33)*(MAX($E33,1)-$D33) +COUNTIF(Fer,B33)*($G33>$F33)*($F33>$E33)*(MIN($G33,1)-$F33) +COUNTIF(Fer,B33)*($G33<$F33)*($F33>$E33)*(MAX($G33,1)-$F33), (WEEKDAY(B33)=1)*H33,C33*HF) -> 0 | L33: =(WEEKDAY(B33)=1)*SUM(OFFSET(H33,,,-MIN(ROWS($3:33),7))) -> 0 | M33: =(WEEKDAY(B33)=1)*MIN(HS_1,L33) -> 0 | N33: =(WEEKDAY(B33)=1)*MIN(HS_2-HS_1,L33-M33) -> 0 | O33: =(WEEKDAY(B33)=1)*L33-M33-N33 -> 0
B34: =B33+1 -> 43650 | H34: =MAX(MOD(($E34+$G34-$D34-$F34),1),C34*HF) -> 0 | I34: =$H34-$J34 -> 0 | J34: =($D34<>"")*(MAX(0,MIN($E34,HJ)-IF($E34>$D34,$D34,MIN(0,$D34-HJ)))+MAX(0,1-MAX(HN,$D34)-IF($E34>$D34,1-$E34,MIN(0,HN-$E34)))) +($F34<>"")*(MAX(0,MIN($G34,HJ)-IF($G34>$F34,$F34,MIN(0,$F34-HJ)))+MAX(0,1-MAX(HN,$F34)-IF($G34>$F34,1-$G34,MIN(0,HN-$G34)))) -> 0 | K34: =MAX(COUNTIF(Fer,B34)*($E34<$D34)*($E34-MIN(0,$D34)) +COUNTIF(Fer,B34)*($F34<$E34)*($G34-$F34) +COUNTIF(Fer,B34)*($F34>$E34)*($G34<$F34)*($G34-MIN($F34,0)) +COUNTIF(Fer,B34)*($E34>$D34)*(MIN($E34,1)-$D34) +COUNTIF(Fer,B34)*($E34<$D34)*(MAX($E34,1)-$D34) +COUNTIF(Fer,B34)*($G34>$F34)*($F34>$E34)*(MIN($G34,1)-$F34) +COUNTIF(Fer,B34)*($G34<$F34)*($F34>$E34)*(MAX($G34,1)-$F34), (WEEKDAY(B34)=1)*H34,C34*HF) -> 0 | L34: =(WEEKDAY(B34)=1)*SUM(OFFSET(H34,,,-MIN(ROWS($3:34),7))) -> 0 | M34: =(WEEKDAY(B34)=1)*MIN(HS_1,L34) -> 0 | N34: =(WEEKDAY(B34)=1)*MIN(HS_2-HS_1,L34-M34) -> 0 | O34: =(WEEKDAY(B34)=1)*L34-M34-N34 -> 0
B35: =B34+1 -> 43651 | H35: =MAX(MOD(($E35+$G35-$D35-$F35),1),C35*HF) -> 0 | I35: =$H35-$J35 -> 0 | J35: =($D35<>"")*(MAX(0,MIN($E35,HJ)-IF($E35>$D35,$D35,MIN(0,$D35-HJ)))+MAX(0,1-MAX(HN,$D35)-IF($E35>$D35,1-$E35,MIN(0,HN-$E35)))) +($F35<>"")*(MAX(0,MIN($G35,HJ)-IF($G35>$F35,$F35,MIN(0,$F35-HJ)))+MAX(0,1-MAX(HN,$F35)-IF($G35>$F35,1-$G35,MIN(0,HN-$G35)))) -> 0 | K35: =MAX(COUNTIF(Fer,B35)*($E35<$D35)*($E35-MIN(0,$D35)) +COUNTIF(Fer,B35)*($F35<$E35)*($G35-$F35) +COUNTIF(Fer,B35)*($F35>$E35)*($G35<$F35)*($G35-MIN($F35,0)) +COUNTIF(Fer,B35)*($E35>$D35)*(MIN($E35,1)-$D35) +COUNTIF(Fer,B35)*($E35<$D35)*(MAX($E35,1)-$D35) +COUNTIF(Fer,B35)*($G35>$F35)*($F35>$E35)*(MIN($G35,1)-$F35) +COUNTIF(Fer,B35)*($G35<$F35)*($F35>$E35)*(MAX($G35,1)-$F35), (WEEKDAY(B35)=1)*H35,C35*HF) -> 0 | L35: =(WEEKDAY(B35)=1)*SUM(OFFSET(H35,,,-MIN(ROWS($3:35),7))) -> 0 | M35: =(WEEKDAY(B35)=1)*MIN(HS_1,L35) -> 0 | N35: =(WEEKDAY(B35)=1)*MIN(HS_2-HS_1,L35-M35) -> 0 | O35: =(WEEKDAY(B35)=1)*L35-M35-N35 -> 0
B36: =B35+1 -> 43652 | H36: =MAX(MOD(($E36+$G36-$D36-$F36),1),C36*HF) -> 0 | I36: =$H36-$J36 -> 0 | J36: =($D36<>"")*(MAX(0,MIN($E36,HJ)-IF($E36>$D36,$D36,MIN(0,$D36-HJ)))+MAX(0,1-MAX(HN,$D36)-IF($E36>$D36,1-$E36,MIN(0,HN-$E36)))) +($F36<>"")*(MAX(0,MIN($G36,HJ)-IF($G36>$F36,$F36,MIN(0,$F36-HJ)))+MAX(0,1-MAX(HN,$F36)-IF($G36>$F36,1-$G36,MIN(0,HN-$G36)))) -> 0 | K36: =MAX(COUNTIF(Fer,B36)*($E36<$D36)*($E36-MIN(0,$D36)) +COUNTIF(Fer,B36)*($F36<$E36)*($G36-$F36) +COUNTIF(Fer,B36)*($F36>$E36)*($G36<$F36)*($G36-MIN($F36,0)) +COUNTIF(Fer,B36)*($E36>$D36)*(MIN($E36,1)-$D36) +COUNTIF(Fer,B36)*($E36<$D36)*(MAX($E36,1)-$D36) +COUNTIF(Fer,B36)*($G36>$F36)*($F36>$E36)*(MIN($G36,1)-$F36) +COUNTIF(Fer,B36)*($G36<$F36)*($F36>$E36)*(MAX($G36,1)-$F36), (WEEKDAY(B36)=1)*H36,C36*HF) -> 0 | L36: =(WEEKDAY(B36)=1)*SUM(OFFSET(H36,,,-MIN(ROWS($3:36),7))) -> 0 | M36: =(WEEKDAY(B36)=1)*MIN(HS_1,L36) -> 0 | N36: =(WEEKDAY(B36)=1)*MIN(HS_2-HS_1,L36-M36) -> 0 | O36: =(WEEKDAY(B36)=1)*L36-M36-N36 -> 0 | P36: =IF(H36<>0,"ASTREINTE","")
B37: =B36+1 -> 43653 | H37: =MAX(MOD(($E37+$G37-$D37-$F37),1),C37*HF) -> 0 | I37: =$H37-$J37 -> 0 | J37: =($D37<>"")*(MAX(0,MIN($E37,HJ)-IF($E37>$D37,$D37,MIN(0,$D37-HJ)))+MAX(0,1-MAX(HN,$D37)-IF($E37>$D37,1-$E37,MIN(0,HN-$E37)))) +($F37<>"")*(MAX(0,MIN($G37,HJ)-IF($G37>$F37,$F37,MIN(0,$F37-HJ)))+MAX(0,1-MAX(HN,$F37)-IF($G37>$F37,1-$G37,MIN(0,HN-$G37)))) -> 0 | K37: =MAX(COUNTIF(Fer,B37)*($E37<$D37)*($E37-MIN(0,$D37)) +COUNTIF(Fer,B37)*($F37<$E37)*($G37-$F37) +COUNTIF(Fer,B37)*($F37>$E37)*($G37<$F37)*($G37-MIN($F37,0)) +COUNTIF(Fer,B37)*($E37>$D37)*(MIN($E37,1)-$D37) +COUNTIF(Fer,B37)*($E37<$D37)*(MAX($E37,1)-$D37) +COUNTIF(Fer,B37)*($G37>$F37)*($F37>$E37)*(MIN($G37,1)-$F37) +COUNTIF(Fer,B37)*($G37<$F37)*($F37>$E37)*(MAX($G37,1)-$F37), (WEEKDAY(B37)=1)*H37,C37*HF) -> 0 | L37: =(WEEKDAY(B37)=1)*SUM(OFFSET(H37,,,-MIN(ROWS($3:37),7))) -> 0 | M37: =(WEEKDAY(B37)=1)*MIN(HS_1,L37) -> 0 | N37: =(WEEKDAY(B37)=1)*MIN(HS_2-HS_1,L37-M37) -> 0 | O37: =(WEEKDAY(B37)=1)*L37-M37-N37 -> 0 | P37: =IF(H37<>0,"ASTREINTE","")
B38: TOTAL MENSUEL | H38: =SUM(H3:H37) -> 0.5 | I38: =SUM(I3:I37) -> 0.5 | J38: =SUM(J3:J37) -> 0 | K38: =SUM(K3:K37) -> 0.083333333 | L38: =SUM(L3:L37) -> 0.5 | M38: =SUM(M3:M37) -> 0.5 | N38: =SUM(N3:N37) -> 0 | O38: =SUM(O3:O37) -> 0
B40: Contrôle | H40: =H38 -> 0.5 | I40: =SUM(I38:J38) -> 0.5 | L40: =L38 -> 0.5 | M40: =SUM(M38:O38) -> 0.5

Sheet VARIABLES
B2: 0.25 | C2: 0.5 | D2: NUIT | E2: DIM & F | F2: ASTREINTE | G2: prime | H2: absence | I2: congé
A3: MODELE | B3: =MODELE!D1 -> 0 | C3: =MODELE!G1 -> 0 | D3: =MODELE!K1 -> 0 | E3: =MODELE!O1 -> 2 | F3: =IF(MODELE!P8="ASTREINTE",DAY(MODELE!B8),"") & IF(MODELE!P9="ASTREINTE","-" & DAY(MODELE!B9),"") & IF(MODELE!P15="ASTREINTE","-" & DAY(MODELE!B15),"") & IF(MODELE!P16="ASTREINTE","-" & DAY(MODELE!B16),"") & IF(MODELE!P22="ASTREINTE","-" & DAY(MODELE!B22),"") & IF(MODELE!P23="ASTREINTE","-" & DAY(MODELE!B23),"") & IF(MODELE!P29="ASTREINTE","-" & DAY(MODELE!B29),"") & IF(MODELE!P30="ASTREINTE","-" & DAY(MODELE!B30),"") -> 8-9-29 | G3: =(LEN(F3)-LEN(SUBSTITUTE(F3,",",""))+1)*40 -> 40 | I3: =IF(MODELE!P3="CONGE",DAY(MODELE!B3),"") & IF(MODELE!P4="CONGE","-" & DAY(MODELE!B4),"")& IF(MODELE!P5="CONGE","-" & DAY(MODELE!B5),"")& IF(MODELE!P6="CONGE","-" & DAY(MODELE!B6),"")& IF(MODELE!P7="CONGE","-" & DAY(MODELE!B7),"") -> 3-4-7

Sheet Fériés
B1: =YEAR(TODAY()) -> 2019
A2: Jour de l'an | B2: =DATE(B1,1,1) -> 43466
A3: Pâques | B3: =DATE(B1,4,26-MOD(11*MOD(B1,19)+INT(INT(B1/100)/4)+INT(8*(INT(B1/100)+11)/25)-INT(B1/100)+41,30)-INT((552-19*MOD(11*MOD(B1,19)+INT(INT(B1/100)/4)+INT(8*(INT(B1/100)+11)/25)-INT(B1/100)+41,30)+MOD(B1,19))/544)-MOD(MOD(50-MOD(11*MOD(B1,19)+INT(INT(B1/100)/4)+INT(8*(INT(B1/100)+11)/25)-INT(B1/100)+41,30)-INT((552-19*MOD(11*MOD(B1,19)+INT(INT(B1/100)/4)+INT(8*(INT(B1/100)+11)/25)-INT(B1/100)+41,30)+MOD(B1,19))/544),7)+MOD(MOD(9-2*MOD(INT(B1/100),4),7)+MOD(B1,100)+INT(MOD(B1,100)/4),7),7)) -> 43576
A4: L. de Pâques | B4: =B3+1 -> 43577
A5: Fête du Travail | B5: =DATE(B1,5,1) -> 43586
A6: Armistice 45 | B6: =DATE(B1,5,8) -> 43593
A7: Ascension | B7: =IF(B5=B4+38,,B4+38) -> 43615
A8: Pentecôte | B8: =B3+49 -> 43625
A9: L. de Pentecôte | B9: =B8+1 -> 43626
A10: Fête Nationale | B10: =DATE(B1,7,14) -> 43660
A11: Assomption | B11: =DATE(B1,8,15) -> 43692
A12: Toussaint | B12: =DATE(B1,11,1) -> 43770
A13: Armistice 18 | B13: =DATE(B1,11,11) -> 43780
A14: Noël | B14: =DATE(B1,12,25) -> 43824
A15: Autre1
A16: Autre2
