Workbook

Sheet Timers
A1: =NOW() -> 43596.5 | B1: =INT(A1) -> 43596 | C1: =A1-B1 -> 0.49962436 | D1: =ROUNDDOWN(4*C1*24,0)/24/4 -> 0.48958333 | G1: =D1+"00:15:00" -> 0.5 | J1: =G1+"00:15:00" -> 0.51041667 | M1: =J1+"00:15:00" -> 0.52083333 | P1: =M1+"00:15:00" -> 0.53125 | S1: =P1+"00:15:00" -> 0.54166667 | V1: =S1+"00:15:00" -> 0.55208333 | Y1: =V1+"00:15:00" -> 0.5625
A2: Jour & Nuit : | D2: {=index(Api!$B$1:Api!$B$96,MATCH(D1,Api!$A$1:Api!$A$96,0))} -> #N/A | G2: {=index(Api!$B$1:Api!$B$96,MATCH(G1,Api!$A$1:Api!$A$96,0))} -> #N/A | J2: {=index(Api!$B$1:Api!$B$96,MATCH(J1,Api!$A$1:Api!$A$96,0))} -> #N/A | M2: {=index(Api!$B$1:Api!$B$96,MATCH(M1,Api!$A$1:Api!$A$96,0))} -> #N/A | P2: {=index(Api!$B$1:Api!$B$96,MATCH(P1,Api!$A$1:Api!$A$96,0))} -> #N/A | S2: {=index(Api!$B$1:Api!$B$96,MATCH(S1,Api!$A$1:Api!$A$96,0))} -> #N/A | V2: {=index(Api!$B$1:Api!$B$96,MATCH(V1,Api!$A$1:Api!$A$96,0))} -> #N/A | Y2: {=index(Api!$B$1:Api!$B$96,MATCH(Y1,Api!$A$1:Api!$A$96,0))} -> #N/A
A3: Boss Mondiaux : | D3: {=index(Api!$C$1:Api!$C$96,MATCH(D1,Api!$A$1:Api!$A$96,0))} -> #N/A | G3: {=index(Api!$C$1:Api!$C$96,MATCH(G1,Api!$A$1:Api!$A$96,0))} -> #N/A | J3: {=index(Api!$C$1:Api!$C$96,MATCH(J1,Api!$A$1:Api!$A$96,0))} -> #N/A | M3: {=index(Api!$C$1:Api!$C$96,MATCH(M1,Api!$A$1:Api!$A$96,0))} -> #N/A | P3: {=index(Api!$C$1:Api!$C$96,MATCH(P1,Api!$A$1:Api!$A$96,0))} -> #N/A | S3: {=index(Api!$C$1:Api!$C$96,MATCH(S1,Api!$A$1:Api!$A$96,0))} -> #N/A | V3: {=index(Api!$C$1:Api!$C$96,MATCH(V1,Api!$A$1:Api!$A$96,0))} -> #N/A | Y3: {=index(Api!$C$1:Api!$C$96,MATCH(Y1,Api!$A$1:Api!$A$96,0))} -> #N/A
D4: {=index(Api!$D$1:Api!$D$96,MATCH(D1,Api!$A$1:Api!$A$96,0))} -> #N/A | G4: {=index(Api!$D$1:Api!$D$96,MATCH(G1,Api!$A$1:Api!$A$96,0))} -> #N/A | J4: {=index(Api!$D$1:Api!$D$96,MATCH(J1,Api!$A$1:Api!$A$96,0))} -> #N/A | M4: {=index(Api!$D$1:Api!$D$96,MATCH(M1,Api!$A$1:Api!$A$96,0))} -> #N/A | P4: {=index(Api!$D$1:Api!$D$96,MATCH(P1,Api!$A$1:Api!$A$96,0))} -> #N/A | S4: {=index(Api!$D$1:Api!$D$96,MATCH(S1,Api!$A$1:Api!$A$96,0))} -> #N/A | V4: {=index(Api!$D$1:Api!$D$96,MATCH(V1,Api!$A$1:Api!$A$96,0))} -> #N/A | Y4: {=index(Api!$D$1:Api!$D$96,MATCH(Y1,Api!$A$1:Api!$A$96,0))} -> #N/A

Sheet Api
A1: 1 | B1: Nuit | C1: Le Destructeur
A2: 1.0104167 | B2: Nuit | C2: Chef chamane de Svanir
A3: 1.0208333 | B3: Jour | C3: Ulgoth le Modniir
A4: 1.03125 | B4: Jour | C4: Elémentaire de feu
A5: 1.0416667 | B5: Jour | C5: Golem de l'Enqueste Marque II | D5: Reine karka
A6: 1.0520833 | B6: Jour | C6: Grande guivre de la jungle
A7: 1.0625 | B7: Jour | C7: Griffe de Jormag
A8: 1.0729167 | B8: Nuit | C8: Béhémoth des ombres
A9: 0.083333333 | B9: Nuit | C9: Taidha Covington | D9: Tequatl le Sans-soleil
A10: 0.09375 | B10: Nuit | C10: Chef chamane de Svanir
A11: 0.10416667 | B11: Jour | C11: Mégadestructeur
A12: 0.11458333 | B12: Jour | C12: Elémentaire de feu
A13: 0.125 | B13: Jour | C13: Le Destructeur | D13: Triple terreur
A14: 0.13541667 | B14: Jour | C14: Grande guivre de la jungle
A15: 0.14583333 | B15: Jour | C15: Ulgoth le Modniir
A16: 0.15625 | B16: Nuit | C16: Béhémoth des ombres
A17: 0.16666667 | B17: Nuit | C17: Golem de l'Enqueste Marque II | D17: Reine karka
A18: 0.17708333 | B18: Nuit | C18: Chef chamane de Svanir
A19: 0.1875 | B19: Jour | C19: Griffe de Jormag
A20: 0.19791667 | B20: Jour | C20: Elémentaire de feu
A21: 0.20833333 | B21: Jour | C21: Taidha Covington | D21: Tequatl le Sans-soleil
A22: 0.21875 | B22: Jour | C22: Grande guivre de la jungle
A23: 0.22916667 | B23: Jour | C23: Mégadestructeur
A24: 0.23958333 | B24: Nuit | C24: Béhémoth des ombres
A25: 0.25 | B25: Nuit | C25: Le Destructeur | D25: Triple terreur
A26: 0.26041667 | B26: Nuit | C26: Chef chamane de Svanir
A27: 0.27083333 | B27: Jour | C27: Ulgoth le Modniir
A28: 0.28125 | B28: Jour | C28: Elémentaire de feu
A29: 0.29166667 | B29: Jour | C29: Golem de l'Enqueste Marque II
A30: 0.30208333 | B30: Jour | C30: Grande guivre de la jungle
A31: 0.3125 | B31: Jour | C31: Griffe de Jormag
A32: 0.32291667 | B32: Nuit | C32: Béhémoth des ombres
A33: 0.33333333 | B33: Nuit | C33: Taidha Covington | D33: Reine karka
A34: 0.34375 | B34: Nuit | C34: Chef chamane de Svanir
A35: 0.35416667 | B35: Jour | C35: Mégadestructeur
A36: 0.36458333 | B36: Jour | C36: Elémentaire de feu
A37: 0.375 | B37: Jour | C37: Le Destructeur | D37: Tequatl le Sans-soleil
A38: 0.38541667 | B38: Jour | C38: Grande guivre de la jungle
A39: 0.39583333 | B39: Jour | C39: Ulgoth le Modniir
A40: 0.40625 | B40: Nuit | C40: Béhémoth des ombres
...
