Workbook

Sheet Timers
A1: =NOW() -> 43596.5 | B1: =INT(A1) -> 43596 | C1: =A1-B1 -> 0.49962436 | D1: =ROUNDDOWN(4*C1*24,0)/24/4 -> 0.48958333 | G1: =D1+"00:15:00" -> 0.5 | J1: =G1+"00:15:00" -> 0.51041667 | M1: =J1+"00:15:00" -> 0.52083333 | P1: =M1+"00:15:00" -> 0.53125 | S1: =P1+"00:15:00" -> 0.54166667 | V1: =S1+"00:15:00" -> 0.55208333 | Y1: =V1+"00:15:00" -> 0.5625
A2: Jour & Nuit : | D2: {=index(Api!$B$1:Api!$B$96,MATCH(D1,Api!$A$1:Api!$A$96,0))} -> #N/A | G2: {=index(Api!$B$1:Api!$B$96,MATCH(G1,Api!$A$1:Api!$A$96,0))} -> #N/A | J2: {=index(Api!$B$1:Api!$B$96,MATCH(J1,Api!$A$1:Api!$A$96,0))} -> #N/A | M2: {=index(Api!$B$1:Api!$B$96,MATCH(M1,Api!$A$1:Api!$A$96,0))} -> #N/A | P2: {=index(Api!$B$1:Api!$B$96,MATCH(P1,Api!$A$1:Api!$A$96,0))} -> #N/A | S2: {=index(Api!$B$1:Api!$B$96,MATCH(S1,Api!$A$1:Api!$A$96,0))} -> #N/A | V2: {=index(Api!$B$1:Api!$B$96,MATCH(V1,Api!$A$1:Api!$A$96,0))} -> #N/A | Y2: {=index(Api!$B$1:Api!$B$96,MATCH(Y1,Api!$A$1:Api!$A$96,0))} -> #N/A
A3: Boss Mondiaux : | D3: {=index(Api!$C$1:Api!$C$96,MATCH(D1,Api!$A$1:Api!$A$96,0))} -> #N/A | G3: {=index(Api!$C$1:Api!$C$96,MATCH(G1,Api!$A$1:Api!$A$96,0))} -> #N/A | J3: {=index(Api!$C$1:Api!$C$96,MATCH(J1,Api!$A$1:Api!$A$96,0))} -> #N/A | M3: {=index(Api!$C$1:Api!$C$96,MATCH(M1,Api!$A$1:Api!$A$96,0))} -> #N/A | P3: {=index(Api!$C$1:Api!$C$96,MATCH(P1,Api!$A$1:Api!$A$96,0))} -> #N/A | S3: {=index(Api!$C$1:Api!$C$96,MATCH(S1,Api!$A$1:Api!$A$96,0))} -> #N/A | V3: {=index(Api!$C$1:Api!$C$96,MATCH(V1,Api!$A$1:Api!$A$96,0))} -> #N/A | Y3: {=index(Api!$C$1:Api!$C$96,MATCH(Y1,Api!$A$1:Api!$A$96,0))} -> #N/A
D4: {=index(Api!$D$1:Api!$D$96,MATCH(D1,Api!$A$1:Api!$A$96,0))} -> #N/A | G4: {=index(Api!$D$1:Api!$D$96,MATCH(G1,Api!$A$1:Api!$A$96,0))} -> #N/A | J4: {=index(Api!$D$1:Api!$D$96,MATCH(J1,Api!$A$1:Api!$A$96,0))} -> #N/A | M4: {=index(Api!$D$1:Api!$D$96,MATCH(M1,Api!$A$1:Api!$A$96,0))} -> #N/A | P4: {=index(Api!$D$1:Api!$D$96,MATCH(P1,Api!$A$1:Api!$A$96,0))} -> #N/A | S4: {=index(Api!$D$1:Api!$D$96,MATCH(S1,Api!$A$1:Api!$A$96,0))} -> #N/A | V4: {=index(Api!$D$1:Api!$D$96,MATCH(V1,Api!$A$1:Api!$A$96,0))} -> #N/A | Y4: {=index(Api!$D$1:Api!$D$96,MATCH(Y1,Api!$A$1:Api!$A$96,0))} -> #N/A

Sheet Api
A1: 1 | B1: Nuit | C1: Le Destructeur
A2: 1.0104167 | B2: Nuit | C2: Chef chamane de Svanir
A3: 1.0208333 | B3: Jour | C3: Ulgoth le Modniir
A4: 1.03125 | B4: Jour | C4: Elémentaire de feu
A5: 1.0416667 | B5: Jour | C5: Golem de l'Enqueste Marque II | D5: Reine karka
A6: 1.0520833 | B6: Jour | C6: Grande guivre de la jungle
A7: 1.0625 | B7: Jour | C7: Griffe de Jormag
A8: 1.0729167 | B8: Nuit | C8: Béhémoth des ombres
A9: 0.083333333 | B9: Nuit | C9: Taidha Covington | D9: Tequatl le Sans-soleil
A10: 0.09375 | B10: Nuit | C10: Chef chamane de Svanir
A11: 0.10416667 | B11: Jour | C11: Mégadestructeur
A12: 0.11458333 | B12: Jour | C12: Elémentaire de feu
A13: 0.125 | B13: Jour | C13: Le Destructeur | D13: Triple terreur
A14: 0.13541667 | B14: Jour | C14: Grande guivre de la jungle
A15: 0.14583333 | B15: Jour | C15: Ulgoth le Modniir
A16: 0.15625 | B16: Nuit | C16: Béhémoth des ombres
A17: 0.16666667 | B17: Nuit | C17: Golem de l'Enqueste Marque II | D17: Reine karka
A18: 0.17708333 | B18: Nuit | C18: Chef chamane de Svanir
A19: 0.1875 | B19: Jour | C19: Griffe de Jormag
A20: 0.19791667 | B20: Jour | C20: Elémentaire de feu
A21: 0.20833333 | B21: Jour | C21: Taidha Covington | D21: Tequatl le Sans-soleil
A22: 0.21875 | B22: Jour | C22: Grande guivre de la jungle
A23: 0.22916667 | B23: Jour | C23: Mégadestructeur
A24: 0.23958333 | B24: Nuit | C24: Béhémoth des ombres
A25: 0.25 | B25: Nuit | C25: Le Destructeur | D25: Triple terreur
A26: 0.26041667 | B26: Nuit | C26: Chef chamane de Svanir
A27: 0.27083333 | B27: Jour | C27: Ulgoth le Modniir
A28: 0.28125 | B28: Jour | C28: Elémentaire de feu
A29: 0.29166667 | B29: Jour | C29: Golem de l'Enqueste Marque II
A30: 0.30208333 | B30: Jour | C30: Grande guivre de la jungle
A31: 0.3125 | B31: Jour | C31: Griffe de Jormag
A32: 0.32291667 | B32: Nuit | C32: Béhémoth des ombres
A33: 0.33333333 | B33: Nuit | C33: Taidha Covington | D33: Reine karka
A34: 0.34375 | B34: Nuit | C34: Chef chamane de Svanir
A35: 0.35416667 | B35: Jour | C35: Mégadestructeur
A36: 0.36458333 | B36: Jour | C36: Elémentaire de feu
A37: 0.375 | B37: Jour | C37: Le Destructeur | D37: Tequatl le Sans-soleil
A38: 0.38541667 | B38: Jour | C38: Grande guivre de la jungle
A39: 0.39583333 | B39: Jour | C39: Ulgoth le Modniir
A40: 0.40625 | B40: Nuit | C40: Béhémoth des ombres
A41: 0.41666667 | B41: Nuit | C41: Golem de l'Enqueste Marque II | D41: Triple terreur
A42: 0.42708333 | B42: Nuit | C42: Chef chamane de Svanir
A43: 0.4375 | B43: Jour | C43: Griffe de Jormag
A44: 0.44791667 | B44: Jour | C44: Elémentaire de feu
A45: 0.45833333 | B45: Jour | C45: Taidha Covington
A46: 0.46875 | B46: Jour | C46: Grande guivre de la jungle
A47: 0.47916667 | B47: Jour | C47: Mégadestructeur
A48: 0.48958333 | B48: Nuit | C48: Béhémoth des ombres
A49: 0.5 | B49: Nuit | C49: Le Destructeur
A50: 0.51041667 | B50: Nuit | C50: Chef chamane de Svanir
A51: 0.52083333 | B51: Jour | C51: Ulgoth le Modniir | D51: Reine karka
A52: 0.53125 | B52: Jour | C52: Elémentaire de feu
A53: 0.54166667 | B53: Jour | C53: Golem de l'Enqueste Marque II
A54: 0.55208333 | B54: Jour | C54: Grande guivre de la jungle
A55: 0.5625 | B55: Jour | C55: Griffe de Jormag | D55: Tequatl le Sans-soleil
A56: 0.57291667 | B56: Nuit | C56: Béhémoth des ombres
A57: 0.58333333 | B57: Nuit | C57: Taidha Covington
A58: 0.59375 | B58: Nuit | C58: Chef chamane de Svanir
A59: 0.60416667 | B59: Jour | C59: Mégadestructeur | D59: Triple terreur
A60: 0.61458333 | B60: Jour | C60: Elémentaire de feu
A61: 0.625 | B61: Jour | C61: Le Destructeur
A62: 0.63541667 | B62: Jour | C62: Grande guivre de la jungle
A63: 0.64583333 | B63: Jour | C63: Ulgoth le Modniir
A64: 0.65625 | B64: Nuit | C64: Béhémoth des ombres
A65: 0.66666667 | B65: Nuit | C65: Golem de l'Enqueste Marque II
A66: 0.67708333 | B66: Nuit | C66: Chef chamane de Svanir
A67: 0.6875 | B67: Jour | C67: Griffe de Jormag
A68: 0.69791667 | B68: Jour | C68: Elémentaire de feu
A69: 0.70833333 | B69: Jour | C69: Taidha Covington | D69: Reine karka
A70: 0.71875 | B70: Jour | C70: Grande guivre de la jungle
A71: 0.72916667 | B71: Jour | C71: Mégadestructeur
A72: 0.73958333 | B72: Nuit | C72: Béhémoth des ombres
A73: 0.75 | B73: Nuit | C73: Le Destructeur | D73: Tequatl le Sans-soleil
A74: 0.76041667 | B74: Nuit | C74: Chef chamane de Svanir
A75: 0.77083333 | B75: Jour | C75: Ulgoth le Modniir
A76: 0.78125 | B76: Jour | C76: Elémentaire de feu
A77: 0.79166667 | B77: Jour | C77: Golem de l'Enqueste Marque II | D77: Triple terreur
A78: 0.80208333 | B78: Jour | C78: Grande guivre de la jungle
A79: 0.8125 | B79: Jour | C79: Griffe de Jormag
A80: 0.82291667 | B80: Nuit | C80: Béhémoth des ombres
A81: 0.83333333 | B81: Nuit | C81: Taidha Covington | D81: Reine karka
A82: 0.84375 | B82: Nuit | C82: Chef chamane de Svanir
A83: 0.85416667 | B83: Jour | C83: Mégadestructeur
A84: 0.86458333 | B84: Jour | C84: Elémentaire de feu
A85: 0.875 | B85: Jour | C85: Le Destructeur | D85: Tequatl le Sans-soleil
A86: 0.88541667 | B86: Jour | C86: Grande guivre de la jungle
A87: 0.89583333 | B87: Jour | C87: Ulgoth le Modniir
A88: 0.90625 | B88: Nuit | C88: Béhémoth des ombres
A89: 0.91666667 | B89: Nuit | C89: Golem de l'Enqueste Marque II | D89: Triple terreur
A90: 0.92708333 | B90: Nuit | C90: Chef chamane de Svanir
A91: 0.9375 | B91: Jour | C91: Griffe de Jormag
A92: 0.94791667 | B92: Jour | C92: Elémentaire de feu
A93: 0.95833333 | B93: Jour | C93: Taidha Covington
A94: 0.96875 | B94: Jour | C94: Grande guivre de la jungle
A95: 0.97916667 | B95: Jour | C95: Mégadestructeur
A96: 0.98958333 | B96: Nuit | C96: Béhémoth des ombres
