Workbook

Sheet transition2
A1: Date\Heure | B1: 0 | C1: 1 | D1: 2 | E1: 3 | F1: 4 | G1: 5 | H1: 6 | I1: 7 | J1: 8 | K1: 9 | L1: 10 | M1: 11 | N1: 12 | O1: 13 | P1: 14 | Q1: 15 | R1: 16 | S1: 17 | T1: 18 | U1: 19 | V1: 20 | W1: 21 | X1: 22 | Y1: 23
A2: 1 | B2: -14.457847 | C2: -14.442588 | D2: -14.427328 | E2: -14.442588 | F2: -14.457847 | G2: -14.473106 | H2: -14.473869 | I2: -14.473106 | J2: -14.489128 | K2: -14.489128 | L2: -14.489128 | M2: -14.536431 | N2: -14.537194 | O2: -14.537194 | P2: -14.567712 | Q2: -14.536431 | R2: -14.537194 | S2: -14.552453 | T2: -14.582971 | U2: -14.582971 | V2: -14.537194 | W2: -14.537194 | X2: -14.537194 | Y2: -14.537194
A3: 2 | B3: -14.552453 | C3: -14.552453 | D3: -14.59823 | E3: -14.552453 | F3: -14.537194 | G3: -14.567712 | H3: -14.552453 | I3: -14.582971 | J3: -14.567712 | K3: -14.552453 | L3: -14.552453 | M3: -14.582971 | N3: -14.613489 | O3: -14.659266 | P3: -14.735562 | Q3: -14.781338 | R3: -14.766079 | S3: -14.766079 | T3: -14.720303 | U3: -14.644007 | V3: -14.59823 | W3: -14.59823 | X3: -14.59823 | Y3: -14.593143
A4: 3 | B4: -14.59823 | C4: -14.537194 | D4: -14.552453 | E4: -14.537194 | F4: -14.537194 | G4: -14.537194 | H4: -14.537194 | I4: -14.552453 | J4: -14.59823 | K4: -14.582971 | L4: -14.59823 | M4: -14.644007 | N4: -14.720303 | O4: -14.75082 | P4: -14.79736 | Q4: -14.79736 | R4: -14.845426 | S4: -14.813382 | T4: -14.781338 | U4: -14.705044 | V4: -14.644007 | W4: -14.613489 | X4: -14.613489 | Y4: -14.613489
A5: 4 | B5: -14.59823 | C5: -14.59823 | D5: -14.59823 | E5: -14.59823 | F5: -14.59823 | G5: -14.567712 | H5: -14.537194 | I5: -14.567712 | J5: -14.567712 | K5: -14.552453 | L5: -14.582971 | M5: -14.613489 | N5: -14.674525 | O5: -14.705044 | P5: -14.674525 | Q5: -14.720303 | R5: -14.705044 | S5: -14.705044 | T5: -14.674525 | U5: -14.659266 | V5: -14.644007 | W5: -14.659266 | X5: -14.644007 | Y5: -14.644007
A6: 5 | B6: -14.659266 | C6: -14.613489 | D6: -14.644007 | E6: -14.659266 | F6: -14.644007 | G6: -14.628748 | H6: -14.613489 | I6: -14.613489 | J6: -14.59823 | K6: -14.59823 | L6: -14.628748 | M6: -14.644007 | N6: -14.689784 | O6: -14.705044 | P6: -14.720303 | Q6: -14.720303 | R6: -14.720303 | S6: -14.720303 | T6: -14.659266 | U6: -14.659266 | V6: -14.659266 | W6: -14.659266 | X6: -14.659266 | Y6: -14.659266
A7: 6 | B7: -14.659266 | C7: -14.659266 | D7: -14.644007 | E7: -14.659266 | F7: -14.659266 | G7: -14.644007 | H7: -14.644007 | I7: -14.628748 | J7: -14.59823 | K7: -14.613489 | L7: -14.659266 | M7: -14.705044 | N7: -14.720303 | O7: -14.75082 | P7: -14.781338 | Q7: -14.781338 | R7: -14.781338 | S7: -14.781338 | T7: -14.75082 | U7: -14.705044 | V7: -14.720303 | W7: -14.705044 | X7: -14.689784 | Y7: -14.684698
A8: 7 | B8: -14.659266 | C8: -14.659266 | D8: -14.628748 | E8: -14.59823 | F8: -14.59823 | G8: -14.59823 | H8: -14.582971 | I8: -14.552453 | J8: -14.552453 | K8: -14.537194 | L8: -14.59823 | M8: -14.644007 | N8: -14.720303 | O8: -14.75082 | P8: -14.766079 | Q8: -14.781338 | R8: -14.813382 | S8: -14.781338 | T8: -14.781338 | U8: -14.766079 | V8: -14.720303 | W8: -14.705044 | X8: -14.659266 | Y8: -14.674525
A9: 8 | B9: -14.59823 | C9: -14.59823 | D9: -14.567712 | E9: -14.582971 | F9: -14.537194 | G9: -14.552453 | H9: -14.537194 | I9: -14.552453 | J9: -14.552453 | K9: -14.552453 | L9: -14.59823 | M9: -14.613489 | N9: -14.659266 | O9: -2.1598385 | P9: 6.9963373 | Q9: 7.9973295 | R9: 10.309834 | S9: 11.110932 | T9: 12.067673 | U9: 11.944075 | V9: 12.636835 | W9: 12.991607 | X9: 12.436179 | Y9: 12.493146
A10: 9 | B10: 11.850996 | C10: 12.575799 | D10: 12.483482 | E10: 12.559777 | F10: 12.020372 | G10: 12.174487 | H10: 11.542001 | I10: 11.805218 | J10: 11.928052 | K10: 11.928053 | L10: 11.712138 | M10: 12.066148 | N10: 11.126954 | O10: 12.051651 | P10: 11.496222 | Q10: 12.220263 | R10: 12.114213 | S10: 13.053406 | T10: 12.667352 | U10: 13.730907 | V10: 12.837491 | W10: 14.116198 | X10: 13.685893 | Y10: 13.926732
A11: 10 | B11: 13.2533 | C11: 13.376135 | D11: 13.407415 | E11: 12.900054 | F11: 12.513999 | G11: 13.547035 | H11: 12.684137 | I11: 12.298084 | J11: 13.576791 | K11: 13.23804 | L11: 12.021134 | M11: 13.176242 | N11: 14.47097 | O11: 16.228046 | P11: 15.103456 | Q11: 14.763943 | R11: 14.394674 | S11: 14.379416 | T11: 14.255054 | U11: 13.746929 | V11: 13.700389 | W11: 13.561532 | X11: 12.637599 | Y11: 13.037893
A12: 11 | B12: 12.514001 | C12: 14.286335 | D12: 14.362631 | E12: 14.655603 | F12: 13.901045 | G12: 14.178759 | H12: 14.439689 | I12: 12.884031 | J12: 13.067902 | K12: 12.822232 | L12: 12.406424 | M12: 13.284581 | N12: 12.668116 | O12: 13.361639 | P12: 12.915312 | Q12: 13.376898 | R12: 13.730907 | S12: 12.868009 | T12: 13.006867 | U12: 13.022888 | V12: 12.343861 | W12: 13.623331 | X12: 13.422675 | Y12: 13.366471
A13: 12 | B13: 14.116198 | C13: 13.700388 | D13: 13.500496 | E13: 13.2533 | F13: 12.529259 | G13: 13.73167 | H13: 13.669871 | I13: 13.253299 | J13: 14.100938 | K13: 13.114443 | L13: 12.529259 | M13: 13.114443 | N13: 12.622339 | O13: 10.803463 | P13: 9.955062 | Q13: 13.547035 | R13: 14.779965 | S13: 12.790951 | T13: 11.296329 | U13: 10.294575 | V13: 10.170977 | W13: 10.371632 | X13: 11.142978 | Y13: 11.358128
... A32: 31 | B32: 33.231862 | C32: 33.925385 | D32: 33.015184 | E32: 32.706952 | F32: 33.539332 | G32: 33.431755 | H32: 33.478297 | I32: 32.953387 | J32: 32.660411 | K32: 32.877854 | L32: 32.645917 | M32: 32.784773 | N32: 33.385214 | O32: 33.123524 | P32: 33.170064 | Q32: 32.507822 | R32: 34.140537 | S32: 32.938126 | T32: 32.630657 | U32: 32.953385 | V32: 32.922865 | W32: 33.540094 | X32: 32.245366 | Y32: 33.090523

Sheet recap
A20: Jour\Heure | B20: 0 | C20: 1 | D20: 2 | E20: 3 | F20: 4 | G20: 5 | H20: 6 | I20: 7 | J20: 8 | K20: 9 | L20: 10 | M20: 11 | N20: 12 | O20: 13 | P20: 14 | Q20: 15 | R20: 16 | S20: 17 | T20: 18 | U20: 19 | V20: 20 | W20: 21 | X20: 22 | Y20: 23
A21: 1 | B21: =ROUND(IF(transition2!B2<2,0,0.5804*transition2!B2*transition2!B2-0.3587*transition2!B2+29.29),0) -> 0 | C21: =ROUND(IF(transition2!C2<2,0,0.5804*transition2!C2*transition2!C2-0.3587*transition2!C2+29.29),0) -> 0 | D21: =ROUND(IF(transition2!D2<2,0,0.5804*transition2!D2*transition2!D2-0.3587*transition2!D2+29.29),0) -> 0 | E21: =ROUND(IF(transition2!E2<2,0,0.5804*transition2!E2*transition2!E2-0.3587*transition2!E2+29.29),0) -> 0 | F21: =ROUND(IF(transition2!F2<2,0,0.5804*transition2!F2*transition2!F2-0.3587*transition2!F2+29.29),0) -> 0 | G21: =ROUND(IF(transition2!G2<2,0,0.5804*transition2!G2*transition2!G2-0.3587*transition2!G2+29.29),0) -> 0 | H21: =ROUND(IF(transition2!H2<2,0,0.5804*transition2!H2*transition2!H2-0.3587*transition2!H2+29.29),0) -> 0 | I21: =ROUND(IF(transition2!I2<2,0,0.5804*transition2!I2*transition2!I2-0.3587*transition2!I2+29.29),0) -> 0 | ... Y21: =ROUND(IF(transition2!Y2<2,0,0.5804*transition2!Y2*transition2!Y2-0.3587*transition2!Y2+29.29),0) -> 0
A22: 2 | B22: =ROUND(IF(transition2!B3<2,0,0.5804*transition2!B3*transition2!B3-0.3587*transition2!B3+29.29),0) -> 0 | C22: =ROUND(IF(transition2!C3<2,0,0.5804*transition2!C3*transition2!C3-0.3587*transition2!C3+29.29),0) -> 0 | D22: =ROUND(IF(transition2!D3<2,0,0.5804*transition2!D3*transition2!D3-0.3587*transition2!D3+29.29),0) -> 0
A23: 3 | B23: =ROUND(IF(transition2!B4<2,0,0.5804*transition2!B4*transition2!B4-0.3587*transition2!B4+29.29),0) -> 0 | C23: =ROUND(IF(transition2!C4<2,0,0.5804*transition2!C4*transition2!C4-0.3587*transition2!C4+29.29),0) -> 0 | D23: =ROUND(IF(transition2!D4<2,0,0.5804*transition2!D4*transition2!D4-0.3587*transition2!D4+29.29),0) -> 0
A24: 4 | B24: =ROUND(IF(transition2!B5<2,0,0.5804*transition2!B5*transition2!B5-0.3587*transition2!B5+29.29),0) -> 0 | C24: =ROUND(IF(transition2!C5<2,0,0.5804*transition2!C5*transition2!C5-0.3587*transition2!C5+29.29),0) -> 0 | D24: =ROUND(IF(transition2!D5<2,0,0.5804*transition2!D5*transition2!D5-0.3587*transition2!D5+29.29),0) -> 0
A25: 5 | B25: =ROUND(IF(transition2!B6<2,0,0.5804*transition2!B6*transition2!B6-0.3587*transition2!B6+29.29),0) -> 0 | C25: =ROUND(IF(transition2!C6<2,0,0.5804*transition2!C6*transition2!C6-0.3587*transition2!C6+29.29),0) -> 0 | D25: =ROUND(IF(transition2!D6<2,0,0.5804*transition2!D6*transition2!D6-0.3587*transition2!D6+29.29),0) -> 0
A26: 6 | B26: =ROUND(IF(transition2!B7<2,0,0.5804*transition2!B7*transition2!B7-0.3587*transition2!B7+29.29),0) -> 0 | C26: =ROUND(IF(transition2!C7<2,0,0.5804*transition2!C7*transition2!C7-0.3587*transition2!C7+29.29),0) -> 0 | D26: =ROUND(IF(transition2!D7<2,0,0.5804*transition2!D7*transition2!D7-0.3587*transition2!D7+29.29),0) -> 0
A27: 7 | B27: =ROUND(IF(transition2!B8<2,0,0.5804*transition2!B8*transition2!B8-0.3587*transition2!B8+29.29),0) -> 0 | C27: =ROUND(IF(transition2!C8<2,0,0.5804*transition2!C8*transition2!C8-0.3587*transition2!C8+29.29),0) -> 0 | D27: =ROUND(IF(transition2!D8<2,0,0.5804*transition2!D8*transition2!D8-0.3587*transition2!D8+29.29),0) -> 0
A28: 8 | B28: =ROUND(IF(transition2!B9<2,0,0.5804*transition2!B9*transition2!B9-0.3587*transition2!B9+29.29),0) -> 0 | C28: =ROUND(IF(transition2!C9<2,0,0.5804*transition2!C9*transition2!C9-0.3587*transition2!C9+29.29),0) -> 0 | D28: =ROUND(IF(transition2!D9<2,0,0.5804*transition2!D9*transition2!D9-0.3587*transition2!D9+29.29),0) -> 0
A29: 9 | B29: =ROUND(IF(transition2!B10<2,0,0.5804*transition2!B10*transition2!B10-0.3587*transition2!B10+29.29),0) -> 107 | C29: =ROUND(IF(transition2!C10<2,0,0.5804*transition2!C10*transition2!C10-0.3587*transition2!C10+29.29),0) -> 117 | D29: =ROUND(IF(transition2!D10<2,0,0.5804*transition2!D10*transition2!D10-0.3587*transition2!D10+29.29),0) -> 115
A30: 10 | B30: =ROUND(IF(transition2!B11<2,0,0.5804*transition2!B11*transition2!B11-0.3587*transition2!B11+29.29),0) -> 126 | C30: =ROUND(IF(transition2!C11<2,0,0.5804*transition2!C11*transition2!C11-0.3587*transition2!C11+29.29),0) -> 128 | D30: =ROUND(IF(transition2!D11<2,0,0.5804*transition2!D11*transition2!D11-0.3587*transition2!D11+29.29),0) -> 129
A31: 11 | B31: =ROUND(IF(transition2!B12<2,0,0.5804*transition2!B12*transition2!B12-0.3587*transition2!B12+29.29),0) -> 116 | C31: =ROUND(IF(transition2!C12<2,0,0.5804*transition2!C12*transition2!C12-0.3587*transition2!C12+29.29),0) -> 143 | D31: =ROUND(IF(transition2!D12<2,0,0.5804*transition2!D12*transition2!D12-0.3587*transition2!D12+29.29),0) -> 144
A32: 12 | B32: =ROUND(IF(transition2!B13<2,0,0.5804*transition2!B13*transition2!B13-0.3587*transition2!B13+29.29),0) -> 140 | C32: =ROUND(IF(transition2!C13<2,0,0.5804*transition2!C13*transition2!C13-0.3587*transition2!C13+29.29),0) -> 133 | D32: =ROUND(IF(transition2!D13<2,0,0.5804*transition2!D13*transition2!D13-0.3587*transition2!D13+29.29),0) -> 130
A33: 13 | B33: =ROUND(IF(transition2!B14<2,0,0.5804*transition2!B14*transition2!B14-0.3587*transition2!B14+29.29),0) -> 107 | C33: =ROUND(IF(transition2!C14<2,0,0.5804*transition2!C14*transition2!C14-0.3587*transition2!C14+29.29),0) -> 104 | D33: =ROUND(IF(transition2!D14<2,0,0.5804*transition2!D14*transition2!D14-0.3587*transition2!D14+29.29),0) -> 111
... A51: 31 | B51: =ROUND(IF(transition2!B32<2,0,0.5804*transition2!B32*transition2!B32-0.3587*transition2!B32+29.29),0) -> 658 | C51: =ROUND(IF(transition2!C32<2,0,0.5804*transition2!C32*transition2!C32-0.3587*transition2!C32+29.29),0) -> 685 | D51: =ROUND(IF(transition2!D32<2,0,0.5804*transition2!D32*transition2!D32-0.3587*transition2!D32+29.29),0) -> 650

Sheet Feuil3
