Workbook
Name ChoixRessource: #REF!
Name ChoixSpé: #REF!
Name ListeNatureTravaux: #REF!

Sheet Calendrier
A1: CALENDRIER NE PAS MODIFIER | M1: Onglet où on affecte une personne à une tâche | R1: Quinzaine | S1: 2 | T1: 4 | U1: 6 | V1: 8 | W1: 10 | X1: 12 | Y1: 14 | Z1: 16 | AA1: 18 | AB1: 20 | AC1: 22 | AD1: 24 | AE1: 26 | AF1: 28 | AG1: 30 | AH1: 32 | AI1: 34 | AJ1: 36 | AK1: 38 | AL1: 40 | AM1: 42 | AN1: 44 | AO1: 46 | AP1: 48
A2: =CHAR(ROW(B66)) -> B | B2: Année | C2: Date | D2: Numéro semaine | E2: Quinzaine | F2: Sem en Quinzaine | G2: Cumul Quinzaine | H2: Mois | I2: Année | K2: 2019 | R2: Mois | S2: =DATE(K2,1,1) -> 43466 | T2: =DATE(#REF!,2,1) -> #REF! | U2: =DATE(K2,2,1) -> 43497 | V2: =DATE(#REF!,2,1) -> #REF! | W2: =DATE(K2,3,1) -> 43525 | X2: =DATE(#REF!,2,1) -> #REF! | Y2: =DATE(K2,4,1) -> 43556 | Z2: =DATE(#REF!,2,1) -> #REF! | AA2: =DATE(K2,5,1) -> 43586 | AB2: =DATE(#REF!,2,1) -> #REF! | AC2: =DATE(K2,6,1) -> 43617 | AD2: =DATE(#REF!,2,1) -> #REF! | AE2: =DATE(K2,7,1) -> 43647 | AF2: =DATE(#REF!,2,1) -> #REF! | AG2: =DATE(K2,8,1) -> 43678 | AH2: =DATE(#REF!,2,1) -> #REF! | AI2: =DATE(K2,9,1) -> 43709 | AJ2: =DATE(#REF!,2,1) -> #REF! | AK2: =DATE(K2,10,1) -> 43739 | AL2: =DATE(#REF!,2,1) -> #REF! | AM2: =DATE(K2,11,1) -> 43770 | AN2: =DATE(#REF!,2,1) -> #REF! | AO2: =DATE(K2,12,1) -> 43800 | AP2: =DATE(#REF!,2,1) -> #REF!
A3: =CHAR(ROW(B67)) -> C | B3: =DATE($K$2,1,1) -> 43466 | C3: =B3 -> 43466 | D3: =IF(WEEKNUM(C3,2)=53,52,WEEKNUM(C3,2)) -> 1 | E3: =MONTH(C3)*2-(DAY(C3)<16) -> 1 | F3: =E3*2 -> 2 | G3: =IF(I4>$I$3,IF(AND(I4>I3,F3=48),F3*(I4-$I$3),(I4-$I$3)*48+F3),F3) -> 2 | H3: =MONTH(C3) -> 1 | I3: =YEAR(C3) -> 2019 | M3: Personne | O3: Volume d'heure | P3: Début | Q3: Fin
A4: =CHAR(ROW(B68)) -> D | B4: 1er lundi de l'année N | C4: =C3+1 -> 43467 | D4: =IF(WEEKNUM(C4,2)=53,52,WEEKNUM(C4,2)) -> 1 | E4: =MONTH(C4)*2-(DAY(C4)<16) -> 1 | F4: =E4*2 -> 2 | G4: =IF(I5>$I$3,IF(AND(I5>I4,F4=48),F4*(I5-$I$3),(I5-$I$3)*48+F4),F4) -> 2 | H4: =MONTH(C4) -> 1 | I4: =YEAR(C4) -> 2019 | M4: X. XXXX | N4: Tâche 1 | O4: 240 | P4: 43466 | Q4: 43830 | S4: =IFERROR(IF(AND(S$1>=VLOOKUP($P4,Calendrier!$C$3:$I$1464,5,FALSE),S$1<=VLOOKUP($Q4,Calendrier!$C$3:$I$1464,5,FALSE)),($O4*((VLOOKUP($Q4,Calendrier!$C$3:$I$1464,5,FALSE)-VLOOKUP($P4,Calendrier!$C$3:$I$1464,5,FALSE)+1)*(VLOOKUP($M4,$P$9:$Q$10,2,FALSE)-VLOOKUP($M4,$P$9:$Q$10,2,FALSE)*HLOOKUP(S$7,$P$7:$AP$10,MATCH($M4,$P$9:$P$10,0)+2,FALSE))/SUMPRODUCT(($P$9:$P$10=$M4)*($AR$7:$BO$7>=VLOOKUP($P4,Calendrier!$C$3:$I$1464,5,FALSE))*($AR$7:$BO$7<=VLOOKUP($Q4,Calendrier!$C$3:$I$1464,5,FALSE))*($AR$9:$BO$10))))*((SUMPRODUCT(($P$9:$P$10=$M4)*($AR$9:$BO$10)*($AR$7:$BO$7=S$1)))/(VLOOKUP($M4,$P$9:$Q$10,2,FALSE)-VLOOKUP($M4,$P$9:$Q$10,2,FALSE)*HLOOKUP(S$7,$P$7:$AP$10,MATCH($M4,$P$9:$P$10,0)+2,FALSE)))/((VLOOKUP($Q4,Calendrier!$C$3:$I$1464,5,FALSE)-VLOOKUP($P4,Calendrier!$C$3:$I$1464,5,FALSE)+1)),0),0) -> 10.666667 | T4: =IFERROR(IF(AND(T$1>=VLOOKUP($P4,Calendrier!$C$3:$I$1464,5,FALSE),T$1<=VLOOKUP($Q4,Calendrier!$C$3:$I$1464,5,FALSE)),($O4*((VLOOKUP($Q4,Calendrier!$C$3:$I$1464,5,FALSE)-VLOOKUP($P4,Calendrier!$C$3:$I$1464,5,FALSE)+1)*(VLOOKUP($M4,$P$9:$Q$10,2,FALSE)-VLOOKUP($M4,$P$9:$Q$10,2,FALSE)*HLOOKUP(T$7,$P$7:$AP$10,MATCH($M4,$P$9:$P$10,0)+2,FALSE))/SUMPRODUCT(($P$9:$P$10=$M4)*($AR$7:$BO$7>=VLOOKUP($P4,Calendrier!$C$3:$I$1464,5,FALSE))*($AR$7:$BO$7<=VLOOKUP($Q4,Calendrier!$C$3:$I$1464,5,FALSE))*($AR$9:$BO$10))))*((SUMPRODUCT(($P$9:$P$10=$M4)*($AR$9:$BO$10)*($AR$7:$BO$7=T$1)))/(VLOOKUP($M4,$P$9:$Q$10,2,FALSE)-VLOOKUP($M4,$P$9:$Q$10,2,FALSE)*HLOOKUP(T$7,$P$7:$AP$10,MATCH($M4,$P$9:$P$10,0)+2,FALSE)))/((VLOOKUP($Q4,Calendrier!$C$3:$I$1464,5,FALSE)-VLOOKUP($P4,Calendrier!$C$3:$I$1464,5,FALSE)+1)),0),0) -> 10.666667 | U4: =IFERROR(IF(AND(U$1>=VLOOKUP($P4,Calendrier!$C$3:$I$1464,5,FALSE),U$1<=VLOOKUP($Q4,Calendrier!$C$3:$I$1464,5,FALSE)),($O4*((VLOOKUP($Q4,Calendrier!$C$3:$I$1464,5,FALSE)-VLOOKUP($P4,Calendrier!$C$3:$I$1464,5,FALSE)+1)*(VLOOKUP($M4,$P$9:$Q$10,2,FALSE)-VLOOKUP($M4,$P$9:$Q$10,2,FALSE)*HLOOKUP(U$7,$P$7:$AP$10,MATCH($M4,$P$9:$P$10,0)+2,FALSE))/SUMPRODUCT(($P$9:$P$10=$M4)*($AR$7:$BO$7>=VLOOKUP($P4,Calendrier!$C$3:$I$1464,5,FALSE))*($AR$7:$BO$7<=VLOOKUP($Q4,Calendrier!$C$3:$I$1464,5,FALSE))*($AR$9:$BO$10))))*((SUMPRODUCT(($P$9:$P$10=$M4)*($AR$9:$BO$10)*($AR$7:$BO$7=U$1)))/(VLOOKUP($M4,$P$9:$Q$10,2,FALSE)-VLOOKUP($M4,$P$9:$Q$10,2,FALSE)*HLOOKUP(U$7,$P$7:$AP$10,MATCH($M4,$P$9:$P$10,0)+2,FALSE)))/((VLOOKUP($Q4,Calendrier!$C$3:$I$1464,5,FALSE)-VLOOKUP($P4,Calendrier!$C$3:$I$1464,5,FALSE)+1)),0),0) -> 0 | V4: =IFERROR(IF(AND(V$1>=VLOOKUP($P4,Calendrier!$C$3:$I$1464,5,FALSE),V$1<=VLOOKUP($Q4,Calendrier!$C$3:$I$1464,5,FALSE)),($O4*((VLOOKUP($Q4,Calendrier!$C$3:$I$1464,5,FALSE)-VLOOKUP($P4,Calendrier!$C$3:$I$1464,5,FALSE)+1)*(VLOOKUP($M4,$P$9:$Q$10,2,FALSE)-VLOOKUP($M4,$P$9:$Q$10,2,FALSE)*HLOOKUP(V$7,$P$7:$AP$10,MATCH($M4,$P$9:$P$10,0)+2,FALSE))/SUMPRODUCT(($P$9:$P$10=$M4)*($AR$7:$BO$7>=VLOOKUP($P4,Calendrier!$C$3:$I$1464,5,FALSE))*($AR$7:$BO$7<=VLOOKUP($Q4,Calendrier!$C$3:$I$1464,5,FALSE))*($AR$9:$BO$10))))*((SUMPRODUCT(($P$9:$P$10=$M4)*($AR$9:$BO$10)*($AR$7:$BO$7=V$1)))/(VLOOKUP($M4,$P$9:$Q$10,2,FALSE)-VLOOKUP($M4,$P$9:$Q$10,2,FALSE)*HLOOKUP(V$7,$P$7:$AP$10,MATCH($M4,$P$9:$P$10,0)+2,FALSE)))/((VLOOKUP($Q4,Calendrier!$C$3:$I$1464,5,FALSE)-VLOOKUP($P4,Calendrier!$C$3:$I$1464,5,FALSE)+1)),0),0) -> 5.3333333 | W4: =IFERROR(IF(AND(W$1>=VLOOKUP($P4,Calendrier!$C$3:$I$1464,5,FALSE),W$1<=VLOOKUP($Q4,Calendrier!$C$3:$I$1464,5,FALSE)),($O4*((VLOOKUP($Q4,Calendrier!$C$3:$I$1464,5,FALSE)-VLOOKUP($P4,Calendrier!$C$3:$I$1464,5,FALSE)+1)*(VLOOKUP($M4,$P$9:$Q$10,2,FALSE)-VLOOKUP($M4,$P$9:$Q$10,2,FALSE)*HLOOKUP(W$7,$P$7:$AP$10,MATCH($M4,$P$9:$P$10,0)+2,FALSE))/SUMPRODUCT(($P$9:$P$10=$M4)*($AR$7:$BO$7>=VLOOKUP($P4,Calendrier!$C$3:$I$1464,5,FALSE))*($AR$7:$BO$7<=VLOOKUP($Q4,Calendrier!$C$3:$I$1464,5,FALSE))*($AR$9:$BO$10))))*((SUMPRODUCT(($P$9:$P$10=$M4)*($AR$9:$BO$10)*($AR$7:$BO$7=W$1)))/(VLOOKUP($M4,$P$9:$Q$10,2,FALSE)-VLOOKUP($M4,$P$9:$Q$10,2,FALSE)*HLOOKUP(W$7,$P$7:$AP$10,MATCH($M4,$P$9:$P$10,0)+2,FALSE)))/((VLOOKUP($Q4,Calendrier!$C$3:$I$1464,5,FALSE)-VLOOKUP($P4,Calendrier!$C$3:$I$1464,5,FALSE)+1)),0),0) -> 10.666667 | X4: =IFERROR(IF(AND(X$1>=VLOOKUP($P4,Calendrier!$C$3:$I$1464,5,FALSE),X$1<=VLOOKUP($Q4,Calendrier!$C$3:$I$1464,5,FALSE)),($O4*((VLOOKUP($Q4,Calendrier!$C$3:$I$1464,5,FALSE)-VLOOKUP($P4,Calendrier!$C$3:$I$1464,5,FALSE)+1)*(VLOOKUP($M4,$P$9:$Q$10,2,FALSE)-VLOOKUP($M4,$P$9:$Q$10,2,FALSE)*HLOOKUP(X$7,$P$7:$AP$10,MATCH($M4,$P$9:$P$10,0)+2,FALSE))/SUMPRODUCT(($P$9:$P$10=$M4)*($AR$7:$BO$7>=VLOOKUP($P4,Calendrier!$C$3:$I$1464,5,FALSE))*($AR$7:$BO$7<=VLOOKUP($Q4,Calendrier!$C$3:$I$1464,5,FALSE))*($AR$9:$BO$10))))*((SUMPRODUCT(($P$9:$P$10=$M4)*($AR$9:$BO$10)*($AR$7:$BO$7=X$1)))/(VLOOKUP($M4,$P$9:$Q$10,2,FALSE)-VLOOKUP($M4,$P$9:$Q$10,2,FALSE)*HLOOKUP(X$7,$P$7:$AP$10,MATCH($M4,$P$9:$P$10,0)+2,FALSE)))/((VLOOKUP($Q4,Calendrier!$C$3:$I$1464,5,FALSE)-VLOOKUP($P4,Calendrier!$C$3:$I$1464,5,FALSE)+1)),0),0) -> 10.666667 | Y4: =IFERROR(IF(AND(Y$1>=VLOOKUP($P4,Calendrier!$C$3:$I$1464,5,FALSE),Y$1<=VLOOKUP($Q4,Calendrier!$C$3:$I$1464,5,FALSE)),($O4*((VLOOKUP($Q4,Calendrier!$C$3:$I$1464,5,FALSE)-VLOOKUP($P4,Calendrier!$C$3:$I$1464,5,FALSE)+1)*(VLOOKUP($M4,$P$9:$Q$10,2,FALSE)-VLOOKUP($M4,$P$9:$Q$10,2,FALSE)*HLOOKUP(Y$7,$P$7:$AP$10,MATCH($M4,$P$9:$P$10,0)+2,FALSE))/SUMPRODUCT(($P$9:$P$10=$M4)*($AR$7:$BO$7>=VLOOKUP($P4,Calendrier!$C$3:$I$1464,5,FALSE))*($AR$7:$BO$7<=VLOOKUP($Q4,Calendrier!$C$3:$I$1464,5,FALSE))*($AR$9:$BO$10))))*((SUMPRODUCT(($P$9:$P$10=$M4)*($AR$9:$BO$10)*($AR$7:$BO$7=Y$1)))/(VLOOKUP($M4,$P$9:$Q$10,2,FALSE)-VLOOKUP($M4,$P$9:$Q$10,2,FALSE)*HLOOKUP(Y$7,$P$7:$AP$10,MATCH($M4,$P$9:$P$10,0)+2,FALSE)))/((VLOOKUP($Q4,Calendrier!$C$3:$I$1464,5,FALSE)-VLOOKUP($P4,Calendrier!$C$3:$I$1464,5,FALSE)+1)),0),0) -> 10.666667 | Z4: =IFERROR(IF(AND(Z$1>=VLOOKUP($P4,Calendrier!$C$3:$I$1464,5,FALSE),Z$1<=VLOOKUP($Q4,Calendrier!$C$3:$I$1464,5,FALSE)),($O4*((VLOOKUP($Q4,Calendrier!$C$3:$I$1464,5,FALSE)-VLOOKUP($P4,Calendrier!$C$3:$I$1464,5,FALSE)+1)*(VLOOKUP($M4,$P$9:$Q$10,2,FALSE)-VLOOKUP($M4,$P$9:$Q$10,2,FALSE)*HLOOKUP(Z$7,$P$7:$AP$10,MATCH($M4,$P$9:$P$10,0)+2,FALSE))/SUMPRODUCT(($P$9:$P$10=$M4)*($AR$7:$BO$7>=VLOOKUP($P4,Calendrier!$C$3:$I$1464,5,FALSE))*($AR$7:$BO$7<=VLOOKUP($Q4,Calendrier!$C$3:$I$1464,5,FALSE))*($AR$9:$BO$10))))*((SUMPRODUCT(($P$9:$P$10=$M4)*($AR$9:$BO$10)*($AR$7:$BO$7=Z$1)))/(VLOOKUP($M4,$P$9:$Q$10,2,FALSE)-VLOOKUP($M4,$P$9:$Q$10,2,FALSE)*HLOOKUP(Z$7,$P$7:$AP$10,MATCH($M4,$P$9:$P$10,0)+2,FALSE)))/((VLOOKUP($Q4,Calendrier!$C$3:$I$1464,5,FALSE)-VLOOKUP($P4,Calendrier!$C$3:$I$1464,5,FALSE)+1)),0),0) -> 10.666667 | ... AP4: =IFERROR(IF(AND(AP$1>=VLOOKUP($P4,Calendrier!$C$3:$I$1464,5,FALSE),AP$1<=VLOOKUP($Q4,Calendrier!$C$3:$I$1464,5,FALSE)),($O4*((VLOOKUP($Q4,Calendrier!$C$3:$I$1464,5,FALSE)-VLOOKUP($P4,Calendrier!$C$3:$I$1464,5,FALSE)+1)*(VLOOKUP($M4,$P$9:$Q$10,2,FALSE)-VLOOKUP($M4,$P$9:$Q$10,2,FALSE)*HLOOKUP(AP$7,$P$7:$AP$10,MATCH($M4,$P$9:$P$10,0)+2,FALSE))/SUMPRODUCT(($P$9:$P$10=$M4)*($AR$7:$BO$7>=VLOOKUP($P4,Calendrier!$C$3:$I$1464,5,FALSE))*($AR$7:$BO$7<=VLOOKUP($Q4,Calendrier!$C$3:$I$1464,5,FALSE))*($AR$9:$BO$10))))*((SUMPRODUCT(($P$9:$P$10=$M4)*($AR$9:$BO$10)*($AR$7:$BO$7=AP$1)))/(VLOOKUP($M4,$P$9:$Q$10,2,FALSE)-VLOOKUP($M4,$P$9:$Q$10,2,FALSE)*HLOOKUP(AP$7,$P$7:$AP$10,MATCH($M4,$P$9:$P$10,0)+2,FALSE)))/((VLOOKUP($Q4,Calendrier!$C$3:$I$1464,5,FALSE)-VLOOKUP($P4,Calendrier!$C$3:$I$1464,5,FALSE)+1)),0),0) -> 10.666667
A5: =CHAR(ROW(B69)) -> E | B5: =DATE(YEAR(B3),1,7)-MOD(DATE(YEAR(B3),1,7)-2,7) -> 43472 | C5: =C4+1 -> 43468 | D5: =IF(WEEKNUM(C5,2)=53,52,WEEKNUM(C5,2)) -> 1 | E5: =MONTH(C5)*2-(DAY(C5)<16) -> 1 | F5: =E5*2 -> 2 | G5: =IF(I6>$I$3,IF(AND(I6>I5,F5=48),F5*(I6-$I$3),(I6-$I$3)*48+F5),F5) -> 2 | H5: =MONTH(C5) -> 1 | I5: =YEAR(C5) -> 2019
A6: =CHAR(ROW(B70)) -> F | C6: =C5+1 -> 43469 | D6: =IF(WEEKNUM(C6,2)=53,52,WEEKNUM(C6,2)) -> 1 | E6: =MONTH(C6)*2-(DAY(C6)<16) -> 1 | F6: =E6*2 -> 2 | G6: =IF(I7>$I$3,IF(AND(I7>I6,F6=48),F6*(I7-$I$3),(I7-$I$3)*48+F6),F6) -> 2 | H6: =MONTH(C6) -> 1 | I6: =YEAR(C6) -> 2019
A7: =CHAR(ROW(B71)) -> G | B7: Début | C7: =C6+1 -> 43470 | D7: =IF(WEEKNUM(C7,2)=53,52,WEEKNUM(C7,2)) -> 1 | E7: =MONTH(C7)*2-(DAY(C7)<16) -> 1 | F7: =E7*2 -> 2 | G7: =IF(I8>$I$3,IF(AND(I8>I7,F7=48),F7*(I8-$I$3),(I8-$I$3)*48+F7),F7) -> 2 | H7: =MONTH(C7) -> 1 | I7: =YEAR(C7) -> 2019 | M7: Onglet où on indique l'indispo d'une personne | R7: Quinzaine | S7: 2 | T7: 4 | U7: 6 | V7: 8 | W7: 10 | X7: 12 | Y7: 14 | Z7: 16 | AA7: 18 | AB7: 20 | AC7: 22 | AD7: 24 | AE7: 26 | AF7: 28 | AG7: 30 | AH7: 32 | AI7: 34 | AJ7: 36 | AK7: 38 | AL7: 40 | AM7: 42 | AN7: 44 | AO7: 46 | AP7: 48 | AQ7: Quinzaine | AR7: 2 | AS7: 4 | AT7: 6 | AU7: 8 | AV7: 10 | AW7: 12 | AX7: 14 | AY7: 16 | AZ7: 18 | BA7: 20 | BB7: 22 | BC7: 24 | BD7: 26 | BE7: 28 | BF7: 30 | BG7: 32 | BH7: 34 | BI7: 36 | BJ7: 38 | BK7: 40 | BL7: 42 | BM7: 44 | BN7: 46 | BO7: 48
A8: =CHAR(ROW(B72)) -> H | B8: =$C$3 -> 43466 | C8: =C7+1 -> 43471 | D8: =IF(WEEKNUM(C8,2)=53,52,WEEKNUM(C8,2)) -> 1 | E8: =MONTH(C8)*2-(DAY(C8)<16) -> 1 | F8: =E8*2 -> 2 | G8: =IF(I9>$I$3,IF(AND(I9>I8,F8=48),F8*(I9-$I$3),(I9-$I$3)*48+F8),F8) -> 2 | H8: =MONTH(C8) -> 1 | I8: =YEAR(C8) -> 2019 | P8: Personne | R8: Mois | S8: =DATE(K2,1,1) -> 43466 | T8: =DATE(#REF!,2,1) -> #REF! | U8: =DATE(K2,2,1) -> 43497 | V8: =DATE(#REF!,2,1) -> #REF! | W8: =DATE(K2,3,1) -> 43525 | X8: =DATE(#REF!,2,1) -> #REF! | Y8: =DATE(K2,4,1) -> 43556 | Z8: =DATE(#REF!,2,1) -> #REF! | AA8: =DATE(K2,5,1) -> 43586 | AB8: =DATE(#REF!,2,1) -> #REF! | AC8: =DATE(K2,6,1) -> 43617 | AD8: =DATE(#REF!,2,1) -> #REF! | AE8: =DATE(K2,7,1) -> 43647 | AF8: =DATE(#REF!,2,1) -> #REF! | AG8: =DATE(K2,8,1) -> 43678 | AH8: =DATE(#REF!,2,1) -> #REF! | AI8: =DATE(K2,9,1) -> 43709 | AJ8: =DATE(#REF!,2,1) -> #REF! | AK8: =DATE(K2,10,1) -> 43739 | AL8: =DATE(#REF!,2,1) -> #REF! | AM8: =DATE(K2,11,1) -> 43770 | AN8: =DATE(#REF!,2,1) -> #REF! | AO8: =DATE(K2,12,1) -> 43800 | AP8: =DATE(#REF!,2,1) -> #REF! | AQ8: Mois | AR8: =DATE(K2,1,1) -> 43466 | AS8: =DATE(#REF!,2,1) -> #REF! | AT8: =DATE(K2,2,1) -> 43497 | AU8: =DATE(#REF!,2,1) -> #REF! | AV8: =DATE(K2,3,1) -> 43525 | AW8: =DATE(#REF!,2,1) -> #REF! | AX8: =DATE(K2,4,1) -> 43556 | AY8: =DATE(#REF!,2,1) -> #REF! | AZ8: =DATE(K2,5,1) -> 43586 | BA8: =DATE(#REF!,2,1) -> #REF! | BB8: =DATE(K2,6,1) -> 43617 | BC8: =DATE(#REF!,2,1) -> #REF! | BD8: =DATE(K2,7,1) -> 43647 | BE8: =DATE(#REF!,2,1) -> #REF! | BF8: =DATE(K2,8,1) -> 43678 | BG8: =DATE(#REF!,2,1) -> #REF! | BH8: =DATE(K2,9,1) -> 43709 | BI8: =DATE(#REF!,2,1) -> #REF! | BJ8: =DATE(K2,10,1) -> 43739 | BK8: =DATE(#REF!,2,1) -> #REF! | BL8: =DATE(K2,11,1) -> 43770 | BM8: =DATE(#REF!,2,1) -> #REF! | BN8: =DATE(K2,12,1) -> 43800 | BO8: =DATE(#REF!,2,1) -> #REF!
A9: =CHAR(ROW(B73)) -> I | B9: Fin | C9: =C8+1 -> 43472 | D9: =IF(WEEKNUM(C9,2)=53,52,WEEKNUM(C9,2)) -> 2 | E9: =MONTH(C9)*2-(DAY(C9)<16) -> 1 | F9: =E9*2 -> 2 | G9: =IF(I10>$I$3,IF(AND(I10>I9,F9=48),F9*(I10-$I$3),(I10-$I$3)*48+F9),F9) -> 2 | H9: =MONTH(C9) -> 1 | I9: =YEAR(C9) -> 2019 | P9: X. XXXX | Q9: 76 | U9: 1 | V9: 0.5 | AR9: =$Q9-$Q9*S9 -> 76 | AS9: =$Q9-$Q9*T9 -> 76 | AT9: =$Q9-$Q9*U9 -> 0 | AU9: =$Q9-$Q9*V9 -> 38 | AV9: =$Q9-$Q9*W9 -> 76 | AW9: =$Q9-$Q9*X9 -> 76 | AX9: =$Q9-$Q9*Y9 -> 76 | AY9: =$Q9-$Q9*Z9 -> 76 | ... BO9: =$Q9-$Q9*AP9 -> 76
A10: =CHAR(ROW(B74)) -> J | B10: =MAX(C:C)-1 -> 44926 | C10: =C9+1 -> 43473 | D10: =IF(WEEKNUM(C10,2)=53,52,WEEKNUM(C10,2)) -> 2 | E10: =MONTH(C10)*2-(DAY(C10)<16) -> 1 | F10: =E10*2 -> 2 | G10: =IF(I11>$I$3,IF(AND(I11>I10,F10=48),F10*(I11-$I$3),(I11-$I$3)*48+F10),F10) -> 2 | H10: =MONTH(C10) -> 1 | I10: =YEAR(C10) -> 2019 | P10: X. PPPP | Q10: 76 | AR10: =$Q10-$Q10*S10 -> 76 | AS10: =$Q10-$Q10*T10 -> 76 | AT10: =$Q10-$Q10*U10 -> 76 | AU10: =$Q10-$Q10*V10 -> 76 | AV10: =$Q10-$Q10*W10 -> 76 | AW10: =$Q10-$Q10*X10 -> 76 | AX10: =$Q10-$Q10*Y10 -> 76 | AY10: =$Q10-$Q10*Z10 -> 76 | ... BO10: =$Q10-$Q10*AP10 -> 76
A11: =CHAR(ROW(B75)) -> K | B11: Sem Début | C11: =C10+1 -> 43474 | D11: =IF(WEEKNUM(C11,2)=53,52,WEEKNUM(C11,2)) -> 2 | E11: =MONTH(C11)*2-(DAY(C11)<16) -> 1 | F11: =E11*2 -> 2 | G11: =IF(I12>$I$3,IF(AND(I12>I11,F11=48),F11*(I12-$I$3),(I12-$I$3)*48+F11),F11) -> 2 | H11: =MONTH(C11) -> 1 | I11: =YEAR(C11) -> 2019
A12: =CHAR(ROW(B76)) -> L | B12: 1 | C12: =C11+1 -> 43475 | D12: =IF(WEEKNUM(C12,2)=53,52,WEEKNUM(C12,2)) -> 2 | E12: =MONTH(C12)*2-(DAY(C12)<16) -> 1 | F12: =E12*2 -> 2 | G12: =IF(I13>$I$3,IF(AND(I13>I12,F12=48),F12*(I13-$I$3),(I13-$I$3)*48+F12),F12) -> 2 | H12: =MONTH(C12) -> 1 | I12: =YEAR(C12) -> 2019
A13: =CHAR(ROW(B77)) -> M | B13: Sem Fin | C13: =C12+1 -> 43476 | D13: =IF(WEEKNUM(C13,2)=53,52,WEEKNUM(C13,2)) -> 2 | E13: =MONTH(C13)*2-(DAY(C13)<16) -> 1 | F13: =E13*2 -> 2 | G13: =IF(I14>$I$3,IF(AND(I14>I13,F13=48),F13*(I14-$I$3),(I14-$I$3)*48+F13),F13) -> 2 | H13: =MONTH(C13) -> 1 | I13: =YEAR(C13) -> 2019
A14: =CHAR(ROW(B78)) -> N | B14: =TRUNC((B10-B8)/7) -> 208 | C14: =C13+1 -> 43477 | D14: =IF(WEEKNUM(C14,2)=53,52,WEEKNUM(C14,2)) -> 2 | E14: =MONTH(C14)*2-(DAY(C14)<16) -> 1 | F14: =E14*2 -> 2 | G14: =IF(I15>$I$3,IF(AND(I15>I14,F14=48),F14*(I15-$I$3),(I15-$I$3)*48+F14),F14) -> 2 | H14: =MONTH(C14) -> 1 | I14: =YEAR(C14) -> 2019
A15: =CHAR(ROW(B79)) -> O | B15: Nombre Sem | C15: =C14+1 -> 43478 | D15: =IF(WEEKNUM(C15,2)=53,52,WEEKNUM(C15,2)) -> 2 | E15: =MONTH(C15)*2-(DAY(C15)<16) -> 1 | F15: =E15*2 -> 2 | G15: =IF(I16>$I$3,IF(AND(I16>I15,F15=48),F15*(I16-$I$3),(I16-$I$3)*48+F15),F15) -> 2 | H15: =MONTH(C15) -> 1 | I15: =YEAR(C15) -> 2019
A16: =CHAR(ROW(B80)) -> P | B16: =B14 -> 208 | C16: =C15+1 -> 43479 | D16: =IF(WEEKNUM(C16,2)=53,52,WEEKNUM(C16,2)) -> 3 | E16: =MONTH(C16)*2-(DAY(C16)<16) -> 1 | F16: =E16*2 -> 2 | G16: =IF(I17>$I$3,IF(AND(I17>I16,F16=48),F16*(I17-$I$3),(I17-$I$3)*48+F16),F16) -> 2 | H16: =MONTH(C16) -> 1 | I16: =YEAR(C16) -> 2019
A17: =CHAR(ROW(B81)) -> Q | C17: =C16+1 -> 43480 | D17: =IF(WEEKNUM(C17,2)=53,52,WEEKNUM(C17,2)) -> 3 | E17: =MONTH(C17)*2-(DAY(C17)<16) -> 1 | F17: =E17*2 -> 2 | G17: =IF(I18>$I$3,IF(AND(I18>I17,F17=48),F17*(I18-$I$3),(I18-$I$3)*48+F17),F17) -> 2 | H17: =MONTH(C17) -> 1 | I17: =YEAR(C17) -> 2019 | R17: Données d'entrées
A18: =CHAR(ROW(B82)) -> R | C18: =C17+1 -> 43481 | D18: =IF(WEEKNUM(C18,2)=53,52,WEEKNUM(C18,2)) -> 3 | E18: =MONTH(C18)*2-(DAY(C18)<16) -> 2 | F18: =E18*2 -> 4 | G18: =IF(I19>$I$3,IF(AND(I19>I18,F18=48),F18*(I19-$I$3),(I19-$I$3)*48+F18),F18) -> 4 | H18: =MONTH(C18) -> 1 | I18: =YEAR(C18) -> 2019 | R18: Résultats
A19: =CHAR(ROW(B83)) -> S | C19: =C18+1 -> 43482 | D19: =IF(WEEKNUM(C19,2)=53,52,WEEKNUM(C19,2)) -> 3 | E19: =MONTH(C19)*2-(DAY(C19)<16) -> 2 | F19: =E19*2 -> 4 | G19: =IF(I20>$I$3,IF(AND(I20>I19,F19=48),F19*(I20-$I$3),(I20-$I$3)*48+F19),F19) -> 4 | H19: =MONTH(C19) -> 1 | I19: =YEAR(C19) -> 2019 | R19: Zone où on rentre le coefficient d'absence
A20: =CHAR(ROW(B84)) -> T | C20: =C19+1 -> 43483 | D20: =IF(WEEKNUM(C20,2)=53,52,WEEKNUM(C20,2)) -> 3 | E20: =MONTH(C20)*2-(DAY(C20)<16) -> 2 | F20: =E20*2 -> 4 | G20: =IF(I21>$I$3,IF(AND(I21>I20,F20=48),F20*(I21-$I$3),(I21-$I$3)*48+F20),F20) -> 4 | H20: =MONTH(C20) -> 1 | I20: =YEAR(C20) -> 2019 | R20: Calcul automatique des heures de dispo
A21: =CHAR(ROW(B85)) -> U | C21: =C20+1 -> 43484 | D21: =IF(WEEKNUM(C21,2)=53,52,WEEKNUM(C21,2)) -> 3 | E21: =MONTH(C21)*2-(DAY(C21)<16) -> 2 | F21: =E21*2 -> 4 | G21: =IF(I22>$I$3,IF(AND(I22>I21,F21=48),F21*(I22-$I$3),(I22-$I$3)*48+F21),F21) -> 4 | H21: =MONTH(C21) -> 1 | I21: =YEAR(C21) -> 2019
A22: =CHAR(ROW(B86)) -> V | C22: =C21+1 -> 43485 | D22: =IF(WEEKNUM(C22,2)=53,52,WEEKNUM(C22,2)) -> 3 | E22: =MONTH(C22)*2-(DAY(C22)<16) -> 2 | F22: =E22*2 -> 4 | G22: =IF(I23>$I$3,IF(AND(I23>I22,F22=48),F22*(I23-$I$3),(I23-$I$3)*48+F22),F22) -> 4 | H22: =MONTH(C22) -> 1 | I22: =YEAR(C22) -> 2019
A23: =CHAR(ROW(B87)) -> W | C23: =C22+1 -> 43486 | D23: =IF(WEEKNUM(C23,2)=53,52,WEEKNUM(C23,2)) -> 4 | E23: =MONTH(C23)*2-(DAY(C23)<16) -> 2 | F23: =E23*2 -> 4 | G23: =IF(I24>$I$3,IF(AND(I24>I23,F23=48),F23*(I24-$I$3),(I24-$I$3)*48+F23),F23) -> 4 | H23: =MONTH(C23) -> 1 | I23: =YEAR(C23) -> 2019
A24: =CHAR(ROW(B88)) -> X | C24: =C23+1 -> 43487 | D24: =IF(WEEKNUM(C24,2)=53,52,WEEKNUM(C24,2)) -> 4 | E24: =MONTH(C24)*2-(DAY(C24)<16) -> 2 | F24: =E24*2 -> 4 | G24: =IF(I25>$I$3,IF(AND(I25>I24,F24=48),F24*(I25-$I$3),(I25-$I$3)*48+F24),F24) -> 4 | H24: =MONTH(C24) -> 1 | I24: =YEAR(C24) -> 2019
A25: =CHAR(ROW(B89)) -> Y | C25: =C24+1 -> 43488 | D25: =IF(WEEKNUM(C25,2)=53,52,WEEKNUM(C25,2)) -> 4 | E25: =MONTH(C25)*2-(DAY(C25)<16) -> 2 | F25: =E25*2 -> 4 | G25: =IF(I26>$I$3,IF(AND(I26>I25,F25=48),F25*(I26-$I$3),(I26-$I$3)*48+F25),F25) -> 4 | H25: =MONTH(C25) -> 1 | I25: =YEAR(C25) -> 2019
A26: =CHAR(ROW(B90)) -> Z | C26: =C25+1 -> 43489 | D26: =IF(WEEKNUM(C26,2)=53,52,WEEKNUM(C26,2)) -> 4 | E26: =MONTH(C26)*2-(DAY(C26)<16) -> 2 | F26: =E26*2 -> 4 | G26: =IF(I27>$I$3,IF(AND(I27>I26,F26=48),F26*(I27-$I$3),(I27-$I$3)*48+F26),F26) -> 4 | H26: =MONTH(C26) -> 1 | I26: =YEAR(C26) -> 2019
A27: =CHAR(ROW(B91)) -> [ | C27: =C26+1 -> 43490 | D27: =IF(WEEKNUM(C27,2)=53,52,WEEKNUM(C27,2)) -> 4 | E27: =MONTH(C27)*2-(DAY(C27)<16) -> 2 | F27: =E27*2 -> 4 | G27: =IF(I28>$I$3,IF(AND(I28>I27,F27=48),F27*(I28-$I$3),(I28-$I$3)*48+F27),F27) -> 4 | H27: =MONTH(C27) -> 1 | I27: =YEAR(C27) -> 2019
A28: =$A$2&CHAR(ROW(B66)) -> BB | C28: =C27+1 -> 43491 | D28: =IF(WEEKNUM(C28,2)=53,52,WEEKNUM(C28,2)) -> 4 | E28: =MONTH(C28)*2-(DAY(C28)<16) -> 2 | F28: =E28*2 -> 4 | G28: =IF(I29>$I$3,IF(AND(I29>I28,F28=48),F28*(I29-$I$3),(I29-$I$3)*48+F28),F28) -> 4 | H28: =MONTH(C28) -> 1 | I28: =YEAR(C28) -> 2019
A29: =$A$2&CHAR(ROW(B67)) -> BC | C29: =C28+1 -> 43492 | D29: =IF(WEEKNUM(C29,2)=53,52,WEEKNUM(C29,2)) -> 4 | E29: =MONTH(C29)*2-(DAY(C29)<16) -> 2 | F29: =E29*2 -> 4 | G29: =IF(I30>$I$3,IF(AND(I30>I29,F29=48),F29*(I30-$I$3),(I30-$I$3)*48+F29),F29) -> 4 | H29: =MONTH(C29) -> 1 | I29: =YEAR(C29) -> 2019
A30: =$A$2&CHAR(ROW(B68)) -> BD | C30: =C29+1 -> 43493 | D30: =IF(WEEKNUM(C30,2)=53,52,WEEKNUM(C30,2)) -> 5 | E30: =MONTH(C30)*2-(DAY(C30)<16) -> 2 | F30: =E30*2 -> 4 | G30: =IF(I31>$I$3,IF(AND(I31>I30,F30=48),F30*(I31-$I$3),(I31-$I$3)*48+F30),F30) -> 4 | H30: =MONTH(C30) -> 1 | I30: =YEAR(C30) -> 2019
A31: =$A$2&CHAR(ROW(B69)) -> BE | C31: =C30+1 -> 43494 | D31: =IF(WEEKNUM(C31,2)=53,52,WEEKNUM(C31,2)) -> 5 | E31: =MONTH(C31)*2-(DAY(C31)<16) -> 2 | F31: =E31*2 -> 4 | G31: =IF(I32>$I$3,IF(AND(I32>I31,F31=48),F31*(I32-$I$3),(I32-$I$3)*48+F31),F31) -> 4 | H31: =MONTH(C31) -> 1 | I31: =YEAR(C31) -> 2019
A32: =$A$2&CHAR(ROW(B70)) -> BF | C32: =C31+1 -> 43495 | D32: =IF(WEEKNUM(C32,2)=53,52,WEEKNUM(C32,2)) -> 5 | E32: =MONTH(C32)*2-(DAY(C32)<16) -> 2 | F32: =E32*2 -> 4 | G32: =IF(I33>$I$3,IF(AND(I33>I32,F32=48),F32*(I33-$I$3),(I33-$I$3)*48+F32),F32) -> 4 | H32: =MONTH(C32) -> 1 | I32: =YEAR(C32) -> 2019
A33: =$A$2&CHAR(ROW(B71)) -> BG | C33: =C32+1 -> 43496 | D33: =IF(WEEKNUM(C33,2)=53,52,WEEKNUM(C33,2)) -> 5 | E33: =MONTH(C33)*2-(DAY(C33)<16) -> 2 | F33: =E33*2 -> 4 | G33: =IF(I34>$I$3,IF(AND(I34>I33,F33=48),F33*(I34-$I$3),(I34-$I$3)*48+F33),F33) -> 4 | H33: =MONTH(C33) -> 1 | I33: =YEAR(C33) -> 2019
A34: =$A$2&CHAR(ROW(B72)) -> BH | C34: =C33+1 -> 43497 | D34: =IF(WEEKNUM(C34,2)=53,52,WEEKNUM(C34,2)) -> 5 | E34: =MONTH(C34)*2-(DAY(C34)<16) -> 3 | F34: =E34*2 -> 6 | G34: =IF(I35>$I$3,IF(AND(I35>I34,F34=48),F34*(I35-$I$3),(I35-$I$3)*48+F34),F34) -> 6 | H34: =MONTH(C34) -> 2 | I34: =YEAR(C34) -> 2019
A35: =$A$2&CHAR(ROW(B73)) -> BI | C35: =C34+1 -> 43498 | D35: =IF(WEEKNUM(C35,2)=53,52,WEEKNUM(C35,2)) -> 5 | E35: =MONTH(C35)*2-(DAY(C35)<16) -> 3 | F35: =E35*2 -> 6 | G35: =IF(I36>$I$3,IF(AND(I36>I35,F35=48),F35*(I36-$I$3),(I36-$I$3)*48+F35),F35) -> 6 | H35: =MONTH(C35) -> 2 | I35: =YEAR(C35) -> 2019
A36: =$A$2&CHAR(ROW(B74)) -> BJ | C36: =C35+1 -> 43499 | D36: =IF(WEEKNUM(C36,2)=53,52,WEEKNUM(C36,2)) -> 5 | E36: =MONTH(C36)*2-(DAY(C36)<16) -> 3 | F36: =E36*2 -> 6 | G36: =IF(I37>$I$3,IF(AND(I37>I36,F36=48),F36*(I37-$I$3),(I37-$I$3)*48+F36),F36) -> 6 | H36: =MONTH(C36) -> 2 | I36: =YEAR(C36) -> 2019
A37: =$A$2&CHAR(ROW(B75)) -> BK | C37: =C36+1 -> 43500 | D37: =IF(WEEKNUM(C37,2)=53,52,WEEKNUM(C37,2)) -> 6 | E37: =MONTH(C37)*2-(DAY(C37)<16) -> 3 | F37: =E37*2 -> 6 | G37: =IF(I38>$I$3,IF(AND(I38>I37,F37=48),F37*(I38-$I$3),(I38-$I$3)*48+F37),F37) -> 6 | H37: =MONTH(C37) -> 2 | I37: =YEAR(C37) -> 2019
A38: =$A$2&CHAR(ROW(B76)) -> BL | C38: =C37+1 -> 43501 | D38: =IF(WEEKNUM(C38,2)=53,52,WEEKNUM(C38,2)) -> 6 | E38: =MONTH(C38)*2-(DAY(C38)<16) -> 3 | F38: =E38*2 -> 6 | G38: =IF(I39>$I$3,IF(AND(I39>I38,F38=48),F38*(I39-$I$3),(I39-$I$3)*48+F38),F38) -> 6 | H38: =MONTH(C38) -> 2 | I38: =YEAR(C38) -> 2019
A39: =$A$2&CHAR(ROW(B77)) -> BM | C39: =C38+1 -> 43502 | D39: =IF(WEEKNUM(C39,2)=53,52,WEEKNUM(C39,2)) -> 6 | E39: =MONTH(C39)*2-(DAY(C39)<16) -> 3 | F39: =E39*2 -> 6 | G39: =IF(I40>$I$3,IF(AND(I40>I39,F39=48),F39*(I40-$I$3),(I40-$I$3)*48+F39),F39) -> 6 | H39: =MONTH(C39) -> 2 | I39: =YEAR(C39) -> 2019
... A53: =$A$2&CHAR(ROW(B91)) -> B[ | C53: =C52+1 -> 43516 | D53: =IF(WEEKNUM(C53,2)=53,52,WEEKNUM(C53,2)) -> 8 | E53: =MONTH(C53)*2-(DAY(C53)<16) -> 4 | F53: =E53*2 -> 8 | G53: =IF(I54>$I$3,IF(AND(I54>I53,F53=48),F53*(I54-$I$3),(I54-$I$3)*48+F53),F53) -> 8 | H53: =MONTH(C53) -> 2 | I53: =YEAR(C53) -> 2019
A54: ="B"&CHAR(ROW(B66)) -> BB | C54: =C53+1 -> 43517 | D54: =IF(WEEKNUM(C54,2)=53,52,WEEKNUM(C54,2)) -> 8 | E54: =MONTH(C54)*2-(DAY(C54)<16) -> 4 | F54: =E54*2 -> 8 | G54: =IF(I55>$I$3,IF(AND(I55>I54,F54=48),F54*(I55-$I$3),(I55-$I$3)*48+F54),F54) -> 8 | H54: =MONTH(C54) -> 2 | I54: =YEAR(C54) -> 2019
A55: ="B"&CHAR(ROW(B67)) -> BC | C55: =C54+1 -> 43518 | D55: =IF(WEEKNUM(C55,2)=53,52,WEEKNUM(C55,2)) -> 8 | E55: =MONTH(C55)*2-(DAY(C55)<16) -> 4 | F55: =E55*2 -> 8 | G55: =IF(I56>$I$3,IF(AND(I56>I55,F55=48),F55*(I56-$I$3),(I56-$I$3)*48+F55),F55) -> 8 | H55: =MONTH(C55) -> 2 | I55: =YEAR(C55) -> 2019
A56: ="B"&CHAR(ROW(B68)) -> BD | C56: =C55+1 -> 43519 | D56: =IF(WEEKNUM(C56,2)=53,52,WEEKNUM(C56,2)) -> 8 | E56: =MONTH(C56)*2-(DAY(C56)<16) -> 4 | F56: =E56*2 -> 8 | G56: =IF(I57>$I$3,IF(AND(I57>I56,F56=48),F56*(I57-$I$3),(I57-$I$3)*48+F56),F56) -> 8 | H56: =MONTH(C56) -> 2 | I56: =YEAR(C56) -> 2019
A57: ="B"&CHAR(ROW(B69)) -> BE | C57: =C56+1 -> 43520 | D57: =IF(WEEKNUM(C57,2)=53,52,WEEKNUM(C57,2)) -> 8 | E57: =MONTH(C57)*2-(DAY(C57)<16) -> 4 | F57: =E57*2 -> 8 | G57: =IF(I58>$I$3,IF(AND(I58>I57,F57=48),F57*(I58-$I$3),(I58-$I$3)*48+F57),F57) -> 8 | H57: =MONTH(C57) -> 2 | I57: =YEAR(C57) -> 2019
A58: ="B"&CHAR(ROW(B70)) -> BF | C58: =C57+1 -> 43521 | D58: =IF(WEEKNUM(C58,2)=53,52,WEEKNUM(C58,2)) -> 9 | E58: =MONTH(C58)*2-(DAY(C58)<16) -> 4 | F58: =E58*2 -> 8 | G58: =IF(I59>$I$3,IF(AND(I59>I58,F58=48),F58*(I59-$I$3),(I59-$I$3)*48+F58),F58) -> 8 | H58: =MONTH(C58) -> 2 | I58: =YEAR(C58) -> 2019
A59: ="B"&CHAR(ROW(B71)) -> BG | C59: =C58+1 -> 43522 | D59: =IF(WEEKNUM(C59,2)=53,52,WEEKNUM(C59,2)) -> 9 | E59: =MONTH(C59)*2-(DAY(C59)<16) -> 4 | F59: =E59*2 -> 8 | G59: =IF(I60>$I$3,IF(AND(I60>I59,F59=48),F59*(I60-$I$3),(I60-$I$3)*48+F59),F59) -> 8 | H59: =MONTH(C59) -> 2 | I59: =YEAR(C59) -> 2019
A60: ="B"&CHAR(ROW(B72)) -> BH | C60: =C59+1 -> 43523 | D60: =IF(WEEKNUM(C60,2)=53,52,WEEKNUM(C60,2)) -> 9 | E60: =MONTH(C60)*2-(DAY(C60)<16) -> 4 | F60: =E60*2 -> 8 | G60: =IF(I61>$I$3,IF(AND(I61>I60,F60=48),F60*(I61-$I$3),(I61-$I$3)*48+F60),F60) -> 8 | H60: =MONTH(C60) -> 2 | I60: =YEAR(C60) -> 2019
A61: ="B"&CHAR(ROW(B73)) -> BI | C61: =C60+1 -> 43524 | D61: =IF(WEEKNUM(C61,2)=53,52,WEEKNUM(C61,2)) -> 9 | E61: =MONTH(C61)*2-(DAY(C61)<16) -> 4 | F61: =E61*2 -> 8 | G61: =IF(I62>$I$3,IF(AND(I62>I61,F61=48),F61*(I62-$I$3),(I62-$I$3)*48+F61),F61) -> 8 | H61: =MONTH(C61) -> 2 | I61: =YEAR(C61) -> 2019
A62: ="B"&CHAR(ROW(B74)) -> BJ | C62: =C61+1 -> 43525 | D62: =IF(WEEKNUM(C62,2)=53,52,WEEKNUM(C62,2)) -> 9 | E62: =MONTH(C62)*2-(DAY(C62)<16) -> 5 | F62: =E62*2 -> 10 | G62: =IF(I63>$I$3,IF(AND(I63>I62,F62=48),F62*(I63-$I$3),(I63-$I$3)*48+F62),F62) -> 10 | H62: =MONTH(C62) -> 3 | I62: =YEAR(C62) -> 2019
A63: ="B"&CHAR(ROW(B75)) -> BK | C63: =C62+1 -> 43526 | D63: =IF(WEEKNUM(C63,2)=53,52,WEEKNUM(C63,2)) -> 9 | E63: =MONTH(C63)*2-(DAY(C63)<16) -> 5 | F63: =E63*2 -> 10 | G63: =IF(I64>$I$3,IF(AND(I64>I63,F63=48),F63*(I64-$I$3),(I64-$I$3)*48+F63),F63) -> 10 | H63: =MONTH(C63) -> 3 | I63: =YEAR(C63) -> 2019
A64: ="B"&CHAR(ROW(B76)) -> BL | C64: =C63+1 -> 43527 | D64: =IF(WEEKNUM(C64,2)=53,52,WEEKNUM(C64,2)) -> 9 | E64: =MONTH(C64)*2-(DAY(C64)<16) -> 5 | F64: =E64*2 -> 10 | G64: =IF(I65>$I$3,IF(AND(I65>I64,F64=48),F64*(I65-$I$3),(I65-$I$3)*48+F64),F64) -> 10 | H64: =MONTH(C64) -> 3 | I64: =YEAR(C64) -> 2019
A65: ="B"&CHAR(ROW(B77)) -> BM | C65: =C64+1 -> 43528 | D65: =IF(WEEKNUM(C65,2)=53,52,WEEKNUM(C65,2)) -> 10 | E65: =MONTH(C65)*2-(DAY(C65)<16) -> 5 | F65: =E65*2 -> 10 | G65: =IF(I66>$I$3,IF(AND(I66>I65,F65=48),F65*(I66-$I$3),(I66-$I$3)*48+F65),F65) -> 10 | H65: =MONTH(C65) -> 3 | I65: =YEAR(C65) -> 2019
... A79: ="B"&CHAR(ROW(B91)) -> B[ | C79: =C78+1 -> 43542 | D79: =IF(WEEKNUM(C79,2)=53,52,WEEKNUM(C79,2)) -> 12 | E79: =MONTH(C79)*2-(DAY(C79)<16) -> 6 | F79: =E79*2 -> 12 | G79: =IF(I80>$I$3,IF(AND(I80>I79,F79=48),F79*(I80-$I$3),(I80-$I$3)*48+F79),F79) -> 12 | H79: =MONTH(C79) -> 3 | I79: =YEAR(C79) -> 2019
A80: ="C"&CHAR(ROW(B66)) -> CB | C80: =C79+1 -> 43543 | D80: =IF(WEEKNUM(C80,2)=53,52,WEEKNUM(C80,2)) -> 12 | E80: =MONTH(C80)*2-(DAY(C80)<16) -> 6 | F80: =E80*2 -> 12 | G80: =IF(I81>$I$3,IF(AND(I81>I80,F80=48),F80*(I81-$I$3),(I81-$I$3)*48+F80),F80) -> 12 | H80: =MONTH(C80) -> 3 | I80: =YEAR(C80) -> 2019
A81: ="C"&CHAR(ROW(B67)) -> CC | C81: =C80+1 -> 43544 | D81: =IF(WEEKNUM(C81,2)=53,52,WEEKNUM(C81,2)) -> 12 | E81: =MONTH(C81)*2-(DAY(C81)<16) -> 6 | F81: =E81*2 -> 12 | G81: =IF(I82>$I$3,IF(AND(I82>I81,F81=48),F81*(I82-$I$3),(I82-$I$3)*48+F81),F81) -> 12 | H81: =MONTH(C81) -> 3 | I81: =YEAR(C81) -> 2019
A82: ="C"&CHAR(ROW(B68)) -> CD | C82: =C81+1 -> 43545 | D82: =IF(WEEKNUM(C82,2)=53,52,WEEKNUM(C82,2)) -> 12 | E82: =MONTH(C82)*2-(DAY(C82)<16) -> 6 | F82: =E82*2 -> 12 | G82: =IF(I83>$I$3,IF(AND(I83>I82,F82=48),F82*(I83-$I$3),(I83-$I$3)*48+F82),F82) -> 12 | H82: =MONTH(C82) -> 3 | I82: =YEAR(C82) -> 2019
A83: ="C"&CHAR(ROW(B69)) -> CE | C83: =C82+1 -> 43546 | D83: =IF(WEEKNUM(C83,2)=53,52,WEEKNUM(C83,2)) -> 12 | E83: =MONTH(C83)*2-(DAY(C83)<16) -> 6 | F83: =E83*2 -> 12 | G83: =IF(I84>$I$3,IF(AND(I84>I83,F83=48),F83*(I84-$I$3),(I84-$I$3)*48+F83),F83) -> 12 | H83: =MONTH(C83) -> 3 | I83: =YEAR(C83) -> 2019
A84: ="C"&CHAR(ROW(B70)) -> CF | C84: =C83+1 -> 43547 | D84: =IF(WEEKNUM(C84,2)=53,52,WEEKNUM(C84,2)) -> 12 | E84: =MONTH(C84)*2-(DAY(C84)<16) -> 6 | F84: =E84*2 -> 12 | G84: =IF(I85>$I$3,IF(AND(I85>I84,F84=48),F84*(I85-$I$3),(I85-$I$3)*48+F84),F84) -> 12 | H84: =MONTH(C84) -> 3 | I84: =YEAR(C84) -> 2019
A85: ="C"&CHAR(ROW(B71)) -> CG | C85: =C84+1 -> 43548 | D85: =IF(WEEKNUM(C85,2)=53,52,WEEKNUM(C85,2)) -> 12 | E85: =MONTH(C85)*2-(DAY(C85)<16) -> 6 | F85: =E85*2 -> 12 | G85: =IF(I86>$I$3,IF(AND(I86>I85,F85=48),F85*(I86-$I$3),(I86-$I$3)*48+F85),F85) -> 12 | H85: =MONTH(C85) -> 3 | I85: =YEAR(C85) -> 2019
A86: ="C"&CHAR(ROW(B72)) -> CH | C86: =C85+1 -> 43549 | D86: =IF(WEEKNUM(C86,2)=53,52,WEEKNUM(C86,2)) -> 13 | E86: =MONTH(C86)*2-(DAY(C86)<16) -> 6 | F86: =E86*2 -> 12 | G86: =IF(I87>$I$3,IF(AND(I87>I86,F86=48),F86*(I87-$I$3),(I87-$I$3)*48+F86),F86) -> 12 | H86: =MONTH(C86) -> 3 | I86: =YEAR(C86) -> 2019
A87: ="C"&CHAR(ROW(B73)) -> CI | C87: =C86+1 -> 43550 | D87: =IF(WEEKNUM(C87,2)=53,52,WEEKNUM(C87,2)) -> 13 | E87: =MONTH(C87)*2-(DAY(C87)<16) -> 6 | F87: =E87*2 -> 12 | G87: =IF(I88>$I$3,IF(AND(I88>I87,F87=48),F87*(I88-$I$3),(I88-$I$3)*48+F87),F87) -> 12 | H87: =MONTH(C87) -> 3 | I87: =YEAR(C87) -> 2019
A88: ="C"&CHAR(ROW(B74)) -> CJ | C88: =C87+1 -> 43551 | D88: =IF(WEEKNUM(C88,2)=53,52,WEEKNUM(C88,2)) -> 13 | E88: =MONTH(C88)*2-(DAY(C88)<16) -> 6 | F88: =E88*2 -> 12 | G88: =IF(I89>$I$3,IF(AND(I89>I88,F88=48),F88*(I89-$I$3),(I89-$I$3)*48+F88),F88) -> 12 | H88: =MONTH(C88) -> 3 | I88: =YEAR(C88) -> 2019
A89: ="C"&CHAR(ROW(B75)) -> CK | C89: =C88+1 -> 43552 | D89: =IF(WEEKNUM(C89,2)=53,52,WEEKNUM(C89,2)) -> 13 | E89: =MONTH(C89)*2-(DAY(C89)<16) -> 6 | F89: =E89*2 -> 12 | G89: =IF(I90>$I$3,IF(AND(I90>I89,F89=48),F89*(I90-$I$3),(I90-$I$3)*48+F89),F89) -> 12 | H89: =MONTH(C89) -> 3 | I89: =YEAR(C89) -> 2019
A90: ="C"&CHAR(ROW(B76)) -> CL | C90: =C89+1 -> 43553 | D90: =IF(WEEKNUM(C90,2)=53,52,WEEKNUM(C90,2)) -> 13 | E90: =MONTH(C90)*2-(DAY(C90)<16) -> 6 | F90: =E90*2 -> 12 | G90: =IF(I91>$I$3,IF(AND(I91>I90,F90=48),F90*(I91-$I$3),(I91-$I$3)*48+F90),F90) -> 12 | H90: =MONTH(C90) -> 3 | I90: =YEAR(C90) -> 2019
A91: ="C"&CHAR(ROW(B77)) -> CM | C91: =C90+1 -> 43554 | D91: =IF(WEEKNUM(C91,2)=53,52,WEEKNUM(C91,2)) -> 13 | E91: =MONTH(C91)*2-(DAY(C91)<16) -> 6 | F91: =E91*2 -> 12 | G91: =IF(I92>$I$3,IF(AND(I92>I91,F91=48),F91*(I92-$I$3),(I92-$I$3)*48+F91),F91) -> 12 | H91: =MONTH(C91) -> 3 | I91: =YEAR(C91) -> 2019
... A105: ="C"&CHAR(ROW(B91)) -> C[ | C105: =C104+1 -> 43568 | D105: =IF(WEEKNUM(C105,2)=53,52,WEEKNUM(C105,2)) -> 15 | E105: =MONTH(C105)*2-(DAY(C105)<16) -> 7 | F105: =E105*2 -> 14 | G105: =IF(I106>$I$3,IF(AND(I106>I105,F105=48),F105*(I106-$I$3),(I106-$I$3)*48+F105),F105) -> 14 | H105: =MONTH(C105) -> 4 | I105: =YEAR(C105) -> 2019
A106: ="D"&CHAR(ROW(B66)) -> DB | C106: =C105+1 -> 43569 | D106: =IF(WEEKNUM(C106,2)=53,52,WEEKNUM(C106,2)) -> 15 | E106: =MONTH(C106)*2-(DAY(C106)<16) -> 7 | F106: =E106*2 -> 14 | G106: =IF(I107>$I$3,IF(AND(I107>I106,F106=48),F106*(I107-$I$3),(I107-$I$3)*48+F106),F106) -> 14 | H106: =MONTH(C106) -> 4 | I106: =YEAR(C106) -> 2019
A107: ="D"&CHAR(ROW(B67)) -> DC | C107: =C106+1 -> 43570 | D107: =IF(WEEKNUM(C107,2)=53,52,WEEKNUM(C107,2)) -> 16 | E107: =MONTH(C107)*2-(DAY(C107)<16) -> 7 | F107: =E107*2 -> 14 | G107: =IF(I108>$I$3,IF(AND(I108>I107,F107=48),F107*(I108-$I$3),(I108-$I$3)*48+F107),F107) -> 14 | H107: =MONTH(C107) -> 4 | I107: =YEAR(C107) -> 2019
A108: ="D"&CHAR(ROW(B68)) -> DD | C108: =C107+1 -> 43571 | D108: =IF(WEEKNUM(C108,2)=53,52,WEEKNUM(C108,2)) -> 16 | E108: =MONTH(C108)*2-(DAY(C108)<16) -> 8 | F108: =E108*2 -> 16 | G108: =IF(I109>$I$3,IF(AND(I109>I108,F108=48),F108*(I109-$I$3),(I109-$I$3)*48+F108),F108) -> 16 | H108: =MONTH(C108) -> 4 | I108: =YEAR(C108) -> 2019
A109: ="D"&CHAR(ROW(B69)) -> DE | C109: =C108+1 -> 43572 | D109: =IF(WEEKNUM(C109,2)=53,52,WEEKNUM(C109,2)) -> 16 | E109: =MONTH(C109)*2-(DAY(C109)<16) -> 8 | F109: =E109*2 -> 16 | G109: =IF(I110>$I$3,IF(AND(I110>I109,F109=48),F109*(I110-$I$3),(I110-$I$3)*48+F109),F109) -> 16 | H109: =MONTH(C109) -> 4 | I109: =YEAR(C109) -> 2019
A110: ="D"&CHAR(ROW(B70)) -> DF | C110: =C109+1 -> 43573 | D110: =IF(WEEKNUM(C110,2)=53,52,WEEKNUM(C110,2)) -> 16 | E110: =MONTH(C110)*2-(DAY(C110)<16) -> 8 | F110: =E110*2 -> 16 | G110: =IF(I111>$I$3,IF(AND(I111>I110,F110=48),F110*(I111-$I$3),(I111-$I$3)*48+F110),F110) -> 16 | H110: =MONTH(C110) -> 4 | I110: =YEAR(C110) -> 2019
A111: ="D"&CHAR(ROW(B71)) -> DG | C111: =C110+1 -> 43574 | D111: =IF(WEEKNUM(C111,2)=53,52,WEEKNUM(C111,2)) -> 16 | E111: =MONTH(C111)*2-(DAY(C111)<16) -> 8 | F111: =E111*2 -> 16 | G111: =IF(I112>$I$3,IF(AND(I112>I111,F111=48),F111*(I112-$I$3),(I112-$I$3)*48+F111),F111) -> 16 | H111: =MONTH(C111) -> 4 | I111: =YEAR(C111) -> 2019
A112: ="D"&CHAR(ROW(B72)) -> DH | C112: =C111+1 -> 43575 | D112: =IF(WEEKNUM(C112,2)=53,52,WEEKNUM(C112,2)) -> 16 | E112: =MONTH(C112)*2-(DAY(C112)<16) -> 8 | F112: =E112*2 -> 16 | G112: =IF(I113>$I$3,IF(AND(I113>I112,F112=48),F112*(I113-$I$3),(I113-$I$3)*48+F112),F112) -> 16 | H112: =MONTH(C112) -> 4 | I112: =YEAR(C112) -> 2019
A113: ="D"&CHAR(ROW(B73)) -> DI | C113: =C112+1 -> 43576 | D113: =IF(WEEKNUM(C113,2)=53,52,WEEKNUM(C113,2)) -> 16 | E113: =MONTH(C113)*2-(DAY(C113)<16) -> 8 | F113: =E113*2 -> 16 | G113: =IF(I114>$I$3,IF(AND(I114>I113,F113=48),F113*(I114-$I$3),(I114-$I$3)*48+F113),F113) -> 16 | H113: =MONTH(C113) -> 4 | I113: =YEAR(C113) -> 2019
A114: ="D"&CHAR(ROW(B74)) -> DJ | C114: =C113+1 -> 43577 | D114: =IF(WEEKNUM(C114,2)=53,52,WEEKNUM(C114,2)) -> 17 | E114: =MONTH(C114)*2-(DAY(C114)<16) -> 8 | F114: =E114*2 -> 16 | G114: =IF(I115>$I$3,IF(AND(I115>I114,F114=48),F114*(I115-$I$3),(I115-$I$3)*48+F114),F114) -> 16 | H114: =MONTH(C114) -> 4 | I114: =YEAR(C114) -> 2019
A115: ="D"&CHAR(ROW(B75)) -> DK | C115: =C114+1 -> 43578 | D115: =IF(WEEKNUM(C115,2)=53,52,WEEKNUM(C115,2)) -> 17 | E115: =MONTH(C115)*2-(DAY(C115)<16) -> 8 | F115: =E115*2 -> 16 | G115: =IF(I116>$I$3,IF(AND(I116>I115,F115=48),F115*(I116-$I$3),(I116-$I$3)*48+F115),F115) -> 16 | H115: =MONTH(C115) -> 4 | I115: =YEAR(C115) -> 2019
A116: ="D"&CHAR(ROW(B76)) -> DL | C116: =C115+1 -> 43579 | D116: =IF(WEEKNUM(C116,2)=53,52,WEEKNUM(C116,2)) -> 17 | E116: =MONTH(C116)*2-(DAY(C116)<16) -> 8 | F116: =E116*2 -> 16 | G116: =IF(I117>$I$3,IF(AND(I117>I116,F116=48),F116*(I117-$I$3),(I117-$I$3)*48+F116),F116) -> 16 | H116: =MONTH(C116) -> 4 | I116: =YEAR(C116) -> 2019
A117: ="D"&CHAR(ROW(B77)) -> DM | C117: =C116+1 -> 43580 | D117: =IF(WEEKNUM(C117,2)=53,52,WEEKNUM(C117,2)) -> 17 | E117: =MONTH(C117)*2-(DAY(C117)<16) -> 8 | F117: =E117*2 -> 16 | G117: =IF(I118>$I$3,IF(AND(I118>I117,F117=48),F117*(I118-$I$3),(I118-$I$3)*48+F117),F117) -> 16 | H117: =MONTH(C117) -> 4 | I117: =YEAR(C117) -> 2019
... A130: ="D"&CHAR(ROW(B90)) -> DZ | C130: =C129+1 -> 43593 | D130: =IF(WEEKNUM(C130,2)=53,52,WEEKNUM(C130,2)) -> 19 | E130: =MONTH(C130)*2-(DAY(C130)<16) -> 9 | F130: =E130*2 -> 18 | G130: =IF(I131>$I$3,IF(AND(I131>I130,F130=48),F130*(I131-$I$3),(I131-$I$3)*48+F130),F130) -> 18 | H130: =MONTH(C130) -> 5 | I130: =YEAR(C130) -> 2019
A131: ="E"&CHAR(ROW(B66)) -> EB | C131: =C130+1 -> 43594 | D131: =IF(WEEKNUM(C131,2)=53,52,WEEKNUM(C131,2)) -> 19 | E131: =MONTH(C131)*2-(DAY(C131)<16) -> 9 | F131: =E131*2 -> 18 | G131: =IF(I132>$I$3,IF(AND(I132>I131,F131=48),F131*(I132-$I$3),(I132-$I$3)*48+F131),F131) -> 18 | H131: =MONTH(C131) -> 5 | I131: =YEAR(C131) -> 2019
A132: ="E"&CHAR(ROW(B67)) -> EC | C132: =C131+1 -> 43595 | D132: =IF(WEEKNUM(C132,2)=53,52,WEEKNUM(C132,2)) -> 19 | E132: =MONTH(C132)*2-(DAY(C132)<16) -> 9 | F132: =E132*2 -> 18 | G132: =IF(I133>$I$3,IF(AND(I133>I132,F132=48),F132*(I133-$I$3),(I133-$I$3)*48+F132),F132) -> 18 | H132: =MONTH(C132) -> 5 | I132: =YEAR(C132) -> 2019
A133: ="E"&CHAR(ROW(B68)) -> ED | C133: =C132+1 -> 43596 | D133: =IF(WEEKNUM(C133,2)=53,52,WEEKNUM(C133,2)) -> 19 | E133: =MONTH(C133)*2-(DAY(C133)<16) -> 9 | F133: =E133*2 -> 18 | G133: =IF(I134>$I$3,IF(AND(I134>I133,F133=48),F133*(I134-$I$3),(I134-$I$3)*48+F133),F133) -> 18 | H133: =MONTH(C133) -> 5 | I133: =YEAR(C133) -> 2019
A134: ="E"&CHAR(ROW(B69)) -> EE | C134: =C133+1 -> 43597 | D134: =IF(WEEKNUM(C134,2)=53,52,WEEKNUM(C134,2)) -> 19 | E134: =MONTH(C134)*2-(DAY(C134)<16) -> 9 | F134: =E134*2 -> 18 | G134: =IF(I135>$I$3,IF(AND(I135>I134,F134=48),F134*(I135-$I$3),(I135-$I$3)*48+F134),F134) -> 18 | H134: =MONTH(C134) -> 5 | I134: =YEAR(C134) -> 2019
A135: ="E"&CHAR(ROW(B70)) -> EF | C135: =C134+1 -> 43598 | D135: =IF(WEEKNUM(C135,2)=53,52,WEEKNUM(C135,2)) -> 20 | E135: =MONTH(C135)*2-(DAY(C135)<16) -> 9 | F135: =E135*2 -> 18 | G135: =IF(I136>$I$3,IF(AND(I136>I135,F135=48),F135*(I136-$I$3),(I136-$I$3)*48+F135),F135) -> 18 | H135: =MONTH(C135) -> 5 | I135: =YEAR(C135) -> 2019
A136: ="E"&CHAR(ROW(B71)) -> EG | C136: =C135+1 -> 43599 | D136: =IF(WEEKNUM(C136,2)=53,52,WEEKNUM(C136,2)) -> 20 | E136: =MONTH(C136)*2-(DAY(C136)<16) -> 9 | F136: =E136*2 -> 18 | G136: =IF(I137>$I$3,IF(AND(I137>I136,F136=48),F136*(I137-$I$3),(I137-$I$3)*48+F136),F136) -> 18 | H136: =MONTH(C136) -> 5 | I136: =YEAR(C136) -> 2019
A137: ="E"&CHAR(ROW(B72)) -> EH | C137: =C136+1 -> 43600 | D137: =IF(WEEKNUM(C137,2)=53,52,WEEKNUM(C137,2)) -> 20 | E137: =MONTH(C137)*2-(DAY(C137)<16) -> 9 | F137: =E137*2 -> 18 | G137: =IF(I138>$I$3,IF(AND(I138>I137,F137=48),F137*(I138-$I$3),(I138-$I$3)*48+F137),F137) -> 18 | H137: =MONTH(C137) -> 5 | I137: =YEAR(C137) -> 2019
A138: ="E"&CHAR(ROW(B73)) -> EI | C138: =C137+1 -> 43601 | D138: =IF(WEEKNUM(C138,2)=53,52,WEEKNUM(C138,2)) -> 20 | E138: =MONTH(C138)*2-(DAY(C138)<16) -> 10 | F138: =E138*2 -> 20 | G138: =IF(I139>$I$3,IF(AND(I139>I138,F138=48),F138*(I139-$I$3),(I139-$I$3)*48+F138),F138) -> 20 | H138: =MONTH(C138) -> 5 | I138: =YEAR(C138) -> 2019
A139: ="E"&CHAR(ROW(B74)) -> EJ | C139: =C138+1 -> 43602 | D139: =IF(WEEKNUM(C139,2)=53,52,WEEKNUM(C139,2)) -> 20 | E139: =MONTH(C139)*2-(DAY(C139)<16) -> 10 | F139: =E139*2 -> 20 | G139: =IF(I140>$I$3,IF(AND(I140>I139,F139=48),F139*(I140-$I$3),(I140-$I$3)*48+F139),F139) -> 20 | H139: =MONTH(C139) -> 5 | I139: =YEAR(C139) -> 2019
A140: ="E"&CHAR(ROW(B75)) -> EK | C140: =C139+1 -> 43603 | D140: =IF(WEEKNUM(C140,2)=53,52,WEEKNUM(C140,2)) -> 20 | E140: =MONTH(C140)*2-(DAY(C140)<16) -> 10 | F140: =E140*2 -> 20 | G140: =IF(I141>$I$3,IF(AND(I141>I140,F140=48),F140*(I141-$I$3),(I141-$I$3)*48+F140),F140) -> 20 | H140: =MONTH(C140) -> 5 | I140: =YEAR(C140) -> 2019
A141: ="E"&CHAR(ROW(B76)) -> EL | C141: =C140+1 -> 43604 | D141: =IF(WEEKNUM(C141,2)=53,52,WEEKNUM(C141,2)) -> 20 | E141: =MONTH(C141)*2-(DAY(C141)<16) -> 10 | F141: =E141*2 -> 20 | G141: =IF(I142>$I$3,IF(AND(I142>I141,F141=48),F141*(I142-$I$3),(I142-$I$3)*48+F141),F141) -> 20 | H141: =MONTH(C141) -> 5 | I141: =YEAR(C141) -> 2019
A142: ="E"&CHAR(ROW(B77)) -> EM | C142: =C141+1 -> 43605 | D142: =IF(WEEKNUM(C142,2)=53,52,WEEKNUM(C142,2)) -> 21 | E142: =MONTH(C142)*2-(DAY(C142)<16) -> 10 | F142: =E142*2 -> 20 | G142: =IF(I143>$I$3,IF(AND(I143>I142,F142=48),F142*(I143-$I$3),(I143-$I$3)*48+F142),F142) -> 20 | H142: =MONTH(C142) -> 5 | I142: =YEAR(C142) -> 2019
... A155: ="E"&CHAR(ROW(B90)) -> EZ | C155: =C154+1 -> 43618 | D155: =IF(WEEKNUM(C155,2)=53,52,WEEKNUM(C155,2)) -> 22 | E155: =MONTH(C155)*2-(DAY(C155)<16) -> 11 | F155: =E155*2 -> 22 | G155: =IF(I156>$I$3,IF(AND(I156>I155,F155=48),F155*(I156-$I$3),(I156-$I$3)*48+F155),F155) -> 22 | H155: =MONTH(C155) -> 6 | I155: =YEAR(C155) -> 2019
A156: ="F"&CHAR(ROW(B66)) -> FB | C156: =C155+1 -> 43619 | D156: =IF(WEEKNUM(C156,2)=53,52,WEEKNUM(C156,2)) -> 23 | E156: =MONTH(C156)*2-(DAY(C156)<16) -> 11 | F156: =E156*2 -> 22 | G156: =IF(I157>$I$3,IF(AND(I157>I156,F156=48),F156*(I157-$I$3),(I157-$I$3)*48+F156),F156) -> 22 | H156: =MONTH(C156) -> 6 | I156: =YEAR(C156) -> 2019
A157: ="F"&CHAR(ROW(B67)) -> FC | C157: =C156+1 -> 43620 | D157: =IF(WEEKNUM(C157,2)=53,52,WEEKNUM(C157,2)) -> 23 | E157: =MONTH(C157)*2-(DAY(C157)<16) -> 11 | F157: =E157*2 -> 22 | G157: =IF(I158>$I$3,IF(AND(I158>I157,F157=48),F157*(I158-$I$3),(I158-$I$3)*48+F157),F157) -> 22 | H157: =MONTH(C157) -> 6 | I157: =YEAR(C157) -> 2019
A158: ="F"&CHAR(ROW(B68)) -> FD | C158: =C157+1 -> 43621 | D158: =IF(WEEKNUM(C158,2)=53,52,WEEKNUM(C158,2)) -> 23 | E158: =MONTH(C158)*2-(DAY(C158)<16) -> 11 | F158: =E158*2 -> 22 | G158: =IF(I159>$I$3,IF(AND(I159>I158,F158=48),F158*(I159-$I$3),(I159-$I$3)*48+F158),F158) -> 22 | H158: =MONTH(C158) -> 6 | I158: =YEAR(C158) -> 2019
A159: ="F"&CHAR(ROW(B69)) -> FE | C159: =C158+1 -> 43622 | D159: =IF(WEEKNUM(C159,2)=53,52,WEEKNUM(C159,2)) -> 23 | E159: =MONTH(C159)*2-(DAY(C159)<16) -> 11 | F159: =E159*2 -> 22 | G159: =IF(I160>$I$3,IF(AND(I160>I159,F159=48),F159*(I160-$I$3),(I160-$I$3)*48+F159),F159) -> 22 | H159: =MONTH(C159) -> 6 | I159: =YEAR(C159) -> 2019
A160: ="F"&CHAR(ROW(B70)) -> FF | C160: =C159+1 -> 43623 | D160: =IF(WEEKNUM(C160,2)=53,52,WEEKNUM(C160,2)) -> 23 | E160: =MONTH(C160)*2-(DAY(C160)<16) -> 11 | F160: =E160*2 -> 22 | G160: =IF(I161>$I$3,IF(AND(I161>I160,F160=48),F160*(I161-$I$3),(I161-$I$3)*48+F160),F160) -> 22 | H160: =MONTH(C160) -> 6 | I160: =YEAR(C160) -> 2019
A161: ="F"&CHAR(ROW(B71)) -> FG | C161: =C160+1 -> 43624 | D161: =IF(WEEKNUM(C161,2)=53,52,WEEKNUM(C161,2)) -> 23 | E161: =MONTH(C161)*2-(DAY(C161)<16) -> 11 | F161: =E161*2 -> 22 | G161: =IF(I162>$I$3,IF(AND(I162>I161,F161=48),F161*(I162-$I$3),(I162-$I$3)*48+F161),F161) -> 22 | H161: =MONTH(C161) -> 6 | I161: =YEAR(C161) -> 2019
A162: ="F"&CHAR(ROW(B72)) -> FH | C162: =C161+1 -> 43625 | D162: =IF(WEEKNUM(C162,2)=53,52,WEEKNUM(C162,2)) -> 23 | E162: =MONTH(C162)*2-(DAY(C162)<16) -> 11 | F162: =E162*2 -> 22 | G162: =IF(I163>$I$3,IF(AND(I163>I162,F162=48),F162*(I163-$I$3),(I163-$I$3)*48+F162),F162) -> 22 | H162: =MONTH(C162) -> 6 | I162: =YEAR(C162) -> 2019
A163: ="F"&CHAR(ROW(B73)) -> FI | C163: =C162+1 -> 43626 | D163: =IF(WEEKNUM(C163,2)=53,52,WEEKNUM(C163,2)) -> 24 | E163: =MONTH(C163)*2-(DAY(C163)<16) -> 11 | F163: =E163*2 -> 22 | G163: =IF(I164>$I$3,IF(AND(I164>I163,F163=48),F163*(I164-$I$3),(I164-$I$3)*48+F163),F163) -> 22 | H163: =MONTH(C163) -> 6 | I163: =YEAR(C163) -> 2019
...
