Workbook
Name ChoixRessource: #REF!
Name ChoixSpé: #REF!
Name ListeNatureTravaux: #REF!

Sheet Calendrier
A1: CALENDRIER NE PAS MODIFIER | M1: Onglet où on affecte une personne à une tâche | R1: Quinzaine | S1: 2 | T1: 4 | U1: 6 | V1: 8 | W1: 10 | X1: 12 | Y1: 14 | Z1: 16 | AA1: 18 | AB1: 20 | AC1: 22 | AD1: 24 | AE1: 26 | AF1: 28 | AG1: 30 | AH1: 32 | AI1: 34 | AJ1: 36 | AK1: 38 | AL1: 40 | AM1: 42 | AN1: 44 | AO1: 46 | AP1: 48
A2: =CHAR(ROW(B66)) -> B | B2: Année | C2: Date | D2: Numéro semaine | E2: Quinzaine | F2: Sem en Quinzaine | G2: Cumul Quinzaine | H2: Mois | I2: Année | K2: 2019 | R2: Mois | S2: =DATE(K2,1,1) -> 43466 | T2: =DATE(#REF!,2,1) -> #REF! | U2: =DATE(K2,2,1) -> 43497 | V2: =DATE(#REF!,2,1) -> #REF! | W2: =DATE(K2,3,1) -> 43525 | X2: =DATE(#REF!,2,1) -> #REF! | Y2: =DATE(K2,4,1) -> 43556 | Z2: =DATE(#REF!,2,1) -> #REF! | AA2: =DATE(K2,5,1) -> 43586 | AB2: =DATE(#REF!,2,1) -> #REF! | AC2: =DATE(K2,6,1) -> 43617 | AD2: =DATE(#REF!,2,1) -> #REF! | AE2: =DATE(K2,7,1) -> 43647 | AF2: =DATE(#REF!,2,1) -> #REF! | AG2: =DATE(K2,8,1) -> 43678 | AH2: =DATE(#REF!,2,1) -> #REF! | AI2: =DATE(K2,9,1) -> 43709 | AJ2: =DATE(#REF!,2,1) -> #REF! | AK2: =DATE(K2,10,1) -> 43739 | AL2: =DATE(#REF!,2,1) -> #REF! | AM2: =DATE(K2,11,1) -> 43770 | AN2: =DATE(#REF!,2,1) -> #REF! | AO2: =DATE(K2,12,1) -> 43800 | AP2: =DATE(#REF!,2,1) -> #REF!
A3: =CHAR(ROW(B67)) -> C | B3: =DATE($K$2,1,1) -> 43466 | C3: =B3 -> 43466 | D3: =IF(WEEKNUM(C3,2)=53,52,WEEKNUM(C3,2)) -> 1 | E3: =MONTH(C3)*2-(DAY(C3)<16) -> 1 | F3: =E3*2 -> 2 | G3: =IF(I4>$I$3,IF(AND(I4>I3,F3=48),F3*(I4-$I$3),(I4-$I$3)*48+F3),F3) -> 2 | H3: =MONTH(C3) -> 1 | I3: =YEAR(C3) -> 2019 | M3: Personne | O3: Volume d'heure | P3: Début | Q3: Fin
A4: =CHAR(ROW(B68)) -> D | B4: 1er lundi de l'année N | C4: =C3+1 -> 43467 | D4: =IF(WEEKNUM(C4,2)=53,52,WEEKNUM(C4,2)) -> 1 | E4: =MONTH(C4)*2-(DAY(C4)<16) -> 1 | F4: =E4*2 -> 2 | G4: =IF(I5>$I$3,IF(AND(I5>I4,F4=48),F4*(I5-$I$3),(I5-$I$3)*48+F4),F4) -> 2 | H4: =MONTH(C4) -> 1 | I4: =YEAR(C4) -> 2019 | M4: X. XXXX | N4: Tâche 1 | O4: 240 | P4: 43466 | Q4: 43830 | S4: =IFERROR(IF(AND(S$1>=VLOOKUP($P4,Calendrier!$C$3:$I$1464,5,FALSE),S$1<=VLOOKUP($Q4,Calendrier!$C$3:$I$1464,5,FALSE)),($O4*((VLOOKUP($Q4,Calendrier!$C$3:$I$1464,5,FALSE)-VLOOKUP($P4,Calendrier!$C$3:$I$1464,5,FALSE)+1)*(VLOOKUP($M4,$P$9:$Q$10,2,FALSE)-VLOOKUP($M4,$P$9:$Q$10,2,FALSE)*HLOOKUP(S$7,$P$7:$AP$10,MATCH($M4,$P$9:$P$10,0)+2,FALSE))/SUMPRODUCT(($P$9:$P$10=$M4)*($AR$7:$BO$7>=VLOOKUP($P4,Calendrier!$C$3:$I$1464,5,FALSE))*($AR$7:$BO$7<=VLOOKUP($Q4,Calendrier!$C$3:$I$1464,5,FALSE))*($AR$9:$BO$10))))*((SUMPRODUCT(($P$9:$P$10=$M4)*($AR$9:$BO$10)*($AR$7:$BO$7=S$1)))/(VLOOKUP($M4,$P$9:$Q$10,2,FALSE)-VLOOKUP($M4,$P$9:$Q$10,2,FALSE)*HLOOKUP(S$7,$P$7:$AP$10,MATCH($M4,$P$9:$P$10,0)+2,FALSE)))/((VLOOKUP($Q4,Calendrier!$C$3:$I$1464,5,FALSE)-VLOOKUP($P4,Calendrier!$C$3:$I$1464,5,FALSE)+1)),0),0) -> 10.666667 | T4: =IFERROR(IF(AND(T$1>=VLOOKUP($P4,Calendrier!$C$3:$I$1464,5,FALSE),T$1<=VLOOKUP($Q4,Calendrier!$C$3:$I$1464,5,FALSE)),($O4*((VLOOKUP($Q4,Calendrier!$C$3:$I$1464,5,FALSE)-VLOOKUP($P4,Calendrier!$C$3:$I$1464,5,FALSE)+1)*(VLOOKUP($M4,$P$9:$Q$10,2,FALSE)-VLOOKUP($M4,$P$9:$Q$10,2,FALSE)*HLOOKUP(T$7,$P$7:$AP$10,MATCH($M4,$P$9:$P$10,0)+2,FALSE))/SUMPRODUCT(($P$9:$P$10=$M4)*($AR$7:$BO$7>=VLOOKUP($P4,Calendrier!$C$3:$I$1464,5,FALSE))*($AR$7:$BO$7<=VLOOKUP($Q4,Calendrier!$C$3:$I$1464,5,FALSE))*($AR$9:$BO$10))))*((SUMPRODUCT(($P$9:$P$10=$M4)*($AR$9:$BO$10)*($AR$7:$BO$7=T$1)))/(VLOOKUP($M4,$P$9:$Q$10,2,FALSE)-VLOOKUP($M4,$P$9:$Q$10,2,FALSE)*HLOOKUP(T$7,$P$7:$AP$10,MATCH($M4,$P$9:$P$10,0)+2,FALSE)))/((VLOOKUP($Q4,Calendrier!$C$3:$I$1464,5,FALSE)-VLOOKUP($P4,Calendrier!$C$3:$I$1464,5,FALSE)+1)),0),0) -> 10.666667 | U4: =IFERROR(IF(AND(U$1>=VLOOKUP($P4,Calendrier!$C$3:$I$1464,5,FALSE),U$1<=VLOOKUP($Q4,Calendrier!$C$3:$I$1464,5,FALSE)),($O4*((VLOOKUP($Q4,Calendrier!$C$3:$I$1464,5,FALSE)-VLOOKUP($P4,Calendrier!$C$3:$I$1464,5,FALSE)+1)*(VLOOKUP($M4,$P$9:$Q$10,2,FALSE)-VLOOKUP($M4,$P$9:$Q$10,2,FALSE)*HLOOKUP(U$7,$P$7:$AP$10,MATCH($M4,$P$9:$P$10,0)+2,FALSE))/SUMPRODUCT(($P$9:$P$10=$M4)*($AR$7:$BO$7>=VLOOKUP($P4,Calendrier!$C$3:$I$1464,5,FALSE))*($AR$7:$BO$7<=VLOOKUP($Q4,Calendrier!$C$3:$I$1464,5,FALSE))*($AR$9:$BO$10))))*((SUMPRODUCT(($P$9:$P$10=$M4)*($AR$9:$BO$10)*($AR$7:$BO$7=U$1)))/(VLOOKUP($M4,$P$9:$Q$10,2,FALSE)-VLOOKUP($M4,$P$9:$Q$10,2,FALSE)*HLOOKUP(U$7,$P$7:$AP$10,MATCH($M4,$P$9:$P$10,0)+2,FALSE)))/((VLOOKUP($Q4,Calendrier!$C$3:$I$1464,5,FALSE)-VLOOKUP($P4,Calendrier!$C$3:$I$1464,5,FALSE)+1)),0),0) -> 0 | V4: =IFERROR(IF(AND(V$1>=VLOOKUP($P4,Calendrier!$C$3:$I$1464,5,FALSE),V$1<=VLOOKUP($Q4,Calendrier!$C$3:$I$1464,5,FALSE)),($O4*((VLOOKUP($Q4,Calendrier!$C$3:$I$1464,5,FALSE)-VLOOKUP($P4,Calendrier!$C$3:$I$1464,5,FALSE)+1)*(VLOOKUP($M4,$P$9:$Q$10,2,FALSE)-VLOOKUP($M4,$P$9:$Q$10,2,FALSE)*HLOOKUP(V$7,$P$7:$AP$10,MATCH($M4,$P$9:$P$10,0)+2,FALSE))/SUMPRODUCT(($P$9:$P$10=$M4)*($AR$7:$BO$7>=VLOOKUP($P4,Calendrier!$C$3:$I$1464,5,FALSE))*($AR$7:$BO$7<=VLOOKUP($Q4,Calendrier!$C$3:$I$1464,5,FALSE))*($AR$9:$BO$10))))*((SUMPRODUCT(($P$9:$P$10=$M4)*($AR$9:$BO$10)*($AR$7:$BO$7=V$1)))/(VLOOKUP($M4,$P$9:$Q$10,2,FALSE)-VLOOKUP($M4,$P$9:$Q$10,2,FALSE)*HLOOKUP(V$7,$P$7:$AP$10,MATCH($M4,$P$9:$P$10,0)+2,FALSE)))/((VLOOKUP($Q4,Calendrier!$C$3:$I$1464,5,FALSE)-VLOOKUP($P4,Calendrier!$C$3:$I$1464,5,FALSE)+1)),0),0) -> 5.3333333 | W4: =IFERROR(IF(AND(W$1>=VLOOKUP($P4,Calendrier!$C$3:$I$1464,5,FALSE),W$1<=VLOOKUP($Q4,Calendrier!$C$3:$I$1464,5,FALSE)),($O4*((VLOOKUP($Q4,Calendrier!$C$3:$I$1464,5,FALSE)-VLOOKUP($P4,Calendrier!$C$3:$I$1464,5,FALSE)+1)*(VLOOKUP($M4,$P$9:$Q$10,2,FALSE)-VLOOKUP($M4,$P$9:$Q$10,2,FALSE)*HLOOKUP(W$7,$P$7:$AP$10,MATCH($M4,$P$9:$P$10,0)+2,FALSE))/SUMPRODUCT(($P$9:$P$10=$M4)*($AR$7:$BO$7>=VLOOKUP($P4,Calendrier!$C$3:$I$1464,5,FALSE))*($AR$7:$BO$7<=VLOOKUP($Q4,Calendrier!$C$3:$I$1464,5,FALSE))*($AR$9:$BO$10))))*((SUMPRODUCT(($P$9:$P$10=$M4)*($AR$9:$BO$10)*($AR$7:$BO$7=W$1)))/(VLOOKUP($M4,$P$9:$Q$10,2,FALSE)-VLOOKUP($M4,$P$9:$Q$10,2,FALSE)*HLOOKUP(W$7,$P$7:$AP$10,MATCH($M4,$P$9:$P$10,0)+2,FALSE)))/((VLOOKUP($Q4,Calendrier!$C$3:$I$1464,5,FALSE)-VLOOKUP($P4,Calendrier!$C$3:$I$1464,5,FALSE)+1)),0),0) -> 10.666667 | X4: =IFERROR(IF(AND(X$1>=VLOOKUP($P4,Calendrier!$C$3:$I$1464,5,FALSE),X$1<=VLOOKUP($Q4,Calendrier!$C$3:$I$1464,5,FALSE)),($O4*((VLOOKUP($Q4,Calendrier!$C$3:$I$1464,5,FALSE)-VLOOKUP($P4,Calendrier!$C$3:$I$1464,5,FALSE)+1)*(VLOOKUP($M4,$P$9:$Q$10,2,FALSE)-VLOOKUP($M4,$P$9:$Q$10,2,FALSE)*HLOOKUP(X$7,$P$7:$AP$10,MATCH($M4,$P$9:$P$10,0)+2,FALSE))/SUMPRODUCT(($P$9:$P$10=$M4)*($AR$7:$BO$7>=VLOOKUP($P4,Calendrier!$C$3:$I$1464,5,FALSE))*($AR$7:$BO$7<=VLOOKUP($Q4,Calendrier!$C$3:$I$1464,5,FALSE))*($AR$9:$BO$10))))*((SUMPRODUCT(($P$9:$P$10=$M4)*($AR$9:$BO$10)*($AR$7:$BO$7=X$1)))/(VLOOKUP($M4,$P$9:$Q$10,2,FALSE)-VLOOKUP($M4,$P$9:$Q$10,2,FALSE)*HLOOKUP(X$7,$P$7:$AP$10,MATCH($M4,$P$9:$P$10,0)+2,FALSE)))/((VLOOKUP($Q4,Calendrier!$C$3:$I$1464,5,FALSE)-VLOOKUP($P4,Calendrier!$C$3:$I$1464,5,FALSE)+1)),0),0) -> 10.666667 | Y4: =IFERROR(IF(AND(Y$1>=VLOOKUP($P4,Calendrier!$C$3:$I$1464,5,FALSE),Y$1<=VLOOKUP($Q4,Calendrier!$C$3:$I$1464,5,FALSE)),($O4*((VLOOKUP($Q4,Calendrier!$C$3:$I$1464,5,FALSE)-VLOOKUP($P4,Calendrier!$C$3:$I$1464,5,FALSE)+1)*(VLOOKUP($M4,$P$9:$Q$10,2,FALSE)-VLOOKUP($M4,$P$9:$Q$10,2,FALSE)*HLOOKUP(Y$7,$P$7:$AP$10,MATCH($M4,$P$9:$P$10,0)+2,FALSE))/SUMPRODUCT(($P$9:$P$10=$M4)*($AR$7:$BO$7>=VLOOKUP($P4,Calendrier!$C$3:$I$1464,5,FALSE))*($AR$7:$BO$7<=VLOOKUP($Q4,Calendrier!$C$3:$I$1464,5,FALSE))*($AR$9:$BO$10))))*((SUMPRODUCT(($P$9:$P$10=$M4)*($AR$9:$BO$10)*($AR$7:$BO$7=Y$1)))/(VLOOKUP($M4,$P$9:$Q$10,2,FALSE)-VLOOKUP($M4,$P$9:$Q$10,2,FALSE)*HLOOKUP(Y$7,$P$7:$AP$10,MATCH($M4,$P$9:$P$10,0)+2,FALSE)))/((VLOOKUP($Q4,Calendrier!$C$3:$I$1464,5,FALSE)-VLOOKUP($P4,Calendrier!$C$3:$I$1464,5,FALSE)+1)),0),0) -> 10.666667 | Z4: =IFERROR(IF(AND(Z$1>=VLOOKUP($P4,Calendrier!$C$3:$I$1464,5,FALSE),Z$1<=VLOOKUP($Q4,Calendrier!$C$3:$I$1464,5,FALSE)),($O4*((VLOOKUP($Q4,Calendrier!$C$3:$I$1464,5,FALSE)-VLOOKUP($P4,Calendrier!$C$3:$I$1464,5,FALSE)+1)*(VLOOKUP($M4,$P$9:$Q$10,2,FALSE)-VLOOKUP($M4,$P$9:$Q$10,2,FALSE)*HLOOKUP(Z$7,$P$7:$AP$10,MATCH($M4,$P$9:$P$10,0)+2,FALSE))/SUMPRODUCT(($P$9:$P$10=$M4)*($AR$7:$BO$7>=VLOOKUP($P4,Calendrier!$C$3:$I$1464,5,FALSE))*($AR$7:$BO$7<=VLOOKUP($Q4,Calendrier!$C$3:$I$1464,5,FALSE))*($AR$9:$BO$10))))*((SUMPRODUCT(($P$9:$P$10=$M4)*($AR$9:$BO$10)*($AR$7:$BO$7=Z$1)))/(VLOOKUP($M4,$P$9:$Q$10,2,FALSE)-VLOOKUP($M4,$P$9:$Q$10,2,FALSE)*HLOOKUP(Z$7,$P$7:$AP$10,MATCH($M4,$P$9:$P$10,0)+2,FALSE)))/((VLOOKUP($Q4,Calendrier!$C$3:$I$1464,5,FALSE)-VLOOKUP($P4,Calendrier!$C$3:$I$1464,5,FALSE)+1)),0),0) -> 10.666667 | ... AP4: =IFERROR(IF(AND(AP$1>=VLOOKUP($P4,Calendrier!$C$3:$I$1464,5,FALSE),AP$1<=VLOOKUP($Q4,Calendrier!$C$3:$I$1464,5,FALSE)),($O4*((VLOOKUP($Q4,Calendrier!$C$3:$I$1464,5,FALSE)-VLOOKUP($P4,Calendrier!$C$3:$I$1464,5,FALSE)+1)*(VLOOKUP($M4,$P$9:$Q$10,2,FALSE)-VLOOKUP($M4,$P$9:$Q$10,2,FALSE)*HLOOKUP(AP$7,$P$7:$AP$10,MATCH($M4,$P$9:$P$10,0)+2,FALSE))/SUMPRODUCT(($P$9:$P$10=$M4)*($AR$7:$BO$7>=VLOOKUP($P4,Calendrier!$C$3:$I$1464,5,FALSE))*($AR$7:$BO$7<=VLOOKUP($Q4,Calendrier!$C$3:$I$1464,5,FALSE))*($AR$9:$BO$10))))*((SUMPRODUCT(($P$9:$P$10=$M4)*($AR$9:$BO$10)*($AR$7:$BO$7=AP$1)))/(VLOOKUP($M4,$P$9:$Q$10,2,FALSE)-VLOOKUP($M4,$P$9:$Q$10,2,FALSE)*HLOOKUP(AP$7,$P$7:$AP$10,MATCH($M4,$P$9:$P$10,0)+2,FALSE)))/((VLOOKUP($Q4,Calendrier!$C$3:$I$1464,5,FALSE)-VLOOKUP($P4,Calendrier!$C$3:$I$1464,5,FALSE)+1)),0),0) -> 10.666667
A5: =CHAR(ROW(B69)) -> E | B5: =DATE(YEAR(B3),1,7)-MOD(DATE(YEAR(B3),1,7)-2,7) -> 43472 | C5: =C4+1 -> 43468 | D5: =IF(WEEKNUM(C5,2)=53,52,WEEKNUM(C5,2)) -> 1 | E5: =MONTH(C5)*2-(DAY(C5)<16) -> 1 | F5: =E5*2 -> 2 | G5: =IF(I6>$I$3,IF(AND(I6>I5,F5=48),F5*(I6-$I$3),(I6-$I$3)*48+F5),F5) -> 2 | H5: =MONTH(C5) -> 1 | I5: =YEAR(C5) -> 2019
A6: =CHAR(ROW(B70)) -> F | C6: =C5+1 -> 43469 | D6: =IF(WEEKNUM(C6,2)=53,52,WEEKNUM(C6,2)) -> 1 | E6: =MONTH(C6)*2-(DAY(C6)<16) -> 1 | F6: =E6*2 -> 2 | G6: =IF(I7>$I$3,IF(AND(I7>I6,F6=48),F6*(I7-$I$3),(I7-$I$3)*48+F6),F6) -> 2 | H6: =MONTH(C6) -> 1 | I6: =YEAR(C6) -> 2019
A7: =CHAR(ROW(B71)) -> G | B7: Début | C7: =C6+1 -> 43470 | D7: =IF(WEEKNUM(C7,2)=53,52,WEEKNUM(C7,2)) -> 1 | E7: =MONTH(C7)*2-(DAY(C7)<16) -> 1 | F7: =E7*2 -> 2 | G7: =IF(I8>$I$3,IF(AND(I8>I7,F7=48),F7*(I8-$I$3),(I8-$I$3)*48+F7),F7) -> 2 | H7: =MONTH(C7) -> 1 | I7: =YEAR(C7) -> 2019 | M7: Onglet où on indique l'indispo d'une personne | R7: Quinzaine | S7: 2 | T7: 4 | U7: 6 | V7: 8 | W7: 10 | X7: 12 | Y7: 14 | Z7: 16 | AA7: 18 | AB7: 20 | AC7: 22 | AD7: 24 | AE7: 26 | AF7: 28 | AG7: 30 | AH7: 32 | AI7: 34 | AJ7: 36 | AK7: 38 | AL7: 40 | AM7: 42 | AN7: 44 | AO7: 46 | AP7: 48 | AQ7: Quinzaine | AR7: 2 | AS7: 4 | AT7: 6 | AU7: 8 | AV7: 10 | AW7: 12 | AX7: 14 | AY7: 16 | AZ7: 18 | BA7: 20 | BB7: 22 | BC7: 24 | BD7: 26 | BE7: 28 | BF7: 30 | BG7: 32 | BH7: 34 | BI7: 36 | BJ7: 38 | BK7: 40 | BL7: 42 | BM7: 44 | BN7: 46 | BO7: 48
A8: =CHAR(ROW(B72)) -> H | B8: =$C$3 -> 43466 | C8: =C7+1 -> 43471 | D8: =IF(WEEKNUM(C8,2)=53,52,WEEKNUM(C8,2)) -> 1 | E8: =MONTH(C8)*2-(DAY(C8)<16) -> 1 | F8: =E8*2 -> 2 | G8: =IF(I9>$I$3,IF(AND(I9>I8,F8=48),F8*(I9-$I$3),(I9-$I$3)*48+F8),F8) -> 2 | H8: =MONTH(C8) -> 1 | I8: =YEAR(C8) -> 2019 | P8: Personne | R8: Mois | S8: =DATE(K2,1,1) -> 43466 | T8: =DATE(#REF!,2,1) -> #REF! | U8: =DATE(K2,2,1) -> 43497 | V8: =DATE(#REF!,2,1) -> #REF! | W8: =DATE(K2,3,1) -> 43525 | X8: =DATE(#REF!,2,1) -> #REF! | Y8: =DATE(K2,4,1) -> 43556 | Z8: =DATE(#REF!,2,1) -> #REF! | AA8: =DATE(K2,5,1) -> 43586 | AB8: =DATE(#REF!,2,1) -> #REF! | AC8: =DATE(K2,6,1) -> 43617 | AD8: =DATE(#REF!,2,1) -> #REF! | AE8: =DATE(K2,7,1) -> 43647 | AF8: =DATE(#REF!,2,1) -> #REF! | AG8: =DATE(K2,8,1) -> 43678 | AH8: =DATE(#REF!,2,1) -> #REF! | AI8: =DATE(K2,9,1) -> 43709 | AJ8: =DATE(#REF!,2,1) -> #REF! | AK8: =DATE(K2,10,1) -> 43739 | AL8: =DATE(#REF!,2,1) -> #REF! | AM8: =DATE(K2,11,1) -> 43770 | AN8: =DATE(#REF!,2,1) -> #REF! | AO8: =DATE(K2,12,1) -> 43800 | AP8: =DATE(#REF!,2,1) -> #REF! | AQ8: Mois | AR8: =DATE(K2,1,1) -> 43466 | AS8: =DATE(#REF!,2,1) -> #REF! | AT8: =DATE(K2,2,1) -> 43497 | AU8: =DATE(#REF!,2,1) -> #REF! | AV8: =DATE(K2,3,1) -> 43525 | AW8: =DATE(#REF!,2,1) -> #REF! | AX8: =DATE(K2,4,1) -> 43556 | AY8: =DATE(#REF!,2,1) -> #REF! | AZ8: =DATE(K2,5,1) -> 43586 | BA8: =DATE(#REF!,2,1) -> #REF! | BB8: =DATE(K2,6,1) -> 43617 | BC8: =DATE(#REF!,2,1) -> #REF! | BD8: =DATE(K2,7,1) -> 43647 | BE8: =DATE(#REF!,2,1) -> #REF! | BF8: =DATE(K2,8,1) -> 43678 | BG8: =DATE(#REF!,2,1) -> #REF! | BH8: =DATE(K2,9,1) -> 43709 | BI8: =DATE(#REF!,2,1) -> #REF! | BJ8: =DATE(K2,10,1) -> 43739 | BK8: =DATE(#REF!,2,1) -> #REF! | BL8: =DATE(K2,11,1) -> 43770 | BM8: =DATE(#REF!,2,1) -> #REF! | BN8: =DATE(K2,12,1) -> 43800 | BO8: =DATE(#REF!,2,1) -> #REF!
A9: =CHAR(ROW(B73)) -> I | B9: Fin | C9: =C8+1 -> 43472 | D9: =IF(WEEKNUM(C9,2)=53,52,WEEKNUM(C9,2)) -> 2 | E9: =MONTH(C9)*2-(DAY(C9)<16) -> 1 | F9: =E9*2 -> 2 | G9: =IF(I10>$I$3,IF(AND(I10>I9,F9=48),F9*(I10-$I$3),(I10-$I$3)*48+F9),F9) -> 2 | H9: =MONTH(C9) -> 1 | I9: =YEAR(C9) -> 2019 | P9: X. XXXX | Q9: 76 | U9: 1 | V9: 0.5 | AR9: =$Q9-$Q9*S9 -> 76 | AS9: =$Q9-$Q9*T9 -> 76 | AT9: =$Q9-$Q9*U9 -> 0 | AU9: =$Q9-$Q9*V9 -> 38 | AV9: =$Q9-$Q9*W9 -> 76 | AW9: =$Q9-$Q9*X9 -> 76 | AX9: =$Q9-$Q9*Y9 -> 76 | AY9: =$Q9-$Q9*Z9 -> 76 | ... BO9: =$Q9-$Q9*AP9 -> 76
A10: =CHAR(ROW(B74)) -> J | B10: =MAX(C:C)-1 -> 44926 | C10: =C9+1 -> 43473 | D10: =IF(WEEKNUM(C10,2)=53,52,WEEKNUM(C10,2)) -> 2 | E10: =MONTH(C10)*2-(DAY(C10)<16) -> 1 | F10: =E10*2 -> 2 | G10: =IF(I11>$I$3,IF(AND(I11>I10,F10=48),F10*(I11-$I$3),(I11-$I$3)*48+F10),F10) -> 2 | H10: =MONTH(C10) -> 1 | I10: =YEAR(C10) -> 2019 | P10: X. PPPP | Q10: 76 | AR10: =$Q10-$Q10*S10 -> 76 | AS10: =$Q10-$Q10*T10 -> 76 | AT10: =$Q10-$Q10*U10 -> 76 | AU10: =$Q10-$Q10*V10 -> 76 | AV10: =$Q10-$Q10*W10 -> 76 | AW10: =$Q10-$Q10*X10 -> 76 | AX10: =$Q10-$Q10*Y10 -> 76 | AY10: =$Q10-$Q10*Z10 -> 76 | ... BO10: =$Q10-$Q10*AP10 -> 76
A11: =CHAR(ROW(B75)) -> K | B11: Sem Début | C11: =C10+1 -> 43474 | D11: =IF(WEEKNUM(C11,2)=53,52,WEEKNUM(C11,2)) -> 2 | E11: =MONTH(C11)*2-(DAY(C11)<16) -> 1 | F11: =E11*2 -> 2 | G11: =IF(I12>$I$3,IF(AND(I12>I11,F11=48),F11*(I12-$I$3),(I12-$I$3)*48+F11),F11) -> 2 | H11: =MONTH(C11) -> 1 | I11: =YEAR(C11) -> 2019
A12: =CHAR(ROW(B76)) -> L | B12: 1 | C12: =C11+1 -> 43475 | D12: =IF(WEEKNUM(C12,2)=53,52,WEEKNUM(C12,2)) -> 2 | E12: =MONTH(C12)*2-(DAY(C12)<16) -> 1 | F12: =E12*2 -> 2 | G12: =IF(I13>$I$3,IF(AND(I13>I12,F12=48),F12*(I13-$I$3),(I13-$I$3)*48+F12),F12) -> 2 | H12: =MONTH(C12) -> 1 | I12: =YEAR(C12) -> 2019
A13: =CHAR(ROW(B77)) -> M | B13: Sem Fin | C13: =C12+1 -> 43476 | D13: =IF(WEEKNUM(C13,2)=53,52,WEEKNUM(C13,2)) -> 2 | E13: =MONTH(C13)*2-(DAY(C13)<16) -> 1 | F13: =E13*2 -> 2 | G13: =IF(I14>$I$3,IF(AND(I14>I13,F13=48),F13*(I14-$I$3),(I14-$I$3)*48+F13),F13) -> 2 | H13: =MONTH(C13) -> 1 | I13: =YEAR(C13) -> 2019
A14: =CHAR(ROW(B78)) -> N | B14: =TRUNC((B10-B8)/7) -> 208 | C14: =C13+1 -> 43477 | D14: =IF(WEEKNUM(C14,2)=53,52,WEEKNUM(C14,2)) -> 2 | E14: =MONTH(C14)*2-(DAY(C14)<16) -> 1 | F14: =E14*2 -> 2 | G14: =IF(I15>$I$3,IF(AND(I15>I14,F14=48),F14*(I15-$I$3),(I15-$I$3)*48+F14),F14) -> 2 | H14: =MONTH(C14) -> 1 | I14: =YEAR(C14) -> 2019
A15: =CHAR(ROW(B79)) -> O | B15: Nombre Sem | C15: =C14+1 -> 43478 | D15: =IF(WEEKNUM(C15,2)=53,52,WEEKNUM(C15,2)) -> 2 | E15: =MONTH(C15)*2-(DAY(C15)<16) -> 1 | F15: =E15*2 -> 2 | G15: =IF(I16>$I$3,IF(AND(I16>I15,F15=48),F15*(I16-$I$3),(I16-$I$3)*48+F15),F15) -> 2 | H15: =MONTH(C15) -> 1 | I15: =YEAR(C15) -> 2019
A16: =CHAR(ROW(B80)) -> P | B16: =B14 -> 208 | C16: =C15+1 -> 43479 | D16: =IF(WEEKNUM(C16,2)=53,52,WEEKNUM(C16,2)) -> 3 | E16: =MONTH(C16)*2-(DAY(C16)<16) -> 1 | F16: =E16*2 -> 2 | G16: =IF(I17>$I$3,IF(AND(I17>I16,F16=48),F16*(I17-$I$3),(I17-$I$3)*48+F16),F16) -> 2 | H16: =MONTH(C16) -> 1 | I16: =YEAR(C16) -> 2019
A17: =CHAR(ROW(B81)) -> Q | C17: =C16+1 -> 43480 | D17: =IF(WEEKNUM(C17,2)=53,52,WEEKNUM(C17,2)) -> 3 | E17: =MONTH(C17)*2-(DAY(C17)<16) -> 1 | F17: =E17*2 -> 2 | G17: =IF(I18>$I$3,IF(AND(I18>I17,F17=48),F17*(I18-$I$3),(I18-$I$3)*48+F17),F17) -> 2 | H17: =MONTH(C17) -> 1 | I17: =YEAR(C17) -> 2019 | R17: Données d'entrées
A18: =CHAR(ROW(B82)) -> R | C18: =C17+1 -> 43481 | D18: =IF(WEEKNUM(C18,2)=53,52,WEEKNUM(C18,2)) -> 3 | E18: =MONTH(C18)*2-(DAY(C18)<16) -> 2 | F18: =E18*2 -> 4 | G18: =IF(I19>$I$3,IF(AND(I19>I18,F18=48),F18*(I19-$I$3),(I19-$I$3)*48+F18),F18) -> 4 | H18: =MONTH(C18) -> 1 | I18: =YEAR(C18) -> 2019 | R18: Résultats
A19: =CHAR(ROW(B83)) -> S | C19: =C18+1 -> 43482 | D19: =IF(WEEKNUM(C19,2)=53,52,WEEKNUM(C19,2)) -> 3 | E19: =MONTH(C19)*2-(DAY(C19)<16) -> 2 | F19: =E19*2 -> 4 | G19: =IF(I20>$I$3,IF(AND(I20>I19,F19=48),F19*(I20-$I$3),(I20-$I$3)*48+F19),F19) -> 4 | H19: =MONTH(C19) -> 1 | I19: =YEAR(C19) -> 2019 | R19: Zone où on rentre le coefficient d'absence
A20: =CHAR(ROW(B84)) -> T | C20: =C19+1 -> 43483 | D20: =IF(WEEKNUM(C20,2)=53,52,WEEKNUM(C20,2)) -> 3 | E20: =MONTH(C20)*2-(DAY(C20)<16) -> 2 | F20: =E20*2 -> 4 | G20: =IF(I21>$I$3,IF(AND(I21>I20,F20=48),F20*(I21-$I$3),(I21-$I$3)*48+F20),F20) -> 4 | H20: =MONTH(C20) -> 1 | I20: =YEAR(C20) -> 2019 | R20: Calcul automatique des heures de dispo
A21: =CHAR(ROW(B85)) -> U | C21: =C20+1 -> 43484 | D21: =IF(WEEKNUM(C21,2)=53,52,WEEKNUM(C21,2)) -> 3 | E21: =MONTH(C21)*2-(DAY(C21)<16) -> 2 | F21: =E21*2 -> 4 | G21: =IF(I22>$I$3,IF(AND(I22>I21,F21=48),F21*(I22-$I$3),(I22-$I$3)*48+F21),F21) -> 4 | H21: =MONTH(C21) -> 1 | I21: =YEAR(C21) -> 2019
A22: =CHAR(ROW(B86)) -> V | C22: =C21+1 -> 43485 | D22: =IF(WEEKNUM(C22,2)=53,52,WEEKNUM(C22,2)) -> 3 | E22: =MONTH(C22)*2-(DAY(C22)<16) -> 2 | F22: =E22*2 -> 4 | G22: =IF(I23>$I$3,IF(AND(I23>I22,F22=48),F22*(I23-$I$3),(I23-$I$3)*48+F22),F22) -> 4 | H22: =MONTH(C22) -> 1 | I22: =YEAR(C22) -> 2019
A23: =CHAR(ROW(B87)) -> W | C23: =C22+1 -> 43486 | D23: =IF(WEEKNUM(C23,2)=53,52,WEEKNUM(C23,2)) -> 4 | E23: =MONTH(C23)*2-(DAY(C23)<16) -> 2 | F23: =E23*2 -> 4 | G23: =IF(I24>$I$3,IF(AND(I24>I23,F23=48),F23*(I24-$I$3),(I24-$I$3)*48+F23),F23) -> 4 | H23: =MONTH(C23) -> 1 | I23: =YEAR(C23) -> 2019
A24: =CHAR(ROW(B88)) -> X | C24: =C23+1 -> 43487 | D24: =IF(WEEKNUM(C24,2)=53,52,WEEKNUM(C24,2)) -> 4 | E24: =MONTH(C24)*2-(DAY(C24)<16) -> 2 | F24: =E24*2 -> 4 | G24: =IF(I25>$I$3,IF(AND(I25>I24,F24=48),F24*(I25-$I$3),(I25-$I$3)*48+F24),F24) -> 4 | H24: =MONTH(C24) -> 1 | I24: =YEAR(C24) -> 2019
A25: =CHAR(ROW(B89)) -> Y | C25: =C24+1 -> 43488 | D25: =IF(WEEKNUM(C25,2)=53,52,WEEKNUM(C25,2)) -> 4 | E25: =MONTH(C25)*2-(DAY(C25)<16) -> 2 | F25: =E25*2 -> 4 | G25: =IF(I26>$I$3,IF(AND(I26>I25,F25=48),F25*(I26-$I$3),(I26-$I$3)*48+F25),F25) -> 4 | H25: =MONTH(C25) -> 1 | I25: =YEAR(C25) -> 2019
A26: =CHAR(ROW(B90)) -> Z | C26: =C25+1 -> 43489 | D26: =IF(WEEKNUM(C26,2)=53,52,WEEKNUM(C26,2)) -> 4 | E26: =MONTH(C26)*2-(DAY(C26)<16) -> 2 | F26: =E26*2 -> 4 | G26: =IF(I27>$I$3,IF(AND(I27>I26,F26=48),F26*(I27-$I$3),(I27-$I$3)*48+F26),F26) -> 4 | H26: =MONTH(C26) -> 1 | I26: =YEAR(C26) -> 2019
A27: =CHAR(ROW(B91)) -> [ | C27: =C26+1 -> 43490 | D27: =IF(WEEKNUM(C27,2)=53,52,WEEKNUM(C27,2)) -> 4 | E27: =MONTH(C27)*2-(DAY(C27)<16) -> 2 | F27: =E27*2 -> 4 | G27: =IF(I28>$I$3,IF(AND(I28>I27,F27=48),F27*(I28-$I$3),(I28-$I$3)*48+F27),F27) -> 4 | H27: =MONTH(C27) -> 1 | I27: =YEAR(C27) -> 2019
A28: =$A$2&CHAR(ROW(B66)) -> BB | C28: =C27+1 -> 43491 | D28: =IF(WEEKNUM(C28,2)=53,52,WEEKNUM(C28,2)) -> 4 | E28: =MONTH(C28)*2-(DAY(C28)<16) -> 2 | F28: =E28*2 -> 4 | G28: =IF(I29>$I$3,IF(AND(I29>I28,F28=48),F28*(I29-$I$3),(I29-$I$3)*48+F28),F28) -> 4 | H28: =MONTH(C28) -> 1 | I28: =YEAR(C28) -> 2019
A29: =$A$2&CHAR(ROW(B67)) -> BC | C29: =C28+1 -> 43492 | D29: =IF(WEEKNUM(C29,2)=53,52,WEEKNUM(C29,2)) -> 4 | E29: =MONTH(C29)*2-(DAY(C29)<16) -> 2 | F29: =E29*2 -> 4 | G29: =IF(I30>$I$3,IF(AND(I30>I29,F29=48),F29*(I30-$I$3),(I30-$I$3)*48+F29),F29) -> 4 | H29: =MONTH(C29) -> 1 | I29: =YEAR(C29) -> 2019
A30: =$A$2&CHAR(ROW(B68)) -> BD | C30: =C29+1 -> 43493 | D30: =IF(WEEKNUM(C30,2)=53,52,WEEKNUM(C30,2)) -> 5 | E30: =MONTH(C30)*2-(DAY(C30)<16) -> 2 | F30: =E30*2 -> 4 | G30: =IF(I31>$I$3,IF(AND(I31>I30,F30=48),F30*(I31-$I$3),(I31-$I$3)*48+F30),F30) -> 4 | H30: =MONTH(C30) -> 1 | I30: =YEAR(C30) -> 2019
A31: =$A$2&CHAR(ROW(B69)) -> BE | C31: =C30+1 -> 43494 | D31: =IF(WEEKNUM(C31,2)=53,52,WEEKNUM(C31,2)) -> 5 | E31: =MONTH(C31)*2-(DAY(C31)<16) -> 2 | F31: =E31*2 -> 4 | G31: =IF(I32>$I$3,IF(AND(I32>I31,F31=48),F31*(I32-$I$3),(I32-$I$3)*48+F31),F31) -> 4 | H31: =MONTH(C31) -> 1 | I31: =YEAR(C31) -> 2019
A32: =$A$2&CHAR(ROW(B70)) -> BF | C32: =C31+1 -> 43495 | D32: =IF(WEEKNUM(C32,2)=53,52,WEEKNUM(C32,2)) -> 5 | E32: =MONTH(C32)*2-(DAY(C32)<16) -> 2 | F32: =E32*2 -> 4 | G32: =IF(I33>$I$3,IF(AND(I33>I32,F32=48),F32*(I33-$I$3),(I33-$I$3)*48+F32),F32) -> 4 | H32: =MONTH(C32) -> 1 | I32: =YEAR(C32) -> 2019
A33: =$A$2&CHAR(ROW(B71)) -> BG | C33: =C32+1 -> 43496 | D33: =IF(WEEKNUM(C33,2)=53,52,WEEKNUM(C33,2)) -> 5 | E33: =MONTH(C33)*2-(DAY(C33)<16) -> 2 | F33: =E33*2 -> 4 | G33: =IF(I34>$I$3,IF(AND(I34>I33,F33=48),F33*(I34-$I$3),(I34-$I$3)*48+F33),F33) -> 4 | H33: =MONTH(C33) -> 1 | I33: =YEAR(C33) -> 2019
A34: =$A$2&CHAR(ROW(B72)) -> BH | C34: =C33+1 -> 43497 | D34: =IF(WEEKNUM(C34,2)=53,52,WEEKNUM(C34,2)) -> 5 | E34: =MONTH(C34)*2-(DAY(C34)<16) -> 3 | F34: =E34*2 -> 6 | G34: =IF(I35>$I$3,IF(AND(I35>I34,F34=48),F34*(I35-$I$3),(I35-$I$3)*48+F34),F34) -> 6 | H34: =MONTH(C34) -> 2 | I34: =YEAR(C34) -> 2019
A35: =$A$2&CHAR(ROW(B73)) -> BI | C35: =C34+1 -> 43498 | D35: =IF(WEEKNUM(C35,2)=53,52,WEEKNUM(C35,2)) -> 5 | E35: =MONTH(C35)*2-(DAY(C35)<16) -> 3 | F35: =E35*2 -> 6 | G35: =IF(I36>$I$3,IF(AND(I36>I35,F35=48),F35*(I36-$I$3),(I36-$I$3)*48+F35),F35) -> 6 | H35: =MONTH(C35) -> 2 | I35: =YEAR(C35) -> 2019
A36: =$A$2&CHAR(ROW(B74)) -> BJ | C36: =C35+1 -> 43499 | D36: =IF(WEEKNUM(C36,2)=53,52,WEEKNUM(C36,2)) -> 5 | E36: =MONTH(C36)*2-(DAY(C36)<16) -> 3 | F36: =E36*2 -> 6 | G36: =IF(I37>$I$3,IF(AND(I37>I36,F36=48),F36*(I37-$I$3),(I37-$I$3)*48+F36),F36) -> 6 | H36: =MONTH(C36) -> 2 | I36: =YEAR(C36) -> 2019
A37: =$A$2&CHAR(ROW(B75)) -> BK | C37: =C36+1 -> 43500 | D37: =IF(WEEKNUM(C37,2)=53,52,WEEKNUM(C37,2)) -> 6 | E37: =MONTH(C37)*2-(DAY(C37)<16) -> 3 | F37: =E37*2 -> 6 | G37: =IF(I38>$I$3,IF(AND(I38>I37,F37=48),F37*(I38-$I$3),(I38-$I$3)*48+F37),F37) -> 6 | H37: =MONTH(C37) -> 2 | I37: =YEAR(C37) -> 2019
A38: =$A$2&CHAR(ROW(B76)) -> BL | C38: =C37+1 -> 43501 | D38: =IF(WEEKNUM(C38,2)=53,52,WEEKNUM(C38,2)) -> 6 | E38: =MONTH(C38)*2-(DAY(C38)<16) -> 3 | F38: =E38*2 -> 6 | G38: =IF(I39>$I$3,IF(AND(I39>I38,F38=48),F38*(I39-$I$3),(I39-$I$3)*48+F38),F38) -> 6 | H38: =MONTH(C38) -> 2 | I38: =YEAR(C38) -> 2019
A39: =$A$2&CHAR(ROW(B77)) -> BM | C39: =C38+1 -> 43502 | D39: =IF(WEEKNUM(C39,2)=53,52,WEEKNUM(C39,2)) -> 6 | E39: =MONTH(C39)*2-(DAY(C39)<16) -> 3 | F39: =E39*2 -> 6 | G39: =IF(I40>$I$3,IF(AND(I40>I39,F39=48),F39*(I40-$I$3),(I40-$I$3)*48+F39),F39) -> 6 | H39: =MONTH(C39) -> 2 | I39: =YEAR(C39) -> 2019
... A53: =$A$2&CHAR(ROW(B91)) -> B[ | C53: =C52+1 -> 43516 | D53: =IF(WEEKNUM(C53,2)=53,52,WEEKNUM(C53,2)) -> 8 | E53: =MONTH(C53)*2-(DAY(C53)<16) -> 4 | F53: =E53*2 -> 8 | G53: =IF(I54>$I$3,IF(AND(I54>I53,F53=48),F53*(I54-$I$3),(I54-$I$3)*48+F53),F53) -> 8 | H53: =MONTH(C53) -> 2 | I53: =YEAR(C53) -> 2019
...
