Workbook

Sheet BDD
A1: ONGLET "PPa2019"
A2: Les stagiaire sont numérotés (1ère colonne)
A3: Attention aux colonnes grisées (Elles contiennent soit une liste déroulante, soit une formule)
A4: De la colonne AP à BB, noter les durées prévisionnelles pour chacun des ateliers (Thématiques et Sectoriels)
A5: Voir la feuille d'émargement pour la légende des ateliers
A6: La feuille est vérouillée sans mot de passe
A7: Couleur | B7: gris = prévisionnel
B8: orange = réel qui regroupe présence et distance
A11: ONGLET "PRESENCE A-S-E"
A12: 2 lignes par stagiaires, la première pour sélectionner l'activité
A13: La 2ème pour saisir la durée
A15: ONGLET FEC
A16: Feuille d 'émargement
A17: Sélectionner en N2 le N° du stagiaire
A18: Sélectionner le site, l'année et le mois
A20: ONGLET "Bilans"
A21: Permet de saisir les bilans de sortie et à 6 mois
A23: ONGLET "STATS"
A24: Masqué pour le moment
A25: Il manque des formules, elles seront ajoutées ultérieurement

Sheet PPa2019
A1: NB | B1: TITRE | C1: NOM NAISSANCE | D1: NOM USAGE | E1: Prénom | F1: ADRESSE | G1: CP | H1: VILLE | I1: QUARTIER PRIORITAIRE | J1: TEL | K1: EMAIL | L1: NAISSANCE | M1: LIEU | N1: DEPT | O1: AGE | P1: SEXE | Q1: SECU | R1: REGIME | S1: TH | T1: MOBILITÉ | U1: PC | V1: INTERNET | W1: IMPRIMANTE | X1: LOGICIELS | Y1: STATUT | Z1: IDENTIF PE | AA1: INSCR PE | AB1: POLE EMPLOI | AC1: NIVEAU | AD1: NIVEAU2 | AE1: DIPLÔME | AF1: OBTENTION | AG1: DERNIÈRE CLASSE | AH1: ANNÉEC | AI1: EMPLOI | AJ1: FIN | AK1: CONTRAT | AL1: EXPERIENCE | AM1: FORMATION | AN1: ANNÉEF | AO1: PRESCRIPTION | AP1: ENTRÉE | AQ1: SORTIEP | AR1: SORTIER | AS1: REMUNERATION | AT1: TTC GLOBAL P et D | AU1: TTE | AV1: T1 | AW1: T2 | AX1: T3 | AY1: T4 | AZ1: T5 | BA1: T6 | BB1: T7 | BC1: T8 | BD1: S1 | BE1: S2 | BF1: S3 | BG1: S4 | BH1: S5 | BI1: TTC | BJ1: TTE | BK1: TTA | BL1: T1 | BM1: T2 | BN1: T3 | BO1: T4 | BP1: T5 | BQ1: T6 | BR1: T7 | BS1: T8 | BT1: S1 | BU1: S2 | BV1: S3 | BW1: S4 | BX1: S5 | BY1: T1 | BZ1: T2 | CA1: T3 | CB1: T4 | CC1: T5 | CD1: T6 | CE1: T7 | CF1: T8 | CG1: S1 | CH1: S2 | CI1: S3 | CJ1: S4 | CK1: S5 | CL1: T1d | CM1: T2d | CN1: T3d | CO1: T4d | CP1: T5d | CQ1: T6d | CR1: T7d | CS1: T8d | CT1: S1d | CU1: S2d | CV1: S3d | CW1: S4d | CX1: S5d | CY1: EI | CZ1: C N-1 | DA1: E N-1 | DB1: N+1 | DD1: =SUM($DD$2:$DD$201) -> #REF! | DF1: =SUM($DD$2:$DD$201) -> #REF! | DG1: CAQ Entrée | DH1: CAQ Fin
A2: 1 | B2: MME | C2: mmmm | D2: mmm | E2: mm | L2: 36720 | M2: BOGOTA (COLOMBIE) | W2: OUI | X2: MO | Y2: DE | AQ2: 43599 | AR2: 43602 | AS2: AF | AT2: 227 | AU2: 210 | AV2: 21 | AW2: 7 | AX2: 14 | AY2: 56 | AZ2: 21 | BA2: 59 | BB2: 21 | BC2: 0 | BI2: =SUM(BL2:BX2)+CY2 -> #REF! | BJ2: =#REF! -> #REF! | BK2: =#REF! -> #REF! | BL2: =BY2+CL2 -> #REF! | BM2: =BZ2+CM2 -> #REF! | BN2: =CA2+CN2 -> #REF! | BO2: =CB2+CO2 -> #REF! | BP2: =CC2+CP2 -> #REF! | BQ2: =CD2+CQ2 -> #REF! | BR2: =CE2+CR2 -> #REF! | BS2: =CF2+CS2 -> #REF! | ... BX2: =CK2+CX2 -> #REF! | BY2: =SUMIF(#REF!,BY$1,#REF!)+SUMIF(#REF!,BY$1,#REF!)+SUMIF(#REF!,BY$1,#REF!)+SUMIF(#REF!,BY$1,#REF!)+SUMIF(#REF!,BY$1,#REF!)+SUMIF(#REF!,BY$1,#REF!)+SUMIF(#REF!,BY$1,#REF!)+SUMIF(#REF!,BY$1,#REF!)+SUMIF(#REF!,BY$1,#REF!)+SUMIF(#REF!,BY$1,#REF!)+SUMIF(#REF!,BY$1,#REF!) -> #REF! | BZ2: =SUMIF(#REF!,BZ$1,#REF!)+SUMIF(#REF!,BZ$1,#REF!)+SUMIF(#REF!,BZ$1,#REF!)+SUMIF(#REF!,BZ$1,#REF!)+SUMIF(#REF!,BZ$1,#REF!)+SUMIF(#REF!,BZ$1,#REF!)+SUMIF(#REF!,BZ$1,#REF!)+SUMIF(#REF!,BZ$1,#REF!)+SUMIF(#REF!,BZ$1,#REF!)+SUMIF(#REF!,BZ$1,#REF!)+SUMIF(#REF!,BZ$1,#REF!) -> #REF! | CA2: =SUMIF(#REF!,CA$1,#REF!)+SUMIF(#REF!,CA$1,#REF!)+SUMIF(#REF!,CA$1,#REF!)+SUMIF(#REF!,CA$1,#REF!)+SUMIF(#REF!,CA$1,#REF!)+SUMIF(#REF!,CA$1,#REF!)+SUMIF(#REF!,CA$1,#REF!)+SUMIF(#REF!,CA$1,#REF!)+SUMIF(#REF!,CA$1,#REF!)+SUMIF(#REF!,CA$1,#REF!)+SUMIF(#REF!,CA$1,#REF!) -> #REF! | CB2: =SUMIF(#REF!,CB$1,#REF!)+SUMIF(#REF!,CB$1,#REF!)+SUMIF(#REF!,CB$1,#REF!)+SUMIF(#REF!,CB$1,#REF!)+SUMIF(#REF!,CB$1,#REF!)+SUMIF(#REF!,CB$1,#REF!)+SUMIF(#REF!,CB$1,#REF!)+SUMIF(#REF!,CB$1,#REF!)+SUMIF(#REF!,CB$1,#REF!)+SUMIF(#REF!,CB$1,#REF!)+SUMIF(#REF!,CB$1,#REF!) -> #REF! | CC2: =SUMIF(#REF!,CC$1,#REF!)+SUMIF(#REF!,CC$1,#REF!)+SUMIF(#REF!,CC$1,#REF!)+SUMIF(#REF!,CC$1,#REF!)+SUMIF(#REF!,CC$1,#REF!)+SUMIF(#REF!,CC$1,#REF!)+SUMIF(#REF!,CC$1,#REF!)+SUMIF(#REF!,CC$1,#REF!)+SUMIF(#REF!,CC$1,#REF!)+SUMIF(#REF!,CC$1,#REF!)+SUMIF(#REF!,CC$1,#REF!) -> #REF! | CD2: =SUMIF(#REF!,CD$1,#REF!)+SUMIF(#REF!,CD$1,#REF!)+SUMIF(#REF!,CD$1,#REF!)+SUMIF(#REF!,CD$1,#REF!)+SUMIF(#REF!,CD$1,#REF!)+SUMIF(#REF!,CD$1,#REF!)+SUMIF(#REF!,CD$1,#REF!)+SUMIF(#REF!,CD$1,#REF!)+SUMIF(#REF!,CD$1,#REF!)+SUMIF(#REF!,CD$1,#REF!)+SUMIF(#REF!,CD$1,#REF!) -> #REF! | CE2: =SUMIF(#REF!,CE$1,#REF!)+SUMIF(#REF!,CE$1,#REF!)+SUMIF(#REF!,CE$1,#REF!)+SUMIF(#REF!,CE$1,#REF!)+SUMIF(#REF!,CE$1,#REF!)+SUMIF(#REF!,CE$1,#REF!)+SUMIF(#REF!,CE$1,#REF!)+SUMIF(#REF!,CE$1,#REF!)+SUMIF(#REF!,CE$1,#REF!)+SUMIF(#REF!,CE$1,#REF!)+SUMIF(#REF!,CE$1,#REF!) -> #REF! | CF2: =SUMIF(#REF!,CF$1,#REF!)+SUMIF(#REF!,CF$1,#REF!)+SUMIF(#REF!,CF$1,#REF!)+SUMIF(#REF!,CF$1,#REF!)+SUMIF(#REF!,CF$1,#REF!)+SUMIF(#REF!,CF$1,#REF!)+SUMIF(#REF!,CF$1,#REF!)+SUMIF(#REF!,CF$1,#REF!)+SUMIF(#REF!,CF$1,#REF!)+SUMIF(#REF!,CF$1,#REF!)+SUMIF(#REF!,CF$1,#REF!) -> #REF! | ... CY2: =SUMIF(#REF!,CY$1,#REF!)+SUMIF(#REF!,CY$1,#REF!)+SUMIF(#REF!,CY$1,#REF!)+SUMIF(#REF!,CY$1,#REF!)+SUMIF(#REF!,CY$1,#REF!)+SUMIF(#REF!,CY$1,#REF!)+SUMIF(#REF!,CY$1,#REF!)+SUMIF(#REF!,CY$1,#REF!)+SUMIF(#REF!,CY$1,#REF!)+SUMIF(#REF!,CY$1,#REF!)+SUMIF(#REF!,CY$1,#REF!) -> #REF! | DC2: =C2&E2 -> mmmmmm | DD2: 1
A3: 2 | B3: MME | AB3: AURAY | AC3: N. IV (bac) | AD3: =IF($AC3="","",IF($AC3="À l'étranger","À l'étranger",IF($AC3="N. VI et Vbis (sans diplôme validé)",2,IF($AC3="N. V (CAP / BEP)",3,IF($AC3="N. IV (bac)",4,IF($AC3="N. III (bac + 2)",5,IF($AC3="N. II (bac + 4 et bac +3)",6,"7/8"))))))) -> 4 | AE3: BAC | AF3: 2017 | AG3: 1ère ou 2ème année du 1er cycle enseignement supérieur, formations sanitaires et sociales | AH3: 2018 | AI3: Employés | AJ3: 43739 | AK3: CDD | AL3: 1 | AM3: BAC GEN | AN3: 2017 | AO3: ML | AP3: 43500 | AQ3: 43599 | AS3: AF | AT3: 227 | AU3: 210 | AV3: 21 | AW3: 7 | AX3: 14 | AY3: 56 | AZ3: 21 | BA3: 59 | BB3: 21 | BC3: 0 | BI3: =SUM(BL3:BX3)+CY3 -> #REF! | BJ3: =#REF! -> #REF! | BK3: =#REF! -> #REF! | BL3: =BY3+CL3 -> #REF! | BM3: =BZ3+CM3 -> #REF! | BN3: =CA3+CN3 -> #REF! | BO3: =CB3+CO3 -> #REF! | BP3: =CC3+CP3 -> #REF! | BQ3: =CD3+CQ3 -> #REF! | BR3: =CE3+CR3 -> #REF! | BS3: =CF3+CS3 -> #REF! | ... BX3: =CK3+CX3 -> #REF! | BY3: =SUMIF(#REF!,BY$1,#REF!)+SUMIF(#REF!,BY$1,#REF!)+SUMIF(#REF!,BY$1,#REF!)+SUMIF(#REF!,BY$1,#REF!)+SUMIF(#REF!,BY$1,#REF!)+SUMIF(#REF!,BY$1,#REF!)+SUMIF(#REF!,BY$1,#REF!)+SUMIF(#REF!,BY$1,#REF!)+SUMIF(#REF!,BY$1,#REF!)+SUMIF(#REF!,BY$1,#REF!)+SUMIF(#REF!,BY$1,#REF!) -> #REF! | BZ3: =SUMIF(#REF!,BZ$1,#REF!)+SUMIF(#REF!,BZ$1,#REF!)+SUMIF(#REF!,BZ$1,#REF!)+SUMIF(#REF!,BZ$1,#REF!)+SUMIF(#REF!,BZ$1,#REF!)+SUMIF(#REF!,BZ$1,#REF!)+SUMIF(#REF!,BZ$1,#REF!)+SUMIF(#REF!,BZ$1,#REF!)+SUMIF(#REF!,BZ$1,#REF!)+SUMIF(#REF!,BZ$1,#REF!)+SUMIF(#REF!,BZ$1,#REF!) -> #REF! | CA3: =SUMIF(#REF!,CA$1,#REF!)+SUMIF(#REF!,CA$1,#REF!)+SUMIF(#REF!,CA$1,#REF!)+SUMIF(#REF!,CA$1,#REF!)+SUMIF(#REF!,CA$1,#REF!)+SUMIF(#REF!,CA$1,#REF!)+SUMIF(#REF!,CA$1,#REF!)+SUMIF(#REF!,CA$1,#REF!)+SUMIF(#REF!,CA$1,#REF!)+SUMIF(#REF!,CA$1,#REF!)+SUMIF(#REF!,CA$1,#REF!) -> #REF! | CB3: =SUMIF(#REF!,CB$1,#REF!)+SUMIF(#REF!,CB$1,#REF!)+SUMIF(#REF!,CB$1,#REF!)+SUMIF(#REF!,CB$1,#REF!)+SUMIF(#REF!,CB$1,#REF!)+SUMIF(#REF!,CB$1,#REF!)+SUMIF(#REF!,CB$1,#REF!)+SUMIF(#REF!,CB$1,#REF!)+SUMIF(#REF!,CB$1,#REF!)+SUMIF(#REF!,CB$1,#REF!)+SUMIF(#REF!,CB$1,#REF!) -> #REF! | CC3: =SUMIF(#REF!,CC$1,#REF!)+SUMIF(#REF!,CC$1,#REF!)+SUMIF(#REF!,CC$1,#REF!)+SUMIF(#REF!,CC$1,#REF!)+SUMIF(#REF!,CC$1,#REF!)+SUMIF(#REF!,CC$1,#REF!)+SUMIF(#REF!,CC$1,#REF!)+SUMIF(#REF!,CC$1,#REF!)+SUMIF(#REF!,CC$1,#REF!)+SUMIF(#REF!,CC$1,#REF!)+SUMIF(#REF!,CC$1,#REF!) -> #REF! | CD3: =SUMIF(#REF!,CD$1,#REF!)+SUMIF(#REF!,CD$1,#REF!)+SUMIF(#REF!,CD$1,#REF!)+SUMIF(#REF!,CD$1,#REF!)+SUMIF(#REF!,CD$1,#REF!)+SUMIF(#REF!,CD$1,#REF!)+SUMIF(#REF!,CD$1,#REF!)+SUMIF(#REF!,CD$1,#REF!)+SUMIF(#REF!,CD$1,#REF!)+SUMIF(#REF!,CD$1,#REF!)+SUMIF(#REF!,CD$1,#REF!) -> #REF! | CE3: =SUMIF(#REF!,CE$1,#REF!)+SUMIF(#REF!,CE$1,#REF!)+SUMIF(#REF!,CE$1,#REF!)+SUMIF(#REF!,CE$1,#REF!)+SUMIF(#REF!,CE$1,#REF!)+SUMIF(#REF!,CE$1,#REF!)+SUMIF(#REF!,CE$1,#REF!)+SUMIF(#REF!,CE$1,#REF!)+SUMIF(#REF!,CE$1,#REF!)+SUMIF(#REF!,CE$1,#REF!)+SUMIF(#REF!,CE$1,#REF!) -> #REF! | CF3: =SUMIF(#REF!,CF$1,#REF!)+SUMIF(#REF!,CF$1,#REF!)+SUMIF(#REF!,CF$1,#REF!)+SUMIF(#REF!,CF$1,#REF!)+SUMIF(#REF!,CF$1,#REF!)+SUMIF(#REF!,CF$1,#REF!)+SUMIF(#REF!,CF$1,#REF!)+SUMIF(#REF!,CF$1,#REF!)+SUMIF(#REF!,CF$1,#REF!)+SUMIF(#REF!,CF$1,#REF!)+SUMIF(#REF!,CF$1,#REF!) -> #REF! | ... CY3: =SUMIF(#REF!,CY$1,#REF!)+SUMIF(#REF!,CY$1,#REF!)+SUMIF(#REF!,CY$1,#REF!)+SUMIF(#REF!,CY$1,#REF!)+SUMIF(#REF!,CY$1,#REF!)+SUMIF(#REF!,CY$1,#REF!)+SUMIF(#REF!,CY$1,#REF!)+SUMIF(#REF!,CY$1,#REF!)+SUMIF(#REF!,CY$1,#REF!)+SUMIF(#REF!,CY$1,#REF!)+SUMIF(#REF!,CY$1,#REF!) -> #REF! | DC3: =C3&E3 | DD3: =IF($DC3="",0,IF(COUNTIF($DC2:$DC$2,$DC3)=0,1,0)) -> 0
A4: 3 | B4: MR | AB4: AURAY | AC4: N. IV (bac) | AD4: =IF($AC4="","",IF($AC4="À l'étranger","À l'étranger",IF($AC4="N. VI et Vbis (sans diplôme validé)",2,IF($AC4="N. V (CAP / BEP)",3,IF($AC4="N. IV (bac)",4,IF($AC4="N. III (bac + 2)",5,IF($AC4="N. II (bac + 4 et bac +3)",6,"7/8"))))))) -> 4 | AE4: BAC | AF4: 2018 | AG4: Terminale | AH4: 2018 | AI4: Jamais travaillé | AM4: BAC GEN | AN4: 2018 | AO4: ML | AP4: 43500 | AQ4: 43579 | AR4: 43579 | AS4: AF | AT4: 146 | AU4: 210 | AV4: 0 | AW4: 0 | AX4: 14 | AY4: 0 | AZ4: 21 | BA4: 66 | BB4: 21 | BC4: 0 | BI4: =SUM(BL4:BX4)+CY4 -> #REF! | BJ4: =#REF! -> #REF! | BK4: =#REF! -> #REF! | BL4: =BY4+CL4 -> #REF! | BM4: =BZ4+CM4 -> #REF! | BN4: =CA4+CN4 -> #REF! | BO4: =CB4+CO4 -> #REF! | BP4: =CC4+CP4 -> #REF! | BQ4: =CD4+CQ4 -> #REF! | BR4: =CE4+CR4 -> #REF! | BS4: =CF4+CS4 -> #REF! | ... BX4: =CK4+CX4 -> #REF! | BY4: =SUMIF(#REF!,BY$1,#REF!)+SUMIF(#REF!,BY$1,#REF!)+SUMIF(#REF!,BY$1,#REF!)+SUMIF(#REF!,BY$1,#REF!)+SUMIF(#REF!,BY$1,#REF!)+SUMIF(#REF!,BY$1,#REF!)+SUMIF(#REF!,BY$1,#REF!)+SUMIF(#REF!,BY$1,#REF!)+SUMIF(#REF!,BY$1,#REF!)+SUMIF(#REF!,BY$1,#REF!)+SUMIF(#REF!,BY$1,#REF!) -> #REF! | BZ4: =SUMIF(#REF!,BZ$1,#REF!)+SUMIF(#REF!,BZ$1,#REF!)+SUMIF(#REF!,BZ$1,#REF!)+SUMIF(#REF!,BZ$1,#REF!)+SUMIF(#REF!,BZ$1,#REF!)+SUMIF(#REF!,BZ$1,#REF!)+SUMIF(#REF!,BZ$1,#REF!)+SUMIF(#REF!,BZ$1,#REF!)+SUMIF(#REF!,BZ$1,#REF!)+SUMIF(#REF!,BZ$1,#REF!)+SUMIF(#REF!,BZ$1,#REF!) -> #REF! | CA4: =SUMIF(#REF!,CA$1,#REF!)+SUMIF(#REF!,CA$1,#REF!)+SUMIF(#REF!,CA$1,#REF!)+SUMIF(#REF!,CA$1,#REF!)+SUMIF(#REF!,CA$1,#REF!)+SUMIF(#REF!,CA$1,#REF!)+SUMIF(#REF!,CA$1,#REF!)+SUMIF(#REF!,CA$1,#REF!)+SUMIF(#REF!,CA$1,#REF!)+SUMIF(#REF!,CA$1,#REF!)+SUMIF(#REF!,CA$1,#REF!) -> #REF! | CB4: =SUMIF(#REF!,CB$1,#REF!)+SUMIF(#REF!,CB$1,#REF!)+SUMIF(#REF!,CB$1,#REF!)+SUMIF(#REF!,CB$1,#REF!)+SUMIF(#REF!,CB$1,#REF!)+SUMIF(#REF!,CB$1,#REF!)+SUMIF(#REF!,CB$1,#REF!)+SUMIF(#REF!,CB$1,#REF!)+SUMIF(#REF!,CB$1,#REF!)+SUMIF(#REF!,CB$1,#REF!)+SUMIF(#REF!,CB$1,#REF!) -> #REF! | CC4: =SUMIF(#REF!,CC$1,#REF!)+SUMIF(#REF!,CC$1,#REF!)+SUMIF(#REF!,CC$1,#REF!)+SUMIF(#REF!,CC$1,#REF!)+SUMIF(#REF!,CC$1,#REF!)+SUMIF(#REF!,CC$1,#REF!)+SUMIF(#REF!,CC$1,#REF!)+SUMIF(#REF!,CC$1,#REF!)+SUMIF(#REF!,CC$1,#REF!)+SUMIF(#REF!,CC$1,#REF!)+SUMIF(#REF!,CC$1,#REF!) -> #REF! | CD4: =SUMIF(#REF!,CD$1,#REF!)+SUMIF(#REF!,CD$1,#REF!)+SUMIF(#REF!,CD$1,#REF!)+SUMIF(#REF!,CD$1,#REF!)+SUMIF(#REF!,CD$1,#REF!)+SUMIF(#REF!,CD$1,#REF!)+SUMIF(#REF!,CD$1,#REF!)+SUMIF(#REF!,CD$1,#REF!)+SUMIF(#REF!,CD$1,#REF!)+SUMIF(#REF!,CD$1,#REF!)+SUMIF(#REF!,CD$1,#REF!) -> #REF! | CE4: =SUMIF(#REF!,CE$1,#REF!)+SUMIF(#REF!,CE$1,#REF!)+SUMIF(#REF!,CE$1,#REF!)+SUMIF(#REF!,CE$1,#REF!)+SUMIF(#REF!,CE$1,#REF!)+SUMIF(#REF!,CE$1,#REF!)+SUMIF(#REF!,CE$1,#REF!)+SUMIF(#REF!,CE$1,#REF!)+SUMIF(#REF!,CE$1,#REF!)+SUMIF(#REF!,CE$1,#REF!)+SUMIF(#REF!,CE$1,#REF!) -> #REF! | CF4: =SUMIF(#REF!,CF$1,#REF!)+SUMIF(#REF!,CF$1,#REF!)+SUMIF(#REF!,CF$1,#REF!)+SUMIF(#REF!,CF$1,#REF!)+SUMIF(#REF!,CF$1,#REF!)+SUMIF(#REF!,CF$1,#REF!)+SUMIF(#REF!,CF$1,#REF!)+SUMIF(#REF!,CF$1,#REF!)+SUMIF(#REF!,CF$1,#REF!)+SUMIF(#REF!,CF$1,#REF!)+SUMIF(#REF!,CF$1,#REF!) -> #REF! | ... CY4: =SUMIF(#REF!,CY$1,#REF!)+SUMIF(#REF!,CY$1,#REF!)+SUMIF(#REF!,CY$1,#REF!)+SUMIF(#REF!,CY$1,#REF!)+SUMIF(#REF!,CY$1,#REF!)+SUMIF(#REF!,CY$1,#REF!)+SUMIF(#REF!,CY$1,#REF!)+SUMIF(#REF!,CY$1,#REF!)+SUMIF(#REF!,CY$1,#REF!)+SUMIF(#REF!,CY$1,#REF!)+SUMIF(#REF!,CY$1,#REF!) -> #REF! | DC4: =C4&E4 | DD4: =IF($DC4="",0,IF(COUNTIF($DC$2:$DC3,$DC4)=0,1,0)) -> 0
A5: 4 | B5: MR | AB5: AURAY | AC5: N. V (CAP / BEP) | AD5: =IF($AC5="","",IF($AC5="À l'étranger","À l'étranger",IF($AC5="N. VI et Vbis (sans diplôme validé)",2,IF($AC5="N. V (CAP / BEP)",3,IF($AC5="N. IV (bac)",4,IF($AC5="N. III (bac + 2)",5,IF($AC5="N. II (bac + 4 et bac +3)",6,"7/8"))))))) -> 3 | AE5: Brevet des collèges | AF5: 2015 | AG5: Terminale | AH5: 2018 | AI5: Jamais travaillé | AM5: BAC PRO | AN5: 2018 | AO5: ML | AP5: 43500 | AQ5: 43598 | AS5: AF | AT5: 218 | AU5: 210 | AV5: 21 | AW5: 0 | AX5: 14 | AY5: 56 | AZ5: 21 | BA5: 59 | BB5: 21 | BC5: 0 | BI5: =SUM(BL5:BX5)+CY5 -> #REF! | BJ5: =#REF! -> #REF! | BK5: =#REF! -> #REF! | BL5: =BY5+CL5 -> #REF! | BM5: =BZ5+CM5 -> #REF! | BN5: =CA5+CN5 -> #REF! | BO5: =CB5+CO5 -> #REF! | BP5: =CC5+CP5 -> #REF! | BQ5: =CD5+CQ5 -> #REF! | BR5: =CE5+CR5 -> #REF! | BS5: =CF5+CS5 -> #REF! | ... BX5: =CK5+CX5 -> #REF! | BY5: =SUMIF(#REF!,BY$1,#REF!)+SUMIF(#REF!,BY$1,#REF!)+SUMIF(#REF!,BY$1,#REF!)+SUMIF(#REF!,BY$1,#REF!)+SUMIF(#REF!,BY$1,#REF!)+SUMIF(#REF!,BY$1,#REF!)+SUMIF(#REF!,BY$1,#REF!)+SUMIF(#REF!,BY$1,#REF!)+SUMIF(#REF!,BY$1,#REF!)+SUMIF(#REF!,BY$1,#REF!)+SUMIF(#REF!,BY$1,#REF!) -> #REF! | BZ5: =SUMIF(#REF!,BZ$1,#REF!)+SUMIF(#REF!,BZ$1,#REF!)+SUMIF(#REF!,BZ$1,#REF!)+SUMIF(#REF!,BZ$1,#REF!)+SUMIF(#REF!,BZ$1,#REF!)+SUMIF(#REF!,BZ$1,#REF!)+SUMIF(#REF!,BZ$1,#REF!)+SUMIF(#REF!,BZ$1,#REF!)+SUMIF(#REF!,BZ$1,#REF!)+SUMIF(#REF!,BZ$1,#REF!)+SUMIF(#REF!,BZ$1,#REF!) -> #REF! | CA5: =SUMIF(#REF!,CA$1,#REF!)+SUMIF(#REF!,CA$1,#REF!)+SUMIF(#REF!,CA$1,#REF!)+SUMIF(#REF!,CA$1,#REF!)+SUMIF(#REF!,CA$1,#REF!)+SUMIF(#REF!,CA$1,#REF!)+SUMIF(#REF!,CA$1,#REF!)+SUMIF(#REF!,CA$1,#REF!)+SUMIF(#REF!,CA$1,#REF!)+SUMIF(#REF!,CA$1,#REF!)+SUMIF(#REF!,CA$1,#REF!) -> #REF! | CB5: =SUMIF(#REF!,CB$1,#REF!)+SUMIF(#REF!,CB$1,#REF!)+SUMIF(#REF!,CB$1,#REF!)+SUMIF(#REF!,CB$1,#REF!)+SUMIF(#REF!,CB$1,#REF!)+SUMIF(#REF!,CB$1,#REF!)+SUMIF(#REF!,CB$1,#REF!)+SUMIF(#REF!,CB$1,#REF!)+SUMIF(#REF!,CB$1,#REF!)+SUMIF(#REF!,CB$1,#REF!)+SUMIF(#REF!,CB$1,#REF!) -> #REF! | CC5: =SUMIF(#REF!,CC$1,#REF!)+SUMIF(#REF!,CC$1,#REF!)+SUMIF(#REF!,CC$1,#REF!)+SUMIF(#REF!,CC$1,#REF!)+SUMIF(#REF!,CC$1,#REF!)+SUMIF(#REF!,CC$1,#REF!)+SUMIF(#REF!,CC$1,#REF!)+SUMIF(#REF!,CC$1,#REF!)+SUMIF(#REF!,CC$1,#REF!)+SUMIF(#REF!,CC$1,#REF!)+SUMIF(#REF!,CC$1,#REF!) -> #REF! | CD5: =SUMIF(#REF!,CD$1,#REF!)+SUMIF(#REF!,CD$1,#REF!)+SUMIF(#REF!,CD$1,#REF!)+SUMIF(#REF!,CD$1,#REF!)+SUMIF(#REF!,CD$1,#REF!)+SUMIF(#REF!,CD$1,#REF!)+SUMIF(#REF!,CD$1,#REF!)+SUMIF(#REF!,CD$1,#REF!)+SUMIF(#REF!,CD$1,#REF!)+SUMIF(#REF!,CD$1,#REF!)+SUMIF(#REF!,CD$1,#REF!) -> #REF! | CE5: =SUMIF(#REF!,CE$1,#REF!)+SUMIF(#REF!,CE$1,#REF!)+SUMIF(#REF!,CE$1,#REF!)+SUMIF(#REF!,CE$1,#REF!)+SUMIF(#REF!,CE$1,#REF!)+SUMIF(#REF!,CE$1,#REF!)+SUMIF(#REF!,CE$1,#REF!)+SUMIF(#REF!,CE$1,#REF!)+SUMIF(#REF!,CE$1,#REF!)+SUMIF(#REF!,CE$1,#REF!)+SUMIF(#REF!,CE$1,#REF!) -> #REF! | CF5: =SUMIF(#REF!,CF$1,#REF!)+SUMIF(#REF!,CF$1,#REF!)+SUMIF(#REF!,CF$1,#REF!)+SUMIF(#REF!,CF$1,#REF!)+SUMIF(#REF!,CF$1,#REF!)+SUMIF(#REF!,CF$1,#REF!)+SUMIF(#REF!,CF$1,#REF!)+SUMIF(#REF!,CF$1,#REF!)+SUMIF(#REF!,CF$1,#REF!)+SUMIF(#REF!,CF$1,#REF!)+SUMIF(#REF!,CF$1,#REF!) -> #REF! | ... CY5: =SUMIF(#REF!,CY$1,#REF!)+SUMIF(#REF!,CY$1,#REF!)+SUMIF(#REF!,CY$1,#REF!)+SUMIF(#REF!,CY$1,#REF!)+SUMIF(#REF!,CY$1,#REF!)+SUMIF(#REF!,CY$1,#REF!)+SUMIF(#REF!,CY$1,#REF!)+SUMIF(#REF!,CY$1,#REF!)+SUMIF(#REF!,CY$1,#REF!)+SUMIF(#REF!,CY$1,#REF!)+SUMIF(#REF!,CY$1,#REF!) -> #REF! | DC5: =C5&E5 | DD5: =IF($DC5="",0,IF(COUNTIF($DC$2:$DC4,$DC5)=0,1,0)) -> 0
A6: 5 | B6: MME | AB6: AURAY | AC6: N. II (bac + 4 et bac +3) | AD6: =IF($AC6="","",IF($AC6="À l'étranger","À l'étranger",IF($AC6="N. VI et Vbis (sans diplôme validé)",2,IF($AC6="N. V (CAP / BEP)",3,IF($AC6="N. IV (bac)",4,IF($AC6="N. III (bac + 2)",5,IF($AC6="N. II (bac + 4 et bac +3)",6,"7/8"))))))) -> 6 | AE6: Licence pro = bac + 3 | AF6: 2017 | AG6: Classes de 2ème ou 3ème cycle enseignement supérieur | AH6: 2018 | AI6: Jamais travaillé | AM6: LICENCE | AN6: 2018 | AO6: ML | AP6: 43500 | AQ6: 43598 | AS6: AF | AT6: 218 | AU6: 210 | AV6: 21 | AW6: 0 | AX6: 14 | AY6: 56 | AZ6: 21 | BA6: 59 | BB6: 21 | BC6: 0 | BI6: =SUM(BL6:BX6)+CY6 -> #REF! | BJ6: =#REF! -> #REF! | BK6: =#REF! -> #REF! | BL6: =BY6+CL6 -> #REF! | BM6: =BZ6+CM6 -> #REF! | BN6: =CA6+CN6 -> #REF! | BO6: =CB6+CO6 -> #REF! | BP6: =CC6+CP6 -> #REF! | BQ6: =CD6+CQ6 -> #REF! | BR6: =CE6+CR6 -> #REF! | BS6: =CF6+CS6 -> #REF! | ... BX6: =CK6+CX6 -> #REF! | BY6: =SUMIF(#REF!,BY$1,#REF!)+SUMIF(#REF!,BY$1,#REF!)+SUMIF(#REF!,BY$1,#REF!)+SUMIF(#REF!,BY$1,#REF!)+SUMIF(#REF!,BY$1,#REF!)+SUMIF(#REF!,BY$1,#REF!)+SUMIF(#REF!,BY$1,#REF!)+SUMIF(#REF!,BY$1,#REF!)+SUMIF(#REF!,BY$1,#REF!)+SUMIF(#REF!,BY$1,#REF!)+SUMIF(#REF!,BY$1,#REF!) -> #REF! | BZ6: =SUMIF(#REF!,BZ$1,#REF!)+SUMIF(#REF!,BZ$1,#REF!)+SUMIF(#REF!,BZ$1,#REF!)+SUMIF(#REF!,BZ$1,#REF!)+SUMIF(#REF!,BZ$1,#REF!)+SUMIF(#REF!,BZ$1,#REF!)+SUMIF(#REF!,BZ$1,#REF!)+SUMIF(#REF!,BZ$1,#REF!)+SUMIF(#REF!,BZ$1,#REF!)+SUMIF(#REF!,BZ$1,#REF!)+SUMIF(#REF!,BZ$1,#REF!) -> #REF! | CA6: =SUMIF(#REF!,CA$1,#REF!)+SUMIF(#REF!,CA$1,#REF!)+SUMIF(#REF!,CA$1,#REF!)+SUMIF(#REF!,CA$1,#REF!)+SUMIF(#REF!,CA$1,#REF!)+SUMIF(#REF!,CA$1,#REF!)+SUMIF(#REF!,CA$1,#REF!)+SUMIF(#REF!,CA$1,#REF!)+SUMIF(#REF!,CA$1,#REF!)+SUMIF(#REF!,CA$1,#REF!)+SUMIF(#REF!,CA$1,#REF!) -> #REF! | CB6: =SUMIF(#REF!,CB$1,#REF!)+SUMIF(#REF!,CB$1,#REF!)+SUMIF(#REF!,CB$1,#REF!)+SUMIF(#REF!,CB$1,#REF!)+SUMIF(#REF!,CB$1,#REF!)+SUMIF(#REF!,CB$1,#REF!)+SUMIF(#REF!,CB$1,#REF!)+SUMIF(#REF!,CB$1,#REF!)+SUMIF(#REF!,CB$1,#REF!)+SUMIF(#REF!,CB$1,#REF!)+SUMIF(#REF!,CB$1,#REF!) -> #REF! | CC6: =SUMIF(#REF!,CC$1,#REF!)+SUMIF(#REF!,CC$1,#REF!)+SUMIF(#REF!,CC$1,#REF!)+SUMIF(#REF!,CC$1,#REF!)+SUMIF(#REF!,CC$1,#REF!)+SUMIF(#REF!,CC$1,#REF!)+SUMIF(#REF!,CC$1,#REF!)+SUMIF(#REF!,CC$1,#REF!)+SUMIF(#REF!,CC$1,#REF!)+SUMIF(#REF!,CC$1,#REF!)+SUMIF(#REF!,CC$1,#REF!) -> #REF! | CD6: =SUMIF(#REF!,CD$1,#REF!)+SUMIF(#REF!,CD$1,#REF!)+SUMIF(#REF!,CD$1,#REF!)+SUMIF(#REF!,CD$1,#REF!)+SUMIF(#REF!,CD$1,#REF!)+SUMIF(#REF!,CD$1,#REF!)+SUMIF(#REF!,CD$1,#REF!)+SUMIF(#REF!,CD$1,#REF!)+SUMIF(#REF!,CD$1,#REF!)+SUMIF(#REF!,CD$1,#REF!)+SUMIF(#REF!,CD$1,#REF!) -> #REF! | CE6: =SUMIF(#REF!,CE$1,#REF!)+SUMIF(#REF!,CE$1,#REF!)+SUMIF(#REF!,CE$1,#REF!)+SUMIF(#REF!,CE$1,#REF!)+SUMIF(#REF!,CE$1,#REF!)+SUMIF(#REF!,CE$1,#REF!)+SUMIF(#REF!,CE$1,#REF!)+SUMIF(#REF!,CE$1,#REF!)+SUMIF(#REF!,CE$1,#REF!)+SUMIF(#REF!,CE$1,#REF!)+SUMIF(#REF!,CE$1,#REF!) -> #REF! | CF6: =SUMIF(#REF!,CF$1,#REF!)+SUMIF(#REF!,CF$1,#REF!)+SUMIF(#REF!,CF$1,#REF!)+SUMIF(#REF!,CF$1,#REF!)+SUMIF(#REF!,CF$1,#REF!)+SUMIF(#REF!,CF$1,#REF!)+SUMIF(#REF!,CF$1,#REF!)+SUMIF(#REF!,CF$1,#REF!)+SUMIF(#REF!,CF$1,#REF!)+SUMIF(#REF!,CF$1,#REF!)+SUMIF(#REF!,CF$1,#REF!) -> #REF! | ... CY6: =SUMIF(#REF!,CY$1,#REF!)+SUMIF(#REF!,CY$1,#REF!)+SUMIF(#REF!,CY$1,#REF!)+SUMIF(#REF!,CY$1,#REF!)+SUMIF(#REF!,CY$1,#REF!)+SUMIF(#REF!,CY$1,#REF!)+SUMIF(#REF!,CY$1,#REF!)+SUMIF(#REF!,CY$1,#REF!)+SUMIF(#REF!,CY$1,#REF!)+SUMIF(#REF!,CY$1,#REF!)+SUMIF(#REF!,CY$1,#REF!) -> #REF! | DC6: =C6&E6 | DD6: =IF($DC6="",0,IF(COUNTIF($DC$2:$DC5,$DC6)=0,1,0)) -> 0
A7: 6 | B7: MR | AB7: AURAY | AC7: N. IV (bac) | AD7: =IF($AC7="","",IF($AC7="À l'étranger","À l'étranger",IF($AC7="N. VI et Vbis (sans diplôme validé)",2,IF($AC7="N. V (CAP / BEP)",3,IF($AC7="N. IV (bac)",4,IF($AC7="N. III (bac + 2)",5,IF($AC7="N. II (bac + 4 et bac +3)",6,"7/8"))))))) -> 4 | AE7: BAC | AF7: 2013 | AG7: 1ère ou 2ème année du 1er cycle enseignement supérieur, formations sanitaires et sociales | AH7: 2013 | AI7: Employés | AK7: INTERIM | AL7: 3 | AM7: BAC GEN | AO7: ML | AP7: 43501 | AQ7: 43598 | AS7: AREF | AT7: 218 | AU7: 210 | AV7: 21 | AW7: 0 | AX7: 14 | AY7: 56 | AZ7: 21 | BA7: 59 | BB7: 21 | BC7: 0 | BI7: =SUM(BL7:BX7)+CY7 -> #REF! | BJ7: =#REF! -> #REF! | BK7: =#REF! -> #REF! | BL7: =BY7+CL7 -> #REF! | BM7: =BZ7+CM7 -> #REF! | BN7: =CA7+CN7 -> #REF! | BO7: =CB7+CO7 -> #REF! | BP7: =CC7+CP7 -> #REF! | BQ7: =CD7+CQ7 -> #REF! | BR7: =CE7+CR7 -> #REF! | BS7: =CF7+CS7 -> #REF! | ... BX7: =CK7+CX7 -> #REF! | BY7: =SUMIF(#REF!,BY$1,#REF!)+SUMIF(#REF!,BY$1,#REF!)+SUMIF(#REF!,BY$1,#REF!)+SUMIF(#REF!,BY$1,#REF!)+SUMIF(#REF!,BY$1,#REF!)+SUMIF(#REF!,BY$1,#REF!)+SUMIF(#REF!,BY$1,#REF!)+SUMIF(#REF!,BY$1,#REF!)+SUMIF(#REF!,BY$1,#REF!)+SUMIF(#REF!,BY$1,#REF!)+SUMIF(#REF!,BY$1,#REF!) -> #REF! | BZ7: =SUMIF(#REF!,BZ$1,#REF!)+SUMIF(#REF!,BZ$1,#REF!)+SUMIF(#REF!,BZ$1,#REF!)+SUMIF(#REF!,BZ$1,#REF!)+SUMIF(#REF!,BZ$1,#REF!)+SUMIF(#REF!,BZ$1,#REF!)+SUMIF(#REF!,BZ$1,#REF!)+SUMIF(#REF!,BZ$1,#REF!)+SUMIF(#REF!,BZ$1,#REF!)+SUMIF(#REF!,BZ$1,#REF!)+SUMIF(#REF!,BZ$1,#REF!) -> #REF! | CA7: =SUMIF(#REF!,CA$1,#REF!)+SUMIF(#REF!,CA$1,#REF!)+SUMIF(#REF!,CA$1,#REF!)+SUMIF(#REF!,CA$1,#REF!)+SUMIF(#REF!,CA$1,#REF!)+SUMIF(#REF!,CA$1,#REF!)+SUMIF(#REF!,CA$1,#REF!)+SUMIF(#REF!,CA$1,#REF!)+SUMIF(#REF!,CA$1,#REF!)+SUMIF(#REF!,CA$1,#REF!)+SUMIF(#REF!,CA$1,#REF!) -> #REF! | CB7: =SUMIF(#REF!,CB$1,#REF!)+SUMIF(#REF!,CB$1,#REF!)+SUMIF(#REF!,CB$1,#REF!)+SUMIF(#REF!,CB$1,#REF!)+SUMIF(#REF!,CB$1,#REF!)+SUMIF(#REF!,CB$1,#REF!)+SUMIF(#REF!,CB$1,#REF!)+SUMIF(#REF!,CB$1,#REF!)+SUMIF(#REF!,CB$1,#REF!)+SUMIF(#REF!,CB$1,#REF!)+SUMIF(#REF!,CB$1,#REF!) -> #REF! | CC7: =SUMIF(#REF!,CC$1,#REF!)+SUMIF(#REF!,CC$1,#REF!)+SUMIF(#REF!,CC$1,#REF!)+SUMIF(#REF!,CC$1,#REF!)+SUMIF(#REF!,CC$1,#REF!)+SUMIF(#REF!,CC$1,#REF!)+SUMIF(#REF!,CC$1,#REF!)+SUMIF(#REF!,CC$1,#REF!)+SUMIF(#REF!,CC$1,#REF!)+SUMIF(#REF!,CC$1,#REF!)+SUMIF(#REF!,CC$1,#REF!) -> #REF! | CD7: =SUMIF(#REF!,CD$1,#REF!)+SUMIF(#REF!,CD$1,#REF!)+SUMIF(#REF!,CD$1,#REF!)+SUMIF(#REF!,CD$1,#REF!)+SUMIF(#REF!,CD$1,#REF!)+SUMIF(#REF!,CD$1,#REF!)+SUMIF(#REF!,CD$1,#REF!)+SUMIF(#REF!,CD$1,#REF!)+SUMIF(#REF!,CD$1,#REF!)+SUMIF(#REF!,CD$1,#REF!)+SUMIF(#REF!,CD$1,#REF!) -> #REF! | CE7: =SUMIF(#REF!,CE$1,#REF!)+SUMIF(#REF!,CE$1,#REF!)+SUMIF(#REF!,CE$1,#REF!)+SUMIF(#REF!,CE$1,#REF!)+SUMIF(#REF!,CE$1,#REF!)+SUMIF(#REF!,CE$1,#REF!)+SUMIF(#REF!,CE$1,#REF!)+SUMIF(#REF!,CE$1,#REF!)+SUMIF(#REF!,CE$1,#REF!)+SUMIF(#REF!,CE$1,#REF!)+SUMIF(#REF!,CE$1,#REF!) -> #REF! | CF7: =SUMIF(#REF!,CF$1,#REF!)+SUMIF(#REF!,CF$1,#REF!)+SUMIF(#REF!,CF$1,#REF!)+SUMIF(#REF!,CF$1,#REF!)+SUMIF(#REF!,CF$1,#REF!)+SUMIF(#REF!,CF$1,#REF!)+SUMIF(#REF!,CF$1,#REF!)+SUMIF(#REF!,CF$1,#REF!)+SUMIF(#REF!,CF$1,#REF!)+SUMIF(#REF!,CF$1,#REF!)+SUMIF(#REF!,CF$1,#REF!) -> #REF! | ... CY7: =SUMIF(#REF!,CY$1,#REF!)+SUMIF(#REF!,CY$1,#REF!)+SUMIF(#REF!,CY$1,#REF!)+SUMIF(#REF!,CY$1,#REF!)+SUMIF(#REF!,CY$1,#REF!)+SUMIF(#REF!,CY$1,#REF!)+SUMIF(#REF!,CY$1,#REF!)+SUMIF(#REF!,CY$1,#REF!)+SUMIF(#REF!,CY$1,#REF!)+SUMIF(#REF!,CY$1,#REF!)+SUMIF(#REF!,CY$1,#REF!) -> #REF! | DC7: =C7&E7 | DD7: =IF($DC7="",0,IF(COUNTIF($DC$2:$DC6,$DC7)=0,1,0)) -> 0
A8: 7 | B8: MR | AB8: AURAY | AC8: N. V (CAP / BEP) | AD8: =IF($AC8="","",IF($AC8="À l'étranger","À l'étranger",IF($AC8="N. VI et Vbis (sans diplôme validé)",2,IF($AC8="N. V (CAP / BEP)",3,IF($AC8="N. IV (bac)",4,IF($AC8="N. III (bac + 2)",5,IF($AC8="N. II (bac + 4 et bac +3)",6,"7/8"))))))) -> 3 | AE8: Brevet des collèges | AF8: 2014 | AG8: 2nde, 1ère enseignement général ou 2ème année CAP/BEP | AH8: 2016 | AI8: Jamais travaillé | AM8: BAC GEN | AN8: 2018 | AO8: ML | AP8: 43503 | AQ8: 43602 | AR8: 43524 | AS8: AF | AT8: 227 | AU8: 210 | AV8: 21 | AW8: 7 | AX8: 14 | AY8: 56 | AZ8: 21 | BA8: 59 | BB8: 21 | BC8: 0 | BI8: =SUM(BL8:BX8)+CY8 -> #REF! | BJ8: =#REF! -> #REF! | BK8: =#REF! -> #REF! | BL8: =BY8+CL8 -> #REF! | BM8: =BZ8+CM8 -> #REF! | BN8: =CA8+CN8 -> #REF! | BO8: =CB8+CO8 -> #REF! | BP8: =CC8+CP8 -> #REF! | BQ8: =CD8+CQ8 -> #REF! | BR8: =CE8+CR8 -> #REF! | BS8: =CF8+CS8 -> #REF! | ... BX8: =CK8+CX8 -> #REF! | BY8: =SUMIF(#REF!,BY$1,#REF!)+SUMIF(#REF!,BY$1,#REF!)+SUMIF(#REF!,BY$1,#REF!)+SUMIF(#REF!,BY$1,#REF!)+SUMIF(#REF!,BY$1,#REF!)+SUMIF(#REF!,BY$1,#REF!)+SUMIF(#REF!,BY$1,#REF!)+SUMIF(#REF!,BY$1,#REF!)+SUMIF(#REF!,BY$1,#REF!)+SUMIF(#REF!,BY$1,#REF!)+SUMIF(#REF!,BY$1,#REF!) -> #REF! | BZ8: =SUMIF(#REF!,BZ$1,#REF!)+SUMIF(#REF!,BZ$1,#REF!)+SUMIF(#REF!,BZ$1,#REF!)+SUMIF(#REF!,BZ$1,#REF!)+SUMIF(#REF!,BZ$1,#REF!)+SUMIF(#REF!,BZ$1,#REF!)+SUMIF(#REF!,BZ$1,#REF!)+SUMIF(#REF!,BZ$1,#REF!)+SUMIF(#REF!,BZ$1,#REF!)+SUMIF(#REF!,BZ$1,#REF!)+SUMIF(#REF!,BZ$1,#REF!) -> #REF! | CA8: =SUMIF(#REF!,CA$1,#REF!)+SUMIF(#REF!,CA$1,#REF!)+SUMIF(#REF!,CA$1,#REF!)+SUMIF(#REF!,CA$1,#REF!)+SUMIF(#REF!,CA$1,#REF!)+SUMIF(#REF!,CA$1,#REF!)+SUMIF(#REF!,CA$1,#REF!)+SUMIF(#REF!,CA$1,#REF!)+SUMIF(#REF!,CA$1,#REF!)+SUMIF(#REF!,CA$1,#REF!)+SUMIF(#REF!,CA$1,#REF!) -> #REF! | CB8: =SUMIF(#REF!,CB$1,#REF!)+SUMIF(#REF!,CB$1,#REF!)+SUMIF(#REF!,CB$1,#REF!)+SUMIF(#REF!,CB$1,#REF!)+SUMIF(#REF!,CB$1,#REF!)+SUMIF(#REF!,CB$1,#REF!)+SUMIF(#REF!,CB$1,#REF!)+SUMIF(#REF!,CB$1,#REF!)+SUMIF(#REF!,CB$1,#REF!)+SUMIF(#REF!,CB$1,#REF!)+SUMIF(#REF!,CB$1,#REF!) -> #REF! | CC8: =SUMIF(#REF!,CC$1,#REF!)+SUMIF(#REF!,CC$1,#REF!)+SUMIF(#REF!,CC$1,#REF!)+SUMIF(#REF!,CC$1,#REF!)+SUMIF(#REF!,CC$1,#REF!)+SUMIF(#REF!,CC$1,#REF!)+SUMIF(#REF!,CC$1,#REF!)+SUMIF(#REF!,CC$1,#REF!)+SUMIF(#REF!,CC$1,#REF!)+SUMIF(#REF!,CC$1,#REF!)+SUMIF(#REF!,CC$1,#REF!) -> #REF! | CD8: =SUMIF(#REF!,CD$1,#REF!)+SUMIF(#REF!,CD$1,#REF!)+SUMIF(#REF!,CD$1,#REF!)+SUMIF(#REF!,CD$1,#REF!)+SUMIF(#REF!,CD$1,#REF!)+SUMIF(#REF!,CD$1,#REF!)+SUMIF(#REF!,CD$1,#REF!)+SUMIF(#REF!,CD$1,#REF!)+SUMIF(#REF!,CD$1,#REF!)+SUMIF(#REF!,CD$1,#REF!)+SUMIF(#REF!,CD$1,#REF!) -> #REF! | CE8: =SUMIF(#REF!,CE$1,#REF!)+SUMIF(#REF!,CE$1,#REF!)+SUMIF(#REF!,CE$1,#REF!)+SUMIF(#REF!,CE$1,#REF!)+SUMIF(#REF!,CE$1,#REF!)+SUMIF(#REF!,CE$1,#REF!)+SUMIF(#REF!,CE$1,#REF!)+SUMIF(#REF!,CE$1,#REF!)+SUMIF(#REF!,CE$1,#REF!)+SUMIF(#REF!,CE$1,#REF!)+SUMIF(#REF!,CE$1,#REF!) -> #REF! | CF8: =SUMIF(#REF!,CF$1,#REF!)+SUMIF(#REF!,CF$1,#REF!)+SUMIF(#REF!,CF$1,#REF!)+SUMIF(#REF!,CF$1,#REF!)+SUMIF(#REF!,CF$1,#REF!)+SUMIF(#REF!,CF$1,#REF!)+SUMIF(#REF!,CF$1,#REF!)+SUMIF(#REF!,CF$1,#REF!)+SUMIF(#REF!,CF$1,#REF!)+SUMIF(#REF!,CF$1,#REF!)+SUMIF(#REF!,CF$1,#REF!) -> #REF! | ... CY8: =SUMIF(#REF!,CY$1,#REF!)+SUMIF(#REF!,CY$1,#REF!)+SUMIF(#REF!,CY$1,#REF!)+SUMIF(#REF!,CY$1,#REF!)+SUMIF(#REF!,CY$1,#REF!)+SUMIF(#REF!,CY$1,#REF!)+SUMIF(#REF!,CY$1,#REF!)+SUMIF(#REF!,CY$1,#REF!)+SUMIF(#REF!,CY$1,#REF!)+SUMIF(#REF!,CY$1,#REF!)+SUMIF(#REF!,CY$1,#REF!) -> #REF! | DC8: =C8&E8 | DD8: =IF($DC8="",0,IF(COUNTIF($DC$2:$DC7,$DC8)=0,1,0)) -> 0
A9: 8 | B9: MR | AB9: AURAY | AC9: N. V (CAP / BEP) | AD9: =IF($AC9="","",IF($AC9="À l'étranger","À l'étranger",IF($AC9="N. VI et Vbis (sans diplôme validé)",2,IF($AC9="N. V (CAP / BEP)",3,IF($AC9="N. IV (bac)",4,IF($AC9="N. III (bac + 2)",5,IF($AC9="N. II (bac + 4 et bac +3)",6,"7/8"))))))) -> 3 | AE9: CAP/BEP | AF9: 2015 | AG9: 2nde, 1ère enseignement général ou 2ème année CAP/BEP | AH9: 2015 | AI9: Jamais travaillé | AM9: CAP | AN9: 2015 | AO9: ML | AP9: 43503 | AQ9: 43601 | AS9: AF | AT9: 220 | AU9: 210 | AV9: 21 | AW9: 0 | AX9: 14 | AY9: 56 | AZ9: 21 | BA9: 59 | BB9: 21 | BC9: 0 | BI9: =SUM(BL9:BX9)+CY9 -> #REF! | BJ9: =#REF! -> #REF! | BK9: =#REF! -> #REF! | BL9: =BY9+CL9 -> #REF! | BM9: =BZ9+CM9 -> #REF! | BN9: =CA9+CN9 -> #REF! | BO9: =CB9+CO9 -> #REF! | BP9: =CC9+CP9 -> #REF! | BQ9: =CD9+CQ9 -> #REF! | BR9: =CE9+CR9 -> #REF! | BS9: =CF9+CS9 -> #REF! | ... BX9: =CK9+CX9 -> #REF! | BY9: =SUMIF(#REF!,BY$1,#REF!)+SUMIF(#REF!,BY$1,#REF!)+SUMIF(#REF!,BY$1,#REF!)+SUMIF(#REF!,BY$1,#REF!)+SUMIF(#REF!,BY$1,#REF!)+SUMIF(#REF!,BY$1,#REF!)+SUMIF(#REF!,BY$1,#REF!)+SUMIF(#REF!,BY$1,#REF!)+SUMIF(#REF!,BY$1,#REF!)+SUMIF(#REF!,BY$1,#REF!)+SUMIF(#REF!,BY$1,#REF!) -> #REF! | BZ9: =SUMIF(#REF!,BZ$1,#REF!)+SUMIF(#REF!,BZ$1,#REF!)+SUMIF(#REF!,BZ$1,#REF!)+SUMIF(#REF!,BZ$1,#REF!)+SUMIF(#REF!,BZ$1,#REF!)+SUMIF(#REF!,BZ$1,#REF!)+SUMIF(#REF!,BZ$1,#REF!)+SUMIF(#REF!,BZ$1,#REF!)+SUMIF(#REF!,BZ$1,#REF!)+SUMIF(#REF!,BZ$1,#REF!)+SUMIF(#REF!,BZ$1,#REF!) -> #REF! | CA9: =SUMIF(#REF!,CA$1,#REF!)+SUMIF(#REF!,CA$1,#REF!)+SUMIF(#REF!,CA$1,#REF!)+SUMIF(#REF!,CA$1,#REF!)+SUMIF(#REF!,CA$1,#REF!)+SUMIF(#REF!,CA$1,#REF!)+SUMIF(#REF!,CA$1,#REF!)+SUMIF(#REF!,CA$1,#REF!)+SUMIF(#REF!,CA$1,#REF!)+SUMIF(#REF!,CA$1,#REF!)+SUMIF(#REF!,CA$1,#REF!) -> #REF! | CB9: =SUMIF(#REF!,CB$1,#REF!)+SUMIF(#REF!,CB$1,#REF!)+SUMIF(#REF!,CB$1,#REF!)+SUMIF(#REF!,CB$1,#REF!)+SUMIF(#REF!,CB$1,#REF!)+SUMIF(#REF!,CB$1,#REF!)+SUMIF(#REF!,CB$1,#REF!)+SUMIF(#REF!,CB$1,#REF!)+SUMIF(#REF!,CB$1,#REF!)+SUMIF(#REF!,CB$1,#REF!)+SUMIF(#REF!,CB$1,#REF!) -> #REF! | CC9: =SUMIF(#REF!,CC$1,#REF!)+SUMIF(#REF!,CC$1,#REF!)+SUMIF(#REF!,CC$1,#REF!)+SUMIF(#REF!,CC$1,#REF!)+SUMIF(#REF!,CC$1,#REF!)+SUMIF(#REF!,CC$1,#REF!)+SUMIF(#REF!,CC$1,#REF!)+SUMIF(#REF!,CC$1,#REF!)+SUMIF(#REF!,CC$1,#REF!)+SUMIF(#REF!,CC$1,#REF!)+SUMIF(#REF!,CC$1,#REF!) -> #REF! | CD9: =SUMIF(#REF!,CD$1,#REF!)+SUMIF(#REF!,CD$1,#REF!)+SUMIF(#REF!,CD$1,#REF!)+SUMIF(#REF!,CD$1,#REF!)+SUMIF(#REF!,CD$1,#REF!)+SUMIF(#REF!,CD$1,#REF!)+SUMIF(#REF!,CD$1,#REF!)+SUMIF(#REF!,CD$1,#REF!)+SUMIF(#REF!,CD$1,#REF!)+SUMIF(#REF!,CD$1,#REF!)+SUMIF(#REF!,CD$1,#REF!) -> #REF! | CE9: =SUMIF(#REF!,CE$1,#REF!)+SUMIF(#REF!,CE$1,#REF!)+SUMIF(#REF!,CE$1,#REF!)+SUMIF(#REF!,CE$1,#REF!)+SUMIF(#REF!,CE$1,#REF!)+SUMIF(#REF!,CE$1,#REF!)+SUMIF(#REF!,CE$1,#REF!)+SUMIF(#REF!,CE$1,#REF!)+SUMIF(#REF!,CE$1,#REF!)+SUMIF(#REF!,CE$1,#REF!)+SUMIF(#REF!,CE$1,#REF!) -> #REF! | CF9: =SUMIF(#REF!,CF$1,#REF!)+SUMIF(#REF!,CF$1,#REF!)+SUMIF(#REF!,CF$1,#REF!)+SUMIF(#REF!,CF$1,#REF!)+SUMIF(#REF!,CF$1,#REF!)+SUMIF(#REF!,CF$1,#REF!)+SUMIF(#REF!,CF$1,#REF!)+SUMIF(#REF!,CF$1,#REF!)+SUMIF(#REF!,CF$1,#REF!)+SUMIF(#REF!,CF$1,#REF!)+SUMIF(#REF!,CF$1,#REF!) -> #REF! | ... CY9: =SUMIF(#REF!,CY$1,#REF!)+SUMIF(#REF!,CY$1,#REF!)+SUMIF(#REF!,CY$1,#REF!)+SUMIF(#REF!,CY$1,#REF!)+SUMIF(#REF!,CY$1,#REF!)+SUMIF(#REF!,CY$1,#REF!)+SUMIF(#REF!,CY$1,#REF!)+SUMIF(#REF!,CY$1,#REF!)+SUMIF(#REF!,CY$1,#REF!)+SUMIF(#REF!,CY$1,#REF!)+SUMIF(#REF!,CY$1,#REF!) -> #REF! | DC9: =C9&E9 | DD9: =IF($DC9="",0,IF(COUNTIF($DC$2:$DC8,$DC9)=0,1,0)) -> 0
A10: 9 | B10: MME | AB10: AURAY | AC10: N. IV (bac) | AD10: =IF($AC10="","",IF($AC10="À l'étranger","À l'étranger",IF($AC10="N. VI et Vbis (sans diplôme validé)",2,IF($AC10="N. V (CAP / BEP)",3,IF($AC10="N. IV (bac)",4,IF($AC10="N. III (bac + 2)",5,IF($AC10="N. II (bac + 4 et bac +3)",6,"7/8"))))))) -> 4 | AE10: BAC | AF10: 2017 | AG10: Terminale | AH10: 2017 | AI10: Employés | AJ10: 2019 | AK10: CDD | AL10: 18 | AM10: BAC PRO | AN10: 2017 | AO10: ML | AP10: 43503 | AQ10: 43601 | AS10: AREF | AT10: 220 | AU10: 210 | AV10: 21 | AW10: 0 | AX10: 14 | AY10: 56 | AZ10: 21 | BA10: 59 | BB10: 21 | BC10: 0 | BI10: =SUM(BL10:BX10)+CY10 -> #REF! | BJ10: =#REF! -> #REF! | BK10: =#REF! -> #REF! | BL10: =BY10+CL10 -> #REF! | BM10: =BZ10+CM10 -> #REF! | BN10: =CA10+CN10 -> #REF! | BO10: =CB10+CO10 -> #REF! | BP10: =CC10+CP10 -> #REF! | BQ10: =CD10+CQ10 -> #REF! | BR10: =CE10+CR10 -> #REF! | BS10: =CF10+CS10 -> #REF! | ... BX10: =CK10+CX10 -> #REF! | BY10: =SUMIF(#REF!,BY$1,#REF!)+SUMIF(#REF!,BY$1,#REF!)+SUMIF(#REF!,BY$1,#REF!)+SUMIF(#REF!,BY$1,#REF!)+SUMIF(#REF!,BY$1,#REF!)+SUMIF(#REF!,BY$1,#REF!)+SUMIF(#REF!,BY$1,#REF!)+SUMIF(#REF!,BY$1,#REF!)+SUMIF(#REF!,BY$1,#REF!)+SUMIF(#REF!,BY$1,#REF!)+SUMIF(#REF!,BY$1,#REF!) -> #REF! | BZ10: =SUMIF(#REF!,BZ$1,#REF!)+SUMIF(#REF!,BZ$1,#REF!)+SUMIF(#REF!,BZ$1,#REF!)+SUMIF(#REF!,BZ$1,#REF!)+SUMIF(#REF!,BZ$1,#REF!)+SUMIF(#REF!,BZ$1,#REF!)+SUMIF(#REF!,BZ$1,#REF!)+SUMIF(#REF!,BZ$1,#REF!)+SUMIF(#REF!,BZ$1,#REF!)+SUMIF(#REF!,BZ$1,#REF!)+SUMIF(#REF!,BZ$1,#REF!) -> #REF! | CA10: =SUMIF(#REF!,CA$1,#REF!)+SUMIF(#REF!,CA$1,#REF!)+SUMIF(#REF!,CA$1,#REF!)+SUMIF(#REF!,CA$1,#REF!)+SUMIF(#REF!,CA$1,#REF!)+SUMIF(#REF!,CA$1,#REF!)+SUMIF(#REF!,CA$1,#REF!)+SUMIF(#REF!,CA$1,#REF!)+SUMIF(#REF!,CA$1,#REF!)+SUMIF(#REF!,CA$1,#REF!)+SUMIF(#REF!,CA$1,#REF!) -> #REF! | CB10: =SUMIF(#REF!,CB$1,#REF!)+SUMIF(#REF!,CB$1,#REF!)+SUMIF(#REF!,CB$1,#REF!)+SUMIF(#REF!,CB$1,#REF!)+SUMIF(#REF!,CB$1,#REF!)+SUMIF(#REF!,CB$1,#REF!)+SUMIF(#REF!,CB$1,#REF!)+SUMIF(#REF!,CB$1,#REF!)+SUMIF(#REF!,CB$1,#REF!)+SUMIF(#REF!,CB$1,#REF!)+SUMIF(#REF!,CB$1,#REF!) -> #REF! | CC10: =SUMIF(#REF!,CC$1,#REF!)+SUMIF(#REF!,CC$1,#REF!)+SUMIF(#REF!,CC$1,#REF!)+SUMIF(#REF!,CC$1,#REF!)+SUMIF(#REF!,CC$1,#REF!)+SUMIF(#REF!,CC$1,#REF!)+SUMIF(#REF!,CC$1,#REF!)+SUMIF(#REF!,CC$1,#REF!)+SUMIF(#REF!,CC$1,#REF!)+SUMIF(#REF!,CC$1,#REF!)+SUMIF(#REF!,CC$1,#REF!) -> #REF! | CD10: =SUMIF(#REF!,CD$1,#REF!)+SUMIF(#REF!,CD$1,#REF!)+SUMIF(#REF!,CD$1,#REF!)+SUMIF(#REF!,CD$1,#REF!)+SUMIF(#REF!,CD$1,#REF!)+SUMIF(#REF!,CD$1,#REF!)+SUMIF(#REF!,CD$1,#REF!)+SUMIF(#REF!,CD$1,#REF!)+SUMIF(#REF!,CD$1,#REF!)+SUMIF(#REF!,CD$1,#REF!)+SUMIF(#REF!,CD$1,#REF!) -> #REF! | CE10: =SUMIF(#REF!,CE$1,#REF!)+SUMIF(#REF!,CE$1,#REF!)+SUMIF(#REF!,CE$1,#REF!)+SUMIF(#REF!,CE$1,#REF!)+SUMIF(#REF!,CE$1,#REF!)+SUMIF(#REF!,CE$1,#REF!)+SUMIF(#REF!,CE$1,#REF!)+SUMIF(#REF!,CE$1,#REF!)+SUMIF(#REF!,CE$1,#REF!)+SUMIF(#REF!,CE$1,#REF!)+SUMIF(#REF!,CE$1,#REF!) -> #REF! | CF10: =SUMIF(#REF!,CF$1,#REF!)+SUMIF(#REF!,CF$1,#REF!)+SUMIF(#REF!,CF$1,#REF!)+SUMIF(#REF!,CF$1,#REF!)+SUMIF(#REF!,CF$1,#REF!)+SUMIF(#REF!,CF$1,#REF!)+SUMIF(#REF!,CF$1,#REF!)+SUMIF(#REF!,CF$1,#REF!)+SUMIF(#REF!,CF$1,#REF!)+SUMIF(#REF!,CF$1,#REF!)+SUMIF(#REF!,CF$1,#REF!) -> #REF! | ... CY10: =SUMIF(#REF!,CY$1,#REF!)+SUMIF(#REF!,CY$1,#REF!)+SUMIF(#REF!,CY$1,#REF!)+SUMIF(#REF!,CY$1,#REF!)+SUMIF(#REF!,CY$1,#REF!)+SUMIF(#REF!,CY$1,#REF!)+SUMIF(#REF!,CY$1,#REF!)+SUMIF(#REF!,CY$1,#REF!)+SUMIF(#REF!,CY$1,#REF!)+SUMIF(#REF!,CY$1,#REF!)+SUMIF(#REF!,CY$1,#REF!) -> #REF! | DC10: =C10&E10 | DD10: =IF($DC10="",0,IF(COUNTIF($DC$2:$DC9,$DC10)=0,1,0)) -> 0
A11: 10 | B11: MR | AB11: AURAY | AC11: N. II (bac + 4 et bac +3) | AD11: =IF($AC11="","",IF($AC11="À l'étranger","À l'étranger",IF($AC11="N. VI et Vbis (sans diplôme validé)",2,IF($AC11="N. V (CAP / BEP)",3,IF($AC11="N. IV (bac)",4,IF($AC11="N. III (bac + 2)",5,IF($AC11="N. II (bac + 4 et bac +3)",6,"7/8"))))))) -> 6 | AE11: Maitrise, master 1 = bac + 4 | AF11: 2018 | AG11: Classes de 2e ou 3e cycle de l’enseignement supérieur | AH11: 2018 | AI11: Jamais travaillé | AM11: MASTER | AN11: 2018 | AO11: ML | AP11: 43503 | AQ11: 43602 | AS11: AF | AT11: 227 | AU11: 210 | AV11: 21 | AW11: 7 | AX11: 14 | AY11: 56 | AZ11: 21 | BA11: 59 | BB11: 21 | BC11: 0 | BI11: =SUM(BL11:BX11)+CY11 -> #REF! | BJ11: =#REF! -> #REF! | BK11: =#REF! -> #REF! | BL11: =BY11+CL11 -> #REF! | BM11: =BZ11+CM11 -> #REF! | BN11: =CA11+CN11 -> #REF! | BO11: =CB11+CO11 -> #REF! | BP11: =CC11+CP11 -> #REF! | BQ11: =CD11+CQ11 -> #REF! | BR11: =CE11+CR11 -> #REF! | BS11: =CF11+CS11 -> #REF! | ... BX11: =CK11+CX11 -> #REF! | BY11: =SUMIF(#REF!,BY$1,#REF!)+SUMIF(#REF!,BY$1,#REF!)+SUMIF(#REF!,BY$1,#REF!)+SUMIF(#REF!,BY$1,#REF!)+SUMIF(#REF!,BY$1,#REF!)+SUMIF(#REF!,BY$1,#REF!)+SUMIF(#REF!,BY$1,#REF!)+SUMIF(#REF!,BY$1,#REF!)+SUMIF(#REF!,BY$1,#REF!)+SUMIF(#REF!,BY$1,#REF!)+SUMIF(#REF!,BY$1,#REF!) -> #REF! | BZ11: =SUMIF(#REF!,BZ$1,#REF!)+SUMIF(#REF!,BZ$1,#REF!)+SUMIF(#REF!,BZ$1,#REF!)+SUMIF(#REF!,BZ$1,#REF!)+SUMIF(#REF!,BZ$1,#REF!)+SUMIF(#REF!,BZ$1,#REF!)+SUMIF(#REF!,BZ$1,#REF!)+SUMIF(#REF!,BZ$1,#REF!)+SUMIF(#REF!,BZ$1,#REF!)+SUMIF(#REF!,BZ$1,#REF!)+SUMIF(#REF!,BZ$1,#REF!) -> #REF! | CA11: =SUMIF(#REF!,CA$1,#REF!)+SUMIF(#REF!,CA$1,#REF!)+SUMIF(#REF!,CA$1,#REF!)+SUMIF(#REF!,CA$1,#REF!)+SUMIF(#REF!,CA$1,#REF!)+SUMIF(#REF!,CA$1,#REF!)+SUMIF(#REF!,CA$1,#REF!)+SUMIF(#REF!,CA$1,#REF!)+SUMIF(#REF!,CA$1,#REF!)+SUMIF(#REF!,CA$1,#REF!)+SUMIF(#REF!,CA$1,#REF!) -> #REF! | CB11: =SUMIF(#REF!,CB$1,#REF!)+SUMIF(#REF!,CB$1,#REF!)+SUMIF(#REF!,CB$1,#REF!)+SUMIF(#REF!,CB$1,#REF!)+SUMIF(#REF!,CB$1,#REF!)+SUMIF(#REF!,CB$1,#REF!)+SUMIF(#REF!,CB$1,#REF!)+SUMIF(#REF!,CB$1,#REF!)+SUMIF(#REF!,CB$1,#REF!)+SUMIF(#REF!,CB$1,#REF!)+SUMIF(#REF!,CB$1,#REF!) -> #REF! | CC11: =SUMIF(#REF!,CC$1,#REF!)+SUMIF(#REF!,CC$1,#REF!)+SUMIF(#REF!,CC$1,#REF!)+SUMIF(#REF!,CC$1,#REF!)+SUMIF(#REF!,CC$1,#REF!)+SUMIF(#REF!,CC$1,#REF!)+SUMIF(#REF!,CC$1,#REF!)+SUMIF(#REF!,CC$1,#REF!)+SUMIF(#REF!,CC$1,#REF!)+SUMIF(#REF!,CC$1,#REF!)+SUMIF(#REF!,CC$1,#REF!) -> #REF! | CD11: =SUMIF(#REF!,CD$1,#REF!)+SUMIF(#REF!,CD$1,#REF!)+SUMIF(#REF!,CD$1,#REF!)+SUMIF(#REF!,CD$1,#REF!)+SUMIF(#REF!,CD$1,#REF!)+SUMIF(#REF!,CD$1,#REF!)+SUMIF(#REF!,CD$1,#REF!)+SUMIF(#REF!,CD$1,#REF!)+SUMIF(#REF!,CD$1,#REF!)+SUMIF(#REF!,CD$1,#REF!)+SUMIF(#REF!,CD$1,#REF!) -> #REF! | CE11: =SUMIF(#REF!,CE$1,#REF!)+SUMIF(#REF!,CE$1,#REF!)+SUMIF(#REF!,CE$1,#REF!)+SUMIF(#REF!,CE$1,#REF!)+SUMIF(#REF!,CE$1,#REF!)+SUMIF(#REF!,CE$1,#REF!)+SUMIF(#REF!,CE$1,#REF!)+SUMIF(#REF!,CE$1,#REF!)+SUMIF(#REF!,CE$1,#REF!)+SUMIF(#REF!,CE$1,#REF!)+SUMIF(#REF!,CE$1,#REF!) -> #REF! | CF11: =SUMIF(#REF!,CF$1,#REF!)+SUMIF(#REF!,CF$1,#REF!)+SUMIF(#REF!,CF$1,#REF!)+SUMIF(#REF!,CF$1,#REF!)+SUMIF(#REF!,CF$1,#REF!)+SUMIF(#REF!,CF$1,#REF!)+SUMIF(#REF!,CF$1,#REF!)+SUMIF(#REF!,CF$1,#REF!)+SUMIF(#REF!,CF$1,#REF!)+SUMIF(#REF!,CF$1,#REF!)+SUMIF(#REF!,CF$1,#REF!) -> #REF! | ... CY11: =SUMIF(#REF!,CY$1,#REF!)+SUMIF(#REF!,CY$1,#REF!)+SUMIF(#REF!,CY$1,#REF!)+SUMIF(#REF!,CY$1,#REF!)+SUMIF(#REF!,CY$1,#REF!)+SUMIF(#REF!,CY$1,#REF!)+SUMIF(#REF!,CY$1,#REF!)+SUMIF(#REF!,CY$1,#REF!)+SUMIF(#REF!,CY$1,#REF!)+SUMIF(#REF!,CY$1,#REF!)+SUMIF(#REF!,CY$1,#REF!) -> #REF! | DC11: =C11&E11 | DD11: =IF($DC11="",0,IF(COUNTIF($DC$2:$DC10,$DC11)=0,1,0)) -> 0
A12: 11 | B12: MME | AB12: AURAY | AC12: N. III (bac + 2) | AD12: =IF($AC12="","",IF($AC12="À l'étranger","À l'étranger",IF($AC12="N. VI et Vbis (sans diplôme validé)",2,IF($AC12="N. V (CAP / BEP)",3,IF($AC12="N. IV (bac)",4,IF($AC12="N. III (bac + 2)",5,IF($AC12="N. II (bac + 4 et bac +3)",6,"7/8"))))))) -> 5 | AE12: DEUG / BTS / DUT / DEUST = bac + 2 | AF12: 2014 | AG12: 1ère ou 2ème année du 1er cycle enseignement supérieur, formations sanitaires et sociales | AH12: 2018 | AI12: Employés | AJ12: 2018 | AK12: CDI | AL12: 34 | AM12: DUT | AN12: 2018 | AO12: ML | AP12: 43503 | AQ12: 43616 | AS12: AF | AT12: 226 | AU12: 210 | AV12: 21 | AW12: 0 | AX12: 14 | AY12: 56 | AZ12: 21 | BA12: 59 | BB12: 21 | BC12: 0 | BD12: 102 | BI12: =SUM(BL12:BX12)+CY12 -> #REF! | BJ12: =#REF! -> #REF! | BK12: =#REF! -> #REF! | BL12: =BY12+CL12 -> #REF! | BM12: =BZ12+CM12 -> #REF! | BN12: =CA12+CN12 -> #REF! | BO12: =CB12+CO12 -> #REF! | BP12: =CC12+CP12 -> #REF! | BQ12: =CD12+CQ12 -> #REF! | BR12: =CE12+CR12 -> #REF! | BS12: =CF12+CS12 -> #REF! | ... BX12: =CK12+CX12 -> #REF! | BY12: =SUMIF(#REF!,BY$1,#REF!)+SUMIF(#REF!,BY$1,#REF!)+SUMIF(#REF!,BY$1,#REF!)+SUMIF(#REF!,BY$1,#REF!)+SUMIF(#REF!,BY$1,#REF!)+SUMIF(#REF!,BY$1,#REF!)+SUMIF(#REF!,BY$1,#REF!)+SUMIF(#REF!,BY$1,#REF!)+SUMIF(#REF!,BY$1,#REF!)+SUMIF(#REF!,BY$1,#REF!)+SUMIF(#REF!,BY$1,#REF!) -> #REF! | BZ12: =SUMIF(#REF!,BZ$1,#REF!)+SUMIF(#REF!,BZ$1,#REF!)+SUMIF(#REF!,BZ$1,#REF!)+SUMIF(#REF!,BZ$1,#REF!)+SUMIF(#REF!,BZ$1,#REF!)+SUMIF(#REF!,BZ$1,#REF!)+SUMIF(#REF!,BZ$1,#REF!)+SUMIF(#REF!,BZ$1,#REF!)+SUMIF(#REF!,BZ$1,#REF!)+SUMIF(#REF!,BZ$1,#REF!)+SUMIF(#REF!,BZ$1,#REF!) -> #REF! | CA12: =SUMIF(#REF!,CA$1,#REF!)+SUMIF(#REF!,CA$1,#REF!)+SUMIF(#REF!,CA$1,#REF!)+SUMIF(#REF!,CA$1,#REF!)+SUMIF(#REF!,CA$1,#REF!)+SUMIF(#REF!,CA$1,#REF!)+SUMIF(#REF!,CA$1,#REF!)+SUMIF(#REF!,CA$1,#REF!)+SUMIF(#REF!,CA$1,#REF!)+SUMIF(#REF!,CA$1,#REF!)+SUMIF(#REF!,CA$1,#REF!) -> #REF! | CB12: =SUMIF(#REF!,CB$1,#REF!)+SUMIF(#REF!,CB$1,#REF!)+SUMIF(#REF!,CB$1,#REF!)+SUMIF(#REF!,CB$1,#REF!)+SUMIF(#REF!,CB$1,#REF!)+SUMIF(#REF!,CB$1,#REF!)+SUMIF(#REF!,CB$1,#REF!)+SUMIF(#REF!,CB$1,#REF!)+SUMIF(#REF!,CB$1,#REF!)+SUMIF(#REF!,CB$1,#REF!)+SUMIF(#REF!,CB$1,#REF!) -> #REF! | CC12: =SUMIF(#REF!,CC$1,#REF!)+SUMIF(#REF!,CC$1,#REF!)+SUMIF(#REF!,CC$1,#REF!)+SUMIF(#REF!,CC$1,#REF!)+SUMIF(#REF!,CC$1,#REF!)+SUMIF(#REF!,CC$1,#REF!)+SUMIF(#REF!,CC$1,#REF!)+SUMIF(#REF!,CC$1,#REF!)+SUMIF(#REF!,CC$1,#REF!)+SUMIF(#REF!,CC$1,#REF!)+SUMIF(#REF!,CC$1,#REF!) -> #REF! | CD12: =SUMIF(#REF!,CD$1,#REF!)+SUMIF(#REF!,CD$1,#REF!)+SUMIF(#REF!,CD$1,#REF!)+SUMIF(#REF!,CD$1,#REF!)+SUMIF(#REF!,CD$1,#REF!)+SUMIF(#REF!,CD$1,#REF!)+SUMIF(#REF!,CD$1,#REF!)+SUMIF(#REF!,CD$1,#REF!)+SUMIF(#REF!,CD$1,#REF!)+SUMIF(#REF!,CD$1,#REF!)+SUMIF(#REF!,CD$1,#REF!) -> #REF! | CE12: =SUMIF(#REF!,CE$1,#REF!)+SUMIF(#REF!,CE$1,#REF!)+SUMIF(#REF!,CE$1,#REF!)+SUMIF(#REF!,CE$1,#REF!)+SUMIF(#REF!,CE$1,#REF!)+SUMIF(#REF!,CE$1,#REF!)+SUMIF(#REF!,CE$1,#REF!)+SUMIF(#REF!,CE$1,#REF!)+SUMIF(#REF!,CE$1,#REF!)+SUMIF(#REF!,CE$1,#REF!)+SUMIF(#REF!,CE$1,#REF!) -> #REF! | CF12: =SUMIF(#REF!,CF$1,#REF!)+SUMIF(#REF!,CF$1,#REF!)+SUMIF(#REF!,CF$1,#REF!)+SUMIF(#REF!,CF$1,#REF!)+SUMIF(#REF!,CF$1,#REF!)+SUMIF(#REF!,CF$1,#REF!)+SUMIF(#REF!,CF$1,#REF!)+SUMIF(#REF!,CF$1,#REF!)+SUMIF(#REF!,CF$1,#REF!)+SUMIF(#REF!,CF$1,#REF!)+SUMIF(#REF!,CF$1,#REF!) -> #REF! | ... CY12: =SUMIF(#REF!,CY$1,#REF!)+SUMIF(#REF!,CY$1,#REF!)+SUMIF(#REF!,CY$1,#REF!)+SUMIF(#REF!,CY$1,#REF!)+SUMIF(#REF!,CY$1,#REF!)+SUMIF(#REF!,CY$1,#REF!)+SUMIF(#REF!,CY$1,#REF!)+SUMIF(#REF!,CY$1,#REF!)+SUMIF(#REF!,CY$1,#REF!)+SUMIF(#REF!,CY$1,#REF!)+SUMIF(#REF!,CY$1,#REF!) -> #REF! | DC12: =C12&E12 | DD12: =IF($DC12="",0,IF(COUNTIF($DC$2:$DC11,$DC12)=0,1,0)) -> 0
A13: 12 | B13: MME | AB13: AURAY | AC13: N. IV (bac) | AD13: =IF($AC13="","",IF($AC13="À l'étranger","À l'étranger",IF($AC13="N. VI et Vbis (sans diplôme validé)",2,IF($AC13="N. V (CAP / BEP)",3,IF($AC13="N. IV (bac)",4,IF($AC13="N. III (bac + 2)",5,IF($AC13="N. II (bac + 4 et bac +3)",6,"7/8"))))))) -> 4 | AE13: BAC | AF13: 2016 | AG13: Terminale | AH13: 2018 | AI13: Employés | AJ13: 01/10/20190 | AK13: CDI | AL13: 39 | AM13: BTS | AN13: 2018 | AO13: ML | AP13: 43503 | AQ13: 43615 | AR13: 43563 | AS13: AF | AT13: 226 | AU13: 210 | AV13: 21 | AW13: 0 | AX13: 14 | AY13: 56 | AZ13: 21 | BA13: 59 | BB13: 21 | BC13: 0 | BD13: 102 | BI13: =SUM(BL13:BX13)+CY13 -> #REF! | BJ13: =#REF! -> #REF! | BK13: =#REF! -> #REF! | BL13: =BY13+CL13 -> #REF! | BM13: =BZ13+CM13 -> #REF! | BN13: =CA13+CN13 -> #REF! | BO13: =CB13+CO13 -> #REF! | BP13: =CC13+CP13 -> #REF! | BQ13: =CD13+CQ13 -> #REF! | BR13: =CE13+CR13 -> #REF! | BS13: =CF13+CS13 -> #REF! | ... BX13: =CK13+CX13 -> #REF! | BY13: =SUMIF(#REF!,BY$1,#REF!)+SUMIF(#REF!,BY$1,#REF!)+SUMIF(#REF!,BY$1,#REF!)+SUMIF(#REF!,BY$1,#REF!)+SUMIF(#REF!,BY$1,#REF!)+SUMIF(#REF!,BY$1,#REF!)+SUMIF(#REF!,BY$1,#REF!)+SUMIF(#REF!,BY$1,#REF!)+SUMIF(#REF!,BY$1,#REF!)+SUMIF(#REF!,BY$1,#REF!)+SUMIF(#REF!,BY$1,#REF!) -> #REF! | BZ13: =SUMIF(#REF!,BZ$1,#REF!)+SUMIF(#REF!,BZ$1,#REF!)+SUMIF(#REF!,BZ$1,#REF!)+SUMIF(#REF!,BZ$1,#REF!)+SUMIF(#REF!,BZ$1,#REF!)+SUMIF(#REF!,BZ$1,#REF!)+SUMIF(#REF!,BZ$1,#REF!)+SUMIF(#REF!,BZ$1,#REF!)+SUMIF(#REF!,BZ$1,#REF!)+SUMIF(#REF!,BZ$1,#REF!)+SUMIF(#REF!,BZ$1,#REF!) -> #REF! | CA13: =SUMIF(#REF!,CA$1,#REF!)+SUMIF(#REF!,CA$1,#REF!)+SUMIF(#REF!,CA$1,#REF!)+SUMIF(#REF!,CA$1,#REF!)+SUMIF(#REF!,CA$1,#REF!)+SUMIF(#REF!,CA$1,#REF!)+SUMIF(#REF!,CA$1,#REF!)+SUMIF(#REF!,CA$1,#REF!)+SUMIF(#REF!,CA$1,#REF!)+SUMIF(#REF!,CA$1,#REF!)+SUMIF(#REF!,CA$1,#REF!) -> #REF! | CB13: =SUMIF(#REF!,CB$1,#REF!)+SUMIF(#REF!,CB$1,#REF!)+SUMIF(#REF!,CB$1,#REF!)+SUMIF(#REF!,CB$1,#REF!)+SUMIF(#REF!,CB$1,#REF!)+SUMIF(#REF!,CB$1,#REF!)+SUMIF(#REF!,CB$1,#REF!)+SUMIF(#REF!,CB$1,#REF!)+SUMIF(#REF!,CB$1,#REF!)+SUMIF(#REF!,CB$1,#REF!)+SUMIF(#REF!,CB$1,#REF!) -> #REF! | CC13: =SUMIF(#REF!,CC$1,#REF!)+SUMIF(#REF!,CC$1,#REF!)+SUMIF(#REF!,CC$1,#REF!)+SUMIF(#REF!,CC$1,#REF!)+SUMIF(#REF!,CC$1,#REF!)+SUMIF(#REF!,CC$1,#REF!)+SUMIF(#REF!,CC$1,#REF!)+SUMIF(#REF!,CC$1,#REF!)+SUMIF(#REF!,CC$1,#REF!)+SUMIF(#REF!,CC$1,#REF!)+SUMIF(#REF!,CC$1,#REF!) -> #REF! | CD13: =SUMIF(#REF!,CD$1,#REF!)+SUMIF(#REF!,CD$1,#REF!)+SUMIF(#REF!,CD$1,#REF!)+SUMIF(#REF!,CD$1,#REF!)+SUMIF(#REF!,CD$1,#REF!)+SUMIF(#REF!,CD$1,#REF!)+SUMIF(#REF!,CD$1,#REF!)+SUMIF(#REF!,CD$1,#REF!)+SUMIF(#REF!,CD$1,#REF!)+SUMIF(#REF!,CD$1,#REF!)+SUMIF(#REF!,CD$1,#REF!) -> #REF! | CE13: =SUMIF(#REF!,CE$1,#REF!)+SUMIF(#REF!,CE$1,#REF!)+SUMIF(#REF!,CE$1,#REF!)+SUMIF(#REF!,CE$1,#REF!)+SUMIF(#REF!,CE$1,#REF!)+SUMIF(#REF!,CE$1,#REF!)+SUMIF(#REF!,CE$1,#REF!)+SUMIF(#REF!,CE$1,#REF!)+SUMIF(#REF!,CE$1,#REF!)+SUMIF(#REF!,CE$1,#REF!)+SUMIF(#REF!,CE$1,#REF!) -> #REF! | CF13: =SUMIF(#REF!,CF$1,#REF!)+SUMIF(#REF!,CF$1,#REF!)+SUMIF(#REF!,CF$1,#REF!)+SUMIF(#REF!,CF$1,#REF!)+SUMIF(#REF!,CF$1,#REF!)+SUMIF(#REF!,CF$1,#REF!)+SUMIF(#REF!,CF$1,#REF!)+SUMIF(#REF!,CF$1,#REF!)+SUMIF(#REF!,CF$1,#REF!)+SUMIF(#REF!,CF$1,#REF!)+SUMIF(#REF!,CF$1,#REF!) -> #REF! | ... CY13: =SUMIF(#REF!,CY$1,#REF!)+SUMIF(#REF!,CY$1,#REF!)+SUMIF(#REF!,CY$1,#REF!)+SUMIF(#REF!,CY$1,#REF!)+SUMIF(#REF!,CY$1,#REF!)+SUMIF(#REF!,CY$1,#REF!)+SUMIF(#REF!,CY$1,#REF!)+SUMIF(#REF!,CY$1,#REF!)+SUMIF(#REF!,CY$1,#REF!)+SUMIF(#REF!,CY$1,#REF!)+SUMIF(#REF!,CY$1,#REF!) -> #REF! | DC13: =C13&E13 | DD13: =IF($DC13="",0,IF(COUNTIF($DC$2:$DC12,$DC13)=0,1,0)) -> 0 | DG13: 43564 | DH13: 43735
A14: 13 | B14: MME | AB14: AURAY | AC14: N. V (CAP / BEP) | AD14: =IF($AC14="","",IF($AC14="À l'étranger","À l'étranger",IF($AC14="N. VI et Vbis (sans diplôme validé)",2,IF($AC14="N. V (CAP / BEP)",3,IF($AC14="N. IV (bac)",4,IF($AC14="N. III (bac + 2)",5,IF($AC14="N. II (bac + 4 et bac +3)",6,"7/8"))))))) -> 3 | AE14: CAP/BEP | AF14: 1980 | AG14: Niveau V ( CAP/BEP) | AH14: 1980 | AI14: Ouvriers | AJ14: 2018 | AK14: INTERIM | AL14: 158 | AM14: CAP | AN14: 1980 | AO14: ML | AP14: 43503 | AQ14: 43602 | AS14: AF | AT14: 227 | AU14: 210 | AV14: 21 | AW14: 0 | AX14: 14 | AY14: 56 | AZ14: 21 | BA14: 59 | BB14: 21 | BC14: 7 | BI14: =SUM(BL14:BX14)+CY14 -> #REF! | BJ14: =#REF! -> #REF! | BK14: =#REF! -> #REF! | BL14: =BY14+CL14 -> #REF! | BM14: =BZ14+CM14 -> #REF! | BN14: =CA14+CN14 -> #REF! | BO14: =CB14+CO14 -> #REF! | BP14: =CC14+CP14 -> #REF! | BQ14: =CD14+CQ14 -> #REF! | BR14: =CE14+CR14 -> #REF! | BS14: =CF14+CS14 -> #REF! | ... BX14: =CK14+CX14 -> #REF! | BY14: =SUMIF(#REF!,BY$1,#REF!)+SUMIF(#REF!,BY$1,#REF!)+SUMIF(#REF!,BY$1,#REF!)+SUMIF(#REF!,BY$1,#REF!)+SUMIF(#REF!,BY$1,#REF!)+SUMIF(#REF!,BY$1,#REF!)+SUMIF(#REF!,BY$1,#REF!)+SUMIF(#REF!,BY$1,#REF!)+SUMIF(#REF!,BY$1,#REF!)+SUMIF(#REF!,BY$1,#REF!)+SUMIF(#REF!,BY$1,#REF!) -> #REF! | BZ14: =SUMIF(#REF!,BZ$1,#REF!)+SUMIF(#REF!,BZ$1,#REF!)+SUMIF(#REF!,BZ$1,#REF!)+SUMIF(#REF!,BZ$1,#REF!)+SUMIF(#REF!,BZ$1,#REF!)+SUMIF(#REF!,BZ$1,#REF!)+SUMIF(#REF!,BZ$1,#REF!)+SUMIF(#REF!,BZ$1,#REF!)+SUMIF(#REF!,BZ$1,#REF!)+SUMIF(#REF!,BZ$1,#REF!)+SUMIF(#REF!,BZ$1,#REF!) -> #REF! | CA14: =SUMIF(#REF!,CA$1,#REF!)+SUMIF(#REF!,CA$1,#REF!)+SUMIF(#REF!,CA$1,#REF!)+SUMIF(#REF!,CA$1,#REF!)+SUMIF(#REF!,CA$1,#REF!)+SUMIF(#REF!,CA$1,#REF!)+SUMIF(#REF!,CA$1,#REF!)+SUMIF(#REF!,CA$1,#REF!)+SUMIF(#REF!,CA$1,#REF!)+SUMIF(#REF!,CA$1,#REF!)+SUMIF(#REF!,CA$1,#REF!) -> #REF! | CB14: =SUMIF(#REF!,CB$1,#REF!)+SUMIF(#REF!,CB$1,#REF!)+SUMIF(#REF!,CB$1,#REF!)+SUMIF(#REF!,CB$1,#REF!)+SUMIF(#REF!,CB$1,#REF!)+SUMIF(#REF!,CB$1,#REF!)+SUMIF(#REF!,CB$1,#REF!)+SUMIF(#REF!,CB$1,#REF!)+SUMIF(#REF!,CB$1,#REF!)+SUMIF(#REF!,CB$1,#REF!)+SUMIF(#REF!,CB$1,#REF!) -> #REF! | CC14: =SUMIF(#REF!,CC$1,#REF!)+SUMIF(#REF!,CC$1,#REF!)+SUMIF(#REF!,CC$1,#REF!)+SUMIF(#REF!,CC$1,#REF!)+SUMIF(#REF!,CC$1,#REF!)+SUMIF(#REF!,CC$1,#REF!)+SUMIF(#REF!,CC$1,#REF!)+SUMIF(#REF!,CC$1,#REF!)+SUMIF(#REF!,CC$1,#REF!)+SUMIF(#REF!,CC$1,#REF!)+SUMIF(#REF!,CC$1,#REF!) -> #REF! | CD14: =SUMIF(#REF!,CD$1,#REF!)+SUMIF(#REF!,CD$1,#REF!)+SUMIF(#REF!,CD$1,#REF!)+SUMIF(#REF!,CD$1,#REF!)+SUMIF(#REF!,CD$1,#REF!)+SUMIF(#REF!,CD$1,#REF!)+SUMIF(#REF!,CD$1,#REF!)+SUMIF(#REF!,CD$1,#REF!)+SUMIF(#REF!,CD$1,#REF!)+SUMIF(#REF!,CD$1,#REF!)+SUMIF(#REF!,CD$1,#REF!) -> #REF! | CE14: =SUMIF(#REF!,CE$1,#REF!)+SUMIF(#REF!,CE$1,#REF!)+SUMIF(#REF!,CE$1,#REF!)+SUMIF(#REF!,CE$1,#REF!)+SUMIF(#REF!,CE$1,#REF!)+SUMIF(#REF!,CE$1,#REF!)+SUMIF(#REF!,CE$1,#REF!)+SUMIF(#REF!,CE$1,#REF!)+SUMIF(#REF!,CE$1,#REF!)+SUMIF(#REF!,CE$1,#REF!)+SUMIF(#REF!,CE$1,#REF!) -> #REF! | CF14: =SUMIF(#REF!,CF$1,#REF!)+SUMIF(#REF!,CF$1,#REF!)+SUMIF(#REF!,CF$1,#REF!)+SUMIF(#REF!,CF$1,#REF!)+SUMIF(#REF!,CF$1,#REF!)+SUMIF(#REF!,CF$1,#REF!)+SUMIF(#REF!,CF$1,#REF!)+SUMIF(#REF!,CF$1,#REF!)+SUMIF(#REF!,CF$1,#REF!)+SUMIF(#REF!,CF$1,#REF!)+SUMIF(#REF!,CF$1,#REF!) -> #REF! | ... CY14: =SUMIF(#REF!,CY$1,#REF!)+SUMIF(#REF!,CY$1,#REF!)+SUMIF(#REF!,CY$1,#REF!)+SUMIF(#REF!,CY$1,#REF!)+SUMIF(#REF!,CY$1,#REF!)+SUMIF(#REF!,CY$1,#REF!)+SUMIF(#REF!,CY$1,#REF!)+SUMIF(#REF!,CY$1,#REF!)+SUMIF(#REF!,CY$1,#REF!)+SUMIF(#REF!,CY$1,#REF!)+SUMIF(#REF!,CY$1,#REF!) -> #REF! | DC14: =C14&E14 | DD14: =IF($DC14="",0,IF(COUNTIF($DC$2:$DC13,$DC14)=0,1,0)) -> 0
A15: 14 | B15: MME | AB15: AURAY | AC15: N. V (CAP / BEP) | AD15: =IF($AC15="","",IF($AC15="À l'étranger","À l'étranger",IF($AC15="N. VI et Vbis (sans diplôme validé)",2,IF($AC15="N. V (CAP / BEP)",3,IF($AC15="N. IV (bac)",4,IF($AC15="N. III (bac + 2)",5,IF($AC15="N. II (bac + 4 et bac +3)",6,"7/8"))))))) -> 3 | AE15: Aucun diplôme | AG15: 3e ou première année de CAP ou BEP | AH15: 2018 | AI15: Ouvriers | AJ15: 43415 | AK15: INTERIM | AL15: 5 | AM15: CAP | AN15: 2018 | AO15: ML | AP15: 43503 | AQ15: 43601 | AR15: 43567 | AS15: AREF | AT15: 220 | AU15: 210 | AV15: 21 | AW15: 0 | AX15: 14 | AY15: 56 | AZ15: 21 | BA15: 59 | BB15: 21 | BC15: 7 | BI15: =SUM(BL15:BX15)+CY15 -> #REF! | BJ15: =#REF! -> #REF! | BK15: =#REF! -> #REF! | BL15: =BY15+CL15 -> #REF! | BM15: =BZ15+CM15 -> #REF! | BN15: =CA15+CN15 -> #REF! | BO15: =CB15+CO15 -> #REF! | BP15: =CC15+CP15 -> #REF! | BQ15: =CD15+CQ15 -> #REF! | BR15: =CE15+CR15 -> #REF! | BS15: =CF15+CS15 -> #REF! | ... BX15: =CK15+CX15 -> #REF! | BY15: =SUMIF(#REF!,BY$1,#REF!)+SUMIF(#REF!,BY$1,#REF!)+SUMIF(#REF!,BY$1,#REF!)+SUMIF(#REF!,BY$1,#REF!)+SUMIF(#REF!,BY$1,#REF!)+SUMIF(#REF!,BY$1,#REF!)+SUMIF(#REF!,BY$1,#REF!)+SUMIF(#REF!,BY$1,#REF!)+SUMIF(#REF!,BY$1,#REF!)+SUMIF(#REF!,BY$1,#REF!)+SUMIF(#REF!,BY$1,#REF!) -> #REF! | BZ15: =SUMIF(#REF!,BZ$1,#REF!)+SUMIF(#REF!,BZ$1,#REF!)+SUMIF(#REF!,BZ$1,#REF!)+SUMIF(#REF!,BZ$1,#REF!)+SUMIF(#REF!,BZ$1,#REF!)+SUMIF(#REF!,BZ$1,#REF!)+SUMIF(#REF!,BZ$1,#REF!)+SUMIF(#REF!,BZ$1,#REF!)+SUMIF(#REF!,BZ$1,#REF!)+SUMIF(#REF!,BZ$1,#REF!)+SUMIF(#REF!,BZ$1,#REF!) -> #REF! | CA15: =SUMIF(#REF!,CA$1,#REF!)+SUMIF(#REF!,CA$1,#REF!)+SUMIF(#REF!,CA$1,#REF!)+SUMIF(#REF!,CA$1,#REF!)+SUMIF(#REF!,CA$1,#REF!)+SUMIF(#REF!,CA$1,#REF!)+SUMIF(#REF!,CA$1,#REF!)+SUMIF(#REF!,CA$1,#REF!)+SUMIF(#REF!,CA$1,#REF!)+SUMIF(#REF!,CA$1,#REF!)+SUMIF(#REF!,CA$1,#REF!) -> #REF! | CB15: =SUMIF(#REF!,CB$1,#REF!)+SUMIF(#REF!,CB$1,#REF!)+SUMIF(#REF!,CB$1,#REF!)+SUMIF(#REF!,CB$1,#REF!)+SUMIF(#REF!,CB$1,#REF!)+SUMIF(#REF!,CB$1,#REF!)+SUMIF(#REF!,CB$1,#REF!)+SUMIF(#REF!,CB$1,#REF!)+SUMIF(#REF!,CB$1,#REF!)+SUMIF(#REF!,CB$1,#REF!)+SUMIF(#REF!,CB$1,#REF!) -> #REF! | CC15: =SUMIF(#REF!,CC$1,#REF!)+SUMIF(#REF!,CC$1,#REF!)+SUMIF(#REF!,CC$1,#REF!)+SUMIF(#REF!,CC$1,#REF!)+SUMIF(#REF!,CC$1,#REF!)+SUMIF(#REF!,CC$1,#REF!)+SUMIF(#REF!,CC$1,#REF!)+SUMIF(#REF!,CC$1,#REF!)+SUMIF(#REF!,CC$1,#REF!)+SUMIF(#REF!,CC$1,#REF!)+SUMIF(#REF!,CC$1,#REF!) -> #REF! | CD15: =SUMIF(#REF!,CD$1,#REF!)+SUMIF(#REF!,CD$1,#REF!)+SUMIF(#REF!,CD$1,#REF!)+SUMIF(#REF!,CD$1,#REF!)+SUMIF(#REF!,CD$1,#REF!)+SUMIF(#REF!,CD$1,#REF!)+SUMIF(#REF!,CD$1,#REF!)+SUMIF(#REF!,CD$1,#REF!)+SUMIF(#REF!,CD$1,#REF!)+SUMIF(#REF!,CD$1,#REF!)+SUMIF(#REF!,CD$1,#REF!) -> #REF! | CE15: =SUMIF(#REF!,CE$1,#REF!)+SUMIF(#REF!,CE$1,#REF!)+SUMIF(#REF!,CE$1,#REF!)+SUMIF(#REF!,CE$1,#REF!)+SUMIF(#REF!,CE$1,#REF!)+SUMIF(#REF!,CE$1,#REF!)+SUMIF(#REF!,CE$1,#REF!)+SUMIF(#REF!,CE$1,#REF!)+SUMIF(#REF!,CE$1,#REF!)+SUMIF(#REF!,CE$1,#REF!)+SUMIF(#REF!,CE$1,#REF!) -> #REF! | CF15: =SUMIF(#REF!,CF$1,#REF!)+SUMIF(#REF!,CF$1,#REF!)+SUMIF(#REF!,CF$1,#REF!)+SUMIF(#REF!,CF$1,#REF!)+SUMIF(#REF!,CF$1,#REF!)+SUMIF(#REF!,CF$1,#REF!)+SUMIF(#REF!,CF$1,#REF!)+SUMIF(#REF!,CF$1,#REF!)+SUMIF(#REF!,CF$1,#REF!)+SUMIF(#REF!,CF$1,#REF!)+SUMIF(#REF!,CF$1,#REF!) -> #REF! | ... CY15: =SUMIF(#REF!,CY$1,#REF!)+SUMIF(#REF!,CY$1,#REF!)+SUMIF(#REF!,CY$1,#REF!)+SUMIF(#REF!,CY$1,#REF!)+SUMIF(#REF!,CY$1,#REF!)+SUMIF(#REF!,CY$1,#REF!)+SUMIF(#REF!,CY$1,#REF!)+SUMIF(#REF!,CY$1,#REF!)+SUMIF(#REF!,CY$1,#REF!)+SUMIF(#REF!,CY$1,#REF!)+SUMIF(#REF!,CY$1,#REF!) -> #REF! | DC15: =C15&E15 | DD15: =IF($DC15="",0,IF(COUNTIF($DC$2:$DC14,$DC15)=0,1,0)) -> 0
A16: 15 | B16: MME | AB16: AURAY | AC16: N. V (CAP / BEP) | AD16: =IF($AC16="","",IF($AC16="À l'étranger","À l'étranger",IF($AC16="N. VI et Vbis (sans diplôme validé)",2,IF($AC16="N. V (CAP / BEP)",3,IF($AC16="N. IV (bac)",4,IF($AC16="N. III (bac + 2)",5,IF($AC16="N. II (bac + 4 et bac +3)",6,"7/8"))))))) -> 3 | AE16: Brevet des collèges | AF16: 2007 | AG16: Terminale | AH16: 2011 | AI16: Employés | AJ16: 43373 | AK16: CDD | AL16: 9 | AM16: BAC PRO | AN16: 2011 | AO16: ML | AP16: 43521 | AQ16: 43621 | AR16: 43579 | AS16: AREF | AT16: 220 | AU16: 210 | AV16: 21 | AW16: 0 | AX16: 14 | AY16: 56 | AZ16: 21 | BA16: 59 | BB16: 21 | BC16: 0 | BI16: =SUM(BL16:BX16)+CY16 -> #REF! | BJ16: =#REF! -> #REF! | BK16: =#REF! -> #REF! | BL16: =BY16+CL16 -> #REF! | BM16: =BZ16+CM16 -> #REF! | BN16: =CA16+CN16 -> #REF! | BO16: =CB16+CO16 -> #REF! | BP16: =CC16+CP16 -> #REF! | BQ16: =CD16+CQ16 -> #REF! | BR16: =CE16+CR16 -> #REF! | BS16: =CF16+CS16 -> #REF! | ... BX16: =CK16+CX16 -> #REF! | BY16: =SUMIF(#REF!,BY$1,#REF!)+SUMIF(#REF!,BY$1,#REF!)+SUMIF(#REF!,BY$1,#REF!)+SUMIF(#REF!,BY$1,#REF!)+SUMIF(#REF!,BY$1,#REF!)+SUMIF(#REF!,BY$1,#REF!)+SUMIF(#REF!,BY$1,#REF!)+SUMIF(#REF!,BY$1,#REF!)+SUMIF(#REF!,BY$1,#REF!)+SUMIF(#REF!,BY$1,#REF!)+SUMIF(#REF!,BY$1,#REF!) -> #REF! | BZ16: =SUMIF(#REF!,BZ$1,#REF!)+SUMIF(#REF!,BZ$1,#REF!)+SUMIF(#REF!,BZ$1,#REF!)+SUMIF(#REF!,BZ$1,#REF!)+SUMIF(#REF!,BZ$1,#REF!)+SUMIF(#REF!,BZ$1,#REF!)+SUMIF(#REF!,BZ$1,#REF!)+SUMIF(#REF!,BZ$1,#REF!)+SUMIF(#REF!,BZ$1,#REF!)+SUMIF(#REF!,BZ$1,#REF!)+SUMIF(#REF!,BZ$1,#REF!) -> #REF! | CA16: =SUMIF(#REF!,CA$1,#REF!)+SUMIF(#REF!,CA$1,#REF!)+SUMIF(#REF!,CA$1,#REF!)+SUMIF(#REF!,CA$1,#REF!)+SUMIF(#REF!,CA$1,#REF!)+SUMIF(#REF!,CA$1,#REF!)+SUMIF(#REF!,CA$1,#REF!)+SUMIF(#REF!,CA$1,#REF!)+SUMIF(#REF!,CA$1,#REF!)+SUMIF(#REF!,CA$1,#REF!)+SUMIF(#REF!,CA$1,#REF!) -> #REF! | CB16: =SUMIF(#REF!,CB$1,#REF!)+SUMIF(#REF!,CB$1,#REF!)+SUMIF(#REF!,CB$1,#REF!)+SUMIF(#REF!,CB$1,#REF!)+SUMIF(#REF!,CB$1,#REF!)+SUMIF(#REF!,CB$1,#REF!)+SUMIF(#REF!,CB$1,#REF!)+SUMIF(#REF!,CB$1,#REF!)+SUMIF(#REF!,CB$1,#REF!)+SUMIF(#REF!,CB$1,#REF!)+SUMIF(#REF!,CB$1,#REF!) -> #REF! | CC16: =SUMIF(#REF!,CC$1,#REF!)+SUMIF(#REF!,CC$1,#REF!)+SUMIF(#REF!,CC$1,#REF!)+SUMIF(#REF!,CC$1,#REF!)+SUMIF(#REF!,CC$1,#REF!)+SUMIF(#REF!,CC$1,#REF!)+SUMIF(#REF!,CC$1,#REF!)+SUMIF(#REF!,CC$1,#REF!)+SUMIF(#REF!,CC$1,#REF!)+SUMIF(#REF!,CC$1,#REF!)+SUMIF(#REF!,CC$1,#REF!) -> #REF! | CD16: =SUMIF(#REF!,CD$1,#REF!)+SUMIF(#REF!,CD$1,#REF!)+SUMIF(#REF!,CD$1,#REF!)+SUMIF(#REF!,CD$1,#REF!)+SUMIF(#REF!,CD$1,#REF!)+SUMIF(#REF!,CD$1,#REF!)+SUMIF(#REF!,CD$1,#REF!)+SUMIF(#REF!,CD$1,#REF!)+SUMIF(#REF!,CD$1,#REF!)+SUMIF(#REF!,CD$1,#REF!)+SUMIF(#REF!,CD$1,#REF!) -> #REF! | CE16: =SUMIF(#REF!,CE$1,#REF!)+SUMIF(#REF!,CE$1,#REF!)+SUMIF(#REF!,CE$1,#REF!)+SUMIF(#REF!,CE$1,#REF!)+SUMIF(#REF!,CE$1,#REF!)+SUMIF(#REF!,CE$1,#REF!)+SUMIF(#REF!,CE$1,#REF!)+SUMIF(#REF!,CE$1,#REF!)+SUMIF(#REF!,CE$1,#REF!)+SUMIF(#REF!,CE$1,#REF!)+SUMIF(#REF!,CE$1,#REF!) -> #REF! | CF16: =SUMIF(#REF!,CF$1,#REF!)+SUMIF(#REF!,CF$1,#REF!)+SUMIF(#REF!,CF$1,#REF!)+SUMIF(#REF!,CF$1,#REF!)+SUMIF(#REF!,CF$1,#REF!)+SUMIF(#REF!,CF$1,#REF!)+SUMIF(#REF!,CF$1,#REF!)+SUMIF(#REF!,CF$1,#REF!)+SUMIF(#REF!,CF$1,#REF!)+SUMIF(#REF!,CF$1,#REF!)+SUMIF(#REF!,CF$1,#REF!) -> #REF! | ... CY16: =SUMIF(#REF!,CY$1,#REF!)+SUMIF(#REF!,CY$1,#REF!)+SUMIF(#REF!,CY$1,#REF!)+SUMIF(#REF!,CY$1,#REF!)+SUMIF(#REF!,CY$1,#REF!)+SUMIF(#REF!,CY$1,#REF!)+SUMIF(#REF!,CY$1,#REF!)+SUMIF(#REF!,CY$1,#REF!)+SUMIF(#REF!,CY$1,#REF!)+SUMIF(#REF!,CY$1,#REF!)+SUMIF(#REF!,CY$1,#REF!) -> #REF! | DC16: =C16&E16 | DD16: =IF($DC16="",0,IF(COUNTIF($DC$2:$DC15,$DC16)=0,1,0)) -> 0
A17: 16 | B17: MME | AB17: AURAY | AC17: N. IV (bac) | AD17: =IF($AC17="","",IF($AC17="À l'étranger","À l'étranger",IF($AC17="N. VI et Vbis (sans diplôme validé)",2,IF($AC17="N. V (CAP / BEP)",3,IF($AC17="N. IV (bac)",4,IF($AC17="N. III (bac + 2)",5,IF($AC17="N. II (bac + 4 et bac +3)",6,"7/8"))))))) -> 4 | AE17: BAC | AF17: 2014 | AG17: 1ère ou 2ème année du 1er cycle enseignement supérieur, formations sanitaires et sociales | AH17: 2015 | AI17: Employés | AJ17: 43461 | AK17: CDD | AL17: 5 | AM17: LICENCE | AN17: 2015 | AO17: ML | AP17: 43523 | AQ17: 43623 | AR17: 43556 | AS17: AF | AT17: 218 | AU17: 210 | AV17: 21 | AW17: 0 | AX17: 14 | AY17: 56 | AZ17: 21 | BA17: 59 | BB17: 21 | BC17: 0 | BI17: =SUM(BL17:BX17)+CY17 -> #REF! | BJ17: =#REF! -> #REF! | BK17: =#REF! -> #REF! | BL17: =BY17+CL17 -> #REF! | BM17: =BZ17+CM17 -> #REF! | BN17: =CA17+CN17 -> #REF! | BO17: =CB17+CO17 -> #REF! | BP17: =CC17+CP17 -> #REF! | BQ17: =CD17+CQ17 -> #REF! | BR17: =CE17+CR17 -> #REF! | BS17: =CF17+CS17 -> #REF! | ... BX17: =CK17+CX17 -> #REF! | BY17: =SUMIF(#REF!,BY$1,#REF!)+SUMIF(#REF!,BY$1,#REF!)+SUMIF(#REF!,BY$1,#REF!)+SUMIF(#REF!,BY$1,#REF!)+SUMIF(#REF!,BY$1,#REF!)+SUMIF(#REF!,BY$1,#REF!)+SUMIF(#REF!,BY$1,#REF!)+SUMIF(#REF!,BY$1,#REF!)+SUMIF(#REF!,BY$1,#REF!)+SUMIF(#REF!,BY$1,#REF!)+SUMIF(#REF!,BY$1,#REF!) -> #REF! | BZ17: =SUMIF(#REF!,BZ$1,#REF!)+SUMIF(#REF!,BZ$1,#REF!)+SUMIF(#REF!,BZ$1,#REF!)+SUMIF(#REF!,BZ$1,#REF!)+SUMIF(#REF!,BZ$1,#REF!)+SUMIF(#REF!,BZ$1,#REF!)+SUMIF(#REF!,BZ$1,#REF!)+SUMIF(#REF!,BZ$1,#REF!)+SUMIF(#REF!,BZ$1,#REF!)+SUMIF(#REF!,BZ$1,#REF!)+SUMIF(#REF!,BZ$1,#REF!) -> #REF! | CA17: =SUMIF(#REF!,CA$1,#REF!)+SUMIF(#REF!,CA$1,#REF!)+SUMIF(#REF!,CA$1,#REF!)+SUMIF(#REF!,CA$1,#REF!)+SUMIF(#REF!,CA$1,#REF!)+SUMIF(#REF!,CA$1,#REF!)+SUMIF(#REF!,CA$1,#REF!)+SUMIF(#REF!,CA$1,#REF!)+SUMIF(#REF!,CA$1,#REF!)+SUMIF(#REF!,CA$1,#REF!)+SUMIF(#REF!,CA$1,#REF!) -> #REF! | CB17: =SUMIF(#REF!,CB$1,#REF!)+SUMIF(#REF!,CB$1,#REF!)+SUMIF(#REF!,CB$1,#REF!)+SUMIF(#REF!,CB$1,#REF!)+SUMIF(#REF!,CB$1,#REF!)+SUMIF(#REF!,CB$1,#REF!)+SUMIF(#REF!,CB$1,#REF!)+SUMIF(#REF!,CB$1,#REF!)+SUMIF(#REF!,CB$1,#REF!)+SUMIF(#REF!,CB$1,#REF!)+SUMIF(#REF!,CB$1,#REF!) -> #REF! | CC17: =SUMIF(#REF!,CC$1,#REF!)+SUMIF(#REF!,CC$1,#REF!)+SUMIF(#REF!,CC$1,#REF!)+SUMIF(#REF!,CC$1,#REF!)+SUMIF(#REF!,CC$1,#REF!)+SUMIF(#REF!,CC$1,#REF!)+SUMIF(#REF!,CC$1,#REF!)+SUMIF(#REF!,CC$1,#REF!)+SUMIF(#REF!,CC$1,#REF!)+SUMIF(#REF!,CC$1,#REF!)+SUMIF(#REF!,CC$1,#REF!) -> #REF! | CD17: =SUMIF(#REF!,CD$1,#REF!)+SUMIF(#REF!,CD$1,#REF!)+SUMIF(#REF!,CD$1,#REF!)+SUMIF(#REF!,CD$1,#REF!)+SUMIF(#REF!,CD$1,#REF!)+SUMIF(#REF!,CD$1,#REF!)+SUMIF(#REF!,CD$1,#REF!)+SUMIF(#REF!,CD$1,#REF!)+SUMIF(#REF!,CD$1,#REF!)+SUMIF(#REF!,CD$1,#REF!)+SUMIF(#REF!,CD$1,#REF!) -> #REF! | CE17: =SUMIF(#REF!,CE$1,#REF!)+SUMIF(#REF!,CE$1,#REF!)+SUMIF(#REF!,CE$1,#REF!)+SUMIF(#REF!,CE$1,#REF!)+SUMIF(#REF!,CE$1,#REF!)+SUMIF(#REF!,CE$1,#REF!)+SUMIF(#REF!,CE$1,#REF!)+SUMIF(#REF!,CE$1,#REF!)+SUMIF(#REF!,CE$1,#REF!)+SUMIF(#REF!,CE$1,#REF!)+SUMIF(#REF!,CE$1,#REF!) -> #REF! | CF17: =SUMIF(#REF!,CF$1,#REF!)+SUMIF(#REF!,CF$1,#REF!)+SUMIF(#REF!,CF$1,#REF!)+SUMIF(#REF!,CF$1,#REF!)+SUMIF(#REF!,CF$1,#REF!)+SUMIF(#REF!,CF$1,#REF!)+SUMIF(#REF!,CF$1,#REF!)+SUMIF(#REF!,CF$1,#REF!)+SUMIF(#REF!,CF$1,#REF!)+SUMIF(#REF!,CF$1,#REF!)+SUMIF(#REF!,CF$1,#REF!) -> #REF! | ... CY17: =SUMIF(#REF!,CY$1,#REF!)+SUMIF(#REF!,CY$1,#REF!)+SUMIF(#REF!,CY$1,#REF!)+SUMIF(#REF!,CY$1,#REF!)+SUMIF(#REF!,CY$1,#REF!)+SUMIF(#REF!,CY$1,#REF!)+SUMIF(#REF!,CY$1,#REF!)+SUMIF(#REF!,CY$1,#REF!)+SUMIF(#REF!,CY$1,#REF!)+SUMIF(#REF!,CY$1,#REF!)+SUMIF(#REF!,CY$1,#REF!) -> #REF! | DC17: =C17&E17 | DD17: =IF($DC17="",0,IF(COUNTIF($DC$2:$DC16,$DC17)=0,1,0)) -> 0 | DG17: 43557 | DH17: 43728
