Workbook

Sheet BDD
A1: ONGLET "PPa2019"
A2: Les stagiaire sont numérotés (1ère colonne)
A3: Attention aux colonnes grisées (Elles contiennent soit une liste déroulante, soit une formule)
A4: De la colonne AP à BB, noter les durées prévisionnelles pour chacun des ateliers (Thématiques et Sectoriels)
A5: Voir la feuille d'émargement pour la légende des ateliers
A6: La feuille est vérouillée sans mot de passe
A7: Couleur | B7: gris = prévisionnel
B8: orange = réel qui regroupe présence et distance
A11: ONGLET "PRESENCE A-S-E"
A12: 2 lignes par stagiaires, la première pour sélectionner l'activité
A13: La 2ème pour saisir la durée
A15: ONGLET FEC
A16: Feuille d 'émargement
A17: Sélectionner en N2 le N° du stagiaire
A18: Sélectionner le site, l'année et le mois
A20: ONGLET "Bilans"
A21: Permet de saisir les bilans de sortie et à 6 mois
A23: ONGLET "STATS"
A24: Masqué pour le moment
A25: Il manque des formules, elles seront ajoutées ultérieurement

Sheet PPa2019
A1: NB | B1: TITRE | C1: NOM NAISSANCE | D1: NOM USAGE | E1: Prénom | F1: ADRESSE | G1: CP | H1: VILLE | I1: QUARTIER PRIORITAIRE | J1: TEL | K1: EMAIL | L1: NAISSANCE | M1: LIEU | N1: DEPT | O1: AGE | P1: SEXE | Q1: SECU | R1: REGIME | S1: TH | T1: MOBILITÉ | U1: PC | V1: INTERNET | W1: IMPRIMANTE | X1: LOGICIELS | Y1: STATUT | Z1: IDENTIF PE | AA1: INSCR PE | AB1: POLE EMPLOI | AC1: NIVEAU | AD1: NIVEAU2 | AE1: DIPLÔME | AF1: OBTENTION | AG1: DERNIÈRE CLASSE | AH1: ANNÉEC | AI1: EMPLOI | AJ1: FIN | AK1: CONTRAT | AL1: EXPERIENCE | AM1: FORMATION | AN1: ANNÉEF | AO1: PRESCRIPTION | AP1: ENTRÉE | AQ1: SORTIEP | AR1: SORTIER | AS1: REMUNERATION | AT1: TTC GLOBAL P et D | AU1: TTE | AV1: T1 | AW1: T2 | AX1: T3 | AY1: T4 | AZ1: T5 | BA1: T6 | BB1: T7 | BC1: T8 | BD1: S1 | BE1: S2 | BF1: S3 | BG1: S4 | BH1: S5 | BI1: TTC | BJ1: TTE | BK1: TTA | BL1: T1 | BM1: T2 | BN1: T3 | BO1: T4 | BP1: T5 | BQ1: T6 | BR1: T7 | BS1: T8 | BT1: S1 | BU1: S2 | BV1: S3 | BW1: S4 | BX1: S5 | BY1: T1 | BZ1: T2 | CA1: T3 | CB1: T4 | CC1: T5 | CD1: T6 | CE1: T7 | CF1: T8 | CG1: S1 | CH1: S2 | CI1: S3 | CJ1: S4 | CK1: S5 | CL1: T1d | CM1: T2d | CN1: T3d | CO1: T4d | CP1: T5d | CQ1: T6d | CR1: T7d | CS1: T8d | CT1: S1d | CU1: S2d | CV1: S3d | CW1: S4d | CX1: S5d | CY1: EI | CZ1: C N-1 | DA1: E N-1 | DB1: N+1 | DD1: =SUM($DD$2:$DD$201) -> #REF! | DF1: =SUM($DD$2:$DD$201) -> #REF! | DG1: CAQ Entrée | DH1: CAQ Fin
A2: 1 | B2: MME | C2: mmmm | D2: mmm | E2: mm | L2: 36720 | M2: BOGOTA (COLOMBIE) | W2: OUI | X2: MO | Y2: DE | AQ2: 43599 | AR2: 43602 | AS2: AF | AT2: 227 | AU2: 210 | AV2: 21 | AW2: 7 | AX2: 14 | AY2: 56 | AZ2: 21 | BA2: 59 | BB2: 21 | BC2: 0 | BI2: =SUM(BL2:BX2)+CY2 -> #REF! | BJ2: =#REF! -> #REF! | BK2: =#REF! -> #REF! | BL2: =BY2+CL2 -> #REF! | BM2: =BZ2+CM2 -> #REF! | BN2: =CA2+CN2 -> #REF! | BO2: =CB2+CO2 -> #REF! | BP2: =CC2+CP2 -> #REF! | BQ2: =CD2+CQ2 -> #REF! | BR2: =CE2+CR2 -> #REF! | BS2: =CF2+CS2 -> #REF! | ... BX2: =CK2+CX2 -> #REF! | BY2: =SUMIF(#REF!,BY$1,#REF!)+SUMIF(#REF!,BY$1,#REF!)+SUMIF(#REF!,BY$1,#REF!)+SUMIF(#REF!,BY$1,#REF!)+SUMIF(#REF!,BY$1,#REF!)+SUMIF(#REF!,BY$1,#REF!)+SUMIF(#REF!,BY$1,#REF!)+SUMIF(#REF!,BY$1,#REF!)+SUMIF(#REF!,BY$1,#REF!)+SUMIF(#REF!,BY$1,#REF!)+SUMIF(#REF!,BY$1,#REF!) -> #REF! | BZ2: =SUMIF(#REF!,BZ$1,#REF!)+SUMIF(#REF!,BZ$1,#REF!)+SUMIF(#REF!,BZ$1,#REF!)+SUMIF(#REF!,BZ$1,#REF!)+SUMIF(#REF!,BZ$1,#REF!)+SUMIF(#REF!,BZ$1,#REF!)+SUMIF(#REF!,BZ$1,#REF!)+SUMIF(#REF!,BZ$1,#REF!)+SUMIF(#REF!,BZ$1,#REF!)+SUMIF(#REF!,BZ$1,#REF!)+SUMIF(#REF!,BZ$1,#REF!) -> #REF! | CA2: =SUMIF(#REF!,CA$1,#REF!)+SUMIF(#REF!,CA$1,#REF!)+SUMIF(#REF!,CA$1,#REF!)+SUMIF(#REF!,CA$1,#REF!)+SUMIF(#REF!,CA$1,#REF!)+SUMIF(#REF!,CA$1,#REF!)+SUMIF(#REF!,CA$1,#REF!)+SUMIF(#REF!,CA$1,#REF!)+SUMIF(#REF!,CA$1,#REF!)+SUMIF(#REF!,CA$1,#REF!)+SUMIF(#REF!,CA$1,#REF!) -> #REF! | CB2: =SUMIF(#REF!,CB$1,#REF!)+SUMIF(#REF!,CB$1,#REF!)+SUMIF(#REF!,CB$1,#REF!)+SUMIF(#REF!,CB$1,#REF!)+SUMIF(#REF!,CB$1,#REF!)+SUMIF(#REF!,CB$1,#REF!)+SUMIF(#REF!,CB$1,#REF!)+SUMIF(#REF!,CB$1,#REF!)+SUMIF(#REF!,CB$1,#REF!)+SUMIF(#REF!,CB$1,#REF!)+SUMIF(#REF!,CB$1,#REF!) -> #REF! | CC2: =SUMIF(#REF!,CC$1,#REF!)+SUMIF(#REF!,CC$1,#REF!)+SUMIF(#REF!,CC$1,#REF!)+SUMIF(#REF!,CC$1,#REF!)+SUMIF(#REF!,CC$1,#REF!)+SUMIF(#REF!,CC$1,#REF!)+SUMIF(#REF!,CC$1,#REF!)+SUMIF(#REF!,CC$1,#REF!)+SUMIF(#REF!,CC$1,#REF!)+SUMIF(#REF!,CC$1,#REF!)+SUMIF(#REF!,CC$1,#REF!) -> #REF! | CD2: =SUMIF(#REF!,CD$1,#REF!)+SUMIF(#REF!,CD$1,#REF!)+SUMIF(#REF!,CD$1,#REF!)+SUMIF(#REF!,CD$1,#REF!)+SUMIF(#REF!,CD$1,#REF!)+SUMIF(#REF!,CD$1,#REF!)+SUMIF(#REF!,CD$1,#REF!)+SUMIF(#REF!,CD$1,#REF!)+SUMIF(#REF!,CD$1,#REF!)+SUMIF(#REF!,CD$1,#REF!)+SUMIF(#REF!,CD$1,#REF!) -> #REF! | CE2: =SUMIF(#REF!,CE$1,#REF!)+SUMIF(#REF!,CE$1,#REF!)+SUMIF(#REF!,CE$1,#REF!)+SUMIF(#REF!,CE$1,#REF!)+SUMIF(#REF!,CE$1,#REF!)+SUMIF(#REF!,CE$1,#REF!)+SUMIF(#REF!,CE$1,#REF!)+SUMIF(#REF!,CE$1,#REF!)+SUMIF(#REF!,CE$1,#REF!)+SUMIF(#REF!,CE$1,#REF!)+SUMIF(#REF!,CE$1,#REF!) -> #REF! | CF2: =SUMIF(#REF!,CF$1,#REF!)+SUMIF(#REF!,CF$1,#REF!)+SUMIF(#REF!,CF$1,#REF!)+SUMIF(#REF!,CF$1,#REF!)+SUMIF(#REF!,CF$1,#REF!)+SUMIF(#REF!,CF$1,#REF!)+SUMIF(#REF!,CF$1,#REF!)+SUMIF(#REF!,CF$1,#REF!)+SUMIF(#REF!,CF$1,#REF!)+SUMIF(#REF!,CF$1,#REF!)+SUMIF(#REF!,CF$1,#REF!) -> #REF! | ... CY2: =SUMIF(#REF!,CY$1,#REF!)+SUMIF(#REF!,CY$1,#REF!)+SUMIF(#REF!,CY$1,#REF!)+SUMIF(#REF!,CY$1,#REF!)+SUMIF(#REF!,CY$1,#REF!)+SUMIF(#REF!,CY$1,#REF!)+SUMIF(#REF!,CY$1,#REF!)+SUMIF(#REF!,CY$1,#REF!)+SUMIF(#REF!,CY$1,#REF!)+SUMIF(#REF!,CY$1,#REF!)+SUMIF(#REF!,CY$1,#REF!) -> #REF! | DC2: =C2&E2 -> mmmmmm | DD2: 1
A3: 2 | B3: MME | AB3: AURAY | AC3: N. IV (bac) | AD3: =IF($AC3="","",IF($AC3="À l'étranger","À l'étranger",IF($AC3="N. VI et Vbis (sans diplôme validé)",2,IF($AC3="N. V (CAP / BEP)",3,IF($AC3="N. IV (bac)",4,IF($AC3="N. III (bac + 2)",5,IF($AC3="N. II (bac + 4 et bac +3)",6,"7/8"))))))) -> 4 | AE3: BAC | AF3: 2017 | AG3: 1ère ou 2ème année du 1er cycle enseignement supérieur, formations sanitaires et sociales | AH3: 2018 | AI3: Employés | AJ3: 43739 | AK3: CDD | AL3: 1 | AM3: BAC GEN | AN3: 2017 | AO3: ML | AP3: 43500 | AQ3: 43599 | AS3: AF | AT3: 227 | AU3: 210 | AV3: 21 | AW3: 7 | AX3: 14 | AY3: 56 | AZ3: 21 | BA3: 59 | BB3: 21 | BC3: 0 | BI3: =SUM(BL3:BX3)+CY3 -> #REF! | BJ3: =#REF! -> #REF! | BK3: =#REF! -> #REF! | BL3: =BY3+CL3 -> #REF! | BM3: =BZ3+CM3 -> #REF! | BN3: =CA3+CN3 -> #REF! | BO3: =CB3+CO3 -> #REF! | BP3: =CC3+CP3 -> #REF! | BQ3: =CD3+CQ3 -> #REF! | BR3: =CE3+CR3 -> #REF! | BS3: =CF3+CS3 -> #REF! | ... BX3: =CK3+CX3 -> #REF! | BY3: =SUMIF(#REF!,BY$1,#REF!)+SUMIF(#REF!,BY$1,#REF!)+SUMIF(#REF!,BY$1,#REF!)+SUMIF(#REF!,BY$1,#REF!)+SUMIF(#REF!,BY$1,#REF!)+SUMIF(#REF!,BY$1,#REF!)+SUMIF(#REF!,BY$1,#REF!)+SUMIF(#REF!,BY$1,#REF!)+SUMIF(#REF!,BY$1,#REF!)+SUMIF(#REF!,BY$1,#REF!)+SUMIF(#REF!,BY$1,#REF!) -> #REF! | BZ3: =SUMIF(#REF!,BZ$1,#REF!)+SUMIF(#REF!,BZ$1,#REF!)+SUMIF(#REF!,BZ$1,#REF!)+SUMIF(#REF!,BZ$1,#REF!)+SUMIF(#REF!,BZ$1,#REF!)+SUMIF(#REF!,BZ$1,#REF!)+SUMIF(#REF!,BZ$1,#REF!)+SUMIF(#REF!,BZ$1,#REF!)+SUMIF(#REF!,BZ$1,#REF!)+SUMIF(#REF!,BZ$1,#REF!)+SUMIF(#REF!,BZ$1,#REF!) -> #REF! | CA3: =SUMIF(#REF!,CA$1,#REF!)+SUMIF(#REF!,CA$1,#REF!)+SUMIF(#REF!,CA$1,#REF!)+SUMIF(#REF!,CA$1,#REF!)+SUMIF(#REF!,CA$1,#REF!)+SUMIF(#REF!,CA$1,#REF!)+SUMIF(#REF!,CA$1,#REF!)+SUMIF(#REF!,CA$1,#REF!)+SUMIF(#REF!,CA$1,#REF!)+SUMIF(#REF!,CA$1,#REF!)+SUMIF(#REF!,CA$1,#REF!) -> #REF! | CB3: =SUMIF(#REF!,CB$1,#REF!)+SUMIF(#REF!,CB$1,#REF!)+SUMIF(#REF!,CB$1,#REF!)+SUMIF(#REF!,CB$1,#REF!)+SUMIF(#REF!,CB$1,#REF!)+SUMIF(#REF!,CB$1,#REF!)+SUMIF(#REF!,CB$1,#REF!)+SUMIF(#REF!,CB$1,#REF!)+SUMIF(#REF!,CB$1,#REF!)+SUMIF(#REF!,CB$1,#REF!)+SUMIF(#REF!,CB$1,#REF!) -> #REF! | CC3: =SUMIF(#REF!,CC$1,#REF!)+SUMIF(#REF!,CC$1,#REF!)+SUMIF(#REF!,CC$1,#REF!)+SUMIF(#REF!,CC$1,#REF!)+SUMIF(#REF!,CC$1,#REF!)+SUMIF(#REF!,CC$1,#REF!)+SUMIF(#REF!,CC$1,#REF!)+SUMIF(#REF!,CC$1,#REF!)+SUMIF(#REF!,CC$1,#REF!)+SUMIF(#REF!,CC$1,#REF!)+SUMIF(#REF!,CC$1,#REF!) -> #REF! | CD3: =SUMIF(#REF!,CD$1,#REF!)+SUMIF(#REF!,CD$1,#REF!)+SUMIF(#REF!,CD$1,#REF!)+SUMIF(#REF!,CD$1,#REF!)+SUMIF(#REF!,CD$1,#REF!)+SUMIF(#REF!,CD$1,#REF!)+SUMIF(#REF!,CD$1,#REF!)+SUMIF(#REF!,CD$1,#REF!)+SUMIF(#REF!,CD$1,#REF!)+SUMIF(#REF!,CD$1,#REF!)+SUMIF(#REF!,CD$1,#REF!) -> #REF! | CE3: =SUMIF(#REF!,CE$1,#REF!)+SUMIF(#REF!,CE$1,#REF!)+SUMIF(#REF!,CE$1,#REF!)+SUMIF(#REF!,CE$1,#REF!)+SUMIF(#REF!,CE$1,#REF!)+SUMIF(#REF!,CE$1,#REF!)+SUMIF(#REF!,CE$1,#REF!)+SUMIF(#REF!,CE$1,#REF!)+SUMIF(#REF!,CE$1,#REF!)+SUMIF(#REF!,CE$1,#REF!)+SUMIF(#REF!,CE$1,#REF!) -> #REF! | CF3: =SUMIF(#REF!,CF$1,#REF!)+SUMIF(#REF!,CF$1,#REF!)+SUMIF(#REF!,CF$1,#REF!)+SUMIF(#REF!,CF$1,#REF!)+SUMIF(#REF!,CF$1,#REF!)+SUMIF(#REF!,CF$1,#REF!)+SUMIF(#REF!,CF$1,#REF!)+SUMIF(#REF!,CF$1,#REF!)+SUMIF(#REF!,CF$1,#REF!)+SUMIF(#REF!,CF$1,#REF!)+SUMIF(#REF!,CF$1,#REF!) -> #REF! | ... CY3: =SUMIF(#REF!,CY$1,#REF!)+SUMIF(#REF!,CY$1,#REF!)+SUMIF(#REF!,CY$1,#REF!)+SUMIF(#REF!,CY$1,#REF!)+SUMIF(#REF!,CY$1,#REF!)+SUMIF(#REF!,CY$1,#REF!)+SUMIF(#REF!,CY$1,#REF!)+SUMIF(#REF!,CY$1,#REF!)+SUMIF(#REF!,CY$1,#REF!)+SUMIF(#REF!,CY$1,#REF!)+SUMIF(#REF!,CY$1,#REF!) -> #REF! | DC3: =C3&E3 | DD3: =IF($DC3="",0,IF(COUNTIF($DC2:$DC$2,$DC3)=0,1,0)) -> 0
A4: 3 | B4: MR | AB4: AURAY | AC4: N. IV (bac) | AD4: =IF($AC4="","",IF($AC4="À l'étranger","À l'étranger",IF($AC4="N. VI et Vbis (sans diplôme validé)",2,IF($AC4="N. V (CAP / BEP)",3,IF($AC4="N. IV (bac)",4,IF($AC4="N. III (bac + 2)",5,IF($AC4="N. II (bac + 4 et bac +3)",6,"7/8"))))))) -> 4 | AE4: BAC | AF4: 2018 | AG4: Terminale | AH4: 2018 | AI4: Jamais travaillé | AM4: BAC GEN | AN4: 2018 | AO4: ML | AP4: 43500 | AQ4: 43579 | AR4: 43579 | AS4: AF | AT4: 146 | AU4: 210 | AV4: 0 | AW4: 0 | AX4: 14 | AY4: 0 | AZ4: 21 | BA4: 66 | BB4: 21 | BC4: 0 | BI4: =SUM(BL4:BX4)+CY4 -> #REF! | BJ4: =#REF! -> #REF! | BK4: =#REF! -> #REF! | BL4: =BY4+CL4 -> #REF! | BM4: =BZ4+CM4 -> #REF! | BN4: =CA4+CN4 -> #REF! | BO4: =CB4+CO4 -> #REF! | BP4: =CC4+CP4 -> #REF! | BQ4: =CD4+CQ4 -> #REF! | BR4: =CE4+CR4 -> #REF! | BS4: =CF4+CS4 -> #REF! | ... BX4: =CK4+CX4 -> #REF! | BY4: =SUMIF(#REF!,BY$1,#REF!)+SUMIF(#REF!,BY$1,#REF!)+SUMIF(#REF!,BY$1,#REF!)+SUMIF(#REF!,BY$1,#REF!)+SUMIF(#REF!,BY$1,#REF!)+SUMIF(#REF!,BY$1,#REF!)+SUMIF(#REF!,BY$1,#REF!)+SUMIF(#REF!,BY$1,#REF!)+SUMIF(#REF!,BY$1,#REF!)+SUMIF(#REF!,BY$1,#REF!)+SUMIF(#REF!,BY$1,#REF!) -> #REF! | BZ4: =SUMIF(#REF!,BZ$1,#REF!)+SUMIF(#REF!,BZ$1,#REF!)+SUMIF(#REF!,BZ$1,#REF!)+SUMIF(#REF!,BZ$1,#REF!)+SUMIF(#REF!,BZ$1,#REF!)+SUMIF(#REF!,BZ$1,#REF!)+SUMIF(#REF!,BZ$1,#REF!)+SUMIF(#REF!,BZ$1,#REF!)+SUMIF(#REF!,BZ$1,#REF!)+SUMIF(#REF!,BZ$1,#REF!)+SUMIF(#REF!,BZ$1,#REF!) -> #REF! | CA4: =SUMIF(#REF!,CA$1,#REF!)+SUMIF(#REF!,CA$1,#REF!)+SUMIF(#REF!,CA$1,#REF!)+SUMIF(#REF!,CA$1,#REF!)+SUMIF(#REF!,CA$1,#REF!)+SUMIF(#REF!,CA$1,#REF!)+SUMIF(#REF!,CA$1,#REF!)+SUMIF(#REF!,CA$1,#REF!)+SUMIF(#REF!,CA$1,#REF!)+SUMIF(#REF!,CA$1,#REF!)+SUMIF(#REF!,CA$1,#REF!) -> #REF! | CB4: =SUMIF(#REF!,CB$1,#REF!)+SUMIF(#REF!,CB$1,#REF!)+SUMIF(#REF!,CB$1,#REF!)+SUMIF(#REF!,CB$1,#REF!)+SUMIF(#REF!,CB$1,#REF!)+SUMIF(#REF!,CB$1,#REF!)+SUMIF(#REF!,CB$1,#REF!)+SUMIF(#REF!,CB$1,#REF!)+SUMIF(#REF!,CB$1,#REF!)+SUMIF(#REF!,CB$1,#REF!)+SUMIF(#REF!,CB$1,#REF!) -> #REF! | CC4: =SUMIF(#REF!,CC$1,#REF!)+SUMIF(#REF!,CC$1,#REF!)+SUMIF(#REF!,CC$1,#REF!)+SUMIF(#REF!,CC$1,#REF!)+SUMIF(#REF!,CC$1,#REF!)+SUMIF(#REF!,CC$1,#REF!)+SUMIF(#REF!,CC$1,#REF!)+SUMIF(#REF!,CC$1,#REF!)+SUMIF(#REF!,CC$1,#REF!)+SUMIF(#REF!,CC$1,#REF!)+SUMIF(#REF!,CC$1,#REF!) -> #REF! | CD4: =SUMIF(#REF!,CD$1,#REF!)+SUMIF(#REF!,CD$1,#REF!)+SUMIF(#REF!,CD$1,#REF!)+SUMIF(#REF!,CD$1,#REF!)+SUMIF(#REF!,CD$1,#REF!)+SUMIF(#REF!,CD$1,#REF!)+SUMIF(#REF!,CD$1,#REF!)+SUMIF(#REF!,CD$1,#REF!)+SUMIF(#REF!,CD$1,#REF!)+SUMIF(#REF!,CD$1,#REF!)+SUMIF(#REF!,CD$1,#REF!) -> #REF! | CE4: =SUMIF(#REF!,CE$1,#REF!)+SUMIF(#REF!,CE$1,#REF!)+SUMIF(#REF!,CE$1,#REF!)+SUMIF(#REF!,CE$1,#REF!)+SUMIF(#REF!,CE$1,#REF!)+SUMIF(#REF!,CE$1,#REF!)+SUMIF(#REF!,CE$1,#REF!)+SUMIF(#REF!,CE$1,#REF!)+SUMIF(#REF!,CE$1,#REF!)+SUMIF(#REF!,CE$1,#REF!)+SUMIF(#REF!,CE$1,#REF!) -> #REF! | CF4: =SUMIF(#REF!,CF$1,#REF!)+SUMIF(#REF!,CF$1,#REF!)+SUMIF(#REF!,CF$1,#REF!)+SUMIF(#REF!,CF$1,#REF!)+SUMIF(#REF!,CF$1,#REF!)+SUMIF(#REF!,CF$1,#REF!)+SUMIF(#REF!,CF$1,#REF!)+SUMIF(#REF!,CF$1,#REF!)+SUMIF(#REF!,CF$1,#REF!)+SUMIF(#REF!,CF$1,#REF!)+SUMIF(#REF!,CF$1,#REF!) -> #REF! | ... CY4: =SUMIF(#REF!,CY$1,#REF!)+SUMIF(#REF!,CY$1,#REF!)+SUMIF(#REF!,CY$1,#REF!)+SUMIF(#REF!,CY$1,#REF!)+SUMIF(#REF!,CY$1,#REF!)+SUMIF(#REF!,CY$1,#REF!)+SUMIF(#REF!,CY$1,#REF!)+SUMIF(#REF!,CY$1,#REF!)+SUMIF(#REF!,CY$1,#REF!)+SUMIF(#REF!,CY$1,#REF!)+SUMIF(#REF!,CY$1,#REF!) -> #REF! | DC4: =C4&E4 | DD4: =IF($DC4="",0,IF(COUNTIF($DC$2:$DC3,$DC4)=0,1,0)) -> 0
A5: 4 | B5: MR | AB5: AURAY | AC5: N. V (CAP / BEP) | AD5: =IF($AC5="","",IF($AC5="À l'étranger","À l'étranger",IF($AC5="N. VI et Vbis (sans diplôme validé)",2,IF($AC5="N. V (CAP / BEP)",3,IF($AC5="N. IV (bac)",4,IF($AC5="N. III (bac + 2)",5,IF($AC5="N. II (bac + 4 et bac +3)",6,"7/8"))))))) -> 3 | AE5: Brevet des collèges | AF5: 2015 | AG5: Terminale | AH5: 2018 | AI5: Jamais travaillé | AM5: BAC PRO | AN5: 2018 | AO5: ML | AP5: 43500 | AQ5: 43598 | AS5: AF | AT5: 218 | AU5: 210 | AV5: 21 | AW5: 0 | AX5: 14 | AY5: 56 | AZ5: 21 | BA5: 59 | BB5: 21 | BC5: 0 | BI5: =SUM(BL5:BX5)+CY5 -> #REF! | BJ5: =#REF! -> #REF! | BK5: =#REF! -> #REF! | BL5: =BY5+CL5 -> #REF! | BM5: =BZ5+CM5 -> #REF! | BN5: =CA5+CN5 -> #REF! | BO5: =CB5+CO5 -> #REF! | BP5: =CC5+CP5 -> #REF! | BQ5: =CD5+CQ5 -> #REF! | BR5: =CE5+CR5 -> #REF! | BS5: =CF5+CS5 -> #REF! | ... BX5: =CK5+CX5 -> #REF! | BY5: =SUMIF(#REF!,BY$1,#REF!)+SUMIF(#REF!,BY$1,#REF!)+SUMIF(#REF!,BY$1,#REF!)+SUMIF(#REF!,BY$1,#REF!)+SUMIF(#REF!,BY$1,#REF!)+SUMIF(#REF!,BY$1,#REF!)+SUMIF(#REF!,BY$1,#REF!)+SUMIF(#REF!,BY$1,#REF!)+SUMIF(#REF!,BY$1,#REF!)+SUMIF(#REF!,BY$1,#REF!)+SUMIF(#REF!,BY$1,#REF!) -> #REF! | BZ5: =SUMIF(#REF!,BZ$1,#REF!)+SUMIF(#REF!,BZ$1,#REF!)+SUMIF(#REF!,BZ$1,#REF!)+SUMIF(#REF!,BZ$1,#REF!)+SUMIF(#REF!,BZ$1,#REF!)+SUMIF(#REF!,BZ$1,#REF!)+SUMIF(#REF!,BZ$1,#REF!)+SUMIF(#REF!,BZ$1,#REF!)+SUMIF(#REF!,BZ$1,#REF!)+SUMIF(#REF!,BZ$1,#REF!)+SUMIF(#REF!,BZ$1,#REF!) -> #REF! | CA5: =SUMIF(#REF!,CA$1,#REF!)+SUMIF(#REF!,CA$1,#REF!)+SUMIF(#REF!,CA$1,#REF!)+SUMIF(#REF!,CA$1,#REF!)+SUMIF(#REF!,CA$1,#REF!)+SUMIF(#REF!,CA$1,#REF!)+SUMIF(#REF!,CA$1,#REF!)+SUMIF(#REF!,CA$1,#REF!)+SUMIF(#REF!,CA$1,#REF!)+SUMIF(#REF!,CA$1,#REF!)+SUMIF(#REF!,CA$1,#REF!) -> #REF! | CB5: =SUMIF(#REF!,CB$1,#REF!)+SUMIF(#REF!,CB$1,#REF!)+SUMIF(#REF!,CB$1,#REF!)+SUMIF(#REF!,CB$1,#REF!)+SUMIF(#REF!,CB$1,#REF!)+SUMIF(#REF!,CB$1,#REF!)+SUMIF(#REF!,CB$1,#REF!)+SUMIF(#REF!,CB$1,#REF!)+SUMIF(#REF!,CB$1,#REF!)+SUMIF(#REF!,CB$1,#REF!)+SUMIF(#REF!,CB$1,#REF!) -> #REF! | CC5: =SUMIF(#REF!,CC$1,#REF!)+SUMIF(#REF!,CC$1,#REF!)+SUMIF(#REF!,CC$1,#REF!)+SUMIF(#REF!,CC$1,#REF!)+SUMIF(#REF!,CC$1,#REF!)+SUMIF(#REF!,CC$1,#REF!)+SUMIF(#REF!,CC$1,#REF!)+SUMIF(#REF!,CC$1,#REF!)+SUMIF(#REF!,CC$1,#REF!)+SUMIF(#REF!,CC$1,#REF!)+SUMIF(#REF!,CC$1,#REF!) -> #REF! | CD5: =SUMIF(#REF!,CD$1,#REF!)+SUMIF(#REF!,CD$1,#REF!)+SUMIF(#REF!,CD$1,#REF!)+SUMIF(#REF!,CD$1,#REF!)+SUMIF(#REF!,CD$1,#REF!)+SUMIF(#REF!,CD$1,#REF!)+SUMIF(#REF!,CD$1,#REF!)+SUMIF(#REF!,CD$1,#REF!)+SUMIF(#REF!,CD$1,#REF!)+SUMIF(#REF!,CD$1,#REF!)+SUMIF(#REF!,CD$1,#REF!) -> #REF! | CE5: =SUMIF(#REF!,CE$1,#REF!)+SUMIF(#REF!,CE$1,#REF!)+SUMIF(#REF!,CE$1,#REF!)+SUMIF(#REF!,CE$1,#REF!)+SUMIF(#REF!,CE$1,#REF!)+SUMIF(#REF!,CE$1,#REF!)+SUMIF(#REF!,CE$1,#REF!)+SUMIF(#REF!,CE$1,#REF!)+SUMIF(#REF!,CE$1,#REF!)+SUMIF(#REF!,CE$1,#REF!)+SUMIF(#REF!,CE$1,#REF!) -> #REF! | CF5: =SUMIF(#REF!,CF$1,#REF!)+SUMIF(#REF!,CF$1,#REF!)+SUMIF(#REF!,CF$1,#REF!)+SUMIF(#REF!,CF$1,#REF!)+SUMIF(#REF!,CF$1,#REF!)+SUMIF(#REF!,CF$1,#REF!)+SUMIF(#REF!,CF$1,#REF!)+SUMIF(#REF!,CF$1,#REF!)+SUMIF(#REF!,CF$1,#REF!)+SUMIF(#REF!,CF$1,#REF!)+SUMIF(#REF!,CF$1,#REF!) -> #REF! | ... CY5: =SUMIF(#REF!,CY$1,#REF!)+SUMIF(#REF!,CY$1,#REF!)+SUMIF(#REF!,CY$1,#REF!)+SUMIF(#REF!,CY$1,#REF!)+SUMIF(#REF!,CY$1,#REF!)+SUMIF(#REF!,CY$1,#REF!)+SUMIF(#REF!,CY$1,#REF!)+SUMIF(#REF!,CY$1,#REF!)+SUMIF(#REF!,CY$1,#REF!)+SUMIF(#REF!,CY$1,#REF!)+SUMIF(#REF!,CY$1,#REF!) -> #REF! | DC5: =C5&E5 | DD5: =IF($DC5="",0,IF(COUNTIF($DC$2:$DC4,$DC5)=0,1,0)) -> 0
A6: 5 | B6: MME | AB6: AURAY | AC6: N. II (bac + 4 et bac +3) | AD6: =IF($AC6="","",IF($AC6="À l'étranger","À l'étranger",IF($AC6="N. VI et Vbis (sans diplôme validé)",2,IF($AC6="N. V (CAP / BEP)",3,IF($AC6="N. IV (bac)",4,IF($AC6="N. III (bac + 2)",5,IF($AC6="N. II (bac + 4 et bac +3)",6,"7/8"))))))) -> 6 | AE6: Licence pro = bac + 3 | AF6: 2017 | AG6: Classes de 2ème ou 3ème cycle enseignement supérieur | AH6: 2018 | AI6: Jamais travaillé | AM6: LICENCE | AN6: 2018 | AO6: ML | AP6: 43500 | AQ6: 43598 | AS6: AF | AT6: 218 | AU6: 210 | AV6: 21 | AW6: 0 | AX6: 14 | AY6: 56 | AZ6: 21 | BA6: 59 | BB6: 21 | BC6: 0 | BI6: =SUM(BL6:BX6)+CY6 -> #REF! | BJ6: =#REF! -> #REF! | BK6: =#REF! -> #REF! | BL6: =BY6+CL6 -> #REF! | BM6: =BZ6+CM6 -> #REF! | BN6: =CA6+CN6 -> #REF! | BO6: =CB6+CO6 -> #REF! | BP6: =CC6+CP6 -> #REF! | BQ6: =CD6+CQ6 -> #REF! | BR6: =CE6+CR6 -> #REF! | BS6: =CF6+CS6 -> #REF! | ... BX6: =CK6+CX6 -> #REF! | BY6: =SUMIF(#REF!,BY$1,#REF!)+SUMIF(#REF!,BY$1,#REF!)+SUMIF(#REF!,BY$1,#REF!)+SUMIF(#REF!,BY$1,#REF!)+SUMIF(#REF!,BY$1,#REF!)+SUMIF(#REF!,BY$1,#REF!)+SUMIF(#REF!,BY$1,#REF!)+SUMIF(#REF!,BY$1,#REF!)+SUMIF(#REF!,BY$1,#REF!)+SUMIF(#REF!,BY$1,#REF!)+SUMIF(#REF!,BY$1,#REF!) -> #REF! | BZ6: =SUMIF(#REF!,BZ$1,#REF!)+SUMIF(#REF!,BZ$1,#REF!)+SUMIF(#REF!,BZ$1,#REF!)+SUMIF(#REF!,BZ$1,#REF!)+SUMIF(#REF!,BZ$1,#REF!)+SUMIF(#REF!,BZ$1,#REF!)+SUMIF(#REF!,BZ$1,#REF!)+SUMIF(#REF!,BZ$1,#REF!)+SUMIF(#REF!,BZ$1,#REF!)+SUMIF(#REF!,BZ$1,#REF!)+SUMIF(#REF!,BZ$1,#REF!) -> #REF! | CA6: =SUMIF(#REF!,CA$1,#REF!)+SUMIF(#REF!,CA$1,#REF!)+SUMIF(#REF!,CA$1,#REF!)+SUMIF(#REF!,CA$1,#REF!)+SUMIF(#REF!,CA$1,#REF!)+SUMIF(#REF!,CA$1,#REF!)+SUMIF(#REF!,CA$1,#REF!)+SUMIF(#REF!,CA$1,#REF!)+SUMIF(#REF!,CA$1,#REF!)+SUMIF(#REF!,CA$1,#REF!)+SUMIF(#REF!,CA$1,#REF!) -> #REF! | CB6: =SUMIF(#REF!,CB$1,#REF!)+SUMIF(#REF!,CB$1,#REF!)+SUMIF(#REF!,CB$1,#REF!)+SUMIF(#REF!,CB$1,#REF!)+SUMIF(#REF!,CB$1,#REF!)+SUMIF(#REF!,CB$1,#REF!)+SUMIF(#REF!,CB$1,#REF!)+SUMIF(#REF!,CB$1,#REF!)+SUMIF(#REF!,CB$1,#REF!)+SUMIF(#REF!,CB$1,#REF!)+SUMIF(#REF!,CB$1,#REF!) -> #REF! | CC6: =SUMIF(#REF!,CC$1,#REF!)+SUMIF(#REF!,CC$1,#REF!)+SUMIF(#REF!,CC$1,#REF!)+SUMIF(#REF!,CC$1,#REF!)+SUMIF(#REF!,CC$1,#REF!)+SUMIF(#REF!,CC$1,#REF!)+SUMIF(#REF!,CC$1,#REF!)+SUMIF(#REF!,CC$1,#REF!)+SUMIF(#REF!,CC$1,#REF!)+SUMIF(#REF!,CC$1,#REF!)+SUMIF(#REF!,CC$1,#REF!) -> #REF! | CD6: =SUMIF(#REF!,CD$1,#REF!)+SUMIF(#REF!,CD$1,#REF!)+SUMIF(#REF!,CD$1,#REF!)+SUMIF(#REF!,CD$1,#REF!)+SUMIF(#REF!,CD$1,#REF!)+SUMIF(#REF!,CD$1,#REF!)+SUMIF(#REF!,CD$1,#REF!)+SUMIF(#REF!,CD$1,#REF!)+SUMIF(#REF!,CD$1,#REF!)+SUMIF(#REF!,CD$1,#REF!)+SUMIF(#REF!,CD$1,#REF!) -> #REF! | CE6: =SUMIF(#REF!,CE$1,#REF!)+SUMIF(#REF!,CE$1,#REF!)+SUMIF(#REF!,CE$1,#REF!)+SUMIF(#REF!,CE$1,#REF!)+SUMIF(#REF!,CE$1,#REF!)+SUMIF(#REF!,CE$1,#REF!)+SUMIF(#REF!,CE$1,#REF!)+SUMIF(#REF!,CE$1,#REF!)+SUMIF(#REF!,CE$1,#REF!)+SUMIF(#REF!,CE$1,#REF!)+SUMIF(#REF!,CE$1,#REF!) -> #REF! | CF6: =SUMIF(#REF!,CF$1,#REF!)+SUMIF(#REF!,CF$1,#REF!)+SUMIF(#REF!,CF$1,#REF!)+SUMIF(#REF!,CF$1,#REF!)+SUMIF(#REF!,CF$1,#REF!)+SUMIF(#REF!,CF$1,#REF!)+SUMIF(#REF!,CF$1,#REF!)+SUMIF(#REF!,CF$1,#REF!)+SUMIF(#REF!,CF$1,#REF!)+SUMIF(#REF!,CF$1,#REF!)+SUMIF(#REF!,CF$1,#REF!) -> #REF! | ... CY6: =SUMIF(#REF!,CY$1,#REF!)+SUMIF(#REF!,CY$1,#REF!)+SUMIF(#REF!,CY$1,#REF!)+SUMIF(#REF!,CY$1,#REF!)+SUMIF(#REF!,CY$1,#REF!)+SUMIF(#REF!,CY$1,#REF!)+SUMIF(#REF!,CY$1,#REF!)+SUMIF(#REF!,CY$1,#REF!)+SUMIF(#REF!,CY$1,#REF!)+SUMIF(#REF!,CY$1,#REF!)+SUMIF(#REF!,CY$1,#REF!) -> #REF! | DC6: =C6&E6 | DD6: =IF($DC6="",0,IF(COUNTIF($DC$2:$DC5,$DC6)=0,1,0)) -> 0
A7: 6 | B7: MR | AB7: AURAY | AC7: N. IV (bac) | AD7: =IF($AC7="","",IF($AC7="À l'étranger","À l'étranger",IF($AC7="N. VI et Vbis (sans diplôme validé)",2,IF($AC7="N. V (CAP / BEP)",3,IF($AC7="N. IV (bac)",4,IF($AC7="N. III (bac + 2)",5,IF($AC7="N. II (bac + 4 et bac +3)",6,"7/8"))))))) -> 4 | AE7: BAC | AF7: 2013 | AG7: 1ère ou 2ème année du 1er cycle enseignement supérieur, formations sanitaires et sociales | AH7: 2013 | AI7: Employés | AK7: INTERIM | AL7: 3 | AM7: BAC GEN | AO7: ML | AP7: 43501 | AQ7: 43598 | AS7: AREF | AT7: 218 | AU7: 210 | AV7: 21 | AW7: 0 | AX7: 14 | AY7: 56 | AZ7: 21 | BA7: 59 | BB7: 21 | BC7: 0 | BI7: =SUM(BL7:BX7)+CY7 -> #REF! | BJ7: =#REF! -> #REF! | BK7: =#REF! -> #REF! | BL7: =BY7+CL7 -> #REF! | BM7: =BZ7+CM7 -> #REF! | BN7: =CA7+CN7 -> #REF! | BO7: =CB7+CO7 -> #REF! | BP7: =CC7+CP7 -> #REF! | BQ7: =CD7+CQ7 -> #REF! | BR7: =CE7+CR7 -> #REF! | BS7: =CF7+CS7 -> #REF! | ... BX7: =CK7+CX7 -> #REF! | BY7: =SUMIF(#REF!,BY$1,#REF!)+SUMIF(#REF!,BY$1,#REF!)+SUMIF(#REF!,BY$1,#REF!)+SUMIF(#REF!,BY$1,#REF!)+SUMIF(#REF!,BY$1,#REF!)+SUMIF(#REF!,BY$1,#REF!)+SUMIF(#REF!,BY$1,#REF!)+SUMIF(#REF!,BY$1,#REF!)+SUMIF(#REF!,BY$1,#REF!)+SUMIF(#REF!,BY$1,#REF!)+SUMIF(#REF!,BY$1,#REF!) -> #REF! | BZ7: =SUMIF(#REF!,BZ$1,#REF!)+SUMIF(#REF!,BZ$1,#REF!)+SUMIF(#REF!,BZ$1,#REF!)+SUMIF(#REF!,BZ$1,#REF!)+SUMIF(#REF!,BZ$1,#REF!)+SUMIF(#REF!,BZ$1,#REF!)+SUMIF(#REF!,BZ$1,#REF!)+SUMIF(#REF!,BZ$1,#REF!)+SUMIF(#REF!,BZ$1,#REF!)+SUMIF(#REF!,BZ$1,#REF!)+SUMIF(#REF!,BZ$1,#REF!) -> #REF! | CA7: =SUMIF(#REF!,CA$1,#REF!)+SUMIF(#REF!,CA$1,#REF!)+SUMIF(#REF!,CA$1,#REF!)+SUMIF(#REF!,CA$1,#REF!)+SUMIF(#REF!,CA$1,#REF!)+SUMIF(#REF!,CA$1,#REF!)+SUMIF(#REF!,CA$1,#REF!)+SUMIF(#REF!,CA$1,#REF!)+SUMIF(#REF!,CA$1,#REF!)+SUMIF(#REF!,CA$1,#REF!)+SUMIF(#REF!,CA$1,#REF!) -> #REF! | CB7: =SUMIF(#REF!,CB$1,#REF!)+SUMIF(#REF!,CB$1,#REF!)+SUMIF(#REF!,CB$1,#REF!)+SUMIF(#REF!,CB$1,#REF!)+SUMIF(#REF!,CB$1,#REF!)+SUMIF(#REF!,CB$1,#REF!)+SUMIF(#REF!,CB$1,#REF!)+SUMIF(#REF!,CB$1,#REF!)+SUMIF(#REF!,CB$1,#REF!)+SUMIF(#REF!,CB$1,#REF!)+SUMIF(#REF!,CB$1,#REF!) -> #REF! | CC7: =SUMIF(#REF!,CC$1,#REF!)+SUMIF(#REF!,CC$1,#REF!)+SUMIF(#REF!,CC$1,#REF!)+SUMIF(#REF!,CC$1,#REF!)+SUMIF(#REF!,CC$1,#REF!)+SUMIF(#REF!,CC$1,#REF!)+SUMIF(#REF!,CC$1,#REF!)+SUMIF(#REF!,CC$1,#REF!)+SUMIF(#REF!,CC$1,#REF!)+SUMIF(#REF!,CC$1,#REF!)+SUMIF(#REF!,CC$1,#REF!) -> #REF! | CD7: =SUMIF(#REF!,CD$1,#REF!)+SUMIF(#REF!,CD$1,#REF!)+SUMIF(#REF!,CD$1,#REF!)+SUMIF(#REF!,CD$1,#REF!)+SUMIF(#REF!,CD$1,#REF!)+SUMIF(#REF!,CD$1,#REF!)+SUMIF(#REF!,CD$1,#REF!)+SUMIF(#REF!,CD$1,#REF!)+SUMIF(#REF!,CD$1,#REF!)+SUMIF(#REF!,CD$1,#REF!)+SUMIF(#REF!,CD$1,#REF!) -> #REF! | CE7: =SUMIF(#REF!,CE$1,#REF!)+SUMIF(#REF!,CE$1,#REF!)+SUMIF(#REF!,CE$1,#REF!)+SUMIF(#REF!,CE$1,#REF!)+SUMIF(#REF!,CE$1,#REF!)+SUMIF(#REF!,CE$1,#REF!)+SUMIF(#REF!,CE$1,#REF!)+SUMIF(#REF!,CE$1,#REF!)+SUMIF(#REF!,CE$1,#REF!)+SUMIF(#REF!,CE$1,#REF!)+SUMIF(#REF!,CE$1,#REF!) -> #REF! | CF7: =SUMIF(#REF!,CF$1,#REF!)+SUMIF(#REF!,CF$1,#REF!)+SUMIF(#REF!,CF$1,#REF!)+SUMIF(#REF!,CF$1,#REF!)+SUMIF(#REF!,CF$1,#REF!)+SUMIF(#REF!,CF$1,#REF!)+SUMIF(#REF!,CF$1,#REF!)+SUMIF(#REF!,CF$1,#REF!)+SUMIF(#REF!,CF$1,#REF!)+SUMIF(#REF!,CF$1,#REF!)+SUMIF(#REF!,CF$1,#REF!) -> #REF! | ... CY7: =SUMIF(#REF!,CY$1,#REF!)+SUMIF(#REF!,CY$1,#REF!)+SUMIF(#REF!,CY$1,#REF!)+SUMIF(#REF!,CY$1,#REF!)+SUMIF(#REF!,CY$1,#REF!)+SUMIF(#REF!,CY$1,#REF!)+SUMIF(#REF!,CY$1,#REF!)+SUMIF(#REF!,CY$1,#REF!)+SUMIF(#REF!,CY$1,#REF!)+SUMIF(#REF!,CY$1,#REF!)+SUMIF(#REF!,CY$1,#REF!) -> #REF! | DC7: =C7&E7 | DD7: =IF($DC7="",0,IF(COUNTIF($DC$2:$DC6,$DC7)=0,1,0)) -> 0
A8: 7 | B8: MR | AB8: AURAY | AC8: N. V (CAP / BEP) | AD8: =IF($AC8="","",IF($AC8="À l'étranger","À l'étranger",IF($AC8="N. VI et Vbis (sans diplôme validé)",2,IF($AC8="N. V (CAP / BEP)",3,IF($AC8="N. IV (bac)",4,IF($AC8="N. III (bac + 2)",5,IF($AC8="N. II (bac + 4 et bac +3)",6,"7/8"))))))) -> 3 | AE8: Brevet des collèges | AF8: 2014 | AG8: 2nde, 1ère enseignement général ou 2ème année CAP/BEP | AH8: 2016 | AI8: Jamais travaillé | AM8: BAC GEN | AN8: 2018 | AO8: ML | AP8: 43503 | AQ8: 43602 | AR8: 43524 | AS8: AF | AT8: 227 | AU8: 210 | AV8: 21 | AW8: 7 | AX8: 14 | AY8: 56 | AZ8: 21 | BA8: 59 | BB8: 21 | BC8: 0 | BI8: =SUM(BL8:BX8)+CY8 -> #REF! | BJ8: =#REF! -> #REF! | BK8: =#REF! -> #REF! | BL8: =BY8+CL8 -> #REF! | BM8: =BZ8+CM8 -> #REF! | BN8: =CA8+CN8 -> #REF! | BO8: =CB8+CO8 -> #REF! | BP8: =CC8+CP8 -> #REF! | BQ8: =CD8+CQ8 -> #REF! | BR8: =CE8+CR8 -> #REF! | BS8: =CF8+CS8 -> #REF! | ... BX8: =CK8+CX8 -> #REF! | BY8: =SUMIF(#REF!,BY$1,#REF!)+SUMIF(#REF!,BY$1,#REF!)+SUMIF(#REF!,BY$1,#REF!)+SUMIF(#REF!,BY$1,#REF!)+SUMIF(#REF!,BY$1,#REF!)+SUMIF(#REF!,BY$1,#REF!)+SUMIF(#REF!,BY$1,#REF!)+SUMIF(#REF!,BY$1,#REF!)+SUMIF(#REF!,BY$1,#REF!)+SUMIF(#REF!,BY$1,#REF!)+SUMIF(#REF!,BY$1,#REF!) -> #REF! | BZ8: =SUMIF(#REF!,BZ$1,#REF!)+SUMIF(#REF!,BZ$1,#REF!)+SUMIF(#REF!,BZ$1,#REF!)+SUMIF(#REF!,BZ$1,#REF!)+SUMIF(#REF!,BZ$1,#REF!)+SUMIF(#REF!,BZ$1,#REF!)+SUMIF(#REF!,BZ$1,#REF!)+SUMIF(#REF!,BZ$1,#REF!)+SUMIF(#REF!,BZ$1,#REF!)+SUMIF(#REF!,BZ$1,#REF!)+SUMIF(#REF!,BZ$1,#REF!) -> #REF! | CA8: =SUMIF(#REF!,CA$1,#REF!)+SUMIF(#REF!,CA$1,#REF!)+SUMIF(#REF!,CA$1,#REF!)+SUMIF(#REF!,CA$1,#REF!)+SUMIF(#REF!,CA$1,#REF!)+SUMIF(#REF!,CA$1,#REF!)+SUMIF(#REF!,CA$1,#REF!)+SUMIF(#REF!,CA$1,#REF!)+SUMIF(#REF!,CA$1,#REF!)+SUMIF(#REF!,CA$1,#REF!)+SUMIF(#REF!,CA$1,#REF!) -> #REF! | CB8: =SUMIF(#REF!,CB$1,#REF!)+SUMIF(#REF!,CB$1,#REF!)+SUMIF(#REF!,CB$1,#REF!)+SUMIF(#REF!,CB$1,#REF!)+SUMIF(#REF!,CB$1,#REF!)+SUMIF(#REF!,CB$1,#REF!)+SUMIF(#REF!,CB$1,#REF!)+SUMIF(#REF!,CB$1,#REF!)+SUMIF(#REF!,CB$1,#REF!)+SUMIF(#REF!,CB$1,#REF!)+SUMIF(#REF!,CB$1,#REF!) -> #REF! | CC8: =SUMIF(#REF!,CC$1,#REF!)+SUMIF(#REF!,CC$1,#REF!)+SUMIF(#REF!,CC$1,#REF!)+SUMIF(#REF!,CC$1,#REF!)+SUMIF(#REF!,CC$1,#REF!)+SUMIF(#REF!,CC$1,#REF!)+SUMIF(#REF!,CC$1,#REF!)+SUMIF(#REF!,CC$1,#REF!)+SUMIF(#REF!,CC$1,#REF!)+SUMIF(#REF!,CC$1,#REF!)+SUMIF(#REF!,CC$1,#REF!) -> #REF! | CD8: =SUMIF(#REF!,CD$1,#REF!)+SUMIF(#REF!,CD$1,#REF!)+SUMIF(#REF!,CD$1,#REF!)+SUMIF(#REF!,CD$1,#REF!)+SUMIF(#REF!,CD$1,#REF!)+SUMIF(#REF!,CD$1,#REF!)+SUMIF(#REF!,CD$1,#REF!)+SUMIF(#REF!,CD$1,#REF!)+SUMIF(#REF!,CD$1,#REF!)+SUMIF(#REF!,CD$1,#REF!)+SUMIF(#REF!,CD$1,#REF!) -> #REF! | CE8: =SUMIF(#REF!,CE$1,#REF!)+SUMIF(#REF!,CE$1,#REF!)+SUMIF(#REF!,CE$1,#REF!)+SUMIF(#REF!,CE$1,#REF!)+SUMIF(#REF!,CE$1,#REF!)+SUMIF(#REF!,CE$1,#REF!)+SUMIF(#REF!,CE$1,#REF!)+SUMIF(#REF!,CE$1,#REF!)+SUMIF(#REF!,CE$1,#REF!)+SUMIF(#REF!,CE$1,#REF!)+SUMIF(#REF!,CE$1,#REF!) -> #REF! | CF8: =SUMIF(#REF!,CF$1,#REF!)+SUMIF(#REF!,CF$1,#REF!)+SUMIF(#REF!,CF$1,#REF!)+SUMIF(#REF!,CF$1,#REF!)+SUMIF(#REF!,CF$1,#REF!)+SUMIF(#REF!,CF$1,#REF!)+SUMIF(#REF!,CF$1,#REF!)+SUMIF(#REF!,CF$1,#REF!)+SUMIF(#REF!,CF$1,#REF!)+SUMIF(#REF!,CF$1,#REF!)+SUMIF(#REF!,CF$1,#REF!) -> #REF! | ... CY8: =SUMIF(#REF!,CY$1,#REF!)+SUMIF(#REF!,CY$1,#REF!)+SUMIF(#REF!,CY$1,#REF!)+SUMIF(#REF!,CY$1,#REF!)+SUMIF(#REF!,CY$1,#REF!)+SUMIF(#REF!,CY$1,#REF!)+SUMIF(#REF!,CY$1,#REF!)+SUMIF(#REF!,CY$1,#REF!)+SUMIF(#REF!,CY$1,#REF!)+SUMIF(#REF!,CY$1,#REF!)+SUMIF(#REF!,CY$1,#REF!) -> #REF! | DC8: =C8&E8 | DD8: =IF($DC8="",0,IF(COUNTIF($DC$2:$DC7,$DC8)=0,1,0)) -> 0
A9: 8 | B9: MR | AB9: AURAY | AC9: N. V (CAP / BEP) | AD9: =IF($AC9="","",IF($AC9="À l'étranger","À l'étranger",IF($AC9="N. VI et Vbis (sans diplôme validé)",2,IF($AC9="N. V (CAP / BEP)",3,IF($AC9="N. IV (bac)",4,IF($AC9="N. III (bac + 2)",5,IF($AC9="N. II (bac + 4 et bac +3)",6,"7/8"))))))) -> 3 | AE9: CAP/BEP | AF9: 2015 | AG9: 2nde, 1ère enseignement général ou 2ème année CAP/BEP | AH9: 2015 | AI9: Jamais travaillé | AM9: CAP | AN9: 2015 | AO9: ML | AP9: 43503 | AQ9: 43601 | AS9: AF | AT9: 220 | AU9: 210 | AV9: 21 | AW9: 0 | AX9: 14 | AY9: 56 | AZ9: 21 | BA9: 59 | BB9: 21 | BC9: 0 | BI9: =SUM(BL9:BX9)+CY9 -> #REF! | BJ9: =#REF! -> #REF! | BK9: =#REF! -> #REF! | BL9: =BY9+CL9 -> #REF! | BM9: =BZ9+CM9 -> #REF! | BN9: =CA9+CN9 -> #REF! | BO9: =CB9+CO9 -> #REF! | BP9: =CC9+CP9 -> #REF! | BQ9: =CD9+CQ9 -> #REF! | BR9: =CE9+CR9 -> #REF! | BS9: =CF9+CS9 -> #REF! | ... BX9: =CK9+CX9 -> #REF! | BY9: =SUMIF(#REF!,BY$1,#REF!)+SUMIF(#REF!,BY$1,#REF!)+SUMIF(#REF!,BY$1,#REF!)+SUMIF(#REF!,BY$1,#REF!)+SUMIF(#REF!,BY$1,#REF!)+SUMIF(#REF!,BY$1,#REF!)+SUMIF(#REF!,BY$1,#REF!)+SUMIF(#REF!,BY$1,#REF!)+SUMIF(#REF!,BY$1,#REF!)+SUMIF(#REF!,BY$1,#REF!)+SUMIF(#REF!,BY$1,#REF!) -> #REF! | BZ9: =SUMIF(#REF!,BZ$1,#REF!)+SUMIF(#REF!,BZ$1,#REF!)+SUMIF(#REF!,BZ$1,#REF!)+SUMIF(#REF!,BZ$1,#REF!)+SUMIF(#REF!,BZ$1,#REF!)+SUMIF(#REF!,BZ$1,#REF!)+SUMIF(#REF!,BZ$1,#REF!)+SUMIF(#REF!,BZ$1,#REF!)+SUMIF(#REF!,BZ$1,#REF!)+SUMIF(#REF!,BZ$1,#REF!)+SUMIF(#REF!,BZ$1,#REF!) -> #REF! | CA9: =SUMIF(#REF!,CA$1,#REF!)+SUMIF(#REF!,CA$1,#REF!)+SUMIF(#REF!,CA$1,#REF!)+SUMIF(#REF!,CA$1,#REF!)+SUMIF(#REF!,CA$1,#REF!)+SUMIF(#REF!,CA$1,#REF!)+SUMIF(#REF!,CA$1,#REF!)+SUMIF(#REF!,CA$1,#REF!)+SUMIF(#REF!,CA$1,#REF!)+SUMIF(#REF!,CA$1,#REF!)+SUMIF(#REF!,CA$1,#REF!) -> #REF! | CB9: =SUMIF(#REF!,CB$1,#REF!)+SUMIF(#REF!,CB$1,#REF!)+SUMIF(#REF!,CB$1,#REF!)+SUMIF(#REF!,CB$1,#REF!)+SUMIF(#REF!,CB$1,#REF!)+SUMIF(#REF!,CB$1,#REF!)+SUMIF(#REF!,CB$1,#REF!)+SUMIF(#REF!,CB$1,#REF!)+SUMIF(#REF!,CB$1,#REF!)+SUMIF(#REF!,CB$1,#REF!)+SUMIF(#REF!,CB$1,#REF!) -> #REF! | CC9: =SUMIF(#REF!,CC$1,#REF!)+SUMIF(#REF!,CC$1,#REF!)+SUMIF(#REF!,CC$1,#REF!)+SUMIF(#REF!,CC$1,#REF!)+SUMIF(#REF!,CC$1,#REF!)+SUMIF(#REF!,CC$1,#REF!)+SUMIF(#REF!,CC$1,#REF!)+SUMIF(#REF!,CC$1,#REF!)+SUMIF(#REF!,CC$1,#REF!)+SUMIF(#REF!,CC$1,#REF!)+SUMIF(#REF!,CC$1,#REF!) -> #REF! | CD9: =SUMIF(#REF!,CD$1,#REF!)+SUMIF(#REF!,CD$1,#REF!)+SUMIF(#REF!,CD$1,#REF!)+SUMIF(#REF!,CD$1,#REF!)+SUMIF(#REF!,CD$1,#REF!)+SUMIF(#REF!,CD$1,#REF!)+SUMIF(#REF!,CD$1,#REF!)+SUMIF(#REF!,CD$1,#REF!)+SUMIF(#REF!,CD$1,#REF!)+SUMIF(#REF!,CD$1,#REF!)+SUMIF(#REF!,CD$1,#REF!) -> #REF! | CE9: =SUMIF(#REF!,CE$1,#REF!)+SUMIF(#REF!,CE$1,#REF!)+SUMIF(#REF!,CE$1,#REF!)+SUMIF(#REF!,CE$1,#REF!)+SUMIF(#REF!,CE$1,#REF!)+SUMIF(#REF!,CE$1,#REF!)+SUMIF(#REF!,CE$1,#REF!)+SUMIF(#REF!,CE$1,#REF!)+SUMIF(#REF!,CE$1,#REF!)+SUMIF(#REF!,CE$1,#REF!)+SUMIF(#REF!,CE$1,#REF!) -> #REF! | CF9: =SUMIF(#REF!,CF$1,#REF!)+SUMIF(#REF!,CF$1,#REF!)+SUMIF(#REF!,CF$1,#REF!)+SUMIF(#REF!,CF$1,#REF!)+SUMIF(#REF!,CF$1,#REF!)+SUMIF(#REF!,CF$1,#REF!)+SUMIF(#REF!,CF$1,#REF!)+SUMIF(#REF!,CF$1,#REF!)+SUMIF(#REF!,CF$1,#REF!)+SUMIF(#REF!,CF$1,#REF!)+SUMIF(#REF!,CF$1,#REF!) -> #REF! | ... CY9: =SUMIF(#REF!,CY$1,#REF!)+SUMIF(#REF!,CY$1,#REF!)+SUMIF(#REF!,CY$1,#REF!)+SUMIF(#REF!,CY$1,#REF!)+SUMIF(#REF!,CY$1,#REF!)+SUMIF(#REF!,CY$1,#REF!)+SUMIF(#REF!,CY$1,#REF!)+SUMIF(#REF!,CY$1,#REF!)+SUMIF(#REF!,CY$1,#REF!)+SUMIF(#REF!,CY$1,#REF!)+SUMIF(#REF!,CY$1,#REF!) -> #REF! | DC9: =C9&E9 | DD9: =IF($DC9="",0,IF(COUNTIF($DC$2:$DC8,$DC9)=0,1,0)) -> 0
A10: 9 | B10: MME | AB10: AURAY | AC10: N. IV (bac) | AD10: =IF($AC10="","",IF($AC10="À l'étranger","À l'étranger",IF($AC10="N. VI et Vbis (sans diplôme validé)",2,IF($AC10="N. V (CAP / BEP)",3,IF($AC10="N. IV (bac)",4,IF($AC10="N. III (bac + 2)",5,IF($AC10="N. II (bac + 4 et bac +3)",6,"7/8"))))))) -> 4 | AE10: BAC | AF10: 2017 | AG10: Terminale | AH10: 2017 | AI10: Employés | AJ10: 2019 | AK10: CDD | AL10: 18 | AM10: BAC PRO | AN10: 2017 | AO10: ML | AP10: 43503 | AQ10: 43601 | AS10: AREF | AT10: 220 | AU10: 210 | AV10: 21 | AW10: 0 | AX10: 14 | AY10: 56 | AZ10: 21 | BA10: 59 | BB10: 21 | BC10: 0 | BI10: =SUM(BL10:BX10)+CY10 -> #REF! | BJ10: =#REF! -> #REF! | BK10: =#REF! -> #REF! | BL10: =BY10+CL10 -> #REF! | BM10: =BZ10+CM10 -> #REF! | BN10: =CA10+CN10 -> #REF! | BO10: =CB10+CO10 -> #REF! | BP10: =CC10+CP10 -> #REF! | BQ10: =CD10+CQ10 -> #REF! | BR10: =CE10+CR10 -> #REF! | BS10: =CF10+CS10 -> #REF! | ... BX10: =CK10+CX10 -> #REF! | BY10: =SUMIF(#REF!,BY$1,#REF!)+SUMIF(#REF!,BY$1,#REF!)+SUMIF(#REF!,BY$1,#REF!)+SUMIF(#REF!,BY$1,#REF!)+SUMIF(#REF!,BY$1,#REF!)+SUMIF(#REF!,BY$1,#REF!)+SUMIF(#REF!,BY$1,#REF!)+SUMIF(#REF!,BY$1,#REF!)+SUMIF(#REF!,BY$1,#REF!)+SUMIF(#REF!,BY$1,#REF!)+SUMIF(#REF!,BY$1,#REF!) -> #REF! | BZ10: =SUMIF(#REF!,BZ$1,#REF!)+SUMIF(#REF!,BZ$1,#REF!)+SUMIF(#REF!,BZ$1,#REF!)+SUMIF(#REF!,BZ$1,#REF!)+SUMIF(#REF!,BZ$1,#REF!)+SUMIF(#REF!,BZ$1,#REF!)+SUMIF(#REF!,BZ$1,#REF!)+SUMIF(#REF!,BZ$1,#REF!)+SUMIF(#REF!,BZ$1,#REF!)+SUMIF(#REF!,BZ$1,#REF!)+SUMIF(#REF!,BZ$1,#REF!) -> #REF! | CA10: =SUMIF(#REF!,CA$1,#REF!)+SUMIF(#REF!,CA$1,#REF!)+SUMIF(#REF!,CA$1,#REF!)+SUMIF(#REF!,CA$1,#REF!)+SUMIF(#REF!,CA$1,#REF!)+SUMIF(#REF!,CA$1,#REF!)+SUMIF(#REF!,CA$1,#REF!)+SUMIF(#REF!,CA$1,#REF!)+SUMIF(#REF!,CA$1,#REF!)+SUMIF(#REF!,CA$1,#REF!)+SUMIF(#REF!,CA$1,#REF!) -> #REF! | CB10: =SUMIF(#REF!,CB$1,#REF!)+SUMIF(#REF!,CB$1,#REF!)+SUMIF(#REF!,CB$1,#REF!)+SUMIF(#REF!,CB$1,#REF!)+SUMIF(#REF!,CB$1,#REF!)+SUMIF(#REF!,CB$1,#REF!)+SUMIF(#REF!,CB$1,#REF!)+SUMIF(#REF!,CB$1,#REF!)+SUMIF(#REF!,CB$1,#REF!)+SUMIF(#REF!,CB$1,#REF!)+SUMIF(#REF!,CB$1,#REF!) -> #REF! | CC10: =SUMIF(#REF!,CC$1,#REF!)+SUMIF(#REF!,CC$1,#REF!)+SUMIF(#REF!,CC$1,#REF!)+SUMIF(#REF!,CC$1,#REF!)+SUMIF(#REF!,CC$1,#REF!)+SUMIF(#REF!,CC$1,#REF!)+SUMIF(#REF!,CC$1,#REF!)+SUMIF(#REF!,CC$1,#REF!)+SUMIF(#REF!,CC$1,#REF!)+SUMIF(#REF!,CC$1,#REF!)+SUMIF(#REF!,CC$1,#REF!) -> #REF! | CD10: =SUMIF(#REF!,CD$1,#REF!)+SUMIF(#REF!,CD$1,#REF!)+SUMIF(#REF!,CD$1,#REF!)+SUMIF(#REF!,CD$1,#REF!)+SUMIF(#REF!,CD$1,#REF!)+SUMIF(#REF!,CD$1,#REF!)+SUMIF(#REF!,CD$1,#REF!)+SUMIF(#REF!,CD$1,#REF!)+SUMIF(#REF!,CD$1,#REF!)+SUMIF(#REF!,CD$1,#REF!)+SUMIF(#REF!,CD$1,#REF!) -> #REF! | CE10: =SUMIF(#REF!,CE$1,#REF!)+SUMIF(#REF!,CE$1,#REF!)+SUMIF(#REF!,CE$1,#REF!)+SUMIF(#REF!,CE$1,#REF!)+SUMIF(#REF!,CE$1,#REF!)+SUMIF(#REF!,CE$1,#REF!)+SUMIF(#REF!,CE$1,#REF!)+SUMIF(#REF!,CE$1,#REF!)+SUMIF(#REF!,CE$1,#REF!)+SUMIF(#REF!,CE$1,#REF!)+SUMIF(#REF!,CE$1,#REF!) -> #REF! | CF10: =SUMIF(#REF!,CF$1,#REF!)+SUMIF(#REF!,CF$1,#REF!)+SUMIF(#REF!,CF$1,#REF!)+SUMIF(#REF!,CF$1,#REF!)+SUMIF(#REF!,CF$1,#REF!)+SUMIF(#REF!,CF$1,#REF!)+SUMIF(#REF!,CF$1,#REF!)+SUMIF(#REF!,CF$1,#REF!)+SUMIF(#REF!,CF$1,#REF!)+SUMIF(#REF!,CF$1,#REF!)+SUMIF(#REF!,CF$1,#REF!) -> #REF! | ... CY10: =SUMIF(#REF!,CY$1,#REF!)+SUMIF(#REF!,CY$1,#REF!)+SUMIF(#REF!,CY$1,#REF!)+SUMIF(#REF!,CY$1,#REF!)+SUMIF(#REF!,CY$1,#REF!)+SUMIF(#REF!,CY$1,#REF!)+SUMIF(#REF!,CY$1,#REF!)+SUMIF(#REF!,CY$1,#REF!)+SUMIF(#REF!,CY$1,#REF!)+SUMIF(#REF!,CY$1,#REF!)+SUMIF(#REF!,CY$1,#REF!) -> #REF! | DC10: =C10&E10 | DD10: =IF($DC10="",0,IF(COUNTIF($DC$2:$DC9,$DC10)=0,1,0)) -> 0
A11: 10 | B11: MR | AB11: AURAY | AC11: N. II (bac + 4 et bac +3) | AD11: =IF($AC11="","",IF($AC11="À l'étranger","À l'étranger",IF($AC11="N. VI et Vbis (sans diplôme validé)",2,IF($AC11="N. V (CAP / BEP)",3,IF($AC11="N. IV (bac)",4,IF($AC11="N. III (bac + 2)",5,IF($AC11="N. II (bac + 4 et bac +3)",6,"7/8"))))))) -> 6 | AE11: Maitrise, master 1 = bac + 4 | AF11: 2018 | AG11: Classes de 2e ou 3e cycle de l’enseignement supérieur | AH11: 2018 | AI11: Jamais travaillé | AM11: MASTER | AN11: 2018 | AO11: ML | AP11: 43503 | AQ11: 43602 | AS11: AF | AT11: 227 | AU11: 210 | AV11: 21 | AW11: 7 | AX11: 14 | AY11: 56 | AZ11: 21 | BA11: 59 | BB11: 21 | BC11: 0 | BI11: =SUM(BL11:BX11)+CY11 -> #REF! | BJ11: =#REF! -> #REF! | BK11: =#REF! -> #REF! | BL11: =BY11+CL11 -> #REF! | BM11: =BZ11+CM11 -> #REF! | BN11: =CA11+CN11 -> #REF! | BO11: =CB11+CO11 -> #REF! | BP11: =CC11+CP11 -> #REF! | BQ11: =CD11+CQ11 -> #REF! | BR11: =CE11+CR11 -> #REF! | BS11: =CF11+CS11 -> #REF! | ... BX11: =CK11+CX11 -> #REF! | BY11: =SUMIF(#REF!,BY$1,#REF!)+SUMIF(#REF!,BY$1,#REF!)+SUMIF(#REF!,BY$1,#REF!)+SUMIF(#REF!,BY$1,#REF!)+SUMIF(#REF!,BY$1,#REF!)+SUMIF(#REF!,BY$1,#REF!)+SUMIF(#REF!,BY$1,#REF!)+SUMIF(#REF!,BY$1,#REF!)+SUMIF(#REF!,BY$1,#REF!)+SUMIF(#REF!,BY$1,#REF!)+SUMIF(#REF!,BY$1,#REF!) -> #REF! | BZ11: =SUMIF(#REF!,BZ$1,#REF!)+SUMIF(#REF!,BZ$1,#REF!)+SUMIF(#REF!,BZ$1,#REF!)+SUMIF(#REF!,BZ$1,#REF!)+SUMIF(#REF!,BZ$1,#REF!)+SUMIF(#REF!,BZ$1,#REF!)+SUMIF(#REF!,BZ$1,#REF!)+SUMIF(#REF!,BZ$1,#REF!)+SUMIF(#REF!,BZ$1,#REF!)+SUMIF(#REF!,BZ$1,#REF!)+SUMIF(#REF!,BZ$1,#REF!) -> #REF! | CA11: =SUMIF(#REF!,CA$1,#REF!)+SUMIF(#REF!,CA$1,#REF!)+SUMIF(#REF!,CA$1,#REF!)+SUMIF(#REF!,CA$1,#REF!)+SUMIF(#REF!,CA$1,#REF!)+SUMIF(#REF!,CA$1,#REF!)+SUMIF(#REF!,CA$1,#REF!)+SUMIF(#REF!,CA$1,#REF!)+SUMIF(#REF!,CA$1,#REF!)+SUMIF(#REF!,CA$1,#REF!)+SUMIF(#REF!,CA$1,#REF!) -> #REF! | CB11: =SUMIF(#REF!,CB$1,#REF!)+SUMIF(#REF!,CB$1,#REF!)+SUMIF(#REF!,CB$1,#REF!)+SUMIF(#REF!,CB$1,#REF!)+SUMIF(#REF!,CB$1,#REF!)+SUMIF(#REF!,CB$1,#REF!)+SUMIF(#REF!,CB$1,#REF!)+SUMIF(#REF!,CB$1,#REF!)+SUMIF(#REF!,CB$1,#REF!)+SUMIF(#REF!,CB$1,#REF!)+SUMIF(#REF!,CB$1,#REF!) -> #REF! | CC11: =SUMIF(#REF!,CC$1,#REF!)+SUMIF(#REF!,CC$1,#REF!)+SUMIF(#REF!,CC$1,#REF!)+SUMIF(#REF!,CC$1,#REF!)+SUMIF(#REF!,CC$1,#REF!)+SUMIF(#REF!,CC$1,#REF!)+SUMIF(#REF!,CC$1,#REF!)+SUMIF(#REF!,CC$1,#REF!)+SUMIF(#REF!,CC$1,#REF!)+SUMIF(#REF!,CC$1,#REF!)+SUMIF(#REF!,CC$1,#REF!) -> #REF! | CD11: =SUMIF(#REF!,CD$1,#REF!)+SUMIF(#REF!,CD$1,#REF!)+SUMIF(#REF!,CD$1,#REF!)+SUMIF(#REF!,CD$1,#REF!)+SUMIF(#REF!,CD$1,#REF!)+SUMIF(#REF!,CD$1,#REF!)+SUMIF(#REF!,CD$1,#REF!)+SUMIF(#REF!,CD$1,#REF!)+SUMIF(#REF!,CD$1,#REF!)+SUMIF(#REF!,CD$1,#REF!)+SUMIF(#REF!,CD$1,#REF!) -> #REF! | CE11: =SUMIF(#REF!,CE$1,#REF!)+SUMIF(#REF!,CE$1,#REF!)+SUMIF(#REF!,CE$1,#REF!)+SUMIF(#REF!,CE$1,#REF!)+SUMIF(#REF!,CE$1,#REF!)+SUMIF(#REF!,CE$1,#REF!)+SUMIF(#REF!,CE$1,#REF!)+SUMIF(#REF!,CE$1,#REF!)+SUMIF(#REF!,CE$1,#REF!)+SUMIF(#REF!,CE$1,#REF!)+SUMIF(#REF!,CE$1,#REF!) -> #REF! | CF11: =SUMIF(#REF!,CF$1,#REF!)+SUMIF(#REF!,CF$1,#REF!)+SUMIF(#REF!,CF$1,#REF!)+SUMIF(#REF!,CF$1,#REF!)+SUMIF(#REF!,CF$1,#REF!)+SUMIF(#REF!,CF$1,#REF!)+SUMIF(#REF!,CF$1,#REF!)+SUMIF(#REF!,CF$1,#REF!)+SUMIF(#REF!,CF$1,#REF!)+SUMIF(#REF!,CF$1,#REF!)+SUMIF(#REF!,CF$1,#REF!) -> #REF! | ... CY11: =SUMIF(#REF!,CY$1,#REF!)+SUMIF(#REF!,CY$1,#REF!)+SUMIF(#REF!,CY$1,#REF!)+SUMIF(#REF!,CY$1,#REF!)+SUMIF(#REF!,CY$1,#REF!)+SUMIF(#REF!,CY$1,#REF!)+SUMIF(#REF!,CY$1,#REF!)+SUMIF(#REF!,CY$1,#REF!)+SUMIF(#REF!,CY$1,#REF!)+SUMIF(#REF!,CY$1,#REF!)+SUMIF(#REF!,CY$1,#REF!) -> #REF! | DC11: =C11&E11 | DD11: =IF($DC11="",0,IF(COUNTIF($DC$2:$DC10,$DC11)=0,1,0)) -> 0
A12: 11 | B12: MME | AB12: AURAY | AC12: N. III (bac + 2) | AD12: =IF($AC12="","",IF($AC12="À l'étranger","À l'étranger",IF($AC12="N. VI et Vbis (sans diplôme validé)",2,IF($AC12="N. V (CAP / BEP)",3,IF($AC12="N. IV (bac)",4,IF($AC12="N. III (bac + 2)",5,IF($AC12="N. II (bac + 4 et bac +3)",6,"7/8"))))))) -> 5 | AE12: DEUG / BTS / DUT / DEUST = bac + 2 | AF12: 2014 | AG12: 1ère ou 2ème année du 1er cycle enseignement supérieur, formations sanitaires et sociales | AH12: 2018 | AI12: Employés | AJ12: 2018 | AK12: CDI | AL12: 34 | AM12: DUT | AN12: 2018 | AO12: ML | AP12: 43503 | AQ12: 43616 | AS12: AF | AT12: 226 | AU12: 210 | AV12: 21 | AW12: 0 | AX12: 14 | AY12: 56 | AZ12: 21 | BA12: 59 | BB12: 21 | BC12: 0 | BD12: 102 | BI12: =SUM(BL12:BX12)+CY12 -> #REF! | BJ12: =#REF! -> #REF! | BK12: =#REF! -> #REF! | BL12: =BY12+CL12 -> #REF! | BM12: =BZ12+CM12 -> #REF! | BN12: =CA12+CN12 -> #REF! | BO12: =CB12+CO12 -> #REF! | BP12: =CC12+CP12 -> #REF! | BQ12: =CD12+CQ12 -> #REF! | BR12: =CE12+CR12 -> #REF! | BS12: =CF12+CS12 -> #REF! | ... BX12: =CK12+CX12 -> #REF! | BY12: =SUMIF(#REF!,BY$1,#REF!)+SUMIF(#REF!,BY$1,#REF!)+SUMIF(#REF!,BY$1,#REF!)+SUMIF(#REF!,BY$1,#REF!)+SUMIF(#REF!,BY$1,#REF!)+SUMIF(#REF!,BY$1,#REF!)+SUMIF(#REF!,BY$1,#REF!)+SUMIF(#REF!,BY$1,#REF!)+SUMIF(#REF!,BY$1,#REF!)+SUMIF(#REF!,BY$1,#REF!)+SUMIF(#REF!,BY$1,#REF!) -> #REF! | BZ12: =SUMIF(#REF!,BZ$1,#REF!)+SUMIF(#REF!,BZ$1,#REF!)+SUMIF(#REF!,BZ$1,#REF!)+SUMIF(#REF!,BZ$1,#REF!)+SUMIF(#REF!,BZ$1,#REF!)+SUMIF(#REF!,BZ$1,#REF!)+SUMIF(#REF!,BZ$1,#REF!)+SUMIF(#REF!,BZ$1,#REF!)+SUMIF(#REF!,BZ$1,#REF!)+SUMIF(#REF!,BZ$1,#REF!)+SUMIF(#REF!,BZ$1,#REF!) -> #REF! | CA12: =SUMIF(#REF!,CA$1,#REF!)+SUMIF(#REF!,CA$1,#REF!)+SUMIF(#REF!,CA$1,#REF!)+SUMIF(#REF!,CA$1,#REF!)+SUMIF(#REF!,CA$1,#REF!)+SUMIF(#REF!,CA$1,#REF!)+SUMIF(#REF!,CA$1,#REF!)+SUMIF(#REF!,CA$1,#REF!)+SUMIF(#REF!,CA$1,#REF!)+SUMIF(#REF!,CA$1,#REF!)+SUMIF(#REF!,CA$1,#REF!) -> #REF! | CB12: =SUMIF(#REF!,CB$1,#REF!)+SUMIF(#REF!,CB$1,#REF!)+SUMIF(#REF!,CB$1,#REF!)+SUMIF(#REF!,CB$1,#REF!)+SUMIF(#REF!,CB$1,#REF!)+SUMIF(#REF!,CB$1,#REF!)+SUMIF(#REF!,CB$1,#REF!)+SUMIF(#REF!,CB$1,#REF!)+SUMIF(#REF!,CB$1,#REF!)+SUMIF(#REF!,CB$1,#REF!)+SUMIF(#REF!,CB$1,#REF!) -> #REF! | CC12: =SUMIF(#REF!,CC$1,#REF!)+SUMIF(#REF!,CC$1,#REF!)+SUMIF(#REF!,CC$1,#REF!)+SUMIF(#REF!,CC$1,#REF!)+SUMIF(#REF!,CC$1,#REF!)+SUMIF(#REF!,CC$1,#REF!)+SUMIF(#REF!,CC$1,#REF!)+SUMIF(#REF!,CC$1,#REF!)+SUMIF(#REF!,CC$1,#REF!)+SUMIF(#REF!,CC$1,#REF!)+SUMIF(#REF!,CC$1,#REF!) -> #REF! | CD12: =SUMIF(#REF!,CD$1,#REF!)+SUMIF(#REF!,CD$1,#REF!)+SUMIF(#REF!,CD$1,#REF!)+SUMIF(#REF!,CD$1,#REF!)+SUMIF(#REF!,CD$1,#REF!)+SUMIF(#REF!,CD$1,#REF!)+SUMIF(#REF!,CD$1,#REF!)+SUMIF(#REF!,CD$1,#REF!)+SUMIF(#REF!,CD$1,#REF!)+SUMIF(#REF!,CD$1,#REF!)+SUMIF(#REF!,CD$1,#REF!) -> #REF! | CE12: =SUMIF(#REF!,CE$1,#REF!)+SUMIF(#REF!,CE$1,#REF!)+SUMIF(#REF!,CE$1,#REF!)+SUMIF(#REF!,CE$1,#REF!)+SUMIF(#REF!,CE$1,#REF!)+SUMIF(#REF!,CE$1,#REF!)+SUMIF(#REF!,CE$1,#REF!)+SUMIF(#REF!,CE$1,#REF!)+SUMIF(#REF!,CE$1,#REF!)+SUMIF(#REF!,CE$1,#REF!)+SUMIF(#REF!,CE$1,#REF!) -> #REF! | CF12: =SUMIF(#REF!,CF$1,#REF!)+SUMIF(#REF!,CF$1,#REF!)+SUMIF(#REF!,CF$1,#REF!)+SUMIF(#REF!,CF$1,#REF!)+SUMIF(#REF!,CF$1,#REF!)+SUMIF(#REF!,CF$1,#REF!)+SUMIF(#REF!,CF$1,#REF!)+SUMIF(#REF!,CF$1,#REF!)+SUMIF(#REF!,CF$1,#REF!)+SUMIF(#REF!,CF$1,#REF!)+SUMIF(#REF!,CF$1,#REF!) -> #REF! | ... CY12: =SUMIF(#REF!,CY$1,#REF!)+SUMIF(#REF!,CY$1,#REF!)+SUMIF(#REF!,CY$1,#REF!)+SUMIF(#REF!,CY$1,#REF!)+SUMIF(#REF!,CY$1,#REF!)+SUMIF(#REF!,CY$1,#REF!)+SUMIF(#REF!,CY$1,#REF!)+SUMIF(#REF!,CY$1,#REF!)+SUMIF(#REF!,CY$1,#REF!)+SUMIF(#REF!,CY$1,#REF!)+SUMIF(#REF!,CY$1,#REF!) -> #REF! | DC12: =C12&E12 | DD12: =IF($DC12="",0,IF(COUNTIF($DC$2:$DC11,$DC12)=0,1,0)) -> 0
A13: 12 | B13: MME | AB13: AURAY | AC13: N. IV (bac) | AD13: =IF($AC13="","",IF($AC13="À l'étranger","À l'étranger",IF($AC13="N. VI et Vbis (sans diplôme validé)",2,IF($AC13="N. V (CAP / BEP)",3,IF($AC13="N. IV (bac)",4,IF($AC13="N. III (bac + 2)",5,IF($AC13="N. II (bac + 4 et bac +3)",6,"7/8"))))))) -> 4 | AE13: BAC | AF13: 2016 | AG13: Terminale | AH13: 2018 | AI13: Employés | AJ13: 01/10/20190 | AK13: CDI | AL13: 39 | AM13: BTS | AN13: 2018 | AO13: ML | AP13: 43503 | AQ13: 43615 | AR13: 43563 | AS13: AF | AT13: 226 | AU13: 210 | AV13: 21 | AW13: 0 | AX13: 14 | AY13: 56 | AZ13: 21 | BA13: 59 | BB13: 21 | BC13: 0 | BD13: 102 | BI13: =SUM(BL13:BX13)+CY13 -> #REF! | BJ13: =#REF! -> #REF! | BK13: =#REF! -> #REF! | BL13: =BY13+CL13 -> #REF! | BM13: =BZ13+CM13 -> #REF! | BN13: =CA13+CN13 -> #REF! | BO13: =CB13+CO13 -> #REF! | BP13: =CC13+CP13 -> #REF! | BQ13: =CD13+CQ13 -> #REF! | BR13: =CE13+CR13 -> #REF! | BS13: =CF13+CS13 -> #REF! | ... BX13: =CK13+CX13 -> #REF! | BY13: =SUMIF(#REF!,BY$1,#REF!)+SUMIF(#REF!,BY$1,#REF!)+SUMIF(#REF!,BY$1,#REF!)+SUMIF(#REF!,BY$1,#REF!)+SUMIF(#REF!,BY$1,#REF!)+SUMIF(#REF!,BY$1,#REF!)+SUMIF(#REF!,BY$1,#REF!)+SUMIF(#REF!,BY$1,#REF!)+SUMIF(#REF!,BY$1,#REF!)+SUMIF(#REF!,BY$1,#REF!)+SUMIF(#REF!,BY$1,#REF!) -> #REF! | BZ13: =SUMIF(#REF!,BZ$1,#REF!)+SUMIF(#REF!,BZ$1,#REF!)+SUMIF(#REF!,BZ$1,#REF!)+SUMIF(#REF!,BZ$1,#REF!)+SUMIF(#REF!,BZ$1,#REF!)+SUMIF(#REF!,BZ$1,#REF!)+SUMIF(#REF!,BZ$1,#REF!)+SUMIF(#REF!,BZ$1,#REF!)+SUMIF(#REF!,BZ$1,#REF!)+SUMIF(#REF!,BZ$1,#REF!)+SUMIF(#REF!,BZ$1,#REF!) -> #REF! | CA13: =SUMIF(#REF!,CA$1,#REF!)+SUMIF(#REF!,CA$1,#REF!)+SUMIF(#REF!,CA$1,#REF!)+SUMIF(#REF!,CA$1,#REF!)+SUMIF(#REF!,CA$1,#REF!)+SUMIF(#REF!,CA$1,#REF!)+SUMIF(#REF!,CA$1,#REF!)+SUMIF(#REF!,CA$1,#REF!)+SUMIF(#REF!,CA$1,#REF!)+SUMIF(#REF!,CA$1,#REF!)+SUMIF(#REF!,CA$1,#REF!) -> #REF! | CB13: =SUMIF(#REF!,CB$1,#REF!)+SUMIF(#REF!,CB$1,#REF!)+SUMIF(#REF!,CB$1,#REF!)+SUMIF(#REF!,CB$1,#REF!)+SUMIF(#REF!,CB$1,#REF!)+SUMIF(#REF!,CB$1,#REF!)+SUMIF(#REF!,CB$1,#REF!)+SUMIF(#REF!,CB$1,#REF!)+SUMIF(#REF!,CB$1,#REF!)+SUMIF(#REF!,CB$1,#REF!)+SUMIF(#REF!,CB$1,#REF!) -> #REF! | CC13: =SUMIF(#REF!,CC$1,#REF!)+SUMIF(#REF!,CC$1,#REF!)+SUMIF(#REF!,CC$1,#REF!)+SUMIF(#REF!,CC$1,#REF!)+SUMIF(#REF!,CC$1,#REF!)+SUMIF(#REF!,CC$1,#REF!)+SUMIF(#REF!,CC$1,#REF!)+SUMIF(#REF!,CC$1,#REF!)+SUMIF(#REF!,CC$1,#REF!)+SUMIF(#REF!,CC$1,#REF!)+SUMIF(#REF!,CC$1,#REF!) -> #REF! | CD13: =SUMIF(#REF!,CD$1,#REF!)+SUMIF(#REF!,CD$1,#REF!)+SUMIF(#REF!,CD$1,#REF!)+SUMIF(#REF!,CD$1,#REF!)+SUMIF(#REF!,CD$1,#REF!)+SUMIF(#REF!,CD$1,#REF!)+SUMIF(#REF!,CD$1,#REF!)+SUMIF(#REF!,CD$1,#REF!)+SUMIF(#REF!,CD$1,#REF!)+SUMIF(#REF!,CD$1,#REF!)+SUMIF(#REF!,CD$1,#REF!) -> #REF! | CE13: =SUMIF(#REF!,CE$1,#REF!)+SUMIF(#REF!,CE$1,#REF!)+SUMIF(#REF!,CE$1,#REF!)+SUMIF(#REF!,CE$1,#REF!)+SUMIF(#REF!,CE$1,#REF!)+SUMIF(#REF!,CE$1,#REF!)+SUMIF(#REF!,CE$1,#REF!)+SUMIF(#REF!,CE$1,#REF!)+SUMIF(#REF!,CE$1,#REF!)+SUMIF(#REF!,CE$1,#REF!)+SUMIF(#REF!,CE$1,#REF!) -> #REF! | CF13: =SUMIF(#REF!,CF$1,#REF!)+SUMIF(#REF!,CF$1,#REF!)+SUMIF(#REF!,CF$1,#REF!)+SUMIF(#REF!,CF$1,#REF!)+SUMIF(#REF!,CF$1,#REF!)+SUMIF(#REF!,CF$1,#REF!)+SUMIF(#REF!,CF$1,#REF!)+SUMIF(#REF!,CF$1,#REF!)+SUMIF(#REF!,CF$1,#REF!)+SUMIF(#REF!,CF$1,#REF!)+SUMIF(#REF!,CF$1,#REF!) -> #REF! | ... CY13: =SUMIF(#REF!,CY$1,#REF!)+SUMIF(#REF!,CY$1,#REF!)+SUMIF(#REF!,CY$1,#REF!)+SUMIF(#REF!,CY$1,#REF!)+SUMIF(#REF!,CY$1,#REF!)+SUMIF(#REF!,CY$1,#REF!)+SUMIF(#REF!,CY$1,#REF!)+SUMIF(#REF!,CY$1,#REF!)+SUMIF(#REF!,CY$1,#REF!)+SUMIF(#REF!,CY$1,#REF!)+SUMIF(#REF!,CY$1,#REF!) -> #REF! | DC13: =C13&E13 | DD13: =IF($DC13="",0,IF(COUNTIF($DC$2:$DC12,$DC13)=0,1,0)) -> 0 | DG13: 43564 | DH13: 43735
A14: 13 | B14: MME | AB14: AURAY | AC14: N. V (CAP / BEP) | AD14: =IF($AC14="","",IF($AC14="À l'étranger","À l'étranger",IF($AC14="N. VI et Vbis (sans diplôme validé)",2,IF($AC14="N. V (CAP / BEP)",3,IF($AC14="N. IV (bac)",4,IF($AC14="N. III (bac + 2)",5,IF($AC14="N. II (bac + 4 et bac +3)",6,"7/8"))))))) -> 3 | AE14: CAP/BEP | AF14: 1980 | AG14: Niveau V ( CAP/BEP) | AH14: 1980 | AI14: Ouvriers | AJ14: 2018 | AK14: INTERIM | AL14: 158 | AM14: CAP | AN14: 1980 | AO14: ML | AP14: 43503 | AQ14: 43602 | AS14: AF | AT14: 227 | AU14: 210 | AV14: 21 | AW14: 0 | AX14: 14 | AY14: 56 | AZ14: 21 | BA14: 59 | BB14: 21 | BC14: 7 | BI14: =SUM(BL14:BX14)+CY14 -> #REF! | BJ14: =#REF! -> #REF! | BK14: =#REF! -> #REF! | BL14: =BY14+CL14 -> #REF! | BM14: =BZ14+CM14 -> #REF! | BN14: =CA14+CN14 -> #REF! | BO14: =CB14+CO14 -> #REF! | BP14: =CC14+CP14 -> #REF! | BQ14: =CD14+CQ14 -> #REF! | BR14: =CE14+CR14 -> #REF! | BS14: =CF14+CS14 -> #REF! | ... BX14: =CK14+CX14 -> #REF! | BY14: =SUMIF(#REF!,BY$1,#REF!)+SUMIF(#REF!,BY$1,#REF!)+SUMIF(#REF!,BY$1,#REF!)+SUMIF(#REF!,BY$1,#REF!)+SUMIF(#REF!,BY$1,#REF!)+SUMIF(#REF!,BY$1,#REF!)+SUMIF(#REF!,BY$1,#REF!)+SUMIF(#REF!,BY$1,#REF!)+SUMIF(#REF!,BY$1,#REF!)+SUMIF(#REF!,BY$1,#REF!)+SUMIF(#REF!,BY$1,#REF!) -> #REF! | BZ14: =SUMIF(#REF!,BZ$1,#REF!)+SUMIF(#REF!,BZ$1,#REF!)+SUMIF(#REF!,BZ$1,#REF!)+SUMIF(#REF!,BZ$1,#REF!)+SUMIF(#REF!,BZ$1,#REF!)+SUMIF(#REF!,BZ$1,#REF!)+SUMIF(#REF!,BZ$1,#REF!)+SUMIF(#REF!,BZ$1,#REF!)+SUMIF(#REF!,BZ$1,#REF!)+SUMIF(#REF!,BZ$1,#REF!)+SUMIF(#REF!,BZ$1,#REF!) -> #REF! | CA14: =SUMIF(#REF!,CA$1,#REF!)+SUMIF(#REF!,CA$1,#REF!)+SUMIF(#REF!,CA$1,#REF!)+SUMIF(#REF!,CA$1,#REF!)+SUMIF(#REF!,CA$1,#REF!)+SUMIF(#REF!,CA$1,#REF!)+SUMIF(#REF!,CA$1,#REF!)+SUMIF(#REF!,CA$1,#REF!)+SUMIF(#REF!,CA$1,#REF!)+SUMIF(#REF!,CA$1,#REF!)+SUMIF(#REF!,CA$1,#REF!) -> #REF! | CB14: =SUMIF(#REF!,CB$1,#REF!)+SUMIF(#REF!,CB$1,#REF!)+SUMIF(#REF!,CB$1,#REF!)+SUMIF(#REF!,CB$1,#REF!)+SUMIF(#REF!,CB$1,#REF!)+SUMIF(#REF!,CB$1,#REF!)+SUMIF(#REF!,CB$1,#REF!)+SUMIF(#REF!,CB$1,#REF!)+SUMIF(#REF!,CB$1,#REF!)+SUMIF(#REF!,CB$1,#REF!)+SUMIF(#REF!,CB$1,#REF!) -> #REF! | CC14: =SUMIF(#REF!,CC$1,#REF!)+SUMIF(#REF!,CC$1,#REF!)+SUMIF(#REF!,CC$1,#REF!)+SUMIF(#REF!,CC$1,#REF!)+SUMIF(#REF!,CC$1,#REF!)+SUMIF(#REF!,CC$1,#REF!)+SUMIF(#REF!,CC$1,#REF!)+SUMIF(#REF!,CC$1,#REF!)+SUMIF(#REF!,CC$1,#REF!)+SUMIF(#REF!,CC$1,#REF!)+SUMIF(#REF!,CC$1,#REF!) -> #REF! | CD14: =SUMIF(#REF!,CD$1,#REF!)+SUMIF(#REF!,CD$1,#REF!)+SUMIF(#REF!,CD$1,#REF!)+SUMIF(#REF!,CD$1,#REF!)+SUMIF(#REF!,CD$1,#REF!)+SUMIF(#REF!,CD$1,#REF!)+SUMIF(#REF!,CD$1,#REF!)+SUMIF(#REF!,CD$1,#REF!)+SUMIF(#REF!,CD$1,#REF!)+SUMIF(#REF!,CD$1,#REF!)+SUMIF(#REF!,CD$1,#REF!) -> #REF! | CE14: =SUMIF(#REF!,CE$1,#REF!)+SUMIF(#REF!,CE$1,#REF!)+SUMIF(#REF!,CE$1,#REF!)+SUMIF(#REF!,CE$1,#REF!)+SUMIF(#REF!,CE$1,#REF!)+SUMIF(#REF!,CE$1,#REF!)+SUMIF(#REF!,CE$1,#REF!)+SUMIF(#REF!,CE$1,#REF!)+SUMIF(#REF!,CE$1,#REF!)+SUMIF(#REF!,CE$1,#REF!)+SUMIF(#REF!,CE$1,#REF!) -> #REF! | CF14: =SUMIF(#REF!,CF$1,#REF!)+SUMIF(#REF!,CF$1,#REF!)+SUMIF(#REF!,CF$1,#REF!)+SUMIF(#REF!,CF$1,#REF!)+SUMIF(#REF!,CF$1,#REF!)+SUMIF(#REF!,CF$1,#REF!)+SUMIF(#REF!,CF$1,#REF!)+SUMIF(#REF!,CF$1,#REF!)+SUMIF(#REF!,CF$1,#REF!)+SUMIF(#REF!,CF$1,#REF!)+SUMIF(#REF!,CF$1,#REF!) -> #REF! | ... CY14: =SUMIF(#REF!,CY$1,#REF!)+SUMIF(#REF!,CY$1,#REF!)+SUMIF(#REF!,CY$1,#REF!)+SUMIF(#REF!,CY$1,#REF!)+SUMIF(#REF!,CY$1,#REF!)+SUMIF(#REF!,CY$1,#REF!)+SUMIF(#REF!,CY$1,#REF!)+SUMIF(#REF!,CY$1,#REF!)+SUMIF(#REF!,CY$1,#REF!)+SUMIF(#REF!,CY$1,#REF!)+SUMIF(#REF!,CY$1,#REF!) -> #REF! | DC14: =C14&E14 | DD14: =IF($DC14="",0,IF(COUNTIF($DC$2:$DC13,$DC14)=0,1,0)) -> 0
A15: 14 | B15: MME | AB15: AURAY | AC15: N. V (CAP / BEP) | AD15: =IF($AC15="","",IF($AC15="À l'étranger","À l'étranger",IF($AC15="N. VI et Vbis (sans diplôme validé)",2,IF($AC15="N. V (CAP / BEP)",3,IF($AC15="N. IV (bac)",4,IF($AC15="N. III (bac + 2)",5,IF($AC15="N. II (bac + 4 et bac +3)",6,"7/8"))))))) -> 3 | AE15: Aucun diplôme | AG15: 3e ou première année de CAP ou BEP | AH15: 2018 | AI15: Ouvriers | AJ15: 43415 | AK15: INTERIM | AL15: 5 | AM15: CAP | AN15: 2018 | AO15: ML | AP15: 43503 | AQ15: 43601 | AR15: 43567 | AS15: AREF | AT15: 220 | AU15: 210 | AV15: 21 | AW15: 0 | AX15: 14 | AY15: 56 | AZ15: 21 | BA15: 59 | BB15: 21 | BC15: 7 | BI15: =SUM(BL15:BX15)+CY15 -> #REF! | BJ15: =#REF! -> #REF! | BK15: =#REF! -> #REF! | BL15: =BY15+CL15 -> #REF! | BM15: =BZ15+CM15 -> #REF! | BN15: =CA15+CN15 -> #REF! | BO15: =CB15+CO15 -> #REF! | BP15: =CC15+CP15 -> #REF! | BQ15: =CD15+CQ15 -> #REF! | BR15: =CE15+CR15 -> #REF! | BS15: =CF15+CS15 -> #REF! | ... BX15: =CK15+CX15 -> #REF! | BY15: =SUMIF(#REF!,BY$1,#REF!)+SUMIF(#REF!,BY$1,#REF!)+SUMIF(#REF!,BY$1,#REF!)+SUMIF(#REF!,BY$1,#REF!)+SUMIF(#REF!,BY$1,#REF!)+SUMIF(#REF!,BY$1,#REF!)+SUMIF(#REF!,BY$1,#REF!)+SUMIF(#REF!,BY$1,#REF!)+SUMIF(#REF!,BY$1,#REF!)+SUMIF(#REF!,BY$1,#REF!)+SUMIF(#REF!,BY$1,#REF!) -> #REF! | BZ15: =SUMIF(#REF!,BZ$1,#REF!)+SUMIF(#REF!,BZ$1,#REF!)+SUMIF(#REF!,BZ$1,#REF!)+SUMIF(#REF!,BZ$1,#REF!)+SUMIF(#REF!,BZ$1,#REF!)+SUMIF(#REF!,BZ$1,#REF!)+SUMIF(#REF!,BZ$1,#REF!)+SUMIF(#REF!,BZ$1,#REF!)+SUMIF(#REF!,BZ$1,#REF!)+SUMIF(#REF!,BZ$1,#REF!)+SUMIF(#REF!,BZ$1,#REF!) -> #REF! | CA15: =SUMIF(#REF!,CA$1,#REF!)+SUMIF(#REF!,CA$1,#REF!)+SUMIF(#REF!,CA$1,#REF!)+SUMIF(#REF!,CA$1,#REF!)+SUMIF(#REF!,CA$1,#REF!)+SUMIF(#REF!,CA$1,#REF!)+SUMIF(#REF!,CA$1,#REF!)+SUMIF(#REF!,CA$1,#REF!)+SUMIF(#REF!,CA$1,#REF!)+SUMIF(#REF!,CA$1,#REF!)+SUMIF(#REF!,CA$1,#REF!) -> #REF! | CB15: =SUMIF(#REF!,CB$1,#REF!)+SUMIF(#REF!,CB$1,#REF!)+SUMIF(#REF!,CB$1,#REF!)+SUMIF(#REF!,CB$1,#REF!)+SUMIF(#REF!,CB$1,#REF!)+SUMIF(#REF!,CB$1,#REF!)+SUMIF(#REF!,CB$1,#REF!)+SUMIF(#REF!,CB$1,#REF!)+SUMIF(#REF!,CB$1,#REF!)+SUMIF(#REF!,CB$1,#REF!)+SUMIF(#REF!,CB$1,#REF!) -> #REF! | CC15: =SUMIF(#REF!,CC$1,#REF!)+SUMIF(#REF!,CC$1,#REF!)+SUMIF(#REF!,CC$1,#REF!)+SUMIF(#REF!,CC$1,#REF!)+SUMIF(#REF!,CC$1,#REF!)+SUMIF(#REF!,CC$1,#REF!)+SUMIF(#REF!,CC$1,#REF!)+SUMIF(#REF!,CC$1,#REF!)+SUMIF(#REF!,CC$1,#REF!)+SUMIF(#REF!,CC$1,#REF!)+SUMIF(#REF!,CC$1,#REF!) -> #REF! | CD15: =SUMIF(#REF!,CD$1,#REF!)+SUMIF(#REF!,CD$1,#REF!)+SUMIF(#REF!,CD$1,#REF!)+SUMIF(#REF!,CD$1,#REF!)+SUMIF(#REF!,CD$1,#REF!)+SUMIF(#REF!,CD$1,#REF!)+SUMIF(#REF!,CD$1,#REF!)+SUMIF(#REF!,CD$1,#REF!)+SUMIF(#REF!,CD$1,#REF!)+SUMIF(#REF!,CD$1,#REF!)+SUMIF(#REF!,CD$1,#REF!) -> #REF! | CE15: =SUMIF(#REF!,CE$1,#REF!)+SUMIF(#REF!,CE$1,#REF!)+SUMIF(#REF!,CE$1,#REF!)+SUMIF(#REF!,CE$1,#REF!)+SUMIF(#REF!,CE$1,#REF!)+SUMIF(#REF!,CE$1,#REF!)+SUMIF(#REF!,CE$1,#REF!)+SUMIF(#REF!,CE$1,#REF!)+SUMIF(#REF!,CE$1,#REF!)+SUMIF(#REF!,CE$1,#REF!)+SUMIF(#REF!,CE$1,#REF!) -> #REF! | CF15: =SUMIF(#REF!,CF$1,#REF!)+SUMIF(#REF!,CF$1,#REF!)+SUMIF(#REF!,CF$1,#REF!)+SUMIF(#REF!,CF$1,#REF!)+SUMIF(#REF!,CF$1,#REF!)+SUMIF(#REF!,CF$1,#REF!)+SUMIF(#REF!,CF$1,#REF!)+SUMIF(#REF!,CF$1,#REF!)+SUMIF(#REF!,CF$1,#REF!)+SUMIF(#REF!,CF$1,#REF!)+SUMIF(#REF!,CF$1,#REF!) -> #REF! | ... CY15: =SUMIF(#REF!,CY$1,#REF!)+SUMIF(#REF!,CY$1,#REF!)+SUMIF(#REF!,CY$1,#REF!)+SUMIF(#REF!,CY$1,#REF!)+SUMIF(#REF!,CY$1,#REF!)+SUMIF(#REF!,CY$1,#REF!)+SUMIF(#REF!,CY$1,#REF!)+SUMIF(#REF!,CY$1,#REF!)+SUMIF(#REF!,CY$1,#REF!)+SUMIF(#REF!,CY$1,#REF!)+SUMIF(#REF!,CY$1,#REF!) -> #REF! | DC15: =C15&E15 | DD15: =IF($DC15="",0,IF(COUNTIF($DC$2:$DC14,$DC15)=0,1,0)) -> 0
A16: 15 | B16: MME | AB16: AURAY | AC16: N. V (CAP / BEP) | AD16: =IF($AC16="","",IF($AC16="À l'étranger","À l'étranger",IF($AC16="N. VI et Vbis (sans diplôme validé)",2,IF($AC16="N. V (CAP / BEP)",3,IF($AC16="N. IV (bac)",4,IF($AC16="N. III (bac + 2)",5,IF($AC16="N. II (bac + 4 et bac +3)",6,"7/8"))))))) -> 3 | AE16: Brevet des collèges | AF16: 2007 | AG16: Terminale | AH16: 2011 | AI16: Employés | AJ16: 43373 | AK16: CDD | AL16: 9 | AM16: BAC PRO | AN16: 2011 | AO16: ML | AP16: 43521 | AQ16: 43621 | AR16: 43579 | AS16: AREF | AT16: 220 | AU16: 210 | AV16: 21 | AW16: 0 | AX16: 14 | AY16: 56 | AZ16: 21 | BA16: 59 | BB16: 21 | BC16: 0 | BI16: =SUM(BL16:BX16)+CY16 -> #REF! | BJ16: =#REF! -> #REF! | BK16: =#REF! -> #REF! | BL16: =BY16+CL16 -> #REF! | BM16: =BZ16+CM16 -> #REF! | BN16: =CA16+CN16 -> #REF! | BO16: =CB16+CO16 -> #REF! | BP16: =CC16+CP16 -> #REF! | BQ16: =CD16+CQ16 -> #REF! | BR16: =CE16+CR16 -> #REF! | BS16: =CF16+CS16 -> #REF! | ... BX16: =CK16+CX16 -> #REF! | BY16: =SUMIF(#REF!,BY$1,#REF!)+SUMIF(#REF!,BY$1,#REF!)+SUMIF(#REF!,BY$1,#REF!)+SUMIF(#REF!,BY$1,#REF!)+SUMIF(#REF!,BY$1,#REF!)+SUMIF(#REF!,BY$1,#REF!)+SUMIF(#REF!,BY$1,#REF!)+SUMIF(#REF!,BY$1,#REF!)+SUMIF(#REF!,BY$1,#REF!)+SUMIF(#REF!,BY$1,#REF!)+SUMIF(#REF!,BY$1,#REF!) -> #REF! | BZ16: =SUMIF(#REF!,BZ$1,#REF!)+SUMIF(#REF!,BZ$1,#REF!)+SUMIF(#REF!,BZ$1,#REF!)+SUMIF(#REF!,BZ$1,#REF!)+SUMIF(#REF!,BZ$1,#REF!)+SUMIF(#REF!,BZ$1,#REF!)+SUMIF(#REF!,BZ$1,#REF!)+SUMIF(#REF!,BZ$1,#REF!)+SUMIF(#REF!,BZ$1,#REF!)+SUMIF(#REF!,BZ$1,#REF!)+SUMIF(#REF!,BZ$1,#REF!) -> #REF! | CA16: =SUMIF(#REF!,CA$1,#REF!)+SUMIF(#REF!,CA$1,#REF!)+SUMIF(#REF!,CA$1,#REF!)+SUMIF(#REF!,CA$1,#REF!)+SUMIF(#REF!,CA$1,#REF!)+SUMIF(#REF!,CA$1,#REF!)+SUMIF(#REF!,CA$1,#REF!)+SUMIF(#REF!,CA$1,#REF!)+SUMIF(#REF!,CA$1,#REF!)+SUMIF(#REF!,CA$1,#REF!)+SUMIF(#REF!,CA$1,#REF!) -> #REF! | CB16: =SUMIF(#REF!,CB$1,#REF!)+SUMIF(#REF!,CB$1,#REF!)+SUMIF(#REF!,CB$1,#REF!)+SUMIF(#REF!,CB$1,#REF!)+SUMIF(#REF!,CB$1,#REF!)+SUMIF(#REF!,CB$1,#REF!)+SUMIF(#REF!,CB$1,#REF!)+SUMIF(#REF!,CB$1,#REF!)+SUMIF(#REF!,CB$1,#REF!)+SUMIF(#REF!,CB$1,#REF!)+SUMIF(#REF!,CB$1,#REF!) -> #REF! | CC16: =SUMIF(#REF!,CC$1,#REF!)+SUMIF(#REF!,CC$1,#REF!)+SUMIF(#REF!,CC$1,#REF!)+SUMIF(#REF!,CC$1,#REF!)+SUMIF(#REF!,CC$1,#REF!)+SUMIF(#REF!,CC$1,#REF!)+SUMIF(#REF!,CC$1,#REF!)+SUMIF(#REF!,CC$1,#REF!)+SUMIF(#REF!,CC$1,#REF!)+SUMIF(#REF!,CC$1,#REF!)+SUMIF(#REF!,CC$1,#REF!) -> #REF! | CD16: =SUMIF(#REF!,CD$1,#REF!)+SUMIF(#REF!,CD$1,#REF!)+SUMIF(#REF!,CD$1,#REF!)+SUMIF(#REF!,CD$1,#REF!)+SUMIF(#REF!,CD$1,#REF!)+SUMIF(#REF!,CD$1,#REF!)+SUMIF(#REF!,CD$1,#REF!)+SUMIF(#REF!,CD$1,#REF!)+SUMIF(#REF!,CD$1,#REF!)+SUMIF(#REF!,CD$1,#REF!)+SUMIF(#REF!,CD$1,#REF!) -> #REF! | CE16: =SUMIF(#REF!,CE$1,#REF!)+SUMIF(#REF!,CE$1,#REF!)+SUMIF(#REF!,CE$1,#REF!)+SUMIF(#REF!,CE$1,#REF!)+SUMIF(#REF!,CE$1,#REF!)+SUMIF(#REF!,CE$1,#REF!)+SUMIF(#REF!,CE$1,#REF!)+SUMIF(#REF!,CE$1,#REF!)+SUMIF(#REF!,CE$1,#REF!)+SUMIF(#REF!,CE$1,#REF!)+SUMIF(#REF!,CE$1,#REF!) -> #REF! | CF16: =SUMIF(#REF!,CF$1,#REF!)+SUMIF(#REF!,CF$1,#REF!)+SUMIF(#REF!,CF$1,#REF!)+SUMIF(#REF!,CF$1,#REF!)+SUMIF(#REF!,CF$1,#REF!)+SUMIF(#REF!,CF$1,#REF!)+SUMIF(#REF!,CF$1,#REF!)+SUMIF(#REF!,CF$1,#REF!)+SUMIF(#REF!,CF$1,#REF!)+SUMIF(#REF!,CF$1,#REF!)+SUMIF(#REF!,CF$1,#REF!) -> #REF! | ... CY16: =SUMIF(#REF!,CY$1,#REF!)+SUMIF(#REF!,CY$1,#REF!)+SUMIF(#REF!,CY$1,#REF!)+SUMIF(#REF!,CY$1,#REF!)+SUMIF(#REF!,CY$1,#REF!)+SUMIF(#REF!,CY$1,#REF!)+SUMIF(#REF!,CY$1,#REF!)+SUMIF(#REF!,CY$1,#REF!)+SUMIF(#REF!,CY$1,#REF!)+SUMIF(#REF!,CY$1,#REF!)+SUMIF(#REF!,CY$1,#REF!) -> #REF! | DC16: =C16&E16 | DD16: =IF($DC16="",0,IF(COUNTIF($DC$2:$DC15,$DC16)=0,1,0)) -> 0
A17: 16 | B17: MME | AB17: AURAY | AC17: N. IV (bac) | AD17: =IF($AC17="","",IF($AC17="À l'étranger","À l'étranger",IF($AC17="N. VI et Vbis (sans diplôme validé)",2,IF($AC17="N. V (CAP / BEP)",3,IF($AC17="N. IV (bac)",4,IF($AC17="N. III (bac + 2)",5,IF($AC17="N. II (bac + 4 et bac +3)",6,"7/8"))))))) -> 4 | AE17: BAC | AF17: 2014 | AG17: 1ère ou 2ème année du 1er cycle enseignement supérieur, formations sanitaires et sociales | AH17: 2015 | AI17: Employés | AJ17: 43461 | AK17: CDD | AL17: 5 | AM17: LICENCE | AN17: 2015 | AO17: ML | AP17: 43523 | AQ17: 43623 | AR17: 43556 | AS17: AF | AT17: 218 | AU17: 210 | AV17: 21 | AW17: 0 | AX17: 14 | AY17: 56 | AZ17: 21 | BA17: 59 | BB17: 21 | BC17: 0 | BI17: =SUM(BL17:BX17)+CY17 -> #REF! | BJ17: =#REF! -> #REF! | BK17: =#REF! -> #REF! | BL17: =BY17+CL17 -> #REF! | BM17: =BZ17+CM17 -> #REF! | BN17: =CA17+CN17 -> #REF! | BO17: =CB17+CO17 -> #REF! | BP17: =CC17+CP17 -> #REF! | BQ17: =CD17+CQ17 -> #REF! | BR17: =CE17+CR17 -> #REF! | BS17: =CF17+CS17 -> #REF! | ... BX17: =CK17+CX17 -> #REF! | BY17: =SUMIF(#REF!,BY$1,#REF!)+SUMIF(#REF!,BY$1,#REF!)+SUMIF(#REF!,BY$1,#REF!)+SUMIF(#REF!,BY$1,#REF!)+SUMIF(#REF!,BY$1,#REF!)+SUMIF(#REF!,BY$1,#REF!)+SUMIF(#REF!,BY$1,#REF!)+SUMIF(#REF!,BY$1,#REF!)+SUMIF(#REF!,BY$1,#REF!)+SUMIF(#REF!,BY$1,#REF!)+SUMIF(#REF!,BY$1,#REF!) -> #REF! | BZ17: =SUMIF(#REF!,BZ$1,#REF!)+SUMIF(#REF!,BZ$1,#REF!)+SUMIF(#REF!,BZ$1,#REF!)+SUMIF(#REF!,BZ$1,#REF!)+SUMIF(#REF!,BZ$1,#REF!)+SUMIF(#REF!,BZ$1,#REF!)+SUMIF(#REF!,BZ$1,#REF!)+SUMIF(#REF!,BZ$1,#REF!)+SUMIF(#REF!,BZ$1,#REF!)+SUMIF(#REF!,BZ$1,#REF!)+SUMIF(#REF!,BZ$1,#REF!) -> #REF! | CA17: =SUMIF(#REF!,CA$1,#REF!)+SUMIF(#REF!,CA$1,#REF!)+SUMIF(#REF!,CA$1,#REF!)+SUMIF(#REF!,CA$1,#REF!)+SUMIF(#REF!,CA$1,#REF!)+SUMIF(#REF!,CA$1,#REF!)+SUMIF(#REF!,CA$1,#REF!)+SUMIF(#REF!,CA$1,#REF!)+SUMIF(#REF!,CA$1,#REF!)+SUMIF(#REF!,CA$1,#REF!)+SUMIF(#REF!,CA$1,#REF!) -> #REF! | CB17: =SUMIF(#REF!,CB$1,#REF!)+SUMIF(#REF!,CB$1,#REF!)+SUMIF(#REF!,CB$1,#REF!)+SUMIF(#REF!,CB$1,#REF!)+SUMIF(#REF!,CB$1,#REF!)+SUMIF(#REF!,CB$1,#REF!)+SUMIF(#REF!,CB$1,#REF!)+SUMIF(#REF!,CB$1,#REF!)+SUMIF(#REF!,CB$1,#REF!)+SUMIF(#REF!,CB$1,#REF!)+SUMIF(#REF!,CB$1,#REF!) -> #REF! | CC17: =SUMIF(#REF!,CC$1,#REF!)+SUMIF(#REF!,CC$1,#REF!)+SUMIF(#REF!,CC$1,#REF!)+SUMIF(#REF!,CC$1,#REF!)+SUMIF(#REF!,CC$1,#REF!)+SUMIF(#REF!,CC$1,#REF!)+SUMIF(#REF!,CC$1,#REF!)+SUMIF(#REF!,CC$1,#REF!)+SUMIF(#REF!,CC$1,#REF!)+SUMIF(#REF!,CC$1,#REF!)+SUMIF(#REF!,CC$1,#REF!) -> #REF! | CD17: =SUMIF(#REF!,CD$1,#REF!)+SUMIF(#REF!,CD$1,#REF!)+SUMIF(#REF!,CD$1,#REF!)+SUMIF(#REF!,CD$1,#REF!)+SUMIF(#REF!,CD$1,#REF!)+SUMIF(#REF!,CD$1,#REF!)+SUMIF(#REF!,CD$1,#REF!)+SUMIF(#REF!,CD$1,#REF!)+SUMIF(#REF!,CD$1,#REF!)+SUMIF(#REF!,CD$1,#REF!)+SUMIF(#REF!,CD$1,#REF!) -> #REF! | CE17: =SUMIF(#REF!,CE$1,#REF!)+SUMIF(#REF!,CE$1,#REF!)+SUMIF(#REF!,CE$1,#REF!)+SUMIF(#REF!,CE$1,#REF!)+SUMIF(#REF!,CE$1,#REF!)+SUMIF(#REF!,CE$1,#REF!)+SUMIF(#REF!,CE$1,#REF!)+SUMIF(#REF!,CE$1,#REF!)+SUMIF(#REF!,CE$1,#REF!)+SUMIF(#REF!,CE$1,#REF!)+SUMIF(#REF!,CE$1,#REF!) -> #REF! | CF17: =SUMIF(#REF!,CF$1,#REF!)+SUMIF(#REF!,CF$1,#REF!)+SUMIF(#REF!,CF$1,#REF!)+SUMIF(#REF!,CF$1,#REF!)+SUMIF(#REF!,CF$1,#REF!)+SUMIF(#REF!,CF$1,#REF!)+SUMIF(#REF!,CF$1,#REF!)+SUMIF(#REF!,CF$1,#REF!)+SUMIF(#REF!,CF$1,#REF!)+SUMIF(#REF!,CF$1,#REF!)+SUMIF(#REF!,CF$1,#REF!) -> #REF! | ... CY17: =SUMIF(#REF!,CY$1,#REF!)+SUMIF(#REF!,CY$1,#REF!)+SUMIF(#REF!,CY$1,#REF!)+SUMIF(#REF!,CY$1,#REF!)+SUMIF(#REF!,CY$1,#REF!)+SUMIF(#REF!,CY$1,#REF!)+SUMIF(#REF!,CY$1,#REF!)+SUMIF(#REF!,CY$1,#REF!)+SUMIF(#REF!,CY$1,#REF!)+SUMIF(#REF!,CY$1,#REF!)+SUMIF(#REF!,CY$1,#REF!) -> #REF! | DC17: =C17&E17 | DD17: =IF($DC17="",0,IF(COUNTIF($DC$2:$DC16,$DC17)=0,1,0)) -> 0 | DG17: 43557 | DH17: 43728
A18: 17 | B18: MR | AB18: AURAY | AC18: N. VI et Vbis (sans diplôme validé) | AD18: =IF($AC18="","",IF($AC18="À l'étranger","À l'étranger",IF($AC18="N. VI et Vbis (sans diplôme validé)",2,IF($AC18="N. V (CAP / BEP)",3,IF($AC18="N. IV (bac)",4,IF($AC18="N. III (bac + 2)",5,IF($AC18="N. II (bac + 4 et bac +3)",6,"7/8"))))))) -> 2 | AE18: Aucun diplôme | AG18: 2nde, 1ère enseignement général ou 2ème année CAP/BEP | AH18: 2013 | AI18: Jamais travaillé | AM18: CAP | AN18: 2013 | AO18: AUTRE | AP18: 43542 | AQ18: 43634 | AS18: AF | AT18: 173 | AU18: 210 | AV18: 12 | AW18: 9 | AX18: 9 | AY18: 48 | AZ18: 12 | BA18: 60 | BB18: 18 | BC18: 0 | BI18: =SUM(BL18:BX18)+CY18 -> #REF! | BJ18: =#REF! -> #REF! | BK18: =#REF! -> #REF! | BL18: =BY18+CL18 -> #REF! | BM18: =BZ18+CM18 -> #REF! | BN18: =CA18+CN18 -> #REF! | BO18: =CB18+CO18 -> #REF! | BP18: =CC18+CP18 -> #REF! | BQ18: =CD18+CQ18 -> #REF! | BR18: =CE18+CR18 -> #REF! | BS18: =CF18+CS18 -> #REF! | ... BX18: =CK18+CX18 -> #REF! | BY18: =SUMIF(#REF!,BY$1,#REF!)+SUMIF(#REF!,BY$1,#REF!)+SUMIF(#REF!,BY$1,#REF!)+SUMIF(#REF!,BY$1,#REF!)+SUMIF(#REF!,BY$1,#REF!)+SUMIF(#REF!,BY$1,#REF!)+SUMIF(#REF!,BY$1,#REF!)+SUMIF(#REF!,BY$1,#REF!)+SUMIF(#REF!,BY$1,#REF!)+SUMIF(#REF!,BY$1,#REF!)+SUMIF(#REF!,BY$1,#REF!) -> #REF! | BZ18: =SUMIF(#REF!,BZ$1,#REF!)+SUMIF(#REF!,BZ$1,#REF!)+SUMIF(#REF!,BZ$1,#REF!)+SUMIF(#REF!,BZ$1,#REF!)+SUMIF(#REF!,BZ$1,#REF!)+SUMIF(#REF!,BZ$1,#REF!)+SUMIF(#REF!,BZ$1,#REF!)+SUMIF(#REF!,BZ$1,#REF!)+SUMIF(#REF!,BZ$1,#REF!)+SUMIF(#REF!,BZ$1,#REF!)+SUMIF(#REF!,BZ$1,#REF!) -> #REF! | CA18: =SUMIF(#REF!,CA$1,#REF!)+SUMIF(#REF!,CA$1,#REF!)+SUMIF(#REF!,CA$1,#REF!)+SUMIF(#REF!,CA$1,#REF!)+SUMIF(#REF!,CA$1,#REF!)+SUMIF(#REF!,CA$1,#REF!)+SUMIF(#REF!,CA$1,#REF!)+SUMIF(#REF!,CA$1,#REF!)+SUMIF(#REF!,CA$1,#REF!)+SUMIF(#REF!,CA$1,#REF!)+SUMIF(#REF!,CA$1,#REF!) -> #REF! | CB18: =SUMIF(#REF!,CB$1,#REF!)+SUMIF(#REF!,CB$1,#REF!)+SUMIF(#REF!,CB$1,#REF!)+SUMIF(#REF!,CB$1,#REF!)+SUMIF(#REF!,CB$1,#REF!)+SUMIF(#REF!,CB$1,#REF!)+SUMIF(#REF!,CB$1,#REF!)+SUMIF(#REF!,CB$1,#REF!)+SUMIF(#REF!,CB$1,#REF!)+SUMIF(#REF!,CB$1,#REF!)+SUMIF(#REF!,CB$1,#REF!) -> #REF! | CC18: =SUMIF(#REF!,CC$1,#REF!)+SUMIF(#REF!,CC$1,#REF!)+SUMIF(#REF!,CC$1,#REF!)+SUMIF(#REF!,CC$1,#REF!)+SUMIF(#REF!,CC$1,#REF!)+SUMIF(#REF!,CC$1,#REF!)+SUMIF(#REF!,CC$1,#REF!)+SUMIF(#REF!,CC$1,#REF!)+SUMIF(#REF!,CC$1,#REF!)+SUMIF(#REF!,CC$1,#REF!)+SUMIF(#REF!,CC$1,#REF!) -> #REF! | CD18: =SUMIF(#REF!,CD$1,#REF!)+SUMIF(#REF!,CD$1,#REF!)+SUMIF(#REF!,CD$1,#REF!)+SUMIF(#REF!,CD$1,#REF!)+SUMIF(#REF!,CD$1,#REF!)+SUMIF(#REF!,CD$1,#REF!)+SUMIF(#REF!,CD$1,#REF!)+SUMIF(#REF!,CD$1,#REF!)+SUMIF(#REF!,CD$1,#REF!)+SUMIF(#REF!,CD$1,#REF!)+SUMIF(#REF!,CD$1,#REF!) -> #REF! | CE18: =SUMIF(#REF!,CE$1,#REF!)+SUMIF(#REF!,CE$1,#REF!)+SUMIF(#REF!,CE$1,#REF!)+SUMIF(#REF!,CE$1,#REF!)+SUMIF(#REF!,CE$1,#REF!)+SUMIF(#REF!,CE$1,#REF!)+SUMIF(#REF!,CE$1,#REF!)+SUMIF(#REF!,CE$1,#REF!)+SUMIF(#REF!,CE$1,#REF!)+SUMIF(#REF!,CE$1,#REF!)+SUMIF(#REF!,CE$1,#REF!) -> #REF! | CF18: =SUMIF(#REF!,CF$1,#REF!)+SUMIF(#REF!,CF$1,#REF!)+SUMIF(#REF!,CF$1,#REF!)+SUMIF(#REF!,CF$1,#REF!)+SUMIF(#REF!,CF$1,#REF!)+SUMIF(#REF!,CF$1,#REF!)+SUMIF(#REF!,CF$1,#REF!)+SUMIF(#REF!,CF$1,#REF!)+SUMIF(#REF!,CF$1,#REF!)+SUMIF(#REF!,CF$1,#REF!)+SUMIF(#REF!,CF$1,#REF!) -> #REF! | ... CY18: =SUMIF(#REF!,CY$1,#REF!)+SUMIF(#REF!,CY$1,#REF!)+SUMIF(#REF!,CY$1,#REF!)+SUMIF(#REF!,CY$1,#REF!)+SUMIF(#REF!,CY$1,#REF!)+SUMIF(#REF!,CY$1,#REF!)+SUMIF(#REF!,CY$1,#REF!)+SUMIF(#REF!,CY$1,#REF!)+SUMIF(#REF!,CY$1,#REF!)+SUMIF(#REF!,CY$1,#REF!)+SUMIF(#REF!,CY$1,#REF!) -> #REF! | DC18: =C18&E18 | DD18: =IF($DC18="",0,IF(COUNTIF($DC$2:$DC17,$DC18)=0,1,0)) -> 0
A19: 18 | B19: MME | AB19: AURAY | AC19: N. V (CAP / BEP) | AD19: =IF($AC19="","",IF($AC19="À l'étranger","À l'étranger",IF($AC19="N. VI et Vbis (sans diplôme validé)",2,IF($AC19="N. V (CAP / BEP)",3,IF($AC19="N. IV (bac)",4,IF($AC19="N. III (bac + 2)",5,IF($AC19="N. II (bac + 4 et bac +3)",6,"7/8"))))))) -> 3 | AE19: CAP/BEP | AF19: 2015 | AG19: Terminale | AH19: 2017 | AI19: Employés | AJ19: 43174 | AK19: INTERIM | AL19: 24 | AM19: BAC GEN | AN19: 2017 | AO19: ML | AP19: 43542 | AQ19: 43633 | AS19: AREF | AT19: 164 | AU19: 210 | AV19: 12 | AW19: 0 | AX19: 9 | AY19: 48 | AZ19: 12 | BA19: 60 | BB19: 18 | BC19: 0 | BI19: =SUM(BL19:BX19)+CY19 -> #REF! | BJ19: =#REF! -> #REF! | BK19: =#REF! -> #REF! | BL19: =BY19+CL19 -> #REF! | BM19: =BZ19+CM19 -> #REF! | BN19: =CA19+CN19 -> #REF! | BO19: =CB19+CO19 -> #REF! | BP19: =CC19+CP19 -> #REF! | BQ19: =CD19+CQ19 -> #REF! | BR19: =CE19+CR19 -> #REF! | BS19: =CF19+CS19 -> #REF! | ... BX19: =CK19+CX19 -> #REF! | BY19: =SUMIF(#REF!,BY$1,#REF!)+SUMIF(#REF!,BY$1,#REF!)+SUMIF(#REF!,BY$1,#REF!)+SUMIF(#REF!,BY$1,#REF!)+SUMIF(#REF!,BY$1,#REF!)+SUMIF(#REF!,BY$1,#REF!)+SUMIF(#REF!,BY$1,#REF!)+SUMIF(#REF!,BY$1,#REF!)+SUMIF(#REF!,BY$1,#REF!)+SUMIF(#REF!,BY$1,#REF!)+SUMIF(#REF!,BY$1,#REF!) -> #REF! | BZ19: =SUMIF(#REF!,BZ$1,#REF!)+SUMIF(#REF!,BZ$1,#REF!)+SUMIF(#REF!,BZ$1,#REF!)+SUMIF(#REF!,BZ$1,#REF!)+SUMIF(#REF!,BZ$1,#REF!)+SUMIF(#REF!,BZ$1,#REF!)+SUMIF(#REF!,BZ$1,#REF!)+SUMIF(#REF!,BZ$1,#REF!)+SUMIF(#REF!,BZ$1,#REF!)+SUMIF(#REF!,BZ$1,#REF!)+SUMIF(#REF!,BZ$1,#REF!) -> #REF! | CA19: =SUMIF(#REF!,CA$1,#REF!)+SUMIF(#REF!,CA$1,#REF!)+SUMIF(#REF!,CA$1,#REF!)+SUMIF(#REF!,CA$1,#REF!)+SUMIF(#REF!,CA$1,#REF!)+SUMIF(#REF!,CA$1,#REF!)+SUMIF(#REF!,CA$1,#REF!)+SUMIF(#REF!,CA$1,#REF!)+SUMIF(#REF!,CA$1,#REF!)+SUMIF(#REF!,CA$1,#REF!)+SUMIF(#REF!,CA$1,#REF!) -> #REF! | CB19: =SUMIF(#REF!,CB$1,#REF!)+SUMIF(#REF!,CB$1,#REF!)+SUMIF(#REF!,CB$1,#REF!)+SUMIF(#REF!,CB$1,#REF!)+SUMIF(#REF!,CB$1,#REF!)+SUMIF(#REF!,CB$1,#REF!)+SUMIF(#REF!,CB$1,#REF!)+SUMIF(#REF!,CB$1,#REF!)+SUMIF(#REF!,CB$1,#REF!)+SUMIF(#REF!,CB$1,#REF!)+SUMIF(#REF!,CB$1,#REF!) -> #REF! | CC19: =SUMIF(#REF!,CC$1,#REF!)+SUMIF(#REF!,CC$1,#REF!)+SUMIF(#REF!,CC$1,#REF!)+SUMIF(#REF!,CC$1,#REF!)+SUMIF(#REF!,CC$1,#REF!)+SUMIF(#REF!,CC$1,#REF!)+SUMIF(#REF!,CC$1,#REF!)+SUMIF(#REF!,CC$1,#REF!)+SUMIF(#REF!,CC$1,#REF!)+SUMIF(#REF!,CC$1,#REF!)+SUMIF(#REF!,CC$1,#REF!) -> #REF! | CD19: =SUMIF(#REF!,CD$1,#REF!)+SUMIF(#REF!,CD$1,#REF!)+SUMIF(#REF!,CD$1,#REF!)+SUMIF(#REF!,CD$1,#REF!)+SUMIF(#REF!,CD$1,#REF!)+SUMIF(#REF!,CD$1,#REF!)+SUMIF(#REF!,CD$1,#REF!)+SUMIF(#REF!,CD$1,#REF!)+SUMIF(#REF!,CD$1,#REF!)+SUMIF(#REF!,CD$1,#REF!)+SUMIF(#REF!,CD$1,#REF!) -> #REF! | CE19: =SUMIF(#REF!,CE$1,#REF!)+SUMIF(#REF!,CE$1,#REF!)+SUMIF(#REF!,CE$1,#REF!)+SUMIF(#REF!,CE$1,#REF!)+SUMIF(#REF!,CE$1,#REF!)+SUMIF(#REF!,CE$1,#REF!)+SUMIF(#REF!,CE$1,#REF!)+SUMIF(#REF!,CE$1,#REF!)+SUMIF(#REF!,CE$1,#REF!)+SUMIF(#REF!,CE$1,#REF!)+SUMIF(#REF!,CE$1,#REF!) -> #REF! | CF19: =SUMIF(#REF!,CF$1,#REF!)+SUMIF(#REF!,CF$1,#REF!)+SUMIF(#REF!,CF$1,#REF!)+SUMIF(#REF!,CF$1,#REF!)+SUMIF(#REF!,CF$1,#REF!)+SUMIF(#REF!,CF$1,#REF!)+SUMIF(#REF!,CF$1,#REF!)+SUMIF(#REF!,CF$1,#REF!)+SUMIF(#REF!,CF$1,#REF!)+SUMIF(#REF!,CF$1,#REF!)+SUMIF(#REF!,CF$1,#REF!) -> #REF! | ... CY19: =SUMIF(#REF!,CY$1,#REF!)+SUMIF(#REF!,CY$1,#REF!)+SUMIF(#REF!,CY$1,#REF!)+SUMIF(#REF!,CY$1,#REF!)+SUMIF(#REF!,CY$1,#REF!)+SUMIF(#REF!,CY$1,#REF!)+SUMIF(#REF!,CY$1,#REF!)+SUMIF(#REF!,CY$1,#REF!)+SUMIF(#REF!,CY$1,#REF!)+SUMIF(#REF!,CY$1,#REF!)+SUMIF(#REF!,CY$1,#REF!) -> #REF! | DC19: =#REF!&#REF! -> #REF! | DD19: =IF($DC19="",0,IF(COUNTIF($DC$2:$DC18,$DC19)=0,1,0)) -> #REF!
A20: 19 | B20: MR | AB20: AURAY | AC20: N. IV (bac) | AD20: =IF($AC20="","",IF($AC20="À l'étranger","À l'étranger",IF($AC20="N. VI et Vbis (sans diplôme validé)",2,IF($AC20="N. V (CAP / BEP)",3,IF($AC20="N. IV (bac)",4,IF($AC20="N. III (bac + 2)",5,IF($AC20="N. II (bac + 4 et bac +3)",6,"7/8"))))))) -> 4 | AE20: BAC | AF20: 2013 | AG20: 1ère ou 2ème année du 1er cycle enseignement supérieur, formations sanitaires et sociales | AH20: 2016 | AI20: Employés | AJ20: 41486 | AK20: INTERIM | AL20: 1 | AM20: LICENCE | AN20: 2016 | AO20: ML | AP20: 43542 | AQ20: 43633 | AS20: AF | AT20: 164 | AU20: 210 | AV20: 12 | AW20: 0 | AX20: 9 | AY20: 48 | AZ20: 12 | BA20: 60 | BB20: 18 | BC20: 0 | BI20: =SUM(BL20:BX20)+CY20 -> #REF! | BJ20: =#REF! -> #REF! | BK20: =#REF! -> #REF! | BL20: =BY20+CL20 -> #REF! | BM20: =BZ20+CM20 -> #REF! | BN20: =CA20+CN20 -> #REF! | BO20: =CB20+CO20 -> #REF! | BP20: =CC20+CP20 -> #REF! | BQ20: =CD20+CQ20 -> #REF! | BR20: =CE20+CR20 -> #REF! | BS20: =CF20+CS20 -> #REF! | ... BX20: =CK20+CX20 -> #REF! | BY20: =SUMIF(#REF!,BY$1,#REF!)+SUMIF(#REF!,BY$1,#REF!)+SUMIF(#REF!,BY$1,#REF!)+SUMIF(#REF!,BY$1,#REF!)+SUMIF(#REF!,BY$1,#REF!)+SUMIF(#REF!,BY$1,#REF!)+SUMIF(#REF!,BY$1,#REF!)+SUMIF(#REF!,BY$1,#REF!)+SUMIF(#REF!,BY$1,#REF!)+SUMIF(#REF!,BY$1,#REF!)+SUMIF(#REF!,BY$1,#REF!) -> #REF! | BZ20: =SUMIF(#REF!,BZ$1,#REF!)+SUMIF(#REF!,BZ$1,#REF!)+SUMIF(#REF!,BZ$1,#REF!)+SUMIF(#REF!,BZ$1,#REF!)+SUMIF(#REF!,BZ$1,#REF!)+SUMIF(#REF!,BZ$1,#REF!)+SUMIF(#REF!,BZ$1,#REF!)+SUMIF(#REF!,BZ$1,#REF!)+SUMIF(#REF!,BZ$1,#REF!)+SUMIF(#REF!,BZ$1,#REF!)+SUMIF(#REF!,BZ$1,#REF!) -> #REF! | CA20: =SUMIF(#REF!,CA$1,#REF!)+SUMIF(#REF!,CA$1,#REF!)+SUMIF(#REF!,CA$1,#REF!)+SUMIF(#REF!,CA$1,#REF!)+SUMIF(#REF!,CA$1,#REF!)+SUMIF(#REF!,CA$1,#REF!)+SUMIF(#REF!,CA$1,#REF!)+SUMIF(#REF!,CA$1,#REF!)+SUMIF(#REF!,CA$1,#REF!)+SUMIF(#REF!,CA$1,#REF!)+SUMIF(#REF!,CA$1,#REF!) -> #REF! | CB20: =SUMIF(#REF!,CB$1,#REF!)+SUMIF(#REF!,CB$1,#REF!)+SUMIF(#REF!,CB$1,#REF!)+SUMIF(#REF!,CB$1,#REF!)+SUMIF(#REF!,CB$1,#REF!)+SUMIF(#REF!,CB$1,#REF!)+SUMIF(#REF!,CB$1,#REF!)+SUMIF(#REF!,CB$1,#REF!)+SUMIF(#REF!,CB$1,#REF!)+SUMIF(#REF!,CB$1,#REF!)+SUMIF(#REF!,CB$1,#REF!) -> #REF! | CC20: =SUMIF(#REF!,CC$1,#REF!)+SUMIF(#REF!,CC$1,#REF!)+SUMIF(#REF!,CC$1,#REF!)+SUMIF(#REF!,CC$1,#REF!)+SUMIF(#REF!,CC$1,#REF!)+SUMIF(#REF!,CC$1,#REF!)+SUMIF(#REF!,CC$1,#REF!)+SUMIF(#REF!,CC$1,#REF!)+SUMIF(#REF!,CC$1,#REF!)+SUMIF(#REF!,CC$1,#REF!)+SUMIF(#REF!,CC$1,#REF!) -> #REF! | CD20: =SUMIF(#REF!,CD$1,#REF!)+SUMIF(#REF!,CD$1,#REF!)+SUMIF(#REF!,CD$1,#REF!)+SUMIF(#REF!,CD$1,#REF!)+SUMIF(#REF!,CD$1,#REF!)+SUMIF(#REF!,CD$1,#REF!)+SUMIF(#REF!,CD$1,#REF!)+SUMIF(#REF!,CD$1,#REF!)+SUMIF(#REF!,CD$1,#REF!)+SUMIF(#REF!,CD$1,#REF!)+SUMIF(#REF!,CD$1,#REF!) -> #REF! | CE20: =SUMIF(#REF!,CE$1,#REF!)+SUMIF(#REF!,CE$1,#REF!)+SUMIF(#REF!,CE$1,#REF!)+SUMIF(#REF!,CE$1,#REF!)+SUMIF(#REF!,CE$1,#REF!)+SUMIF(#REF!,CE$1,#REF!)+SUMIF(#REF!,CE$1,#REF!)+SUMIF(#REF!,CE$1,#REF!)+SUMIF(#REF!,CE$1,#REF!)+SUMIF(#REF!,CE$1,#REF!)+SUMIF(#REF!,CE$1,#REF!) -> #REF! | CF20: =SUMIF(#REF!,CF$1,#REF!)+SUMIF(#REF!,CF$1,#REF!)+SUMIF(#REF!,CF$1,#REF!)+SUMIF(#REF!,CF$1,#REF!)+SUMIF(#REF!,CF$1,#REF!)+SUMIF(#REF!,CF$1,#REF!)+SUMIF(#REF!,CF$1,#REF!)+SUMIF(#REF!,CF$1,#REF!)+SUMIF(#REF!,CF$1,#REF!)+SUMIF(#REF!,CF$1,#REF!)+SUMIF(#REF!,CF$1,#REF!) -> #REF! | ... CY20: =SUMIF(#REF!,CY$1,#REF!)+SUMIF(#REF!,CY$1,#REF!)+SUMIF(#REF!,CY$1,#REF!)+SUMIF(#REF!,CY$1,#REF!)+SUMIF(#REF!,CY$1,#REF!)+SUMIF(#REF!,CY$1,#REF!)+SUMIF(#REF!,CY$1,#REF!)+SUMIF(#REF!,CY$1,#REF!)+SUMIF(#REF!,CY$1,#REF!)+SUMIF(#REF!,CY$1,#REF!)+SUMIF(#REF!,CY$1,#REF!) -> #REF! | DC20: =D20&#REF! -> #REF! | DD20: =IF($DC20="",0,IF(COUNTIF($DC$2:$DC19,$DC20)=0,1,0)) -> #REF!
A21: 20 | B21: MR | AB21: AURAY | AC21: N. VI et Vbis (sans diplôme validé) | AD21: =IF($AC21="","",IF($AC21="À l'étranger","À l'étranger",IF($AC21="N. VI et Vbis (sans diplôme validé)",2,IF($AC21="N. V (CAP / BEP)",3,IF($AC21="N. IV (bac)",4,IF($AC21="N. III (bac + 2)",5,IF($AC21="N. II (bac + 4 et bac +3)",6,"7/8"))))))) -> 2 | AE21: Brevet des collèges | AF21: 2016 | AG21: 2nde, 1ère enseignement général ou 2ème année CAP/BEP | AH21: 2017 | AI21: Employés | AJ21: 43465 | AK21: CDD | AL21: 1 | AM21: BAC GEN | AN21: 2017 | AO21: ML | AP21: 43563 | AQ21: 43655 | AS21: AF | AT21: 173 | AU21: 210 | AV21: 12 | AW21: 9 | AX21: 9 | AY21: 48 | AZ21: 12 | BA21: 60 | BB21: 18 | BC21: 0 | BI21: =SUM(BL21:BX21)+CY21 -> #REF! | BJ21: =#REF! -> #REF! | BK21: =#REF! -> #REF! | BL21: =BY21+CL21 -> #REF! | BM21: =BZ21+CM21 -> #REF! | BN21: =CA21+CN21 -> #REF! | BO21: =CB21+CO21 -> #REF! | BP21: =CC21+CP21 -> #REF! | BQ21: =CD21+CQ21 -> #REF! | BR21: =CE21+CR21 -> #REF! | BS21: =CF21+CS21 -> #REF! | ... BX21: =CK21+CX21 -> #REF! | BY21: =SUMIF(#REF!,BY$1,#REF!)+SUMIF(#REF!,BY$1,#REF!)+SUMIF(#REF!,BY$1,#REF!)+SUMIF(#REF!,BY$1,#REF!)+SUMIF(#REF!,BY$1,#REF!)+SUMIF(#REF!,BY$1,#REF!)+SUMIF(#REF!,BY$1,#REF!)+SUMIF(#REF!,BY$1,#REF!)+SUMIF(#REF!,BY$1,#REF!)+SUMIF(#REF!,BY$1,#REF!)+SUMIF(#REF!,BY$1,#REF!) -> #REF! | BZ21: =SUMIF(#REF!,BZ$1,#REF!)+SUMIF(#REF!,BZ$1,#REF!)+SUMIF(#REF!,BZ$1,#REF!)+SUMIF(#REF!,BZ$1,#REF!)+SUMIF(#REF!,BZ$1,#REF!)+SUMIF(#REF!,BZ$1,#REF!)+SUMIF(#REF!,BZ$1,#REF!)+SUMIF(#REF!,BZ$1,#REF!)+SUMIF(#REF!,BZ$1,#REF!)+SUMIF(#REF!,BZ$1,#REF!)+SUMIF(#REF!,BZ$1,#REF!) -> #REF! | CA21: =SUMIF(#REF!,CA$1,#REF!)+SUMIF(#REF!,CA$1,#REF!)+SUMIF(#REF!,CA$1,#REF!)+SUMIF(#REF!,CA$1,#REF!)+SUMIF(#REF!,CA$1,#REF!)+SUMIF(#REF!,CA$1,#REF!)+SUMIF(#REF!,CA$1,#REF!)+SUMIF(#REF!,CA$1,#REF!)+SUMIF(#REF!,CA$1,#REF!)+SUMIF(#REF!,CA$1,#REF!)+SUMIF(#REF!,CA$1,#REF!) -> #REF! | CB21: =SUMIF(#REF!,CB$1,#REF!)+SUMIF(#REF!,CB$1,#REF!)+SUMIF(#REF!,CB$1,#REF!)+SUMIF(#REF!,CB$1,#REF!)+SUMIF(#REF!,CB$1,#REF!)+SUMIF(#REF!,CB$1,#REF!)+SUMIF(#REF!,CB$1,#REF!)+SUMIF(#REF!,CB$1,#REF!)+SUMIF(#REF!,CB$1,#REF!)+SUMIF(#REF!,CB$1,#REF!)+SUMIF(#REF!,CB$1,#REF!) -> #REF! | CC21: =SUMIF(#REF!,CC$1,#REF!)+SUMIF(#REF!,CC$1,#REF!)+SUMIF(#REF!,CC$1,#REF!)+SUMIF(#REF!,CC$1,#REF!)+SUMIF(#REF!,CC$1,#REF!)+SUMIF(#REF!,CC$1,#REF!)+SUMIF(#REF!,CC$1,#REF!)+SUMIF(#REF!,CC$1,#REF!)+SUMIF(#REF!,CC$1,#REF!)+SUMIF(#REF!,CC$1,#REF!)+SUMIF(#REF!,CC$1,#REF!) -> #REF! | CD21: =SUMIF(#REF!,CD$1,#REF!)+SUMIF(#REF!,CD$1,#REF!)+SUMIF(#REF!,CD$1,#REF!)+SUMIF(#REF!,CD$1,#REF!)+SUMIF(#REF!,CD$1,#REF!)+SUMIF(#REF!,CD$1,#REF!)+SUMIF(#REF!,CD$1,#REF!)+SUMIF(#REF!,CD$1,#REF!)+SUMIF(#REF!,CD$1,#REF!)+SUMIF(#REF!,CD$1,#REF!)+SUMIF(#REF!,CD$1,#REF!) -> #REF! | CE21: =SUMIF(#REF!,CE$1,#REF!)+SUMIF(#REF!,CE$1,#REF!)+SUMIF(#REF!,CE$1,#REF!)+SUMIF(#REF!,CE$1,#REF!)+SUMIF(#REF!,CE$1,#REF!)+SUMIF(#REF!,CE$1,#REF!)+SUMIF(#REF!,CE$1,#REF!)+SUMIF(#REF!,CE$1,#REF!)+SUMIF(#REF!,CE$1,#REF!)+SUMIF(#REF!,CE$1,#REF!)+SUMIF(#REF!,CE$1,#REF!) -> #REF! | CF21: =SUMIF(#REF!,CF$1,#REF!)+SUMIF(#REF!,CF$1,#REF!)+SUMIF(#REF!,CF$1,#REF!)+SUMIF(#REF!,CF$1,#REF!)+SUMIF(#REF!,CF$1,#REF!)+SUMIF(#REF!,CF$1,#REF!)+SUMIF(#REF!,CF$1,#REF!)+SUMIF(#REF!,CF$1,#REF!)+SUMIF(#REF!,CF$1,#REF!)+SUMIF(#REF!,CF$1,#REF!)+SUMIF(#REF!,CF$1,#REF!) -> #REF! | ... CY21: =SUMIF(#REF!,CY$1,#REF!)+SUMIF(#REF!,CY$1,#REF!)+SUMIF(#REF!,CY$1,#REF!)+SUMIF(#REF!,CY$1,#REF!)+SUMIF(#REF!,CY$1,#REF!)+SUMIF(#REF!,CY$1,#REF!)+SUMIF(#REF!,CY$1,#REF!)+SUMIF(#REF!,CY$1,#REF!)+SUMIF(#REF!,CY$1,#REF!)+SUMIF(#REF!,CY$1,#REF!)+SUMIF(#REF!,CY$1,#REF!) -> #REF! | DC21: =D19&#REF! -> #REF! | DD21: =IF($DC21="",0,IF(COUNTIF($DC$2:$DC20,$DC21)=0,1,0)) -> #REF!
A22: 21 | B22: MR | AC22: N. VI et Vbis (sans diplôme validé) | AD22: =IF($AC22="","",IF($AC22="À l'étranger","À l'étranger",IF($AC22="N. VI et Vbis (sans diplôme validé)",2,IF($AC22="N. V (CAP / BEP)",3,IF($AC22="N. IV (bac)",4,IF($AC22="N. III (bac + 2)",5,IF($AC22="N. II (bac + 4 et bac +3)",6,"7/8"))))))) -> 2 | AE22: Brevet des collèges | AF22: 2014 | AG22: 2nde, 1ère enseignement général ou 2ème année CAP/BEP | AH22: 2017 | AI22: Jamais travaillé | AM22: BAC GEN | AN22: 2017 | AO22: AUTRE | AP22: 43563 | AQ22: 43655 | AS22: AF | AT22: 173 | AU22: 210 | AV22: 12 | AW22: 9 | AX22: 9 | AY22: 48 | AZ22: 12 | BA22: 60 | BB22: 18 | BC22: 0 | BI22: =SUM(BL22:BX22)+CY22 -> #REF! | BJ22: =#REF! -> #REF! | BK22: =#REF! -> #REF! | BL22: =BY22+CL22 -> #REF! | BM22: =BZ22+CM22 -> #REF! | BN22: =CA22+CN22 -> #REF! | BO22: =CB22+CO22 -> #REF! | BP22: =CC22+CP22 -> #REF! | BQ22: =CD22+CQ22 -> #REF! | BR22: =CE22+CR22 -> #REF! | BS22: =CF22+CS22 -> #REF! | ... BX22: =CK22+CX22 -> #REF! | BY22: =SUMIF(#REF!,BY$1,#REF!)+SUMIF(#REF!,BY$1,#REF!)+SUMIF(#REF!,BY$1,#REF!)+SUMIF(#REF!,BY$1,#REF!)+SUMIF(#REF!,BY$1,#REF!)+SUMIF(#REF!,BY$1,#REF!)+SUMIF(#REF!,BY$1,#REF!)+SUMIF(#REF!,BY$1,#REF!)+SUMIF(#REF!,BY$1,#REF!)+SUMIF(#REF!,BY$1,#REF!)+SUMIF(#REF!,BY$1,#REF!) -> #REF! | BZ22: =SUMIF(#REF!,BZ$1,#REF!)+SUMIF(#REF!,BZ$1,#REF!)+SUMIF(#REF!,BZ$1,#REF!)+SUMIF(#REF!,BZ$1,#REF!)+SUMIF(#REF!,BZ$1,#REF!)+SUMIF(#REF!,BZ$1,#REF!)+SUMIF(#REF!,BZ$1,#REF!)+SUMIF(#REF!,BZ$1,#REF!)+SUMIF(#REF!,BZ$1,#REF!)+SUMIF(#REF!,BZ$1,#REF!)+SUMIF(#REF!,BZ$1,#REF!) -> #REF! | CA22: =SUMIF(#REF!,CA$1,#REF!)+SUMIF(#REF!,CA$1,#REF!)+SUMIF(#REF!,CA$1,#REF!)+SUMIF(#REF!,CA$1,#REF!)+SUMIF(#REF!,CA$1,#REF!)+SUMIF(#REF!,CA$1,#REF!)+SUMIF(#REF!,CA$1,#REF!)+SUMIF(#REF!,CA$1,#REF!)+SUMIF(#REF!,CA$1,#REF!)+SUMIF(#REF!,CA$1,#REF!)+SUMIF(#REF!,CA$1,#REF!) -> #REF! | CB22: =SUMIF(#REF!,CB$1,#REF!)+SUMIF(#REF!,CB$1,#REF!)+SUMIF(#REF!,CB$1,#REF!)+SUMIF(#REF!,CB$1,#REF!)+SUMIF(#REF!,CB$1,#REF!)+SUMIF(#REF!,CB$1,#REF!)+SUMIF(#REF!,CB$1,#REF!)+SUMIF(#REF!,CB$1,#REF!)+SUMIF(#REF!,CB$1,#REF!)+SUMIF(#REF!,CB$1,#REF!)+SUMIF(#REF!,CB$1,#REF!) -> #REF! | CC22: =SUMIF(#REF!,CC$1,#REF!)+SUMIF(#REF!,CC$1,#REF!)+SUMIF(#REF!,CC$1,#REF!)+SUMIF(#REF!,CC$1,#REF!)+SUMIF(#REF!,CC$1,#REF!)+SUMIF(#REF!,CC$1,#REF!)+SUMIF(#REF!,CC$1,#REF!)+SUMIF(#REF!,CC$1,#REF!)+SUMIF(#REF!,CC$1,#REF!)+SUMIF(#REF!,CC$1,#REF!)+SUMIF(#REF!,CC$1,#REF!) -> #REF! | CD22: =SUMIF(#REF!,CD$1,#REF!)+SUMIF(#REF!,CD$1,#REF!)+SUMIF(#REF!,CD$1,#REF!)+SUMIF(#REF!,CD$1,#REF!)+SUMIF(#REF!,CD$1,#REF!)+SUMIF(#REF!,CD$1,#REF!)+SUMIF(#REF!,CD$1,#REF!)+SUMIF(#REF!,CD$1,#REF!)+SUMIF(#REF!,CD$1,#REF!)+SUMIF(#REF!,CD$1,#REF!)+SUMIF(#REF!,CD$1,#REF!) -> #REF! | CE22: =SUMIF(#REF!,CE$1,#REF!)+SUMIF(#REF!,CE$1,#REF!)+SUMIF(#REF!,CE$1,#REF!)+SUMIF(#REF!,CE$1,#REF!)+SUMIF(#REF!,CE$1,#REF!)+SUMIF(#REF!,CE$1,#REF!)+SUMIF(#REF!,CE$1,#REF!)+SUMIF(#REF!,CE$1,#REF!)+SUMIF(#REF!,CE$1,#REF!)+SUMIF(#REF!,CE$1,#REF!)+SUMIF(#REF!,CE$1,#REF!) -> #REF! | CF22: =SUMIF(#REF!,CF$1,#REF!)+SUMIF(#REF!,CF$1,#REF!)+SUMIF(#REF!,CF$1,#REF!)+SUMIF(#REF!,CF$1,#REF!)+SUMIF(#REF!,CF$1,#REF!)+SUMIF(#REF!,CF$1,#REF!)+SUMIF(#REF!,CF$1,#REF!)+SUMIF(#REF!,CF$1,#REF!)+SUMIF(#REF!,CF$1,#REF!)+SUMIF(#REF!,CF$1,#REF!)+SUMIF(#REF!,CF$1,#REF!) -> #REF! | ... CY22: =SUMIF(#REF!,CY$1,#REF!)+SUMIF(#REF!,CY$1,#REF!)+SUMIF(#REF!,CY$1,#REF!)+SUMIF(#REF!,CY$1,#REF!)+SUMIF(#REF!,CY$1,#REF!)+SUMIF(#REF!,CY$1,#REF!)+SUMIF(#REF!,CY$1,#REF!)+SUMIF(#REF!,CY$1,#REF!)+SUMIF(#REF!,CY$1,#REF!)+SUMIF(#REF!,CY$1,#REF!)+SUMIF(#REF!,CY$1,#REF!) -> #REF! | DC22: =C22&#REF! -> #REF! | DD22: =IF($DC22="",0,IF(COUNTIF($DC$2:$DC21,$DC22)=0,1,0)) -> #REF!
A23: 22 | B23: MR | AB23: AURAY | AC23: N. V (CAP / BEP) | AD23: =IF($AC23="","",IF($AC23="À l'étranger","À l'étranger",IF($AC23="N. VI et Vbis (sans diplôme validé)",2,IF($AC23="N. V (CAP / BEP)",3,IF($AC23="N. IV (bac)",4,IF($AC23="N. III (bac + 2)",5,IF($AC23="N. II (bac + 4 et bac +3)",6,"7/8"))))))) -> 3 | AE23: CAP/BEP | AF23: 2017 | AG23: 2nde, 1ère enseignement général ou 2ème année CAP/BEP | AH23: 2018 | AI23: Employés | AJ23: 31/09/2018 | AK23: CDD | AL23: 5 | AM23: BAC GEN | AN23: 2018 | AO23: ML | AP23: 43563 | AQ23: 43648 | AS23: AREF | AT23: 140 | AU23: 210 | AV23: 12 | AW23: 9 | AX23: 0 | AY23: 24 | AZ23: 12 | BA23: 60 | BB23: 18 | BC23: 0 | BD23: 30 | BI23: =SUM(BL23:BX23)+CY23 -> #REF! | BJ23: =#REF! -> #REF! | BK23: =#REF! -> #REF! | BL23: =BY23+CL23 -> #REF! | BM23: =BZ23+CM23 -> #REF! | BN23: =CA23+CN23 -> #REF! | BO23: =CB23+CO23 -> #REF! | BP23: =CC23+CP23 -> #REF! | BQ23: =CD23+CQ23 -> #REF! | BR23: =CE23+CR23 -> #REF! | BS23: =CF23+CS23 -> #REF! | ... BX23: =CK23+CX23 -> #REF! | BY23: =SUMIF(#REF!,BY$1,#REF!)+SUMIF(#REF!,BY$1,#REF!)+SUMIF(#REF!,BY$1,#REF!)+SUMIF(#REF!,BY$1,#REF!)+SUMIF(#REF!,BY$1,#REF!)+SUMIF(#REF!,BY$1,#REF!)+SUMIF(#REF!,BY$1,#REF!)+SUMIF(#REF!,BY$1,#REF!)+SUMIF(#REF!,BY$1,#REF!)+SUMIF(#REF!,BY$1,#REF!)+SUMIF(#REF!,BY$1,#REF!) -> #REF! | BZ23: =SUMIF(#REF!,BZ$1,#REF!)+SUMIF(#REF!,BZ$1,#REF!)+SUMIF(#REF!,BZ$1,#REF!)+SUMIF(#REF!,BZ$1,#REF!)+SUMIF(#REF!,BZ$1,#REF!)+SUMIF(#REF!,BZ$1,#REF!)+SUMIF(#REF!,BZ$1,#REF!)+SUMIF(#REF!,BZ$1,#REF!)+SUMIF(#REF!,BZ$1,#REF!)+SUMIF(#REF!,BZ$1,#REF!)+SUMIF(#REF!,BZ$1,#REF!) -> #REF! | CA23: =SUMIF(#REF!,CA$1,#REF!)+SUMIF(#REF!,CA$1,#REF!)+SUMIF(#REF!,CA$1,#REF!)+SUMIF(#REF!,CA$1,#REF!)+SUMIF(#REF!,CA$1,#REF!)+SUMIF(#REF!,CA$1,#REF!)+SUMIF(#REF!,CA$1,#REF!)+SUMIF(#REF!,CA$1,#REF!)+SUMIF(#REF!,CA$1,#REF!)+SUMIF(#REF!,CA$1,#REF!)+SUMIF(#REF!,CA$1,#REF!) -> #REF! | CB23: =SUMIF(#REF!,CB$1,#REF!)+SUMIF(#REF!,CB$1,#REF!)+SUMIF(#REF!,CB$1,#REF!)+SUMIF(#REF!,CB$1,#REF!)+SUMIF(#REF!,CB$1,#REF!)+SUMIF(#REF!,CB$1,#REF!)+SUMIF(#REF!,CB$1,#REF!)+SUMIF(#REF!,CB$1,#REF!)+SUMIF(#REF!,CB$1,#REF!)+SUMIF(#REF!,CB$1,#REF!)+SUMIF(#REF!,CB$1,#REF!) -> #REF! | CC23: =SUMIF(#REF!,CC$1,#REF!)+SUMIF(#REF!,CC$1,#REF!)+SUMIF(#REF!,CC$1,#REF!)+SUMIF(#REF!,CC$1,#REF!)+SUMIF(#REF!,CC$1,#REF!)+SUMIF(#REF!,CC$1,#REF!)+SUMIF(#REF!,CC$1,#REF!)+SUMIF(#REF!,CC$1,#REF!)+SUMIF(#REF!,CC$1,#REF!)+SUMIF(#REF!,CC$1,#REF!)+SUMIF(#REF!,CC$1,#REF!) -> #REF! | CD23: =SUMIF(#REF!,CD$1,#REF!)+SUMIF(#REF!,CD$1,#REF!)+SUMIF(#REF!,CD$1,#REF!)+SUMIF(#REF!,CD$1,#REF!)+SUMIF(#REF!,CD$1,#REF!)+SUMIF(#REF!,CD$1,#REF!)+SUMIF(#REF!,CD$1,#REF!)+SUMIF(#REF!,CD$1,#REF!)+SUMIF(#REF!,CD$1,#REF!)+SUMIF(#REF!,CD$1,#REF!)+SUMIF(#REF!,CD$1,#REF!) -> #REF! | CE23: =SUMIF(#REF!,CE$1,#REF!)+SUMIF(#REF!,CE$1,#REF!)+SUMIF(#REF!,CE$1,#REF!)+SUMIF(#REF!,CE$1,#REF!)+SUMIF(#REF!,CE$1,#REF!)+SUMIF(#REF!,CE$1,#REF!)+SUMIF(#REF!,CE$1,#REF!)+SUMIF(#REF!,CE$1,#REF!)+SUMIF(#REF!,CE$1,#REF!)+SUMIF(#REF!,CE$1,#REF!)+SUMIF(#REF!,CE$1,#REF!) -> #REF! | CF23: =SUMIF(#REF!,CF$1,#REF!)+SUMIF(#REF!,CF$1,#REF!)+SUMIF(#REF!,CF$1,#REF!)+SUMIF(#REF!,CF$1,#REF!)+SUMIF(#REF!,CF$1,#REF!)+SUMIF(#REF!,CF$1,#REF!)+SUMIF(#REF!,CF$1,#REF!)+SUMIF(#REF!,CF$1,#REF!)+SUMIF(#REF!,CF$1,#REF!)+SUMIF(#REF!,CF$1,#REF!)+SUMIF(#REF!,CF$1,#REF!) -> #REF! | ... CY23: =SUMIF(#REF!,CY$1,#REF!)+SUMIF(#REF!,CY$1,#REF!)+SUMIF(#REF!,CY$1,#REF!)+SUMIF(#REF!,CY$1,#REF!)+SUMIF(#REF!,CY$1,#REF!)+SUMIF(#REF!,CY$1,#REF!)+SUMIF(#REF!,CY$1,#REF!)+SUMIF(#REF!,CY$1,#REF!)+SUMIF(#REF!,CY$1,#REF!)+SUMIF(#REF!,CY$1,#REF!)+SUMIF(#REF!,CY$1,#REF!) -> #REF! | DC23: =C23&#REF! -> #REF! | DD23: =IF($DC23="",0,IF(COUNTIF($DC$2:$DC22,$DC23)=0,1,0)) -> #REF!
A24: 23 | B24: MR | AB24: AURAY | AC24: N. VI et Vbis (sans diplôme validé) | AD24: =IF($AC24="","",IF($AC24="À l'étranger","À l'étranger",IF($AC24="N. VI et Vbis (sans diplôme validé)",2,IF($AC24="N. V (CAP / BEP)",3,IF($AC24="N. IV (bac)",4,IF($AC24="N. III (bac + 2)",5,IF($AC24="N. II (bac + 4 et bac +3)",6,"7/8"))))))) -> 2 | AE24: Aucun diplôme | AG24: Primaire, 6e, 5e, 4e, CPA, CLIPPA, CPPN | AH24: 2004 | AI24: Ouvriers | AJ24: 43343 | AK24: INTERIM | AL24: 24 | AM24: SANS FORMATION | AO24: AUTRE | AP24: 43563 | AQ24: 43661 | AS24: AF | AT24: 164 | AU24: 210 | AV24: 12 | AW24: 0 | AX24: 9 | AY24: 48 | AZ24: 12 | BA24: 60 | BB24: 18 | BC24: 0 | BI24: =SUM(BL24:BX24)+CY24 -> #REF! | BJ24: =#REF! -> #REF! | BK24: =#REF! -> #REF! | BL24: =BY24+CL24 -> #REF! | BM24: =BZ24+CM24 -> #REF! | BN24: =CA24+CN24 -> #REF! | BO24: =CB24+CO24 -> #REF! | BP24: =CC24+CP24 -> #REF! | BQ24: =CD24+CQ24 -> #REF! | BR24: =CE24+CR24 -> #REF! | BS24: =CF24+CS24 -> #REF! | ... BX24: =CK24+CX24 -> #REF! | BY24: =SUMIF(#REF!,BY$1,#REF!)+SUMIF(#REF!,BY$1,#REF!)+SUMIF(#REF!,BY$1,#REF!)+SUMIF(#REF!,BY$1,#REF!)+SUMIF(#REF!,BY$1,#REF!)+SUMIF(#REF!,BY$1,#REF!)+SUMIF(#REF!,BY$1,#REF!)+SUMIF(#REF!,BY$1,#REF!)+SUMIF(#REF!,BY$1,#REF!)+SUMIF(#REF!,BY$1,#REF!)+SUMIF(#REF!,BY$1,#REF!) -> #REF! | BZ24: =SUMIF(#REF!,BZ$1,#REF!)+SUMIF(#REF!,BZ$1,#REF!)+SUMIF(#REF!,BZ$1,#REF!)+SUMIF(#REF!,BZ$1,#REF!)+SUMIF(#REF!,BZ$1,#REF!)+SUMIF(#REF!,BZ$1,#REF!)+SUMIF(#REF!,BZ$1,#REF!)+SUMIF(#REF!,BZ$1,#REF!)+SUMIF(#REF!,BZ$1,#REF!)+SUMIF(#REF!,BZ$1,#REF!)+SUMIF(#REF!,BZ$1,#REF!) -> #REF! | CA24: =SUMIF(#REF!,CA$1,#REF!)+SUMIF(#REF!,CA$1,#REF!)+SUMIF(#REF!,CA$1,#REF!)+SUMIF(#REF!,CA$1,#REF!)+SUMIF(#REF!,CA$1,#REF!)+SUMIF(#REF!,CA$1,#REF!)+SUMIF(#REF!,CA$1,#REF!)+SUMIF(#REF!,CA$1,#REF!)+SUMIF(#REF!,CA$1,#REF!)+SUMIF(#REF!,CA$1,#REF!)+SUMIF(#REF!,CA$1,#REF!) -> #REF! | CB24: =SUMIF(#REF!,CB$1,#REF!)+SUMIF(#REF!,CB$1,#REF!)+SUMIF(#REF!,CB$1,#REF!)+SUMIF(#REF!,CB$1,#REF!)+SUMIF(#REF!,CB$1,#REF!)+SUMIF(#REF!,CB$1,#REF!)+SUMIF(#REF!,CB$1,#REF!)+SUMIF(#REF!,CB$1,#REF!)+SUMIF(#REF!,CB$1,#REF!)+SUMIF(#REF!,CB$1,#REF!)+SUMIF(#REF!,CB$1,#REF!) -> #REF! | CC24: =SUMIF(#REF!,CC$1,#REF!)+SUMIF(#REF!,CC$1,#REF!)+SUMIF(#REF!,CC$1,#REF!)+SUMIF(#REF!,CC$1,#REF!)+SUMIF(#REF!,CC$1,#REF!)+SUMIF(#REF!,CC$1,#REF!)+SUMIF(#REF!,CC$1,#REF!)+SUMIF(#REF!,CC$1,#REF!)+SUMIF(#REF!,CC$1,#REF!)+SUMIF(#REF!,CC$1,#REF!)+SUMIF(#REF!,CC$1,#REF!) -> #REF! | CD24: =SUMIF(#REF!,CD$1,#REF!)+SUMIF(#REF!,CD$1,#REF!)+SUMIF(#REF!,CD$1,#REF!)+SUMIF(#REF!,CD$1,#REF!)+SUMIF(#REF!,CD$1,#REF!)+SUMIF(#REF!,CD$1,#REF!)+SUMIF(#REF!,CD$1,#REF!)+SUMIF(#REF!,CD$1,#REF!)+SUMIF(#REF!,CD$1,#REF!)+SUMIF(#REF!,CD$1,#REF!)+SUMIF(#REF!,CD$1,#REF!) -> #REF! | CE24: =SUMIF(#REF!,CE$1,#REF!)+SUMIF(#REF!,CE$1,#REF!)+SUMIF(#REF!,CE$1,#REF!)+SUMIF(#REF!,CE$1,#REF!)+SUMIF(#REF!,CE$1,#REF!)+SUMIF(#REF!,CE$1,#REF!)+SUMIF(#REF!,CE$1,#REF!)+SUMIF(#REF!,CE$1,#REF!)+SUMIF(#REF!,CE$1,#REF!)+SUMIF(#REF!,CE$1,#REF!)+SUMIF(#REF!,CE$1,#REF!) -> #REF! | CF24: =SUMIF(#REF!,CF$1,#REF!)+SUMIF(#REF!,CF$1,#REF!)+SUMIF(#REF!,CF$1,#REF!)+SUMIF(#REF!,CF$1,#REF!)+SUMIF(#REF!,CF$1,#REF!)+SUMIF(#REF!,CF$1,#REF!)+SUMIF(#REF!,CF$1,#REF!)+SUMIF(#REF!,CF$1,#REF!)+SUMIF(#REF!,CF$1,#REF!)+SUMIF(#REF!,CF$1,#REF!)+SUMIF(#REF!,CF$1,#REF!) -> #REF! | ... CY24: =SUMIF(#REF!,CY$1,#REF!)+SUMIF(#REF!,CY$1,#REF!)+SUMIF(#REF!,CY$1,#REF!)+SUMIF(#REF!,CY$1,#REF!)+SUMIF(#REF!,CY$1,#REF!)+SUMIF(#REF!,CY$1,#REF!)+SUMIF(#REF!,CY$1,#REF!)+SUMIF(#REF!,CY$1,#REF!)+SUMIF(#REF!,CY$1,#REF!)+SUMIF(#REF!,CY$1,#REF!)+SUMIF(#REF!,CY$1,#REF!) -> #REF! | DC24: =C24&#REF! -> #REF! | DD24: =IF($DC24="",0,IF(COUNTIF($DC$2:$DC23,$DC24)=0,1,0)) -> #REF!
A25: 24 | B25: MR | AC25: N. VI et Vbis (sans diplôme validé) | AD25: =IF($AC25="","",IF($AC25="À l'étranger","À l'étranger",IF($AC25="N. VI et Vbis (sans diplôme validé)",2,IF($AC25="N. V (CAP / BEP)",3,IF($AC25="N. IV (bac)",4,IF($AC25="N. III (bac + 2)",5,IF($AC25="N. II (bac + 4 et bac +3)",6,"7/8"))))))) -> 2 | AE25: Brevet des collèges | AF25: 2014 | AG25: Terminale | AH25: 2017 | AI25: Jamais travaillé | AM25: BAC GEN | AN25: 2017 | AO25: ML | AP25: 43584 | AQ25: 43706 | AS25: AF | AT25: 173 | AU25: 210 | AV25: 12 | AW25: 9 | AX25: 9 | AY25: 48 | AZ25: 12 | BA25: 60 | BB25: 18 | BC25: 0 | BI25: =SUM(BL25:BX25)+CY25 -> #REF! | BJ25: =#REF! -> #REF! | BK25: =#REF! -> #REF! | BL25: =BY25+CL25 -> #REF! | BM25: =BZ25+CM25 -> #REF! | BN25: =CA25+CN25 -> #REF! | BO25: =CB25+CO25 -> #REF! | BP25: =CC25+CP25 -> #REF! | BQ25: =CD25+CQ25 -> #REF! | BR25: =CE25+CR25 -> #REF! | BS25: =CF25+CS25 -> #REF! | ... BX25: =CK25+CX25 -> #REF! | BY25: =SUMIF(#REF!,BY$1,#REF!)+SUMIF(#REF!,BY$1,#REF!)+SUMIF(#REF!,BY$1,#REF!)+SUMIF(#REF!,BY$1,#REF!)+SUMIF(#REF!,BY$1,#REF!)+SUMIF(#REF!,BY$1,#REF!)+SUMIF(#REF!,BY$1,#REF!)+SUMIF(#REF!,BY$1,#REF!)+SUMIF(#REF!,BY$1,#REF!)+SUMIF(#REF!,BY$1,#REF!)+SUMIF(#REF!,BY$1,#REF!) -> #REF! | BZ25: =SUMIF(#REF!,BZ$1,#REF!)+SUMIF(#REF!,BZ$1,#REF!)+SUMIF(#REF!,BZ$1,#REF!)+SUMIF(#REF!,BZ$1,#REF!)+SUMIF(#REF!,BZ$1,#REF!)+SUMIF(#REF!,BZ$1,#REF!)+SUMIF(#REF!,BZ$1,#REF!)+SUMIF(#REF!,BZ$1,#REF!)+SUMIF(#REF!,BZ$1,#REF!)+SUMIF(#REF!,BZ$1,#REF!)+SUMIF(#REF!,BZ$1,#REF!) -> #REF! | CA25: =SUMIF(#REF!,CA$1,#REF!)+SUMIF(#REF!,CA$1,#REF!)+SUMIF(#REF!,CA$1,#REF!)+SUMIF(#REF!,CA$1,#REF!)+SUMIF(#REF!,CA$1,#REF!)+SUMIF(#REF!,CA$1,#REF!)+SUMIF(#REF!,CA$1,#REF!)+SUMIF(#REF!,CA$1,#REF!)+SUMIF(#REF!,CA$1,#REF!)+SUMIF(#REF!,CA$1,#REF!)+SUMIF(#REF!,CA$1,#REF!) -> #REF! | CB25: =SUMIF(#REF!,CB$1,#REF!)+SUMIF(#REF!,CB$1,#REF!)+SUMIF(#REF!,CB$1,#REF!)+SUMIF(#REF!,CB$1,#REF!)+SUMIF(#REF!,CB$1,#REF!)+SUMIF(#REF!,CB$1,#REF!)+SUMIF(#REF!,CB$1,#REF!)+SUMIF(#REF!,CB$1,#REF!)+SUMIF(#REF!,CB$1,#REF!)+SUMIF(#REF!,CB$1,#REF!)+SUMIF(#REF!,CB$1,#REF!) -> #REF! | CC25: =SUMIF(#REF!,CC$1,#REF!)+SUMIF(#REF!,CC$1,#REF!)+SUMIF(#REF!,CC$1,#REF!)+SUMIF(#REF!,CC$1,#REF!)+SUMIF(#REF!,CC$1,#REF!)+SUMIF(#REF!,CC$1,#REF!)+SUMIF(#REF!,CC$1,#REF!)+SUMIF(#REF!,CC$1,#REF!)+SUMIF(#REF!,CC$1,#REF!)+SUMIF(#REF!,CC$1,#REF!)+SUMIF(#REF!,CC$1,#REF!) -> #REF! | CD25: =SUMIF(#REF!,CD$1,#REF!)+SUMIF(#REF!,CD$1,#REF!)+SUMIF(#REF!,CD$1,#REF!)+SUMIF(#REF!,CD$1,#REF!)+SUMIF(#REF!,CD$1,#REF!)+SUMIF(#REF!,CD$1,#REF!)+SUMIF(#REF!,CD$1,#REF!)+SUMIF(#REF!,CD$1,#REF!)+SUMIF(#REF!,CD$1,#REF!)+SUMIF(#REF!,CD$1,#REF!)+SUMIF(#REF!,CD$1,#REF!) -> #REF! | CE25: =SUMIF(#REF!,CE$1,#REF!)+SUMIF(#REF!,CE$1,#REF!)+SUMIF(#REF!,CE$1,#REF!)+SUMIF(#REF!,CE$1,#REF!)+SUMIF(#REF!,CE$1,#REF!)+SUMIF(#REF!,CE$1,#REF!)+SUMIF(#REF!,CE$1,#REF!)+SUMIF(#REF!,CE$1,#REF!)+SUMIF(#REF!,CE$1,#REF!)+SUMIF(#REF!,CE$1,#REF!)+SUMIF(#REF!,CE$1,#REF!) -> #REF! | CF25: =SUMIF(#REF!,CF$1,#REF!)+SUMIF(#REF!,CF$1,#REF!)+SUMIF(#REF!,CF$1,#REF!)+SUMIF(#REF!,CF$1,#REF!)+SUMIF(#REF!,CF$1,#REF!)+SUMIF(#REF!,CF$1,#REF!)+SUMIF(#REF!,CF$1,#REF!)+SUMIF(#REF!,CF$1,#REF!)+SUMIF(#REF!,CF$1,#REF!)+SUMIF(#REF!,CF$1,#REF!)+SUMIF(#REF!,CF$1,#REF!) -> #REF! | ... CY25: =SUMIF(#REF!,CY$1,#REF!)+SUMIF(#REF!,CY$1,#REF!)+SUMIF(#REF!,CY$1,#REF!)+SUMIF(#REF!,CY$1,#REF!)+SUMIF(#REF!,CY$1,#REF!)+SUMIF(#REF!,CY$1,#REF!)+SUMIF(#REF!,CY$1,#REF!)+SUMIF(#REF!,CY$1,#REF!)+SUMIF(#REF!,CY$1,#REF!)+SUMIF(#REF!,CY$1,#REF!)+SUMIF(#REF!,CY$1,#REF!) -> #REF! | DC25: =#REF!&#REF! -> #REF! | DD25: =IF($DC25="",0,IF(COUNTIF($DC$2:$DC24,$DC25)=0,1,0)) -> #REF!
A26: 25 | B26: MME | AB26: AURAY | AC26: N. IV (bac) | AD26: =IF($AC26="","",IF($AC26="À l'étranger","À l'étranger",IF($AC26="N. VI et Vbis (sans diplôme validé)",2,IF($AC26="N. V (CAP / BEP)",3,IF($AC26="N. IV (bac)",4,IF($AC26="N. III (bac + 2)",5,IF($AC26="N. II (bac + 4 et bac +3)",6,"7/8"))))))) -> 4 | AE26: BAC | AF26: 2010 | AG26: 2nde, 1ère enseignement général ou 2ème année CAP/BEP | AH26: 2015 | AI26: Employés | AJ26: 43540 | AK26: CDI | AL26: 87 | AM26: BEP | AN26: 2015 | AO26: AUTRE | AP26: 43584 | AQ26: 43658 | AS26: AREF | AT26: 77 | AU26: 210 | AV26: 12 | AW26: 0 | AX26: 0 | AY26: 0 | AZ26: 0 | BA26: 60 | BB26: 0 | BC26: 0 | BI26: =SUM(BL26:BX26)+CY26 -> #REF! | BJ26: =#REF! -> #REF! | BK26: =#REF! -> #REF! | BL26: =BY26+CL26 -> #REF! | BM26: =BZ26+CM26 -> #REF! | BN26: =CA26+CN26 -> #REF! | BO26: =CB26+CO26 -> #REF! | BP26: =CC26+CP26 -> #REF! | BQ26: =CD26+CQ26 -> #REF! | BR26: =CE26+CR26 -> #REF! | BS26: =CF26+CS26 -> #REF! | ... BX26: =CK26+CX26 -> #REF! | BY26: =SUMIF(#REF!,BY$1,#REF!)+SUMIF(#REF!,BY$1,#REF!)+SUMIF(#REF!,BY$1,#REF!)+SUMIF(#REF!,BY$1,#REF!)+SUMIF(#REF!,BY$1,#REF!)+SUMIF(#REF!,BY$1,#REF!)+SUMIF(#REF!,BY$1,#REF!)+SUMIF(#REF!,BY$1,#REF!)+SUMIF(#REF!,BY$1,#REF!)+SUMIF(#REF!,BY$1,#REF!)+SUMIF(#REF!,BY$1,#REF!) -> #REF! | BZ26: =SUMIF(#REF!,BZ$1,#REF!)+SUMIF(#REF!,BZ$1,#REF!)+SUMIF(#REF!,BZ$1,#REF!)+SUMIF(#REF!,BZ$1,#REF!)+SUMIF(#REF!,BZ$1,#REF!)+SUMIF(#REF!,BZ$1,#REF!)+SUMIF(#REF!,BZ$1,#REF!)+SUMIF(#REF!,BZ$1,#REF!)+SUMIF(#REF!,BZ$1,#REF!)+SUMIF(#REF!,BZ$1,#REF!)+SUMIF(#REF!,BZ$1,#REF!) -> #REF! | CA26: =SUMIF(#REF!,CA$1,#REF!)+SUMIF(#REF!,CA$1,#REF!)+SUMIF(#REF!,CA$1,#REF!)+SUMIF(#REF!,CA$1,#REF!)+SUMIF(#REF!,CA$1,#REF!)+SUMIF(#REF!,CA$1,#REF!)+SUMIF(#REF!,CA$1,#REF!)+SUMIF(#REF!,CA$1,#REF!)+SUMIF(#REF!,CA$1,#REF!)+SUMIF(#REF!,CA$1,#REF!)+SUMIF(#REF!,CA$1,#REF!) -> #REF! | CB26: =SUMIF(#REF!,CB$1,#REF!)+SUMIF(#REF!,CB$1,#REF!)+SUMIF(#REF!,CB$1,#REF!)+SUMIF(#REF!,CB$1,#REF!)+SUMIF(#REF!,CB$1,#REF!)+SUMIF(#REF!,CB$1,#REF!)+SUMIF(#REF!,CB$1,#REF!)+SUMIF(#REF!,CB$1,#REF!)+SUMIF(#REF!,CB$1,#REF!)+SUMIF(#REF!,CB$1,#REF!)+SUMIF(#REF!,CB$1,#REF!) -> #REF! | CC26: =SUMIF(#REF!,CC$1,#REF!)+SUMIF(#REF!,CC$1,#REF!)+SUMIF(#REF!,CC$1,#REF!)+SUMIF(#REF!,CC$1,#REF!)+SUMIF(#REF!,CC$1,#REF!)+SUMIF(#REF!,CC$1,#REF!)+SUMIF(#REF!,CC$1,#REF!)+SUMIF(#REF!,CC$1,#REF!)+SUMIF(#REF!,CC$1,#REF!)+SUMIF(#REF!,CC$1,#REF!)+SUMIF(#REF!,CC$1,#REF!) -> #REF! | CD26: =SUMIF(#REF!,CD$1,#REF!)+SUMIF(#REF!,CD$1,#REF!)+SUMIF(#REF!,CD$1,#REF!)+SUMIF(#REF!,CD$1,#REF!)+SUMIF(#REF!,CD$1,#REF!)+SUMIF(#REF!,CD$1,#REF!)+SUMIF(#REF!,CD$1,#REF!)+SUMIF(#REF!,CD$1,#REF!)+SUMIF(#REF!,CD$1,#REF!)+SUMIF(#REF!,CD$1,#REF!)+SUMIF(#REF!,CD$1,#REF!) -> #REF! | CE26: =SUMIF(#REF!,CE$1,#REF!)+SUMIF(#REF!,CE$1,#REF!)+SUMIF(#REF!,CE$1,#REF!)+SUMIF(#REF!,CE$1,#REF!)+SUMIF(#REF!,CE$1,#REF!)+SUMIF(#REF!,CE$1,#REF!)+SUMIF(#REF!,CE$1,#REF!)+SUMIF(#REF!,CE$1,#REF!)+SUMIF(#REF!,CE$1,#REF!)+SUMIF(#REF!,CE$1,#REF!)+SUMIF(#REF!,CE$1,#REF!) -> #REF! | CF26: =SUMIF(#REF!,CF$1,#REF!)+SUMIF(#REF!,CF$1,#REF!)+SUMIF(#REF!,CF$1,#REF!)+SUMIF(#REF!,CF$1,#REF!)+SUMIF(#REF!,CF$1,#REF!)+SUMIF(#REF!,CF$1,#REF!)+SUMIF(#REF!,CF$1,#REF!)+SUMIF(#REF!,CF$1,#REF!)+SUMIF(#REF!,CF$1,#REF!)+SUMIF(#REF!,CF$1,#REF!)+SUMIF(#REF!,CF$1,#REF!) -> #REF! | ... CY26: =SUMIF(#REF!,CY$1,#REF!)+SUMIF(#REF!,CY$1,#REF!)+SUMIF(#REF!,CY$1,#REF!)+SUMIF(#REF!,CY$1,#REF!)+SUMIF(#REF!,CY$1,#REF!)+SUMIF(#REF!,CY$1,#REF!)+SUMIF(#REF!,CY$1,#REF!)+SUMIF(#REF!,CY$1,#REF!)+SUMIF(#REF!,CY$1,#REF!)+SUMIF(#REF!,CY$1,#REF!)+SUMIF(#REF!,CY$1,#REF!) -> #REF! | DC26: =C26&E26 | DD26: =IF($DC26="",0,IF(COUNTIF($DC$2:$DC25,$DC26)=0,1,0)) -> 0
A27: 26 | AD27: =IF($AC27="","",IF($AC27="À l'étranger","À l'étranger",IF($AC27="N. VI et Vbis (sans diplôme validé)",2,IF($AC27="N. V (CAP / BEP)",3,IF($AC27="N. IV (bac)",4,IF($AC27="N. III (bac + 2)",5,IF($AC27="N. II (bac + 4 et bac +3)",6,"7/8"))))))) | BI27: =SUM(BL27:BX27)+CY27 -> #REF! | BJ27: =#REF! -> #REF! | BK27: =#REF! -> #REF! | BL27: =BY27+CL27 -> #REF! | BM27: =BZ27+CM27 -> #REF! | BN27: =CA27+CN27 -> #REF! | BO27: =CB27+CO27 -> #REF! | BP27: =CC27+CP27 -> #REF! | BQ27: =CD27+CQ27 -> #REF! | BR27: =CE27+CR27 -> #REF! | BS27: =CF27+CS27 -> #REF! | ... BX27: =CK27+CX27 -> #REF! | BY27: =SUMIF(#REF!,BY$1,#REF!)+SUMIF(#REF!,BY$1,#REF!)+SUMIF(#REF!,BY$1,#REF!)+SUMIF(#REF!,BY$1,#REF!)+SUMIF(#REF!,BY$1,#REF!)+SUMIF(#REF!,BY$1,#REF!)+SUMIF(#REF!,BY$1,#REF!)+SUMIF(#REF!,BY$1,#REF!)+SUMIF(#REF!,BY$1,#REF!)+SUMIF(#REF!,BY$1,#REF!)+SUMIF(#REF!,BY$1,#REF!) -> #REF! | BZ27: =SUMIF(#REF!,BZ$1,#REF!)+SUMIF(#REF!,BZ$1,#REF!)+SUMIF(#REF!,BZ$1,#REF!)+SUMIF(#REF!,BZ$1,#REF!)+SUMIF(#REF!,BZ$1,#REF!)+SUMIF(#REF!,BZ$1,#REF!)+SUMIF(#REF!,BZ$1,#REF!)+SUMIF(#REF!,BZ$1,#REF!)+SUMIF(#REF!,BZ$1,#REF!)+SUMIF(#REF!,BZ$1,#REF!)+SUMIF(#REF!,BZ$1,#REF!) -> #REF! | CA27: =SUMIF(#REF!,CA$1,#REF!)+SUMIF(#REF!,CA$1,#REF!)+SUMIF(#REF!,CA$1,#REF!)+SUMIF(#REF!,CA$1,#REF!)+SUMIF(#REF!,CA$1,#REF!)+SUMIF(#REF!,CA$1,#REF!)+SUMIF(#REF!,CA$1,#REF!)+SUMIF(#REF!,CA$1,#REF!)+SUMIF(#REF!,CA$1,#REF!)+SUMIF(#REF!,CA$1,#REF!)+SUMIF(#REF!,CA$1,#REF!) -> #REF! | CB27: =SUMIF(#REF!,CB$1,#REF!)+SUMIF(#REF!,CB$1,#REF!)+SUMIF(#REF!,CB$1,#REF!)+SUMIF(#REF!,CB$1,#REF!)+SUMIF(#REF!,CB$1,#REF!)+SUMIF(#REF!,CB$1,#REF!)+SUMIF(#REF!,CB$1,#REF!)+SUMIF(#REF!,CB$1,#REF!)+SUMIF(#REF!,CB$1,#REF!)+SUMIF(#REF!,CB$1,#REF!)+SUMIF(#REF!,CB$1,#REF!) -> #REF! | CC27: =SUMIF(#REF!,CC$1,#REF!)+SUMIF(#REF!,CC$1,#REF!)+SUMIF(#REF!,CC$1,#REF!)+SUMIF(#REF!,CC$1,#REF!)+SUMIF(#REF!,CC$1,#REF!)+SUMIF(#REF!,CC$1,#REF!)+SUMIF(#REF!,CC$1,#REF!)+SUMIF(#REF!,CC$1,#REF!)+SUMIF(#REF!,CC$1,#REF!)+SUMIF(#REF!,CC$1,#REF!)+SUMIF(#REF!,CC$1,#REF!) -> #REF! | CD27: =SUMIF(#REF!,CD$1,#REF!)+SUMIF(#REF!,CD$1,#REF!)+SUMIF(#REF!,CD$1,#REF!)+SUMIF(#REF!,CD$1,#REF!)+SUMIF(#REF!,CD$1,#REF!)+SUMIF(#REF!,CD$1,#REF!)+SUMIF(#REF!,CD$1,#REF!)+SUMIF(#REF!,CD$1,#REF!)+SUMIF(#REF!,CD$1,#REF!)+SUMIF(#REF!,CD$1,#REF!)+SUMIF(#REF!,CD$1,#REF!) -> #REF! | CE27: =SUMIF(#REF!,CE$1,#REF!)+SUMIF(#REF!,CE$1,#REF!)+SUMIF(#REF!,CE$1,#REF!)+SUMIF(#REF!,CE$1,#REF!)+SUMIF(#REF!,CE$1,#REF!)+SUMIF(#REF!,CE$1,#REF!)+SUMIF(#REF!,CE$1,#REF!)+SUMIF(#REF!,CE$1,#REF!)+SUMIF(#REF!,CE$1,#REF!)+SUMIF(#REF!,CE$1,#REF!)+SUMIF(#REF!,CE$1,#REF!) -> #REF! | CF27: =SUMIF(#REF!,CF$1,#REF!)+SUMIF(#REF!,CF$1,#REF!)+SUMIF(#REF!,CF$1,#REF!)+SUMIF(#REF!,CF$1,#REF!)+SUMIF(#REF!,CF$1,#REF!)+SUMIF(#REF!,CF$1,#REF!)+SUMIF(#REF!,CF$1,#REF!)+SUMIF(#REF!,CF$1,#REF!)+SUMIF(#REF!,CF$1,#REF!)+SUMIF(#REF!,CF$1,#REF!)+SUMIF(#REF!,CF$1,#REF!) -> #REF! | ... CY27: =SUMIF(#REF!,CY$1,#REF!)+SUMIF(#REF!,CY$1,#REF!)+SUMIF(#REF!,CY$1,#REF!)+SUMIF(#REF!,CY$1,#REF!)+SUMIF(#REF!,CY$1,#REF!)+SUMIF(#REF!,CY$1,#REF!)+SUMIF(#REF!,CY$1,#REF!)+SUMIF(#REF!,CY$1,#REF!)+SUMIF(#REF!,CY$1,#REF!)+SUMIF(#REF!,CY$1,#REF!)+SUMIF(#REF!,CY$1,#REF!) -> #REF! | DC27: =C27&E27 | DD27: =IF($DC27="",0,IF(COUNTIF($DC$2:$DC26,$DC27)=0,1,0)) -> 0
A28: 27 | AD28: =IF($AC28="","",IF($AC28="À l'étranger","À l'étranger",IF($AC28="N. VI et Vbis (sans diplôme validé)",2,IF($AC28="N. V (CAP / BEP)",3,IF($AC28="N. IV (bac)",4,IF($AC28="N. III (bac + 2)",5,IF($AC28="N. II (bac + 4 et bac +3)",6,"7/8"))))))) | BI28: =SUM(BL28:BX28)+CY28 -> #REF! | BJ28: =#REF! -> #REF! | BK28: =#REF! -> #REF! | BL28: =BY28+CL28 -> #REF! | BM28: =BZ28+CM28 -> #REF! | BN28: =CA28+CN28 -> #REF! | BO28: =CB28+CO28 -> #REF! | BP28: =CC28+CP28 -> #REF! | BQ28: =CD28+CQ28 -> #REF! | BR28: =CE28+CR28 -> #REF! | BS28: =CF28+CS28 -> #REF! | ... BX28: =CK28+CX28 -> #REF! | BY28: =SUMIF(#REF!,BY$1,#REF!)+SUMIF(#REF!,BY$1,#REF!)+SUMIF(#REF!,BY$1,#REF!)+SUMIF(#REF!,BY$1,#REF!)+SUMIF(#REF!,BY$1,#REF!)+SUMIF(#REF!,BY$1,#REF!)+SUMIF(#REF!,BY$1,#REF!)+SUMIF(#REF!,BY$1,#REF!)+SUMIF(#REF!,BY$1,#REF!)+SUMIF(#REF!,BY$1,#REF!)+SUMIF(#REF!,BY$1,#REF!) -> #REF! | BZ28: =SUMIF(#REF!,BZ$1,#REF!)+SUMIF(#REF!,BZ$1,#REF!)+SUMIF(#REF!,BZ$1,#REF!)+SUMIF(#REF!,BZ$1,#REF!)+SUMIF(#REF!,BZ$1,#REF!)+SUMIF(#REF!,BZ$1,#REF!)+SUMIF(#REF!,BZ$1,#REF!)+SUMIF(#REF!,BZ$1,#REF!)+SUMIF(#REF!,BZ$1,#REF!)+SUMIF(#REF!,BZ$1,#REF!)+SUMIF(#REF!,BZ$1,#REF!) -> #REF! | CA28: =SUMIF(#REF!,CA$1,#REF!)+SUMIF(#REF!,CA$1,#REF!)+SUMIF(#REF!,CA$1,#REF!)+SUMIF(#REF!,CA$1,#REF!)+SUMIF(#REF!,CA$1,#REF!)+SUMIF(#REF!,CA$1,#REF!)+SUMIF(#REF!,CA$1,#REF!)+SUMIF(#REF!,CA$1,#REF!)+SUMIF(#REF!,CA$1,#REF!)+SUMIF(#REF!,CA$1,#REF!)+SUMIF(#REF!,CA$1,#REF!) -> #REF! | CB28: =SUMIF(#REF!,CB$1,#REF!)+SUMIF(#REF!,CB$1,#REF!)+SUMIF(#REF!,CB$1,#REF!)+SUMIF(#REF!,CB$1,#REF!)+SUMIF(#REF!,CB$1,#REF!)+SUMIF(#REF!,CB$1,#REF!)+SUMIF(#REF!,CB$1,#REF!)+SUMIF(#REF!,CB$1,#REF!)+SUMIF(#REF!,CB$1,#REF!)+SUMIF(#REF!,CB$1,#REF!)+SUMIF(#REF!,CB$1,#REF!) -> #REF! | CC28: =SUMIF(#REF!,CC$1,#REF!)+SUMIF(#REF!,CC$1,#REF!)+SUMIF(#REF!,CC$1,#REF!)+SUMIF(#REF!,CC$1,#REF!)+SUMIF(#REF!,CC$1,#REF!)+SUMIF(#REF!,CC$1,#REF!)+SUMIF(#REF!,CC$1,#REF!)+SUMIF(#REF!,CC$1,#REF!)+SUMIF(#REF!,CC$1,#REF!)+SUMIF(#REF!,CC$1,#REF!)+SUMIF(#REF!,CC$1,#REF!) -> #REF! | CD28: =SUMIF(#REF!,CD$1,#REF!)+SUMIF(#REF!,CD$1,#REF!)+SUMIF(#REF!,CD$1,#REF!)+SUMIF(#REF!,CD$1,#REF!)+SUMIF(#REF!,CD$1,#REF!)+SUMIF(#REF!,CD$1,#REF!)+SUMIF(#REF!,CD$1,#REF!)+SUMIF(#REF!,CD$1,#REF!)+SUMIF(#REF!,CD$1,#REF!)+SUMIF(#REF!,CD$1,#REF!)+SUMIF(#REF!,CD$1,#REF!) -> #REF! | CE28: =SUMIF(#REF!,CE$1,#REF!)+SUMIF(#REF!,CE$1,#REF!)+SUMIF(#REF!,CE$1,#REF!)+SUMIF(#REF!,CE$1,#REF!)+SUMIF(#REF!,CE$1,#REF!)+SUMIF(#REF!,CE$1,#REF!)+SUMIF(#REF!,CE$1,#REF!)+SUMIF(#REF!,CE$1,#REF!)+SUMIF(#REF!,CE$1,#REF!)+SUMIF(#REF!,CE$1,#REF!)+SUMIF(#REF!,CE$1,#REF!) -> #REF! | CF28: =SUMIF(#REF!,CF$1,#REF!)+SUMIF(#REF!,CF$1,#REF!)+SUMIF(#REF!,CF$1,#REF!)+SUMIF(#REF!,CF$1,#REF!)+SUMIF(#REF!,CF$1,#REF!)+SUMIF(#REF!,CF$1,#REF!)+SUMIF(#REF!,CF$1,#REF!)+SUMIF(#REF!,CF$1,#REF!)+SUMIF(#REF!,CF$1,#REF!)+SUMIF(#REF!,CF$1,#REF!)+SUMIF(#REF!,CF$1,#REF!) -> #REF! | ... CY28: =SUMIF(#REF!,CY$1,#REF!)+SUMIF(#REF!,CY$1,#REF!)+SUMIF(#REF!,CY$1,#REF!)+SUMIF(#REF!,CY$1,#REF!)+SUMIF(#REF!,CY$1,#REF!)+SUMIF(#REF!,CY$1,#REF!)+SUMIF(#REF!,CY$1,#REF!)+SUMIF(#REF!,CY$1,#REF!)+SUMIF(#REF!,CY$1,#REF!)+SUMIF(#REF!,CY$1,#REF!)+SUMIF(#REF!,CY$1,#REF!) -> #REF! | DC28: =C28&E28 | DD28: =IF($DC28="",0,IF(COUNTIF($DC$2:$DC27,$DC28)=0,1,0)) -> 0
A29: 28 | AD29: =IF($AC29="","",IF($AC29="À l'étranger","À l'étranger",IF($AC29="N. VI et Vbis (sans diplôme validé)",2,IF($AC29="N. V (CAP / BEP)",3,IF($AC29="N. IV (bac)",4,IF($AC29="N. III (bac + 2)",5,IF($AC29="N. II (bac + 4 et bac +3)",6,"7/8"))))))) | BI29: =SUM(BL29:BX29)+CY29 -> #REF! | BJ29: =#REF! -> #REF! | BK29: =#REF! -> #REF! | BL29: =BY29+CL29 -> #REF! | BM29: =BZ29+CM29 -> #REF! | BN29: =CA29+CN29 -> #REF! | BO29: =CB29+CO29 -> #REF! | BP29: =CC29+CP29 -> #REF! | BQ29: =CD29+CQ29 -> #REF! | BR29: =CE29+CR29 -> #REF! | BS29: =CF29+CS29 -> #REF! | ... BX29: =CK29+CX29 -> #REF! | BY29: =SUMIF(#REF!,BY$1,#REF!)+SUMIF(#REF!,BY$1,#REF!)+SUMIF(#REF!,BY$1,#REF!)+SUMIF(#REF!,BY$1,#REF!)+SUMIF(#REF!,BY$1,#REF!)+SUMIF(#REF!,BY$1,#REF!)+SUMIF(#REF!,BY$1,#REF!)+SUMIF(#REF!,BY$1,#REF!)+SUMIF(#REF!,BY$1,#REF!)+SUMIF(#REF!,BY$1,#REF!)+SUMIF(#REF!,BY$1,#REF!) -> #REF! | BZ29: =SUMIF(#REF!,BZ$1,#REF!)+SUMIF(#REF!,BZ$1,#REF!)+SUMIF(#REF!,BZ$1,#REF!)+SUMIF(#REF!,BZ$1,#REF!)+SUMIF(#REF!,BZ$1,#REF!)+SUMIF(#REF!,BZ$1,#REF!)+SUMIF(#REF!,BZ$1,#REF!)+SUMIF(#REF!,BZ$1,#REF!)+SUMIF(#REF!,BZ$1,#REF!)+SUMIF(#REF!,BZ$1,#REF!)+SUMIF(#REF!,BZ$1,#REF!) -> #REF! | CA29: =SUMIF(#REF!,CA$1,#REF!)+SUMIF(#REF!,CA$1,#REF!)+SUMIF(#REF!,CA$1,#REF!)+SUMIF(#REF!,CA$1,#REF!)+SUMIF(#REF!,CA$1,#REF!)+SUMIF(#REF!,CA$1,#REF!)+SUMIF(#REF!,CA$1,#REF!)+SUMIF(#REF!,CA$1,#REF!)+SUMIF(#REF!,CA$1,#REF!)+SUMIF(#REF!,CA$1,#REF!)+SUMIF(#REF!,CA$1,#REF!) -> #REF! | CB29: =SUMIF(#REF!,CB$1,#REF!)+SUMIF(#REF!,CB$1,#REF!)+SUMIF(#REF!,CB$1,#REF!)+SUMIF(#REF!,CB$1,#REF!)+SUMIF(#REF!,CB$1,#REF!)+SUMIF(#REF!,CB$1,#REF!)+SUMIF(#REF!,CB$1,#REF!)+SUMIF(#REF!,CB$1,#REF!)+SUMIF(#REF!,CB$1,#REF!)+SUMIF(#REF!,CB$1,#REF!)+SUMIF(#REF!,CB$1,#REF!) -> #REF! | CC29: =SUMIF(#REF!,CC$1,#REF!)+SUMIF(#REF!,CC$1,#REF!)+SUMIF(#REF!,CC$1,#REF!)+SUMIF(#REF!,CC$1,#REF!)+SUMIF(#REF!,CC$1,#REF!)+SUMIF(#REF!,CC$1,#REF!)+SUMIF(#REF!,CC$1,#REF!)+SUMIF(#REF!,CC$1,#REF!)+SUMIF(#REF!,CC$1,#REF!)+SUMIF(#REF!,CC$1,#REF!)+SUMIF(#REF!,CC$1,#REF!) -> #REF! | CD29: =SUMIF(#REF!,CD$1,#REF!)+SUMIF(#REF!,CD$1,#REF!)+SUMIF(#REF!,CD$1,#REF!)+SUMIF(#REF!,CD$1,#REF!)+SUMIF(#REF!,CD$1,#REF!)+SUMIF(#REF!,CD$1,#REF!)+SUMIF(#REF!,CD$1,#REF!)+SUMIF(#REF!,CD$1,#REF!)+SUMIF(#REF!,CD$1,#REF!)+SUMIF(#REF!,CD$1,#REF!)+SUMIF(#REF!,CD$1,#REF!) -> #REF! | CE29: =SUMIF(#REF!,CE$1,#REF!)+SUMIF(#REF!,CE$1,#REF!)+SUMIF(#REF!,CE$1,#REF!)+SUMIF(#REF!,CE$1,#REF!)+SUMIF(#REF!,CE$1,#REF!)+SUMIF(#REF!,CE$1,#REF!)+SUMIF(#REF!,CE$1,#REF!)+SUMIF(#REF!,CE$1,#REF!)+SUMIF(#REF!,CE$1,#REF!)+SUMIF(#REF!,CE$1,#REF!)+SUMIF(#REF!,CE$1,#REF!) -> #REF! | CF29: =SUMIF(#REF!,CF$1,#REF!)+SUMIF(#REF!,CF$1,#REF!)+SUMIF(#REF!,CF$1,#REF!)+SUMIF(#REF!,CF$1,#REF!)+SUMIF(#REF!,CF$1,#REF!)+SUMIF(#REF!,CF$1,#REF!)+SUMIF(#REF!,CF$1,#REF!)+SUMIF(#REF!,CF$1,#REF!)+SUMIF(#REF!,CF$1,#REF!)+SUMIF(#REF!,CF$1,#REF!)+SUMIF(#REF!,CF$1,#REF!) -> #REF! | ... CY29: =SUMIF(#REF!,CY$1,#REF!)+SUMIF(#REF!,CY$1,#REF!)+SUMIF(#REF!,CY$1,#REF!)+SUMIF(#REF!,CY$1,#REF!)+SUMIF(#REF!,CY$1,#REF!)+SUMIF(#REF!,CY$1,#REF!)+SUMIF(#REF!,CY$1,#REF!)+SUMIF(#REF!,CY$1,#REF!)+SUMIF(#REF!,CY$1,#REF!)+SUMIF(#REF!,CY$1,#REF!)+SUMIF(#REF!,CY$1,#REF!) -> #REF! | DC29: =C29&E29 | DD29: =IF($DC29="",0,IF(COUNTIF($DC$2:$DC28,$DC29)=0,1,0)) -> 0
A30: 29 | AD30: =IF($AC30="","",IF($AC30="À l'étranger","À l'étranger",IF($AC30="N. VI et Vbis (sans diplôme validé)",2,IF($AC30="N. V (CAP / BEP)",3,IF($AC30="N. IV (bac)",4,IF($AC30="N. III (bac + 2)",5,IF($AC30="N. II (bac + 4 et bac +3)",6,"7/8"))))))) | BI30: =SUM(BL30:BX30)+CY30 -> #REF! | BJ30: =#REF! -> #REF! | BK30: =#REF! -> #REF! | BL30: =BY30+CL30 -> #REF! | BM30: =BZ30+CM30 -> #REF! | BN30: =CA30+CN30 -> #REF! | BO30: =CB30+CO30 -> #REF! | BP30: =CC30+CP30 -> #REF! | BQ30: =CD30+CQ30 -> #REF! | BR30: =CE30+CR30 -> #REF! | BS30: =CF30+CS30 -> #REF! | ... BX30: =CK30+CX30 -> #REF! | BY30: =SUMIF(#REF!,BY$1,#REF!)+SUMIF(#REF!,BY$1,#REF!)+SUMIF(#REF!,BY$1,#REF!)+SUMIF(#REF!,BY$1,#REF!)+SUMIF(#REF!,BY$1,#REF!)+SUMIF(#REF!,BY$1,#REF!)+SUMIF(#REF!,BY$1,#REF!)+SUMIF(#REF!,BY$1,#REF!)+SUMIF(#REF!,BY$1,#REF!)+SUMIF(#REF!,BY$1,#REF!)+SUMIF(#REF!,BY$1,#REF!) -> #REF! | BZ30: =SUMIF(#REF!,BZ$1,#REF!)+SUMIF(#REF!,BZ$1,#REF!)+SUMIF(#REF!,BZ$1,#REF!)+SUMIF(#REF!,BZ$1,#REF!)+SUMIF(#REF!,BZ$1,#REF!)+SUMIF(#REF!,BZ$1,#REF!)+SUMIF(#REF!,BZ$1,#REF!)+SUMIF(#REF!,BZ$1,#REF!)+SUMIF(#REF!,BZ$1,#REF!)+SUMIF(#REF!,BZ$1,#REF!)+SUMIF(#REF!,BZ$1,#REF!) -> #REF! | CA30: =SUMIF(#REF!,CA$1,#REF!)+SUMIF(#REF!,CA$1,#REF!)+SUMIF(#REF!,CA$1,#REF!)+SUMIF(#REF!,CA$1,#REF!)+SUMIF(#REF!,CA$1,#REF!)+SUMIF(#REF!,CA$1,#REF!)+SUMIF(#REF!,CA$1,#REF!)+SUMIF(#REF!,CA$1,#REF!)+SUMIF(#REF!,CA$1,#REF!)+SUMIF(#REF!,CA$1,#REF!)+SUMIF(#REF!,CA$1,#REF!) -> #REF! | CB30: =SUMIF(#REF!,CB$1,#REF!)+SUMIF(#REF!,CB$1,#REF!)+SUMIF(#REF!,CB$1,#REF!)+SUMIF(#REF!,CB$1,#REF!)+SUMIF(#REF!,CB$1,#REF!)+SUMIF(#REF!,CB$1,#REF!)+SUMIF(#REF!,CB$1,#REF!)+SUMIF(#REF!,CB$1,#REF!)+SUMIF(#REF!,CB$1,#REF!)+SUMIF(#REF!,CB$1,#REF!)+SUMIF(#REF!,CB$1,#REF!) -> #REF! | CC30: =SUMIF(#REF!,CC$1,#REF!)+SUMIF(#REF!,CC$1,#REF!)+SUMIF(#REF!,CC$1,#REF!)+SUMIF(#REF!,CC$1,#REF!)+SUMIF(#REF!,CC$1,#REF!)+SUMIF(#REF!,CC$1,#REF!)+SUMIF(#REF!,CC$1,#REF!)+SUMIF(#REF!,CC$1,#REF!)+SUMIF(#REF!,CC$1,#REF!)+SUMIF(#REF!,CC$1,#REF!)+SUMIF(#REF!,CC$1,#REF!) -> #REF! | CD30: =SUMIF(#REF!,CD$1,#REF!)+SUMIF(#REF!,CD$1,#REF!)+SUMIF(#REF!,CD$1,#REF!)+SUMIF(#REF!,CD$1,#REF!)+SUMIF(#REF!,CD$1,#REF!)+SUMIF(#REF!,CD$1,#REF!)+SUMIF(#REF!,CD$1,#REF!)+SUMIF(#REF!,CD$1,#REF!)+SUMIF(#REF!,CD$1,#REF!)+SUMIF(#REF!,CD$1,#REF!)+SUMIF(#REF!,CD$1,#REF!) -> #REF! | CE30: =SUMIF(#REF!,CE$1,#REF!)+SUMIF(#REF!,CE$1,#REF!)+SUMIF(#REF!,CE$1,#REF!)+SUMIF(#REF!,CE$1,#REF!)+SUMIF(#REF!,CE$1,#REF!)+SUMIF(#REF!,CE$1,#REF!)+SUMIF(#REF!,CE$1,#REF!)+SUMIF(#REF!,CE$1,#REF!)+SUMIF(#REF!,CE$1,#REF!)+SUMIF(#REF!,CE$1,#REF!)+SUMIF(#REF!,CE$1,#REF!) -> #REF! | CF30: =SUMIF(#REF!,CF$1,#REF!)+SUMIF(#REF!,CF$1,#REF!)+SUMIF(#REF!,CF$1,#REF!)+SUMIF(#REF!,CF$1,#REF!)+SUMIF(#REF!,CF$1,#REF!)+SUMIF(#REF!,CF$1,#REF!)+SUMIF(#REF!,CF$1,#REF!)+SUMIF(#REF!,CF$1,#REF!)+SUMIF(#REF!,CF$1,#REF!)+SUMIF(#REF!,CF$1,#REF!)+SUMIF(#REF!,CF$1,#REF!) -> #REF! | ... CY30: =SUMIF(#REF!,CY$1,#REF!)+SUMIF(#REF!,CY$1,#REF!)+SUMIF(#REF!,CY$1,#REF!)+SUMIF(#REF!,CY$1,#REF!)+SUMIF(#REF!,CY$1,#REF!)+SUMIF(#REF!,CY$1,#REF!)+SUMIF(#REF!,CY$1,#REF!)+SUMIF(#REF!,CY$1,#REF!)+SUMIF(#REF!,CY$1,#REF!)+SUMIF(#REF!,CY$1,#REF!)+SUMIF(#REF!,CY$1,#REF!) -> #REF! | DC30: =C30&E30 | DD30: =IF($DC30="",0,IF(COUNTIF($DC$2:$DC29,$DC30)=0,1,0)) -> 0
A31: 30 | AD31: =IF($AC31="","",IF($AC31="À l'étranger","À l'étranger",IF($AC31="N. VI et Vbis (sans diplôme validé)",2,IF($AC31="N. V (CAP / BEP)",3,IF($AC31="N. IV (bac)",4,IF($AC31="N. III (bac + 2)",5,IF($AC31="N. II (bac + 4 et bac +3)",6,"7/8"))))))) | BI31: =SUM(BL31:BX31)+CY31 -> #REF! | BJ31: =#REF! -> #REF! | BK31: =#REF! -> #REF! | BL31: =BY31+CL31 -> #REF! | BM31: =BZ31+CM31 -> #REF! | BN31: =CA31+CN31 -> #REF! | BO31: =CB31+CO31 -> #REF! | BP31: =CC31+CP31 -> #REF! | BQ31: =CD31+CQ31 -> #REF! | BR31: =CE31+CR31 -> #REF! | BS31: =CF31+CS31 -> #REF! | ... BX31: =CK31+CX31 -> #REF! | BY31: =SUMIF(#REF!,BY$1,#REF!)+SUMIF(#REF!,BY$1,#REF!)+SUMIF(#REF!,BY$1,#REF!)+SUMIF(#REF!,BY$1,#REF!)+SUMIF(#REF!,BY$1,#REF!)+SUMIF(#REF!,BY$1,#REF!)+SUMIF(#REF!,BY$1,#REF!)+SUMIF(#REF!,BY$1,#REF!)+SUMIF(#REF!,BY$1,#REF!)+SUMIF(#REF!,BY$1,#REF!)+SUMIF(#REF!,BY$1,#REF!) -> #REF! | BZ31: =SUMIF(#REF!,BZ$1,#REF!)+SUMIF(#REF!,BZ$1,#REF!)+SUMIF(#REF!,BZ$1,#REF!)+SUMIF(#REF!,BZ$1,#REF!)+SUMIF(#REF!,BZ$1,#REF!)+SUMIF(#REF!,BZ$1,#REF!)+SUMIF(#REF!,BZ$1,#REF!)+SUMIF(#REF!,BZ$1,#REF!)+SUMIF(#REF!,BZ$1,#REF!)+SUMIF(#REF!,BZ$1,#REF!)+SUMIF(#REF!,BZ$1,#REF!) -> #REF! | CA31: =SUMIF(#REF!,CA$1,#REF!)+SUMIF(#REF!,CA$1,#REF!)+SUMIF(#REF!,CA$1,#REF!)+SUMIF(#REF!,CA$1,#REF!)+SUMIF(#REF!,CA$1,#REF!)+SUMIF(#REF!,CA$1,#REF!)+SUMIF(#REF!,CA$1,#REF!)+SUMIF(#REF!,CA$1,#REF!)+SUMIF(#REF!,CA$1,#REF!)+SUMIF(#REF!,CA$1,#REF!)+SUMIF(#REF!,CA$1,#REF!) -> #REF! | CB31: =SUMIF(#REF!,CB$1,#REF!)+SUMIF(#REF!,CB$1,#REF!)+SUMIF(#REF!,CB$1,#REF!)+SUMIF(#REF!,CB$1,#REF!)+SUMIF(#REF!,CB$1,#REF!)+SUMIF(#REF!,CB$1,#REF!)+SUMIF(#REF!,CB$1,#REF!)+SUMIF(#REF!,CB$1,#REF!)+SUMIF(#REF!,CB$1,#REF!)+SUMIF(#REF!,CB$1,#REF!)+SUMIF(#REF!,CB$1,#REF!) -> #REF! | CC31: =SUMIF(#REF!,CC$1,#REF!)+SUMIF(#REF!,CC$1,#REF!)+SUMIF(#REF!,CC$1,#REF!)+SUMIF(#REF!,CC$1,#REF!)+SUMIF(#REF!,CC$1,#REF!)+SUMIF(#REF!,CC$1,#REF!)+SUMIF(#REF!,CC$1,#REF!)+SUMIF(#REF!,CC$1,#REF!)+SUMIF(#REF!,CC$1,#REF!)+SUMIF(#REF!,CC$1,#REF!)+SUMIF(#REF!,CC$1,#REF!) -> #REF! | CD31: =SUMIF(#REF!,CD$1,#REF!)+SUMIF(#REF!,CD$1,#REF!)+SUMIF(#REF!,CD$1,#REF!)+SUMIF(#REF!,CD$1,#REF!)+SUMIF(#REF!,CD$1,#REF!)+SUMIF(#REF!,CD$1,#REF!)+SUMIF(#REF!,CD$1,#REF!)+SUMIF(#REF!,CD$1,#REF!)+SUMIF(#REF!,CD$1,#REF!)+SUMIF(#REF!,CD$1,#REF!)+SUMIF(#REF!,CD$1,#REF!) -> #REF! | CE31: =SUMIF(#REF!,CE$1,#REF!)+SUMIF(#REF!,CE$1,#REF!)+SUMIF(#REF!,CE$1,#REF!)+SUMIF(#REF!,CE$1,#REF!)+SUMIF(#REF!,CE$1,#REF!)+SUMIF(#REF!,CE$1,#REF!)+SUMIF(#REF!,CE$1,#REF!)+SUMIF(#REF!,CE$1,#REF!)+SUMIF(#REF!,CE$1,#REF!)+SUMIF(#REF!,CE$1,#REF!)+SUMIF(#REF!,CE$1,#REF!) -> #REF! | CF31: =SUMIF(#REF!,CF$1,#REF!)+SUMIF(#REF!,CF$1,#REF!)+SUMIF(#REF!,CF$1,#REF!)+SUMIF(#REF!,CF$1,#REF!)+SUMIF(#REF!,CF$1,#REF!)+SUMIF(#REF!,CF$1,#REF!)+SUMIF(#REF!,CF$1,#REF!)+SUMIF(#REF!,CF$1,#REF!)+SUMIF(#REF!,CF$1,#REF!)+SUMIF(#REF!,CF$1,#REF!)+SUMIF(#REF!,CF$1,#REF!) -> #REF! | ... CY31: =SUMIF(#REF!,CY$1,#REF!)+SUMIF(#REF!,CY$1,#REF!)+SUMIF(#REF!,CY$1,#REF!)+SUMIF(#REF!,CY$1,#REF!)+SUMIF(#REF!,CY$1,#REF!)+SUMIF(#REF!,CY$1,#REF!)+SUMIF(#REF!,CY$1,#REF!)+SUMIF(#REF!,CY$1,#REF!)+SUMIF(#REF!,CY$1,#REF!)+SUMIF(#REF!,CY$1,#REF!)+SUMIF(#REF!,CY$1,#REF!) -> #REF! | DC31: =C31&E31 | DD31: =IF($DC31="",0,IF(COUNTIF($DC$2:$DC30,$DC31)=0,1,0)) -> 0
A32: 31 | AD32: =IF($AC32="","",IF($AC32="À l'étranger","À l'étranger",IF($AC32="N. VI et Vbis (sans diplôme validé)",2,IF($AC32="N. V (CAP / BEP)",3,IF($AC32="N. IV (bac)",4,IF($AC32="N. III (bac + 2)",5,IF($AC32="N. II (bac + 4 et bac +3)",6,"7/8"))))))) | BI32: =SUM(BL32:BX32)+CY32 -> #REF! | BJ32: =#REF! -> #REF! | BK32: =#REF! -> #REF! | BL32: =BY32+CL32 -> #REF! | BM32: =BZ32+CM32 -> #REF! | BN32: =CA32+CN32 -> #REF! | BO32: =CB32+CO32 -> #REF! | BP32: =CC32+CP32 -> #REF! | BQ32: =CD32+CQ32 -> #REF! | BR32: =CE32+CR32 -> #REF! | BS32: =CF32+CS32 -> #REF! | ... BX32: =CK32+CX32 -> #REF! | BY32: =SUMIF(#REF!,BY$1,#REF!)+SUMIF(#REF!,BY$1,#REF!)+SUMIF(#REF!,BY$1,#REF!)+SUMIF(#REF!,BY$1,#REF!)+SUMIF(#REF!,BY$1,#REF!)+SUMIF(#REF!,BY$1,#REF!)+SUMIF(#REF!,BY$1,#REF!)+SUMIF(#REF!,BY$1,#REF!)+SUMIF(#REF!,BY$1,#REF!)+SUMIF(#REF!,BY$1,#REF!)+SUMIF(#REF!,BY$1,#REF!) -> #REF! | BZ32: =SUMIF(#REF!,BZ$1,#REF!)+SUMIF(#REF!,BZ$1,#REF!)+SUMIF(#REF!,BZ$1,#REF!)+SUMIF(#REF!,BZ$1,#REF!)+SUMIF(#REF!,BZ$1,#REF!)+SUMIF(#REF!,BZ$1,#REF!)+SUMIF(#REF!,BZ$1,#REF!)+SUMIF(#REF!,BZ$1,#REF!)+SUMIF(#REF!,BZ$1,#REF!)+SUMIF(#REF!,BZ$1,#REF!)+SUMIF(#REF!,BZ$1,#REF!) -> #REF! | CA32: =SUMIF(#REF!,CA$1,#REF!)+SUMIF(#REF!,CA$1,#REF!)+SUMIF(#REF!,CA$1,#REF!)+SUMIF(#REF!,CA$1,#REF!)+SUMIF(#REF!,CA$1,#REF!)+SUMIF(#REF!,CA$1,#REF!)+SUMIF(#REF!,CA$1,#REF!)+SUMIF(#REF!,CA$1,#REF!)+SUMIF(#REF!,CA$1,#REF!)+SUMIF(#REF!,CA$1,#REF!)+SUMIF(#REF!,CA$1,#REF!) -> #REF! | CB32: =SUMIF(#REF!,CB$1,#REF!)+SUMIF(#REF!,CB$1,#REF!)+SUMIF(#REF!,CB$1,#REF!)+SUMIF(#REF!,CB$1,#REF!)+SUMIF(#REF!,CB$1,#REF!)+SUMIF(#REF!,CB$1,#REF!)+SUMIF(#REF!,CB$1,#REF!)+SUMIF(#REF!,CB$1,#REF!)+SUMIF(#REF!,CB$1,#REF!)+SUMIF(#REF!,CB$1,#REF!)+SUMIF(#REF!,CB$1,#REF!) -> #REF! | CC32: =SUMIF(#REF!,CC$1,#REF!)+SUMIF(#REF!,CC$1,#REF!)+SUMIF(#REF!,CC$1,#REF!)+SUMIF(#REF!,CC$1,#REF!)+SUMIF(#REF!,CC$1,#REF!)+SUMIF(#REF!,CC$1,#REF!)+SUMIF(#REF!,CC$1,#REF!)+SUMIF(#REF!,CC$1,#REF!)+SUMIF(#REF!,CC$1,#REF!)+SUMIF(#REF!,CC$1,#REF!)+SUMIF(#REF!,CC$1,#REF!) -> #REF! | CD32: =SUMIF(#REF!,CD$1,#REF!)+SUMIF(#REF!,CD$1,#REF!)+SUMIF(#REF!,CD$1,#REF!)+SUMIF(#REF!,CD$1,#REF!)+SUMIF(#REF!,CD$1,#REF!)+SUMIF(#REF!,CD$1,#REF!)+SUMIF(#REF!,CD$1,#REF!)+SUMIF(#REF!,CD$1,#REF!)+SUMIF(#REF!,CD$1,#REF!)+SUMIF(#REF!,CD$1,#REF!)+SUMIF(#REF!,CD$1,#REF!) -> #REF! | CE32: =SUMIF(#REF!,CE$1,#REF!)+SUMIF(#REF!,CE$1,#REF!)+SUMIF(#REF!,CE$1,#REF!)+SUMIF(#REF!,CE$1,#REF!)+SUMIF(#REF!,CE$1,#REF!)+SUMIF(#REF!,CE$1,#REF!)+SUMIF(#REF!,CE$1,#REF!)+SUMIF(#REF!,CE$1,#REF!)+SUMIF(#REF!,CE$1,#REF!)+SUMIF(#REF!,CE$1,#REF!)+SUMIF(#REF!,CE$1,#REF!) -> #REF! | CF32: =SUMIF(#REF!,CF$1,#REF!)+SUMIF(#REF!,CF$1,#REF!)+SUMIF(#REF!,CF$1,#REF!)+SUMIF(#REF!,CF$1,#REF!)+SUMIF(#REF!,CF$1,#REF!)+SUMIF(#REF!,CF$1,#REF!)+SUMIF(#REF!,CF$1,#REF!)+SUMIF(#REF!,CF$1,#REF!)+SUMIF(#REF!,CF$1,#REF!)+SUMIF(#REF!,CF$1,#REF!)+SUMIF(#REF!,CF$1,#REF!) -> #REF! | ... CY32: =SUMIF(#REF!,CY$1,#REF!)+SUMIF(#REF!,CY$1,#REF!)+SUMIF(#REF!,CY$1,#REF!)+SUMIF(#REF!,CY$1,#REF!)+SUMIF(#REF!,CY$1,#REF!)+SUMIF(#REF!,CY$1,#REF!)+SUMIF(#REF!,CY$1,#REF!)+SUMIF(#REF!,CY$1,#REF!)+SUMIF(#REF!,CY$1,#REF!)+SUMIF(#REF!,CY$1,#REF!)+SUMIF(#REF!,CY$1,#REF!) -> #REF! | DC32: =C32&E32 | DD32: =IF($DC32="",0,IF(COUNTIF($DC$2:$DC31,$DC32)=0,1,0)) -> 0
A33: 32 | AD33: =IF($AC33="","",IF($AC33="À l'étranger","À l'étranger",IF($AC33="N. VI et Vbis (sans diplôme validé)",2,IF($AC33="N. V (CAP / BEP)",3,IF($AC33="N. IV (bac)",4,IF($AC33="N. III (bac + 2)",5,IF($AC33="N. II (bac + 4 et bac +3)",6,"7/8"))))))) | BI33: =SUM(BL33:BX33)+CY33 -> #REF! | BJ33: =#REF! -> #REF! | BK33: =#REF! -> #REF! | BL33: =BY33+CL33 -> #REF! | BM33: =BZ33+CM33 -> #REF! | BN33: =CA33+CN33 -> #REF! | BO33: =CB33+CO33 -> #REF! | BP33: =CC33+CP33 -> #REF! | BQ33: =CD33+CQ33 -> #REF! | BR33: =CE33+CR33 -> #REF! | BS33: =CF33+CS33 -> #REF! | ... BX33: =CK33+CX33 -> #REF! | BY33: =SUMIF(#REF!,BY$1,#REF!)+SUMIF(#REF!,BY$1,#REF!)+SUMIF(#REF!,BY$1,#REF!)+SUMIF(#REF!,BY$1,#REF!)+SUMIF(#REF!,BY$1,#REF!)+SUMIF(#REF!,BY$1,#REF!)+SUMIF(#REF!,BY$1,#REF!)+SUMIF(#REF!,BY$1,#REF!)+SUMIF(#REF!,BY$1,#REF!)+SUMIF(#REF!,BY$1,#REF!)+SUMIF(#REF!,BY$1,#REF!) -> #REF! | BZ33: =SUMIF(#REF!,BZ$1,#REF!)+SUMIF(#REF!,BZ$1,#REF!)+SUMIF(#REF!,BZ$1,#REF!)+SUMIF(#REF!,BZ$1,#REF!)+SUMIF(#REF!,BZ$1,#REF!)+SUMIF(#REF!,BZ$1,#REF!)+SUMIF(#REF!,BZ$1,#REF!)+SUMIF(#REF!,BZ$1,#REF!)+SUMIF(#REF!,BZ$1,#REF!)+SUMIF(#REF!,BZ$1,#REF!)+SUMIF(#REF!,BZ$1,#REF!) -> #REF! | CA33: =SUMIF(#REF!,CA$1,#REF!)+SUMIF(#REF!,CA$1,#REF!)+SUMIF(#REF!,CA$1,#REF!)+SUMIF(#REF!,CA$1,#REF!)+SUMIF(#REF!,CA$1,#REF!)+SUMIF(#REF!,CA$1,#REF!)+SUMIF(#REF!,CA$1,#REF!)+SUMIF(#REF!,CA$1,#REF!)+SUMIF(#REF!,CA$1,#REF!)+SUMIF(#REF!,CA$1,#REF!)+SUMIF(#REF!,CA$1,#REF!) -> #REF! | CB33: =SUMIF(#REF!,CB$1,#REF!)+SUMIF(#REF!,CB$1,#REF!)+SUMIF(#REF!,CB$1,#REF!)+SUMIF(#REF!,CB$1,#REF!)+SUMIF(#REF!,CB$1,#REF!)+SUMIF(#REF!,CB$1,#REF!)+SUMIF(#REF!,CB$1,#REF!)+SUMIF(#REF!,CB$1,#REF!)+SUMIF(#REF!,CB$1,#REF!)+SUMIF(#REF!,CB$1,#REF!)+SUMIF(#REF!,CB$1,#REF!) -> #REF! | CC33: =SUMIF(#REF!,CC$1,#REF!)+SUMIF(#REF!,CC$1,#REF!)+SUMIF(#REF!,CC$1,#REF!)+SUMIF(#REF!,CC$1,#REF!)+SUMIF(#REF!,CC$1,#REF!)+SUMIF(#REF!,CC$1,#REF!)+SUMIF(#REF!,CC$1,#REF!)+SUMIF(#REF!,CC$1,#REF!)+SUMIF(#REF!,CC$1,#REF!)+SUMIF(#REF!,CC$1,#REF!)+SUMIF(#REF!,CC$1,#REF!) -> #REF! | CD33: =SUMIF(#REF!,CD$1,#REF!)+SUMIF(#REF!,CD$1,#REF!)+SUMIF(#REF!,CD$1,#REF!)+SUMIF(#REF!,CD$1,#REF!)+SUMIF(#REF!,CD$1,#REF!)+SUMIF(#REF!,CD$1,#REF!)+SUMIF(#REF!,CD$1,#REF!)+SUMIF(#REF!,CD$1,#REF!)+SUMIF(#REF!,CD$1,#REF!)+SUMIF(#REF!,CD$1,#REF!)+SUMIF(#REF!,CD$1,#REF!) -> #REF! | CE33: =SUMIF(#REF!,CE$1,#REF!)+SUMIF(#REF!,CE$1,#REF!)+SUMIF(#REF!,CE$1,#REF!)+SUMIF(#REF!,CE$1,#REF!)+SUMIF(#REF!,CE$1,#REF!)+SUMIF(#REF!,CE$1,#REF!)+SUMIF(#REF!,CE$1,#REF!)+SUMIF(#REF!,CE$1,#REF!)+SUMIF(#REF!,CE$1,#REF!)+SUMIF(#REF!,CE$1,#REF!)+SUMIF(#REF!,CE$1,#REF!) -> #REF! | CF33: =SUMIF(#REF!,CF$1,#REF!)+SUMIF(#REF!,CF$1,#REF!)+SUMIF(#REF!,CF$1,#REF!)+SUMIF(#REF!,CF$1,#REF!)+SUMIF(#REF!,CF$1,#REF!)+SUMIF(#REF!,CF$1,#REF!)+SUMIF(#REF!,CF$1,#REF!)+SUMIF(#REF!,CF$1,#REF!)+SUMIF(#REF!,CF$1,#REF!)+SUMIF(#REF!,CF$1,#REF!)+SUMIF(#REF!,CF$1,#REF!) -> #REF! | ... CY33: =SUMIF(#REF!,CY$1,#REF!)+SUMIF(#REF!,CY$1,#REF!)+SUMIF(#REF!,CY$1,#REF!)+SUMIF(#REF!,CY$1,#REF!)+SUMIF(#REF!,CY$1,#REF!)+SUMIF(#REF!,CY$1,#REF!)+SUMIF(#REF!,CY$1,#REF!)+SUMIF(#REF!,CY$1,#REF!)+SUMIF(#REF!,CY$1,#REF!)+SUMIF(#REF!,CY$1,#REF!)+SUMIF(#REF!,CY$1,#REF!) -> #REF! | DC33: =C33&E33 | DD33: =IF($DC33="",0,IF(COUNTIF($DC$2:$DC32,$DC33)=0,1,0)) -> 0
A34: 33 | AD34: =IF($AC34="","",IF($AC34="À l'étranger","À l'étranger",IF($AC34="N. VI et Vbis (sans diplôme validé)",2,IF($AC34="N. V (CAP / BEP)",3,IF($AC34="N. IV (bac)",4,IF($AC34="N. III (bac + 2)",5,IF($AC34="N. II (bac + 4 et bac +3)",6,"7/8"))))))) | BI34: =SUM(BL34:BX34)+CY34 -> #REF! | BJ34: =#REF! -> #REF! | BK34: =#REF! -> #REF! | BL34: =BY34+CL34 -> #REF! | BM34: =BZ34+CM34 -> #REF! | BN34: =CA34+CN34 -> #REF! | BO34: =CB34+CO34 -> #REF! | BP34: =CC34+CP34 -> #REF! | BQ34: =CD34+CQ34 -> #REF! | BR34: =CE34+CR34 -> #REF! | BS34: =CF34+CS34 -> #REF! | ... BX34: =CK34+CX34 -> #REF! | BY34: =SUMIF(#REF!,BY$1,#REF!)+SUMIF(#REF!,BY$1,#REF!)+SUMIF(#REF!,BY$1,#REF!)+SUMIF(#REF!,BY$1,#REF!)+SUMIF(#REF!,BY$1,#REF!)+SUMIF(#REF!,BY$1,#REF!)+SUMIF(#REF!,BY$1,#REF!)+SUMIF(#REF!,BY$1,#REF!)+SUMIF(#REF!,BY$1,#REF!)+SUMIF(#REF!,BY$1,#REF!)+SUMIF(#REF!,BY$1,#REF!) -> #REF! | BZ34: =SUMIF(#REF!,BZ$1,#REF!)+SUMIF(#REF!,BZ$1,#REF!)+SUMIF(#REF!,BZ$1,#REF!)+SUMIF(#REF!,BZ$1,#REF!)+SUMIF(#REF!,BZ$1,#REF!)+SUMIF(#REF!,BZ$1,#REF!)+SUMIF(#REF!,BZ$1,#REF!)+SUMIF(#REF!,BZ$1,#REF!)+SUMIF(#REF!,BZ$1,#REF!)+SUMIF(#REF!,BZ$1,#REF!)+SUMIF(#REF!,BZ$1,#REF!) -> #REF! | CA34: =SUMIF(#REF!,CA$1,#REF!)+SUMIF(#REF!,CA$1,#REF!)+SUMIF(#REF!,CA$1,#REF!)+SUMIF(#REF!,CA$1,#REF!)+SUMIF(#REF!,CA$1,#REF!)+SUMIF(#REF!,CA$1,#REF!)+SUMIF(#REF!,CA$1,#REF!)+SUMIF(#REF!,CA$1,#REF!)+SUMIF(#REF!,CA$1,#REF!)+SUMIF(#REF!,CA$1,#REF!)+SUMIF(#REF!,CA$1,#REF!) -> #REF! | CB34: =SUMIF(#REF!,CB$1,#REF!)+SUMIF(#REF!,CB$1,#REF!)+SUMIF(#REF!,CB$1,#REF!)+SUMIF(#REF!,CB$1,#REF!)+SUMIF(#REF!,CB$1,#REF!)+SUMIF(#REF!,CB$1,#REF!)+SUMIF(#REF!,CB$1,#REF!)+SUMIF(#REF!,CB$1,#REF!)+SUMIF(#REF!,CB$1,#REF!)+SUMIF(#REF!,CB$1,#REF!)+SUMIF(#REF!,CB$1,#REF!) -> #REF! | CC34: =SUMIF(#REF!,CC$1,#REF!)+SUMIF(#REF!,CC$1,#REF!)+SUMIF(#REF!,CC$1,#REF!)+SUMIF(#REF!,CC$1,#REF!)+SUMIF(#REF!,CC$1,#REF!)+SUMIF(#REF!,CC$1,#REF!)+SUMIF(#REF!,CC$1,#REF!)+SUMIF(#REF!,CC$1,#REF!)+SUMIF(#REF!,CC$1,#REF!)+SUMIF(#REF!,CC$1,#REF!)+SUMIF(#REF!,CC$1,#REF!) -> #REF! | CD34: =SUMIF(#REF!,CD$1,#REF!)+SUMIF(#REF!,CD$1,#REF!)+SUMIF(#REF!,CD$1,#REF!)+SUMIF(#REF!,CD$1,#REF!)+SUMIF(#REF!,CD$1,#REF!)+SUMIF(#REF!,CD$1,#REF!)+SUMIF(#REF!,CD$1,#REF!)+SUMIF(#REF!,CD$1,#REF!)+SUMIF(#REF!,CD$1,#REF!)+SUMIF(#REF!,CD$1,#REF!)+SUMIF(#REF!,CD$1,#REF!) -> #REF! | CE34: =SUMIF(#REF!,CE$1,#REF!)+SUMIF(#REF!,CE$1,#REF!)+SUMIF(#REF!,CE$1,#REF!)+SUMIF(#REF!,CE$1,#REF!)+SUMIF(#REF!,CE$1,#REF!)+SUMIF(#REF!,CE$1,#REF!)+SUMIF(#REF!,CE$1,#REF!)+SUMIF(#REF!,CE$1,#REF!)+SUMIF(#REF!,CE$1,#REF!)+SUMIF(#REF!,CE$1,#REF!)+SUMIF(#REF!,CE$1,#REF!) -> #REF! | CF34: =SUMIF(#REF!,CF$1,#REF!)+SUMIF(#REF!,CF$1,#REF!)+SUMIF(#REF!,CF$1,#REF!)+SUMIF(#REF!,CF$1,#REF!)+SUMIF(#REF!,CF$1,#REF!)+SUMIF(#REF!,CF$1,#REF!)+SUMIF(#REF!,CF$1,#REF!)+SUMIF(#REF!,CF$1,#REF!)+SUMIF(#REF!,CF$1,#REF!)+SUMIF(#REF!,CF$1,#REF!)+SUMIF(#REF!,CF$1,#REF!) -> #REF! | ... CY34: =SUMIF(#REF!,CY$1,#REF!)+SUMIF(#REF!,CY$1,#REF!)+SUMIF(#REF!,CY$1,#REF!)+SUMIF(#REF!,CY$1,#REF!)+SUMIF(#REF!,CY$1,#REF!)+SUMIF(#REF!,CY$1,#REF!)+SUMIF(#REF!,CY$1,#REF!)+SUMIF(#REF!,CY$1,#REF!)+SUMIF(#REF!,CY$1,#REF!)+SUMIF(#REF!,CY$1,#REF!)+SUMIF(#REF!,CY$1,#REF!) -> #REF! | DC34: =C34&E34 | DD34: =IF($DC34="",0,IF(COUNTIF($DC$2:$DC33,$DC34)=0,1,0)) -> 0
A35: 34 | O35: =IF($L35="","",($AP35-$L35)/365) | P35: =IF(B35="","",IF($B35="MR","H","F")) | AD35: =IF($AC35="","",IF($AC35="À l'étranger","À l'étranger",IF($AC35="N. VI et Vbis (sans diplôme validé)",2,IF($AC35="N. V (CAP / BEP)",3,IF($AC35="N. IV (bac)",4,IF($AC35="N. III (bac + 2)",5,IF($AC35="N. II (bac + 4 et bac +3)",6,"7/8"))))))) | BI35: =SUM(BL35:BX35)+CY35 -> #REF! | BJ35: =#REF! -> #REF! | BK35: =#REF! -> #REF! | BL35: =BY35+CL35 -> #REF! | BM35: =BZ35+CM35 -> #REF! | BN35: =CA35+CN35 -> #REF! | BO35: =CB35+CO35 -> #REF! | BP35: =CC35+CP35 -> #REF! | BQ35: =CD35+CQ35 -> #REF! | BR35: =CE35+CR35 -> #REF! | BS35: =CF35+CS35 -> #REF! | ... BX35: =CK35+CX35 -> #REF! | BY35: =SUMIF(#REF!,BY$1,#REF!)+SUMIF(#REF!,BY$1,#REF!)+SUMIF(#REF!,BY$1,#REF!)+SUMIF(#REF!,BY$1,#REF!)+SUMIF(#REF!,BY$1,#REF!)+SUMIF(#REF!,BY$1,#REF!)+SUMIF(#REF!,BY$1,#REF!)+SUMIF(#REF!,BY$1,#REF!)+SUMIF(#REF!,BY$1,#REF!)+SUMIF(#REF!,BY$1,#REF!)+SUMIF(#REF!,BY$1,#REF!) -> #REF! | BZ35: =SUMIF(#REF!,BZ$1,#REF!)+SUMIF(#REF!,BZ$1,#REF!)+SUMIF(#REF!,BZ$1,#REF!)+SUMIF(#REF!,BZ$1,#REF!)+SUMIF(#REF!,BZ$1,#REF!)+SUMIF(#REF!,BZ$1,#REF!)+SUMIF(#REF!,BZ$1,#REF!)+SUMIF(#REF!,BZ$1,#REF!)+SUMIF(#REF!,BZ$1,#REF!)+SUMIF(#REF!,BZ$1,#REF!)+SUMIF(#REF!,BZ$1,#REF!) -> #REF! | CA35: =SUMIF(#REF!,CA$1,#REF!)+SUMIF(#REF!,CA$1,#REF!)+SUMIF(#REF!,CA$1,#REF!)+SUMIF(#REF!,CA$1,#REF!)+SUMIF(#REF!,CA$1,#REF!)+SUMIF(#REF!,CA$1,#REF!)+SUMIF(#REF!,CA$1,#REF!)+SUMIF(#REF!,CA$1,#REF!)+SUMIF(#REF!,CA$1,#REF!)+SUMIF(#REF!,CA$1,#REF!)+SUMIF(#REF!,CA$1,#REF!) -> #REF! | CB35: =SUMIF(#REF!,CB$1,#REF!)+SUMIF(#REF!,CB$1,#REF!)+SUMIF(#REF!,CB$1,#REF!)+SUMIF(#REF!,CB$1,#REF!)+SUMIF(#REF!,CB$1,#REF!)+SUMIF(#REF!,CB$1,#REF!)+SUMIF(#REF!,CB$1,#REF!)+SUMIF(#REF!,CB$1,#REF!)+SUMIF(#REF!,CB$1,#REF!)+SUMIF(#REF!,CB$1,#REF!)+SUMIF(#REF!,CB$1,#REF!) -> #REF! | CC35: =SUMIF(#REF!,CC$1,#REF!)+SUMIF(#REF!,CC$1,#REF!)+SUMIF(#REF!,CC$1,#REF!)+SUMIF(#REF!,CC$1,#REF!)+SUMIF(#REF!,CC$1,#REF!)+SUMIF(#REF!,CC$1,#REF!)+SUMIF(#REF!,CC$1,#REF!)+SUMIF(#REF!,CC$1,#REF!)+SUMIF(#REF!,CC$1,#REF!)+SUMIF(#REF!,CC$1,#REF!)+SUMIF(#REF!,CC$1,#REF!) -> #REF! | CD35: =SUMIF(#REF!,CD$1,#REF!)+SUMIF(#REF!,CD$1,#REF!)+SUMIF(#REF!,CD$1,#REF!)+SUMIF(#REF!,CD$1,#REF!)+SUMIF(#REF!,CD$1,#REF!)+SUMIF(#REF!,CD$1,#REF!)+SUMIF(#REF!,CD$1,#REF!)+SUMIF(#REF!,CD$1,#REF!)+SUMIF(#REF!,CD$1,#REF!)+SUMIF(#REF!,CD$1,#REF!)+SUMIF(#REF!,CD$1,#REF!) -> #REF! | CE35: =SUMIF(#REF!,CE$1,#REF!)+SUMIF(#REF!,CE$1,#REF!)+SUMIF(#REF!,CE$1,#REF!)+SUMIF(#REF!,CE$1,#REF!)+SUMIF(#REF!,CE$1,#REF!)+SUMIF(#REF!,CE$1,#REF!)+SUMIF(#REF!,CE$1,#REF!)+SUMIF(#REF!,CE$1,#REF!)+SUMIF(#REF!,CE$1,#REF!)+SUMIF(#REF!,CE$1,#REF!)+SUMIF(#REF!,CE$1,#REF!) -> #REF! | CF35: =SUMIF(#REF!,CF$1,#REF!)+SUMIF(#REF!,CF$1,#REF!)+SUMIF(#REF!,CF$1,#REF!)+SUMIF(#REF!,CF$1,#REF!)+SUMIF(#REF!,CF$1,#REF!)+SUMIF(#REF!,CF$1,#REF!)+SUMIF(#REF!,CF$1,#REF!)+SUMIF(#REF!,CF$1,#REF!)+SUMIF(#REF!,CF$1,#REF!)+SUMIF(#REF!,CF$1,#REF!)+SUMIF(#REF!,CF$1,#REF!) -> #REF! | ... CY35: =SUMIF(#REF!,CY$1,#REF!)+SUMIF(#REF!,CY$1,#REF!)+SUMIF(#REF!,CY$1,#REF!)+SUMIF(#REF!,CY$1,#REF!)+SUMIF(#REF!,CY$1,#REF!)+SUMIF(#REF!,CY$1,#REF!)+SUMIF(#REF!,CY$1,#REF!)+SUMIF(#REF!,CY$1,#REF!)+SUMIF(#REF!,CY$1,#REF!)+SUMIF(#REF!,CY$1,#REF!)+SUMIF(#REF!,CY$1,#REF!) -> #REF! | DC35: =C35&E35 | DD35: =IF($DC35="",0,IF(COUNTIF($DC$2:$DC34,$DC35)=0,1,0)) -> 0
A36: 35 | O36: =IF($L36="","",($AP36-$L36)/365) | P36: =IF(B36="","",IF($B36="MR","H","F")) | AD36: =IF($AC36="","",IF($AC36="À l'étranger","À l'étranger",IF($AC36="N. VI et Vbis (sans diplôme validé)",2,IF($AC36="N. V (CAP / BEP)",3,IF($AC36="N. IV (bac)",4,IF($AC36="N. III (bac + 2)",5,IF($AC36="N. II (bac + 4 et bac +3)",6,"7/8"))))))) | BI36: =SUM(BL36:BX36)+CY36 -> #REF! | BJ36: =#REF! -> #REF! | BK36: =#REF! -> #REF! | BL36: =BY36+CL36 -> #REF! | BM36: =BZ36+CM36 -> #REF! | BN36: =CA36+CN36 -> #REF! | BO36: =CB36+CO36 -> #REF! | BP36: =CC36+CP36 -> #REF! | BQ36: =CD36+CQ36 -> #REF! | BR36: =CE36+CR36 -> #REF! | BS36: =CF36+CS36 -> #REF! | ... BX36: =CK36+CX36 -> #REF! | BY36: =SUMIF(#REF!,BY$1,#REF!)+SUMIF(#REF!,BY$1,#REF!)+SUMIF(#REF!,BY$1,#REF!)+SUMIF(#REF!,BY$1,#REF!)+SUMIF(#REF!,BY$1,#REF!)+SUMIF(#REF!,BY$1,#REF!)+SUMIF(#REF!,BY$1,#REF!)+SUMIF(#REF!,BY$1,#REF!)+SUMIF(#REF!,BY$1,#REF!)+SUMIF(#REF!,BY$1,#REF!)+SUMIF(#REF!,BY$1,#REF!) -> #REF! | BZ36: =SUMIF(#REF!,BZ$1,#REF!)+SUMIF(#REF!,BZ$1,#REF!)+SUMIF(#REF!,BZ$1,#REF!)+SUMIF(#REF!,BZ$1,#REF!)+SUMIF(#REF!,BZ$1,#REF!)+SUMIF(#REF!,BZ$1,#REF!)+SUMIF(#REF!,BZ$1,#REF!)+SUMIF(#REF!,BZ$1,#REF!)+SUMIF(#REF!,BZ$1,#REF!)+SUMIF(#REF!,BZ$1,#REF!)+SUMIF(#REF!,BZ$1,#REF!) -> #REF! | CA36: =SUMIF(#REF!,CA$1,#REF!)+SUMIF(#REF!,CA$1,#REF!)+SUMIF(#REF!,CA$1,#REF!)+SUMIF(#REF!,CA$1,#REF!)+SUMIF(#REF!,CA$1,#REF!)+SUMIF(#REF!,CA$1,#REF!)+SUMIF(#REF!,CA$1,#REF!)+SUMIF(#REF!,CA$1,#REF!)+SUMIF(#REF!,CA$1,#REF!)+SUMIF(#REF!,CA$1,#REF!)+SUMIF(#REF!,CA$1,#REF!) -> #REF! | CB36: =SUMIF(#REF!,CB$1,#REF!)+SUMIF(#REF!,CB$1,#REF!)+SUMIF(#REF!,CB$1,#REF!)+SUMIF(#REF!,CB$1,#REF!)+SUMIF(#REF!,CB$1,#REF!)+SUMIF(#REF!,CB$1,#REF!)+SUMIF(#REF!,CB$1,#REF!)+SUMIF(#REF!,CB$1,#REF!)+SUMIF(#REF!,CB$1,#REF!)+SUMIF(#REF!,CB$1,#REF!)+SUMIF(#REF!,CB$1,#REF!) -> #REF! | CC36: =SUMIF(#REF!,CC$1,#REF!)+SUMIF(#REF!,CC$1,#REF!)+SUMIF(#REF!,CC$1,#REF!)+SUMIF(#REF!,CC$1,#REF!)+SUMIF(#REF!,CC$1,#REF!)+SUMIF(#REF!,CC$1,#REF!)+SUMIF(#REF!,CC$1,#REF!)+SUMIF(#REF!,CC$1,#REF!)+SUMIF(#REF!,CC$1,#REF!)+SUMIF(#REF!,CC$1,#REF!)+SUMIF(#REF!,CC$1,#REF!) -> #REF! | CD36: =SUMIF(#REF!,CD$1,#REF!)+SUMIF(#REF!,CD$1,#REF!)+SUMIF(#REF!,CD$1,#REF!)+SUMIF(#REF!,CD$1,#REF!)+SUMIF(#REF!,CD$1,#REF!)+SUMIF(#REF!,CD$1,#REF!)+SUMIF(#REF!,CD$1,#REF!)+SUMIF(#REF!,CD$1,#REF!)+SUMIF(#REF!,CD$1,#REF!)+SUMIF(#REF!,CD$1,#REF!)+SUMIF(#REF!,CD$1,#REF!) -> #REF! | CE36: =SUMIF(#REF!,CE$1,#REF!)+SUMIF(#REF!,CE$1,#REF!)+SUMIF(#REF!,CE$1,#REF!)+SUMIF(#REF!,CE$1,#REF!)+SUMIF(#REF!,CE$1,#REF!)+SUMIF(#REF!,CE$1,#REF!)+SUMIF(#REF!,CE$1,#REF!)+SUMIF(#REF!,CE$1,#REF!)+SUMIF(#REF!,CE$1,#REF!)+SUMIF(#REF!,CE$1,#REF!)+SUMIF(#REF!,CE$1,#REF!) -> #REF! | CF36: =SUMIF(#REF!,CF$1,#REF!)+SUMIF(#REF!,CF$1,#REF!)+SUMIF(#REF!,CF$1,#REF!)+SUMIF(#REF!,CF$1,#REF!)+SUMIF(#REF!,CF$1,#REF!)+SUMIF(#REF!,CF$1,#REF!)+SUMIF(#REF!,CF$1,#REF!)+SUMIF(#REF!,CF$1,#REF!)+SUMIF(#REF!,CF$1,#REF!)+SUMIF(#REF!,CF$1,#REF!)+SUMIF(#REF!,CF$1,#REF!) -> #REF! | ... CY36: =SUMIF(#REF!,CY$1,#REF!)+SUMIF(#REF!,CY$1,#REF!)+SUMIF(#REF!,CY$1,#REF!)+SUMIF(#REF!,CY$1,#REF!)+SUMIF(#REF!,CY$1,#REF!)+SUMIF(#REF!,CY$1,#REF!)+SUMIF(#REF!,CY$1,#REF!)+SUMIF(#REF!,CY$1,#REF!)+SUMIF(#REF!,CY$1,#REF!)+SUMIF(#REF!,CY$1,#REF!)+SUMIF(#REF!,CY$1,#REF!) -> #REF! | DC36: =C36&E36 | DD36: =IF($DC36="",0,IF(COUNTIF($DC$2:$DC35,$DC36)=0,1,0)) -> 0
A37: 36 | O37: =IF($L37="","",($AP37-$L37)/365) | P37: =IF(B37="","",IF($B37="MR","H","F")) | AD37: =IF($AC37="","",IF($AC37="À l'étranger","À l'étranger",IF($AC37="N. VI et Vbis (sans diplôme validé)",2,IF($AC37="N. V (CAP / BEP)",3,IF($AC37="N. IV (bac)",4,IF($AC37="N. III (bac + 2)",5,IF($AC37="N. II (bac + 4 et bac +3)",6,"7/8"))))))) | BI37: =SUM(BL37:BX37)+CY37 -> #REF! | BJ37: =#REF! -> #REF! | BK37: =#REF! -> #REF! | BL37: =BY37+CL37 -> #REF! | BM37: =BZ37+CM37 -> #REF! | BN37: =CA37+CN37 -> #REF! | BO37: =CB37+CO37 -> #REF! | BP37: =CC37+CP37 -> #REF! | BQ37: =CD37+CQ37 -> #REF! | BR37: =CE37+CR37 -> #REF! | BS37: =CF37+CS37 -> #REF! | ... BX37: =CK37+CX37 -> #REF! | BY37: =SUMIF(#REF!,BY$1,#REF!)+SUMIF(#REF!,BY$1,#REF!)+SUMIF(#REF!,BY$1,#REF!)+SUMIF(#REF!,BY$1,#REF!)+SUMIF(#REF!,BY$1,#REF!)+SUMIF(#REF!,BY$1,#REF!)+SUMIF(#REF!,BY$1,#REF!)+SUMIF(#REF!,BY$1,#REF!)+SUMIF(#REF!,BY$1,#REF!)+SUMIF(#REF!,BY$1,#REF!)+SUMIF(#REF!,BY$1,#REF!) -> #REF! | BZ37: =SUMIF(#REF!,BZ$1,#REF!)+SUMIF(#REF!,BZ$1,#REF!)+SUMIF(#REF!,BZ$1,#REF!)+SUMIF(#REF!,BZ$1,#REF!)+SUMIF(#REF!,BZ$1,#REF!)+SUMIF(#REF!,BZ$1,#REF!)+SUMIF(#REF!,BZ$1,#REF!)+SUMIF(#REF!,BZ$1,#REF!)+SUMIF(#REF!,BZ$1,#REF!)+SUMIF(#REF!,BZ$1,#REF!)+SUMIF(#REF!,BZ$1,#REF!) -> #REF! | CA37: =SUMIF(#REF!,CA$1,#REF!)+SUMIF(#REF!,CA$1,#REF!)+SUMIF(#REF!,CA$1,#REF!)+SUMIF(#REF!,CA$1,#REF!)+SUMIF(#REF!,CA$1,#REF!)+SUMIF(#REF!,CA$1,#REF!)+SUMIF(#REF!,CA$1,#REF!)+SUMIF(#REF!,CA$1,#REF!)+SUMIF(#REF!,CA$1,#REF!)+SUMIF(#REF!,CA$1,#REF!)+SUMIF(#REF!,CA$1,#REF!) -> #REF! | CB37: =SUMIF(#REF!,CB$1,#REF!)+SUMIF(#REF!,CB$1,#REF!)+SUMIF(#REF!,CB$1,#REF!)+SUMIF(#REF!,CB$1,#REF!)+SUMIF(#REF!,CB$1,#REF!)+SUMIF(#REF!,CB$1,#REF!)+SUMIF(#REF!,CB$1,#REF!)+SUMIF(#REF!,CB$1,#REF!)+SUMIF(#REF!,CB$1,#REF!)+SUMIF(#REF!,CB$1,#REF!)+SUMIF(#REF!,CB$1,#REF!) -> #REF! | CC37: =SUMIF(#REF!,CC$1,#REF!)+SUMIF(#REF!,CC$1,#REF!)+SUMIF(#REF!,CC$1,#REF!)+SUMIF(#REF!,CC$1,#REF!)+SUMIF(#REF!,CC$1,#REF!)+SUMIF(#REF!,CC$1,#REF!)+SUMIF(#REF!,CC$1,#REF!)+SUMIF(#REF!,CC$1,#REF!)+SUMIF(#REF!,CC$1,#REF!)+SUMIF(#REF!,CC$1,#REF!)+SUMIF(#REF!,CC$1,#REF!) -> #REF! | CD37: =SUMIF(#REF!,CD$1,#REF!)+SUMIF(#REF!,CD$1,#REF!)+SUMIF(#REF!,CD$1,#REF!)+SUMIF(#REF!,CD$1,#REF!)+SUMIF(#REF!,CD$1,#REF!)+SUMIF(#REF!,CD$1,#REF!)+SUMIF(#REF!,CD$1,#REF!)+SUMIF(#REF!,CD$1,#REF!)+SUMIF(#REF!,CD$1,#REF!)+SUMIF(#REF!,CD$1,#REF!)+SUMIF(#REF!,CD$1,#REF!) -> #REF! | CE37: =SUMIF(#REF!,CE$1,#REF!)+SUMIF(#REF!,CE$1,#REF!)+SUMIF(#REF!,CE$1,#REF!)+SUMIF(#REF!,CE$1,#REF!)+SUMIF(#REF!,CE$1,#REF!)+SUMIF(#REF!,CE$1,#REF!)+SUMIF(#REF!,CE$1,#REF!)+SUMIF(#REF!,CE$1,#REF!)+SUMIF(#REF!,CE$1,#REF!)+SUMIF(#REF!,CE$1,#REF!)+SUMIF(#REF!,CE$1,#REF!) -> #REF! | CF37: =SUMIF(#REF!,CF$1,#REF!)+SUMIF(#REF!,CF$1,#REF!)+SUMIF(#REF!,CF$1,#REF!)+SUMIF(#REF!,CF$1,#REF!)+SUMIF(#REF!,CF$1,#REF!)+SUMIF(#REF!,CF$1,#REF!)+SUMIF(#REF!,CF$1,#REF!)+SUMIF(#REF!,CF$1,#REF!)+SUMIF(#REF!,CF$1,#REF!)+SUMIF(#REF!,CF$1,#REF!)+SUMIF(#REF!,CF$1,#REF!) -> #REF! | ... CY37: =SUMIF(#REF!,CY$1,#REF!)+SUMIF(#REF!,CY$1,#REF!)+SUMIF(#REF!,CY$1,#REF!)+SUMIF(#REF!,CY$1,#REF!)+SUMIF(#REF!,CY$1,#REF!)+SUMIF(#REF!,CY$1,#REF!)+SUMIF(#REF!,CY$1,#REF!)+SUMIF(#REF!,CY$1,#REF!)+SUMIF(#REF!,CY$1,#REF!)+SUMIF(#REF!,CY$1,#REF!)+SUMIF(#REF!,CY$1,#REF!) -> #REF! | DC37: =C37&E37 | DD37: =IF($DC37="",0,IF(COUNTIF($DC$2:$DC36,$DC37)=0,1,0)) -> 0
A38: 37 | O38: =IF($L38="","",($AP38-$L38)/365) | P38: =IF(B38="","",IF($B38="MR","H","F")) | AD38: =IF($AC38="","",IF($AC38="À l'étranger","À l'étranger",IF($AC38="N. VI et Vbis (sans diplôme validé)",2,IF($AC38="N. V (CAP / BEP)",3,IF($AC38="N. IV (bac)",4,IF($AC38="N. III (bac + 2)",5,IF($AC38="N. II (bac + 4 et bac +3)",6,"7/8"))))))) | BI38: =SUM(BL38:BX38)+CY38 -> #REF! | BJ38: =#REF! -> #REF! | BK38: =#REF! -> #REF! | BL38: =BY38+CL38 -> #REF! | BM38: =BZ38+CM38 -> #REF! | BN38: =CA38+CN38 -> #REF! | BO38: =CB38+CO38 -> #REF! | BP38: =CC38+CP38 -> #REF! | BQ38: =CD38+CQ38 -> #REF! | BR38: =CE38+CR38 -> #REF! | BS38: =CF38+CS38 -> #REF! | ... BX38: =CK38+CX38 -> #REF! | BY38: =SUMIF(#REF!,BY$1,#REF!)+SUMIF(#REF!,BY$1,#REF!)+SUMIF(#REF!,BY$1,#REF!)+SUMIF(#REF!,BY$1,#REF!)+SUMIF(#REF!,BY$1,#REF!)+SUMIF(#REF!,BY$1,#REF!)+SUMIF(#REF!,BY$1,#REF!)+SUMIF(#REF!,BY$1,#REF!)+SUMIF(#REF!,BY$1,#REF!)+SUMIF(#REF!,BY$1,#REF!)+SUMIF(#REF!,BY$1,#REF!) -> #REF! | BZ38: =SUMIF(#REF!,BZ$1,#REF!)+SUMIF(#REF!,BZ$1,#REF!)+SUMIF(#REF!,BZ$1,#REF!)+SUMIF(#REF!,BZ$1,#REF!)+SUMIF(#REF!,BZ$1,#REF!)+SUMIF(#REF!,BZ$1,#REF!)+SUMIF(#REF!,BZ$1,#REF!)+SUMIF(#REF!,BZ$1,#REF!)+SUMIF(#REF!,BZ$1,#REF!)+SUMIF(#REF!,BZ$1,#REF!)+SUMIF(#REF!,BZ$1,#REF!) -> #REF! | CA38: =SUMIF(#REF!,CA$1,#REF!)+SUMIF(#REF!,CA$1,#REF!)+SUMIF(#REF!,CA$1,#REF!)+SUMIF(#REF!,CA$1,#REF!)+SUMIF(#REF!,CA$1,#REF!)+SUMIF(#REF!,CA$1,#REF!)+SUMIF(#REF!,CA$1,#REF!)+SUMIF(#REF!,CA$1,#REF!)+SUMIF(#REF!,CA$1,#REF!)+SUMIF(#REF!,CA$1,#REF!)+SUMIF(#REF!,CA$1,#REF!) -> #REF! | CB38: =SUMIF(#REF!,CB$1,#REF!)+SUMIF(#REF!,CB$1,#REF!)+SUMIF(#REF!,CB$1,#REF!)+SUMIF(#REF!,CB$1,#REF!)+SUMIF(#REF!,CB$1,#REF!)+SUMIF(#REF!,CB$1,#REF!)+SUMIF(#REF!,CB$1,#REF!)+SUMIF(#REF!,CB$1,#REF!)+SUMIF(#REF!,CB$1,#REF!)+SUMIF(#REF!,CB$1,#REF!)+SUMIF(#REF!,CB$1,#REF!) -> #REF! | CC38: =SUMIF(#REF!,CC$1,#REF!)+SUMIF(#REF!,CC$1,#REF!)+SUMIF(#REF!,CC$1,#REF!)+SUMIF(#REF!,CC$1,#REF!)+SUMIF(#REF!,CC$1,#REF!)+SUMIF(#REF!,CC$1,#REF!)+SUMIF(#REF!,CC$1,#REF!)+SUMIF(#REF!,CC$1,#REF!)+SUMIF(#REF!,CC$1,#REF!)+SUMIF(#REF!,CC$1,#REF!)+SUMIF(#REF!,CC$1,#REF!) -> #REF! | CD38: =SUMIF(#REF!,CD$1,#REF!)+SUMIF(#REF!,CD$1,#REF!)+SUMIF(#REF!,CD$1,#REF!)+SUMIF(#REF!,CD$1,#REF!)+SUMIF(#REF!,CD$1,#REF!)+SUMIF(#REF!,CD$1,#REF!)+SUMIF(#REF!,CD$1,#REF!)+SUMIF(#REF!,CD$1,#REF!)+SUMIF(#REF!,CD$1,#REF!)+SUMIF(#REF!,CD$1,#REF!)+SUMIF(#REF!,CD$1,#REF!) -> #REF! | CE38: =SUMIF(#REF!,CE$1,#REF!)+SUMIF(#REF!,CE$1,#REF!)+SUMIF(#REF!,CE$1,#REF!)+SUMIF(#REF!,CE$1,#REF!)+SUMIF(#REF!,CE$1,#REF!)+SUMIF(#REF!,CE$1,#REF!)+SUMIF(#REF!,CE$1,#REF!)+SUMIF(#REF!,CE$1,#REF!)+SUMIF(#REF!,CE$1,#REF!)+SUMIF(#REF!,CE$1,#REF!)+SUMIF(#REF!,CE$1,#REF!) -> #REF! | CF38: =SUMIF(#REF!,CF$1,#REF!)+SUMIF(#REF!,CF$1,#REF!)+SUMIF(#REF!,CF$1,#REF!)+SUMIF(#REF!,CF$1,#REF!)+SUMIF(#REF!,CF$1,#REF!)+SUMIF(#REF!,CF$1,#REF!)+SUMIF(#REF!,CF$1,#REF!)+SUMIF(#REF!,CF$1,#REF!)+SUMIF(#REF!,CF$1,#REF!)+SUMIF(#REF!,CF$1,#REF!)+SUMIF(#REF!,CF$1,#REF!) -> #REF! | ... CY38: =SUMIF(#REF!,CY$1,#REF!)+SUMIF(#REF!,CY$1,#REF!)+SUMIF(#REF!,CY$1,#REF!)+SUMIF(#REF!,CY$1,#REF!)+SUMIF(#REF!,CY$1,#REF!)+SUMIF(#REF!,CY$1,#REF!)+SUMIF(#REF!,CY$1,#REF!)+SUMIF(#REF!,CY$1,#REF!)+SUMIF(#REF!,CY$1,#REF!)+SUMIF(#REF!,CY$1,#REF!)+SUMIF(#REF!,CY$1,#REF!) -> #REF! | DC38: =C38&E38 | DD38: =IF($DC38="",0,IF(COUNTIF($DC$2:$DC37,$DC38)=0,1,0)) -> 0
A39: 38 | O39: =IF($L39="","",($AP39-$L39)/365) | P39: =IF(B39="","",IF($B39="MR","H","F")) | AD39: =IF($AC39="","",IF($AC39="À l'étranger","À l'étranger",IF($AC39="N. VI et Vbis (sans diplôme validé)",2,IF($AC39="N. V (CAP / BEP)",3,IF($AC39="N. IV (bac)",4,IF($AC39="N. III (bac + 2)",5,IF($AC39="N. II (bac + 4 et bac +3)",6,"7/8"))))))) | BI39: =SUM(BL39:BX39)+CY39 -> #REF! | BJ39: =#REF! -> #REF! | BK39: =#REF! -> #REF! | BL39: =BY39+CL39 -> #REF! | BM39: =BZ39+CM39 -> #REF! | BN39: =CA39+CN39 -> #REF! | BO39: =CB39+CO39 -> #REF! | BP39: =CC39+CP39 -> #REF! | BQ39: =CD39+CQ39 -> #REF! | BR39: =CE39+CR39 -> #REF! | BS39: =CF39+CS39 -> #REF! | ... BX39: =CK39+CX39 -> #REF! | BY39: =SUMIF(#REF!,BY$1,#REF!)+SUMIF(#REF!,BY$1,#REF!)+SUMIF(#REF!,BY$1,#REF!)+SUMIF(#REF!,BY$1,#REF!)+SUMIF(#REF!,BY$1,#REF!)+SUMIF(#REF!,BY$1,#REF!)+SUMIF(#REF!,BY$1,#REF!)+SUMIF(#REF!,BY$1,#REF!)+SUMIF(#REF!,BY$1,#REF!)+SUMIF(#REF!,BY$1,#REF!)+SUMIF(#REF!,BY$1,#REF!) -> #REF! | BZ39: =SUMIF(#REF!,BZ$1,#REF!)+SUMIF(#REF!,BZ$1,#REF!)+SUMIF(#REF!,BZ$1,#REF!)+SUMIF(#REF!,BZ$1,#REF!)+SUMIF(#REF!,BZ$1,#REF!)+SUMIF(#REF!,BZ$1,#REF!)+SUMIF(#REF!,BZ$1,#REF!)+SUMIF(#REF!,BZ$1,#REF!)+SUMIF(#REF!,BZ$1,#REF!)+SUMIF(#REF!,BZ$1,#REF!)+SUMIF(#REF!,BZ$1,#REF!) -> #REF! | CA39: =SUMIF(#REF!,CA$1,#REF!)+SUMIF(#REF!,CA$1,#REF!)+SUMIF(#REF!,CA$1,#REF!)+SUMIF(#REF!,CA$1,#REF!)+SUMIF(#REF!,CA$1,#REF!)+SUMIF(#REF!,CA$1,#REF!)+SUMIF(#REF!,CA$1,#REF!)+SUMIF(#REF!,CA$1,#REF!)+SUMIF(#REF!,CA$1,#REF!)+SUMIF(#REF!,CA$1,#REF!)+SUMIF(#REF!,CA$1,#REF!) -> #REF! | CB39: =SUMIF(#REF!,CB$1,#REF!)+SUMIF(#REF!,CB$1,#REF!)+SUMIF(#REF!,CB$1,#REF!)+SUMIF(#REF!,CB$1,#REF!)+SUMIF(#REF!,CB$1,#REF!)+SUMIF(#REF!,CB$1,#REF!)+SUMIF(#REF!,CB$1,#REF!)+SUMIF(#REF!,CB$1,#REF!)+SUMIF(#REF!,CB$1,#REF!)+SUMIF(#REF!,CB$1,#REF!)+SUMIF(#REF!,CB$1,#REF!) -> #REF! | CC39: =SUMIF(#REF!,CC$1,#REF!)+SUMIF(#REF!,CC$1,#REF!)+SUMIF(#REF!,CC$1,#REF!)+SUMIF(#REF!,CC$1,#REF!)+SUMIF(#REF!,CC$1,#REF!)+SUMIF(#REF!,CC$1,#REF!)+SUMIF(#REF!,CC$1,#REF!)+SUMIF(#REF!,CC$1,#REF!)+SUMIF(#REF!,CC$1,#REF!)+SUMIF(#REF!,CC$1,#REF!)+SUMIF(#REF!,CC$1,#REF!) -> #REF! | CD39: =SUMIF(#REF!,CD$1,#REF!)+SUMIF(#REF!,CD$1,#REF!)+SUMIF(#REF!,CD$1,#REF!)+SUMIF(#REF!,CD$1,#REF!)+SUMIF(#REF!,CD$1,#REF!)+SUMIF(#REF!,CD$1,#REF!)+SUMIF(#REF!,CD$1,#REF!)+SUMIF(#REF!,CD$1,#REF!)+SUMIF(#REF!,CD$1,#REF!)+SUMIF(#REF!,CD$1,#REF!)+SUMIF(#REF!,CD$1,#REF!) -> #REF! | CE39: =SUMIF(#REF!,CE$1,#REF!)+SUMIF(#REF!,CE$1,#REF!)+SUMIF(#REF!,CE$1,#REF!)+SUMIF(#REF!,CE$1,#REF!)+SUMIF(#REF!,CE$1,#REF!)+SUMIF(#REF!,CE$1,#REF!)+SUMIF(#REF!,CE$1,#REF!)+SUMIF(#REF!,CE$1,#REF!)+SUMIF(#REF!,CE$1,#REF!)+SUMIF(#REF!,CE$1,#REF!)+SUMIF(#REF!,CE$1,#REF!) -> #REF! | CF39: =SUMIF(#REF!,CF$1,#REF!)+SUMIF(#REF!,CF$1,#REF!)+SUMIF(#REF!,CF$1,#REF!)+SUMIF(#REF!,CF$1,#REF!)+SUMIF(#REF!,CF$1,#REF!)+SUMIF(#REF!,CF$1,#REF!)+SUMIF(#REF!,CF$1,#REF!)+SUMIF(#REF!,CF$1,#REF!)+SUMIF(#REF!,CF$1,#REF!)+SUMIF(#REF!,CF$1,#REF!)+SUMIF(#REF!,CF$1,#REF!) -> #REF! | ... CY39: =SUMIF(#REF!,CY$1,#REF!)+SUMIF(#REF!,CY$1,#REF!)+SUMIF(#REF!,CY$1,#REF!)+SUMIF(#REF!,CY$1,#REF!)+SUMIF(#REF!,CY$1,#REF!)+SUMIF(#REF!,CY$1,#REF!)+SUMIF(#REF!,CY$1,#REF!)+SUMIF(#REF!,CY$1,#REF!)+SUMIF(#REF!,CY$1,#REF!)+SUMIF(#REF!,CY$1,#REF!)+SUMIF(#REF!,CY$1,#REF!) -> #REF! | DC39: =C39&E39 | DD39: =IF($DC39="",0,IF(COUNTIF($DC$2:$DC38,$DC39)=0,1,0)) -> 0
A40: 39 | O40: =IF($L40="","",($AP40-$L40)/365) | P40: =IF(B40="","",IF($B40="MR","H","F")) | AD40: =IF($AC40="","",IF($AC40="À l'étranger","À l'étranger",IF($AC40="N. VI et Vbis (sans diplôme validé)",2,IF($AC40="N. V (CAP / BEP)",3,IF($AC40="N. IV (bac)",4,IF($AC40="N. III (bac + 2)",5,IF($AC40="N. II (bac + 4 et bac +3)",6,"7/8"))))))) | AT40: =SUM(AV40:BH40) -> 0 | BI40: =SUM(BL40:BX40)+CY40 -> #REF! | BJ40: =#REF! -> #REF! | BK40: =#REF! -> #REF! | BL40: =BY40+CL40 -> #REF! | BM40: =BZ40+CM40 -> #REF! | BN40: =CA40+CN40 -> #REF! | BO40: =CB40+CO40 -> #REF! | BP40: =CC40+CP40 -> #REF! | BQ40: =CD40+CQ40 -> #REF! | BR40: =CE40+CR40 -> #REF! | BS40: =CF40+CS40 -> #REF! | ... BX40: =CK40+CX40 -> #REF! | BY40: =SUMIF(#REF!,BY$1,#REF!)+SUMIF(#REF!,BY$1,#REF!)+SUMIF(#REF!,BY$1,#REF!)+SUMIF(#REF!,BY$1,#REF!)+SUMIF(#REF!,BY$1,#REF!)+SUMIF(#REF!,BY$1,#REF!)+SUMIF(#REF!,BY$1,#REF!)+SUMIF(#REF!,BY$1,#REF!)+SUMIF(#REF!,BY$1,#REF!)+SUMIF(#REF!,BY$1,#REF!)+SUMIF(#REF!,BY$1,#REF!) -> #REF! | BZ40: =SUMIF(#REF!,BZ$1,#REF!)+SUMIF(#REF!,BZ$1,#REF!)+SUMIF(#REF!,BZ$1,#REF!)+SUMIF(#REF!,BZ$1,#REF!)+SUMIF(#REF!,BZ$1,#REF!)+SUMIF(#REF!,BZ$1,#REF!)+SUMIF(#REF!,BZ$1,#REF!)+SUMIF(#REF!,BZ$1,#REF!)+SUMIF(#REF!,BZ$1,#REF!)+SUMIF(#REF!,BZ$1,#REF!)+SUMIF(#REF!,BZ$1,#REF!) -> #REF! | CA40: =SUMIF(#REF!,CA$1,#REF!)+SUMIF(#REF!,CA$1,#REF!)+SUMIF(#REF!,CA$1,#REF!)+SUMIF(#REF!,CA$1,#REF!)+SUMIF(#REF!,CA$1,#REF!)+SUMIF(#REF!,CA$1,#REF!)+SUMIF(#REF!,CA$1,#REF!)+SUMIF(#REF!,CA$1,#REF!)+SUMIF(#REF!,CA$1,#REF!)+SUMIF(#REF!,CA$1,#REF!)+SUMIF(#REF!,CA$1,#REF!) -> #REF! | CB40: =SUMIF(#REF!,CB$1,#REF!)+SUMIF(#REF!,CB$1,#REF!)+SUMIF(#REF!,CB$1,#REF!)+SUMIF(#REF!,CB$1,#REF!)+SUMIF(#REF!,CB$1,#REF!)+SUMIF(#REF!,CB$1,#REF!)+SUMIF(#REF!,CB$1,#REF!)+SUMIF(#REF!,CB$1,#REF!)+SUMIF(#REF!,CB$1,#REF!)+SUMIF(#REF!,CB$1,#REF!)+SUMIF(#REF!,CB$1,#REF!) -> #REF! | CC40: =SUMIF(#REF!,CC$1,#REF!)+SUMIF(#REF!,CC$1,#REF!)+SUMIF(#REF!,CC$1,#REF!)+SUMIF(#REF!,CC$1,#REF!)+SUMIF(#REF!,CC$1,#REF!)+SUMIF(#REF!,CC$1,#REF!)+SUMIF(#REF!,CC$1,#REF!)+SUMIF(#REF!,CC$1,#REF!)+SUMIF(#REF!,CC$1,#REF!)+SUMIF(#REF!,CC$1,#REF!)+SUMIF(#REF!,CC$1,#REF!) -> #REF! | CD40: =SUMIF(#REF!,CD$1,#REF!)+SUMIF(#REF!,CD$1,#REF!)+SUMIF(#REF!,CD$1,#REF!)+SUMIF(#REF!,CD$1,#REF!)+SUMIF(#REF!,CD$1,#REF!)+SUMIF(#REF!,CD$1,#REF!)+SUMIF(#REF!,CD$1,#REF!)+SUMIF(#REF!,CD$1,#REF!)+SUMIF(#REF!,CD$1,#REF!)+SUMIF(#REF!,CD$1,#REF!)+SUMIF(#REF!,CD$1,#REF!) -> #REF! | CE40: =SUMIF(#REF!,CE$1,#REF!)+SUMIF(#REF!,CE$1,#REF!)+SUMIF(#REF!,CE$1,#REF!)+SUMIF(#REF!,CE$1,#REF!)+SUMIF(#REF!,CE$1,#REF!)+SUMIF(#REF!,CE$1,#REF!)+SUMIF(#REF!,CE$1,#REF!)+SUMIF(#REF!,CE$1,#REF!)+SUMIF(#REF!,CE$1,#REF!)+SUMIF(#REF!,CE$1,#REF!)+SUMIF(#REF!,CE$1,#REF!) -> #REF! | CF40: =SUMIF(#REF!,CF$1,#REF!)+SUMIF(#REF!,CF$1,#REF!)+SUMIF(#REF!,CF$1,#REF!)+SUMIF(#REF!,CF$1,#REF!)+SUMIF(#REF!,CF$1,#REF!)+SUMIF(#REF!,CF$1,#REF!)+SUMIF(#REF!,CF$1,#REF!)+SUMIF(#REF!,CF$1,#REF!)+SUMIF(#REF!,CF$1,#REF!)+SUMIF(#REF!,CF$1,#REF!)+SUMIF(#REF!,CF$1,#REF!) -> #REF! | ... CY40: =SUMIF(#REF!,CY$1,#REF!)+SUMIF(#REF!,CY$1,#REF!)+SUMIF(#REF!,CY$1,#REF!)+SUMIF(#REF!,CY$1,#REF!)+SUMIF(#REF!,CY$1,#REF!)+SUMIF(#REF!,CY$1,#REF!)+SUMIF(#REF!,CY$1,#REF!)+SUMIF(#REF!,CY$1,#REF!)+SUMIF(#REF!,CY$1,#REF!)+SUMIF(#REF!,CY$1,#REF!)+SUMIF(#REF!,CY$1,#REF!) -> #REF! | DC40: =C40&E40 | DD40: =IF($DC40="",0,IF(COUNTIF($DC$2:$DC39,$DC40)=0,1,0)) -> 0
A41: 40 | O41: =IF($L41="","",($AP41-$L41)/365) | P41: =IF(B41="","",IF($B41="MR","H","F")) | AD41: =IF($AC41="","",IF($AC41="À l'étranger","À l'étranger",IF($AC41="N. VI et Vbis (sans diplôme validé)",2,IF($AC41="N. V (CAP / BEP)",3,IF($AC41="N. IV (bac)",4,IF($AC41="N. III (bac + 2)",5,IF($AC41="N. II (bac + 4 et bac +3)",6,"7/8"))))))) | AT41: =SUM(AV41:BH41) -> 0 | BI41: =SUM(BL41:BX41)+CY41 -> #REF! | BJ41: =#REF! -> #REF! | BK41: =#REF! -> #REF! | BL41: =BY41+CL41 -> #REF! | BM41: =BZ41+CM41 -> #REF! | BN41: =CA41+CN41 -> #REF! | BO41: =CB41+CO41 -> #REF! | BP41: =CC41+CP41 -> #REF! | BQ41: =CD41+CQ41 -> #REF! | BR41: =CE41+CR41 -> #REF! | BS41: =CF41+CS41 -> #REF! | ... BX41: =CK41+CX41 -> #REF! | BY41: =SUMIF(#REF!,BY$1,#REF!)+SUMIF(#REF!,BY$1,#REF!)+SUMIF(#REF!,BY$1,#REF!)+SUMIF(#REF!,BY$1,#REF!)+SUMIF(#REF!,BY$1,#REF!)+SUMIF(#REF!,BY$1,#REF!)+SUMIF(#REF!,BY$1,#REF!)+SUMIF(#REF!,BY$1,#REF!)+SUMIF(#REF!,BY$1,#REF!)+SUMIF(#REF!,BY$1,#REF!)+SUMIF(#REF!,BY$1,#REF!) -> #REF! | BZ41: =SUMIF(#REF!,BZ$1,#REF!)+SUMIF(#REF!,BZ$1,#REF!)+SUMIF(#REF!,BZ$1,#REF!)+SUMIF(#REF!,BZ$1,#REF!)+SUMIF(#REF!,BZ$1,#REF!)+SUMIF(#REF!,BZ$1,#REF!)+SUMIF(#REF!,BZ$1,#REF!)+SUMIF(#REF!,BZ$1,#REF!)+SUMIF(#REF!,BZ$1,#REF!)+SUMIF(#REF!,BZ$1,#REF!)+SUMIF(#REF!,BZ$1,#REF!) -> #REF! | CA41: =SUMIF(#REF!,CA$1,#REF!)+SUMIF(#REF!,CA$1,#REF!)+SUMIF(#REF!,CA$1,#REF!)+SUMIF(#REF!,CA$1,#REF!)+SUMIF(#REF!,CA$1,#REF!)+SUMIF(#REF!,CA$1,#REF!)+SUMIF(#REF!,CA$1,#REF!)+SUMIF(#REF!,CA$1,#REF!)+SUMIF(#REF!,CA$1,#REF!)+SUMIF(#REF!,CA$1,#REF!)+SUMIF(#REF!,CA$1,#REF!) -> #REF! | CB41: =SUMIF(#REF!,CB$1,#REF!)+SUMIF(#REF!,CB$1,#REF!)+SUMIF(#REF!,CB$1,#REF!)+SUMIF(#REF!,CB$1,#REF!)+SUMIF(#REF!,CB$1,#REF!)+SUMIF(#REF!,CB$1,#REF!)+SUMIF(#REF!,CB$1,#REF!)+SUMIF(#REF!,CB$1,#REF!)+SUMIF(#REF!,CB$1,#REF!)+SUMIF(#REF!,CB$1,#REF!)+SUMIF(#REF!,CB$1,#REF!) -> #REF! | CC41: =SUMIF(#REF!,CC$1,#REF!)+SUMIF(#REF!,CC$1,#REF!)+SUMIF(#REF!,CC$1,#REF!)+SUMIF(#REF!,CC$1,#REF!)+SUMIF(#REF!,CC$1,#REF!)+SUMIF(#REF!,CC$1,#REF!)+SUMIF(#REF!,CC$1,#REF!)+SUMIF(#REF!,CC$1,#REF!)+SUMIF(#REF!,CC$1,#REF!)+SUMIF(#REF!,CC$1,#REF!)+SUMIF(#REF!,CC$1,#REF!) -> #REF! | CD41: =SUMIF(#REF!,CD$1,#REF!)+SUMIF(#REF!,CD$1,#REF!)+SUMIF(#REF!,CD$1,#REF!)+SUMIF(#REF!,CD$1,#REF!)+SUMIF(#REF!,CD$1,#REF!)+SUMIF(#REF!,CD$1,#REF!)+SUMIF(#REF!,CD$1,#REF!)+SUMIF(#REF!,CD$1,#REF!)+SUMIF(#REF!,CD$1,#REF!)+SUMIF(#REF!,CD$1,#REF!)+SUMIF(#REF!,CD$1,#REF!) -> #REF! | CE41: =SUMIF(#REF!,CE$1,#REF!)+SUMIF(#REF!,CE$1,#REF!)+SUMIF(#REF!,CE$1,#REF!)+SUMIF(#REF!,CE$1,#REF!)+SUMIF(#REF!,CE$1,#REF!)+SUMIF(#REF!,CE$1,#REF!)+SUMIF(#REF!,CE$1,#REF!)+SUMIF(#REF!,CE$1,#REF!)+SUMIF(#REF!,CE$1,#REF!)+SUMIF(#REF!,CE$1,#REF!)+SUMIF(#REF!,CE$1,#REF!) -> #REF! | CF41: =SUMIF(#REF!,CF$1,#REF!)+SUMIF(#REF!,CF$1,#REF!)+SUMIF(#REF!,CF$1,#REF!)+SUMIF(#REF!,CF$1,#REF!)+SUMIF(#REF!,CF$1,#REF!)+SUMIF(#REF!,CF$1,#REF!)+SUMIF(#REF!,CF$1,#REF!)+SUMIF(#REF!,CF$1,#REF!)+SUMIF(#REF!,CF$1,#REF!)+SUMIF(#REF!,CF$1,#REF!)+SUMIF(#REF!,CF$1,#REF!) -> #REF! | ... CY41: =SUMIF(#REF!,CY$1,#REF!)+SUMIF(#REF!,CY$1,#REF!)+SUMIF(#REF!,CY$1,#REF!)+SUMIF(#REF!,CY$1,#REF!)+SUMIF(#REF!,CY$1,#REF!)+SUMIF(#REF!,CY$1,#REF!)+SUMIF(#REF!,CY$1,#REF!)+SUMIF(#REF!,CY$1,#REF!)+SUMIF(#REF!,CY$1,#REF!)+SUMIF(#REF!,CY$1,#REF!)+SUMIF(#REF!,CY$1,#REF!) -> #REF! | DC41: =C41&E41 | DD41: =IF($DC41="",0,IF(COUNTIF($DC$2:$DC40,$DC41)=0,1,0)) -> 0
A42: 41 | O42: =IF($L42="","",($AP42-$L42)/365) | P42: =IF(B42="","",IF($B42="MR","H","F")) | AD42: =IF($AC42="","",IF($AC42="À l'étranger","À l'étranger",IF($AC42="N. VI et Vbis (sans diplôme validé)",2,IF($AC42="N. V (CAP / BEP)",3,IF($AC42="N. IV (bac)",4,IF($AC42="N. III (bac + 2)",5,IF($AC42="N. II (bac + 4 et bac +3)",6,"7/8"))))))) | AT42: =SUM(AV42:BH42) -> 0 | BI42: =SUM(BL42:BX42)+CY42 -> #REF! | BJ42: =#REF! -> #REF! | BK42: =#REF! -> #REF! | BL42: =BY42+CL42 -> #REF! | BM42: =BZ42+CM42 -> #REF! | BN42: =CA42+CN42 -> #REF! | BO42: =CB42+CO42 -> #REF! | BP42: =CC42+CP42 -> #REF! | BQ42: =CD42+CQ42 -> #REF! | BR42: =CE42+CR42 -> #REF! | BS42: =CF42+CS42 -> #REF! | ... BX42: =CK42+CX42 -> #REF! | BY42: =SUMIF(#REF!,BY$1,#REF!)+SUMIF(#REF!,BY$1,#REF!)+SUMIF(#REF!,BY$1,#REF!)+SUMIF(#REF!,BY$1,#REF!)+SUMIF(#REF!,BY$1,#REF!)+SUMIF(#REF!,BY$1,#REF!)+SUMIF(#REF!,BY$1,#REF!)+SUMIF(#REF!,BY$1,#REF!)+SUMIF(#REF!,BY$1,#REF!)+SUMIF(#REF!,BY$1,#REF!)+SUMIF(#REF!,BY$1,#REF!) -> #REF! | BZ42: =SUMIF(#REF!,BZ$1,#REF!)+SUMIF(#REF!,BZ$1,#REF!)+SUMIF(#REF!,BZ$1,#REF!)+SUMIF(#REF!,BZ$1,#REF!)+SUMIF(#REF!,BZ$1,#REF!)+SUMIF(#REF!,BZ$1,#REF!)+SUMIF(#REF!,BZ$1,#REF!)+SUMIF(#REF!,BZ$1,#REF!)+SUMIF(#REF!,BZ$1,#REF!)+SUMIF(#REF!,BZ$1,#REF!)+SUMIF(#REF!,BZ$1,#REF!) -> #REF! | CA42: =SUMIF(#REF!,CA$1,#REF!)+SUMIF(#REF!,CA$1,#REF!)+SUMIF(#REF!,CA$1,#REF!)+SUMIF(#REF!,CA$1,#REF!)+SUMIF(#REF!,CA$1,#REF!)+SUMIF(#REF!,CA$1,#REF!)+SUMIF(#REF!,CA$1,#REF!)+SUMIF(#REF!,CA$1,#REF!)+SUMIF(#REF!,CA$1,#REF!)+SUMIF(#REF!,CA$1,#REF!)+SUMIF(#REF!,CA$1,#REF!) -> #REF! | CB42: =SUMIF(#REF!,CB$1,#REF!)+SUMIF(#REF!,CB$1,#REF!)+SUMIF(#REF!,CB$1,#REF!)+SUMIF(#REF!,CB$1,#REF!)+SUMIF(#REF!,CB$1,#REF!)+SUMIF(#REF!,CB$1,#REF!)+SUMIF(#REF!,CB$1,#REF!)+SUMIF(#REF!,CB$1,#REF!)+SUMIF(#REF!,CB$1,#REF!)+SUMIF(#REF!,CB$1,#REF!)+SUMIF(#REF!,CB$1,#REF!) -> #REF! | CC42: =SUMIF(#REF!,CC$1,#REF!)+SUMIF(#REF!,CC$1,#REF!)+SUMIF(#REF!,CC$1,#REF!)+SUMIF(#REF!,CC$1,#REF!)+SUMIF(#REF!,CC$1,#REF!)+SUMIF(#REF!,CC$1,#REF!)+SUMIF(#REF!,CC$1,#REF!)+SUMIF(#REF!,CC$1,#REF!)+SUMIF(#REF!,CC$1,#REF!)+SUMIF(#REF!,CC$1,#REF!)+SUMIF(#REF!,CC$1,#REF!) -> #REF! | CD42: =SUMIF(#REF!,CD$1,#REF!)+SUMIF(#REF!,CD$1,#REF!)+SUMIF(#REF!,CD$1,#REF!)+SUMIF(#REF!,CD$1,#REF!)+SUMIF(#REF!,CD$1,#REF!)+SUMIF(#REF!,CD$1,#REF!)+SUMIF(#REF!,CD$1,#REF!)+SUMIF(#REF!,CD$1,#REF!)+SUMIF(#REF!,CD$1,#REF!)+SUMIF(#REF!,CD$1,#REF!)+SUMIF(#REF!,CD$1,#REF!) -> #REF! | CE42: =SUMIF(#REF!,CE$1,#REF!)+SUMIF(#REF!,CE$1,#REF!)+SUMIF(#REF!,CE$1,#REF!)+SUMIF(#REF!,CE$1,#REF!)+SUMIF(#REF!,CE$1,#REF!)+SUMIF(#REF!,CE$1,#REF!)+SUMIF(#REF!,CE$1,#REF!)+SUMIF(#REF!,CE$1,#REF!)+SUMIF(#REF!,CE$1,#REF!)+SUMIF(#REF!,CE$1,#REF!)+SUMIF(#REF!,CE$1,#REF!) -> #REF! | CF42: =SUMIF(#REF!,CF$1,#REF!)+SUMIF(#REF!,CF$1,#REF!)+SUMIF(#REF!,CF$1,#REF!)+SUMIF(#REF!,CF$1,#REF!)+SUMIF(#REF!,CF$1,#REF!)+SUMIF(#REF!,CF$1,#REF!)+SUMIF(#REF!,CF$1,#REF!)+SUMIF(#REF!,CF$1,#REF!)+SUMIF(#REF!,CF$1,#REF!)+SUMIF(#REF!,CF$1,#REF!)+SUMIF(#REF!,CF$1,#REF!) -> #REF! | ... CY42: =SUMIF(#REF!,CY$1,#REF!)+SUMIF(#REF!,CY$1,#REF!)+SUMIF(#REF!,CY$1,#REF!)+SUMIF(#REF!,CY$1,#REF!)+SUMIF(#REF!,CY$1,#REF!)+SUMIF(#REF!,CY$1,#REF!)+SUMIF(#REF!,CY$1,#REF!)+SUMIF(#REF!,CY$1,#REF!)+SUMIF(#REF!,CY$1,#REF!)+SUMIF(#REF!,CY$1,#REF!)+SUMIF(#REF!,CY$1,#REF!) -> #REF! | DC42: =C42&E42 | DD42: =IF($DC42="",0,IF(COUNTIF($DC$2:$DC41,$DC42)=0,1,0)) -> 0
A43: 42 | O43: =IF($L43="","",($AP43-$L43)/365) | P43: =IF(B43="","",IF($B43="MR","H","F")) | AD43: =IF($AC43="","",IF($AC43="À l'étranger","À l'étranger",IF($AC43="N. VI et Vbis (sans diplôme validé)",2,IF($AC43="N. V (CAP / BEP)",3,IF($AC43="N. IV (bac)",4,IF($AC43="N. III (bac + 2)",5,IF($AC43="N. II (bac + 4 et bac +3)",6,"7/8"))))))) | AT43: =SUM(AV43:BH43) -> 0 | BI43: =SUM(BL43:BX43)+CY43 -> #REF! | BJ43: =#REF! -> #REF! | BK43: =#REF! -> #REF! | BL43: =BY43+CL43 -> #REF! | BM43: =BZ43+CM43 -> #REF! | BN43: =CA43+CN43 -> #REF! | BO43: =CB43+CO43 -> #REF! | BP43: =CC43+CP43 -> #REF! | BQ43: =CD43+CQ43 -> #REF! | BR43: =CE43+CR43 -> #REF! | BS43: =CF43+CS43 -> #REF! | ... BX43: =CK43+CX43 -> #REF! | BY43: =SUMIF(#REF!,BY$1,#REF!)+SUMIF(#REF!,BY$1,#REF!)+SUMIF(#REF!,BY$1,#REF!)+SUMIF(#REF!,BY$1,#REF!)+SUMIF(#REF!,BY$1,#REF!)+SUMIF(#REF!,BY$1,#REF!)+SUMIF(#REF!,BY$1,#REF!)+SUMIF(#REF!,BY$1,#REF!)+SUMIF(#REF!,BY$1,#REF!)+SUMIF(#REF!,BY$1,#REF!)+SUMIF(#REF!,BY$1,#REF!) -> #REF! | BZ43: =SUMIF(#REF!,BZ$1,#REF!)+SUMIF(#REF!,BZ$1,#REF!)+SUMIF(#REF!,BZ$1,#REF!)+SUMIF(#REF!,BZ$1,#REF!)+SUMIF(#REF!,BZ$1,#REF!)+SUMIF(#REF!,BZ$1,#REF!)+SUMIF(#REF!,BZ$1,#REF!)+SUMIF(#REF!,BZ$1,#REF!)+SUMIF(#REF!,BZ$1,#REF!)+SUMIF(#REF!,BZ$1,#REF!)+SUMIF(#REF!,BZ$1,#REF!) -> #REF! | CA43: =SUMIF(#REF!,CA$1,#REF!)+SUMIF(#REF!,CA$1,#REF!)+SUMIF(#REF!,CA$1,#REF!)+SUMIF(#REF!,CA$1,#REF!)+SUMIF(#REF!,CA$1,#REF!)+SUMIF(#REF!,CA$1,#REF!)+SUMIF(#REF!,CA$1,#REF!)+SUMIF(#REF!,CA$1,#REF!)+SUMIF(#REF!,CA$1,#REF!)+SUMIF(#REF!,CA$1,#REF!)+SUMIF(#REF!,CA$1,#REF!) -> #REF! | CB43: =SUMIF(#REF!,CB$1,#REF!)+SUMIF(#REF!,CB$1,#REF!)+SUMIF(#REF!,CB$1,#REF!)+SUMIF(#REF!,CB$1,#REF!)+SUMIF(#REF!,CB$1,#REF!)+SUMIF(#REF!,CB$1,#REF!)+SUMIF(#REF!,CB$1,#REF!)+SUMIF(#REF!,CB$1,#REF!)+SUMIF(#REF!,CB$1,#REF!)+SUMIF(#REF!,CB$1,#REF!)+SUMIF(#REF!,CB$1,#REF!) -> #REF! | CC43: =SUMIF(#REF!,CC$1,#REF!)+SUMIF(#REF!,CC$1,#REF!)+SUMIF(#REF!,CC$1,#REF!)+SUMIF(#REF!,CC$1,#REF!)+SUMIF(#REF!,CC$1,#REF!)+SUMIF(#REF!,CC$1,#REF!)+SUMIF(#REF!,CC$1,#REF!)+SUMIF(#REF!,CC$1,#REF!)+SUMIF(#REF!,CC$1,#REF!)+SUMIF(#REF!,CC$1,#REF!)+SUMIF(#REF!,CC$1,#REF!) -> #REF! | CD43: =SUMIF(#REF!,CD$1,#REF!)+SUMIF(#REF!,CD$1,#REF!)+SUMIF(#REF!,CD$1,#REF!)+SUMIF(#REF!,CD$1,#REF!)+SUMIF(#REF!,CD$1,#REF!)+SUMIF(#REF!,CD$1,#REF!)+SUMIF(#REF!,CD$1,#REF!)+SUMIF(#REF!,CD$1,#REF!)+SUMIF(#REF!,CD$1,#REF!)+SUMIF(#REF!,CD$1,#REF!)+SUMIF(#REF!,CD$1,#REF!) -> #REF! | CE43: =SUMIF(#REF!,CE$1,#REF!)+SUMIF(#REF!,CE$1,#REF!)+SUMIF(#REF!,CE$1,#REF!)+SUMIF(#REF!,CE$1,#REF!)+SUMIF(#REF!,CE$1,#REF!)+SUMIF(#REF!,CE$1,#REF!)+SUMIF(#REF!,CE$1,#REF!)+SUMIF(#REF!,CE$1,#REF!)+SUMIF(#REF!,CE$1,#REF!)+SUMIF(#REF!,CE$1,#REF!)+SUMIF(#REF!,CE$1,#REF!) -> #REF! | CF43: =SUMIF(#REF!,CF$1,#REF!)+SUMIF(#REF!,CF$1,#REF!)+SUMIF(#REF!,CF$1,#REF!)+SUMIF(#REF!,CF$1,#REF!)+SUMIF(#REF!,CF$1,#REF!)+SUMIF(#REF!,CF$1,#REF!)+SUMIF(#REF!,CF$1,#REF!)+SUMIF(#REF!,CF$1,#REF!)+SUMIF(#REF!,CF$1,#REF!)+SUMIF(#REF!,CF$1,#REF!)+SUMIF(#REF!,CF$1,#REF!) -> #REF! | ... CY43: =SUMIF(#REF!,CY$1,#REF!)+SUMIF(#REF!,CY$1,#REF!)+SUMIF(#REF!,CY$1,#REF!)+SUMIF(#REF!,CY$1,#REF!)+SUMIF(#REF!,CY$1,#REF!)+SUMIF(#REF!,CY$1,#REF!)+SUMIF(#REF!,CY$1,#REF!)+SUMIF(#REF!,CY$1,#REF!)+SUMIF(#REF!,CY$1,#REF!)+SUMIF(#REF!,CY$1,#REF!)+SUMIF(#REF!,CY$1,#REF!) -> #REF! | DC43: =C43&E43 | DD43: =IF($DC43="",0,IF(COUNTIF($DC$2:$DC42,$DC43)=0,1,0)) -> 0
A44: 43 | O44: =IF($L44="","",($AP44-$L44)/365) | P44: =IF(B44="","",IF($B44="MR","H","F")) | AD44: =IF($AC44="","",IF($AC44="À l'étranger","À l'étranger",IF($AC44="N. VI et Vbis (sans diplôme validé)",2,IF($AC44="N. V (CAP / BEP)",3,IF($AC44="N. IV (bac)",4,IF($AC44="N. III (bac + 2)",5,IF($AC44="N. II (bac + 4 et bac +3)",6,"7/8"))))))) | AT44: =SUM(AV44:BH44) -> 0 | BI44: =SUM(BL44:BX44)+CY44 -> #REF! | BJ44: =#REF! -> #REF! | BK44: =#REF! -> #REF! | BL44: =BY44+CL44 -> #REF! | BM44: =BZ44+CM44 -> #REF! | BN44: =CA44+CN44 -> #REF! | BO44: =CB44+CO44 -> #REF! | BP44: =CC44+CP44 -> #REF! | BQ44: =CD44+CQ44 -> #REF! | BR44: =CE44+CR44 -> #REF! | BS44: =CF44+CS44 -> #REF! | ... BX44: =CK44+CX44 -> #REF! | BY44: =SUMIF(#REF!,BY$1,#REF!)+SUMIF(#REF!,BY$1,#REF!)+SUMIF(#REF!,BY$1,#REF!)+SUMIF(#REF!,BY$1,#REF!)+SUMIF(#REF!,BY$1,#REF!)+SUMIF(#REF!,BY$1,#REF!)+SUMIF(#REF!,BY$1,#REF!)+SUMIF(#REF!,BY$1,#REF!)+SUMIF(#REF!,BY$1,#REF!)+SUMIF(#REF!,BY$1,#REF!)+SUMIF(#REF!,BY$1,#REF!) -> #REF! | BZ44: =SUMIF(#REF!,BZ$1,#REF!)+SUMIF(#REF!,BZ$1,#REF!)+SUMIF(#REF!,BZ$1,#REF!)+SUMIF(#REF!,BZ$1,#REF!)+SUMIF(#REF!,BZ$1,#REF!)+SUMIF(#REF!,BZ$1,#REF!)+SUMIF(#REF!,BZ$1,#REF!)+SUMIF(#REF!,BZ$1,#REF!)+SUMIF(#REF!,BZ$1,#REF!)+SUMIF(#REF!,BZ$1,#REF!)+SUMIF(#REF!,BZ$1,#REF!) -> #REF! | CA44: =SUMIF(#REF!,CA$1,#REF!)+SUMIF(#REF!,CA$1,#REF!)+SUMIF(#REF!,CA$1,#REF!)+SUMIF(#REF!,CA$1,#REF!)+SUMIF(#REF!,CA$1,#REF!)+SUMIF(#REF!,CA$1,#REF!)+SUMIF(#REF!,CA$1,#REF!)+SUMIF(#REF!,CA$1,#REF!)+SUMIF(#REF!,CA$1,#REF!)+SUMIF(#REF!,CA$1,#REF!)+SUMIF(#REF!,CA$1,#REF!) -> #REF! | CB44: =SUMIF(#REF!,CB$1,#REF!)+SUMIF(#REF!,CB$1,#REF!)+SUMIF(#REF!,CB$1,#REF!)+SUMIF(#REF!,CB$1,#REF!)+SUMIF(#REF!,CB$1,#REF!)+SUMIF(#REF!,CB$1,#REF!)+SUMIF(#REF!,CB$1,#REF!)+SUMIF(#REF!,CB$1,#REF!)+SUMIF(#REF!,CB$1,#REF!)+SUMIF(#REF!,CB$1,#REF!)+SUMIF(#REF!,CB$1,#REF!) -> #REF! | CC44: =SUMIF(#REF!,CC$1,#REF!)+SUMIF(#REF!,CC$1,#REF!)+SUMIF(#REF!,CC$1,#REF!)+SUMIF(#REF!,CC$1,#REF!)+SUMIF(#REF!,CC$1,#REF!)+SUMIF(#REF!,CC$1,#REF!)+SUMIF(#REF!,CC$1,#REF!)+SUMIF(#REF!,CC$1,#REF!)+SUMIF(#REF!,CC$1,#REF!)+SUMIF(#REF!,CC$1,#REF!)+SUMIF(#REF!,CC$1,#REF!) -> #REF! | CD44: =SUMIF(#REF!,CD$1,#REF!)+SUMIF(#REF!,CD$1,#REF!)+SUMIF(#REF!,CD$1,#REF!)+SUMIF(#REF!,CD$1,#REF!)+SUMIF(#REF!,CD$1,#REF!)+SUMIF(#REF!,CD$1,#REF!)+SUMIF(#REF!,CD$1,#REF!)+SUMIF(#REF!,CD$1,#REF!)+SUMIF(#REF!,CD$1,#REF!)+SUMIF(#REF!,CD$1,#REF!)+SUMIF(#REF!,CD$1,#REF!) -> #REF! | CE44: =SUMIF(#REF!,CE$1,#REF!)+SUMIF(#REF!,CE$1,#REF!)+SUMIF(#REF!,CE$1,#REF!)+SUMIF(#REF!,CE$1,#REF!)+SUMIF(#REF!,CE$1,#REF!)+SUMIF(#REF!,CE$1,#REF!)+SUMIF(#REF!,CE$1,#REF!)+SUMIF(#REF!,CE$1,#REF!)+SUMIF(#REF!,CE$1,#REF!)+SUMIF(#REF!,CE$1,#REF!)+SUMIF(#REF!,CE$1,#REF!) -> #REF! | CF44: =SUMIF(#REF!,CF$1,#REF!)+SUMIF(#REF!,CF$1,#REF!)+SUMIF(#REF!,CF$1,#REF!)+SUMIF(#REF!,CF$1,#REF!)+SUMIF(#REF!,CF$1,#REF!)+SUMIF(#REF!,CF$1,#REF!)+SUMIF(#REF!,CF$1,#REF!)+SUMIF(#REF!,CF$1,#REF!)+SUMIF(#REF!,CF$1,#REF!)+SUMIF(#REF!,CF$1,#REF!)+SUMIF(#REF!,CF$1,#REF!) -> #REF! | ... CY44: =SUMIF(#REF!,CY$1,#REF!)+SUMIF(#REF!,CY$1,#REF!)+SUMIF(#REF!,CY$1,#REF!)+SUMIF(#REF!,CY$1,#REF!)+SUMIF(#REF!,CY$1,#REF!)+SUMIF(#REF!,CY$1,#REF!)+SUMIF(#REF!,CY$1,#REF!)+SUMIF(#REF!,CY$1,#REF!)+SUMIF(#REF!,CY$1,#REF!)+SUMIF(#REF!,CY$1,#REF!)+SUMIF(#REF!,CY$1,#REF!) -> #REF! | DC44: =C44&E44 | DD44: =IF($DC44="",0,IF(COUNTIF($DC$2:$DC43,$DC44)=0,1,0)) -> 0
A45: 44 | O45: =IF($L45="","",($AP45-$L45)/365) | P45: =IF(B45="","",IF($B45="MR","H","F")) | AD45: =IF($AC45="","",IF($AC45="À l'étranger","À l'étranger",IF($AC45="N. VI et Vbis (sans diplôme validé)",2,IF($AC45="N. V (CAP / BEP)",3,IF($AC45="N. IV (bac)",4,IF($AC45="N. III (bac + 2)",5,IF($AC45="N. II (bac + 4 et bac +3)",6,"7/8"))))))) | AT45: =SUM(AV45:BH45) -> 0 | BI45: =SUM(BL45:BX45)+CY45 -> #REF! | BJ45: =#REF! -> #REF! | BK45: =#REF! -> #REF! | BL45: =BY45+CL45 -> #REF! | BM45: =BZ45+CM45 -> #REF! | BN45: =CA45+CN45 -> #REF! | BO45: =CB45+CO45 -> #REF! | BP45: =CC45+CP45 -> #REF! | BQ45: =CD45+CQ45 -> #REF! | BR45: =CE45+CR45 -> #REF! | BS45: =CF45+CS45 -> #REF! | ... BX45: =CK45+CX45 -> #REF! | BY45: =SUMIF(#REF!,BY$1,#REF!)+SUMIF(#REF!,BY$1,#REF!)+SUMIF(#REF!,BY$1,#REF!)+SUMIF(#REF!,BY$1,#REF!)+SUMIF(#REF!,BY$1,#REF!)+SUMIF(#REF!,BY$1,#REF!)+SUMIF(#REF!,BY$1,#REF!)+SUMIF(#REF!,BY$1,#REF!)+SUMIF(#REF!,BY$1,#REF!)+SUMIF(#REF!,BY$1,#REF!)+SUMIF(#REF!,BY$1,#REF!) -> #REF! | BZ45: =SUMIF(#REF!,BZ$1,#REF!)+SUMIF(#REF!,BZ$1,#REF!)+SUMIF(#REF!,BZ$1,#REF!)+SUMIF(#REF!,BZ$1,#REF!)+SUMIF(#REF!,BZ$1,#REF!)+SUMIF(#REF!,BZ$1,#REF!)+SUMIF(#REF!,BZ$1,#REF!)+SUMIF(#REF!,BZ$1,#REF!)+SUMIF(#REF!,BZ$1,#REF!)+SUMIF(#REF!,BZ$1,#REF!)+SUMIF(#REF!,BZ$1,#REF!) -> #REF! | CA45: =SUMIF(#REF!,CA$1,#REF!)+SUMIF(#REF!,CA$1,#REF!)+SUMIF(#REF!,CA$1,#REF!)+SUMIF(#REF!,CA$1,#REF!)+SUMIF(#REF!,CA$1,#REF!)+SUMIF(#REF!,CA$1,#REF!)+SUMIF(#REF!,CA$1,#REF!)+SUMIF(#REF!,CA$1,#REF!)+SUMIF(#REF!,CA$1,#REF!)+SUMIF(#REF!,CA$1,#REF!)+SUMIF(#REF!,CA$1,#REF!) -> #REF! | CB45: =SUMIF(#REF!,CB$1,#REF!)+SUMIF(#REF!,CB$1,#REF!)+SUMIF(#REF!,CB$1,#REF!)+SUMIF(#REF!,CB$1,#REF!)+SUMIF(#REF!,CB$1,#REF!)+SUMIF(#REF!,CB$1,#REF!)+SUMIF(#REF!,CB$1,#REF!)+SUMIF(#REF!,CB$1,#REF!)+SUMIF(#REF!,CB$1,#REF!)+SUMIF(#REF!,CB$1,#REF!)+SUMIF(#REF!,CB$1,#REF!) -> #REF! | CC45: =SUMIF(#REF!,CC$1,#REF!)+SUMIF(#REF!,CC$1,#REF!)+SUMIF(#REF!,CC$1,#REF!)+SUMIF(#REF!,CC$1,#REF!)+SUMIF(#REF!,CC$1,#REF!)+SUMIF(#REF!,CC$1,#REF!)+SUMIF(#REF!,CC$1,#REF!)+SUMIF(#REF!,CC$1,#REF!)+SUMIF(#REF!,CC$1,#REF!)+SUMIF(#REF!,CC$1,#REF!)+SUMIF(#REF!,CC$1,#REF!) -> #REF! | CD45: =SUMIF(#REF!,CD$1,#REF!)+SUMIF(#REF!,CD$1,#REF!)+SUMIF(#REF!,CD$1,#REF!)+SUMIF(#REF!,CD$1,#REF!)+SUMIF(#REF!,CD$1,#REF!)+SUMIF(#REF!,CD$1,#REF!)+SUMIF(#REF!,CD$1,#REF!)+SUMIF(#REF!,CD$1,#REF!)+SUMIF(#REF!,CD$1,#REF!)+SUMIF(#REF!,CD$1,#REF!)+SUMIF(#REF!,CD$1,#REF!) -> #REF! | CE45: =SUMIF(#REF!,CE$1,#REF!)+SUMIF(#REF!,CE$1,#REF!)+SUMIF(#REF!,CE$1,#REF!)+SUMIF(#REF!,CE$1,#REF!)+SUMIF(#REF!,CE$1,#REF!)+SUMIF(#REF!,CE$1,#REF!)+SUMIF(#REF!,CE$1,#REF!)+SUMIF(#REF!,CE$1,#REF!)+SUMIF(#REF!,CE$1,#REF!)+SUMIF(#REF!,CE$1,#REF!)+SUMIF(#REF!,CE$1,#REF!) -> #REF! | CF45: =SUMIF(#REF!,CF$1,#REF!)+SUMIF(#REF!,CF$1,#REF!)+SUMIF(#REF!,CF$1,#REF!)+SUMIF(#REF!,CF$1,#REF!)+SUMIF(#REF!,CF$1,#REF!)+SUMIF(#REF!,CF$1,#REF!)+SUMIF(#REF!,CF$1,#REF!)+SUMIF(#REF!,CF$1,#REF!)+SUMIF(#REF!,CF$1,#REF!)+SUMIF(#REF!,CF$1,#REF!)+SUMIF(#REF!,CF$1,#REF!) -> #REF! | ... CY45: =SUMIF(#REF!,CY$1,#REF!)+SUMIF(#REF!,CY$1,#REF!)+SUMIF(#REF!,CY$1,#REF!)+SUMIF(#REF!,CY$1,#REF!)+SUMIF(#REF!,CY$1,#REF!)+SUMIF(#REF!,CY$1,#REF!)+SUMIF(#REF!,CY$1,#REF!)+SUMIF(#REF!,CY$1,#REF!)+SUMIF(#REF!,CY$1,#REF!)+SUMIF(#REF!,CY$1,#REF!)+SUMIF(#REF!,CY$1,#REF!) -> #REF! | DC45: =C45&E45 | DD45: =IF($DC45="",0,IF(COUNTIF($DC$2:$DC44,$DC45)=0,1,0)) -> 0
A46: 45 | O46: =IF($L46="","",($AP46-$L46)/365) | P46: =IF(B46="","",IF($B46="MR","H","F")) | AD46: =IF($AC46="","",IF($AC46="À l'étranger","À l'étranger",IF($AC46="N. VI et Vbis (sans diplôme validé)",2,IF($AC46="N. V (CAP / BEP)",3,IF($AC46="N. IV (bac)",4,IF($AC46="N. III (bac + 2)",5,IF($AC46="N. II (bac + 4 et bac +3)",6,"7/8"))))))) | AT46: =SUM(AV46:BH46) -> 0 | BI46: =SUM(BL46:BX46)+CY46 -> #REF! | BJ46: =#REF! -> #REF! | BK46: =#REF! -> #REF! | BL46: =BY46+CL46 -> #REF! | BM46: =BZ46+CM46 -> #REF! | BN46: =CA46+CN46 -> #REF! | BO46: =CB46+CO46 -> #REF! | BP46: =CC46+CP46 -> #REF! | BQ46: =CD46+CQ46 -> #REF! | BR46: =CE46+CR46 -> #REF! | BS46: =CF46+CS46 -> #REF! | ... BX46: =CK46+CX46 -> #REF! | BY46: =SUMIF(#REF!,BY$1,#REF!)+SUMIF(#REF!,BY$1,#REF!)+SUMIF(#REF!,BY$1,#REF!)+SUMIF(#REF!,BY$1,#REF!)+SUMIF(#REF!,BY$1,#REF!)+SUMIF(#REF!,BY$1,#REF!)+SUMIF(#REF!,BY$1,#REF!)+SUMIF(#REF!,BY$1,#REF!)+SUMIF(#REF!,BY$1,#REF!)+SUMIF(#REF!,BY$1,#REF!)+SUMIF(#REF!,BY$1,#REF!) -> #REF! | BZ46: =SUMIF(#REF!,BZ$1,#REF!)+SUMIF(#REF!,BZ$1,#REF!)+SUMIF(#REF!,BZ$1,#REF!)+SUMIF(#REF!,BZ$1,#REF!)+SUMIF(#REF!,BZ$1,#REF!)+SUMIF(#REF!,BZ$1,#REF!)+SUMIF(#REF!,BZ$1,#REF!)+SUMIF(#REF!,BZ$1,#REF!)+SUMIF(#REF!,BZ$1,#REF!)+SUMIF(#REF!,BZ$1,#REF!)+SUMIF(#REF!,BZ$1,#REF!) -> #REF! | CA46: =SUMIF(#REF!,CA$1,#REF!)+SUMIF(#REF!,CA$1,#REF!)+SUMIF(#REF!,CA$1,#REF!)+SUMIF(#REF!,CA$1,#REF!)+SUMIF(#REF!,CA$1,#REF!)+SUMIF(#REF!,CA$1,#REF!)+SUMIF(#REF!,CA$1,#REF!)+SUMIF(#REF!,CA$1,#REF!)+SUMIF(#REF!,CA$1,#REF!)+SUMIF(#REF!,CA$1,#REF!)+SUMIF(#REF!,CA$1,#REF!) -> #REF! | CB46: =SUMIF(#REF!,CB$1,#REF!)+SUMIF(#REF!,CB$1,#REF!)+SUMIF(#REF!,CB$1,#REF!)+SUMIF(#REF!,CB$1,#REF!)+SUMIF(#REF!,CB$1,#REF!)+SUMIF(#REF!,CB$1,#REF!)+SUMIF(#REF!,CB$1,#REF!)+SUMIF(#REF!,CB$1,#REF!)+SUMIF(#REF!,CB$1,#REF!)+SUMIF(#REF!,CB$1,#REF!)+SUMIF(#REF!,CB$1,#REF!) -> #REF! | CC46: =SUMIF(#REF!,CC$1,#REF!)+SUMIF(#REF!,CC$1,#REF!)+SUMIF(#REF!,CC$1,#REF!)+SUMIF(#REF!,CC$1,#REF!)+SUMIF(#REF!,CC$1,#REF!)+SUMIF(#REF!,CC$1,#REF!)+SUMIF(#REF!,CC$1,#REF!)+SUMIF(#REF!,CC$1,#REF!)+SUMIF(#REF!,CC$1,#REF!)+SUMIF(#REF!,CC$1,#REF!)+SUMIF(#REF!,CC$1,#REF!) -> #REF! | CD46: =SUMIF(#REF!,CD$1,#REF!)+SUMIF(#REF!,CD$1,#REF!)+SUMIF(#REF!,CD$1,#REF!)+SUMIF(#REF!,CD$1,#REF!)+SUMIF(#REF!,CD$1,#REF!)+SUMIF(#REF!,CD$1,#REF!)+SUMIF(#REF!,CD$1,#REF!)+SUMIF(#REF!,CD$1,#REF!)+SUMIF(#REF!,CD$1,#REF!)+SUMIF(#REF!,CD$1,#REF!)+SUMIF(#REF!,CD$1,#REF!) -> #REF! | CE46: =SUMIF(#REF!,CE$1,#REF!)+SUMIF(#REF!,CE$1,#REF!)+SUMIF(#REF!,CE$1,#REF!)+SUMIF(#REF!,CE$1,#REF!)+SUMIF(#REF!,CE$1,#REF!)+SUMIF(#REF!,CE$1,#REF!)+SUMIF(#REF!,CE$1,#REF!)+SUMIF(#REF!,CE$1,#REF!)+SUMIF(#REF!,CE$1,#REF!)+SUMIF(#REF!,CE$1,#REF!)+SUMIF(#REF!,CE$1,#REF!) -> #REF! | CF46: =SUMIF(#REF!,CF$1,#REF!)+SUMIF(#REF!,CF$1,#REF!)+SUMIF(#REF!,CF$1,#REF!)+SUMIF(#REF!,CF$1,#REF!)+SUMIF(#REF!,CF$1,#REF!)+SUMIF(#REF!,CF$1,#REF!)+SUMIF(#REF!,CF$1,#REF!)+SUMIF(#REF!,CF$1,#REF!)+SUMIF(#REF!,CF$1,#REF!)+SUMIF(#REF!,CF$1,#REF!)+SUMIF(#REF!,CF$1,#REF!) -> #REF! | ... CY46: =SUMIF(#REF!,CY$1,#REF!)+SUMIF(#REF!,CY$1,#REF!)+SUMIF(#REF!,CY$1,#REF!)+SUMIF(#REF!,CY$1,#REF!)+SUMIF(#REF!,CY$1,#REF!)+SUMIF(#REF!,CY$1,#REF!)+SUMIF(#REF!,CY$1,#REF!)+SUMIF(#REF!,CY$1,#REF!)+SUMIF(#REF!,CY$1,#REF!)+SUMIF(#REF!,CY$1,#REF!)+SUMIF(#REF!,CY$1,#REF!) -> #REF! | DC46: =C46&E46 | DD46: =IF($DC46="",0,IF(COUNTIF($DC$2:$DC45,$DC46)=0,1,0)) -> 0
A47: 46 | O47: =IF($L47="","",($AP47-$L47)/365) | P47: =IF(B47="","",IF($B47="MR","H","F")) | AD47: =IF($AC47="","",IF($AC47="À l'étranger","À l'étranger",IF($AC47="N. VI et Vbis (sans diplôme validé)",2,IF($AC47="N. V (CAP / BEP)",3,IF($AC47="N. IV (bac)",4,IF($AC47="N. III (bac + 2)",5,IF($AC47="N. II (bac + 4 et bac +3)",6,"7/8"))))))) | AT47: =SUM(AV47:BH47) -> 0 | BI47: =SUM(BL47:BX47)+CY47 -> #REF! | BJ47: =#REF! -> #REF! | BK47: =#REF! -> #REF! | BL47: =BY47+CL47 -> #REF! | BM47: =BZ47+CM47 -> #REF! | BN47: =CA47+CN47 -> #REF! | BO47: =CB47+CO47 -> #REF! | BP47: =CC47+CP47 -> #REF! | BQ47: =CD47+CQ47 -> #REF! | BR47: =CE47+CR47 -> #REF! | BS47: =CF47+CS47 -> #REF! | ... BX47: =CK47+CX47 -> #REF! | BY47: =SUMIF(#REF!,BY$1,#REF!)+SUMIF(#REF!,BY$1,#REF!)+SUMIF(#REF!,BY$1,#REF!)+SUMIF(#REF!,BY$1,#REF!)+SUMIF(#REF!,BY$1,#REF!)+SUMIF(#REF!,BY$1,#REF!)+SUMIF(#REF!,BY$1,#REF!)+SUMIF(#REF!,BY$1,#REF!)+SUMIF(#REF!,BY$1,#REF!)+SUMIF(#REF!,BY$1,#REF!)+SUMIF(#REF!,BY$1,#REF!) -> #REF! | BZ47: =SUMIF(#REF!,BZ$1,#REF!)+SUMIF(#REF!,BZ$1,#REF!)+SUMIF(#REF!,BZ$1,#REF!)+SUMIF(#REF!,BZ$1,#REF!)+SUMIF(#REF!,BZ$1,#REF!)+SUMIF(#REF!,BZ$1,#REF!)+SUMIF(#REF!,BZ$1,#REF!)+SUMIF(#REF!,BZ$1,#REF!)+SUMIF(#REF!,BZ$1,#REF!)+SUMIF(#REF!,BZ$1,#REF!)+SUMIF(#REF!,BZ$1,#REF!) -> #REF! | CA47: =SUMIF(#REF!,CA$1,#REF!)+SUMIF(#REF!,CA$1,#REF!)+SUMIF(#REF!,CA$1,#REF!)+SUMIF(#REF!,CA$1,#REF!)+SUMIF(#REF!,CA$1,#REF!)+SUMIF(#REF!,CA$1,#REF!)+SUMIF(#REF!,CA$1,#REF!)+SUMIF(#REF!,CA$1,#REF!)+SUMIF(#REF!,CA$1,#REF!)+SUMIF(#REF!,CA$1,#REF!)+SUMIF(#REF!,CA$1,#REF!) -> #REF! | CB47: =SUMIF(#REF!,CB$1,#REF!)+SUMIF(#REF!,CB$1,#REF!)+SUMIF(#REF!,CB$1,#REF!)+SUMIF(#REF!,CB$1,#REF!)+SUMIF(#REF!,CB$1,#REF!)+SUMIF(#REF!,CB$1,#REF!)+SUMIF(#REF!,CB$1,#REF!)+SUMIF(#REF!,CB$1,#REF!)+SUMIF(#REF!,CB$1,#REF!)+SUMIF(#REF!,CB$1,#REF!)+SUMIF(#REF!,CB$1,#REF!) -> #REF! | CC47: =SUMIF(#REF!,CC$1,#REF!)+SUMIF(#REF!,CC$1,#REF!)+SUMIF(#REF!,CC$1,#REF!)+SUMIF(#REF!,CC$1,#REF!)+SUMIF(#REF!,CC$1,#REF!)+SUMIF(#REF!,CC$1,#REF!)+SUMIF(#REF!,CC$1,#REF!)+SUMIF(#REF!,CC$1,#REF!)+SUMIF(#REF!,CC$1,#REF!)+SUMIF(#REF!,CC$1,#REF!)+SUMIF(#REF!,CC$1,#REF!) -> #REF! | CD47: =SUMIF(#REF!,CD$1,#REF!)+SUMIF(#REF!,CD$1,#REF!)+SUMIF(#REF!,CD$1,#REF!)+SUMIF(#REF!,CD$1,#REF!)+SUMIF(#REF!,CD$1,#REF!)+SUMIF(#REF!,CD$1,#REF!)+SUMIF(#REF!,CD$1,#REF!)+SUMIF(#REF!,CD$1,#REF!)+SUMIF(#REF!,CD$1,#REF!)+SUMIF(#REF!,CD$1,#REF!)+SUMIF(#REF!,CD$1,#REF!) -> #REF! | CE47: =SUMIF(#REF!,CE$1,#REF!)+SUMIF(#REF!,CE$1,#REF!)+SUMIF(#REF!,CE$1,#REF!)+SUMIF(#REF!,CE$1,#REF!)+SUMIF(#REF!,CE$1,#REF!)+SUMIF(#REF!,CE$1,#REF!)+SUMIF(#REF!,CE$1,#REF!)+SUMIF(#REF!,CE$1,#REF!)+SUMIF(#REF!,CE$1,#REF!)+SUMIF(#REF!,CE$1,#REF!)+SUMIF(#REF!,CE$1,#REF!) -> #REF! | CF47: =SUMIF(#REF!,CF$1,#REF!)+SUMIF(#REF!,CF$1,#REF!)+SUMIF(#REF!,CF$1,#REF!)+SUMIF(#REF!,CF$1,#REF!)+SUMIF(#REF!,CF$1,#REF!)+SUMIF(#REF!,CF$1,#REF!)+SUMIF(#REF!,CF$1,#REF!)+SUMIF(#REF!,CF$1,#REF!)+SUMIF(#REF!,CF$1,#REF!)+SUMIF(#REF!,CF$1,#REF!)+SUMIF(#REF!,CF$1,#REF!) -> #REF! | ... CY47: =SUMIF(#REF!,CY$1,#REF!)+SUMIF(#REF!,CY$1,#REF!)+SUMIF(#REF!,CY$1,#REF!)+SUMIF(#REF!,CY$1,#REF!)+SUMIF(#REF!,CY$1,#REF!)+SUMIF(#REF!,CY$1,#REF!)+SUMIF(#REF!,CY$1,#REF!)+SUMIF(#REF!,CY$1,#REF!)+SUMIF(#REF!,CY$1,#REF!)+SUMIF(#REF!,CY$1,#REF!)+SUMIF(#REF!,CY$1,#REF!) -> #REF! | DC47: =C47&E47 | DD47: =IF($DC47="",0,IF(COUNTIF($DC$2:$DC46,$DC47)=0,1,0)) -> 0
A48: 47 | O48: =IF($L48="","",($AP48-$L48)/365) | P48: =IF(B48="","",IF($B48="MR","H","F")) | AD48: =IF($AC48="","",IF($AC48="À l'étranger","À l'étranger",IF($AC48="N. VI et Vbis (sans diplôme validé)",2,IF($AC48="N. V (CAP / BEP)",3,IF($AC48="N. IV (bac)",4,IF($AC48="N. III (bac + 2)",5,IF($AC48="N. II (bac + 4 et bac +3)",6,"7/8"))))))) | AT48: =SUM(AV48:BH48) -> 0 | BI48: =SUM(BL48:BX48)+CY48 -> #REF! | BJ48: =#REF! -> #REF! | BK48: =#REF! -> #REF! | BL48: =BY48+CL48 -> #REF! | BM48: =BZ48+CM48 -> #REF! | BN48: =CA48+CN48 -> #REF! | BO48: =CB48+CO48 -> #REF! | BP48: =CC48+CP48 -> #REF! | BQ48: =CD48+CQ48 -> #REF! | BR48: =CE48+CR48 -> #REF! | BS48: =CF48+CS48 -> #REF! | ... BX48: =CK48+CX48 -> #REF! | BY48: =SUMIF(#REF!,BY$1,#REF!)+SUMIF(#REF!,BY$1,#REF!)+SUMIF(#REF!,BY$1,#REF!)+SUMIF(#REF!,BY$1,#REF!)+SUMIF(#REF!,BY$1,#REF!)+SUMIF(#REF!,BY$1,#REF!)+SUMIF(#REF!,BY$1,#REF!)+SUMIF(#REF!,BY$1,#REF!)+SUMIF(#REF!,BY$1,#REF!)+SUMIF(#REF!,BY$1,#REF!)+SUMIF(#REF!,BY$1,#REF!) -> #REF! | BZ48: =SUMIF(#REF!,BZ$1,#REF!)+SUMIF(#REF!,BZ$1,#REF!)+SUMIF(#REF!,BZ$1,#REF!)+SUMIF(#REF!,BZ$1,#REF!)+SUMIF(#REF!,BZ$1,#REF!)+SUMIF(#REF!,BZ$1,#REF!)+SUMIF(#REF!,BZ$1,#REF!)+SUMIF(#REF!,BZ$1,#REF!)+SUMIF(#REF!,BZ$1,#REF!)+SUMIF(#REF!,BZ$1,#REF!)+SUMIF(#REF!,BZ$1,#REF!) -> #REF! | CA48: =SUMIF(#REF!,CA$1,#REF!)+SUMIF(#REF!,CA$1,#REF!)+SUMIF(#REF!,CA$1,#REF!)+SUMIF(#REF!,CA$1,#REF!)+SUMIF(#REF!,CA$1,#REF!)+SUMIF(#REF!,CA$1,#REF!)+SUMIF(#REF!,CA$1,#REF!)+SUMIF(#REF!,CA$1,#REF!)+SUMIF(#REF!,CA$1,#REF!)+SUMIF(#REF!,CA$1,#REF!)+SUMIF(#REF!,CA$1,#REF!) -> #REF! | CB48: =SUMIF(#REF!,CB$1,#REF!)+SUMIF(#REF!,CB$1,#REF!)+SUMIF(#REF!,CB$1,#REF!)+SUMIF(#REF!,CB$1,#REF!)+SUMIF(#REF!,CB$1,#REF!)+SUMIF(#REF!,CB$1,#REF!)+SUMIF(#REF!,CB$1,#REF!)+SUMIF(#REF!,CB$1,#REF!)+SUMIF(#REF!,CB$1,#REF!)+SUMIF(#REF!,CB$1,#REF!)+SUMIF(#REF!,CB$1,#REF!) -> #REF! | CC48: =SUMIF(#REF!,CC$1,#REF!)+SUMIF(#REF!,CC$1,#REF!)+SUMIF(#REF!,CC$1,#REF!)+SUMIF(#REF!,CC$1,#REF!)+SUMIF(#REF!,CC$1,#REF!)+SUMIF(#REF!,CC$1,#REF!)+SUMIF(#REF!,CC$1,#REF!)+SUMIF(#REF!,CC$1,#REF!)+SUMIF(#REF!,CC$1,#REF!)+SUMIF(#REF!,CC$1,#REF!)+SUMIF(#REF!,CC$1,#REF!) -> #REF! | CD48: =SUMIF(#REF!,CD$1,#REF!)+SUMIF(#REF!,CD$1,#REF!)+SUMIF(#REF!,CD$1,#REF!)+SUMIF(#REF!,CD$1,#REF!)+SUMIF(#REF!,CD$1,#REF!)+SUMIF(#REF!,CD$1,#REF!)+SUMIF(#REF!,CD$1,#REF!)+SUMIF(#REF!,CD$1,#REF!)+SUMIF(#REF!,CD$1,#REF!)+SUMIF(#REF!,CD$1,#REF!)+SUMIF(#REF!,CD$1,#REF!) -> #REF! | CE48: =SUMIF(#REF!,CE$1,#REF!)+SUMIF(#REF!,CE$1,#REF!)+SUMIF(#REF!,CE$1,#REF!)+SUMIF(#REF!,CE$1,#REF!)+SUMIF(#REF!,CE$1,#REF!)+SUMIF(#REF!,CE$1,#REF!)+SUMIF(#REF!,CE$1,#REF!)+SUMIF(#REF!,CE$1,#REF!)+SUMIF(#REF!,CE$1,#REF!)+SUMIF(#REF!,CE$1,#REF!)+SUMIF(#REF!,CE$1,#REF!) -> #REF! | CF48: =SUMIF(#REF!,CF$1,#REF!)+SUMIF(#REF!,CF$1,#REF!)+SUMIF(#REF!,CF$1,#REF!)+SUMIF(#REF!,CF$1,#REF!)+SUMIF(#REF!,CF$1,#REF!)+SUMIF(#REF!,CF$1,#REF!)+SUMIF(#REF!,CF$1,#REF!)+SUMIF(#REF!,CF$1,#REF!)+SUMIF(#REF!,CF$1,#REF!)+SUMIF(#REF!,CF$1,#REF!)+SUMIF(#REF!,CF$1,#REF!) -> #REF! | ... CY48: =SUMIF(#REF!,CY$1,#REF!)+SUMIF(#REF!,CY$1,#REF!)+SUMIF(#REF!,CY$1,#REF!)+SUMIF(#REF!,CY$1,#REF!)+SUMIF(#REF!,CY$1,#REF!)+SUMIF(#REF!,CY$1,#REF!)+SUMIF(#REF!,CY$1,#REF!)+SUMIF(#REF!,CY$1,#REF!)+SUMIF(#REF!,CY$1,#REF!)+SUMIF(#REF!,CY$1,#REF!)+SUMIF(#REF!,CY$1,#REF!) -> #REF! | DC48: =C48&E48 | DD48: =IF($DC48="",0,IF(COUNTIF($DC$2:$DC47,$DC48)=0,1,0)) -> 0
A49: 48 | O49: =IF($L49="","",($AP49-$L49)/365) | P49: =IF(B49="","",IF($B49="MR","H","F")) | AD49: =IF($AC49="","",IF($AC49="À l'étranger","À l'étranger",IF($AC49="N. VI et Vbis (sans diplôme validé)",2,IF($AC49="N. V (CAP / BEP)",3,IF($AC49="N. IV (bac)",4,IF($AC49="N. III (bac + 2)",5,IF($AC49="N. II (bac + 4 et bac +3)",6,"7/8"))))))) | AT49: =SUM(AV49:BH49) -> 0 | BI49: =SUM(BL49:BX49)+CY49 -> #REF! | BJ49: =#REF! -> #REF! | BK49: =#REF! -> #REF! | BL49: =BY49+CL49 -> #REF! | BM49: =BZ49+CM49 -> #REF! | BN49: =CA49+CN49 -> #REF! | BO49: =CB49+CO49 -> #REF! | BP49: =CC49+CP49 -> #REF! | BQ49: =CD49+CQ49 -> #REF! | BR49: =CE49+CR49 -> #REF! | BS49: =CF49+CS49 -> #REF! | ... BX49: =CK49+CX49 -> #REF! | BY49: =SUMIF(#REF!,BY$1,#REF!)+SUMIF(#REF!,BY$1,#REF!)+SUMIF(#REF!,BY$1,#REF!)+SUMIF(#REF!,BY$1,#REF!)+SUMIF(#REF!,BY$1,#REF!)+SUMIF(#REF!,BY$1,#REF!)+SUMIF(#REF!,BY$1,#REF!)+SUMIF(#REF!,BY$1,#REF!)+SUMIF(#REF!,BY$1,#REF!)+SUMIF(#REF!,BY$1,#REF!)+SUMIF(#REF!,BY$1,#REF!) -> #REF! | BZ49: =SUMIF(#REF!,BZ$1,#REF!)+SUMIF(#REF!,BZ$1,#REF!)+SUMIF(#REF!,BZ$1,#REF!)+SUMIF(#REF!,BZ$1,#REF!)+SUMIF(#REF!,BZ$1,#REF!)+SUMIF(#REF!,BZ$1,#REF!)+SUMIF(#REF!,BZ$1,#REF!)+SUMIF(#REF!,BZ$1,#REF!)+SUMIF(#REF!,BZ$1,#REF!)+SUMIF(#REF!,BZ$1,#REF!)+SUMIF(#REF!,BZ$1,#REF!) -> #REF! | CA49: =SUMIF(#REF!,CA$1,#REF!)+SUMIF(#REF!,CA$1,#REF!)+SUMIF(#REF!,CA$1,#REF!)+SUMIF(#REF!,CA$1,#REF!)+SUMIF(#REF!,CA$1,#REF!)+SUMIF(#REF!,CA$1,#REF!)+SUMIF(#REF!,CA$1,#REF!)+SUMIF(#REF!,CA$1,#REF!)+SUMIF(#REF!,CA$1,#REF!)+SUMIF(#REF!,CA$1,#REF!)+SUMIF(#REF!,CA$1,#REF!) -> #REF! | CB49: =SUMIF(#REF!,CB$1,#REF!)+SUMIF(#REF!,CB$1,#REF!)+SUMIF(#REF!,CB$1,#REF!)+SUMIF(#REF!,CB$1,#REF!)+SUMIF(#REF!,CB$1,#REF!)+SUMIF(#REF!,CB$1,#REF!)+SUMIF(#REF!,CB$1,#REF!)+SUMIF(#REF!,CB$1,#REF!)+SUMIF(#REF!,CB$1,#REF!)+SUMIF(#REF!,CB$1,#REF!)+SUMIF(#REF!,CB$1,#REF!) -> #REF! | CC49: =SUMIF(#REF!,CC$1,#REF!)+SUMIF(#REF!,CC$1,#REF!)+SUMIF(#REF!,CC$1,#REF!)+SUMIF(#REF!,CC$1,#REF!)+SUMIF(#REF!,CC$1,#REF!)+SUMIF(#REF!,CC$1,#REF!)+SUMIF(#REF!,CC$1,#REF!)+SUMIF(#REF!,CC$1,#REF!)+SUMIF(#REF!,CC$1,#REF!)+SUMIF(#REF!,CC$1,#REF!)+SUMIF(#REF!,CC$1,#REF!) -> #REF! | CD49: =SUMIF(#REF!,CD$1,#REF!)+SUMIF(#REF!,CD$1,#REF!)+SUMIF(#REF!,CD$1,#REF!)+SUMIF(#REF!,CD$1,#REF!)+SUMIF(#REF!,CD$1,#REF!)+SUMIF(#REF!,CD$1,#REF!)+SUMIF(#REF!,CD$1,#REF!)+SUMIF(#REF!,CD$1,#REF!)+SUMIF(#REF!,CD$1,#REF!)+SUMIF(#REF!,CD$1,#REF!)+SUMIF(#REF!,CD$1,#REF!) -> #REF! | CE49: =SUMIF(#REF!,CE$1,#REF!)+SUMIF(#REF!,CE$1,#REF!)+SUMIF(#REF!,CE$1,#REF!)+SUMIF(#REF!,CE$1,#REF!)+SUMIF(#REF!,CE$1,#REF!)+SUMIF(#REF!,CE$1,#REF!)+SUMIF(#REF!,CE$1,#REF!)+SUMIF(#REF!,CE$1,#REF!)+SUMIF(#REF!,CE$1,#REF!)+SUMIF(#REF!,CE$1,#REF!)+SUMIF(#REF!,CE$1,#REF!) -> #REF! | CF49: =SUMIF(#REF!,CF$1,#REF!)+SUMIF(#REF!,CF$1,#REF!)+SUMIF(#REF!,CF$1,#REF!)+SUMIF(#REF!,CF$1,#REF!)+SUMIF(#REF!,CF$1,#REF!)+SUMIF(#REF!,CF$1,#REF!)+SUMIF(#REF!,CF$1,#REF!)+SUMIF(#REF!,CF$1,#REF!)+SUMIF(#REF!,CF$1,#REF!)+SUMIF(#REF!,CF$1,#REF!)+SUMIF(#REF!,CF$1,#REF!) -> #REF! | ... CY49: =SUMIF(#REF!,CY$1,#REF!)+SUMIF(#REF!,CY$1,#REF!)+SUMIF(#REF!,CY$1,#REF!)+SUMIF(#REF!,CY$1,#REF!)+SUMIF(#REF!,CY$1,#REF!)+SUMIF(#REF!,CY$1,#REF!)+SUMIF(#REF!,CY$1,#REF!)+SUMIF(#REF!,CY$1,#REF!)+SUMIF(#REF!,CY$1,#REF!)+SUMIF(#REF!,CY$1,#REF!)+SUMIF(#REF!,CY$1,#REF!) -> #REF! | DC49: =C49&E49 | DD49: =IF($DC49="",0,IF(COUNTIF($DC$2:$DC48,$DC49)=0,1,0)) -> 0
A50: 49 | O50: =IF($L50="","",($AP50-$L50)/365) | P50: =IF(B50="","",IF($B50="MR","H","F")) | AD50: =IF($AC50="","",IF($AC50="À l'étranger","À l'étranger",IF($AC50="N. VI et Vbis (sans diplôme validé)",2,IF($AC50="N. V (CAP / BEP)",3,IF($AC50="N. IV (bac)",4,IF($AC50="N. III (bac + 2)",5,IF($AC50="N. II (bac + 4 et bac +3)",6,"7/8"))))))) | AT50: =SUM(AV50:BH50) -> 0 | BI50: =SUM(BL50:BX50)+CY50 -> #REF! | BJ50: =#REF! -> #REF! | BK50: =#REF! -> #REF! | BL50: =BY50+CL50 -> #REF! | BM50: =BZ50+CM50 -> #REF! | BN50: =CA50+CN50 -> #REF! | BO50: =CB50+CO50 -> #REF! | BP50: =CC50+CP50 -> #REF! | BQ50: =CD50+CQ50 -> #REF! | BR50: =CE50+CR50 -> #REF! | BS50: =CF50+CS50 -> #REF! | ... BX50: =CK50+CX50 -> #REF! | BY50: =SUMIF(#REF!,BY$1,#REF!)+SUMIF(#REF!,BY$1,#REF!)+SUMIF(#REF!,BY$1,#REF!)+SUMIF(#REF!,BY$1,#REF!)+SUMIF(#REF!,BY$1,#REF!)+SUMIF(#REF!,BY$1,#REF!)+SUMIF(#REF!,BY$1,#REF!)+SUMIF(#REF!,BY$1,#REF!)+SUMIF(#REF!,BY$1,#REF!)+SUMIF(#REF!,BY$1,#REF!)+SUMIF(#REF!,BY$1,#REF!) -> #REF! | BZ50: =SUMIF(#REF!,BZ$1,#REF!)+SUMIF(#REF!,BZ$1,#REF!)+SUMIF(#REF!,BZ$1,#REF!)+SUMIF(#REF!,BZ$1,#REF!)+SUMIF(#REF!,BZ$1,#REF!)+SUMIF(#REF!,BZ$1,#REF!)+SUMIF(#REF!,BZ$1,#REF!)+SUMIF(#REF!,BZ$1,#REF!)+SUMIF(#REF!,BZ$1,#REF!)+SUMIF(#REF!,BZ$1,#REF!)+SUMIF(#REF!,BZ$1,#REF!) -> #REF! | CA50: =SUMIF(#REF!,CA$1,#REF!)+SUMIF(#REF!,CA$1,#REF!)+SUMIF(#REF!,CA$1,#REF!)+SUMIF(#REF!,CA$1,#REF!)+SUMIF(#REF!,CA$1,#REF!)+SUMIF(#REF!,CA$1,#REF!)+SUMIF(#REF!,CA$1,#REF!)+SUMIF(#REF!,CA$1,#REF!)+SUMIF(#REF!,CA$1,#REF!)+SUMIF(#REF!,CA$1,#REF!)+SUMIF(#REF!,CA$1,#REF!) -> #REF! | CB50: =SUMIF(#REF!,CB$1,#REF!)+SUMIF(#REF!,CB$1,#REF!)+SUMIF(#REF!,CB$1,#REF!)+SUMIF(#REF!,CB$1,#REF!)+SUMIF(#REF!,CB$1,#REF!)+SUMIF(#REF!,CB$1,#REF!)+SUMIF(#REF!,CB$1,#REF!)+SUMIF(#REF!,CB$1,#REF!)+SUMIF(#REF!,CB$1,#REF!)+SUMIF(#REF!,CB$1,#REF!)+SUMIF(#REF!,CB$1,#REF!) -> #REF! | CC50: =SUMIF(#REF!,CC$1,#REF!)+SUMIF(#REF!,CC$1,#REF!)+SUMIF(#REF!,CC$1,#REF!)+SUMIF(#REF!,CC$1,#REF!)+SUMIF(#REF!,CC$1,#REF!)+SUMIF(#REF!,CC$1,#REF!)+SUMIF(#REF!,CC$1,#REF!)+SUMIF(#REF!,CC$1,#REF!)+SUMIF(#REF!,CC$1,#REF!)+SUMIF(#REF!,CC$1,#REF!)+SUMIF(#REF!,CC$1,#REF!) -> #REF! | CD50: =SUMIF(#REF!,CD$1,#REF!)+SUMIF(#REF!,CD$1,#REF!)+SUMIF(#REF!,CD$1,#REF!)+SUMIF(#REF!,CD$1,#REF!)+SUMIF(#REF!,CD$1,#REF!)+SUMIF(#REF!,CD$1,#REF!)+SUMIF(#REF!,CD$1,#REF!)+SUMIF(#REF!,CD$1,#REF!)+SUMIF(#REF!,CD$1,#REF!)+SUMIF(#REF!,CD$1,#REF!)+SUMIF(#REF!,CD$1,#REF!) -> #REF! | CE50: =SUMIF(#REF!,CE$1,#REF!)+SUMIF(#REF!,CE$1,#REF!)+SUMIF(#REF!,CE$1,#REF!)+SUMIF(#REF!,CE$1,#REF!)+SUMIF(#REF!,CE$1,#REF!)+SUMIF(#REF!,CE$1,#REF!)+SUMIF(#REF!,CE$1,#REF!)+SUMIF(#REF!,CE$1,#REF!)+SUMIF(#REF!,CE$1,#REF!)+SUMIF(#REF!,CE$1,#REF!)+SUMIF(#REF!,CE$1,#REF!) -> #REF! | CF50: =SUMIF(#REF!,CF$1,#REF!)+SUMIF(#REF!,CF$1,#REF!)+SUMIF(#REF!,CF$1,#REF!)+SUMIF(#REF!,CF$1,#REF!)+SUMIF(#REF!,CF$1,#REF!)+SUMIF(#REF!,CF$1,#REF!)+SUMIF(#REF!,CF$1,#REF!)+SUMIF(#REF!,CF$1,#REF!)+SUMIF(#REF!,CF$1,#REF!)+SUMIF(#REF!,CF$1,#REF!)+SUMIF(#REF!,CF$1,#REF!) -> #REF! | ... CY50: =SUMIF(#REF!,CY$1,#REF!)+SUMIF(#REF!,CY$1,#REF!)+SUMIF(#REF!,CY$1,#REF!)+SUMIF(#REF!,CY$1,#REF!)+SUMIF(#REF!,CY$1,#REF!)+SUMIF(#REF!,CY$1,#REF!)+SUMIF(#REF!,CY$1,#REF!)+SUMIF(#REF!,CY$1,#REF!)+SUMIF(#REF!,CY$1,#REF!)+SUMIF(#REF!,CY$1,#REF!)+SUMIF(#REF!,CY$1,#REF!) -> #REF! | DC50: =C50&E50 | DD50: =IF($DC50="",0,IF(COUNTIF($DC$2:$DC49,$DC50)=0,1,0)) -> 0
A51: 50 | O51: =IF($L51="","",($AP51-$L51)/365) | P51: =IF(B51="","",IF($B51="MR","H","F")) | AD51: =IF($AC51="","",IF($AC51="À l'étranger","À l'étranger",IF($AC51="N. VI et Vbis (sans diplôme validé)",2,IF($AC51="N. V (CAP / BEP)",3,IF($AC51="N. IV (bac)",4,IF($AC51="N. III (bac + 2)",5,IF($AC51="N. II (bac + 4 et bac +3)",6,"7/8"))))))) | AT51: =SUM(AV51:BH51) -> 0 | BI51: =SUM(BL51:BX51)+CY51 -> #REF! | BJ51: =#REF! -> #REF! | BK51: =#REF! -> #REF! | BL51: =BY51+CL51 -> #REF! | BM51: =BZ51+CM51 -> #REF! | BN51: =CA51+CN51 -> #REF! | BO51: =CB51+CO51 -> #REF! | BP51: =CC51+CP51 -> #REF! | BQ51: =CD51+CQ51 -> #REF! | BR51: =CE51+CR51 -> #REF! | BS51: =CF51+CS51 -> #REF! | ... BX51: =CK51+CX51 -> #REF! | BY51: =SUMIF(#REF!,BY$1,#REF!)+SUMIF(#REF!,BY$1,#REF!)+SUMIF(#REF!,BY$1,#REF!)+SUMIF(#REF!,BY$1,#REF!)+SUMIF(#REF!,BY$1,#REF!)+SUMIF(#REF!,BY$1,#REF!)+SUMIF(#REF!,BY$1,#REF!)+SUMIF(#REF!,BY$1,#REF!)+SUMIF(#REF!,BY$1,#REF!)+SUMIF(#REF!,BY$1,#REF!)+SUMIF(#REF!,BY$1,#REF!) -> #REF! | BZ51: =SUMIF(#REF!,BZ$1,#REF!)+SUMIF(#REF!,BZ$1,#REF!)+SUMIF(#REF!,BZ$1,#REF!)+SUMIF(#REF!,BZ$1,#REF!)+SUMIF(#REF!,BZ$1,#REF!)+SUMIF(#REF!,BZ$1,#REF!)+SUMIF(#REF!,BZ$1,#REF!)+SUMIF(#REF!,BZ$1,#REF!)+SUMIF(#REF!,BZ$1,#REF!)+SUMIF(#REF!,BZ$1,#REF!)+SUMIF(#REF!,BZ$1,#REF!) -> #REF! | CA51: =SUMIF(#REF!,CA$1,#REF!)+SUMIF(#REF!,CA$1,#REF!)+SUMIF(#REF!,CA$1,#REF!)+SUMIF(#REF!,CA$1,#REF!)+SUMIF(#REF!,CA$1,#REF!)+SUMIF(#REF!,CA$1,#REF!)+SUMIF(#REF!,CA$1,#REF!)+SUMIF(#REF!,CA$1,#REF!)+SUMIF(#REF!,CA$1,#REF!)+SUMIF(#REF!,CA$1,#REF!)+SUMIF(#REF!,CA$1,#REF!) -> #REF! | CB51: =SUMIF(#REF!,CB$1,#REF!)+SUMIF(#REF!,CB$1,#REF!)+SUMIF(#REF!,CB$1,#REF!)+SUMIF(#REF!,CB$1,#REF!)+SUMIF(#REF!,CB$1,#REF!)+SUMIF(#REF!,CB$1,#REF!)+SUMIF(#REF!,CB$1,#REF!)+SUMIF(#REF!,CB$1,#REF!)+SUMIF(#REF!,CB$1,#REF!)+SUMIF(#REF!,CB$1,#REF!)+SUMIF(#REF!,CB$1,#REF!) -> #REF! | CC51: =SUMIF(#REF!,CC$1,#REF!)+SUMIF(#REF!,CC$1,#REF!)+SUMIF(#REF!,CC$1,#REF!)+SUMIF(#REF!,CC$1,#REF!)+SUMIF(#REF!,CC$1,#REF!)+SUMIF(#REF!,CC$1,#REF!)+SUMIF(#REF!,CC$1,#REF!)+SUMIF(#REF!,CC$1,#REF!)+SUMIF(#REF!,CC$1,#REF!)+SUMIF(#REF!,CC$1,#REF!)+SUMIF(#REF!,CC$1,#REF!) -> #REF! | CD51: =SUMIF(#REF!,CD$1,#REF!)+SUMIF(#REF!,CD$1,#REF!)+SUMIF(#REF!,CD$1,#REF!)+SUMIF(#REF!,CD$1,#REF!)+SUMIF(#REF!,CD$1,#REF!)+SUMIF(#REF!,CD$1,#REF!)+SUMIF(#REF!,CD$1,#REF!)+SUMIF(#REF!,CD$1,#REF!)+SUMIF(#REF!,CD$1,#REF!)+SUMIF(#REF!,CD$1,#REF!)+SUMIF(#REF!,CD$1,#REF!) -> #REF! | CE51: =SUMIF(#REF!,CE$1,#REF!)+SUMIF(#REF!,CE$1,#REF!)+SUMIF(#REF!,CE$1,#REF!)+SUMIF(#REF!,CE$1,#REF!)+SUMIF(#REF!,CE$1,#REF!)+SUMIF(#REF!,CE$1,#REF!)+SUMIF(#REF!,CE$1,#REF!)+SUMIF(#REF!,CE$1,#REF!)+SUMIF(#REF!,CE$1,#REF!)+SUMIF(#REF!,CE$1,#REF!)+SUMIF(#REF!,CE$1,#REF!) -> #REF! | CF51: =SUMIF(#REF!,CF$1,#REF!)+SUMIF(#REF!,CF$1,#REF!)+SUMIF(#REF!,CF$1,#REF!)+SUMIF(#REF!,CF$1,#REF!)+SUMIF(#REF!,CF$1,#REF!)+SUMIF(#REF!,CF$1,#REF!)+SUMIF(#REF!,CF$1,#REF!)+SUMIF(#REF!,CF$1,#REF!)+SUMIF(#REF!,CF$1,#REF!)+SUMIF(#REF!,CF$1,#REF!)+SUMIF(#REF!,CF$1,#REF!) -> #REF! | ... CY51: =SUMIF(#REF!,CY$1,#REF!)+SUMIF(#REF!,CY$1,#REF!)+SUMIF(#REF!,CY$1,#REF!)+SUMIF(#REF!,CY$1,#REF!)+SUMIF(#REF!,CY$1,#REF!)+SUMIF(#REF!,CY$1,#REF!)+SUMIF(#REF!,CY$1,#REF!)+SUMIF(#REF!,CY$1,#REF!)+SUMIF(#REF!,CY$1,#REF!)+SUMIF(#REF!,CY$1,#REF!)+SUMIF(#REF!,CY$1,#REF!) -> #REF! | DC51: =C51&E51 | DD51: =IF($DC51="",0,IF(COUNTIF($DC$2:$DC50,$DC51)=0,1,0)) -> 0
... A201: 200 | O201: =IF($L201="","",($AP201-$L201)/365) | P201: =IF(B201="","",IF($B201="MR","H","F")) | AD201: =IF($AC201="","",IF($AC201="À l'étranger","À l'étranger",IF($AC201="N. VI et Vbis (sans diplôme validé)",2,IF($AC201="N. V (CAP / BEP)",3,IF($AC201="N. IV (bac)",4,IF($AC201="N. III (bac + 2)",5,IF($AC201="N. II (bac + 4 et bac +3)",6,"7/8"))))))) | AT201: =SUM(AV201:BH201) -> 0 | BI201: =SUM(BL201:BX201)+CY201 -> #REF! | BJ201: =#REF! -> #REF! | BK201: =#REF! -> #REF! | BL201: =BY201+CL201 -> #REF! | BM201: =BZ201+CM201 -> #REF! | BN201: =CA201+CN201 -> #REF! | BO201: =CB201+CO201 -> #REF! | BP201: =CC201+CP201 -> #REF! | BQ201: =CD201+CQ201 -> #REF! | BR201: =CE201+CR201 -> #REF! | BS201: =CF201+CS201 -> #REF! | ... BX201: =CK201+CX201 -> #REF! | BY201: =SUMIF(#REF!,BY$1,#REF!)+SUMIF(#REF!,BY$1,#REF!)+SUMIF(#REF!,BY$1,#REF!)+SUMIF(#REF!,BY$1,#REF!)+SUMIF(#REF!,BY$1,#REF!)+SUMIF(#REF!,BY$1,#REF!)+SUMIF(#REF!,BY$1,#REF!)+SUMIF(#REF!,BY$1,#REF!)+SUMIF(#REF!,BY$1,#REF!)+SUMIF(#REF!,BY$1,#REF!)+SUMIF(#REF!,BY$1,#REF!) -> #REF! | BZ201: =SUMIF(#REF!,BZ$1,#REF!)+SUMIF(#REF!,BZ$1,#REF!)+SUMIF(#REF!,BZ$1,#REF!)+SUMIF(#REF!,BZ$1,#REF!)+SUMIF(#REF!,BZ$1,#REF!)+SUMIF(#REF!,BZ$1,#REF!)+SUMIF(#REF!,BZ$1,#REF!)+SUMIF(#REF!,BZ$1,#REF!)+SUMIF(#REF!,BZ$1,#REF!)+SUMIF(#REF!,BZ$1,#REF!)+SUMIF(#REF!,BZ$1,#REF!) -> #REF! | CA201: =SUMIF(#REF!,CA$1,#REF!)+SUMIF(#REF!,CA$1,#REF!)+SUMIF(#REF!,CA$1,#REF!)+SUMIF(#REF!,CA$1,#REF!)+SUMIF(#REF!,CA$1,#REF!)+SUMIF(#REF!,CA$1,#REF!)+SUMIF(#REF!,CA$1,#REF!)+SUMIF(#REF!,CA$1,#REF!)+SUMIF(#REF!,CA$1,#REF!)+SUMIF(#REF!,CA$1,#REF!)+SUMIF(#REF!,CA$1,#REF!) -> #REF! | CB201: =SUMIF(#REF!,CB$1,#REF!)+SUMIF(#REF!,CB$1,#REF!)+SUMIF(#REF!,CB$1,#REF!)+SUMIF(#REF!,CB$1,#REF!)+SUMIF(#REF!,CB$1,#REF!)+SUMIF(#REF!,CB$1,#REF!)+SUMIF(#REF!,CB$1,#REF!)+SUMIF(#REF!,CB$1,#REF!)+SUMIF(#REF!,CB$1,#REF!)+SUMIF(#REF!,CB$1,#REF!)+SUMIF(#REF!,CB$1,#REF!) -> #REF! | CC201: =SUMIF(#REF!,CC$1,#REF!)+SUMIF(#REF!,CC$1,#REF!)+SUMIF(#REF!,CC$1,#REF!)+SUMIF(#REF!,CC$1,#REF!)+SUMIF(#REF!,CC$1,#REF!)+SUMIF(#REF!,CC$1,#REF!)+SUMIF(#REF!,CC$1,#REF!)+SUMIF(#REF!,CC$1,#REF!)+SUMIF(#REF!,CC$1,#REF!)+SUMIF(#REF!,CC$1,#REF!)+SUMIF(#REF!,CC$1,#REF!) -> #REF! | CD201: =SUMIF(#REF!,CD$1,#REF!)+SUMIF(#REF!,CD$1,#REF!)+SUMIF(#REF!,CD$1,#REF!)+SUMIF(#REF!,CD$1,#REF!)+SUMIF(#REF!,CD$1,#REF!)+SUMIF(#REF!,CD$1,#REF!)+SUMIF(#REF!,CD$1,#REF!)+SUMIF(#REF!,CD$1,#REF!)+SUMIF(#REF!,CD$1,#REF!)+SUMIF(#REF!,CD$1,#REF!)+SUMIF(#REF!,CD$1,#REF!) -> #REF! | CE201: =SUMIF(#REF!,CE$1,#REF!)+SUMIF(#REF!,CE$1,#REF!)+SUMIF(#REF!,CE$1,#REF!)+SUMIF(#REF!,CE$1,#REF!)+SUMIF(#REF!,CE$1,#REF!)+SUMIF(#REF!,CE$1,#REF!)+SUMIF(#REF!,CE$1,#REF!)+SUMIF(#REF!,CE$1,#REF!)+SUMIF(#REF!,CE$1,#REF!)+SUMIF(#REF!,CE$1,#REF!)+SUMIF(#REF!,CE$1,#REF!) -> #REF! | CF201: =SUMIF(#REF!,CF$1,#REF!)+SUMIF(#REF!,CF$1,#REF!)+SUMIF(#REF!,CF$1,#REF!)+SUMIF(#REF!,CF$1,#REF!)+SUMIF(#REF!,CF$1,#REF!)+SUMIF(#REF!,CF$1,#REF!)+SUMIF(#REF!,CF$1,#REF!)+SUMIF(#REF!,CF$1,#REF!)+SUMIF(#REF!,CF$1,#REF!)+SUMIF(#REF!,CF$1,#REF!)+SUMIF(#REF!,CF$1,#REF!) -> #REF! | ... CY201: =SUMIF(#REF!,CY$1,#REF!)+SUMIF(#REF!,CY$1,#REF!)+SUMIF(#REF!,CY$1,#REF!)+SUMIF(#REF!,CY$1,#REF!)+SUMIF(#REF!,CY$1,#REF!)+SUMIF(#REF!,CY$1,#REF!)+SUMIF(#REF!,CY$1,#REF!)+SUMIF(#REF!,CY$1,#REF!)+SUMIF(#REF!,CY$1,#REF!)+SUMIF(#REF!,CY$1,#REF!)+SUMIF(#REF!,CY$1,#REF!) -> #REF! | DC201: =C201&E201 | DD201: =IF($DC201="",0,IF(COUNTIF($DC$2:$DC200,$DC201)=0,1,0)) -> 0
BL202: =SUBTOTAL(109,BL2:BL201) -> #REF! | BM202: =SUBTOTAL(109,BM2:BM201) -> #REF! | BN202: =SUBTOTAL(109,BN2:BN201) -> #REF! | BO202: =SUBTOTAL(109,BO2:BO201) -> #REF! | BP202: =SUBTOTAL(109,BP2:BP201) -> #REF! | BQ202: =SUBTOTAL(109,BQ2:BQ201) -> #REF! | BR202: =SUBTOTAL(109,BR2:BR201) -> #REF! | BS202: =SUBTOTAL(109,BS2:BS201) -> #REF! | ... CX202: =SUBTOTAL(109,CX2:CX201) -> #REF!

Sheet PRESENCES C-E
A1: NOM | B1: Prénom | C1: ENTRÉE | D1: SORTIE PREVUE | E1: SORTIE RÉELLE | F1: C N-1 | G1: E N-1 | H1: 43500 | J1: 43501 | L1: 43502 | N1: 43503 | P1: 43504 | R1: 43505 | T1: 43506 | V1: 43507 | X1: 43508 | Z1: 43509 | AB1: 43510 | AD1: 43511 | AF1: 43512 | AH1: 43513 | AJ1: 43514 | AL1: 43515 | AN1: 43516 | AP1: 43517 | AR1: 43518 | AT1: 43519 | AV1: 43520 | AX1: 43521 | AZ1: 43522 | BB1: 43523 | BD1: 43524 | BF1: Février 2019 | BH1: 43525 | BJ1: 43526 | BL1: 43527 | BN1: 43528 | BP1: 43529 | BR1: 43530 | BT1: 43531 | BV1: 43532 | BX1: 43533 | BZ1: 43534 | CB1: 43535 | CD1: 43536 | CF1: 43537 | CH1: 43538 | CJ1: 43539 | CL1: 43540 | CN1: 43541 | CP1: 43542 | CR1: 43543 | CT1: 43544 | CV1: 43545 | CX1: 43546 | CZ1: 43547 | DB1: 43548 | DD1: 43549 | DF1: 43550 | DH1: 43551 | DJ1: 43552 | DL1: 43553 | DN1: 43554 | DP1: 43555 | DS1: 43556 | DU1: 43557 | DW1: 43558 | DY1: 43559 | EA1: 43560 | EC1: 43561 | EE1: 43562 | EG1: 43563 | EI1: 43564 | EK1: 43565 | EM1: 43566 | EO1: 43567 | EQ1: 43568 | ES1: 43569 | EU1: 43570 | EW1: 43571 | EY1: 43572 | FA1: 43573 | FC1: 43574 | FE1: 43575 | FG1: 43576 | FI1: 43577 | FK1: 43578 | FM1: 43579 | FO1: 43580 | FQ1: 43581 | FS1: 43582 | FU1: 43583 | FW1: 43584 | FY1: 43585 | GB1: 43586 | GD1: 43587 | GF1: 43588 | GH1: 43589 | GJ1: 43590 | GL1: 43591 | GN1: 43592 | GP1: 43593 | GR1: 43594 | GT1: 43595 | GV1: 43596 | GX1: 43597 | GZ1: 43598 | HB1: 43599 | HD1: 43600 | HF1: 43601 | HH1: 43602 | HJ1: 43603 | HL1: 43604 | HN1: 43605 | HP1: 43606 | HR1: 43607 | HT1: 43608 | HV1: 43609 | HX1: 43610 | HZ1: 43611 | IB1: 43612 | ID1: 43613 | IF1: 43614 | IH1: 43615 | IJ1: 43616 | IM1: 43617 | IO1: 43618 | IQ1: 43619 | IS1: 43620 | IU1: 43621 | IW1: 43622 | IY1: 43623 | JA1: 43624 | JC1: 43625 | JE1: 43626 | JG1: 43627 | JI1: 43628 | JK1: 43629 | JM1: 43630 | JO1: 43631 | JQ1: 43632 | JS1: 43633 | JU1: 43634 | JW1: 43635 | JY1: 43636 | KA1: 43637 | KC1: 43638 | KE1: 43639 | KG1: 43640 | KI1: 43641 | KK1: 43642 | KM1: 43643 | KO1: 43644 | KQ1: 43645 | KS1: 43646 | KV1: 43647 | KX1: 43648 | KZ1: 43649 | LB1: 43650 | LD1: 43651 | LF1: 43652 | LH1: 43653 | LJ1: 43654 | LL1: 43655 | LN1: 43656 | LP1: 43657 | LR1: 43658 | LT1: 43659 | LV1: 43660 | LX1: 43661 | LZ1: 43662 | MB1: 43663 | MD1: 43664 | MF1: 43665 | MH1: 43666 | MJ1: 43667 | ML1: 43668 | MN1: 43669 | MP1: 43670 | MR1: 43671 | MT1: 43672 | MV1: 43673 | MX1: 43674 | MZ1: 43675 | NB1: 43676 | ND1: 43677 | NG1: 43678 | NI1: 43679 | NK1: 43680 | NM1: 43681 | NO1: 43682 | NQ1: 43683 | NS1: 43684 | NU1: 43685 | NW1: 43686 | NY1: 43687 | OA1: 43688 | OC1: 43689 | OE1: 43690 | OG1: 43691 | OI1: 43692 | OK1: 43693 | OM1: 43694 | OO1: 43695 | OQ1: 43696 | OS1: 43697 | OU1: 43698 | OW1: 43699 | OY1: 43700 | PA1: 43701 | PC1: 43702 | PE1: 43703 | PG1: 43704 | PI1: 43705 | PK1: 43706 | PM1: 43707 | PO1: 43708 | PR1: 43709 | PT1: 43710 | PV1: 43711 | PX1: 43712 | PZ1: 43713 | QB1: 43714 | QD1: 43715 | QF1: 43716 | QH1: 43717 | QJ1: 43718 | QL1: 43719 | QN1: 43720 | QP1: 43721 | QR1: 43722 | QT1: 43723 | QV1: 43724 | QX1: 43725 | QZ1: 43726 | RB1: 43727 | RD1: 43728 | RF1: 43729 | RH1: 43730 | RJ1: 43731 | RL1: 43732 | RN1: 43733 | RP1: 43734 | RR1: 43735 | RT1: 43736 | RV1: 43737 | RX1: 43738 | SA1: 43739 | SC1: 43740 | SE1: 43741 | SG1: 43742 | SI1: 43743 | SK1: 43744 | SM1: 43745 | SO1: 43746 | SQ1: 43747 | SS1: 43748 | SU1: 43749 | SW1: 43750 | SY1: 43751 | TA1: 43752 | TC1: 43753 | TE1: 43754 | TG1: 43755 | TI1: 43756 | TK1: 43757 | TM1: 43758 | TO1: 43759 | TQ1: 43760 | TS1: 43761 | TU1: 43762 | TW1: 43763 | TY1: 43764 | UA1: 43765 | UC1: 43766 | UE1: 43767 | UG1: 43768 | UI1: 43769 | UL1: 43770 | UN1: 43771 | UP1: 43772 | UR1: 43773 | UT1: 43774 | UV1: 43775 | UX1: 43776 | UZ1: 43777 | VB1: 43778 | VD1: 43779 | VF1: 43780 | VH1: 43781 | VJ1: 43782 | VL1: 43783 | VN1: 43784 | VP1: 43785 | VR1: 43786 | VT1: 43787 | VV1: 43788 | VX1: 43789 | VZ1: 43790 | WB1: 43791 | WD1: 43792 | WF1: 43793 | WH1: 43794 | WJ1: 43795 | WL1: 43796 | WN1: 43797 | WP1: 43798 | WR1: 43799 | WU1: 43800 | WW1: 43801 | WY1: 43802 | XA1: 43803 | XC1: 43804 | XE1: 43805 | XG1: 43806 | XI1: 43807 | XK1: 43808 | XM1: 43809 | XO1: 43810 | XQ1: 43811 | XS1: 43812 | XU1: 43813 | XW1: 43814 | XY1: 43815 | YA1: 43816 | YC1: 43817 | YE1: 43818 | YG1: 43819 | YI1: 43820 | YK1: 43821 | YM1: 43822 | YO1: 43823 | YQ1: 43824 | YS1: 43825 | YU1: 43826 | YW1: 43827 | YY1: 43828 | ZA1: 43829 | ZC1: 43830
A2: ='PPa2019'!D2 -> mmm | B2: ='PPa2019'!E2 -> mm | H2: 7 | J2: 3 | N2: 2 | P2: 1 | BF2: =$H2+$J2+$L2+$N2+$P2+$V2+$X2+$Z2+$AB2+$AD2+$AJ2+$AL2+$AN2+$AP2+$AR2+$AX2+$AZ2+$BB2+$BD2 -> 13 | BG2: =$I2+$K2+$M2+$O2+$Q2+$W2+$Y2+$AA2+$AC2+$AE2+$AK2+$AM2+$AO2+$AQ2+$AS2+$AY2+$BA2+$BC2+$BE2 -> 0
A3: ='PPa2019'!D3 -> 0 | B3: ='PPa2019'!E3 -> 0 | I3: 7 | K3: 7 | M3: 7 | O3: 7 | Q3: 7 | W3: 7 | Y3: 7 | AA3: 7 | AC3: 7 | AE3: 7 | AJ3: 3 | AL3: 3 | AN3: 7 | AP3: 3 | AR3: 3 | AX3: 1 | AZ3: 7 | BB3: 7 | BD3: 1 | BF3: =$H3+$J3+$L3+$N3+$P3+$V3+$X3+$Z3+$AB3+$AD3+$AJ3+$AL3+$AN3+$AP3+$AR3+$AX3+$AZ3+$BB3+$BD3 -> 35 | BG3: =$I3+$K3+$M3+$O3+$Q3+$W3+$Y3+$AA3+$AC3+$AE3+$AK3+$AM3+$AO3+$AQ3+$AS3+$AY3+$BA3+$BC3+$BE3 -> 70
A4: ='PPa2019'!D4 -> 0 | B4: ='PPa2019'!E4 -> 0 | BF4: =$H4+$J4+$L4+$N4+$P4+$V4+$X4+$Z4+$AB4+$AD4+$AJ4+$AL4+$AN4+$AP4+$AR4+$AX4+$AZ4+$BB4+$BD4 -> 0 | BG4: =$I4+$K4+$M4+$O4+$Q4+$W4+$Y4+$AA4+$AC4+$AE4+$AK4+$AM4+$AO4+$AQ4+$AS4+$AY4+$BA4+$BC4+$BE4 -> 0
A5: ='PPa2019'!D5 -> 0 | B5: ='PPa2019'!E5 -> 0 | BF5: =$H5+$J5+$L5+$N5+$P5+$V5+$X5+$Z5+$AB5+$AD5+$AJ5+$AL5+$AN5+$AP5+$AR5+$AX5+$AZ5+$BB5+$BD5 -> 0 | BG5: =$I5+$K5+$M5+$O5+$Q5+$W5+$Y5+$AA5+$AC5+$AE5+$AK5+$AM5+$AO5+$AQ5+$AS5+$AY5+$BA5+$BC5+$BE5 -> 0
A6: ='PPa2019'!D6 -> 0 | B6: ='PPa2019'!E6 -> 0 | BF6: =$H6+$J6+$L6+$N6+$P6+$V6+$X6+$Z6+$AB6+$AD6+$AJ6+$AL6+$AN6+$AP6+$AR6+$AX6+$AZ6+$BB6+$BD6 -> 0 | BG6: =$I6+$K6+$M6+$O6+$Q6+$W6+$Y6+$AA6+$AC6+$AE6+$AK6+$AM6+$AO6+$AQ6+$AS6+$AY6+$BA6+$BC6+$BE6 -> 0
A7: ='PPa2019'!D7 -> 0 | B7: ='PPa2019'!E7 -> 0 | BF7: =$H7+$J7+$L7+$N7+$P7+$V7+$X7+$Z7+$AB7+$AD7+$AJ7+$AL7+$AN7+$AP7+$AR7+$AX7+$AZ7+$BB7+$BD7 -> 0 | BG7: =$I7+$K7+$M7+$O7+$Q7+$W7+$Y7+$AA7+$AC7+$AE7+$AK7+$AM7+$AO7+$AQ7+$AS7+$AY7+$BA7+$BC7+$BE7 -> 0
A8: ='PPa2019'!D8 -> 0 | B8: ='PPa2019'!E8 -> 0 | BF8: =$H8+$J8+$L8+$N8+$P8+$V8+$X8+$Z8+$AB8+$AD8+$AJ8+$AL8+$AN8+$AP8+$AR8+$AX8+$AZ8+$BB8+$BD8 -> 0 | BG8: =$I8+$K8+$M8+$O8+$Q8+$W8+$Y8+$AA8+$AC8+$AE8+$AK8+$AM8+$AO8+$AQ8+$AS8+$AY8+$BA8+$BC8+$BE8 -> 0
A9: ='PPa2019'!D9 -> 0 | B9: ='PPa2019'!E9 -> 0 | BF9: =$H9+$J9+$L9+$N9+$P9+$V9+$X9+$Z9+$AB9+$AD9+$AJ9+$AL9+$AN9+$AP9+$AR9+$AX9+$AZ9+$BB9+$BD9 -> 0 | BG9: =$I9+$K9+$M9+$O9+$Q9+$W9+$Y9+$AA9+$AC9+$AE9+$AK9+$AM9+$AO9+$AQ9+$AS9+$AY9+$BA9+$BC9+$BE9 -> 0
A10: ='PPa2019'!D10 -> 0 | B10: ='PPa2019'!E10 -> 0 | BF10: =$H10+$J10+$L10+$N10+$P10+$V10+$X10+$Z10+$AB10+$AD10+$AJ10+$AL10+$AN10+$AP10+$AR10+$AX10+$AZ10+$BB10+$BD10 -> 0 | BG10: =$I10+$K10+$M10+$O10+$Q10+$W10+$Y10+$AA10+$AC10+$AE10+$AK10+$AM10+$AO10+$AQ10+$AS10+$AY10+$BA10+$BC10+$BE10 -> 0
A11: ='PPa2019'!D11 -> 0 | B11: ='PPa2019'!E11 -> 0 | BF11: =$H11+$J11+$L11+$N11+$P11+$V11+$X11+$Z11+$AB11+$AD11+$AJ11+$AL11+$AN11+$AP11+$AR11+$AX11+$AZ11+$BB11+$BD11 -> 0 | BG11: =$I11+$K11+$M11+$O11+$Q11+$W11+$Y11+$AA11+$AC11+$AE11+$AK11+$AM11+$AO11+$AQ11+$AS11+$AY11+$BA11+$BC11+$BE11 -> 0
A12: ='PPa2019'!D12 -> 0 | B12: ='PPa2019'!E12 -> 0 | BF12: =$H12+$J12+$L12+$N12+$P12+$V12+$X12+$Z12+$AB12+$AD12+$AJ12+$AL12+$AN12+$AP12+$AR12+$AX12+$AZ12+$BB12+$BD12 -> 0 | BG12: =$I12+$K12+$M12+$O12+$Q12+$W12+$Y12+$AA12+$AC12+$AE12+$AK12+$AM12+$AO12+$AQ12+$AS12+$AY12+$BA12+$BC12+$BE12 -> 0
A13: ='PPa2019'!D13 -> 0 | B13: ='PPa2019'!E13 -> 0 | BF13: =$H13+$J13+$L13+$N13+$P13+$V13+$X13+$Z13+$AB13+$AD13+$AJ13+$AL13+$AN13+$AP13+$AR13+$AX13+$AZ13+$BB13+$BD13 -> 0 | BG13: =$I13+$K13+$M13+$O13+$Q13+$W13+$Y13+$AA13+$AC13+$AE13+$AK13+$AM13+$AO13+$AQ13+$AS13+$AY13+$BA13+$BC13+$BE13 -> 0
A14: ='PPa2019'!D14 -> 0 | B14: ='PPa2019'!E14 -> 0 | BF14: =$H14+$J14+$L14+$N14+$P14+$V14+$X14+$Z14+$AB14+$AD14+$AJ14+$AL14+$AN14+$AP14+$AR14+$AX14+$AZ14+$BB14+$BD14 -> 0 | BG14: =$I14+$K14+$M14+$O14+$Q14+$W14+$Y14+$AA14+$AC14+$AE14+$AK14+$AM14+$AO14+$AQ14+$AS14+$AY14+$BA14+$BC14+$BE14 -> 0
A15: ='PPa2019'!D15 -> 0 | B15: ='PPa2019'!E15 -> 0 | BF15: =$H15+$J15+$L15+$N15+$P15+$V15+$X15+$Z15+$AB15+$AD15+$AJ15+$AL15+$AN15+$AP15+$AR15+$AX15+$AZ15+$BB15+$BD15 -> 0 | BG15: =$I15+$K15+$M15+$O15+$Q15+$W15+$Y15+$AA15+$AC15+$AE15+$AK15+$AM15+$AO15+$AQ15+$AS15+$AY15+$BA15+$BC15+$BE15 -> 0
... A18: ='PPa2019'!D18 -> 0 | B18: ='PPa2019'!E18 -> 0 | BF18: =$H18+$J18+$L18+$N18+$P18+$V18+$X18+$Z18+$AB18+$AD18+$AJ18+$AL18+$AN18+$AP18+$AR18+$AX18+$AZ18+$BB18+$BD18 -> 0 | BG18: =$I18+$K18+$M18+$O18+$Q18+$W18+$Y18+$AA18+$AC18+$AE18+$AK18+$AM18+$AO18+$AQ18+$AS18+$AY18+$BA18+$BC18+$BE18 -> 0
A19: ='PPa2019'!#REF! -> #REF! | B19: ='PPa2019'!#REF! -> #REF! | BF19: =$H19+$J19+$L19+$N19+$P19+$V19+$X19+$Z19+$AB19+$AD19+$AJ19+$AL19+$AN19+$AP19+$AR19+$AX19+$AZ19+$BB19+$BD19 -> 0 | BG19: =$I19+$K19+$M19+$O19+$Q19+$W19+$Y19+$AA19+$AC19+$AE19+$AK19+$AM19+$AO19+$AQ19+$AS19+$AY19+$BA19+$BC19+$BE19 -> 0
A20: ='PPa2019'!E20 -> 0 | B20: ='PPa2019'!#REF! -> #REF! | BF20: =$H20+$J20+$L20+$N20+$P20+$V20+$X20+$Z20+$AB20+$AD20+$AJ20+$AL20+$AN20+$AP20+$AR20+$AX20+$AZ20+$BB20+$BD20 -> 0 | BG20: =$I20+$K20+$M20+$O20+$Q20+$W20+$Y20+$AA20+$AC20+$AE20+$AK20+$AM20+$AO20+$AQ20+$AS20+$AY20+$BA20+$BC20+$BE20 -> 0
A21: ='PPa2019'!E19 -> 0 | B21: ='PPa2019'!#REF! -> #REF! | BF21: =$H21+$J21+$L21+$N21+$P21+$V21+$X21+$Z21+$AB21+$AD21+$AJ21+$AL21+$AN21+$AP21+$AR21+$AX21+$AZ21+$BB21+$BD21 -> 0 | BG21: =$I21+$K21+$M21+$O21+$Q21+$W21+$Y21+$AA21+$AC21+$AE21+$AK21+$AM21+$AO21+$AQ21+$AS21+$AY21+$BA21+$BC21+$BE21 -> 0
A22: ='PPa2019'!E22 -> 0 | B22: ='PPa2019'!#REF! -> #REF! | BF22: =$H22+$J22+$L22+$N22+$P22+$V22+$X22+$Z22+$AB22+$AD22+$AJ22+$AL22+$AN22+$AP22+$AR22+$AX22+$AZ22+$BB22+$BD22 -> 0 | BG22: =$I22+$K22+$M22+$O22+$Q22+$W22+$Y22+$AA22+$AC22+$AE22+$AK22+$AM22+$AO22+$AQ22+$AS22+$AY22+$BA22+$BC22+$BE22 -> 0
A23: ='PPa2019'!E23 -> 0 | B23: ='PPa2019'!#REF! -> #REF! | BF23: =$H23+$J23+$L23+$N23+$P23+$V23+$X23+$Z23+$AB23+$AD23+$AJ23+$AL23+$AN23+$AP23+$AR23+$AX23+$AZ23+$BB23+$BD23 -> 0 | BG23: =$I23+$K23+$M23+$O23+$Q23+$W23+$Y23+$AA23+$AC23+$AE23+$AK23+$AM23+$AO23+$AQ23+$AS23+$AY23+$BA23+$BC23+$BE23 -> 0
A24: ='PPa2019'!E24 -> 0 | B24: ='PPa2019'!#REF! -> #REF! | BF24: =$H24+$J24+$L24+$N24+$P24+$V24+$X24+$Z24+$AB24+$AD24+$AJ24+$AL24+$AN24+$AP24+$AR24+$AX24+$AZ24+$BB24+$BD24 -> 0 | BG24: =$I24+$K24+$M24+$O24+$Q24+$W24+$Y24+$AA24+$AC24+$AE24+$AK24+$AM24+$AO24+$AQ24+$AS24+$AY24+$BA24+$BC24+$BE24 -> 0
A25: ='PPa2019'!#REF! -> #REF! | B25: ='PPa2019'!#REF! -> #REF! | BF25: =$H25+$J25+$L25+$N25+$P25+$V25+$X25+$Z25+$AB25+$AD25+$AJ25+$AL25+$AN25+$AP25+$AR25+$AX25+$AZ25+$BB25+$BD25 -> 0 | BG25: =$I25+$K25+$M25+$O25+$Q25+$W25+$Y25+$AA25+$AC25+$AE25+$AK25+$AM25+$AO25+$AQ25+$AS25+$AY25+$BA25+$BC25+$BE25 -> 0
A26: ='PPa2019'!D26 -> 0 | B26: ='PPa2019'!E26 -> 0 | BF26: =$H26+$J26+$L26+$N26+$P26+$V26+$X26+$Z26+$AB26+$AD26+$AJ26+$AL26+$AN26+$AP26+$AR26+$AX26+$AZ26+$BB26+$BD26 -> 0 | BG26: =$I26+$K26+$M26+$O26+$Q26+$W26+$Y26+$AA26+$AC26+$AE26+$AK26+$AM26+$AO26+$AQ26+$AS26+$AY26+$BA26+$BC26+$BE26 -> 0
A27: ='PPa2019'!D27 -> 0 | B27: ='PPa2019'!E27 -> 0 | BF27: =$H27+$J27+$L27+$N27+$P27+$V27+$X27+$Z27+$AB27+$AD27+$AJ27+$AL27+$AN27+$AP27+$AR27+$AX27+$AZ27+$BB27+$BD27 -> 0 | BG27: =$I27+$K27+$M27+$O27+$Q27+$W27+$Y27+$AA27+$AC27+$AE27+$AK27+$AM27+$AO27+$AQ27+$AS27+$AY27+$BA27+$BC27+$BE27 -> 0
A28: ='PPa2019'!D28 -> 0 | B28: ='PPa2019'!E28 -> 0 | BF28: =$H28+$J28+$L28+$N28+$P28+$V28+$X28+$Z28+$AB28+$AD28+$AJ28+$AL28+$AN28+$AP28+$AR28+$AX28+$AZ28+$BB28+$BD28 -> 0 | BG28: =$I28+$K28+$M28+$O28+$Q28+$W28+$Y28+$AA28+$AC28+$AE28+$AK28+$AM28+$AO28+$AQ28+$AS28+$AY28+$BA28+$BC28+$BE28 -> 0
A29: ='PPa2019'!D29 -> 0 | B29: ='PPa2019'!E29 -> 0 | BF29: =$H29+$J29+$L29+$N29+$P29+$V29+$X29+$Z29+$AB29+$AD29+$AJ29+$AL29+$AN29+$AP29+$AR29+$AX29+$AZ29+$BB29+$BD29 -> 0 | BG29: =$I29+$K29+$M29+$O29+$Q29+$W29+$Y29+$AA29+$AC29+$AE29+$AK29+$AM29+$AO29+$AQ29+$AS29+$AY29+$BA29+$BC29+$BE29 -> 0
A30: ='PPa2019'!D30 -> 0 | B30: ='PPa2019'!E30 -> 0 | BF30: =$H30+$J30+$L30+$N30+$P30+$V30+$X30+$Z30+$AB30+$AD30+$AJ30+$AL30+$AN30+$AP30+$AR30+$AX30+$AZ30+$BB30+$BD30 -> 0 | BG30: =$I30+$K30+$M30+$O30+$Q30+$W30+$Y30+$AA30+$AC30+$AE30+$AK30+$AM30+$AO30+$AQ30+$AS30+$AY30+$BA30+$BC30+$BE30 -> 0
A31: ='PPa2019'!D31 -> 0 | B31: ='PPa2019'!E31 -> 0 | BF31: =$H31+$J31+$L31+$N31+$P31+$V31+$X31+$Z31+$AB31+$AD31+$AJ31+$AL31+$AN31+$AP31+$AR31+$AX31+$AZ31+$BB31+$BD31 -> 0 | BG31: =$I31+$K31+$M31+$O31+$Q31+$W31+$Y31+$AA31+$AC31+$AE31+$AK31+$AM31+$AO31+$AQ31+$AS31+$AY31+$BA31+$BC31+$BE31 -> 0
A32: ='PPa2019'!D32 -> 0 | B32: ='PPa2019'!E32 -> 0 | BF32: =$H32+$J32+$L32+$N32+$P32+$V32+$X32+$Z32+$AB32+$AD32+$AJ32+$AL32+$AN32+$AP32+$AR32+$AX32+$AZ32+$BB32+$BD32 -> 0 | BG32: =$I32+$K32+$M32+$O32+$Q32+$W32+$Y32+$AA32+$AC32+$AE32+$AK32+$AM32+$AO32+$AQ32+$AS32+$AY32+$BA32+$BC32+$BE32 -> 0
A33: ='PPa2019'!D33 -> 0 | B33: ='PPa2019'!E33 -> 0 | BF33: =$H33+$J33+$L33+$N33+$P33+$V33+$X33+$Z33+$AB33+$AD33+$AJ33+$AL33+$AN33+$AP33+$AR33+$AX33+$AZ33+$BB33+$BD33 -> 0 | BG33: =$I33+$K33+$M33+$O33+$Q33+$W33+$Y33+$AA33+$AC33+$AE33+$AK33+$AM33+$AO33+$AQ33+$AS33+$AY33+$BA33+$BC33+$BE33 -> 0
A34: ='PPa2019'!D34 -> 0 | B34: ='PPa2019'!E34 -> 0 | BF34: =$H34+$J34+$L34+$N34+$P34+$V34+$X34+$Z34+$AB34+$AD34+$AJ34+$AL34+$AN34+$AP34+$AR34+$AX34+$AZ34+$BB34+$BD34 -> 0 | BG34: =$I34+$K34+$M34+$O34+$Q34+$W34+$Y34+$AA34+$AC34+$AE34+$AK34+$AM34+$AO34+$AQ34+$AS34+$AY34+$BA34+$BC34+$BE34 -> 0
A35: ='PPa2019'!D35 -> 0 | B35: ='PPa2019'!E35 -> 0 | BF35: =$H35+$J35+$L35+$N35+$P35+$V35+$X35+$Z35+$AB35+$AD35+$AJ35+$AL35+$AN35+$AP35+$AR35+$AX35+$AZ35+$BB35+$BD35 -> 0 | BG35: =$I35+$K35+$M35+$O35+$Q35+$W35+$Y35+$AA35+$AC35+$AE35+$AK35+$AM35+$AO35+$AQ35+$AS35+$AY35+$BA35+$BC35+$BE35 -> 0
A36: ='PPa2019'!D36 -> 0 | B36: ='PPa2019'!E36 -> 0 | BF36: =$H36+$J36+$L36+$N36+$P36+$V36+$X36+$Z36+$AB36+$AD36+$AJ36+$AL36+$AN36+$AP36+$AR36+$AX36+$AZ36+$BB36+$BD36 -> 0 | BG36: =$I36+$K36+$M36+$O36+$Q36+$W36+$Y36+$AA36+$AC36+$AE36+$AK36+$AM36+$AO36+$AQ36+$AS36+$AY36+$BA36+$BC36+$BE36 -> 0
A37: ='PPa2019'!D37 -> 0 | B37: ='PPa2019'!E37 -> 0 | BF37: =$H37+$J37+$L37+$N37+$P37+$V37+$X37+$Z37+$AB37+$AD37+$AJ37+$AL37+$AN37+$AP37+$AR37+$AX37+$AZ37+$BB37+$BD37 -> 0 | BG37: =$I37+$K37+$M37+$O37+$Q37+$W37+$Y37+$AA37+$AC37+$AE37+$AK37+$AM37+$AO37+$AQ37+$AS37+$AY37+$BA37+$BC37+$BE37 -> 0
... A131: ='PPa2019'!D131 -> 0 | B131: ='PPa2019'!E131 -> 0 | BF131: =$H131+$J131+$L131+$N131+$P131+$V131+$X131+$Z131+$AB131+$AD131+$AJ131+$AL131+$AN131+$AP131+$AR131+$AX131+$AZ131+$BB131+$BD131 -> 0 | BG131: =$I131+$K131+$M131+$O131+$Q131+$W131+$Y131+$AA131+$AC131+$AE131+$AK131+$AM131+$AO131+$AQ131+$AS131+$AY131+$BA131+$BC131+$BE131 -> 0

Sheet FEC
L2: 1
A5: Organisme de formation : | B5: AMISEP Formation | G5: NOM | I5: =IF(VLOOKUP($L$2,'PPa2019'!$A$1:$AP$201,4,0)="","",VLOOKUP($L$2,'PPa2019'!$A$1:$AP$201,4,0)) -> mmm | O5: Organisme de formation : | P5: AMISEP Formation | U5: NOM | W5: =IF(VLOOKUP($L$2,'PPa2019'!$A$1:$AP$201,4,0)="","",VLOOKUP($L$2,'PPa2019'!$A$1:$AP$201,4,0)) -> mmm
A6: Prestation : | B6: PREPA Projet | G6: Prénom | I6: =IF(VLOOKUP($L$2,'PPa2019'!$A$1:$AP$201,5,0)="","",VLOOKUP($L$2,'PPa2019'!$A$1:$AP$201,5,0)) -> mm | O6: Prestation : | P6: PREPA Projet | U6: Prénom | W6: =IF(VLOOKUP($L$2,'PPa2019'!$A$1:$AP$201,5,0)="","",VLOOKUP($L$2,'PPa2019'!$A$1:$AP$201,5,0)) -> mm
A7: Numéro de Marché : | B7: =VLOOKUP(FEC!$B$9,Feuil1!$A$1:$C$5,3,0) -> 2018-90563-00 | G7: Entrée | I7: =IF(VLOOKUP($L$2,'PPa2019'!$A$1:$AP$201,42,0)="","",VLOOKUP($L$2,'PPa2019'!$A$1:$AP$201,42,0)) | O7: Numéro de Marché : | P7: =VLOOKUP(FEC!$B$9,Feuil1!$A$1:$C$5,3,0) -> 2018-90563-00 | U7: Entrée | W7: =IF(VLOOKUP($L$2,'PPa2019'!$A$1:$AP$201,42,0)="","",VLOOKUP($L$2,'PPa2019'!$A$1:$AP$201,42,0))
A8: Dates de la prestation : | B8: =VLOOKUP($D$10,Feuil1!$B$7:$C$10,2,0) -> 01/01/2019 - 31/12/2019 | G8: Certifié exact, date, cachet et signature | O8: Dates de la prestation : | P8: =VLOOKUP($D$10,Feuil1!$B$7:$C$10,2,0) -> 01/01/2019 - 31/12/2019 | U8: Certifié exact, date, cachet et signature
A9: Site : | B9: AURAY | G9: V. BLANZIERI, Assistante administrative | O9: Site : | P9: AURAY | U9: V. BLANZIERI, Assistante administrative
A10: Mois : | B10: Mai | D10: 2019 | O10: Mois : | P10: =B10 -> Mai | R10: =D10 -> 2019
A13: Pour chaque atelier et entretien : noter les durées effectives réalisées | O13: Pour chaque atelier et entretien : noter les durées effectives réalisées
A15: DATE | C15: EI | D15: T1 | E15: T2 | F15: T3 | G15: T4 | H15: T5 | I15: T6 | J15: T7 | K15: T8 | L15: SIGNATURE | O15: DATE | Q15: EI | R15: T1 | S15: T2 | T15: T3 | U15: T4 | V15: T5 | W15: T6 | X15: T7 | Y15: T8 | Z15: SIGNATURE
B16: PRESENCE | P16: PRESENCE
B17: DISTANCE | P17: DISTANCE
B18: PRESENCE | P18: PRESENCE
B19: DISTANCE | P19: DISTANCE
B20: PRESENCE | P20: PRESENCE
B21: DISTANCE | P21: DISTANCE
B22: PRESENCE | P22: PRESENCE
B23: DISTANCE | P23: DISTANCE
B24: PRESENCE | P24: PRESENCE
B25: DISTANCE | P25: DISTANCE
B26: PRESENCE | P26: PRESENCE
B27: DISTANCE | P27: DISTANCE
... B37: DISTANCE | P37: DISTANCE
B38: PRESENCE
B39: DISTANCE
B40: PRESENCE
B41: DISTANCE
B42: PRESENCE | O42: LÉGENDE
B43: DISTANCE | O43: Les absences pour lesquelles il y a un justificatif sont des AJ - Absences Justifiées : absence inférieure à 15 jours ouvrés, emploi, etc. Excepté les arrêt maladie pour lesquels il faut noter "M" | Q43: T1 : Diagnostic situation personnelle et professionnelle T2 : Diagnostic Mobilité T3 : Outils numériques de l'orientation et de l'emploi T4 : Hypothèses de projet professionnel T5 : Découverte du marché de l'emploi sur le territoire T6 : Vérification du projet en stage en entreprise T7 : Mes droits à la formation pour mon projet professionnel T8 : Information et évaluation CléA | W43: EI : Entretien Individuel V : Fermeture centre AJ : Absence Justifiée ANJ : Absnece Non-Justifiée M : Maladie
B44: PRESENCE
B45: DISTANCE

Sheet FEAS
B3: Organisme de formation : | C3: AMISEP Formation | H3: NOM | J3: =IF(VLOOKUP($P$3,'PPa2019'!$A$1:$AP$201,4,0)="","",VLOOKUP($P$3,'PPa2019'!$A$1:$AP$201,4,0)) | P3: 23
B4: Prestation : | C4: PREPA Projet | H4: Prénom | J4: =IF(VLOOKUP($P$3,'PPa2019'!$A$1:$AP$201,5,0)="","",VLOOKUP($P$3,'PPa2019'!$A$1:$AP$201,5,0))
B5: Numéro de Marché : | C5: =VLOOKUP($C$7,Feuil1!$A$1:$C$5,3,0) -> 2018-90563-00 | H5: Entrée | J5: =IF(VLOOKUP($P$3,'PPa2019'!$A$1:$AP$201,42,0)="","",VLOOKUP($P$3,'PPa2019'!$A$1:$AP$201,42,0)) -> 43563
B6: Dates de la prestation : | C6: =TEXT(VLOOKUP($P$3,'PPa2019'!$A$2:$DB$201,42,0),"jj/MM/aaaa")&" - "&TEXT(VLOOKUP($P$3,'PPa2019'!$A$2:$DB$201,43,0),"jj/MM/aaaa") -> 08/04/2019 - 15/07/2019 | H6: Certifié exact, date, cachet et signature
B7: Site : | C7: AURAY | H7: V. BLANZIERI, Assistante administrative
B8: Mois : | C8: Mars | E8: 2019
B11: ATELIERS SECTORIELS : | C11: PPL - Métiers du transport et de la logistique
B12: PARTENAIRE :
B14: DATE | C14: DURÉE | E14: ACTIVITÉ | G14: SIGNATURE
B36: DATE | C36: DURÉE | E36: ACTIVITÉ | G36: SIGNATURE

Sheet STATS
B1: ENTRÉE | C1: =AVERAGE(D4:D15) -> 0 | D1: MOY | E1: AGE | F1: =IF(AVERAGE('PPa2019'!$O$2:$O$1048576)<18,"< 18 ans",IF(AND(AVERAGE('PPa2019'!$O$2:$O$1048576)>18,AVERAGE('PPa2019'!$O$2:$O$1048576)<25),"18-25",IF(AND(AVERAGE('PPa2019'!$O$2:$O$1048576)>25,AVERAGE('PPa2019'!$O$2:$O$1048576)<30),"26-30",IF(AND(AVERAGE('PPa2019'!$O$2:$O$1048576)>30,AVERAGE('PPa2019'!$O$2:$O$1048576)<35),"31-35",IF(AND(AVERAGE('PPa2019'!$O$2:$O$1048576)>35,AVERAGE('PPa2019'!$O$2:$O$1048576)<40),"36-40",IF(AVERAGE('PPa2019'!$O$2:$O$1048576)>40,"> 40","")))))) -> #DIV/0! | G1: MOY | R1: NIVEAU | T1: MOY | AE1: STATUT | AP1: PE | AY1: MOBILITÉ | BP1: SITUATION AVANT
E2: < 18 | G2: 18-25 | I2: 26-30 | K2: 31-35 | M2: 36-40 | O2: >=40 | Q2: TOTAL | R2: 6 | T2: 5 | V2: 4 | X2: 3 | Z2: 2 | AB2: 1 | AD2: TOTAL | AE2: DE | AG2: SALARIÉ | AI2: ÉTUDIANT | AK2: RE | AM2: AUTRE | AO2: TOTAL | AP2: < 6 mois | AR2: 6-11 mois | AT2: 12-23 mois | AV2: > 24 mois | AX2: TOTAL | AY2: Voiture | BA2: Moto | BC2: Scooter | BE2: Vélo | BG2: Bus | BI2: Covoiturage | BK2: Plusieurs | BM2: Autre | BO2: TOTAL | BP2: CCLES | BR2: PPI | BT2: POP | BV2: PREFOS | BX2: FLE | BZ2: MGI MIJEC | CB2: CAQ | CD2: QUALIF | CF2: ALTERN | CH2: EMPLOI | CJ2: AUTRE | CL2: TOTAL
B3: H | C3: F | D3: TOTAL | E3: H | F3: F | G3: H | H3: F | I3: H | J3: F | K3: H | L3: F | M3: H | N3: F | O3: H | P3: F | R3: H | S3: F | T3: H | U3: F | V3: H | W3: F | X3: H | Y3: F | Z3: H | AA3: F | AB3: H | AC3: F | AE3: H | AF3: F | AG3: H | AH3: F | AI3: H | AJ3: F | AK3: H | AL3: F | AM3: H | AN3: F | AP3: H | AQ3: F | AR3: H | AS3: F | AT3: H | AU3: F | AV3: H | AW3: F | AY3: H | AZ3: F | BA3: H | BB3: F | BC3: H | BD3: F | BE3: H | BF3: F | BG3: H | BH3: F | BI3: H | BJ3: F | BK3: H | BL3: F | BM3: H | BN3: F | BP3: H | BQ3: F | BR3: H | BS3: F | BT3: H | BU3: F | BV3: H | BW3: F | BX3: H | BY3: F | BZ3: H | CA3: F | CB3: H | CC3: F | CD3: H | CE3: F | CF3: H | CG3: F | CH3: H | CI3: F | CJ3: H | CK3: F
