Workbook
Name An: Sheet1!$AE$6
Name Aout: Sheet1!$D$46
Name Decembre: Sheet1!$AN$17
Name Janvier: Sheet1!$D$39
Name Juillet: Sheet1!$D$45
Name Mai: Sheet1!$D$43
Name Novembre: Sheet1!$D$49

Sheet Sheet1
B2: JOUR | G2: NUIT | L2: JOUR | M2: NUIT | N2: JOUR | O2: NUIT | P2: FERIER - JOUR | V2: FERIER - NUIT | AB2: FERIER - JOUR | AC2: FERIER - NUIT
B3: Lundi | C3: Mardi | D3: Mercredi | E3: Jeudi | F3: Vendredi | G3: Lundi | H3: Mardi | I3: Mercredi | J3: Jeudi | K3: Vendredi | L3: Samedi | M3: Samedi | N3: Dimanche | O3: Dimanche | P3: Lundi | Q3: Mardi | R3: Mercredi | S3: Jeudi | T3: Vendredi | U3: Samedi | V3: Lundi | W3: Mardi | X3: Mercredi | Y3: Jeudi | Z3: Vendredi | AA3: Samedi | AB3: Dimanche | AC3: Dimanche
B4: 06:00 - 21:00 | C4: 06:00 - 21:00 | D4: 06:00 - 21:00 | E4: 06:00 - 21:00 | F4: 06:00 - 21:00 | G4: 21:00 - 06:00 | H4: 21:00 - 06:00 | I4: 21:00 - 06:00 | J4: 21:00 - 06:00 | K4: 21:00 - 06:00 | L4: 06:00-21:00 | M4: 21:00-06:00 | N4: 06:00-21:00 | O4: 21:00-06:00 | P4: 06:00-21:00 | Q4: 06:00-21:00 | R4: 06:00-21:00 | S4: 06:00-21:00 | T4: 06:00-21:00 | U4: 06:00-21:00 | V4: 21:00-06:00 | W4: 21:00-06:00 | X4: 21:00-06:00 | Y4: 21:00-06:00 | Z4: 21:00-06:00 | AA4: 21:00-06:00 | AB4: 06:00-21:00 | AC4: 21:00-06:00
A5: 1 | B5: 23.8 | C5: 23.8 | D5: 23.8 | E5: 23.8 | F5: 23.8 | G5: 26.42 | H5: 26.42 | I5: 26.42 | J5: 26.42 | K5: 26.42 | L5: 23.8 | M5: 26.42 | N5: 26.18 | O5: 29.32 | P5: 47.6 | Q5: 47.6 | R5: 47.6 | S5: 47.6 | T5: 47.6 | U5: 47.6 | V5: 52.84 | W5: 52.84 | X5: 52.84 | Y5: 52.84 | Z5: 52.84 | AA5: 52.84 | AB5: 53.68 | AC5: 58.65
A6: 2 | B6: 24.4 | C6: 24.4 | D6: 24.4 | E6: 24.4 | F6: 24.4 | G6: 27.08 | H6: 27.08 | I6: 27.08 | J6: 27.08 | K6: 27.08 | L6: 24.4 | M6: 27.08 | N6: 26.84 | O6: 30.06 | P6: 48.8 | Q6: 48.8 | R6: 48.8 | S6: 48.8 | T6: 48.8 | U6: 48.8 | V6: 54.17 | W6: 54.17 | X6: 54.17 | Y6: 54.17 | Z6: 54.17 | AA6: 54.17 | AB6: 64.24 | AC6: 60.13
B35: 2019
B36: Jours feriés
B37: Jour de l'an | D37: =DATE(B35,1,1) -> 43466
B38: Pâques | D38: =IF(MOD(19*MOD(B35,19)+24,30)+MOD(2*MOD(B35,4)+4*MOD(B35,7)+6* MOD(19*MOD(B35,19)+24,30)+5,7)-9<=0,DATE(B35,3,22+MOD(19*MOD(B35, 19)+24,30)+MOD(2*MOD(B35,4)+4*MOD(B35,7)+6*MOD(19*MOD(B35,19)+24, 30)+5,7)),DATE(B35,4,MOD(19*MOD(B35,19)+24,30)+MOD(2*MOD(B35,4)+4* MOD(B35,7)+6*MOD(19*MOD(B35,19)+24,30)+5,7)-9)) -> 43576
B39: Lundi de Pâques | D39: =D38+1 -> 43577
B40: Fête du travail | D40: =DATE(B35,5,1) -> 43586
B41: Armistice 1945 | D41: =DATE(B35,5,8) -> 43593
B42: Ascension | D42: =D38+39 -> 43615
B43: Pentecôte | D43: =D38+49 -> 43625
B44: Lundi de Pentecote | D44: =D38+50 -> 43626
B45: Fête nationale | D45: =DATE(B35,7,14) -> 43660
B46: Assomption | D46: =DATE(B35,8,15) -> 43692
B47: Toussaint | D47: =DATE(B35,11,1) -> 43770
B48: Armistice 1918 | D48: =DATE(B35,11,11) -> 43780
B49: NOEL | D49: =DATE(B35,12,25) -> 43824

Sheet Sheet2
B1: 43586
D2: =INDEX({"Dimanche";"Lundi";"Mardi";"Mercredi";"Jeudi";"Vendredi";"Samedi"},WEEKDAY(D3)) -> Mercredi | J2: Coût Horaire | M2: =INDEX({"Dimanche";"Lundi";"Mardi";"Mercredi";"Jeudi";"Vendredi";"Samedi"},WEEKDAY(M3)) -> Jeudi | S2: =INDEX({"Dimanche";"Lundi";"Mardi";"Mercredi";"Jeudi";"Vendredi";"Samedi"},WEEKDAY(S3)) -> Vendredi | Y2: =INDEX({"Dimanche";"Lundi";"Mardi";"Mercredi";"Jeudi";"Vendredi";"Samedi"},WEEKDAY(Y3)) -> Samedi | AE2: =INDEX({"Dimanche";"Lundi";"Mardi";"Mercredi";"Jeudi";"Vendredi";"Samedi"},WEEKDAY(AE3)) -> Dimanche | AK2: =INDEX({"Dimanche";"Lundi";"Mardi";"Mercredi";"Jeudi";"Vendredi";"Samedi"},WEEKDAY(AK3)) -> Lundi | AQ2: =INDEX({"Dimanche";"Lundi";"Mardi";"Mercredi";"Jeudi";"Vendredi";"Samedi"},WEEKDAY(AQ3)) -> Mardi | AW2: =INDEX({"Dimanche";"Lundi";"Mardi";"Mercredi";"Jeudi";"Vendredi";"Samedi"},WEEKDAY(AW3)) -> Mercredi | BC2: =INDEX({"Dimanche";"Lundi";"Mardi";"Mercredi";"Jeudi";"Vendredi";"Samedi"},WEEKDAY(BC3)) -> Jeudi | BI2: =INDEX({"Dimanche";"Lundi";"Mardi";"Mercredi";"Jeudi";"Vendredi";"Samedi"},WEEKDAY(BI3)) -> Vendredi | BO2: =INDEX({"Dimanche";"Lundi";"Mardi";"Mercredi";"Jeudi";"Vendredi";"Samedi"},WEEKDAY(BO3)) -> Samedi | BU2: =INDEX({"Dimanche";"Lundi";"Mardi";"Mercredi";"Jeudi";"Vendredi";"Samedi"},WEEKDAY(BU3)) -> Dimanche | CA2: =INDEX({"Dimanche";"Lundi";"Mardi";"Mercredi";"Jeudi";"Vendredi";"Samedi"},WEEKDAY(CA3)) -> Lundi | CG2: =INDEX({"Dimanche";"Lundi";"Mardi";"Mercredi";"Jeudi";"Vendredi";"Samedi"},WEEKDAY(CG3)) -> Mardi | CM2: =INDEX({"Dimanche";"Lundi";"Mardi";"Mercredi";"Jeudi";"Vendredi";"Samedi"},WEEKDAY(CM3)) -> Mercredi | CS2: =INDEX({"Dimanche";"Lundi";"Mardi";"Mercredi";"Jeudi";"Vendredi";"Samedi"},WEEKDAY(CS3)) -> Jeudi | CY2: =INDEX({"Dimanche";"Lundi";"Mardi";"Mercredi";"Jeudi";"Vendredi";"Samedi"},WEEKDAY(CY3)) -> Vendredi | DE2: =INDEX({"Dimanche";"Lundi";"Mardi";"Mercredi";"Jeudi";"Vendredi";"Samedi"},WEEKDAY(DE3)) -> Samedi | DK2: =INDEX({"Dimanche";"Lundi";"Mardi";"Mercredi";"Jeudi";"Vendredi";"Samedi"},WEEKDAY(DK3)) -> Dimanche | DQ2: =INDEX({"Dimanche";"Lundi";"Mardi";"Mercredi";"Jeudi";"Vendredi";"Samedi"},WEEKDAY(DQ3)) -> Lundi | DW2: =INDEX({"Dimanche";"Lundi";"Mardi";"Mercredi";"Jeudi";"Vendredi";"Samedi"},WEEKDAY(DW3)) -> Mardi | EC2: =INDEX({"Dimanche";"Lundi";"Mardi";"Mercredi";"Jeudi";"Vendredi";"Samedi"},WEEKDAY(EC3)) -> Mercredi | EI2: =INDEX({"Dimanche";"Lundi";"Mardi";"Mercredi";"Jeudi";"Vendredi";"Samedi"},WEEKDAY(EI3)) -> Jeudi | EO2: =INDEX({"Dimanche";"Lundi";"Mardi";"Mercredi";"Jeudi";"Vendredi";"Samedi"},WEEKDAY(EO3)) -> Vendredi | EU2: =INDEX({"Dimanche";"Lundi";"Mardi";"Mercredi";"Jeudi";"Vendredi";"Samedi"},WEEKDAY(EU3)) -> Samedi | FA2: =INDEX({"Dimanche";"Lundi";"Mardi";"Mercredi";"Jeudi";"Vendredi";"Samedi"},WEEKDAY(FA3)) -> Dimanche | FG2: =INDEX({"Dimanche";"Lundi";"Mardi";"Mercredi";"Jeudi";"Vendredi";"Samedi"},WEEKDAY(FG3)) -> Lundi | FM2: =INDEX({"Dimanche";"Lundi";"Mardi";"Mercredi";"Jeudi";"Vendredi";"Samedi"},WEEKDAY(FM3)) -> Mardi | FS2: =INDEX({"Dimanche";"Lundi";"Mardi";"Mercredi";"Jeudi";"Vendredi";"Samedi"},WEEKDAY(FS3)) -> Mercredi | FY2: =INDEX({"Dimanche";"Lundi";"Mardi";"Mercredi";"Jeudi";"Vendredi";"Samedi"},WEEKDAY(FY3)) -> Jeudi | GE2: =INDEX({"Dimanche";"Lundi";"Mardi";"Mercredi";"Jeudi";"Vendredi";"Samedi"},WEEKDAY(GE3)) -> Vendredi
D3: =B1 -> 43586 | M3: =D3+1 -> 43587 | S3: =M3+1 -> 43588 | Y3: =S3+1 -> 43589 | AE3: =Y3+1 -> 43590 | AK3: =AE3+1 -> 43591 | AQ3: =AK3+1 -> 43592 | AW3: =AQ3+1 -> 43593 | BC3: =AW3+1 -> 43594 | BI3: =BC3+1 -> 43595 | BO3: =BI3+1 -> 43596 | BU3: =BO3+1 -> 43597 | CA3: =BU3+1 -> 43598 | CG3: =CA3+1 -> 43599 | CM3: =CG3+1 -> 43600 | CS3: =CM3+1 -> 43601 | CY3: =CS3+1 -> 43602 | DE3: =CY3+1 -> 43603 | DK3: =DE3+1 -> 43604 | DQ3: =DK3+1 -> 43605 | DW3: =DQ3+1 -> 43606 | EC3: =DW3+1 -> 43607 | EI3: =EC3+1 -> 43608 | EO3: =EI3+1 -> 43609 | EU3: =EO3+1 -> 43610 | FA3: =EU3+1 -> 43611 | FG3: =FA3+1 -> 43612 | FM3: =FG3+1 -> 43613 | FS3: =FM3+1 -> 43614 | FY3: =FS3+1 -> 43615 | GE3: =FY3+1 -> 43616
B5: Poste | C5: Note
F6: Total | G6: 06:00-21:00 | H6: 21:00-06:00 | I6: 06:00-08:00 | J6: =VLOOKUP($B$7,Sheet1!$A$5:$A$24,1,FALSE) -> 1 | K6: =VLOOKUP($B$7,Sheet1!$A$5:$A$24,1,FALSE) -> 1 | L6: =VLOOKUP($B$7,Sheet1!$A$5:$A$24,1,FALSE) -> 1 | O6: Total | P6: 06:00-21:00 | Q6: 21:00-06:00 | R6: 06:00-07:00 | U6: Total | V6: 06:00-21:00 | W6: 21:00-06:00 | X6: 06:00-07:00 | AA6: Total | AB6: 06:00-21:00 | AC6: 21:00-06:00 | AD6: 06:00-07:00 | AG6: Total | AH6: 06:00-21:00 | AI6: 21:00-06:00 | AJ6: 06:00-07:00 | AM6: Total | AN6: 06:00-21:00 | AO6: 21:00-06:00 | AP6: 06:00-07:00 | AS6: Total | AT6: 06:00-21:00 | AU6: 21:00-06:00 | AV6: 06:00-07:00 | AY6: Total | AZ6: 06:00-21:00 | BA6: 21:00-06:00 | BB6: 06:00-07:00 | BE6: Total | BF6: 06:00-21:00 | BG6: 21:00-06:00 | BH6: 06:00-07:00 | BK6: Total | BL6: 06:00-21:00 | BM6: 21:00-06:00 | BN6: 06:00-07:00 | BQ6: Total | BR6: 06:00-21:00 | BS6: 21:00-06:00 | BT6: 06:00-07:00 | BW6: Total | BX6: 06:00-21:00 | BY6: 21:00-06:00 | BZ6: 06:00-07:00 | CC6: Total | CD6: 06:00-21:00 | CE6: 21:00-06:00 | CF6: 06:00-07:00 | CI6: Total | CJ6: 06:00-21:00 | CK6: 21:00-06:00 | CL6: 06:00-07:00 | CO6: Total | CP6: 06:00-21:00 | CQ6: 21:00-06:00 | CR6: 06:00-07:00 | CU6: Total | CV6: 06:00-21:00 | CW6: 21:00-06:00 | CX6: 06:00-07:00 | DA6: Total | DB6: 06:00-21:00 | DC6: 21:00-06:00 | DD6: 06:00-07:00 | DG6: Total | DH6: 06:00-21:00 | DI6: 21:00-06:00 | DJ6: 06:00-07:00 | DM6: Total | DN6: 06:00-21:00 | DO6: 21:00-06:00 | DP6: 06:00-07:00 | DS6: Total | DT6: 06:00-21:00 | DU6: 21:00-06:00 | DV6: 06:00-07:00 | DY6: Total | DZ6: 06:00-21:00 | EA6: 21:00-06:00 | EB6: 06:00-07:00 | EE6: Total | EF6: 06:00-21:00 | EG6: 21:00-06:00 | EH6: 06:00-07:00 | EK6: Total | EL6: 06:00-21:00 | EM6: 21:00-06:00 | EN6: 06:00-07:00 | EQ6: Total | ER6: 06:00-21:00 | ES6: 21:00-06:00 | ET6: 06:00-07:00 | EW6: Total | EX6: 06:00-21:00 | EY6: 21:00-06:00 | EZ6: 06:00-07:00 | FC6: Total | FD6: 06:00-21:00 | FE6: 21:00-06:00 | FF6: 06:00-07:00 | FI6: Total | FJ6: 06:00-21:00 | FK6: 21:00-06:00 | FL6: 06:00-07:00 | FO6: Total | FP6: 06:00-21:00 | FQ6: 21:00-06:00 | FR6: 06:00-07:00 | FU6: Total | FV6: 06:00-21:00 | FW6: 21:00-06:00 | FX6: 06:00-07:00 | GA6: Total | GB6: 06:00-21:00 | GC6: 21:00-06:00 | GD6: 06:00-07:00 | GG6: Total | GH6: 06:00-21:00 | GI6: 21:00-06:00 | GJ6: 06:00-07:00
B7: 1 | D7: 0.70833333 | E7: 0.33333333 | F7: =24*(MOD(E7-D7,1)) -> 15 | G7: =IF(D7>TIMEVALUE("21:00:00"),0,MIN(TIMEVALUE("21:00:00"),IF(E7<D7,E7+1,E7))-D7) -> 0.16666667 | H7: =IF(IF(E7<D7,E7+1,E7)>TIMEVALUE("21:00:00"),MIN(IF(E7<D7,E7+1,E7),TIMEVALUE("06:00:00")+1)-MAX(D7,TIMEVALUE("21:00:00")),0) -> 0.375 | I7: =IF(IF(E7<D7,E7+1,E7)>TIMEVALUE("06:00:00")+1,MIN(E7+1,TIMEVALUE("08:00:00")+1)-TIMEVALUE("06:00:00")+1,0) -> 2.0833333 | J7: =_xlfn.IFS($J$6=1,G7*Sheet1!$B$5*24,$D$2="Lundi",TRUE,$D$2="Mardi",TRUE,$D$2="Mercredi",TRUE,$D$2="Jeudi",$D$2="Vendredi") -> 95.2 | K7: =_xlfn.IFS($K$6=1,H7*Sheet1!$G$5*24,$D$2="Lundi",TRUE,$D$2="Mardi",TRUE,$D$2="Mercredi",TRUE,$D$2="Jeudi",$D$2="Vendredi") -> 237.78 | L7: =_xlfn.IFS($L$6=1,(I7*Sheet1!$B$5*24),$D$2="Lundi",TRUE,$D$2="Mardi",TRUE,$D$2="Mercredi",TRUE,$D$2="Jeudi",$D$2="Vendredi") -> 1190 | M7: 0.70833333 | N7: 0.33333333 | O7: =24*(MOD(N7-M7,1)) -> 15 | P7: =IF(M7>TIMEVALUE("21:00:00"),0,MIN(TIMEVALUE("21:00:00"),IF(N7<M7,N7+1,N7))-M7) -> 0.16666667 | Q7: =IF(IF(N7<M7,N7+1,N7)>TIMEVALUE("21:00:00"),MIN(IF(N7<M7,N7+1,N7),TIMEVALUE("06:00:00")+1)-MAX(M7,TIMEVALUE("21:00:00")),0) -> 0.375 | R7: =IF(IF(N7<M7,N7+1,N7)>TIMEVALUE("06:00:00")+1,MIN(N7+1,TIMEVALUE("07:00:00")+1)-TIMEVALUE("06:00:00")+1,0) -> 2.0416667 | S7: 0.70833333 | T7: 0.33333333 | U7: =24*(MOD(T7-S7,1)) -> 15 | V7: =IF(S7>TIMEVALUE("21:00:00"),0,MIN(TIMEVALUE("21:00:00"),IF(T7<S7,T7+1,T7))-S7) -> 0.16666667 | W7: =IF(IF(T7<S7,T7+1,T7)>TIMEVALUE("21:00:00"),MIN(IF(T7<S7,T7+1,T7),TIMEVALUE("06:00:00")+1)-MAX(S7,TIMEVALUE("21:00:00")),0) -> 0.375 | X7: =IF(IF(T7<S7,T7+1,T7)>TIMEVALUE("06:00:00")+1,MIN(T7+1,TIMEVALUE("07:00:00")+1)-TIMEVALUE("06:00:00")+1,0) -> 2.0416667 | Y7: 0.70833333 | Z7: 0.33333333 | AA7: =24*(MOD(Z7-Y7,1)) -> 15 | AB7: =IF(Y7>TIMEVALUE("21:00:00"),0,MIN(TIMEVALUE("21:00:00"),IF(Z7<Y7,Z7+1,Z7))-Y7) -> 0.16666667 | AC7: =IF(IF(Z7<Y7,Z7+1,Z7)>TIMEVALUE("21:00:00"),MIN(IF(Z7<Y7,Z7+1,Z7),TIMEVALUE("06:00:00")+1)-MAX(Y7,TIMEVALUE("21:00:00")),0) -> 0.375 | AD7: =IF(IF(Z7<Y7,Z7+1,Z7)>TIMEVALUE("06:00:00")+1,MIN(Z7+1,TIMEVALUE("07:00:00")+1)-TIMEVALUE("06:00:00")+1,0) -> 2.0416667 | AE7: 0.70833333 | AF7: 0.33333333 | AG7: =24*(MOD(AF7-AE7,1)) -> 15 | AH7: =IF(AE7>TIMEVALUE("21:00:00"),0,MIN(TIMEVALUE("21:00:00"),IF(AF7<AE7,AF7+1,AF7))-AE7) -> 0.16666667 | AI7: =IF(IF(AF7<AE7,AF7+1,AF7)>TIMEVALUE("21:00:00"),MIN(IF(AF7<AE7,AF7+1,AF7),TIMEVALUE("06:00:00")+1)-MAX(AE7,TIMEVALUE("21:00:00")),0) -> 0.375 | AJ7: =IF(IF(AF7<AE7,AF7+1,AF7)>TIMEVALUE("06:00:00")+1,MIN(AF7+1,TIMEVALUE("07:00:00")+1)-TIMEVALUE("06:00:00")+1,0) -> 2.0416667 | AK7: 0.70833333 | AL7: 0.33333333 | AM7: =24*(MOD(AL7-AK7,1)) -> 15 | AN7: =IF(AK7>TIMEVALUE("21:00:00"),0,MIN(TIMEVALUE("21:00:00"),IF(AL7<AK7,AL7+1,AL7))-AK7) -> 0.16666667 | AO7: =IF(IF(AL7<AK7,AL7+1,AL7)>TIMEVALUE("21:00:00"),MIN(IF(AL7<AK7,AL7+1,AL7),TIMEVALUE("06:00:00")+1)-MAX(AK7,TIMEVALUE("21:00:00")),0) -> 0.375 | AP7: =IF(IF(AL7<AK7,AL7+1,AL7)>TIMEVALUE("06:00:00")+1,MIN(AL7+1,TIMEVALUE("07:00:00")+1)-TIMEVALUE("06:00:00")+1,0) -> 2.0416667 | AQ7: 0.70833333 | AR7: 0.33333333 | AS7: =24*(MOD(AR7-AQ7,1)) -> 15 | AT7: =IF(AQ7>TIMEVALUE("21:00:00"),0,MIN(TIMEVALUE("21:00:00"),IF(AR7<AQ7,AR7+1,AR7))-AQ7) -> 0.16666667 | AU7: =IF(IF(AR7<AQ7,AR7+1,AR7)>TIMEVALUE("21:00:00"),MIN(IF(AR7<AQ7,AR7+1,AR7),TIMEVALUE("06:00:00")+1)-MAX(AQ7,TIMEVALUE("21:00:00")),0) -> 0.375 | AV7: =IF(IF(AR7<AQ7,AR7+1,AR7)>TIMEVALUE("06:00:00")+1,MIN(AR7+1,TIMEVALUE("07:00:00")+1)-TIMEVALUE("06:00:00")+1,0) -> 2.0416667 | AW7: 0.70833333 | AX7: 0.33333333 | AY7: =24*(MOD(AX7-AW7,1)) -> 15 | AZ7: =IF(AW7>TIMEVALUE("21:00:00"),0,MIN(TIMEVALUE("21:00:00"),IF(AX7<AW7,AX7+1,AX7))-AW7) -> 0.16666667 | BA7: =IF(IF(AX7<AW7,AX7+1,AX7)>TIMEVALUE("21:00:00"),MIN(IF(AX7<AW7,AX7+1,AX7),TIMEVALUE("06:00:00")+1)-MAX(AW7,TIMEVALUE("21:00:00")),0) -> 0.375 | BB7: =IF(IF(AX7<AW7,AX7+1,AX7)>TIMEVALUE("06:00:00")+1,MIN(AX7+1,TIMEVALUE("07:00:00")+1)-TIMEVALUE("06:00:00")+1,0) -> 2.0416667 | BC7: 0.70833333 | BD7: 0.33333333 | BE7: =24*(MOD(BD7-BC7,1)) -> 15 | BF7: =IF(BC7>TIMEVALUE("21:00:00"),0,MIN(TIMEVALUE("21:00:00"),IF(BD7<BC7,BD7+1,BD7))-BC7) -> 0.16666667 | BG7: =IF(IF(BD7<BC7,BD7+1,BD7)>TIMEVALUE("21:00:00"),MIN(IF(BD7<BC7,BD7+1,BD7),TIMEVALUE("06:00:00")+1)-MAX(BC7,TIMEVALUE("21:00:00")),0) -> 0.375 | BH7: =IF(IF(BD7<BC7,BD7+1,BD7)>TIMEVALUE("06:00:00")+1,MIN(BD7+1,TIMEVALUE("07:00:00")+1)-TIMEVALUE("06:00:00")+1,0) -> 2.0416667 | BI7: 0.70833333 | BJ7: 0.33333333 | BK7: =24*(MOD(BJ7-BI7,1)) -> 15 | BL7: =IF(BI7>TIMEVALUE("21:00:00"),0,MIN(TIMEVALUE("21:00:00"),IF(BJ7<BI7,BJ7+1,BJ7))-BI7) -> 0.16666667 | BM7: =IF(IF(BJ7<BI7,BJ7+1,BJ7)>TIMEVALUE("21:00:00"),MIN(IF(BJ7<BI7,BJ7+1,BJ7),TIMEVALUE("06:00:00")+1)-MAX(BI7,TIMEVALUE("21:00:00")),0) -> 0.375 | BN7: =IF(IF(BJ7<BI7,BJ7+1,BJ7)>TIMEVALUE("06:00:00")+1,MIN(BJ7+1,TIMEVALUE("07:00:00")+1)-TIMEVALUE("06:00:00")+1,0) -> 2.0416667 | BO7: 0.70833333 | BP7: 0.33333333 | BQ7: =24*(MOD(BP7-BO7,1)) -> 15 | BR7: =IF(BO7>TIMEVALUE("21:00:00"),0,MIN(TIMEVALUE("21:00:00"),IF(BP7<BO7,BP7+1,BP7))-BO7) -> 0.16666667 | BS7: =IF(IF(BP7<BO7,BP7+1,BP7)>TIMEVALUE("21:00:00"),MIN(IF(BP7<BO7,BP7+1,BP7),TIMEVALUE("06:00:00")+1)-MAX(BO7,TIMEVALUE("21:00:00")),0) -> 0.375 | BT7: =IF(IF(BP7<BO7,BP7+1,BP7)>TIMEVALUE("06:00:00")+1,MIN(BP7+1,TIMEVALUE("07:00:00")+1)-TIMEVALUE("06:00:00")+1,0) -> 2.0416667 | BU7: 0.70833333 | BV7: 0.33333333 | BW7: =24*(MOD(BV7-BU7,1)) -> 15 | BX7: =IF(BU7>TIMEVALUE("21:00:00"),0,MIN(TIMEVALUE("21:00:00"),IF(BV7<BU7,BV7+1,BV7))-BU7) -> 0.16666667 | BY7: =IF(IF(BV7<BU7,BV7+1,BV7)>TIMEVALUE("21:00:00"),MIN(IF(BV7<BU7,BV7+1,BV7),TIMEVALUE("06:00:00")+1)-MAX(BU7,TIMEVALUE("21:00:00")),0) -> 0.375 | BZ7: =IF(IF(BV7<BU7,BV7+1,BV7)>TIMEVALUE("06:00:00")+1,MIN(BV7+1,TIMEVALUE("07:00:00")+1)-TIMEVALUE("06:00:00")+1,0) -> 2.0416667 | CA7: 0.70833333 | CB7: 0.33333333 | CC7: =24*(MOD(CB7-CA7,1)) -> 15 | CD7: =IF(CA7>TIMEVALUE("21:00:00"),0,MIN(TIMEVALUE("21:00:00"),IF(CB7<CA7,CB7+1,CB7))-CA7) -> 0.16666667 | CE7: =IF(IF(CB7<CA7,CB7+1,CB7)>TIMEVALUE("21:00:00"),MIN(IF(CB7<CA7,CB7+1,CB7),TIMEVALUE("06:00:00")+1)-MAX(CA7,TIMEVALUE("21:00:00")),0) -> 0.375 | CF7: =IF(IF(CB7<CA7,CB7+1,CB7)>TIMEVALUE("06:00:00")+1,MIN(CB7+1,TIMEVALUE("07:00:00")+1)-TIMEVALUE("06:00:00")+1,0) -> 2.0416667 | CG7: 0.70833333 | CH7: 0.33333333 | CI7: =24*(MOD(CH7-CG7,1)) -> 15 | CJ7: =IF(CG7>TIMEVALUE("21:00:00"),0,MIN(TIMEVALUE("21:00:00"),IF(CH7<CG7,CH7+1,CH7))-CG7) -> 0.16666667 | CK7: =IF(IF(CH7<CG7,CH7+1,CH7)>TIMEVALUE("21:00:00"),MIN(IF(CH7<CG7,CH7+1,CH7),TIMEVALUE("06:00:00")+1)-MAX(CG7,TIMEVALUE("21:00:00")),0) -> 0.375 | CL7: =IF(IF(CH7<CG7,CH7+1,CH7)>TIMEVALUE("06:00:00")+1,MIN(CH7+1,TIMEVALUE("07:00:00")+1)-TIMEVALUE("06:00:00")+1,0) -> 2.0416667 | CM7: 0.70833333 | CN7: 0.33333333 | CO7: =24*(MOD(CN7-CM7,1)) -> 15 | CP7: =IF(CM7>TIMEVALUE("21:00:00"),0,MIN(TIMEVALUE("21:00:00"),IF(CN7<CM7,CN7+1,CN7))-CM7) -> 0.16666667 | CQ7: =IF(IF(CN7<CM7,CN7+1,CN7)>TIMEVALUE("21:00:00"),MIN(IF(CN7<CM7,CN7+1,CN7),TIMEVALUE("06:00:00")+1)-MAX(CM7,TIMEVALUE("21:00:00")),0) -> 0.375 | CR7: =IF(IF(CN7<CM7,CN7+1,CN7)>TIMEVALUE("06:00:00")+1,MIN(CN7+1,TIMEVALUE("07:00:00")+1)-TIMEVALUE("06:00:00")+1,0) -> 2.0416667 | CS7: 0.70833333 | CT7: 0.33333333 | CU7: =24*(MOD(CT7-CS7,1)) -> 15 | CV7: =IF(CS7>TIMEVALUE("21:00:00"),0,MIN(TIMEVALUE("21:00:00"),IF(CT7<CS7,CT7+1,CT7))-CS7) -> 0.16666667 | CW7: =IF(IF(CT7<CS7,CT7+1,CT7)>TIMEVALUE("21:00:00"),MIN(IF(CT7<CS7,CT7+1,CT7),TIMEVALUE("06:00:00")+1)-MAX(CS7,TIMEVALUE("21:00:00")),0) -> 0.375 | CX7: =IF(IF(CT7<CS7,CT7+1,CT7)>TIMEVALUE("06:00:00")+1,MIN(CT7+1,TIMEVALUE("07:00:00")+1)-TIMEVALUE("06:00:00")+1,0) -> 2.0416667 | CY7: 0.70833333 | CZ7: 0.33333333 | DA7: =24*(MOD(CZ7-CY7,1)) -> 15 | DB7: =IF(CY7>TIMEVALUE("21:00:00"),0,MIN(TIMEVALUE("21:00:00"),IF(CZ7<CY7,CZ7+1,CZ7))-CY7) -> 0.16666667 | DC7: =IF(IF(CZ7<CY7,CZ7+1,CZ7)>TIMEVALUE("21:00:00"),MIN(IF(CZ7<CY7,CZ7+1,CZ7),TIMEVALUE("06:00:00")+1)-MAX(CY7,TIMEVALUE("21:00:00")),0) -> 0.375 | DD7: =IF(IF(CZ7<CY7,CZ7+1,CZ7)>TIMEVALUE("06:00:00")+1,MIN(CZ7+1,TIMEVALUE("07:00:00")+1)-TIMEVALUE("06:00:00")+1,0) -> 2.0416667 | DE7: 0.70833333 | DF7: 0.33333333 | DG7: =24*(MOD(DF7-DE7,1)) -> 15 | DH7: =IF(DE7>TIMEVALUE("21:00:00"),0,MIN(TIMEVALUE("21:00:00"),IF(DF7<DE7,DF7+1,DF7))-DE7) -> 0.16666667 | DI7: =IF(IF(DF7<DE7,DF7+1,DF7)>TIMEVALUE("21:00:00"),MIN(IF(DF7<DE7,DF7+1,DF7),TIMEVALUE("06:00:00")+1)-MAX(DE7,TIMEVALUE("21:00:00")),0) -> 0.375 | DJ7: =IF(IF(DF7<DE7,DF7+1,DF7)>TIMEVALUE("06:00:00")+1,MIN(DF7+1,TIMEVALUE("07:00:00")+1)-TIMEVALUE("06:00:00")+1,0) -> 2.0416667 | DK7: 0.70833333 | DL7: 0.33333333 | DM7: =24*(MOD(DL7-DK7,1)) -> 15 | DN7: =IF(DK7>TIMEVALUE("21:00:00"),0,MIN(TIMEVALUE("21:00:00"),IF(DL7<DK7,DL7+1,DL7))-DK7) -> 0.16666667 | DO7: =IF(IF(DL7<DK7,DL7+1,DL7)>TIMEVALUE("21:00:00"),MIN(IF(DL7<DK7,DL7+1,DL7),TIMEVALUE("06:00:00")+1)-MAX(DK7,TIMEVALUE("21:00:00")),0) -> 0.375 | DP7: =IF(IF(DL7<DK7,DL7+1,DL7)>TIMEVALUE("06:00:00")+1,MIN(DL7+1,TIMEVALUE("07:00:00")+1)-TIMEVALUE("06:00:00")+1,0) -> 2.0416667 | DQ7: 0.70833333 | DR7: 0.33333333 | DS7: =24*(MOD(DR7-DQ7,1)) -> 15 | DT7: =IF(DQ7>TIMEVALUE("21:00:00"),0,MIN(TIMEVALUE("21:00:00"),IF(DR7<DQ7,DR7+1,DR7))-DQ7) -> 0.16666667 | DU7: =IF(IF(DR7<DQ7,DR7+1,DR7)>TIMEVALUE("21:00:00"),MIN(IF(DR7<DQ7,DR7+1,DR7),TIMEVALUE("06:00:00")+1)-MAX(DQ7,TIMEVALUE("21:00:00")),0) -> 0.375 | DV7: =IF(IF(DR7<DQ7,DR7+1,DR7)>TIMEVALUE("06:00:00")+1,MIN(DR7+1,TIMEVALUE("07:00:00")+1)-TIMEVALUE("06:00:00")+1,0) -> 2.0416667 | DW7: 0.70833333 | DX7: 0.33333333 | DY7: =24*(MOD(DX7-DW7,1)) -> 15 | DZ7: =IF(DW7>TIMEVALUE("21:00:00"),0,MIN(TIMEVALUE("21:00:00"),IF(DX7<DW7,DX7+1,DX7))-DW7) -> 0.16666667 | EA7: =IF(IF(DX7<DW7,DX7+1,DX7)>TIMEVALUE("21:00:00"),MIN(IF(DX7<DW7,DX7+1,DX7),TIMEVALUE("06:00:00")+1)-MAX(DW7,TIMEVALUE("21:00:00")),0) -> 0.375 | EB7: =IF(IF(DX7<DW7,DX7+1,DX7)>TIMEVALUE("06:00:00")+1,MIN(DX7+1,TIMEVALUE("07:00:00")+1)-TIMEVALUE("06:00:00")+1,0) -> 2.0416667 | EC7: 0.70833333 | ED7: 0.33333333 | EE7: =24*(MOD(ED7-EC7,1)) -> 15 | EF7: =IF(EC7>TIMEVALUE("21:00:00"),0,MIN(TIMEVALUE("21:00:00"),IF(ED7<EC7,ED7+1,ED7))-EC7) -> 0.16666667 | EG7: =IF(IF(ED7<EC7,ED7+1,ED7)>TIMEVALUE("21:00:00"),MIN(IF(ED7<EC7,ED7+1,ED7),TIMEVALUE("06:00:00")+1)-MAX(EC7,TIMEVALUE("21:00:00")),0) -> 0.375 | EH7: =IF(IF(ED7<EC7,ED7+1,ED7)>TIMEVALUE("06:00:00")+1,MIN(ED7+1,TIMEVALUE("07:00:00")+1)-TIMEVALUE("06:00:00")+1,0) -> 2.0416667 | EI7: 0.70833333 | EJ7: 0.33333333 | EK7: =24*(MOD(EJ7-EI7,1)) -> 15 | EL7: =IF(EI7>TIMEVALUE("21:00:00"),0,MIN(TIMEVALUE("21:00:00"),IF(EJ7<EI7,EJ7+1,EJ7))-EI7) -> 0.16666667 | EM7: =IF(IF(EJ7<EI7,EJ7+1,EJ7)>TIMEVALUE("21:00:00"),MIN(IF(EJ7<EI7,EJ7+1,EJ7),TIMEVALUE("06:00:00")+1)-MAX(EI7,TIMEVALUE("21:00:00")),0) -> 0.375 | EN7: =IF(IF(EJ7<EI7,EJ7+1,EJ7)>TIMEVALUE("06:00:00")+1,MIN(EJ7+1,TIMEVALUE("07:00:00")+1)-TIMEVALUE("06:00:00")+1,0) -> 2.0416667 | EO7: 0.70833333 | EP7: 0.33333333 | EQ7: =24*(MOD(EP7-EO7,1)) -> 15 | ER7: =IF(EO7>TIMEVALUE("21:00:00"),0,MIN(TIMEVALUE("21:00:00"),IF(EP7<EO7,EP7+1,EP7))-EO7) -> 0.16666667 | ES7: =IF(IF(EP7<EO7,EP7+1,EP7)>TIMEVALUE("21:00:00"),MIN(IF(EP7<EO7,EP7+1,EP7),TIMEVALUE("06:00:00")+1)-MAX(EO7,TIMEVALUE("21:00:00")),0) -> 0.375 | ET7: =IF(IF(EP7<EO7,EP7+1,EP7)>TIMEVALUE("06:00:00")+1,MIN(EP7+1,TIMEVALUE("07:00:00")+1)-TIMEVALUE("06:00:00")+1,0) -> 2.0416667 | EU7: 0.70833333 | EV7: 0.33333333 | EW7: =24*(MOD(EV7-EU7,1)) -> 15 | EX7: =IF(EU7>TIMEVALUE("21:00:00"),0,MIN(TIMEVALUE("21:00:00"),IF(EV7<EU7,EV7+1,EV7))-EU7) -> 0.16666667 | EY7: =IF(IF(EV7<EU7,EV7+1,EV7)>TIMEVALUE("21:00:00"),MIN(IF(EV7<EU7,EV7+1,EV7),TIMEVALUE("06:00:00")+1)-MAX(EU7,TIMEVALUE("21:00:00")),0) -> 0.375 | EZ7: =IF(IF(EV7<EU7,EV7+1,EV7)>TIMEVALUE("06:00:00")+1,MIN(EV7+1,TIMEVALUE("07:00:00")+1)-TIMEVALUE("06:00:00")+1,0) -> 2.0416667 | FA7: 0.70833333 | FB7: 0.33333333 | FC7: =24*(MOD(FB7-FA7,1)) -> 15 | FD7: =IF(FA7>TIMEVALUE("21:00:00"),0,MIN(TIMEVALUE("21:00:00"),IF(FB7<FA7,FB7+1,FB7))-FA7) -> 0.16666667 | FE7: =IF(IF(FB7<FA7,FB7+1,FB7)>TIMEVALUE("21:00:00"),MIN(IF(FB7<FA7,FB7+1,FB7),TIMEVALUE("06:00:00")+1)-MAX(FA7,TIMEVALUE("21:00:00")),0) -> 0.375 | FF7: =IF(IF(FB7<FA7,FB7+1,FB7)>TIMEVALUE("06:00:00")+1,MIN(FB7+1,TIMEVALUE("07:00:00")+1)-TIMEVALUE("06:00:00")+1,0) -> 2.0416667 | FG7: 0.70833333 | FH7: 0.33333333 | FI7: =24*(MOD(FH7-FG7,1)) -> 15 | FJ7: =IF(FG7>TIMEVALUE("21:00:00"),0,MIN(TIMEVALUE("21:00:00"),IF(FH7<FG7,FH7+1,FH7))-FG7) -> 0.16666667 | FK7: =IF(IF(FH7<FG7,FH7+1,FH7)>TIMEVALUE("21:00:00"),MIN(IF(FH7<FG7,FH7+1,FH7),TIMEVALUE("06:00:00")+1)-MAX(FG7,TIMEVALUE("21:00:00")),0) -> 0.375 | FL7: =IF(IF(FH7<FG7,FH7+1,FH7)>TIMEVALUE("06:00:00")+1,MIN(FH7+1,TIMEVALUE("07:00:00")+1)-TIMEVALUE("06:00:00")+1,0) -> 2.0416667 | FM7: 0.70833333 | FN7: 0.33333333 | FO7: =24*(MOD(FN7-FM7,1)) -> 15 | FP7: =IF(FM7>TIMEVALUE("21:00:00"),0,MIN(TIMEVALUE("21:00:00"),IF(FN7<FM7,FN7+1,FN7))-FM7) -> 0.16666667 | FQ7: =IF(IF(FN7<FM7,FN7+1,FN7)>TIMEVALUE("21:00:00"),MIN(IF(FN7<FM7,FN7+1,FN7),TIMEVALUE("06:00:00")+1)-MAX(FM7,TIMEVALUE("21:00:00")),0) -> 0.375 | FR7: =IF(IF(FN7<FM7,FN7+1,FN7)>TIMEVALUE("06:00:00")+1,MIN(FN7+1,TIMEVALUE("07:00:00")+1)-TIMEVALUE("06:00:00")+1,0) -> 2.0416667 | FS7: 0.70833333 | FT7: 0.33333333 | FU7: =24*(MOD(FT7-FS7,1)) -> 15 | FV7: =IF(FS7>TIMEVALUE("21:00:00"),0,MIN(TIMEVALUE("21:00:00"),IF(FT7<FS7,FT7+1,FT7))-FS7) -> 0.16666667 | FW7: =IF(IF(FT7<FS7,FT7+1,FT7)>TIMEVALUE("21:00:00"),MIN(IF(FT7<FS7,FT7+1,FT7),TIMEVALUE("06:00:00")+1)-MAX(FS7,TIMEVALUE("21:00:00")),0) -> 0.375 | FX7: =IF(IF(FT7<FS7,FT7+1,FT7)>TIMEVALUE("06:00:00")+1,MIN(FT7+1,TIMEVALUE("07:00:00")+1)-TIMEVALUE("06:00:00")+1,0) -> 2.0416667 | FY7: 0.70833333 | FZ7: 0.33333333 | GA7: =24*(MOD(FZ7-FY7,1)) -> 15 | GB7: =IF(FY7>TIMEVALUE("21:00:00"),0,MIN(TIMEVALUE("21:00:00"),IF(FZ7<FY7,FZ7+1,FZ7))-FY7) -> 0.16666667 | GC7: =IF(IF(FZ7<FY7,FZ7+1,FZ7)>TIMEVALUE("21:00:00"),MIN(IF(FZ7<FY7,FZ7+1,FZ7),TIMEVALUE("06:00:00")+1)-MAX(FY7,TIMEVALUE("21:00:00")),0) -> 0.375 | GD7: =IF(IF(FZ7<FY7,FZ7+1,FZ7)>TIMEVALUE("06:00:00")+1,MIN(FZ7+1,TIMEVALUE("07:00:00")+1)-TIMEVALUE("06:00:00")+1,0) -> 2.0416667 | GE7: 0.70833333 | GF7: 0.33333333 | GG7: =24*(MOD(GF7-GE7,1)) -> 15 | GH7: =IF(GE7>TIMEVALUE("21:00:00"),0,MIN(TIMEVALUE("21:00:00"),IF(GF7<GE7,GF7+1,GF7))-GE7) -> 0.16666667 | GI7: =IF(IF(GF7<GE7,GF7+1,GF7)>TIMEVALUE("21:00:00"),MIN(IF(GF7<GE7,GF7+1,GF7),TIMEVALUE("06:00:00")+1)-MAX(GE7,TIMEVALUE("21:00:00")),0) -> 0.375 | GJ7: =IF(IF(GF7<GE7,GF7+1,GF7)>TIMEVALUE("06:00:00")+1,MIN(GF7+1,TIMEVALUE("07:00:00")+1)-TIMEVALUE("06:00:00")+1,0) -> 2.0416667
B8: 2 | D8: 0.25 | E8: 0.8125 | F8: =24*(MOD(E8-D8,1)) -> 13.5 | G8: =IF(D8>TIMEVALUE("21:00:00"),0,MIN(TIMEVALUE("21:00:00"),IF(E8<D8,E8+1,E8))-D8) -> 0.5625 | H8: =IF(IF(E8<D8,E8+1,E8)>TIMEVALUE("21:00:00"),MIN(IF(E8<D8,E8+1,E8),TIMEVALUE("06:00:00")+1)-MAX(D8,TIMEVALUE("21:00:00")),0) -> 0 | I8: =IF(IF(E8<D8,E8+1,E8)>TIMEVALUE("06:00:00")+1,MIN(E8+1,TIMEVALUE("07:00:00")+1)-TIMEVALUE("06:00:00")+1,0) -> 0 | J8: =_xlfn.IFS($J$6=1,G8*Sheet1!$B$5*24,$D$2="Lundi",TRUE,$D$2="Mardi",TRUE,$D$2="Mercredi",TRUE,$D$2="Jeudi",$D$2="Vendredi") -> 321.3 | K8: =_xlfn.IFS($K$6=1,H8*Sheet1!$G$5*24,$D$2="Lundi",TRUE,$D$2="Mardi",TRUE,$D$2="Mercredi",TRUE,$D$2="Jeudi",$D$2="Vendredi") -> 0 | L8: =_xlfn.IFS($L$6=1,I8*Sheet1!$B$5,$D$2="Lundi",TRUE,$D$2="Mardi",TRUE,$D$2="Mercredi",TRUE,$D$2="Jeudi",$D$2="Vendredi") -> 0 | M8: 0.70833333 | N8: 0.33333333 | O8: =24*(MOD(N8-M8,1)) -> 15 | P8: =IF(M8>TIMEVALUE("21:00:00"),0,MIN(TIMEVALUE("21:00:00"),IF(N8<M8,N8+1,N8))-M8) -> 0.16666667 | Q8: =IF(IF(N8<M8,N8+1,N8)>TIMEVALUE("21:00:00"),MIN(IF(N8<M8,N8+1,N8),TIMEVALUE("06:00:00")+1)-MAX(M8,TIMEVALUE("21:00:00")),0) -> 0.375 | R8: =IF(IF(N8<M8,N8+1,N8)>TIMEVALUE("06:00:00")+1,MIN(N8+1,TIMEVALUE("07:00:00")+1)-TIMEVALUE("06:00:00")+1,0) -> 2.0416667 | S8: 0.70833333 | T8: 0.33333333 | U8: =24*(MOD(T8-S8,1)) -> 15 | V8: =IF(S8>TIMEVALUE("21:00:00"),0,MIN(TIMEVALUE("21:00:00"),IF(T8<S8,T8+1,T8))-S8) -> 0.16666667 | W8: =IF(IF(T8<S8,T8+1,T8)>TIMEVALUE("21:00:00"),MIN(IF(T8<S8,T8+1,T8),TIMEVALUE("06:00:00")+1)-MAX(S8,TIMEVALUE("21:00:00")),0) -> 0.375 | X8: =IF(IF(T8<S8,T8+1,T8)>TIMEVALUE("06:00:00")+1,MIN(T8+1,TIMEVALUE("07:00:00")+1)-TIMEVALUE("06:00:00")+1,0) -> 2.0416667 | Y8: 0.70833333 | Z8: 0.33333333 | AA8: =24*(MOD(Z8-Y8,1)) -> 15 | AB8: =IF(Y8>TIMEVALUE("21:00:00"),0,MIN(TIMEVALUE("21:00:00"),IF(Z8<Y8,Z8+1,Z8))-Y8) -> 0.16666667 | AC8: =IF(IF(Z8<Y8,Z8+1,Z8)>TIMEVALUE("21:00:00"),MIN(IF(Z8<Y8,Z8+1,Z8),TIMEVALUE("06:00:00")+1)-MAX(Y8,TIMEVALUE("21:00:00")),0) -> 0.375 | AD8: =IF(IF(Z8<Y8,Z8+1,Z8)>TIMEVALUE("06:00:00")+1,MIN(Z8+1,TIMEVALUE("07:00:00")+1)-TIMEVALUE("06:00:00")+1,0) -> 2.0416667 | AE8: 0.70833333 | AF8: 0.33333333 | AG8: =24*(MOD(AF8-AE8,1)) -> 15 | AH8: =IF(AE8>TIMEVALUE("21:00:00"),0,MIN(TIMEVALUE("21:00:00"),IF(AF8<AE8,AF8+1,AF8))-AE8) -> 0.16666667 | AI8: =IF(IF(AF8<AE8,AF8+1,AF8)>TIMEVALUE("21:00:00"),MIN(IF(AF8<AE8,AF8+1,AF8),TIMEVALUE("06:00:00")+1)-MAX(AE8,TIMEVALUE("21:00:00")),0) -> 0.375 | AJ8: =IF(IF(AF8<AE8,AF8+1,AF8)>TIMEVALUE("06:00:00")+1,MIN(AF8+1,TIMEVALUE("07:00:00")+1)-TIMEVALUE("06:00:00")+1,0) -> 2.0416667 | AK8: 0.70833333 | AL8: 0.33333333 | AM8: =24*(MOD(AL8-AK8,1)) -> 15 | AN8: =IF(AK8>TIMEVALUE("21:00:00"),0,MIN(TIMEVALUE("21:00:00"),IF(AL8<AK8,AL8+1,AL8))-AK8) -> 0.16666667 | AO8: =IF(IF(AL8<AK8,AL8+1,AL8)>TIMEVALUE("21:00:00"),MIN(IF(AL8<AK8,AL8+1,AL8),TIMEVALUE("06:00:00")+1)-MAX(AK8,TIMEVALUE("21:00:00")),0) -> 0.375 | AP8: =IF(IF(AL8<AK8,AL8+1,AL8)>TIMEVALUE("06:00:00")+1,MIN(AL8+1,TIMEVALUE("07:00:00")+1)-TIMEVALUE("06:00:00")+1,0) -> 2.0416667 | AQ8: 0.70833333 | AR8: 0.33333333 | AS8: =24*(MOD(AR8-AQ8,1)) -> 15 | AT8: =IF(AQ8>TIMEVALUE("21:00:00"),0,MIN(TIMEVALUE("21:00:00"),IF(AR8<AQ8,AR8+1,AR8))-AQ8) -> 0.16666667 | AU8: =IF(IF(AR8<AQ8,AR8+1,AR8)>TIMEVALUE("21:00:00"),MIN(IF(AR8<AQ8,AR8+1,AR8),TIMEVALUE("06:00:00")+1)-MAX(AQ8,TIMEVALUE("21:00:00")),0) -> 0.375 | AV8: =IF(IF(AR8<AQ8,AR8+1,AR8)>TIMEVALUE("06:00:00")+1,MIN(AR8+1,TIMEVALUE("07:00:00")+1)-TIMEVALUE("06:00:00")+1,0) -> 2.0416667 | AW8: 0.70833333 | AX8: 0.33333333 | AY8: =24*(MOD(AX8-AW8,1)) -> 15 | AZ8: =IF(AW8>TIMEVALUE("21:00:00"),0,MIN(TIMEVALUE("21:00:00"),IF(AX8<AW8,AX8+1,AX8))-AW8) -> 0.16666667 | BA8: =IF(IF(AX8<AW8,AX8+1,AX8)>TIMEVALUE("21:00:00"),MIN(IF(AX8<AW8,AX8+1,AX8),TIMEVALUE("06:00:00")+1)-MAX(AW8,TIMEVALUE("21:00:00")),0) -> 0.375 | BB8: =IF(IF(AX8<AW8,AX8+1,AX8)>TIMEVALUE("06:00:00")+1,MIN(AX8+1,TIMEVALUE("07:00:00")+1)-TIMEVALUE("06:00:00")+1,0) -> 2.0416667 | BC8: 0.70833333 | BD8: 0.33333333 | BE8: =24*(MOD(BD8-BC8,1)) -> 15 | BF8: =IF(BC8>TIMEVALUE("21:00:00"),0,MIN(TIMEVALUE("21:00:00"),IF(BD8<BC8,BD8+1,BD8))-BC8) -> 0.16666667 | BG8: =IF(IF(BD8<BC8,BD8+1,BD8)>TIMEVALUE("21:00:00"),MIN(IF(BD8<BC8,BD8+1,BD8),TIMEVALUE("06:00:00")+1)-MAX(BC8,TIMEVALUE("21:00:00")),0) -> 0.375 | BH8: =IF(IF(BD8<BC8,BD8+1,BD8)>TIMEVALUE("06:00:00")+1,MIN(BD8+1,TIMEVALUE("07:00:00")+1)-TIMEVALUE("06:00:00")+1,0) -> 2.0416667 | BI8: 0.70833333 | BJ8: 0.33333333 | BK8: =24*(MOD(BJ8-BI8,1)) -> 15 | BL8: =IF(BI8>TIMEVALUE("21:00:00"),0,MIN(TIMEVALUE("21:00:00"),IF(BJ8<BI8,BJ8+1,BJ8))-BI8) -> 0.16666667 | BM8: =IF(IF(BJ8<BI8,BJ8+1,BJ8)>TIMEVALUE("21:00:00"),MIN(IF(BJ8<BI8,BJ8+1,BJ8),TIMEVALUE("06:00:00")+1)-MAX(BI8,TIMEVALUE("21:00:00")),0) -> 0.375 | BN8: =IF(IF(BJ8<BI8,BJ8+1,BJ8)>TIMEVALUE("06:00:00")+1,MIN(BJ8+1,TIMEVALUE("07:00:00")+1)-TIMEVALUE("06:00:00")+1,0) -> 2.0416667 | BO8: 0.70833333 | BP8: 0.33333333 | BQ8: =24*(MOD(BP8-BO8,1)) -> 15 | BR8: =IF(BO8>TIMEVALUE("21:00:00"),0,MIN(TIMEVALUE("21:00:00"),IF(BP8<BO8,BP8+1,BP8))-BO8) -> 0.16666667 | BS8: =IF(IF(BP8<BO8,BP8+1,BP8)>TIMEVALUE("21:00:00"),MIN(IF(BP8<BO8,BP8+1,BP8),TIMEVALUE("06:00:00")+1)-MAX(BO8,TIMEVALUE("21:00:00")),0) -> 0.375 | BT8: =IF(IF(BP8<BO8,BP8+1,BP8)>TIMEVALUE("06:00:00")+1,MIN(BP8+1,TIMEVALUE("07:00:00")+1)-TIMEVALUE("06:00:00")+1,0) -> 2.0416667 | BU8: 0.70833333 | BV8: 0.33333333 | BW8: =24*(MOD(BV8-BU8,1)) -> 15 | BX8: =IF(BU8>TIMEVALUE("21:00:00"),0,MIN(TIMEVALUE("21:00:00"),IF(BV8<BU8,BV8+1,BV8))-BU8) -> 0.16666667 | BY8: =IF(IF(BV8<BU8,BV8+1,BV8)>TIMEVALUE("21:00:00"),MIN(IF(BV8<BU8,BV8+1,BV8),TIMEVALUE("06:00:00")+1)-MAX(BU8,TIMEVALUE("21:00:00")),0) -> 0.375 | BZ8: =IF(IF(BV8<BU8,BV8+1,BV8)>TIMEVALUE("06:00:00")+1,MIN(BV8+1,TIMEVALUE("07:00:00")+1)-TIMEVALUE("06:00:00")+1,0) -> 2.0416667 | CA8: 0.70833333 | CB8: 0.33333333 | CC8: =24*(MOD(CB8-CA8,1)) -> 15 | CD8: =IF(CA8>TIMEVALUE("21:00:00"),0,MIN(TIMEVALUE("21:00:00"),IF(CB8<CA8,CB8+1,CB8))-CA8) -> 0.16666667 | CE8: =IF(IF(CB8<CA8,CB8+1,CB8)>TIMEVALUE("21:00:00"),MIN(IF(CB8<CA8,CB8+1,CB8),TIMEVALUE("06:00:00")+1)-MAX(CA8,TIMEVALUE("21:00:00")),0) -> 0.375 | CF8: =IF(IF(CB8<CA8,CB8+1,CB8)>TIMEVALUE("06:00:00")+1,MIN(CB8+1,TIMEVALUE("07:00:00")+1)-TIMEVALUE("06:00:00")+1,0) -> 2.0416667 | CG8: 0.70833333 | CH8: 0.33333333 | CI8: =24*(MOD(CH8-CG8,1)) -> 15 | CJ8: =IF(CG8>TIMEVALUE("21:00:00"),0,MIN(TIMEVALUE("21:00:00"),IF(CH8<CG8,CH8+1,CH8))-CG8) -> 0.16666667 | CK8: =IF(IF(CH8<CG8,CH8+1,CH8)>TIMEVALUE("21:00:00"),MIN(IF(CH8<CG8,CH8+1,CH8),TIMEVALUE("06:00:00")+1)-MAX(CG8,TIMEVALUE("21:00:00")),0) -> 0.375 | CL8: =IF(IF(CH8<CG8,CH8+1,CH8)>TIMEVALUE("06:00:00")+1,MIN(CH8+1,TIMEVALUE("07:00:00")+1)-TIMEVALUE("06:00:00")+1,0) -> 2.0416667 | CM8: 0.70833333 | CN8: 0.33333333 | CO8: =24*(MOD(CN8-CM8,1)) -> 15 | CP8: =IF(CM8>TIMEVALUE("21:00:00"),0,MIN(TIMEVALUE("21:00:00"),IF(CN8<CM8,CN8+1,CN8))-CM8) -> 0.16666667 | CQ8: =IF(IF(CN8<CM8,CN8+1,CN8)>TIMEVALUE("21:00:00"),MIN(IF(CN8<CM8,CN8+1,CN8),TIMEVALUE("06:00:00")+1)-MAX(CM8,TIMEVALUE("21:00:00")),0) -> 0.375 | CR8: =IF(IF(CN8<CM8,CN8+1,CN8)>TIMEVALUE("06:00:00")+1,MIN(CN8+1,TIMEVALUE("07:00:00")+1)-TIMEVALUE("06:00:00")+1,0) -> 2.0416667 | CS8: 0.70833333 | CT8: 0.33333333 | CU8: =24*(MOD(CT8-CS8,1)) -> 15 | CV8: =IF(CS8>TIMEVALUE("21:00:00"),0,MIN(TIMEVALUE("21:00:00"),IF(CT8<CS8,CT8+1,CT8))-CS8) -> 0.16666667 | CW8: =IF(IF(CT8<CS8,CT8+1,CT8)>TIMEVALUE("21:00:00"),MIN(IF(CT8<CS8,CT8+1,CT8),TIMEVALUE("06:00:00")+1)-MAX(CS8,TIMEVALUE("21:00:00")),0) -> 0.375 | CX8: =IF(IF(CT8<CS8,CT8+1,CT8)>TIMEVALUE("06:00:00")+1,MIN(CT8+1,TIMEVALUE("07:00:00")+1)-TIMEVALUE("06:00:00")+1,0) -> 2.0416667 | CY8: 0.70833333 | CZ8: 0.33333333 | DA8: =24*(MOD(CZ8-CY8,1)) -> 15 | DB8: =IF(CY8>TIMEVALUE("21:00:00"),0,MIN(TIMEVALUE("21:00:00"),IF(CZ8<CY8,CZ8+1,CZ8))-CY8) -> 0.16666667 | DC8: =IF(IF(CZ8<CY8,CZ8+1,CZ8)>TIMEVALUE("21:00:00"),MIN(IF(CZ8<CY8,CZ8+1,CZ8),TIMEVALUE("06:00:00")+1)-MAX(CY8,TIMEVALUE("21:00:00")),0) -> 0.375 | DD8: =IF(IF(CZ8<CY8,CZ8+1,CZ8)>TIMEVALUE("06:00:00")+1,MIN(CZ8+1,TIMEVALUE("07:00:00")+1)-TIMEVALUE("06:00:00")+1,0) -> 2.0416667 | DE8: 0.70833333 | DF8: 0.33333333 | DG8: =24*(MOD(DF8-DE8,1)) -> 15 | DH8: =IF(DE8>TIMEVALUE("21:00:00"),0,MIN(TIMEVALUE("21:00:00"),IF(DF8<DE8,DF8+1,DF8))-DE8) -> 0.16666667 | DI8: =IF(IF(DF8<DE8,DF8+1,DF8)>TIMEVALUE("21:00:00"),MIN(IF(DF8<DE8,DF8+1,DF8),TIMEVALUE("06:00:00")+1)-MAX(DE8,TIMEVALUE("21:00:00")),0) -> 0.375 | DJ8: =IF(IF(DF8<DE8,DF8+1,DF8)>TIMEVALUE("06:00:00")+1,MIN(DF8+1,TIMEVALUE("07:00:00")+1)-TIMEVALUE("06:00:00")+1,0) -> 2.0416667 | DK8: 0.70833333 | DL8: 0.33333333 | DM8: =24*(MOD(DL8-DK8,1)) -> 15 | DN8: =IF(DK8>TIMEVALUE("21:00:00"),0,MIN(TIMEVALUE("21:00:00"),IF(DL8<DK8,DL8+1,DL8))-DK8) -> 0.16666667 | DO8: =IF(IF(DL8<DK8,DL8+1,DL8)>TIMEVALUE("21:00:00"),MIN(IF(DL8<DK8,DL8+1,DL8),TIMEVALUE("06:00:00")+1)-MAX(DK8,TIMEVALUE("21:00:00")),0) -> 0.375 | DP8: =IF(IF(DL8<DK8,DL8+1,DL8)>TIMEVALUE("06:00:00")+1,MIN(DL8+1,TIMEVALUE("07:00:00")+1)-TIMEVALUE("06:00:00")+1,0) -> 2.0416667 | DQ8: 0.70833333 | DR8: 0.33333333 | DS8: =24*(MOD(DR8-DQ8,1)) -> 15 | DT8: =IF(DQ8>TIMEVALUE("21:00:00"),0,MIN(TIMEVALUE("21:00:00"),IF(DR8<DQ8,DR8+1,DR8))-DQ8) -> 0.16666667 | DU8: =IF(IF(DR8<DQ8,DR8+1,DR8)>TIMEVALUE("21:00:00"),MIN(IF(DR8<DQ8,DR8+1,DR8),TIMEVALUE("06:00:00")+1)-MAX(DQ8,TIMEVALUE("21:00:00")),0) -> 0.375 | DV8: =IF(IF(DR8<DQ8,DR8+1,DR8)>TIMEVALUE("06:00:00")+1,MIN(DR8+1,TIMEVALUE("07:00:00")+1)-TIMEVALUE("06:00:00")+1,0) -> 2.0416667 | DW8: 0.70833333 | DX8: 0.33333333 | DY8: =24*(MOD(DX8-DW8,1)) -> 15 | DZ8: =IF(DW8>TIMEVALUE("21:00:00"),0,MIN(TIMEVALUE("21:00:00"),IF(DX8<DW8,DX8+1,DX8))-DW8) -> 0.16666667 | EA8: =IF(IF(DX8<DW8,DX8+1,DX8)>TIMEVALUE("21:00:00"),MIN(IF(DX8<DW8,DX8+1,DX8),TIMEVALUE("06:00:00")+1)-MAX(DW8,TIMEVALUE("21:00:00")),0) -> 0.375 | EB8: =IF(IF(DX8<DW8,DX8+1,DX8)>TIMEVALUE("06:00:00")+1,MIN(DX8+1,TIMEVALUE("07:00:00")+1)-TIMEVALUE("06:00:00")+1,0) -> 2.0416667 | EC8: 0.70833333 | ED8: 0.33333333 | EE8: =24*(MOD(ED8-EC8,1)) -> 15 | EF8: =IF(EC8>TIMEVALUE("21:00:00"),0,MIN(TIMEVALUE("21:00:00"),IF(ED8<EC8,ED8+1,ED8))-EC8) -> 0.16666667 | EG8: =IF(IF(ED8<EC8,ED8+1,ED8)>TIMEVALUE("21:00:00"),MIN(IF(ED8<EC8,ED8+1,ED8),TIMEVALUE("06:00:00")+1)-MAX(EC8,TIMEVALUE("21:00:00")),0) -> 0.375 | EH8: =IF(IF(ED8<EC8,ED8+1,ED8)>TIMEVALUE("06:00:00")+1,MIN(ED8+1,TIMEVALUE("07:00:00")+1)-TIMEVALUE("06:00:00")+1,0) -> 2.0416667 | EI8: 0.70833333 | EJ8: 0.33333333 | EK8: =24*(MOD(EJ8-EI8,1)) -> 15 | EL8: =IF(EI8>TIMEVALUE("21:00:00"),0,MIN(TIMEVALUE("21:00:00"),IF(EJ8<EI8,EJ8+1,EJ8))-EI8) -> 0.16666667 | EM8: =IF(IF(EJ8<EI8,EJ8+1,EJ8)>TIMEVALUE("21:00:00"),MIN(IF(EJ8<EI8,EJ8+1,EJ8),TIMEVALUE("06:00:00")+1)-MAX(EI8,TIMEVALUE("21:00:00")),0) -> 0.375 | EN8: =IF(IF(EJ8<EI8,EJ8+1,EJ8)>TIMEVALUE("06:00:00")+1,MIN(EJ8+1,TIMEVALUE("07:00:00")+1)-TIMEVALUE("06:00:00")+1,0) -> 2.0416667 | EO8: 0.70833333 | EP8: 0.33333333 | EQ8: =24*(MOD(EP8-EO8,1)) -> 15 | ER8: =IF(EO8>TIMEVALUE("21:00:00"),0,MIN(TIMEVALUE("21:00:00"),IF(EP8<EO8,EP8+1,EP8))-EO8) -> 0.16666667 | ES8: =IF(IF(EP8<EO8,EP8+1,EP8)>TIMEVALUE("21:00:00"),MIN(IF(EP8<EO8,EP8+1,EP8),TIMEVALUE("06:00:00")+1)-MAX(EO8,TIMEVALUE("21:00:00")),0) -> 0.375 | ET8: =IF(IF(EP8<EO8,EP8+1,EP8)>TIMEVALUE("06:00:00")+1,MIN(EP8+1,TIMEVALUE("07:00:00")+1)-TIMEVALUE("06:00:00")+1,0) -> 2.0416667 | EU8: 0.70833333 | EV8: 0.33333333 | EW8: =24*(MOD(EV8-EU8,1)) -> 15 | EX8: =IF(EU8>TIMEVALUE("21:00:00"),0,MIN(TIMEVALUE("21:00:00"),IF(EV8<EU8,EV8+1,EV8))-EU8) -> 0.16666667 | EY8: =IF(IF(EV8<EU8,EV8+1,EV8)>TIMEVALUE("21:00:00"),MIN(IF(EV8<EU8,EV8+1,EV8),TIMEVALUE("06:00:00")+1)-MAX(EU8,TIMEVALUE("21:00:00")),0) -> 0.375 | EZ8: =IF(IF(EV8<EU8,EV8+1,EV8)>TIMEVALUE("06:00:00")+1,MIN(EV8+1,TIMEVALUE("07:00:00")+1)-TIMEVALUE("06:00:00")+1,0) -> 2.0416667 | FA8: 0.70833333 | FB8: 0.33333333 | FC8: =24*(MOD(FB8-FA8,1)) -> 15 | FD8: =IF(FA8>TIMEVALUE("21:00:00"),0,MIN(TIMEVALUE("21:00:00"),IF(FB8<FA8,FB8+1,FB8))-FA8) -> 0.16666667 | FE8: =IF(IF(FB8<FA8,FB8+1,FB8)>TIMEVALUE("21:00:00"),MIN(IF(FB8<FA8,FB8+1,FB8),TIMEVALUE("06:00:00")+1)-MAX(FA8,TIMEVALUE("21:00:00")),0) -> 0.375 | FF8: =IF(IF(FB8<FA8,FB8+1,FB8)>TIMEVALUE("06:00:00")+1,MIN(FB8+1,TIMEVALUE("07:00:00")+1)-TIMEVALUE("06:00:00")+1,0) -> 2.0416667 | FG8: 0.70833333 | FH8: 0.33333333 | FI8: =24*(MOD(FH8-FG8,1)) -> 15 | FJ8: =IF(FG8>TIMEVALUE("21:00:00"),0,MIN(TIMEVALUE("21:00:00"),IF(FH8<FG8,FH8+1,FH8))-FG8) -> 0.16666667 | FK8: =IF(IF(FH8<FG8,FH8+1,FH8)>TIMEVALUE("21:00:00"),MIN(IF(FH8<FG8,FH8+1,FH8),TIMEVALUE("06:00:00")+1)-MAX(FG8,TIMEVALUE("21:00:00")),0) -> 0.375 | FL8: =IF(IF(FH8<FG8,FH8+1,FH8)>TIMEVALUE("06:00:00")+1,MIN(FH8+1,TIMEVALUE("07:00:00")+1)-TIMEVALUE("06:00:00")+1,0) -> 2.0416667 | FM8: 0.70833333 | FN8: 0.33333333 | FO8: =24*(MOD(FN8-FM8,1)) -> 15 | FP8: =IF(FM8>TIMEVALUE("21:00:00"),0,MIN(TIMEVALUE("21:00:00"),IF(FN8<FM8,FN8+1,FN8))-FM8) -> 0.16666667 | FQ8: =IF(IF(FN8<FM8,FN8+1,FN8)>TIMEVALUE("21:00:00"),MIN(IF(FN8<FM8,FN8+1,FN8),TIMEVALUE("06:00:00")+1)-MAX(FM8,TIMEVALUE("21:00:00")),0) -> 0.375 | FR8: =IF(IF(FN8<FM8,FN8+1,FN8)>TIMEVALUE("06:00:00")+1,MIN(FN8+1,TIMEVALUE("07:00:00")+1)-TIMEVALUE("06:00:00")+1,0) -> 2.0416667 | FS8: 0.70833333 | FT8: 0.33333333 | FU8: =24*(MOD(FT8-FS8,1)) -> 15 | FV8: =IF(FS8>TIMEVALUE("21:00:00"),0,MIN(TIMEVALUE("21:00:00"),IF(FT8<FS8,FT8+1,FT8))-FS8) -> 0.16666667 | FW8: =IF(IF(FT8<FS8,FT8+1,FT8)>TIMEVALUE("21:00:00"),MIN(IF(FT8<FS8,FT8+1,FT8),TIMEVALUE("06:00:00")+1)-MAX(FS8,TIMEVALUE("21:00:00")),0) -> 0.375 | FX8: =IF(IF(FT8<FS8,FT8+1,FT8)>TIMEVALUE("06:00:00")+1,MIN(FT8+1,TIMEVALUE("07:00:00")+1)-TIMEVALUE("06:00:00")+1,0) -> 2.0416667 | FY8: 0.70833333 | FZ8: 0.33333333 | GA8: =24*(MOD(FZ8-FY8,1)) -> 15 | GB8: =IF(FY8>TIMEVALUE("21:00:00"),0,MIN(TIMEVALUE("21:00:00"),IF(FZ8<FY8,FZ8+1,FZ8))-FY8) -> 0.16666667 | GC8: =IF(IF(FZ8<FY8,FZ8+1,FZ8)>TIMEVALUE("21:00:00"),MIN(IF(FZ8<FY8,FZ8+1,FZ8),TIMEVALUE("06:00:00")+1)-MAX(FY8,TIMEVALUE("21:00:00")),0) -> 0.375 | GD8: =IF(IF(FZ8<FY8,FZ8+1,FZ8)>TIMEVALUE("06:00:00")+1,MIN(FZ8+1,TIMEVALUE("07:00:00")+1)-TIMEVALUE("06:00:00")+1,0) -> 2.0416667 | GE8: 0.70833333 | GF8: 0.33333333 | GG8: =24*(MOD(GF8-GE8,1)) -> 15 | GH8: =IF(GE8>TIMEVALUE("21:00:00"),0,MIN(TIMEVALUE("21:00:00"),IF(GF8<GE8,GF8+1,GF8))-GE8) -> 0.16666667 | GI8: =IF(IF(GF8<GE8,GF8+1,GF8)>TIMEVALUE("21:00:00"),MIN(IF(GF8<GE8,GF8+1,GF8),TIMEVALUE("06:00:00")+1)-MAX(GE8,TIMEVALUE("21:00:00")),0) -> 0.375 | GJ8: =IF(IF(GF8<GE8,GF8+1,GF8)>TIMEVALUE("06:00:00")+1,MIN(GF8+1,TIMEVALUE("07:00:00")+1)-TIMEVALUE("06:00:00")+1,0) -> 2.0416667
D9: 0 | E9: 0 | F9: =24*(MOD(E9-D9,1)) -> 0 | G9: =IF(D9>TIMEVALUE("21:00:00"),0,MIN(TIMEVALUE("21:00:00"),IF(E9<D9,E9+1,E9))-D9) -> 0 | H9: =IF(IF(E9<D9,E9+1,E9)>TIMEVALUE("21:00:00"),MIN(IF(E9<D9,E9+1,E9),TIMEVALUE("06:00:00")+1)-MAX(D9,TIMEVALUE("21:00:00")),0) -> 0 | I9: =IF(IF(E9<D9,E9+1,E9)>TIMEVALUE("06:00:00")+1,MIN(E9+1,TIMEVALUE("07:00:00")+1)-TIMEVALUE("06:00:00")+1,0) -> 0 | J9: =_xlfn.IFS($J$6=1,G9*Sheet1!$B$5*24,$D$2="Lundi",TRUE,$D$2="Mardi",TRUE,$D$2="Mercredi",TRUE,$D$2="Jeudi",$D$2="Vendredi") -> 0 | K9: =_xlfn.IFS($K$6=1,H9*Sheet1!$G$5*24,$D$2="Lundi",TRUE,$D$2="Mardi",TRUE,$D$2="Mercredi",TRUE,$D$2="Jeudi",$D$2="Vendredi") -> 0 | L9: =_xlfn.IFS($L$6=1,I9*Sheet1!$B$5,$D$2="Lundi",TRUE,$D$2="Mardi",TRUE,$D$2="Mercredi",TRUE,$D$2="Jeudi",$D$2="Vendredi") -> 0 | M9: 0.70833333 | N9: 0.33333333 | O9: =24*(MOD(N9-M9,1)) -> 15 | P9: =IF(M9>TIMEVALUE("21:00:00"),0,MIN(TIMEVALUE("21:00:00"),IF(N9<M9,N9+1,N9))-M9) -> 0.16666667 | Q9: =IF(IF(N9<M9,N9+1,N9)>TIMEVALUE("21:00:00"),MIN(IF(N9<M9,N9+1,N9),TIMEVALUE("06:00:00")+1)-MAX(M9,TIMEVALUE("21:00:00")),0) -> 0.375 | R9: =IF(IF(N9<M9,N9+1,N9)>TIMEVALUE("06:00:00")+1,MIN(N9+1,TIMEVALUE("07:00:00")+1)-TIMEVALUE("06:00:00")+1,0) -> 2.0416667 | S9: 0.70833333 | T9: 0.33333333 | U9: =24*(MOD(T9-S9,1)) -> 15 | V9: =IF(S9>TIMEVALUE("21:00:00"),0,MIN(TIMEVALUE("21:00:00"),IF(T9<S9,T9+1,T9))-S9) -> 0.16666667 | W9: =IF(IF(T9<S9,T9+1,T9)>TIMEVALUE("21:00:00"),MIN(IF(T9<S9,T9+1,T9),TIMEVALUE("06:00:00")+1)-MAX(S9,TIMEVALUE("21:00:00")),0) -> 0.375 | X9: =IF(IF(T9<S9,T9+1,T9)>TIMEVALUE("06:00:00")+1,MIN(T9+1,TIMEVALUE("07:00:00")+1)-TIMEVALUE("06:00:00")+1,0) -> 2.0416667 | Y9: 0.70833333 | Z9: 0.33333333 | AA9: =24*(MOD(Z9-Y9,1)) -> 15 | AB9: =IF(Y9>TIMEVALUE("21:00:00"),0,MIN(TIMEVALUE("21:00:00"),IF(Z9<Y9,Z9+1,Z9))-Y9) -> 0.16666667 | AC9: =IF(IF(Z9<Y9,Z9+1,Z9)>TIMEVALUE("21:00:00"),MIN(IF(Z9<Y9,Z9+1,Z9),TIMEVALUE("06:00:00")+1)-MAX(Y9,TIMEVALUE("21:00:00")),0) -> 0.375 | AD9: =IF(IF(Z9<Y9,Z9+1,Z9)>TIMEVALUE("06:00:00")+1,MIN(Z9+1,TIMEVALUE("07:00:00")+1)-TIMEVALUE("06:00:00")+1,0) -> 2.0416667 | AE9: 0.70833333 | AF9: 0.33333333 | AG9: =24*(MOD(AF9-AE9,1)) -> 15 | AH9: =IF(AE9>TIMEVALUE("21:00:00"),0,MIN(TIMEVALUE("21:00:00"),IF(AF9<AE9,AF9+1,AF9))-AE9) -> 0.16666667 | AI9: =IF(IF(AF9<AE9,AF9+1,AF9)>TIMEVALUE("21:00:00"),MIN(IF(AF9<AE9,AF9+1,AF9),TIMEVALUE("06:00:00")+1)-MAX(AE9,TIMEVALUE("21:00:00")),0) -> 0.375 | AJ9: =IF(IF(AF9<AE9,AF9+1,AF9)>TIMEVALUE("06:00:00")+1,MIN(AF9+1,TIMEVALUE("07:00:00")+1)-TIMEVALUE("06:00:00")+1,0) -> 2.0416667 | AK9: 0.70833333 | AL9: 0.33333333 | AM9: =24*(MOD(AL9-AK9,1)) -> 15 | AN9: =IF(AK9>TIMEVALUE("21:00:00"),0,MIN(TIMEVALUE("21:00:00"),IF(AL9<AK9,AL9+1,AL9))-AK9) -> 0.16666667 | AO9: =IF(IF(AL9<AK9,AL9+1,AL9)>TIMEVALUE("21:00:00"),MIN(IF(AL9<AK9,AL9+1,AL9),TIMEVALUE("06:00:00")+1)-MAX(AK9,TIMEVALUE("21:00:00")),0) -> 0.375 | AP9: =IF(IF(AL9<AK9,AL9+1,AL9)>TIMEVALUE("06:00:00")+1,MIN(AL9+1,TIMEVALUE("07:00:00")+1)-TIMEVALUE("06:00:00")+1,0) -> 2.0416667 | AQ9: 0.70833333 | AR9: 0.33333333 | AS9: =24*(MOD(AR9-AQ9,1)) -> 15 | AT9: =IF(AQ9>TIMEVALUE("21:00:00"),0,MIN(TIMEVALUE("21:00:00"),IF(AR9<AQ9,AR9+1,AR9))-AQ9) -> 0.16666667 | AU9: =IF(IF(AR9<AQ9,AR9+1,AR9)>TIMEVALUE("21:00:00"),MIN(IF(AR9<AQ9,AR9+1,AR9),TIMEVALUE("06:00:00")+1)-MAX(AQ9,TIMEVALUE("21:00:00")),0) -> 0.375 | AV9: =IF(IF(AR9<AQ9,AR9+1,AR9)>TIMEVALUE("06:00:00")+1,MIN(AR9+1,TIMEVALUE("07:00:00")+1)-TIMEVALUE("06:00:00")+1,0) -> 2.0416667 | AW9: 0.70833333 | AX9: 0.33333333 | AY9: =24*(MOD(AX9-AW9,1)) -> 15 | AZ9: =IF(AW9>TIMEVALUE("21:00:00"),0,MIN(TIMEVALUE("21:00:00"),IF(AX9<AW9,AX9+1,AX9))-AW9) -> 0.16666667 | BA9: =IF(IF(AX9<AW9,AX9+1,AX9)>TIMEVALUE("21:00:00"),MIN(IF(AX9<AW9,AX9+1,AX9),TIMEVALUE("06:00:00")+1)-MAX(AW9,TIMEVALUE("21:00:00")),0) -> 0.375 | BB9: =IF(IF(AX9<AW9,AX9+1,AX9)>TIMEVALUE("06:00:00")+1,MIN(AX9+1,TIMEVALUE("07:00:00")+1)-TIMEVALUE("06:00:00")+1,0) -> 2.0416667 | BC9: 0.70833333 | BD9: 0.33333333 | BE9: =24*(MOD(BD9-BC9,1)) -> 15 | BF9: =IF(BC9>TIMEVALUE("21:00:00"),0,MIN(TIMEVALUE("21:00:00"),IF(BD9<BC9,BD9+1,BD9))-BC9) -> 0.16666667 | BG9: =IF(IF(BD9<BC9,BD9+1,BD9)>TIMEVALUE("21:00:00"),MIN(IF(BD9<BC9,BD9+1,BD9),TIMEVALUE("06:00:00")+1)-MAX(BC9,TIMEVALUE("21:00:00")),0) -> 0.375 | BH9: =IF(IF(BD9<BC9,BD9+1,BD9)>TIMEVALUE("06:00:00")+1,MIN(BD9+1,TIMEVALUE("07:00:00")+1)-TIMEVALUE("06:00:00")+1,0) -> 2.0416667 | BI9: 0.70833333 | BJ9: 0.33333333 | BK9: =24*(MOD(BJ9-BI9,1)) -> 15 | BL9: =IF(BI9>TIMEVALUE("21:00:00"),0,MIN(TIMEVALUE("21:00:00"),IF(BJ9<BI9,BJ9+1,BJ9))-BI9) -> 0.16666667 | BM9: =IF(IF(BJ9<BI9,BJ9+1,BJ9)>TIMEVALUE("21:00:00"),MIN(IF(BJ9<BI9,BJ9+1,BJ9),TIMEVALUE("06:00:00")+1)-MAX(BI9,TIMEVALUE("21:00:00")),0) -> 0.375 | BN9: =IF(IF(BJ9<BI9,BJ9+1,BJ9)>TIMEVALUE("06:00:00")+1,MIN(BJ9+1,TIMEVALUE("07:00:00")+1)-TIMEVALUE("06:00:00")+1,0) -> 2.0416667 | BO9: 0.70833333 | BP9: 0.33333333 | BQ9: =24*(MOD(BP9-BO9,1)) -> 15 | BR9: =IF(BO9>TIMEVALUE("21:00:00"),0,MIN(TIMEVALUE("21:00:00"),IF(BP9<BO9,BP9+1,BP9))-BO9) -> 0.16666667 | BS9: =IF(IF(BP9<BO9,BP9+1,BP9)>TIMEVALUE("21:00:00"),MIN(IF(BP9<BO9,BP9+1,BP9),TIMEVALUE("06:00:00")+1)-MAX(BO9,TIMEVALUE("21:00:00")),0) -> 0.375 | BT9: =IF(IF(BP9<BO9,BP9+1,BP9)>TIMEVALUE("06:00:00")+1,MIN(BP9+1,TIMEVALUE("07:00:00")+1)-TIMEVALUE("06:00:00")+1,0) -> 2.0416667 | BU9: 0.70833333 | BV9: 0.33333333 | BW9: =24*(MOD(BV9-BU9,1)) -> 15 | BX9: =IF(BU9>TIMEVALUE("21:00:00"),0,MIN(TIMEVALUE("21:00:00"),IF(BV9<BU9,BV9+1,BV9))-BU9) -> 0.16666667 | BY9: =IF(IF(BV9<BU9,BV9+1,BV9)>TIMEVALUE("21:00:00"),MIN(IF(BV9<BU9,BV9+1,BV9),TIMEVALUE("06:00:00")+1)-MAX(BU9,TIMEVALUE("21:00:00")),0) -> 0.375 | BZ9: =IF(IF(BV9<BU9,BV9+1,BV9)>TIMEVALUE("06:00:00")+1,MIN(BV9+1,TIMEVALUE("07:00:00")+1)-TIMEVALUE("06:00:00")+1,0) -> 2.0416667 | CA9: 0.70833333 | CB9: 0.33333333 | CC9: =24*(MOD(CB9-CA9,1)) -> 15 | CD9: =IF(CA9>TIMEVALUE("21:00:00"),0,MIN(TIMEVALUE("21:00:00"),IF(CB9<CA9,CB9+1,CB9))-CA9) -> 0.16666667 | CE9: =IF(IF(CB9<CA9,CB9+1,CB9)>TIMEVALUE("21:00:00"),MIN(IF(CB9<CA9,CB9+1,CB9),TIMEVALUE("06:00:00")+1)-MAX(CA9,TIMEVALUE("21:00:00")),0) -> 0.375 | CF9: =IF(IF(CB9<CA9,CB9+1,CB9)>TIMEVALUE("06:00:00")+1,MIN(CB9+1,TIMEVALUE("07:00:00")+1)-TIMEVALUE("06:00:00")+1,0) -> 2.0416667 | CG9: 0.70833333 | CH9: 0.33333333 | CI9: =24*(MOD(CH9-CG9,1)) -> 15 | CJ9: =IF(CG9>TIMEVALUE("21:00:00"),0,MIN(TIMEVALUE("21:00:00"),IF(CH9<CG9,CH9+1,CH9))-CG9) -> 0.16666667 | CK9: =IF(IF(CH9<CG9,CH9+1,CH9)>TIMEVALUE("21:00:00"),MIN(IF(CH9<CG9,CH9+1,CH9),TIMEVALUE("06:00:00")+1)-MAX(CG9,TIMEVALUE("21:00:00")),0) -> 0.375 | CL9: =IF(IF(CH9<CG9,CH9+1,CH9)>TIMEVALUE("06:00:00")+1,MIN(CH9+1,TIMEVALUE("07:00:00")+1)-TIMEVALUE("06:00:00")+1,0) -> 2.0416667 | CM9: 0.70833333 | CN9: 0.33333333 | CO9: =24*(MOD(CN9-CM9,1)) -> 15 | CP9: =IF(CM9>TIMEVALUE("21:00:00"),0,MIN(TIMEVALUE("21:00:00"),IF(CN9<CM9,CN9+1,CN9))-CM9) -> 0.16666667 | CQ9: =IF(IF(CN9<CM9,CN9+1,CN9)>TIMEVALUE("21:00:00"),MIN(IF(CN9<CM9,CN9+1,CN9),TIMEVALUE("06:00:00")+1)-MAX(CM9,TIMEVALUE("21:00:00")),0) -> 0.375 | CR9: =IF(IF(CN9<CM9,CN9+1,CN9)>TIMEVALUE("06:00:00")+1,MIN(CN9+1,TIMEVALUE("07:00:00")+1)-TIMEVALUE("06:00:00")+1,0) -> 2.0416667 | CS9: 0.70833333 | CT9: 0.33333333 | CU9: =24*(MOD(CT9-CS9,1)) -> 15 | CV9: =IF(CS9>TIMEVALUE("21:00:00"),0,MIN(TIMEVALUE("21:00:00"),IF(CT9<CS9,CT9+1,CT9))-CS9) -> 0.16666667 | CW9: =IF(IF(CT9<CS9,CT9+1,CT9)>TIMEVALUE("21:00:00"),MIN(IF(CT9<CS9,CT9+1,CT9),TIMEVALUE("06:00:00")+1)-MAX(CS9,TIMEVALUE("21:00:00")),0) -> 0.375 | CX9: =IF(IF(CT9<CS9,CT9+1,CT9)>TIMEVALUE("06:00:00")+1,MIN(CT9+1,TIMEVALUE("07:00:00")+1)-TIMEVALUE("06:00:00")+1,0) -> 2.0416667 | CY9: 0.70833333 | CZ9: 0.33333333 | DA9: =24*(MOD(CZ9-CY9,1)) -> 15 | DB9: =IF(CY9>TIMEVALUE("21:00:00"),0,MIN(TIMEVALUE("21:00:00"),IF(CZ9<CY9,CZ9+1,CZ9))-CY9) -> 0.16666667 | DC9: =IF(IF(CZ9<CY9,CZ9+1,CZ9)>TIMEVALUE("21:00:00"),MIN(IF(CZ9<CY9,CZ9+1,CZ9),TIMEVALUE("06:00:00")+1)-MAX(CY9,TIMEVALUE("21:00:00")),0) -> 0.375 | DD9: =IF(IF(CZ9<CY9,CZ9+1,CZ9)>TIMEVALUE("06:00:00")+1,MIN(CZ9+1,TIMEVALUE("07:00:00")+1)-TIMEVALUE("06:00:00")+1,0) -> 2.0416667 | DE9: 0.70833333 | DF9: 0.33333333 | DG9: =24*(MOD(DF9-DE9,1)) -> 15 | DH9: =IF(DE9>TIMEVALUE("21:00:00"),0,MIN(TIMEVALUE("21:00:00"),IF(DF9<DE9,DF9+1,DF9))-DE9) -> 0.16666667 | DI9: =IF(IF(DF9<DE9,DF9+1,DF9)>TIMEVALUE("21:00:00"),MIN(IF(DF9<DE9,DF9+1,DF9),TIMEVALUE("06:00:00")+1)-MAX(DE9,TIMEVALUE("21:00:00")),0) -> 0.375 | DJ9: =IF(IF(DF9<DE9,DF9+1,DF9)>TIMEVALUE("06:00:00")+1,MIN(DF9+1,TIMEVALUE("07:00:00")+1)-TIMEVALUE("06:00:00")+1,0) -> 2.0416667 | DK9: 0.70833333 | DL9: 0.33333333 | DM9: =24*(MOD(DL9-DK9,1)) -> 15 | DN9: =IF(DK9>TIMEVALUE("21:00:00"),0,MIN(TIMEVALUE("21:00:00"),IF(DL9<DK9,DL9+1,DL9))-DK9) -> 0.16666667 | DO9: =IF(IF(DL9<DK9,DL9+1,DL9)>TIMEVALUE("21:00:00"),MIN(IF(DL9<DK9,DL9+1,DL9),TIMEVALUE("06:00:00")+1)-MAX(DK9,TIMEVALUE("21:00:00")),0) -> 0.375 | DP9: =IF(IF(DL9<DK9,DL9+1,DL9)>TIMEVALUE("06:00:00")+1,MIN(DL9+1,TIMEVALUE("07:00:00")+1)-TIMEVALUE("06:00:00")+1,0) -> 2.0416667 | DQ9: 0.70833333 | DR9: 0.33333333 | DS9: =24*(MOD(DR9-DQ9,1)) -> 15 | DT9: =IF(DQ9>TIMEVALUE("21:00:00"),0,MIN(TIMEVALUE("21:00:00"),IF(DR9<DQ9,DR9+1,DR9))-DQ9) -> 0.16666667 | DU9: =IF(IF(DR9<DQ9,DR9+1,DR9)>TIMEVALUE("21:00:00"),MIN(IF(DR9<DQ9,DR9+1,DR9),TIMEVALUE("06:00:00")+1)-MAX(DQ9,TIMEVALUE("21:00:00")),0) -> 0.375 | DV9: =IF(IF(DR9<DQ9,DR9+1,DR9)>TIMEVALUE("06:00:00")+1,MIN(DR9+1,TIMEVALUE("07:00:00")+1)-TIMEVALUE("06:00:00")+1,0) -> 2.0416667 | DW9: 0.70833333 | DX9: 0.33333333 | DY9: =24*(MOD(DX9-DW9,1)) -> 15 | DZ9: =IF(DW9>TIMEVALUE("21:00:00"),0,MIN(TIMEVALUE("21:00:00"),IF(DX9<DW9,DX9+1,DX9))-DW9) -> 0.16666667 | EA9: =IF(IF(DX9<DW9,DX9+1,DX9)>TIMEVALUE("21:00:00"),MIN(IF(DX9<DW9,DX9+1,DX9),TIMEVALUE("06:00:00")+1)-MAX(DW9,TIMEVALUE("21:00:00")),0) -> 0.375 | EB9: =IF(IF(DX9<DW9,DX9+1,DX9)>TIMEVALUE("06:00:00")+1,MIN(DX9+1,TIMEVALUE("07:00:00")+1)-TIMEVALUE("06:00:00")+1,0) -> 2.0416667 | EC9: 0.70833333 | ED9: 0.33333333 | EE9: =24*(MOD(ED9-EC9,1)) -> 15 | EF9: =IF(EC9>TIMEVALUE("21:00:00"),0,MIN(TIMEVALUE("21:00:00"),IF(ED9<EC9,ED9+1,ED9))-EC9) -> 0.16666667 | EG9: =IF(IF(ED9<EC9,ED9+1,ED9)>TIMEVALUE("21:00:00"),MIN(IF(ED9<EC9,ED9+1,ED9),TIMEVALUE("06:00:00")+1)-MAX(EC9,TIMEVALUE("21:00:00")),0) -> 0.375 | EH9: =IF(IF(ED9<EC9,ED9+1,ED9)>TIMEVALUE("06:00:00")+1,MIN(ED9+1,TIMEVALUE("07:00:00")+1)-TIMEVALUE("06:00:00")+1,0) -> 2.0416667 | EI9: 0.70833333 | EJ9: 0.33333333 | EK9: =24*(MOD(EJ9-EI9,1)) -> 15 | EL9: =IF(EI9>TIMEVALUE("21:00:00"),0,MIN(TIMEVALUE("21:00:00"),IF(EJ9<EI9,EJ9+1,EJ9))-EI9) -> 0.16666667 | EM9: =IF(IF(EJ9<EI9,EJ9+1,EJ9)>TIMEVALUE("21:00:00"),MIN(IF(EJ9<EI9,EJ9+1,EJ9),TIMEVALUE("06:00:00")+1)-MAX(EI9,TIMEVALUE("21:00:00")),0) -> 0.375 | EN9: =IF(IF(EJ9<EI9,EJ9+1,EJ9)>TIMEVALUE("06:00:00")+1,MIN(EJ9+1,TIMEVALUE("07:00:00")+1)-TIMEVALUE("06:00:00")+1,0) -> 2.0416667 | EO9: 0.70833333 | EP9: 0.33333333 | EQ9: =24*(MOD(EP9-EO9,1)) -> 15 | ER9: =IF(EO9>TIMEVALUE("21:00:00"),0,MIN(TIMEVALUE("21:00:00"),IF(EP9<EO9,EP9+1,EP9))-EO9) -> 0.16666667 | ES9: =IF(IF(EP9<EO9,EP9+1,EP9)>TIMEVALUE("21:00:00"),MIN(IF(EP9<EO9,EP9+1,EP9),TIMEVALUE("06:00:00")+1)-MAX(EO9,TIMEVALUE("21:00:00")),0) -> 0.375 | ET9: =IF(IF(EP9<EO9,EP9+1,EP9)>TIMEVALUE("06:00:00")+1,MIN(EP9+1,TIMEVALUE("07:00:00")+1)-TIMEVALUE("06:00:00")+1,0) -> 2.0416667 | EU9: 0.70833333 | EV9: 0.33333333 | EW9: =24*(MOD(EV9-EU9,1)) -> 15 | EX9: =IF(EU9>TIMEVALUE("21:00:00"),0,MIN(TIMEVALUE("21:00:00"),IF(EV9<EU9,EV9+1,EV9))-EU9) -> 0.16666667 | EY9: =IF(IF(EV9<EU9,EV9+1,EV9)>TIMEVALUE("21:00:00"),MIN(IF(EV9<EU9,EV9+1,EV9),TIMEVALUE("06:00:00")+1)-MAX(EU9,TIMEVALUE("21:00:00")),0) -> 0.375 | EZ9: =IF(IF(EV9<EU9,EV9+1,EV9)>TIMEVALUE("06:00:00")+1,MIN(EV9+1,TIMEVALUE("07:00:00")+1)-TIMEVALUE("06:00:00")+1,0) -> 2.0416667 | FA9: 0.70833333 | FB9: 0.33333333 | FC9: =24*(MOD(FB9-FA9,1)) -> 15 | FD9: =IF(FA9>TIMEVALUE("21:00:00"),0,MIN(TIMEVALUE("21:00:00"),IF(FB9<FA9,FB9+1,FB9))-FA9) -> 0.16666667 | FE9: =IF(IF(FB9<FA9,FB9+1,FB9)>TIMEVALUE("21:00:00"),MIN(IF(FB9<FA9,FB9+1,FB9),TIMEVALUE("06:00:00")+1)-MAX(FA9,TIMEVALUE("21:00:00")),0) -> 0.375 | FF9: =IF(IF(FB9<FA9,FB9+1,FB9)>TIMEVALUE("06:00:00")+1,MIN(FB9+1,TIMEVALUE("07:00:00")+1)-TIMEVALUE("06:00:00")+1,0) -> 2.0416667 | FG9: 0.70833333 | FH9: 0.33333333 | FI9: =24*(MOD(FH9-FG9,1)) -> 15 | FJ9: =IF(FG9>TIMEVALUE("21:00:00"),0,MIN(TIMEVALUE("21:00:00"),IF(FH9<FG9,FH9+1,FH9))-FG9) -> 0.16666667 | FK9: =IF(IF(FH9<FG9,FH9+1,FH9)>TIMEVALUE("21:00:00"),MIN(IF(FH9<FG9,FH9+1,FH9),TIMEVALUE("06:00:00")+1)-MAX(FG9,TIMEVALUE("21:00:00")),0) -> 0.375 | FL9: =IF(IF(FH9<FG9,FH9+1,FH9)>TIMEVALUE("06:00:00")+1,MIN(FH9+1,TIMEVALUE("07:00:00")+1)-TIMEVALUE("06:00:00")+1,0) -> 2.0416667 | FM9: 0.70833333 | FN9: 0.33333333 | FO9: =24*(MOD(FN9-FM9,1)) -> 15 | FP9: =IF(FM9>TIMEVALUE("21:00:00"),0,MIN(TIMEVALUE("21:00:00"),IF(FN9<FM9,FN9+1,FN9))-FM9) -> 0.16666667 | FQ9: =IF(IF(FN9<FM9,FN9+1,FN9)>TIMEVALUE("21:00:00"),MIN(IF(FN9<FM9,FN9+1,FN9),TIMEVALUE("06:00:00")+1)-MAX(FM9,TIMEVALUE("21:00:00")),0) -> 0.375 | FR9: =IF(IF(FN9<FM9,FN9+1,FN9)>TIMEVALUE("06:00:00")+1,MIN(FN9+1,TIMEVALUE("07:00:00")+1)-TIMEVALUE("06:00:00")+1,0) -> 2.0416667 | FS9: 0.70833333 | FT9: 0.33333333 | FU9: =24*(MOD(FT9-FS9,1)) -> 15 | FV9: =IF(FS9>TIMEVALUE("21:00:00"),0,MIN(TIMEVALUE("21:00:00"),IF(FT9<FS9,FT9+1,FT9))-FS9) -> 0.16666667 | FW9: =IF(IF(FT9<FS9,FT9+1,FT9)>TIMEVALUE("21:00:00"),MIN(IF(FT9<FS9,FT9+1,FT9),TIMEVALUE("06:00:00")+1)-MAX(FS9,TIMEVALUE("21:00:00")),0) -> 0.375 | FX9: =IF(IF(FT9<FS9,FT9+1,FT9)>TIMEVALUE("06:00:00")+1,MIN(FT9+1,TIMEVALUE("07:00:00")+1)-TIMEVALUE("06:00:00")+1,0) -> 2.0416667 | FY9: 0.70833333 | FZ9: 0.33333333 | GA9: =24*(MOD(FZ9-FY9,1)) -> 15 | GB9: =IF(FY9>TIMEVALUE("21:00:00"),0,MIN(TIMEVALUE("21:00:00"),IF(FZ9<FY9,FZ9+1,FZ9))-FY9) -> 0.16666667 | GC9: =IF(IF(FZ9<FY9,FZ9+1,FZ9)>TIMEVALUE("21:00:00"),MIN(IF(FZ9<FY9,FZ9+1,FZ9),TIMEVALUE("06:00:00")+1)-MAX(FY9,TIMEVALUE("21:00:00")),0) -> 0.375 | GD9: =IF(IF(FZ9<FY9,FZ9+1,FZ9)>TIMEVALUE("06:00:00")+1,MIN(FZ9+1,TIMEVALUE("07:00:00")+1)-TIMEVALUE("06:00:00")+1,0) -> 2.0416667 | GE9: 0.70833333 | GF9: 0.33333333 | GG9: =24*(MOD(GF9-GE9,1)) -> 15 | GH9: =IF(GE9>TIMEVALUE("21:00:00"),0,MIN(TIMEVALUE("21:00:00"),IF(GF9<GE9,GF9+1,GF9))-GE9) -> 0.16666667 | GI9: =IF(IF(GF9<GE9,GF9+1,GF9)>TIMEVALUE("21:00:00"),MIN(IF(GF9<GE9,GF9+1,GF9),TIMEVALUE("06:00:00")+1)-MAX(GE9,TIMEVALUE("21:00:00")),0) -> 0.375 | GJ9: =IF(IF(GF9<GE9,GF9+1,GF9)>TIMEVALUE("06:00:00")+1,MIN(GF9+1,TIMEVALUE("07:00:00")+1)-TIMEVALUE("06:00:00")+1,0) -> 2.0416667
