Workbook
Name An: Sheet1!$AE$6
Name Aout: Sheet1!$D$46
Name Decembre: Sheet1!$AN$17
Name Janvier: Sheet1!$D$39
Name Juillet: Sheet1!$D$45
Name Mai: Sheet1!$D$43
Name Novembre: Sheet1!$D$49

Sheet Sheet1
B2: JOUR | G2: NUIT | L2: JOUR | M2: NUIT | N2: JOUR | O2: NUIT | P2: FERIER - JOUR | V2: FERIER - NUIT | AB2: FERIER - JOUR | AC2: FERIER - NUIT
B3: Lundi | C3: Mardi | D3: Mercredi | E3: Jeudi | F3: Vendredi | G3: Lundi | H3: Mardi | I3: Mercredi | J3: Jeudi | K3: Vendredi | L3: Samedi | M3: Samedi | N3: Dimanche | O3: Dimanche | P3: Lundi | Q3: Mardi | R3: Mercredi | S3: Jeudi | T3: Vendredi | U3: Samedi | V3: Lundi | W3: Mardi | X3: Mercredi | Y3: Jeudi | Z3: Vendredi | AA3: Samedi | AB3: Dimanche | AC3: Dimanche
B4: 06:00 - 21:00 | C4: 06:00 - 21:00 | D4: 06:00 - 21:00 | E4: 06:00 - 21:00 | F4: 06:00 - 21:00 | G4: 21:00 - 06:00 | H4: 21:00 - 06:00 | I4: 21:00 - 06:00 | J4: 21:00 - 06:00 | K4: 21:00 - 06:00 | L4: 06:00-21:00 | M4: 21:00-06:00 | N4: 06:00-21:00 | O4: 21:00-06:00 | P4: 06:00-21:00 | Q4: 06:00-21:00 | R4: 06:00-21:00 | S4: 06:00-21:00 | T4: 06:00-21:00 | U4: 06:00-21:00 | V4: 21:00-06:00 | W4: 21:00-06:00 | X4: 21:00-06:00 | Y4: 21:00-06:00 | Z4: 21:00-06:00 | AA4: 21:00-06:00 | AB4: 06:00-21:00 | AC4: 21:00-06:00
A5: 1 | B5: 23.8 | C5: 23.8 | D5: 23.8 | E5: 23.8 | F5: 23.8 | G5: 26.42 | H5: 26.42 | I5: 26.42 | J5: 26.42 | K5: 26.42 | L5: 23.8 | M5: 26.42 | N5: 26.18 | O5: 29.32 | P5: 47.6 | Q5: 47.6 | R5: 47.6 | S5: 47.6 | T5: 47.6 | U5: 47.6 | V5: 52.84 | W5: 52.84 | X5: 52.84 | Y5: 52.84 | Z5: 52.84 | AA5: 52.84 | AB5: 53.68 | AC5: 58.65
A6: 2 | B6: 24.4 | C6: 24.4 | D6: 24.4 | E6: 24.4 | F6: 24.4 | G6: 27.08 | H6: 27.08 | I6: 27.08 | J6: 27.08 | K6: 27.08 | L6: 24.4 | M6: 27.08 | N6: 26.84 | O6: 30.06 | P6: 48.8 | Q6: 48.8 | R6: 48.8 | S6: 48.8 | T6: 48.8 | U6: 48.8 | V6: 54.17 | W6: 54.17 | X6: 54.17 | Y6: 54.17 | Z6: 54.17 | AA6: 54.17 | AB6: 64.24 | AC6: 60.13
B35: 2019
B36: Jours feriés
B37: Jour de l'an | D37: =DATE(B35,1,1) -> 43466
B38: Pâques | D38: =IF(MOD(19*MOD(B35,19)+24,30)+MOD(2*MOD(B35,4)+4*MOD(B35,7)+6* MOD(19*MOD(B35,19)+24,30)+5,7)-9<=0,DATE(B35,3,22+MOD(19*MOD(B35, 19)+24,30)+MOD(2*MOD(B35,4)+4*MOD(B35,7)+6*MOD(19*MOD(B35,19)+24, 30)+5,7)),DATE(B35,4,MOD(19*MOD(B35,19)+24,30)+MOD(2*MOD(B35,4)+4* MOD(B35,7)+6*MOD(19*MOD(B35,19)+24,30)+5,7)-9)) -> 43576
B39: Lundi de Pâques | D39: =D38+1 -> 43577
B40: Fête du travail | D40: =DATE(B35,5,1) -> 43586
B41: Armistice 1945 | D41: =DATE(B35,5,8) -> 43593
B42: Ascension | D42: =D38+39 -> 43615
B43: Pentecôte | D43: =D38+49 -> 43625
B44: Lundi de Pentecote | D44: =D38+50 -> 43626
B45: Fête nationale | D45: =DATE(B35,7,14) -> 43660
B46: Assomption | D46: =DATE(B35,8,15) -> 43692
B47: Toussaint | D47: =DATE(B35,11,1) -> 43770
B48: Armistice 1918 | D48: =DATE(B35,11,11) -> 43780
B49: NOEL | D49: =DATE(B35,12,25) -> 43824

Sheet Sheet2
B1: 43586
D2: =INDEX({"Dimanche";"Lundi";"Mardi";"Mercredi";"Jeudi";"Vendredi";"Samedi"},WEEKDAY(D3)) -> Mercredi | J2: Coût Horaire | M2: =INDEX({"Dimanche";"Lundi";"Mardi";"Mercredi";"Jeudi";"Vendredi";"Samedi"},WEEKDAY(M3)) -> Jeudi | S2: =INDEX({"Dimanche";"Lundi";"Mardi";"Mercredi";"Jeudi";"Vendredi";"Samedi"},WEEKDAY(S3)) -> Vendredi | Y2: =INDEX({"Dimanche";"Lundi";"Mardi";"Mercredi";"Jeudi";"Vendredi";"Samedi"},WEEKDAY(Y3)) -> Samedi | AE2: =INDEX({"Dimanche";"Lundi";"Mardi";"Mercredi";"Jeudi";"Vendredi";"Samedi"},WEEKDAY(AE3)) -> Dimanche | AK2: =INDEX({"Dimanche";"Lundi";"Mardi";"Mercredi";"Jeudi";"Vendredi";"Samedi"},WEEKDAY(AK3)) -> Lundi | AQ2: =INDEX({"Dimanche";"Lundi";"Mardi";"Mercredi";"Jeudi";"Vendredi";"Samedi"},WEEKDAY(AQ3)) -> Mardi | AW2: =INDEX({"Dimanche";"Lundi";"Mardi";"Mercredi";"Jeudi";"Vendredi";"Samedi"},WEEKDAY(AW3)) -> Mercredi | BC2: =INDEX({"Dimanche";"Lundi";"Mardi";"Mercredi";"Jeudi";"Vendredi";"Samedi"},WEEKDAY(BC3)) -> Jeudi | BI2: =INDEX({"Dimanche";"Lundi";"Mardi";"Mercredi";"Jeudi";"Vendredi";"Samedi"},WEEKDAY(BI3)) -> Vendredi | BO2: =INDEX({"Dimanche";"Lundi";"Mardi";"Mercredi";"Jeudi";"Vendredi";"Samedi"},WEEKDAY(BO3)) -> Samedi | BU2: =INDEX({"Dimanche";"Lundi";"Mardi";"Mercredi";"Jeudi";"Vendredi";"Samedi"},WEEKDAY(BU3)) -> Dimanche | CA2: =INDEX({"Dimanche";"Lundi";"Mardi";"Mercredi";"Jeudi";"Vendredi";"Samedi"},WEEKDAY(CA3)) -> Lundi | CG2: =INDEX({"Dimanche";"Lundi";"Mardi";"Mercredi";"Jeudi";"Vendredi";"Samedi"},WEEKDAY(CG3)) -> Mardi | CM2: =INDEX({"Dimanche";"Lundi";"Mardi";"Mercredi";"Jeudi";"Vendredi";"Samedi"},WEEKDAY(CM3)) -> Mercredi | CS2: =INDEX({"Dimanche";"Lundi";"Mardi";"Mercredi";"Jeudi";"Vendredi";"Samedi"},WEEKDAY(CS3)) -> Jeudi | CY2: =INDEX({"Dimanche";"Lundi";"Mardi";"Mercredi";"Jeudi";"Vendredi";"Samedi"},WEEKDAY(CY3)) -> Vendredi | DE2: =INDEX({"Dimanche";"Lundi";"Mardi";"Mercredi";"Jeudi";"Vendredi";"Samedi"},WEEKDAY(DE3)) -> Samedi | DK2: =INDEX({"Dimanche";"Lundi";"Mardi";"Mercredi";"Jeudi";"Vendredi";"Samedi"},WEEKDAY(DK3)) -> Dimanche | DQ2: =INDEX({"Dimanche";"Lundi";"Mardi";"Mercredi";"Jeudi";"Vendredi";"Samedi"},WEEKDAY(DQ3)) -> Lundi | DW2: =INDEX({"Dimanche";"Lundi";"Mardi";"Mercredi";"Jeudi";"Vendredi";"Samedi"},WEEKDAY(DW3)) -> Mardi | EC2: =INDEX({"Dimanche";"Lundi";"Mardi";"Mercredi";"Jeudi";"Vendredi";"Samedi"},WEEKDAY(EC3)) -> Mercredi | EI2: =INDEX({"Dimanche";"Lundi";"Mardi";"Mercredi";"Jeudi";"Vendredi";"Samedi"},WEEKDAY(EI3)) -> Jeudi | EO2: =INDEX({"Dimanche";"Lundi";"Mardi";"Mercredi";"Jeudi";"Vendredi";"Samedi"},WEEKDAY(EO3)) -> Vendredi | EU2: =INDEX({"Dimanche";"Lundi";"Mardi";"Mercredi";"Jeudi";"Vendredi";"Samedi"},WEEKDAY(EU3)) -> Samedi | FA2: =INDEX({"Dimanche";"Lundi";"Mardi";"Mercredi";"Jeudi";"Vendredi";"Samedi"},WEEKDAY(FA3)) -> Dimanche | FG2: =INDEX({"Dimanche";"Lundi";"Mardi";"Mercredi";"Jeudi";"Vendredi";"Samedi"},WEEKDAY(FG3)) -> Lundi | FM2: =INDEX({"Dimanche";"Lundi";"Mardi";"Mercredi";"Jeudi";"Vendredi";"Samedi"},WEEKDAY(FM3)) -> Mardi | FS2: =INDEX({"Dimanche";"Lundi";"Mardi";"Mercredi";"Jeudi";"Vendredi";"Samedi"},WEEKDAY(FS3)) -> Mercredi | FY2: =INDEX({"Dimanche";"Lundi";"Mardi";"Mercredi";"Jeudi";"Vendredi";"Samedi"},WEEKDAY(FY3)) -> Jeudi | GE2: =INDEX({"Dimanche";"Lundi";"Mardi";"Mercredi";"Jeudi";"Vendredi";"Samedi"},WEEKDAY(GE3)) -> Vendredi
D3: =B1 -> 43586 | M3: =D3+1 -> 43587 | S3: =M3+1 -> 43588 | Y3: =S3+1 -> 43589 | AE3: =Y3+1 -> 43590 | AK3: =AE3+1 -> 43591 | AQ3: =AK3+1 -> 43592 | AW3: =AQ3+1 -> 43593 | BC3: =AW3+1 -> 43594 | BI3: =BC3+1 -> 43595 | BO3: =BI3+1 -> 43596 | BU3: =BO3+1 -> 43597 | CA3: =BU3+1 -> 43598 | CG3: =CA3+1 -> 43599 | CM3: =CG3+1 -> 43600 | CS3: =CM3+1 -> 43601 | CY3: =CS3+1 -> 43602 | DE3: =CY3+1 -> 43603 | DK3: =DE3+1 -> 43604 | DQ3: =DK3+1 -> 43605 | DW3: =DQ3+1 -> 43606 | EC3: =DW3+1 -> 43607 | EI3: =EC3+1 -> 43608 | EO3: =EI3+1 -> 43609 | EU3: =EO3+1 -> 43610 | FA3: =EU3+1 -> 43611 | FG3: =FA3+1 -> 43612 | FM3: =FG3+1 -> 43613 | FS3: =FM3+1 -> 43614 | FY3: =FS3+1 -> 43615 | GE3: =FY3+1 -> 43616
B5: Poste | C5: Note
F6: Total | G6: 06:00-21:00 | H6: 21:00-06:00 | I6: 06:00-08:00 | J6: =VLOOKUP($B$7,Sheet1!$A$5:$A$24,1,FALSE) -> 1 | K6: =VLOOKUP($B$7,Sheet1!$A$5:$A$24,1,FALSE) -> 1 | L6: =VLOOKUP($B$7,Sheet1!$A$5:$A$24,1,FALSE) -> 1 | O6: Total | P6: 06:00-21:00 | Q6: 21:00-06:00 | R6: 06:00-07:00 | U6: Total | V6: 06:00-21:00 | W6: 21:00-06:00 | X6: 06:00-07:00 | AA6: Total | AB6: 06:00-21:00 | AC6: 21:00-06:00 | AD6: 06:00-07:00 | AG6: Total | AH6: 06:00-21:00 | AI6: 21:00-06:00 | AJ6: 06:00-07:00 | AM6: Total | AN6: 06:00-21:00 | AO6: 21:00-06:00 | AP6: 06:00-07:00 | AS6: Total | AT6: 06:00-21:00 | AU6: 21:00-06:00 | AV6: 06:00-07:00 | AY6: Total | AZ6: 06:00-21:00 | BA6: 21:00-06:00 | BB6: 06:00-07:00 | BE6: Total | BF6: 06:00-21:00 | BG6: 21:00-06:00 | BH6: 06:00-07:00 | BK6: Total | BL6: 06:00-21:00 | BM6: 21:00-06:00 | BN6: 06:00-07:00 | BQ6: Total | BR6: 06:00-21:00 | BS6: 21:00-06:00 | BT6: 06:00-07:00 | BW6: Total | BX6: 06:00-21:00 | BY6: 21:00-06:00 | BZ6: 06:00-07:00 | CC6: Total | CD6: 06:00-21:00 | CE6: 21:00-06:00 | CF6: 06:00-07:00 | CI6: Total | CJ6: 06:00-21:00 | CK6: 21:00-06:00 | CL6: 06:00-07:00 | CO6: Total | CP6: 06:00-21:00 | CQ6: 21:00-06:00 | CR6: 06:00-07:00 | CU6: Total | CV6: 06:00-21:00 | CW6: 21:00-06:00 | CX6: 06:00-07:00 | DA6: Total | DB6: 06:00-21:00 | DC6: 21:00-06:00 | DD6: 06:00-07:00 | DG6: Total | DH6: 06:00-21:00 | DI6: 21:00-06:00 | DJ6: 06:00-07:00 | DM6: Total | DN6: 06:00-21:00 | DO6: 21:00-06:00 | DP6: 06:00-07:00 | DS6: Total | DT6: 06:00-21:00 | DU6: 21:00-06:00 | DV6: 06:00-07:00 | DY6: Total | DZ6: 06:00-21:00 | EA6: 21:00-06:00 | EB6: 06:00-07:00 | EE6: Total | EF6: 06:00-21:00 | EG6: 21:00-06:00 | EH6: 06:00-07:00 | EK6: Total | EL6: 06:00-21:00 | EM6: 21:00-06:00 | EN6: 06:00-07:00 | EQ6: Total | ER6: 06:00-21:00 | ES6: 21:00-06:00 | ET6: 06:00-07:00 | EW6: Total | EX6: 06:00-21:00 | EY6: 21:00-06:00 | EZ6: 06:00-07:00 | FC6: Total | FD6: 06:00-21:00 | FE6: 21:00-06:00 | FF6: 06:00-07:00 | FI6: Total | FJ6: 06:00-21:00 | FK6: 21:00-06:00 | FL6: 06:00-07:00 | FO6: Total | FP6: 06:00-21:00 | FQ6: 21:00-06:00 | FR6: 06:00-07:00 | FU6: Total | FV6: 06:00-21:00 | FW6: 21:00-06:00 | FX6: 06:00-07:00 | GA6: Total | GB6: 06:00-21:00 | GC6: 21:00-06:00 | GD6: 06:00-07:00 | GG6: Total | GH6: 06:00-21:00 | GI6: 21:00-06:00 | GJ6: 06:00-07:00
B7: 1 | D7: 0.70833333 | E7: 0.33333333 | F7: =24*(MOD(E7-D7,1)) -> 15 | G7: =IF(D7>TIMEVALUE("21:00:00"),0,MIN(TIMEVALUE("21:00:00"),IF(E7<D7,E7+1,E7))-D7) -> 0.16666667 | H7: =IF(IF(E7<D7,E7+1,E7)>TIMEVALUE("21:00:00"),MIN(IF(E7<D7,E7+1,E7),TIMEVALUE("06:00:00")+1)-MAX(D7,TIMEVALUE("21:00:00")),0) -> 0.375 | I7: =IF(IF(E7<D7,E7+1,E7)>TIMEVALUE("06:00:00")+1,MIN(E7+1,TIMEVALUE("08:00:00")+1)-TIMEVALUE("06:00:00")+1,0) -> 2.0833333 | J7: =_xlfn.IFS($J$6=1,G7*Sheet1!$B$5*24,$D$2="Lundi",TRUE,$D$2="Mardi",TRUE,$D$2="Mercredi",TRUE,$D$2="Jeudi",$D$2="Vendredi") -> 95.2 | K7: =_xlfn.IFS($K$6=1,H7*Sheet1!$G$5*24,$D$2="Lundi",TRUE,$D$2="Mardi",TRUE,$D$2="Mercredi",TRUE,$D$2="Jeudi",$D$2="Vendredi") -> 237.78 | L7: =_xlfn.IFS($L$6=1,(I7*Sheet1!$B$5*24),$D$2="Lundi",TRUE,$D$2="Mardi",TRUE,$D$2="Mercredi",TRUE,$D$2="Jeudi",$D$2="Vendredi") -> 1190 | M7: 0.70833333 | N7: 0.33333333 | O7: =24*(MOD(N7-M7,1)) -> 15 | P7: =IF(M7>TIMEVALUE("21:00:00"),0,MIN(TIMEVALUE("21:00:00"),IF(N7<M7,N7+1,N7))-M7) -> 0.16666667 | Q7: =IF(IF(N7<M7,N7+1,N7)>TIMEVALUE("21:00:00"),MIN(IF(N7<M7,N7+1,N7),TIMEVALUE("06:00:00")+1)-MAX(M7,TIMEVALUE("21:00:00")),0) -> 0.375 | R7: =IF(IF(N7<M7,N7+1,N7)>TIMEVALUE("06:00:00")+1,MIN(N7+1,TIMEVALUE("07:00:00")+1)-TIMEVALUE("06:00:00")+1,0) -> 2.0416667 | S7: 0.70833333 | T7: 0.33333333 | U7: =24*(MOD(T7-S7,1)) -> 15 | V7: =IF(S7>TIMEVALUE("21:00:00"),0,MIN(TIMEVALUE("21:00:00"),IF(T7<S7,T7+1,T7))-S7) -> 0.16666667 | W7: =IF(IF(T7<S7,T7+1,T7)>TIMEVALUE("21:00:00"),MIN(IF(T7<S7,T7+1,T7),TIMEVALUE("06:00:00")+1)-MAX(S7,TIMEVALUE("21:00:00")),0) -> 0.375 | X7: =IF(IF(T7<S7,T7+1,T7)>TIMEVALUE("06:00:00")+1,MIN(T7+1,TIMEVALUE("07:00:00")+1)-TIMEVALUE("06:00:00")+1,0) -> 2.0416667 | Y7: 0.70833333 | Z7: 0.33333333 | AA7: =24*(MOD(Z7-Y7,1)) -> 15 | AB7: =IF(Y7>TIMEVALUE("21:00:00"),0,MIN(TIMEVALUE("21:00:00"),IF(Z7<Y7,Z7+1,Z7))-Y7) -> 0.16666667 | AC7: =IF(IF(Z7<Y7,Z7+1,Z7)>TIMEVALUE("21:00:00"),MIN(IF(Z7<Y7,Z7+1,Z7),TIMEVALUE("06:00:00")+1)-MAX(Y7,TIMEVALUE("21:00:00")),0) -> 0.375 | AD7: =IF(IF(Z7<Y7,Z7+1,Z7)>TIMEVALUE("06:00:00")+1,MIN(Z7+1,TIMEVALUE("07:00:00")+1)-TIMEVALUE("06:00:00")+1,0) -> 2.0416667 | AE7: 0.70833333 | AF7: 0.33333333 | AG7: =24*(MOD(AF7-AE7,1)) -> 15 | AH7: =IF(AE7>TIMEVALUE("21:00:00"),0,MIN(TIMEVALUE("21:00:00"),IF(AF7<AE7,AF7+1,AF7))-AE7) -> 0.16666667 | AI7: =IF(IF(AF7<AE7,AF7+1,AF7)>TIMEVALUE("21:00:00"),MIN(IF(AF7<AE7,AF7+1,AF7),TIMEVALUE("06:00:00")+1)-MAX(AE7,TIMEVALUE("21:00:00")),0) -> 0.375 | AJ7: =IF(IF(AF7<AE7,AF7+1,AF7)>TIMEVALUE("06:00:00")+1,MIN(AF7+1,TIMEVALUE("07:00:00")+1)-TIMEVALUE("06:00:00")+1,0) -> 2.0416667 | AK7: 0.70833333 | AL7: 0.33333333 | AM7: =24*(MOD(AL7-AK7,1)) -> 15 | AN7: =IF(AK7>TIMEVALUE("21:00:00"),0,MIN(TIMEVALUE("21:00:00"),IF(AL7<AK7,AL7+1,AL7))-AK7) -> 0.16666667 | AO7: =IF(IF(AL7<AK7,AL7+1,AL7)>TIMEVALUE("21:00:00"),MIN(IF(AL7<AK7,AL7+1,AL7),TIMEVALUE("06:00:00")+1)-MAX(AK7,TIMEVALUE("21:00:00")),0) -> 0.375 | AP7: =IF(IF(AL7<AK7,AL7+1,AL7)>TIMEVALUE("06:00:00")+1,MIN(AL7+1,TIMEVALUE("07:00:00")+1)-TIMEVALUE("06:00:00")+1,0) -> 2.0416667 | AQ7: 0.70833333 | AR7: 0.33333333 | AS7: =24*(MOD(AR7-AQ7,1)) -> 15 | AT7: =IF(AQ7>TIMEVALUE("21:00:00"),0,MIN(TIMEVALUE("21:00:00"),IF(AR7<AQ7,AR7+1,AR7))-AQ7) -> 0.16666667 | AU7: =IF(IF(AR7<AQ7,AR7+1,AR7)>TIMEVALUE("21:00:00"),MIN(IF(AR7<AQ7,AR7+1,AR7),TIMEVALUE("06:00:00")+1)-MAX(AQ7,TIMEVALUE("21:00:00")),0) -> 0.375 | AV7: =IF(IF(AR7<AQ7,AR7+1,AR7)>TIMEVALUE("06:00:00")+1,MIN(AR7+1,TIMEVALUE("07:00:00")+1)-TIMEVALUE("06:00:00")+1,0) -> 2.0416667 | AW7: 0.70833333 | AX7: 0.33333333 | AY7: =24*(MOD(AX7-AW7,1)) -> 15 | AZ7: =IF(AW7>TIMEVALUE("21:00:00"),0,MIN(TIMEVALUE("21:00:00"),IF(AX7<AW7,AX7+1,AX7))-AW7) -> 0.16666667 | BA7: =IF(IF(AX7<AW7,AX7+1,AX7)>TIMEVALUE("21:00:00"),MIN(IF(AX7<AW7,AX7+1,AX7),TIMEVALUE("06:00:00")+1)-MAX(AW7,TIMEVALUE("21:00:00")),0) -> 0.375 | BB7: =IF(IF(AX7<AW7,AX7+1,AX7)>TIMEVALUE("06:00:00")+1,MIN(AX7+1,TIMEVALUE("07:00:00")+1)-TIMEVALUE("06:00:00")+1,0) -> 2.0416667 | BC7: 0.70833333 | BD7: 0.33333333 | BE7: =24*(MOD(BD7-BC7,1)) -> 15 | BF7: =IF(BC7>TIMEVALUE("21:00:00"),0,MIN(TIMEVALUE("21:00:00"),IF(BD7<BC7,BD7+1,BD7))-BC7) -> 0.16666667 | BG7: =IF(IF(BD7<BC7,BD7+1,BD7)>TIMEVALUE("21:00:00"),MIN(IF(BD7<BC7,BD7+1,BD7),TIMEVALUE("06:00:00")+1)-MAX(BC7,TIMEVALUE("21:00:00")),0) -> 0.375 | BH7: =IF(IF(BD7<BC7,BD7+1,BD7)>TIMEVALUE("06:00:00")+1,MIN(BD7+1,TIMEVALUE("07:00:00")+1)-TIMEVALUE("06:00:00")+1,0) -> 2.0416667 | BI7: 0.70833333 | BJ7: 0.33333333 | BK7: =24*(MOD(BJ7-BI7,1)) -> 15 | BL7: =IF(BI7>TIMEVALUE("21:00:00"),0,MIN(TIMEVALUE("21:00:00"),IF(BJ7<BI7,BJ7+1,BJ7))-BI7) -> 0.16666667 | BM7: =IF(IF(BJ7<BI7,BJ7+1,BJ7)>TIMEVALUE("21:00:00"),MIN(IF(BJ7<BI7,BJ7+1,BJ7),TIMEVALUE("06:00:00")+1)-MAX(BI7,TIMEVALUE("21:00:00")),0) -> 0.375 | BN7: =IF(IF(BJ7<BI7,BJ7+1,BJ7)>TIMEVALUE("06:00:00")+1,MIN(BJ7+1,TIMEVALUE("07:00:00")+1)-TIMEVALUE("06:00:00")+1,0) -> 2.0416667 | BO7: 0.70833333 | BP7: 0.33333333 | BQ7: =24*(MOD(BP7-BO7,1)) -> 15 | BR7: =IF(BO7>TIMEVALUE("21:00:00"),0,MIN(TIMEVALUE("21:00:00"),IF(BP7<BO7,BP7+1,BP7))-BO7) -> 0.16666667 | BS7: =IF(IF(BP7<BO7,BP7+1,BP7)>TIMEVALUE("21:00:00"),MIN(IF(BP7<BO7,BP7+1,BP7),TIMEVALUE("06:00:00")+1)-MAX(BO7,TIMEVALUE("21:00:00")),0) -> 0.375 | BT7: =IF(IF(BP7<BO7,BP7+1,BP7)>TIMEVALUE("06:00:00")+1,MIN(BP7+1,TIMEVALUE("07:00:00")+1)-TIMEVALUE("06:00:00")+1,0) -> 2.0416667 | BU7: 0.70833333 | BV7: 0.33333333 | BW7: =24*(MOD(BV7-BU7,1)) -> 15 | BX7: =IF(BU7>TIMEVALUE("21:00:00"),0,MIN(TIMEVALUE("21:00:00"),IF(BV7<BU7,BV7+1,BV7))-BU7) -> 0.16666667 | BY7: =IF(IF(BV7<BU7,BV7+1,BV7)>TIMEVALUE("21:00:00"),MIN(IF(BV7<BU7,BV7+1,BV7),TIMEVALUE("06:00:00")+1)-MAX(BU7,TIMEVALUE("21:00:00")),0) -> 0.375 | BZ7: =IF(IF(BV7<BU7,BV7+1,BV7)>TIMEVALUE("06:00:00")+1,MIN(BV7+1,TIMEVALUE("07:00:00")+1)-TIMEVALUE("06:00:00")+1,0) -> 2.0416667 | CA7: 0.70833333 | CB7: 0.33333333 | CC7: =24*(MOD(CB7-CA7,1)) -> 15 | CD7: =IF(CA7>TIMEVALUE("21:00:00"),0,MIN(TIMEVALUE("21:00:00"),IF(CB7<CA7,CB7+1,CB7))-CA7) -> 0.16666667 | CE7: =IF(IF(CB7<CA7,CB7+1,CB7)>TIMEVALUE("21:00:00"),MIN(IF(CB7<CA7,CB7+1,CB7),TIMEVALUE("06:00:00")+1)-MAX(CA7,TIMEVALUE("21:00:00")),0) -> 0.375 | CF7: =IF(IF(CB7<CA7,CB7+1,CB7)>TIMEVALUE("06:00:00")+1,MIN(CB7+1,TIMEVALUE("07:00:00")+1)-TIMEVALUE("06:00:00")+1,0) -> 2.0416667 | CG7: 0.70833333 | CH7: 0.33333333 | CI7: =24*(MOD(CH7-CG7,1)) -> 15 | CJ7: =IF(CG7>TIMEVALUE("21:00:00"),0,MIN(TIMEVALUE("21:00:00"),IF(CH7<CG7,CH7+1,CH7))-CG7) -> 0.16666667 | CK7: =IF(IF(CH7<CG7,CH7+1,CH7)>TIMEVALUE("21:00:00"),MIN(IF(CH7<CG7,CH7+1,CH7),TIMEVALUE("06:00:00")+1)-MAX(CG7,TIMEVALUE("21:00:00")),0) -> 0.375 | CL7: =IF(IF(CH7<CG7,CH7+1,CH7)>TIMEVALUE("06:00:00")+1,MIN(CH7+1,TIMEVALUE("07:00:00")+1)-TIMEVALUE("06:00:00")+1,0) -> 2.0416667 | CM7: 0.70833333 | CN7: 0.33333333 | CO7: =24*(MOD(CN7-CM7,1)) -> 15 | CP7: =IF(CM7>TIMEVALUE("21:00:00"),0,MIN(TIMEVALUE("21:00:00"),IF(CN7<CM7,CN7+1,CN7))-CM7) -> 0.16666667 | CQ7: =IF(IF(CN7<CM7,CN7+1,CN7)>TIMEVALUE("21:00:00"),MIN(IF(CN7<CM7,CN7+1,CN7),TIMEVALUE("06:00:00")+1)-MAX(CM7,TIMEVALUE("21:00:00")),0) -> 0.375 | CR7: =IF(IF(CN7<CM7,CN7+1,CN7)>TIMEVALUE("06:00:00")+1,MIN(CN7+1,TIMEVALUE("07:00:00")+1)-TIMEVALUE("06:00:00")+1,0) -> 2.0416667 | CS7: 0.70833333 | CT7: 0.33333333 | CU7: =24*(MOD(CT7-CS7,1)) -> 15 | CV7: =IF(CS7>TIMEVALUE("21:00:00"),0,MIN(TIMEVALUE("21:00:00"),IF(CT7<CS7,CT7+1,CT7))-CS7) -> 0.16666667 | CW7: =IF(IF(CT7<CS7,CT7+1,CT7)>TIMEVALUE("21:00:00"),MIN(IF(CT7<CS7,CT7+1,CT7),TIMEVALUE("06:00:00")+1)-MAX(CS7,TIMEVALUE("21:00:00")),0) -> 0.375 | CX7: =IF(IF(CT7<CS7,CT7+1,CT7)>TIMEVALUE("06:00:00")+1,MIN(CT7+1,TIMEVALUE("07:00:00")+1)-TIMEVALUE("06:00:00")+1,0) -> 2.0416667 | CY7: 0.70833333 | CZ7: 0.33333333 | DA7: =24*(MOD(CZ7-CY7,1)) -> 15 | DB7: =IF(CY7>TIMEVALUE("21:00:00"),0,MIN(TIMEVALUE("21:00:00"),IF(CZ7<CY7,CZ7+1,CZ7))-CY7) -> 0.16666667 | DC7: =IF(IF(CZ7<CY7,CZ7+1,CZ7)>TIMEVALUE("21:00:00"),MIN(IF(CZ7<CY7,CZ7+1,CZ7),TIMEVALUE("06:00:00")+1)-MAX(CY7,TIMEVALUE("21:00:00")),0) -> 0.375 | DD7: =IF(IF(CZ7<CY7,CZ7+1,CZ7)>TIMEVALUE("06:00:00")+1,MIN(CZ7+1,TIMEVALUE("07:00:00")+1)-TIMEVALUE("06:00:00")+1,0) -> 2.0416667 | DE7: 0.70833333 | DF7: 0.33333333 | DG7: =24*(MOD(DF7-DE7,1)) -> 15 | DH7: =IF(DE7>TIMEVALUE("21:00:00"),0,MIN(TIMEVALUE("21:00:00"),IF(DF7<DE7,DF7+1,DF7))-DE7) -> 0.16666667 | DI7: =IF(IF(DF7<DE7,DF7+1,DF7)>TIMEVALUE("21:00:00"),MIN(IF(DF7<DE7,DF7+1,DF7),TIMEVALUE("06:00:00")+1)-MAX(DE7,TIMEVALUE("21:00:00")),0) -> 0.375 | DJ7: =IF(IF(DF7<DE7,DF7+1,DF7)>TIMEVALUE("06:00:00")+1,MIN(DF7+1,TIMEVALUE("07:00:00")+1)-TIMEVALUE("06:00:00")+1,0) -> 2.0416667 | DK7: 0.70833333 | DL7: 0.33333333 | DM7: =24*(MOD(DL7-DK7,1)) -> 15 | DN7: =IF(DK7>TIMEVALUE("21:00:00"),0,MIN(TIMEVALUE("21:00:00"),IF(DL7<DK7,DL7+1,DL7))-DK7) -> 0.16666667 | DO7: =IF(IF(DL7<DK7,DL7+1,DL7)>TIMEVALUE("21:00:00"),MIN(IF(DL7<DK7,DL7+1,DL7),TIMEVALUE("06:00:00")+1)-MAX(DK7,TIMEVALUE("21:00:00")),0) -> 0.375 | DP7: =IF(IF(DL7<DK7,DL7+1,DL7)>TIMEVALUE("06:00:00")+1,MIN(DL7+1,TIMEVALUE("07:00:00")+1)-TIMEVALUE("06:00:00")+1,0) -> 2.0416667 | DQ7: 0.70833333 | DR7: 0.33333333 | DS7: =24*(MOD(DR7-DQ7,1)) -> 15 | DT7: =IF(DQ7>TIMEVALUE("21:00:00"),0,MIN(TIMEVALUE("21:00:00"),IF(DR7<DQ7,DR7+1,DR7))-DQ7) -> 0.16666667 | DU7: =IF(IF(DR7<DQ7,DR7+1,DR7)>TIMEVALUE("21:00:00"),MIN(IF(DR7<DQ7,DR7+1,DR7),TIMEVALUE("06:00:00")+1)-MAX(DQ7,TIMEVALUE("21:00:00")),0) -> 0.375 | DV7: =IF(IF(DR7<DQ7,DR7+1,DR7)>TIMEVALUE("06:00:00")+1,MIN(DR7+1,TIMEVALUE("07:00:00")+1)-TIMEVALUE("06:00:00")+1,0) -> 2.0416667 | DW7: 0.70833333 | DX7: 0.33333333 | DY7: =24*(MOD(DX7-DW7,1)) -> 15 | DZ7: =IF(DW7>TIMEVALUE("21:00:00"),0,MIN(TIMEVALUE("21:00:00"),IF(DX7<DW7,DX7+1,DX7))-DW7) -> 0.16666667 | EA7: =IF(IF(DX7<DW7,DX7+1,DX7)>TIMEVALUE("21:00:00"),MIN(IF(DX7<DW7,DX7+1,DX7),TIMEVALUE("06:00:00")+1)-MAX(DW7,TIMEVALUE("21:00:00")),0) -> 0.375 | EB7: =IF(IF(DX7<DW7,DX7+1,DX7)>TIMEVALUE("06:00:00")+1,MIN(DX7+1,TIMEVALUE("07:00:00")+1)-TIMEVALUE("06:00:00")+1,0) -> 2.0416667 | EC7: 0.70833333 | ED7: 0.33333333 | EE7: =24*(MOD(ED7-EC7,1)) -> 15 | EF7: =IF(EC7>TIMEVALUE("21:00:00"),0,MIN(TIMEVALUE("21:00:00"),IF(ED7<EC7,ED7+1,ED7))-EC7) -> 0.16666667 | EG7: =IF(IF(ED7<EC7,ED7+1,ED7)>TIMEVALUE("21:00:00"),MIN(IF(ED7<EC7,ED7+1,ED7),TIMEVALUE("06:00:00")+1)-MAX(EC7,TIMEVALUE("21:00:00")),0) -> 0.375 | EH7: =IF(IF(ED7<EC7,ED7+1,ED7)>TIMEVALUE("06:00:00")+1,MIN(ED7+1,TIMEVALUE("07:00:00")+1)-TIMEVALUE("06:00:00")+1,0) -> 2.0416667 | EI7: 0.70833333 | EJ7: 0.33333333 | EK7: =24*(MOD(EJ7-EI7,1)) -> 15 | EL7: =IF(EI7>TIMEVALUE("21:00:00"),0,MIN(TIMEVALUE("21:00:00"),IF(EJ7<EI7,EJ7+1,EJ7))-EI7) -> 0.16666667 | EM7: =IF(IF(EJ7<EI7,EJ7+1,EJ7)>TIMEVALUE("21:00:00"),MIN(IF(EJ7<EI7,EJ7+1,EJ7),TIMEVALUE("06:00:00")+1)-MAX(EI7,TIMEVALUE("21:00:00")),0) -> 0.375 | EN7: =IF(IF(EJ7<EI7,EJ7+1,EJ7)>TIMEVALUE("06:00:00")+1,MIN(EJ7+1,TIMEVALUE("07:00:00")+1)-TIMEVALUE("06:00:00")+1,0) -> 2.0416667 | EO7: 0.70833333 | EP7: 0.33333333 | EQ7: =24*(MOD(EP7-EO7,1)) -> 15 | ER7: =IF(EO7>TIMEVALUE("21:00:00"),0,MIN(TIMEVALUE("21:00:00"),IF(EP7<EO7,EP7+1,EP7))-EO7) -> 0.16666667 | ES7: =IF(IF(EP7<EO7,EP7+1,EP7)>TIMEVALUE("21:00:00"),MIN(IF(EP7<EO7,EP7+1,EP7),TIMEVALUE("06:00:00")+1)-MAX(EO7,TIMEVALUE("21:00:00")),0) -> 0.375 | ET7: =IF(IF(EP7<EO7,EP7+1,EP7)>TIMEVALUE("06:00:00")+1,MIN(EP7+1,TIMEVALUE("07:00:00")+1)-TIMEVALUE("06:00:00")+1,0) -> 2.0416667 | EU7: 0.70833333 | EV7: 0.33333333 | EW7: =24*(MOD(EV7-EU7,1)) -> 15 | EX7: =IF(EU7>TIMEVALUE("21:00:00"),0,MIN(TIMEVALUE("21:00:00"),IF(EV7<EU7,EV7+1,EV7))-EU7) -> 0.16666667 | EY7: =IF(IF(EV7<EU7,EV7+1,EV7)>TIMEVALUE("21:00:00"),MIN(IF(EV7<EU7,EV7+1,EV7),TIMEVALUE("06:00:00")+1)-MAX(EU7,TIMEVALUE("21:00:00")),0) -> 0.375 | EZ7: =IF(IF(EV7<EU7,EV7+1,EV7)>TIMEVALUE("06:00:00")+1,MIN(EV7+1,TIMEVALUE("07:00:00")+1)-TIMEVALUE("06:00:00")+1,0) -> 2.0416667 | FA7: 0.70833333 | FB7: 0.33333333 | FC7: =24*(MOD(FB7-FA7,1)) -> 15 | FD7: =IF(FA7>TIMEVALUE("21:00:00"),0,MIN(TIMEVALUE("21:00:00"),IF(FB7<FA7,FB7+1,FB7))-FA7) -> 0.16666667 | FE7: =IF(IF(FB7<FA7,FB7+1,FB7)>TIMEVALUE("21:00:00"),MIN(IF(FB7<FA7,FB7+1,FB7),TIMEVALUE("06:00:00")+1)-MAX(FA7,TIMEVALUE("21:00:00")),0) -> 0.375 | FF7: =IF(IF(FB7<FA7,FB7+1,FB7)>TIMEVALUE("06:00:00")+1,MIN(FB7+1,TIMEVALUE("07:00:00")+1)-TIMEVALUE("06:00:00")+1,0) -> 2.0416667 | FG7: 0.70833333 | FH7: 0.33333333 | FI7: =24*(MOD(FH7-FG7,1)) -> 15 | FJ7: =IF(FG7>TIMEVALUE("21:00:00"),0,MIN(TIMEVALUE("21:00:00"),IF(FH7<FG7,FH7+1,FH7))-FG7) -> 0.16666667 | FK7: =IF(IF(FH7<FG7,FH7+1,FH7)>TIMEVALUE("21:00:00"),MIN(IF(FH7<FG7,FH7+1,FH7),TIMEVALUE("06:00:00")+1)-MAX(FG7,TIMEVALUE("21:00:00")),0) -> 0.375 | FL7: =IF(IF(FH7<FG7,FH7+1,FH7)>TIMEVALUE("06:00:00")+1,MIN(FH7+1,TIMEVALUE("07:00:00")+1)-TIMEVALUE("06:00:00")+1,0) -> 2.0416667 | FM7: 0.70833333 | FN7: 0.33333333 | FO7: =24*(MOD(FN7-FM7,1)) -> 15 | FP7: =IF(FM7>TIMEVALUE("21:00:00"),0,MIN(TIMEVALUE("21:00:00"),IF(FN7<FM7,FN7+1,FN7))-FM7) -> 0.16666667 | FQ7: =IF(IF(FN7<FM7,FN7+1,FN7)>TIMEVALUE("21:00:00"),MIN(IF(FN7<FM7,FN7+1,FN7),TIMEVALUE("06:00:00")+1)-MAX(FM7,TIMEVALUE("21:00:00")),0) -> 0.375 | FR7: =IF(IF(FN7<FM7,FN7+1,FN7)>TIMEVALUE("06:00:00")+1,MIN(FN7+1,TIMEVALUE("07:00:00")+1)-TIMEVALUE("06:00:00")+1,0) -> 2.0416667 | FS7: 0.70833333 | FT7: 0.33333333 | FU7: =24*(MOD(FT7-FS7,1)) -> 15 | FV7: =IF(FS7>TIMEVALUE("21:00:00"),0,MIN(TIMEVALUE("21:00:00"),IF(FT7<FS7,FT7+1,FT7))-FS7) -> 0.16666667 | FW7: =IF(IF(FT7<FS7,FT7+1,FT7)>TIMEVALUE("21:00:00"),MIN(IF(FT7<FS7,FT7+1,FT7),TIMEVALUE("06:00:00")+1)-MAX(FS7,TIMEVALUE("21:00:00")),0) -> 0.375 | FX7: =IF(IF(FT7<FS7,FT7+1,FT7)>TIMEVALUE("06:00:00")+1,MIN(FT7+1,TIMEVALUE("07:00:00")+1)-TIMEVALUE("06:00:00")+1,0) -> 2.0416667 | FY7: 0.70833333 | FZ7: 0.33333333 | GA7: =24*(MOD(FZ7-FY7,1)) -> 15 | GB7: =IF(FY7>TIMEVALUE("21:00:00"),0,MIN(TIMEVALUE("21:00:00"),IF(FZ7<FY7,FZ7+1,FZ7))-FY7) -> 0.16666667 | GC7: =IF(IF(FZ7<FY7,FZ7+1,FZ7)>TIMEVALUE("21:00:00"),MIN(IF(FZ7<FY7,FZ7+1,FZ7),TIMEVALUE("06:00:00")+1)-MAX(FY7,TIMEVALUE("21:00:00")),0) -> 0.375 | GD7: =IF(IF(FZ7<FY7,FZ7+1,FZ7)>TIMEVALUE("06:00:00")+1,MIN(FZ7+1,TIMEVALUE("07:00:00")+1)-TIMEVALUE("06:00:00")+1,0) -> 2.0416667 | GE7: 0.70833333 | GF7: 0.33333333 | GG7: =24*(MOD(GF7-GE7,1)) -> 15 | GH7: =IF(GE7>TIMEVALUE("21:00:00"),0,MIN(TIMEVALUE("21:00:00"),IF(GF7<GE7,GF7+1,GF7))-GE7) -> 0.16666667 | GI7: =IF(IF(GF7<GE7,GF7+1,GF7)>TIMEVALUE("21:00:00"),MIN(IF(GF7<GE7,GF7+1,GF7),TIMEVALUE("06:00:00")+1)-MAX(GE7,TIMEVALUE("21:00:00")),0) -> 0.375 | GJ7: =IF(IF(GF7<GE7,GF7+1,GF7)>TIMEVALUE("06:00:00")+1,MIN(GF7+1,TIMEVALUE("07:00:00")+1)-TIMEVALUE("06:00:00")+1,0) -> 2.0416667
B8: 2 | D8: 0.25 | E8: 0.8125 | F8: =24*(MOD(E8-D8,1)) -> 13.5 | G8: =IF(D8>TIMEVALUE("21:00:00"),0,MIN(TIMEVALUE("21:00:00"),IF(E8<D8,E8+1,E8))-D8) -> 0.5625 | H8: =IF(IF(E8<D8,E8+1,E8)>TIMEVALUE("21:00:00"),MIN(IF(E8<D8,E8+1,E8),TIMEVALUE("06:00:00")+1)-MAX(D8,TIMEVALUE("21:00:00")),0) -> 0 | I8: =IF(IF(E8<D8,E8+1,E8)>TIMEVALUE("06:00:00")+1,MIN(E8+1,TIMEVALUE("07:00:00")+1)-TIMEVALUE("06:00:00")+1,0) -> 0 | J8: =_xlfn.IFS($J$6=1,G8*Sheet1!$B$5*24,$D$2="Lundi",TRUE,$D$2="Mardi",TRUE,$D$2="Mercredi",TRUE,$D$2="Jeudi",$D$2="Vendredi") -> 321.3 | K8: =_xlfn.IFS($K$6=1,H8*Sheet1!$G$5*24,$D$2="Lundi",TRUE,$D$2="Mardi",TRUE,$D$2="Mercredi",TRUE,$D$2="Jeudi",$D$2="Vendredi") -> 0 | L8: =_xlfn.IFS($L$6=1,I8*Sheet1!$B$5,$D$2="Lundi",TRUE,$D$2="Mardi",TRUE,$D$2="Mercredi",TRUE,$D$2="Jeudi",$D$2="Vendredi") -> 0 | M8: 0.70833333 | N8: 0.33333333 | O8: =24*(MOD(N8-M8,1)) -> 15 | P8: =IF(M8>TIMEVALUE("21:00:00"),0,MIN(TIMEVALUE("21:00:00"),IF(N8<M8,N8+1,N8))-M8) -> 0.16666667 | Q8: =IF(IF(N8<M8,N8+1,N8)>TIMEVALUE("21:00:00"),MIN(IF(N8<M8,N8+1,N8),TIMEVALUE("06:00:00")+1)-MAX(M8,TIMEVALUE("21:00:00")),0) -> 0.375 | R8: =IF(IF(N8<M8,N8+1,N8)>TIMEVALUE("06:00:00")+1,MIN(N8+1,TIMEVALUE("07:00:00")+1)-TIMEVALUE("06:00:00")+1,0) -> 2.0416667 | S8: 0.70833333 | T8: 0.33333333 | U8: =24*(MOD(T8-S8,1)) -> 15 | V8: =IF(S8>TIMEVALUE("21:00:00"),0,MIN(TIMEVALUE("21:00:00"),IF(T8<S8,T8+1,T8))-S8) -> 0.16666667 | W8: =IF(IF(T8<S8,T8+1,T8)>TIMEVALUE("21:00:00"),MIN(IF(T8<S8,T8+1,T8),TIMEVALUE("06:00:00")+1)-MAX(S8,TIMEVALUE("21:00:00")),0) -> 0.375 | X8: =IF(IF(T8<S8,T8+1,T8)>TIMEVALUE("06:00:00")+1,MIN(T8+1,TIMEVALUE("07:00:00")+1)-TIMEVALUE("06:00:00")+1,0) -> 2.0416667 | Y8: 0.70833333 | Z8: 0.33333333 | AA8: =24*(MOD(Z8-Y8,1)) -> 15 | AB8: =IF(Y8>TIMEVALUE("21:00:00"),0,MIN(TIMEVALUE("21:00:00"),IF(Z8<Y8,Z8+1,Z8))-Y8) -> 0.16666667 | AC8: =IF(IF(Z8<Y8,Z8+1,Z8)>TIMEVALUE("21:00:00"),MIN(IF(Z8<Y8,Z8+1,Z8),TIMEVALUE("06:00:00")+1)-MAX(Y8,TIMEVALUE("21:00:00")),0) -> 0.375 | AD8: =IF(IF(Z8<Y8,Z8+1,Z8)>TIMEVALUE("06:00:00")+1,MIN(Z8+1,TIMEVALUE("07:00:00")+1)-TIMEVALUE("06:00:00")+1,0) -> 2.0416667 | AE8: 0.70833333 | AF8: 0.33333333 | AG8: =24*(MOD(AF8-AE8,1)) -> 15 | AH8: =IF(AE8>TIMEVALUE("21:00:00"),0,MIN(TIMEVALUE("21:00:00"),IF(AF8<AE8,AF8+1,AF8))-AE8) -> 0.16666667 | AI8: =IF(IF(AF8<AE8,AF8+1,AF8)>TIMEVALUE("21:00:00"),MIN(IF(AF8<AE8,AF8+1,AF8),TIMEVALUE("06:00:00")+1)-MAX(AE8,TIMEVALUE("21:00:00")),0) -> 0.375 | AJ8: =IF(IF(AF8<AE8,AF8+1,AF8)>TIMEVALUE("06:00:00")+1,MIN(AF8+1,TIMEVALUE("07:00:00")+1)-TIMEVALUE("06:00:00")+1,0) -> 2.0416667 | AK8: 0.70833333 | AL8: 0.33333333 | AM8: =24*(MOD(AL8-AK8,1)) -> 15 | AN8: =IF(AK8>TIMEVALUE("21:00:00"),0,MIN(TIMEVALUE("21:00:00"),IF(AL8<AK8,AL8+1,AL8))-AK8) -> 0.16666667 | AO8: =IF(IF(AL8<AK8,AL8+1,AL8)>TIMEVALUE("21:00:00"),MIN(IF(AL8<AK8,AL8+1,AL8),TIMEVALUE("06:00:00")+1)-MAX(AK8,TIMEVALUE("21:00:00")),0) -> 0.375 | AP8: =IF(IF(AL8<AK8,AL8+1,AL8)>TIMEVALUE("06:00:00")+1,MIN(AL8+1,TIMEVALUE("07:00:00")+1)-TIMEVALUE("06:00:00")+1,0) -> 2.0416667 | AQ8: 0.70833333 | AR8: 0.33333333 | AS8: =24*(MOD(AR8-AQ8,1)) -> 15 | AT8: =IF(AQ8>TIMEVALUE("21:00:00"),0,MIN(TIMEVALUE("21:00:00"),IF(AR8<AQ8,AR8+1,AR8))-AQ8) -> 0.16666667 | AU8: =IF(IF(AR8<AQ8,AR8+1,AR8)>TIMEVALUE("21:00:00"),MIN(IF(AR8<AQ8,AR8+1,AR8),TIMEVALUE("06:00:00")+1)-MAX(AQ8,TIMEVALUE("21:00:00")),0) -> 0.375 | AV8: =IF(IF(AR8<AQ8,AR8+1,AR8)>TIMEVALUE("06:00:00")+1,MIN(AR8+1,TIMEVALUE("07:00:00")+1)-TIMEVALUE("06:00:00")+1,0) -> 2.0416667 | AW8: 0.70833333 | AX8: 0.33333333 | AY8: =24*(MOD(AX8-AW8,1)) -> 15 | AZ8: =IF(AW8>TIMEVALUE("21:00:00"),0,MIN(TIMEVALUE("21:00:00"),IF(AX8<AW8,AX8+1,AX8))-AW8) -> 0.16666667 | BA8: =IF(IF(AX8<AW8,AX8+1,AX8)>TIMEVALUE("21:00:00"),MIN(IF(AX8<AW8,AX8+1,AX8),TIMEVALUE("06:00:00")+1)-MAX(AW8,TIMEVALUE("21:00:00")),0) -> 0.375 | BB8: =IF(IF(AX8<AW8,AX8+1,AX8)>TIMEVALUE("06:00:00")+1,MIN(AX8+1,TIMEVALUE("07:00:00")+1)-TIMEVALUE("06:00:00")+1,0) -> 2.0416667 | BC8: 0.70833333 | BD8: 0.33333333 | BE8: =24*(MOD(BD8-BC8,1)) -> 15 | BF8: =IF(BC8>TIMEVALUE("21:00:00"),0,MIN(TIMEVALUE("21:00:00"),IF(BD8<BC8,BD8+1,BD8))-BC8) -> 0.16666667 | BG8: =IF(IF(BD8<BC8,BD8+1,BD8)>TIMEVALUE("21:00:00"),MIN(IF(BD8<BC8,BD8+1,BD8),TIMEVALUE("06:00:00")+1)-MAX(BC8,TIMEVALUE("21:00:00")),0) -> 0.375 | BH8: =IF(IF(BD8<BC8,BD8+1,BD8)>TIMEVALUE("06:00:00")+1,MIN(BD8+1,TIMEVALUE("07:00:00")+1)-TIMEVALUE("06:00:00")+1,0) -> 2.0416667 | BI8: 0.70833333 | BJ8: 0.33333333 | BK8: =24*(MOD(BJ8-BI8,1)) -> 15 | BL8: =IF(BI8>TIMEVALUE("21:00:00"),0,MIN(TIMEVALUE("21:00:00"),IF(BJ8<BI8,BJ8+1,BJ8))-BI8) -> 0.16666667 | BM8: =IF(IF(BJ8<BI8,BJ8+1,BJ8)>TIMEVALUE("21:00:00"),MIN(IF(BJ8<BI8,BJ8+1,BJ8),TIMEVALUE("06:00:00")+1)-MAX(BI8,TIMEVALUE("21:00:00")),0) -> 0.375 | BN8: =IF(IF(BJ8<BI8,BJ8+1,BJ8)>TIMEVALUE("06:00:00")+1,MIN(BJ8+1,TIMEVALUE("07:00:00")+1)-TIMEVALUE("06:00:00")+1,0) -> 2.0416667 | BO8: 0.70833333 | BP8: 0.33333333 | BQ8: =24*(MOD(BP8-BO8,1)) -> 15 | BR8: =IF(BO8>TIMEVALUE("21:00:00"),0,MIN(TIMEVALUE("21:00:00"),IF(BP8<BO8,BP8+1,BP8))-BO8) -> 0.16666667 | BS8: =IF(IF(BP8<BO8,BP8+1,BP8)>TIMEVALUE("21:00:00"),MIN(IF(BP8<BO8,BP8+1,BP8),TIMEVALUE("06:00:00")+1)-MAX(BO8,TIMEVALUE("21:00:00")),0) -> 0.375 | BT8: =IF(IF(BP8<BO8,BP8+1,BP8)>TIMEVALUE("06:00:00")+1,MIN(BP8+1,TIMEVALUE("07:00:00")+1)-TIMEVALUE("06:00:00")+1,0) -> 2.0416667 | BU8: 0.70833333 | BV8: 0.33333333 | BW8: =24*(MOD(BV8-BU8,1)) -> 15 | BX8: =IF(BU8>TIMEVALUE("21:00:00"),0,MIN(TIMEVALUE("21:00:00"),IF(BV8<BU8,BV8+1,BV8))-BU8) -> 0.16666667 | BY8: =IF(IF(BV8<BU8,BV8+1,BV8)>TIMEVALUE("21:00:00"),MIN(IF(BV8<BU8,BV8+1,BV8),TIMEVALUE("06:00:00")+1)-MAX(BU8,TIMEVALUE("21:00:00")),0) -> 0.375 | BZ8: =IF(IF(BV8<BU8,BV8+1,BV8)>TIMEVALUE("06:00:00")+1,MIN(BV8+1,TIMEVALUE("07:00:00")+1)-TIMEVALUE("06:00:00")+1,0) -> 2.0416667 | CA8: 0.70833333 | CB8: 0.33333333 | CC8: =24*(MOD(CB8-CA8,1)) -> 15 | CD8: =IF(CA8>TIMEVALUE("21:00:00"),0,MIN(TIMEVALUE("21:00:00"),IF(CB8<CA8,CB8+1,CB8))-CA8) -> 0.16666667 | CE8: =IF(IF(CB8<CA8,CB8+1,CB8)>TIMEVALUE("21:00:00"),MIN(IF(CB8<CA8,CB8+1,CB8),TIMEVALUE("06:00:00")+1)-MAX(CA8,TIMEVALUE("21:00:00")),0) -> 0.375 | CF8: =IF(IF(CB8<CA8,CB8+1,CB8)>TIMEVALUE("06:00:00")+1,MIN(CB8+1,TIMEVALUE("07:00:00")+1)-TIMEVALUE("06:00:00")+1,0) -> 2.0416667 | CG8: 0.70833333 | CH8: 0.33333333 | CI8: =24*(MOD(CH8-CG8,1)) -> 15 | CJ8: =IF(CG8>TIMEVALUE("21:00:00"),0,MIN(TIMEVALUE("21:00:00"),IF(CH8<CG8,CH8+1,CH8))-CG8) -> 0.16666667 | CK8: =IF(IF(CH8<CG8,CH8+1,CH8)>TIMEVALUE("21:00:00"),MIN(IF(CH8<CG8,CH8+1,CH8),TIMEVALUE("06:00:00")+1)-MAX(CG8,TIMEVALUE("21:00:00")),0) -> 0.375 | CL8: =IF(IF(CH8<CG8,CH8+1,CH8)>TIMEVALUE("06:00:00")+1,MIN(CH8+1,TIMEVALUE("07:00:00")+1)-TIMEVALUE("06:00:00")+1,0) -> 2.0416667 | CM8: 0.70833333 | CN8: 0.33333333 | CO8: =24*(MOD(CN8-CM8,1)) -> 15 | CP8: =IF(CM8>TIMEVALUE("21:00:00"),0,MIN(TIMEVALUE("21:00:00"),IF(CN8<CM8,CN8+1,CN8))-CM8) -> 0.16666667 | CQ8: =IF(IF(CN8<CM8,CN8+1,CN8)>TIMEVALUE("21:00:00"),MIN(IF(CN8<CM8,CN8+1,CN8),TIMEVALUE("06:00:00")+1)-MAX(CM8,TIMEVALUE("21:00:00")),0) -> 0.375 | CR8: =IF(IF(CN8<CM8,CN8+1,CN8)>TIMEVALUE("06:00:00")+1,MIN(CN8+1,TIMEVALUE("07:00:00")+1)-TIMEVALUE("06:00:00")+1,0) -> 2.0416667 | CS8: 0.70833333 | CT8: 0.33333333 | CU8: =24*(MOD(CT8-CS8,1)) -> 15 | CV8: =IF(CS8>TIMEVALUE("21:00:00"),0,MIN(TIMEVALUE("21:00:00"),IF(CT8<CS8,CT8+1,CT8))-CS8) -> 0.16666667 | CW8: =IF(IF(CT8<CS8,CT8+1,CT8)>TIMEVALUE("21:00:00"),MIN(IF(CT8<CS8,CT8+1,CT8),TIMEVALUE("06:00:00")+1)-MAX(CS8,TIMEVALUE("21:00:00")),0) -> 0.375 | CX8: =IF(IF(CT8<CS8,CT8+1,CT8)>TIMEVALUE("06:00:00")+1,MIN(CT8+1,TIMEVALUE("07:00:00")+1)-TIMEVALUE("06:00:00")+1,0) -> 2.0416667 | CY8: 0.70833333 | CZ8: 0.33333333 | DA8: =24*(MOD(CZ8-CY8,1)) -> 15 | DB8: =IF(CY8>TIMEVALUE("21:00:00"),0,MIN(TIMEVALUE("21:00:00"),IF(CZ8<CY8,CZ8+1,CZ8))-CY8) -> 0.16666667 | DC8: =IF(IF(CZ8<CY8,CZ8+1,CZ8)>TIMEVALUE("21:00:00"),MIN(IF(CZ8<CY8,CZ8+1,CZ8),TIMEVALUE("06:00:00")+1)-MAX(CY8,TIMEVALUE("21:00:00")),0) -> 0.375 | DD8: =IF(IF(CZ8<CY8,CZ8+1,CZ8)>TIMEVALUE("06:00:00")+1,MIN(CZ8+1,TIMEVALUE("07:00:00")+1)-TIMEVALUE("06:00:00")+1,0) -> 2.0416667 | DE8: 0.70833333 | DF8: 0.33333333 | DG8: =24*(MOD(DF8-DE8,1)) -> 15 | DH8: =IF(DE8>TIMEVALUE("21:00:00"),0,MIN(TIMEVALUE("21:00:00"),IF(DF8<DE8,DF8+1,DF8))-DE8) -> 0.16666667 | DI8: =IF(IF(DF8<DE8,DF8+1,DF8)>TIMEVALUE("21:00:00"),MIN(IF(DF8<DE8,DF8+1,DF8),TIMEVALUE("06:00:00")+1)-MAX(DE8,TIMEVALUE("21:00:00")),0) -> 0.375 | DJ8: =IF(IF(DF8<DE8,DF8+1,DF8)>TIMEVALUE("06:00:00")+1,MIN(DF8+1,TIMEVALUE("07:00:00")+1)-TIMEVALUE("06:00:00")+1,0) -> 2.0416667 | DK8: 0.70833333 | DL8: 0.33333333 | DM8: =24*(MOD(DL8-DK8,1)) -> 15 | DN8: =IF(DK8>TIMEVALUE("21:00:00"),0,MIN(TIMEVALUE("21:00:00"),IF(DL8<DK8,DL8+1,DL8))-DK8) -> 0.16666667 | DO8: =IF(IF(DL8<DK8,DL8+1,DL8)>TIMEVALUE("21:00:00"),MIN(IF(DL8<DK8,DL8+1,DL8),TIMEVALUE("06:00:00")+1)-MAX(DK8,TIMEVALUE("21:00:00")),0) -> 0.375 | DP8: =IF(IF(DL8<DK8,DL8+1,DL8)>TIMEVALUE("06:00:00")+1,MIN(DL8+1,TIMEVALUE("07:00:00")+1)-TIMEVALUE("06:00:00")+1,0) -> 2.0416667 | DQ8: 0.70833333 | DR8: 0.33333333 | DS8: =24*(MOD(DR8-DQ8,1)) -> 15 | DT8: =IF(DQ8>TIMEVALUE("21:00:00"),0,MIN(TIMEVALUE("21:00:00"),IF(DR8<DQ8,DR8+1,DR8))-DQ8) -> 0.16666667 | DU8: =IF(IF(DR8<DQ8,DR8+1,DR8)>TIMEVALUE("21:00:00"),MIN(IF(DR8<DQ8,DR8+1,DR8),TIMEVALUE("06:00:00")+1)-MAX(DQ8,TIMEVALUE("21:00:00")),0) -> 0.375 | DV8: =IF(IF(DR8<DQ8,DR8+1,DR8)>TIMEVALUE("06:00:00")+1,MIN(DR8+1,TIMEVALUE("07:00:00")+1)-TIMEVALUE("06:00:00")+1,0) -> 2.0416667 | DW8: 0.70833333 | DX8: 0.33333333 | DY8: =24*(MOD(DX8-DW8,1)) -> 15 | DZ8: =IF(DW8>TIMEVALUE("21:00:00"),0,MIN(TIMEVALUE("21:00:00"),IF(DX8<DW8,DX8+1,DX8))-DW8) -> 0.16666667 | EA8: =IF(IF(DX8<DW8,DX8+1,DX8)>TIMEVALUE("21:00:00"),MIN(IF(DX8<DW8,DX8+1,DX8),TIMEVALUE("06:00:00")+1)-MAX(DW8,TIMEVALUE("21:00:00")),0) -> 0.375 | EB8: =IF(IF(DX8<DW8,DX8+1,DX8)>TIMEVALUE("06:00:00")+1,MIN(DX8+1,TIMEVALUE("07:00:00")+1)-TIMEVALUE("06:00:00")+1,0) -> 2.0416667 | EC8: 0.70833333 | ED8: 0.33333333 | EE8: =24*(MOD(ED8-EC8,1)) -> 15 | EF8: =IF(EC8>TIMEVALUE("21:00:00"),0,MIN(TIMEVALUE("21:00:00"),IF(ED8<EC8,ED8+1,ED8))-EC8) -> 0.16666667 | EG8: =IF(IF(ED8<EC8,ED8+1,ED8)>TIMEVALUE("21:00:00"),MIN(IF(ED8<EC8,ED8+1,ED8),TIMEVALUE("06:00:00")+1)-MAX(EC8,TIMEVALUE("21:00:00")),0) -> 0.375 | EH8: =IF(IF(ED8<EC8,ED8+1,ED8)>TIMEVALUE("06:00:00")+1,MIN(ED8+1,TIMEVALUE("07:00:00")+1)-TIMEVALUE("06:00:00")+1,0) -> 2.0416667 | EI8: 0.70833333 | EJ8: 0.33333333 | EK8: =24*(MOD(EJ8-EI8,1)) -> 15 | EL8: =IF(EI8>TIMEVALUE("21:00:00"),0,MIN(TIMEVALUE("21:00:00"),IF(EJ8<EI8,EJ8+1,EJ8))-EI8) -> 0.16666667 | EM8: =IF(IF(EJ8<EI8,EJ8+1,EJ8)>TIMEVALUE("21:00:00"),MIN(IF(EJ8<EI8,EJ8+1,EJ8),TIMEVALUE("06:00:00")+1)-MAX(EI8,TIMEVALUE("21:00:00")),0) -> 0.375 | EN8: =IF(IF(EJ8<EI8,EJ8+1,EJ8)>TIMEVALUE("06:00:00")+1,MIN(EJ8+1,TIMEVALUE("07:00:00")+1)-TIMEVALUE("06:00:00")+1,0) -> 2.0416667 | EO8: 0.70833333 | EP8: 0.33333333 | EQ8: =24*(MOD(EP8-EO8,1)) -> 15 | ER8: =IF(EO8>TIMEVALUE("21:00:00"),0,MIN(TIMEVALUE("21:00:00"),IF(EP8<EO8,EP8+1,EP8))-EO8) -> 0.16666667 | ES8: =IF(IF(EP8<EO8,EP8+1,EP8)>TIMEVALUE("21:00:00"),MIN(IF(EP8<EO8,EP8+1,EP8),TIMEVALUE("06:00:00")+1)-MAX(EO8,TIMEVALUE("21:00:00")),0) -> 0.375 | ET8: =IF(IF(EP8<EO8,EP8+1,EP8)>TIMEVALUE("06:00:00")+1,MIN(EP8+1,TIMEVALUE("07:00:00")+1)-TIMEVALUE("06:00:00")+1,0) -> 2.0416667 | EU8: 0.70833333 | EV8: 0.33333333 | EW8: =24*(MOD(EV8-EU8,1)) -> 15 | EX8: =IF(EU8>TIMEVALUE("21:00:00"),0,MIN(TIMEVALUE("21:00:00"),IF(EV8<EU8,EV8+1,EV8))-EU8) -> 0.16666667 | EY8: =IF(IF(EV8<EU8,EV8+1,EV8)>TIMEVALUE("21:00:00"),MIN(IF(EV8<EU8,EV8+1,EV8),TIMEVALUE("06:00:00")+1)-MAX(EU8,TIMEVALUE("21:00:00")),0) -> 0.375 | EZ8: =IF(IF(EV8<EU8,EV8+1,EV8)>TIMEVALUE("06:00:00")+1,MIN(EV8+1,TIMEVALUE("07:00:00")+1)-TIMEVALUE("06:00:00")+1,0) -> 2.0416667 | FA8: 0.70833333 | FB8: 0.33333333 | FC8: =24*(MOD(FB8-FA8,1)) -> 15 | FD8: =IF(FA8>TIMEVALUE("21:00:00"),0,MIN(TIMEVALUE("21:00:00"),IF(FB8<FA8,FB8+1,FB8))-FA8) -> 0.16666667 | FE8: =IF(IF(FB8<FA8,FB8+1,FB8)>TIMEVALUE("21:00:00"),MIN(IF(FB8<FA8,FB8+1,FB8),TIMEVALUE("06:00:00")+1)-MAX(FA8,TIMEVALUE("21:00:00")),0) -> 0.375 | FF8: =IF(IF(FB8<FA8,FB8+1,FB8)>TIMEVALUE("06:00:00")+1,MIN(FB8+1,TIMEVALUE("07:00:00")+1)-TIMEVALUE("06:00:00")+1,0) -> 2.0416667 | FG8: 0.70833333 | FH8: 0.33333333 | FI8: =24*(MOD(FH8-FG8,1)) -> 15 | FJ8: =IF(FG8>TIMEVALUE("21:00:00"),0,MIN(TIMEVALUE("21:00:00"),IF(FH8<FG8,FH8+1,FH8))-FG8) -> 0.16666667 | FK8: =IF(IF(FH8<FG8,FH8+1,FH8)>TIMEVALUE("21:00:00"),MIN(IF(FH8<FG8,FH8+1,FH8),TIMEVALUE("06:00:00")+1)-MAX(FG8,TIMEVALUE("21:00:00")),0) -> 0.375 | FL8: =IF(IF(FH8<FG8,FH8+1,FH8)>TIMEVALUE("06:00:00")+1,MIN(FH8+1,TIMEVALUE("07:00:00")+1)-TIMEVALUE("06:00:00")+1,0) -> 2.0416667 | FM8: 0.70833333 | FN8: 0.33333333 | FO8: =24*(MOD(FN8-FM8,1)) -> 15 | FP8: =IF(FM8>TIMEVALUE("21:00:00"),0,MIN(TIMEVALUE("21:00:00"),IF(FN8<FM8,FN8+1,FN8))-FM8) -> 0.16666667 | FQ8: =IF(IF(FN8<FM8,FN8+1,FN8)>TIMEVALUE("21:00:00"),MIN(IF(FN8<FM8,FN8+1,FN8),TIMEVALUE("06:00:00")+1)-MAX(FM8,TIMEVALUE("21:00:00")),0) -> 0.375 | FR8: =IF(IF(FN8<FM8,FN8+1,FN8)>TIMEVALUE("06:00:00")+1,MIN(FN8+1,TIMEVALUE("07:00:00")+1)-TIMEVALUE("06:00:00")+1,0) -> 2.0416667 | FS8: 0.70833333 | FT8: 0.33333333 | FU8: =24*(MOD(FT8-FS8,1)) -> 15 | FV8: =IF(FS8>TIMEVALUE("21:00:00"),0,MIN(TIMEVALUE("21:00:00"),IF(FT8<FS8,FT8+1,FT8))-FS8) -> 0.16666667 | FW8: =IF(IF(FT8<FS8,FT8+1,FT8)>TIMEVALUE("21:00:00"),MIN(IF(FT8<FS8,FT8+1,FT8),TIMEVALUE("06:00:00")+1)-MAX(FS8,TIMEVALUE("21:00:00")),0) -> 0.375 | FX8: =IF(IF(FT8<FS8,FT8+1,FT8)>TIMEVALUE("06:00:00")+1,MIN(FT8+1,TIMEVALUE("07:00:00")+1)-TIMEVALUE("06:00:00")+1,0) -> 2.0416667 | FY8: 0.70833333 | FZ8: 0.33333333 | GA8: =24*(MOD(FZ8-FY8,1)) -> 15 | GB8: =IF(FY8>TIMEVALUE("21:00:00"),0,MIN(TIMEVALUE("21:00:00"),IF(FZ8<FY8,FZ8+1,FZ8))-FY8) -> 0.16666667 | GC8: =IF(IF(FZ8<FY8,FZ8+1,FZ8)>TIMEVALUE("21:00:00"),MIN(IF(FZ8<FY8,FZ8+1,FZ8),TIMEVALUE("06:00:00")+1)-MAX(FY8,TIMEVALUE("21:00:00")),0) -> 0.375 | GD8: =IF(IF(FZ8<FY8,FZ8+1,FZ8)>TIMEVALUE("06:00:00")+1,MIN(FZ8+1,TIMEVALUE("07:00:00")+1)-TIMEVALUE("06:00:00")+1,0) -> 2.0416667 | GE8: 0.70833333 | GF8: 0.33333333 | GG8: =24*(MOD(GF8-GE8,1)) -> 15 | GH8: =IF(GE8>TIMEVALUE("21:00:00"),0,MIN(TIMEVALUE("21:00:00"),IF(GF8<GE8,GF8+1,GF8))-GE8) -> 0.16666667 | GI8: =IF(IF(GF8<GE8,GF8+1,GF8)>TIMEVALUE("21:00:00"),MIN(IF(GF8<GE8,GF8+1,GF8),TIMEVALUE("06:00:00")+1)-MAX(GE8,TIMEVALUE("21:00:00")),0) -> 0.375 | GJ8: =IF(IF(GF8<GE8,GF8+1,GF8)>TIMEVALUE("06:00:00")+1,MIN(GF8+1,TIMEVALUE("07:00:00")+1)-TIMEVALUE("06:00:00")+1,0) -> 2.0416667
D9: 0 | E9: 0 | F9: =24*(MOD(E9-D9,1)) -> 0 | G9: =IF(D9>TIMEVALUE("21:00:00"),0,MIN(TIMEVALUE("21:00:00"),IF(E9<D9,E9+1,E9))-D9) -> 0 | H9: =IF(IF(E9<D9,E9+1,E9)>TIMEVALUE("21:00:00"),MIN(IF(E9<D9,E9+1,E9),TIMEVALUE("06:00:00")+1)-MAX(D9,TIMEVALUE("21:00:00")),0) -> 0 | I9: =IF(IF(E9<D9,E9+1,E9)>TIMEVALUE("06:00:00")+1,MIN(E9+1,TIMEVALUE("07:00:00")+1)-TIMEVALUE("06:00:00")+1,0) -> 0 | J9: =_xlfn.IFS($J$6=1,G9*Sheet1!$B$5*24,$D$2="Lundi",TRUE,$D$2="Mardi",TRUE,$D$2="Mercredi",TRUE,$D$2="Jeudi",$D$2="Vendredi") -> 0 | K9: =_xlfn.IFS($K$6=1,H9*Sheet1!$G$5*24,$D$2="Lundi",TRUE,$D$2="Mardi",TRUE,$D$2="Mercredi",TRUE,$D$2="Jeudi",$D$2="Vendredi") -> 0 | L9: =_xlfn.IFS($L$6=1,I9*Sheet1!$B$5,$D$2="Lundi",TRUE,$D$2="Mardi",TRUE,$D$2="Mercredi",TRUE,$D$2="Jeudi",$D$2="Vendredi") -> 0 | M9: 0.70833333 | N9: 0.33333333 | O9: =24*(MOD(N9-M9,1)) -> 15 | P9: =IF(M9>TIMEVALUE("21:00:00"),0,MIN(TIMEVALUE("21:00:00"),IF(N9<M9,N9+1,N9))-M9) -> 0.16666667 | Q9: =IF(IF(N9<M9,N9+1,N9)>TIMEVALUE("21:00:00"),MIN(IF(N9<M9,N9+1,N9),TIMEVALUE("06:00:00")+1)-MAX(M9,TIMEVALUE("21:00:00")),0) -> 0.375 | R9: =IF(IF(N9<M9,N9+1,N9)>TIMEVALUE("06:00:00")+1,MIN(N9+1,TIMEVALUE("07:00:00")+1)-TIMEVALUE("06:00:00")+1,0) -> 2.0416667 | S9: 0.70833333 | T9: 0.33333333 | U9: =24*(MOD(T9-S9,1)) -> 15 | V9: =IF(S9>TIMEVALUE("21:00:00"),0,MIN(TIMEVALUE("21:00:00"),IF(T9<S9,T9+1,T9))-S9) -> 0.16666667 | W9: =IF(IF(T9<S9,T9+1,T9)>TIMEVALUE("21:00:00"),MIN(IF(T9<S9,T9+1,T9),TIMEVALUE("06:00:00")+1)-MAX(S9,TIMEVALUE("21:00:00")),0) -> 0.375 | X9: =IF(IF(T9<S9,T9+1,T9)>TIMEVALUE("06:00:00")+1,MIN(T9+1,TIMEVALUE("07:00:00")+1)-TIMEVALUE("06:00:00")+1,0) -> 2.0416667 | Y9: 0.70833333 | Z9: 0.33333333 | AA9: =24*(MOD(Z9-Y9,1)) -> 15 | AB9: =IF(Y9>TIMEVALUE("21:00:00"),0,MIN(TIMEVALUE("21:00:00"),IF(Z9<Y9,Z9+1,Z9))-Y9) -> 0.16666667 | AC9: =IF(IF(Z9<Y9,Z9+1,Z9)>TIMEVALUE("21:00:00"),MIN(IF(Z9<Y9,Z9+1,Z9),TIMEVALUE("06:00:00")+1)-MAX(Y9,TIMEVALUE("21:00:00")),0) -> 0.375 | AD9: =IF(IF(Z9<Y9,Z9+1,Z9)>TIMEVALUE("06:00:00")+1,MIN(Z9+1,TIMEVALUE("07:00:00")+1)-TIMEVALUE("06:00:00")+1,0) -> 2.0416667 | AE9: 0.70833333 | AF9: 0.33333333 | AG9: =24*(MOD(AF9-AE9,1)) -> 15 | AH9: =IF(AE9>TIMEVALUE("21:00:00"),0,MIN(TIMEVALUE("21:00:00"),IF(AF9<AE9,AF9+1,AF9))-AE9) -> 0.16666667 | AI9: =IF(IF(AF9<AE9,AF9+1,AF9)>TIMEVALUE("21:00:00"),MIN(IF(AF9<AE9,AF9+1,AF9),TIMEVALUE("06:00:00")+1)-MAX(AE9,TIMEVALUE("21:00:00")),0) -> 0.375 | AJ9: =IF(IF(AF9<AE9,AF9+1,AF9)>TIMEVALUE("06:00:00")+1,MIN(AF9+1,TIMEVALUE("07:00:00")+1)-TIMEVALUE("06:00:00")+1,0) -> 2.0416667 | AK9: 0.70833333 | AL9: 0.33333333 | AM9: =24*(MOD(AL9-AK9,1)) -> 15 | AN9: =IF(AK9>TIMEVALUE("21:00:00"),0,MIN(TIMEVALUE("21:00:00"),IF(AL9<AK9,AL9+1,AL9))-AK9) -> 0.16666667 | AO9: =IF(IF(AL9<AK9,AL9+1,AL9)>TIMEVALUE("21:00:00"),MIN(IF(AL9<AK9,AL9+1,AL9),TIMEVALUE("06:00:00")+1)-MAX(AK9,TIMEVALUE("21:00:00")),0) -> 0.375 | AP9: =IF(IF(AL9<AK9,AL9+1,AL9)>TIMEVALUE("06:00:00")+1,MIN(AL9+1,TIMEVALUE("07:00:00")+1)-TIMEVALUE("06:00:00")+1,0) -> 2.0416667 | AQ9: 0.70833333 | AR9: 0.33333333 | AS9: =24*(MOD(AR9-AQ9,1)) -> 15 | AT9: =IF(AQ9>TIMEVALUE("21:00:00"),0,MIN(TIMEVALUE("21:00:00"),IF(AR9<AQ9,AR9+1,AR9))-AQ9) -> 0.16666667 | AU9: =IF(IF(AR9<AQ9,AR9+1,AR9)>TIMEVALUE("21:00:00"),MIN(IF(AR9<AQ9,AR9+1,AR9),TIMEVALUE("06:00:00")+1)-MAX(AQ9,TIMEVALUE("21:00:00")),0) -> 0.375 | AV9: =IF(IF(AR9<AQ9,AR9+1,AR9)>TIMEVALUE("06:00:00")+1,MIN(AR9+1,TIMEVALUE("07:00:00")+1)-TIMEVALUE("06:00:00")+1,0) -> 2.0416667 | AW9: 0.70833333 | AX9: 0.33333333 | AY9: =24*(MOD(AX9-AW9,1)) -> 15 | AZ9: =IF(AW9>TIMEVALUE("21:00:00"),0,MIN(TIMEVALUE("21:00:00"),IF(AX9<AW9,AX9+1,AX9))-AW9) -> 0.16666667 | BA9: =IF(IF(AX9<AW9,AX9+1,AX9)>TIMEVALUE("21:00:00"),MIN(IF(AX9<AW9,AX9+1,AX9),TIMEVALUE("06:00:00")+1)-MAX(AW9,TIMEVALUE("21:00:00")),0) -> 0.375 | BB9: =IF(IF(AX9<AW9,AX9+1,AX9)>TIMEVALUE("06:00:00")+1,MIN(AX9+1,TIMEVALUE("07:00:00")+1)-TIMEVALUE("06:00:00")+1,0) -> 2.0416667 | BC9: 0.70833333 | BD9: 0.33333333 | BE9: =24*(MOD(BD9-BC9,1)) -> 15 | BF9: =IF(BC9>TIMEVALUE("21:00:00"),0,MIN(TIMEVALUE("21:00:00"),IF(BD9<BC9,BD9+1,BD9))-BC9) -> 0.16666667 | BG9: =IF(IF(BD9<BC9,BD9+1,BD9)>TIMEVALUE("21:00:00"),MIN(IF(BD9<BC9,BD9+1,BD9),TIMEVALUE("06:00:00")+1)-MAX(BC9,TIMEVALUE("21:00:00")),0) -> 0.375 | BH9: =IF(IF(BD9<BC9,BD9+1,BD9)>TIMEVALUE("06:00:00")+1,MIN(BD9+1,TIMEVALUE("07:00:00")+1)-TIMEVALUE("06:00:00")+1,0) -> 2.0416667 | BI9: 0.70833333 | BJ9: 0.33333333 | BK9: =24*(MOD(BJ9-BI9,1)) -> 15 | BL9: =IF(BI9>TIMEVALUE("21:00:00"),0,MIN(TIMEVALUE("21:00:00"),IF(BJ9<BI9,BJ9+1,BJ9))-BI9) -> 0.16666667 | BM9: =IF(IF(BJ9<BI9,BJ9+1,BJ9)>TIMEVALUE("21:00:00"),MIN(IF(BJ9<BI9,BJ9+1,BJ9),TIMEVALUE("06:00:00")+1)-MAX(BI9,TIMEVALUE("21:00:00")),0) -> 0.375 | BN9: =IF(IF(BJ9<BI9,BJ9+1,BJ9)>TIMEVALUE("06:00:00")+1,MIN(BJ9+1,TIMEVALUE("07:00:00")+1)-TIMEVALUE("06:00:00")+1,0) -> 2.0416667 | BO9: 0.70833333 | BP9: 0.33333333 | BQ9: =24*(MOD(BP9-BO9,1)) -> 15 | BR9: =IF(BO9>TIMEVALUE("21:00:00"),0,MIN(TIMEVALUE("21:00:00"),IF(BP9<BO9,BP9+1,BP9))-BO9) -> 0.16666667 | BS9: =IF(IF(BP9<BO9,BP9+1,BP9)>TIMEVALUE("21:00:00"),MIN(IF(BP9<BO9,BP9+1,BP9),TIMEVALUE("06:00:00")+1)-MAX(BO9,TIMEVALUE("21:00:00")),0) -> 0.375 | BT9: =IF(IF(BP9<BO9,BP9+1,BP9)>TIMEVALUE("06:00:00")+1,MIN(BP9+1,TIMEVALUE("07:00:00")+1)-TIMEVALUE("06:00:00")+1,0) -> 2.0416667 | BU9: 0.70833333 | BV9: 0.33333333 | BW9: =24*(MOD(BV9-BU9,1)) -> 15 | BX9: =IF(BU9>TIMEVALUE("21:00:00"),0,MIN(TIMEVALUE("21:00:00"),IF(BV9<BU9,BV9+1,BV9))-BU9) -> 0.16666667 | BY9: =IF(IF(BV9<BU9,BV9+1,BV9)>TIMEVALUE("21:00:00"),MIN(IF(BV9<BU9,BV9+1,BV9),TIMEVALUE("06:00:00")+1)-MAX(BU9,TIMEVALUE("21:00:00")),0) -> 0.375 | BZ9: =IF(IF(BV9<BU9,BV9+1,BV9)>TIMEVALUE("06:00:00")+1,MIN(BV9+1,TIMEVALUE("07:00:00")+1)-TIMEVALUE("06:00:00")+1,0) -> 2.0416667 | CA9: 0.70833333 | CB9: 0.33333333 | CC9: =24*(MOD(CB9-CA9,1)) -> 15 | CD9: =IF(CA9>TIMEVALUE("21:00:00"),0,MIN(TIMEVALUE("21:00:00"),IF(CB9<CA9,CB9+1,CB9))-CA9) -> 0.16666667 | CE9: =IF(IF(CB9<CA9,CB9+1,CB9)>TIMEVALUE("21:00:00"),MIN(IF(CB9<CA9,CB9+1,CB9),TIMEVALUE("06:00:00")+1)-MAX(CA9,TIMEVALUE("21:00:00")),0) -> 0.375 | CF9: =IF(IF(CB9<CA9,CB9+1,CB9)>TIMEVALUE("06:00:00")+1,MIN(CB9+1,TIMEVALUE("07:00:00")+1)-TIMEVALUE("06:00:00")+1,0) -> 2.0416667 | CG9: 0.70833333 | CH9: 0.33333333 | CI9: =24*(MOD(CH9-CG9,1)) -> 15 | CJ9: =IF(CG9>TIMEVALUE("21:00:00"),0,MIN(TIMEVALUE("21:00:00"),IF(CH9<CG9,CH9+1,CH9))-CG9) -> 0.16666667 | CK9: =IF(IF(CH9<CG9,CH9+1,CH9)>TIMEVALUE("21:00:00"),MIN(IF(CH9<CG9,CH9+1,CH9),TIMEVALUE("06:00:00")+1)-MAX(CG9,TIMEVALUE("21:00:00")),0) -> 0.375 | CL9: =IF(IF(CH9<CG9,CH9+1,CH9)>TIMEVALUE("06:00:00")+1,MIN(CH9+1,TIMEVALUE("07:00:00")+1)-TIMEVALUE("06:00:00")+1,0) -> 2.0416667 | CM9: 0.70833333 | CN9: 0.33333333 | CO9: =24*(MOD(CN9-CM9,1)) -> 15 | CP9: =IF(CM9>TIMEVALUE("21:00:00"),0,MIN(TIMEVALUE("21:00:00"),IF(CN9<CM9,CN9+1,CN9))-CM9) -> 0.16666667 | CQ9: =IF(IF(CN9<CM9,CN9+1,CN9)>TIMEVALUE("21:00:00"),MIN(IF(CN9<CM9,CN9+1,CN9),TIMEVALUE("06:00:00")+1)-MAX(CM9,TIMEVALUE("21:00:00")),0) -> 0.375 | CR9: =IF(IF(CN9<CM9,CN9+1,CN9)>TIMEVALUE("06:00:00")+1,MIN(CN9+1,TIMEVALUE("07:00:00")+1)-TIMEVALUE("06:00:00")+1,0) -> 2.0416667 | CS9: 0.70833333 | CT9: 0.33333333 | CU9: =24*(MOD(CT9-CS9,1)) -> 15 | CV9: =IF(CS9>TIMEVALUE("21:00:00"),0,MIN(TIMEVALUE("21:00:00"),IF(CT9<CS9,CT9+1,CT9))-CS9) -> 0.16666667 | CW9: =IF(IF(CT9<CS9,CT9+1,CT9)>TIMEVALUE("21:00:00"),MIN(IF(CT9<CS9,CT9+1,CT9),TIMEVALUE("06:00:00")+1)-MAX(CS9,TIMEVALUE("21:00:00")),0) -> 0.375 | CX9: =IF(IF(CT9<CS9,CT9+1,CT9)>TIMEVALUE("06:00:00")+1,MIN(CT9+1,TIMEVALUE("07:00:00")+1)-TIMEVALUE("06:00:00")+1,0) -> 2.0416667 | CY9: 0.70833333 | CZ9: 0.33333333 | DA9: =24*(MOD(CZ9-CY9,1)) -> 15 | DB9: =IF(CY9>TIMEVALUE("21:00:00"),0,MIN(TIMEVALUE("21:00:00"),IF(CZ9<CY9,CZ9+1,CZ9))-CY9) -> 0.16666667 | DC9: =IF(IF(CZ9<CY9,CZ9+1,CZ9)>TIMEVALUE("21:00:00"),MIN(IF(CZ9<CY9,CZ9+1,CZ9),TIMEVALUE("06:00:00")+1)-MAX(CY9,TIMEVALUE("21:00:00")),0) -> 0.375 | DD9: =IF(IF(CZ9<CY9,CZ9+1,CZ9)>TIMEVALUE("06:00:00")+1,MIN(CZ9+1,TIMEVALUE("07:00:00")+1)-TIMEVALUE("06:00:00")+1,0) -> 2.0416667 | DE9: 0.70833333 | DF9: 0.33333333 | DG9: =24*(MOD(DF9-DE9,1)) -> 15 | DH9: =IF(DE9>TIMEVALUE("21:00:00"),0,MIN(TIMEVALUE("21:00:00"),IF(DF9<DE9,DF9+1,DF9))-DE9) -> 0.16666667 | DI9: =IF(IF(DF9<DE9,DF9+1,DF9)>TIMEVALUE("21:00:00"),MIN(IF(DF9<DE9,DF9+1,DF9),TIMEVALUE("06:00:00")+1)-MAX(DE9,TIMEVALUE("21:00:00")),0) -> 0.375 | DJ9: =IF(IF(DF9<DE9,DF9+1,DF9)>TIMEVALUE("06:00:00")+1,MIN(DF9+1,TIMEVALUE("07:00:00")+1)-TIMEVALUE("06:00:00")+1,0) -> 2.0416667 | DK9: 0.70833333 | DL9: 0.33333333 | DM9: =24*(MOD(DL9-DK9,1)) -> 15 | DN9: =IF(DK9>TIMEVALUE("21:00:00"),0,MIN(TIMEVALUE("21:00:00"),IF(DL9<DK9,DL9+1,DL9))-DK9) -> 0.16666667 | DO9: =IF(IF(DL9<DK9,DL9+1,DL9)>TIMEVALUE("21:00:00"),MIN(IF(DL9<DK9,DL9+1,DL9),TIMEVALUE("06:00:00")+1)-MAX(DK9,TIMEVALUE("21:00:00")),0) -> 0.375 | DP9: =IF(IF(DL9<DK9,DL9+1,DL9)>TIMEVALUE("06:00:00")+1,MIN(DL9+1,TIMEVALUE("07:00:00")+1)-TIMEVALUE("06:00:00")+1,0) -> 2.0416667 | DQ9: 0.70833333 | DR9: 0.33333333 | DS9: =24*(MOD(DR9-DQ9,1)) -> 15 | DT9: =IF(DQ9>TIMEVALUE("21:00:00"),0,MIN(TIMEVALUE("21:00:00"),IF(DR9<DQ9,DR9+1,DR9))-DQ9) -> 0.16666667 | DU9: =IF(IF(DR9<DQ9,DR9+1,DR9)>TIMEVALUE("21:00:00"),MIN(IF(DR9<DQ9,DR9+1,DR9),TIMEVALUE("06:00:00")+1)-MAX(DQ9,TIMEVALUE("21:00:00")),0) -> 0.375 | DV9: =IF(IF(DR9<DQ9,DR9+1,DR9)>TIMEVALUE("06:00:00")+1,MIN(DR9+1,TIMEVALUE("07:00:00")+1)-TIMEVALUE("06:00:00")+1,0) -> 2.0416667 | DW9: 0.70833333 | DX9: 0.33333333 | DY9: =24*(MOD(DX9-DW9,1)) -> 15 | DZ9: =IF(DW9>TIMEVALUE("21:00:00"),0,MIN(TIMEVALUE("21:00:00"),IF(DX9<DW9,DX9+1,DX9))-DW9) -> 0.16666667 | EA9: =IF(IF(DX9<DW9,DX9+1,DX9)>TIMEVALUE("21:00:00"),MIN(IF(DX9<DW9,DX9+1,DX9),TIMEVALUE("06:00:00")+1)-MAX(DW9,TIMEVALUE("21:00:00")),0) -> 0.375 | EB9: =IF(IF(DX9<DW9,DX9+1,DX9)>TIMEVALUE("06:00:00")+1,MIN(DX9+1,TIMEVALUE("07:00:00")+1)-TIMEVALUE("06:00:00")+1,0) -> 2.0416667 | EC9: 0.70833333 | ED9: 0.33333333 | EE9: =24*(MOD(ED9-EC9,1)) -> 15 | EF9: =IF(EC9>TIMEVALUE("21:00:00"),0,MIN(TIMEVALUE("21:00:00"),IF(ED9<EC9,ED9+1,ED9))-EC9) -> 0.16666667 | EG9: =IF(IF(ED9<EC9,ED9+1,ED9)>TIMEVALUE("21:00:00"),MIN(IF(ED9<EC9,ED9+1,ED9),TIMEVALUE("06:00:00")+1)-MAX(EC9,TIMEVALUE("21:00:00")),0) -> 0.375 | EH9: =IF(IF(ED9<EC9,ED9+1,ED9)>TIMEVALUE("06:00:00")+1,MIN(ED9+1,TIMEVALUE("07:00:00")+1)-TIMEVALUE("06:00:00")+1,0) -> 2.0416667 | EI9: 0.70833333 | EJ9: 0.33333333 | EK9: =24*(MOD(EJ9-EI9,1)) -> 15 | EL9: =IF(EI9>TIMEVALUE("21:00:00"),0,MIN(TIMEVALUE("21:00:00"),IF(EJ9<EI9,EJ9+1,EJ9))-EI9) -> 0.16666667 | EM9: =IF(IF(EJ9<EI9,EJ9+1,EJ9)>TIMEVALUE("21:00:00"),MIN(IF(EJ9<EI9,EJ9+1,EJ9),TIMEVALUE("06:00:00")+1)-MAX(EI9,TIMEVALUE("21:00:00")),0) -> 0.375 | EN9: =IF(IF(EJ9<EI9,EJ9+1,EJ9)>TIMEVALUE("06:00:00")+1,MIN(EJ9+1,TIMEVALUE("07:00:00")+1)-TIMEVALUE("06:00:00")+1,0) -> 2.0416667 | EO9: 0.70833333 | EP9: 0.33333333 | EQ9: =24*(MOD(EP9-EO9,1)) -> 15 | ER9: =IF(EO9>TIMEVALUE("21:00:00"),0,MIN(TIMEVALUE("21:00:00"),IF(EP9<EO9,EP9+1,EP9))-EO9) -> 0.16666667 | ES9: =IF(IF(EP9<EO9,EP9+1,EP9)>TIMEVALUE("21:00:00"),MIN(IF(EP9<EO9,EP9+1,EP9),TIMEVALUE("06:00:00")+1)-MAX(EO9,TIMEVALUE("21:00:00")),0) -> 0.375 | ET9: =IF(IF(EP9<EO9,EP9+1,EP9)>TIMEVALUE("06:00:00")+1,MIN(EP9+1,TIMEVALUE("07:00:00")+1)-TIMEVALUE("06:00:00")+1,0) -> 2.0416667 | EU9: 0.70833333 | EV9: 0.33333333 | EW9: =24*(MOD(EV9-EU9,1)) -> 15 | EX9: =IF(EU9>TIMEVALUE("21:00:00"),0,MIN(TIMEVALUE("21:00:00"),IF(EV9<EU9,EV9+1,EV9))-EU9) -> 0.16666667 | EY9: =IF(IF(EV9<EU9,EV9+1,EV9)>TIMEVALUE("21:00:00"),MIN(IF(EV9<EU9,EV9+1,EV9),TIMEVALUE("06:00:00")+1)-MAX(EU9,TIMEVALUE("21:00:00")),0) -> 0.375 | EZ9: =IF(IF(EV9<EU9,EV9+1,EV9)>TIMEVALUE("06:00:00")+1,MIN(EV9+1,TIMEVALUE("07:00:00")+1)-TIMEVALUE("06:00:00")+1,0) -> 2.0416667 | FA9: 0.70833333 | FB9: 0.33333333 | FC9: =24*(MOD(FB9-FA9,1)) -> 15 | FD9: =IF(FA9>TIMEVALUE("21:00:00"),0,MIN(TIMEVALUE("21:00:00"),IF(FB9<FA9,FB9+1,FB9))-FA9) -> 0.16666667 | FE9: =IF(IF(FB9<FA9,FB9+1,FB9)>TIMEVALUE("21:00:00"),MIN(IF(FB9<FA9,FB9+1,FB9),TIMEVALUE("06:00:00")+1)-MAX(FA9,TIMEVALUE("21:00:00")),0) -> 0.375 | FF9: =IF(IF(FB9<FA9,FB9+1,FB9)>TIMEVALUE("06:00:00")+1,MIN(FB9+1,TIMEVALUE("07:00:00")+1)-TIMEVALUE("06:00:00")+1,0) -> 2.0416667 | FG9: 0.70833333 | FH9: 0.33333333 | FI9: =24*(MOD(FH9-FG9,1)) -> 15 | FJ9: =IF(FG9>TIMEVALUE("21:00:00"),0,MIN(TIMEVALUE("21:00:00"),IF(FH9<FG9,FH9+1,FH9))-FG9) -> 0.16666667 | FK9: =IF(IF(FH9<FG9,FH9+1,FH9)>TIMEVALUE("21:00:00"),MIN(IF(FH9<FG9,FH9+1,FH9),TIMEVALUE("06:00:00")+1)-MAX(FG9,TIMEVALUE("21:00:00")),0) -> 0.375 | FL9: =IF(IF(FH9<FG9,FH9+1,FH9)>TIMEVALUE("06:00:00")+1,MIN(FH9+1,TIMEVALUE("07:00:00")+1)-TIMEVALUE("06:00:00")+1,0) -> 2.0416667 | FM9: 0.70833333 | FN9: 0.33333333 | FO9: =24*(MOD(FN9-FM9,1)) -> 15 | FP9: =IF(FM9>TIMEVALUE("21:00:00"),0,MIN(TIMEVALUE("21:00:00"),IF(FN9<FM9,FN9+1,FN9))-FM9) -> 0.16666667 | FQ9: =IF(IF(FN9<FM9,FN9+1,FN9)>TIMEVALUE("21:00:00"),MIN(IF(FN9<FM9,FN9+1,FN9),TIMEVALUE("06:00:00")+1)-MAX(FM9,TIMEVALUE("21:00:00")),0) -> 0.375 | FR9: =IF(IF(FN9<FM9,FN9+1,FN9)>TIMEVALUE("06:00:00")+1,MIN(FN9+1,TIMEVALUE("07:00:00")+1)-TIMEVALUE("06:00:00")+1,0) -> 2.0416667 | FS9: 0.70833333 | FT9: 0.33333333 | FU9: =24*(MOD(FT9-FS9,1)) -> 15 | FV9: =IF(FS9>TIMEVALUE("21:00:00"),0,MIN(TIMEVALUE("21:00:00"),IF(FT9<FS9,FT9+1,FT9))-FS9) -> 0.16666667 | FW9: =IF(IF(FT9<FS9,FT9+1,FT9)>TIMEVALUE("21:00:00"),MIN(IF(FT9<FS9,FT9+1,FT9),TIMEVALUE("06:00:00")+1)-MAX(FS9,TIMEVALUE("21:00:00")),0) -> 0.375 | FX9: =IF(IF(FT9<FS9,FT9+1,FT9)>TIMEVALUE("06:00:00")+1,MIN(FT9+1,TIMEVALUE("07:00:00")+1)-TIMEVALUE("06:00:00")+1,0) -> 2.0416667 | FY9: 0.70833333 | FZ9: 0.33333333 | GA9: =24*(MOD(FZ9-FY9,1)) -> 15 | GB9: =IF(FY9>TIMEVALUE("21:00:00"),0,MIN(TIMEVALUE("21:00:00"),IF(FZ9<FY9,FZ9+1,FZ9))-FY9) -> 0.16666667 | GC9: =IF(IF(FZ9<FY9,FZ9+1,FZ9)>TIMEVALUE("21:00:00"),MIN(IF(FZ9<FY9,FZ9+1,FZ9),TIMEVALUE("06:00:00")+1)-MAX(FY9,TIMEVALUE("21:00:00")),0) -> 0.375 | GD9: =IF(IF(FZ9<FY9,FZ9+1,FZ9)>TIMEVALUE("06:00:00")+1,MIN(FZ9+1,TIMEVALUE("07:00:00")+1)-TIMEVALUE("06:00:00")+1,0) -> 2.0416667 | GE9: 0.70833333 | GF9: 0.33333333 | GG9: =24*(MOD(GF9-GE9,1)) -> 15 | GH9: =IF(GE9>TIMEVALUE("21:00:00"),0,MIN(TIMEVALUE("21:00:00"),IF(GF9<GE9,GF9+1,GF9))-GE9) -> 0.16666667 | GI9: =IF(IF(GF9<GE9,GF9+1,GF9)>TIMEVALUE("21:00:00"),MIN(IF(GF9<GE9,GF9+1,GF9),TIMEVALUE("06:00:00")+1)-MAX(GE9,TIMEVALUE("21:00:00")),0) -> 0.375 | GJ9: =IF(IF(GF9<GE9,GF9+1,GF9)>TIMEVALUE("06:00:00")+1,MIN(GF9+1,TIMEVALUE("07:00:00")+1)-TIMEVALUE("06:00:00")+1,0) -> 2.0416667
D10: 0 | E10: 0 | F10: =24*(MOD(E10-D10,1)) -> 0 | G10: =IF(D10>TIMEVALUE("21:00:00"),0,MIN(TIMEVALUE("21:00:00"),IF(E10<D10,E10+1,E10))-D10) -> 0 | H10: =IF(IF(E10<D10,E10+1,E10)>TIMEVALUE("21:00:00"),MIN(IF(E10<D10,E10+1,E10),TIMEVALUE("06:00:00")+1)-MAX(D10,TIMEVALUE("21:00:00")),0) -> 0 | I10: =IF(IF(E10<D10,E10+1,E10)>TIMEVALUE("06:00:00")+1,MIN(E10+1,TIMEVALUE("07:00:00")+1)-TIMEVALUE("06:00:00")+1,0) -> 0 | J10: =_xlfn.IFS($J$6=1,G10*Sheet1!$B$5*24,$D$2="Lundi",TRUE,$D$2="Mardi",TRUE,$D$2="Mercredi",TRUE,$D$2="Jeudi",$D$2="Vendredi") -> 0 | K10: =_xlfn.IFS($K$6=1,H10*Sheet1!$G$5*24,$D$2="Lundi",TRUE,$D$2="Mardi",TRUE,$D$2="Mercredi",TRUE,$D$2="Jeudi",$D$2="Vendredi") -> 0 | L10: =_xlfn.IFS($L$6=1,I10*Sheet1!$B$5,$D$2="Lundi",TRUE,$D$2="Mardi",TRUE,$D$2="Mercredi",TRUE,$D$2="Jeudi",$D$2="Vendredi") -> 0 | M10: 0.70833333 | N10: 0.33333333 | O10: =24*(MOD(N10-M10,1)) -> 15 | P10: =IF(M10>TIMEVALUE("21:00:00"),0,MIN(TIMEVALUE("21:00:00"),IF(N10<M10,N10+1,N10))-M10) -> 0.16666667 | Q10: =IF(IF(N10<M10,N10+1,N10)>TIMEVALUE("21:00:00"),MIN(IF(N10<M10,N10+1,N10),TIMEVALUE("06:00:00")+1)-MAX(M10,TIMEVALUE("21:00:00")),0) -> 0.375 | R10: =IF(IF(N10<M10,N10+1,N10)>TIMEVALUE("06:00:00")+1,MIN(N10+1,TIMEVALUE("07:00:00")+1)-TIMEVALUE("06:00:00")+1,0) -> 2.0416667 | S10: 0.70833333 | T10: 0.33333333 | U10: =24*(MOD(T10-S10,1)) -> 15 | V10: =IF(S10>TIMEVALUE("21:00:00"),0,MIN(TIMEVALUE("21:00:00"),IF(T10<S10,T10+1,T10))-S10) -> 0.16666667 | W10: =IF(IF(T10<S10,T10+1,T10)>TIMEVALUE("21:00:00"),MIN(IF(T10<S10,T10+1,T10),TIMEVALUE("06:00:00")+1)-MAX(S10,TIMEVALUE("21:00:00")),0) -> 0.375 | X10: =IF(IF(T10<S10,T10+1,T10)>TIMEVALUE("06:00:00")+1,MIN(T10+1,TIMEVALUE("07:00:00")+1)-TIMEVALUE("06:00:00")+1,0) -> 2.0416667 | Y10: 0.70833333 | Z10: 0.33333333 | AA10: =24*(MOD(Z10-Y10,1)) -> 15 | AB10: =IF(Y10>TIMEVALUE("21:00:00"),0,MIN(TIMEVALUE("21:00:00"),IF(Z10<Y10,Z10+1,Z10))-Y10) -> 0.16666667 | AC10: =IF(IF(Z10<Y10,Z10+1,Z10)>TIMEVALUE("21:00:00"),MIN(IF(Z10<Y10,Z10+1,Z10),TIMEVALUE("06:00:00")+1)-MAX(Y10,TIMEVALUE("21:00:00")),0) -> 0.375 | AD10: =IF(IF(Z10<Y10,Z10+1,Z10)>TIMEVALUE("06:00:00")+1,MIN(Z10+1,TIMEVALUE("07:00:00")+1)-TIMEVALUE("06:00:00")+1,0) -> 2.0416667 | AE10: 0.70833333 | AF10: 0.33333333 | AG10: =24*(MOD(AF10-AE10,1)) -> 15 | AH10: =IF(AE10>TIMEVALUE("21:00:00"),0,MIN(TIMEVALUE("21:00:00"),IF(AF10<AE10,AF10+1,AF10))-AE10) -> 0.16666667 | AI10: =IF(IF(AF10<AE10,AF10+1,AF10)>TIMEVALUE("21:00:00"),MIN(IF(AF10<AE10,AF10+1,AF10),TIMEVALUE("06:00:00")+1)-MAX(AE10,TIMEVALUE("21:00:00")),0) -> 0.375 | AJ10: =IF(IF(AF10<AE10,AF10+1,AF10)>TIMEVALUE("06:00:00")+1,MIN(AF10+1,TIMEVALUE("07:00:00")+1)-TIMEVALUE("06:00:00")+1,0) -> 2.0416667 | AK10: 0.70833333 | AL10: 0.33333333 | AM10: =24*(MOD(AL10-AK10,1)) -> 15 | AN10: =IF(AK10>TIMEVALUE("21:00:00"),0,MIN(TIMEVALUE("21:00:00"),IF(AL10<AK10,AL10+1,AL10))-AK10) -> 0.16666667 | AO10: =IF(IF(AL10<AK10,AL10+1,AL10)>TIMEVALUE("21:00:00"),MIN(IF(AL10<AK10,AL10+1,AL10),TIMEVALUE("06:00:00")+1)-MAX(AK10,TIMEVALUE("21:00:00")),0) -> 0.375 | AP10: =IF(IF(AL10<AK10,AL10+1,AL10)>TIMEVALUE("06:00:00")+1,MIN(AL10+1,TIMEVALUE("07:00:00")+1)-TIMEVALUE("06:00:00")+1,0) -> 2.0416667 | AQ10: 0.70833333 | AR10: 0.33333333 | AS10: =24*(MOD(AR10-AQ10,1)) -> 15 | AT10: =IF(AQ10>TIMEVALUE("21:00:00"),0,MIN(TIMEVALUE("21:00:00"),IF(AR10<AQ10,AR10+1,AR10))-AQ10) -> 0.16666667 | AU10: =IF(IF(AR10<AQ10,AR10+1,AR10)>TIMEVALUE("21:00:00"),MIN(IF(AR10<AQ10,AR10+1,AR10),TIMEVALUE("06:00:00")+1)-MAX(AQ10,TIMEVALUE("21:00:00")),0) -> 0.375 | AV10: =IF(IF(AR10<AQ10,AR10+1,AR10)>TIMEVALUE("06:00:00")+1,MIN(AR10+1,TIMEVALUE("07:00:00")+1)-TIMEVALUE("06:00:00")+1,0) -> 2.0416667 | AW10: 0.70833333 | AX10: 0.33333333 | AY10: =24*(MOD(AX10-AW10,1)) -> 15 | AZ10: =IF(AW10>TIMEVALUE("21:00:00"),0,MIN(TIMEVALUE("21:00:00"),IF(AX10<AW10,AX10+1,AX10))-AW10) -> 0.16666667 | BA10: =IF(IF(AX10<AW10,AX10+1,AX10)>TIMEVALUE("21:00:00"),MIN(IF(AX10<AW10,AX10+1,AX10),TIMEVALUE("06:00:00")+1)-MAX(AW10,TIMEVALUE("21:00:00")),0) -> 0.375 | BB10: =IF(IF(AX10<AW10,AX10+1,AX10)>TIMEVALUE("06:00:00")+1,MIN(AX10+1,TIMEVALUE("07:00:00")+1)-TIMEVALUE("06:00:00")+1,0) -> 2.0416667 | BC10: 0.70833333 | BD10: 0.33333333 | BE10: =24*(MOD(BD10-BC10,1)) -> 15 | BF10: =IF(BC10>TIMEVALUE("21:00:00"),0,MIN(TIMEVALUE("21:00:00"),IF(BD10<BC10,BD10+1,BD10))-BC10) -> 0.16666667 | BG10: =IF(IF(BD10<BC10,BD10+1,BD10)>TIMEVALUE("21:00:00"),MIN(IF(BD10<BC10,BD10+1,BD10),TIMEVALUE("06:00:00")+1)-MAX(BC10,TIMEVALUE("21:00:00")),0) -> 0.375 | BH10: =IF(IF(BD10<BC10,BD10+1,BD10)>TIMEVALUE("06:00:00")+1,MIN(BD10+1,TIMEVALUE("07:00:00")+1)-TIMEVALUE("06:00:00")+1,0) -> 2.0416667 | BI10: 0.70833333 | BJ10: 0.33333333 | BK10: =24*(MOD(BJ10-BI10,1)) -> 15 | BL10: =IF(BI10>TIMEVALUE("21:00:00"),0,MIN(TIMEVALUE("21:00:00"),IF(BJ10<BI10,BJ10+1,BJ10))-BI10) -> 0.16666667 | BM10: =IF(IF(BJ10<BI10,BJ10+1,BJ10)>TIMEVALUE("21:00:00"),MIN(IF(BJ10<BI10,BJ10+1,BJ10),TIMEVALUE("06:00:00")+1)-MAX(BI10,TIMEVALUE("21:00:00")),0) -> 0.375 | BN10: =IF(IF(BJ10<BI10,BJ10+1,BJ10)>TIMEVALUE("06:00:00")+1,MIN(BJ10+1,TIMEVALUE("07:00:00")+1)-TIMEVALUE("06:00:00")+1,0) -> 2.0416667 | BO10: 0.70833333 | BP10: 0.33333333 | BQ10: =24*(MOD(BP10-BO10,1)) -> 15 | BR10: =IF(BO10>TIMEVALUE("21:00:00"),0,MIN(TIMEVALUE("21:00:00"),IF(BP10<BO10,BP10+1,BP10))-BO10) -> 0.16666667 | BS10: =IF(IF(BP10<BO10,BP10+1,BP10)>TIMEVALUE("21:00:00"),MIN(IF(BP10<BO10,BP10+1,BP10),TIMEVALUE("06:00:00")+1)-MAX(BO10,TIMEVALUE("21:00:00")),0) -> 0.375 | BT10: =IF(IF(BP10<BO10,BP10+1,BP10)>TIMEVALUE("06:00:00")+1,MIN(BP10+1,TIMEVALUE("07:00:00")+1)-TIMEVALUE("06:00:00")+1,0) -> 2.0416667 | BU10: 0.70833333 | BV10: 0.33333333 | BW10: =24*(MOD(BV10-BU10,1)) -> 15 | BX10: =IF(BU10>TIMEVALUE("21:00:00"),0,MIN(TIMEVALUE("21:00:00"),IF(BV10<BU10,BV10+1,BV10))-BU10) -> 0.16666667 | BY10: =IF(IF(BV10<BU10,BV10+1,BV10)>TIMEVALUE("21:00:00"),MIN(IF(BV10<BU10,BV10+1,BV10),TIMEVALUE("06:00:00")+1)-MAX(BU10,TIMEVALUE("21:00:00")),0) -> 0.375 | BZ10: =IF(IF(BV10<BU10,BV10+1,BV10)>TIMEVALUE("06:00:00")+1,MIN(BV10+1,TIMEVALUE("07:00:00")+1)-TIMEVALUE("06:00:00")+1,0) -> 2.0416667 | CA10: 0.70833333 | CB10: 0.33333333 | CC10: =24*(MOD(CB10-CA10,1)) -> 15 | CD10: =IF(CA10>TIMEVALUE("21:00:00"),0,MIN(TIMEVALUE("21:00:00"),IF(CB10<CA10,CB10+1,CB10))-CA10) -> 0.16666667 | CE10: =IF(IF(CB10<CA10,CB10+1,CB10)>TIMEVALUE("21:00:00"),MIN(IF(CB10<CA10,CB10+1,CB10),TIMEVALUE("06:00:00")+1)-MAX(CA10,TIMEVALUE("21:00:00")),0) -> 0.375 | CF10: =IF(IF(CB10<CA10,CB10+1,CB10)>TIMEVALUE("06:00:00")+1,MIN(CB10+1,TIMEVALUE("07:00:00")+1)-TIMEVALUE("06:00:00")+1,0) -> 2.0416667 | CG10: 0.70833333 | CH10: 0.33333333 | CI10: =24*(MOD(CH10-CG10,1)) -> 15 | CJ10: =IF(CG10>TIMEVALUE("21:00:00"),0,MIN(TIMEVALUE("21:00:00"),IF(CH10<CG10,CH10+1,CH10))-CG10) -> 0.16666667 | CK10: =IF(IF(CH10<CG10,CH10+1,CH10)>TIMEVALUE("21:00:00"),MIN(IF(CH10<CG10,CH10+1,CH10),TIMEVALUE("06:00:00")+1)-MAX(CG10,TIMEVALUE("21:00:00")),0) -> 0.375 | CL10: =IF(IF(CH10<CG10,CH10+1,CH10)>TIMEVALUE("06:00:00")+1,MIN(CH10+1,TIMEVALUE("07:00:00")+1)-TIMEVALUE("06:00:00")+1,0) -> 2.0416667 | CM10: 0.70833333 | CN10: 0.33333333 | CO10: =24*(MOD(CN10-CM10,1)) -> 15 | CP10: =IF(CM10>TIMEVALUE("21:00:00"),0,MIN(TIMEVALUE("21:00:00"),IF(CN10<CM10,CN10+1,CN10))-CM10) -> 0.16666667 | CQ10: =IF(IF(CN10<CM10,CN10+1,CN10)>TIMEVALUE("21:00:00"),MIN(IF(CN10<CM10,CN10+1,CN10),TIMEVALUE("06:00:00")+1)-MAX(CM10,TIMEVALUE("21:00:00")),0) -> 0.375 | CR10: =IF(IF(CN10<CM10,CN10+1,CN10)>TIMEVALUE("06:00:00")+1,MIN(CN10+1,TIMEVALUE("07:00:00")+1)-TIMEVALUE("06:00:00")+1,0) -> 2.0416667 | CS10: 0.70833333 | CT10: 0.33333333 | CU10: =24*(MOD(CT10-CS10,1)) -> 15 | CV10: =IF(CS10>TIMEVALUE("21:00:00"),0,MIN(TIMEVALUE("21:00:00"),IF(CT10<CS10,CT10+1,CT10))-CS10) -> 0.16666667 | CW10: =IF(IF(CT10<CS10,CT10+1,CT10)>TIMEVALUE("21:00:00"),MIN(IF(CT10<CS10,CT10+1,CT10),TIMEVALUE("06:00:00")+1)-MAX(CS10,TIMEVALUE("21:00:00")),0) -> 0.375 | CX10: =IF(IF(CT10<CS10,CT10+1,CT10)>TIMEVALUE("06:00:00")+1,MIN(CT10+1,TIMEVALUE("07:00:00")+1)-TIMEVALUE("06:00:00")+1,0) -> 2.0416667 | CY10: 0.70833333 | CZ10: 0.33333333 | DA10: =24*(MOD(CZ10-CY10,1)) -> 15 | DB10: =IF(CY10>TIMEVALUE("21:00:00"),0,MIN(TIMEVALUE("21:00:00"),IF(CZ10<CY10,CZ10+1,CZ10))-CY10) -> 0.16666667 | DC10: =IF(IF(CZ10<CY10,CZ10+1,CZ10)>TIMEVALUE("21:00:00"),MIN(IF(CZ10<CY10,CZ10+1,CZ10),TIMEVALUE("06:00:00")+1)-MAX(CY10,TIMEVALUE("21:00:00")),0) -> 0.375 | DD10: =IF(IF(CZ10<CY10,CZ10+1,CZ10)>TIMEVALUE("06:00:00")+1,MIN(CZ10+1,TIMEVALUE("07:00:00")+1)-TIMEVALUE("06:00:00")+1,0) -> 2.0416667 | DE10: 0.70833333 | DF10: 0.33333333 | DG10: =24*(MOD(DF10-DE10,1)) -> 15 | DH10: =IF(DE10>TIMEVALUE("21:00:00"),0,MIN(TIMEVALUE("21:00:00"),IF(DF10<DE10,DF10+1,DF10))-DE10) -> 0.16666667 | DI10: =IF(IF(DF10<DE10,DF10+1,DF10)>TIMEVALUE("21:00:00"),MIN(IF(DF10<DE10,DF10+1,DF10),TIMEVALUE("06:00:00")+1)-MAX(DE10,TIMEVALUE("21:00:00")),0) -> 0.375 | DJ10: =IF(IF(DF10<DE10,DF10+1,DF10)>TIMEVALUE("06:00:00")+1,MIN(DF10+1,TIMEVALUE("07:00:00")+1)-TIMEVALUE("06:00:00")+1,0) -> 2.0416667 | DK10: 0.70833333 | DL10: 0.33333333 | DM10: =24*(MOD(DL10-DK10,1)) -> 15 | DN10: =IF(DK10>TIMEVALUE("21:00:00"),0,MIN(TIMEVALUE("21:00:00"),IF(DL10<DK10,DL10+1,DL10))-DK10) -> 0.16666667 | DO10: =IF(IF(DL10<DK10,DL10+1,DL10)>TIMEVALUE("21:00:00"),MIN(IF(DL10<DK10,DL10+1,DL10),TIMEVALUE("06:00:00")+1)-MAX(DK10,TIMEVALUE("21:00:00")),0) -> 0.375 | DP10: =IF(IF(DL10<DK10,DL10+1,DL10)>TIMEVALUE("06:00:00")+1,MIN(DL10+1,TIMEVALUE("07:00:00")+1)-TIMEVALUE("06:00:00")+1,0) -> 2.0416667 | DQ10: 0.70833333 | DR10: 0.33333333 | DS10: =24*(MOD(DR10-DQ10,1)) -> 15 | DT10: =IF(DQ10>TIMEVALUE("21:00:00"),0,MIN(TIMEVALUE("21:00:00"),IF(DR10<DQ10,DR10+1,DR10))-DQ10) -> 0.16666667 | DU10: =IF(IF(DR10<DQ10,DR10+1,DR10)>TIMEVALUE("21:00:00"),MIN(IF(DR10<DQ10,DR10+1,DR10),TIMEVALUE("06:00:00")+1)-MAX(DQ10,TIMEVALUE("21:00:00")),0) -> 0.375 | DV10: =IF(IF(DR10<DQ10,DR10+1,DR10)>TIMEVALUE("06:00:00")+1,MIN(DR10+1,TIMEVALUE("07:00:00")+1)-TIMEVALUE("06:00:00")+1,0) -> 2.0416667 | DW10: 0.70833333 | DX10: 0.33333333 | DY10: =24*(MOD(DX10-DW10,1)) -> 15 | DZ10: =IF(DW10>TIMEVALUE("21:00:00"),0,MIN(TIMEVALUE("21:00:00"),IF(DX10<DW10,DX10+1,DX10))-DW10) -> 0.16666667 | EA10: =IF(IF(DX10<DW10,DX10+1,DX10)>TIMEVALUE("21:00:00"),MIN(IF(DX10<DW10,DX10+1,DX10),TIMEVALUE("06:00:00")+1)-MAX(DW10,TIMEVALUE("21:00:00")),0) -> 0.375 | EB10: =IF(IF(DX10<DW10,DX10+1,DX10)>TIMEVALUE("06:00:00")+1,MIN(DX10+1,TIMEVALUE("07:00:00")+1)-TIMEVALUE("06:00:00")+1,0) -> 2.0416667 | EC10: 0.70833333 | ED10: 0.33333333 | EE10: =24*(MOD(ED10-EC10,1)) -> 15 | EF10: =IF(EC10>TIMEVALUE("21:00:00"),0,MIN(TIMEVALUE("21:00:00"),IF(ED10<EC10,ED10+1,ED10))-EC10) -> 0.16666667 | EG10: =IF(IF(ED10<EC10,ED10+1,ED10)>TIMEVALUE("21:00:00"),MIN(IF(ED10<EC10,ED10+1,ED10),TIMEVALUE("06:00:00")+1)-MAX(EC10,TIMEVALUE("21:00:00")),0) -> 0.375 | EH10: =IF(IF(ED10<EC10,ED10+1,ED10)>TIMEVALUE("06:00:00")+1,MIN(ED10+1,TIMEVALUE("07:00:00")+1)-TIMEVALUE("06:00:00")+1,0) -> 2.0416667 | EI10: 0.70833333 | EJ10: 0.33333333 | EK10: =24*(MOD(EJ10-EI10,1)) -> 15 | EL10: =IF(EI10>TIMEVALUE("21:00:00"),0,MIN(TIMEVALUE("21:00:00"),IF(EJ10<EI10,EJ10+1,EJ10))-EI10) -> 0.16666667 | EM10: =IF(IF(EJ10<EI10,EJ10+1,EJ10)>TIMEVALUE("21:00:00"),MIN(IF(EJ10<EI10,EJ10+1,EJ10),TIMEVALUE("06:00:00")+1)-MAX(EI10,TIMEVALUE("21:00:00")),0) -> 0.375 | EN10: =IF(IF(EJ10<EI10,EJ10+1,EJ10)>TIMEVALUE("06:00:00")+1,MIN(EJ10+1,TIMEVALUE("07:00:00")+1)-TIMEVALUE("06:00:00")+1,0) -> 2.0416667 | EO10: 0.70833333 | EP10: 0.33333333 | EQ10: =24*(MOD(EP10-EO10,1)) -> 15 | ER10: =IF(EO10>TIMEVALUE("21:00:00"),0,MIN(TIMEVALUE("21:00:00"),IF(EP10<EO10,EP10+1,EP10))-EO10) -> 0.16666667 | ES10: =IF(IF(EP10<EO10,EP10+1,EP10)>TIMEVALUE("21:00:00"),MIN(IF(EP10<EO10,EP10+1,EP10),TIMEVALUE("06:00:00")+1)-MAX(EO10,TIMEVALUE("21:00:00")),0) -> 0.375 | ET10: =IF(IF(EP10<EO10,EP10+1,EP10)>TIMEVALUE("06:00:00")+1,MIN(EP10+1,TIMEVALUE("07:00:00")+1)-TIMEVALUE("06:00:00")+1,0) -> 2.0416667 | EU10: 0.70833333 | EV10: 0.33333333 | EW10: =24*(MOD(EV10-EU10,1)) -> 15 | EX10: =IF(EU10>TIMEVALUE("21:00:00"),0,MIN(TIMEVALUE("21:00:00"),IF(EV10<EU10,EV10+1,EV10))-EU10) -> 0.16666667 | EY10: =IF(IF(EV10<EU10,EV10+1,EV10)>TIMEVALUE("21:00:00"),MIN(IF(EV10<EU10,EV10+1,EV10),TIMEVALUE("06:00:00")+1)-MAX(EU10,TIMEVALUE("21:00:00")),0) -> 0.375 | EZ10: =IF(IF(EV10<EU10,EV10+1,EV10)>TIMEVALUE("06:00:00")+1,MIN(EV10+1,TIMEVALUE("07:00:00")+1)-TIMEVALUE("06:00:00")+1,0) -> 2.0416667 | FA10: 0.70833333 | FB10: 0.33333333 | FC10: =24*(MOD(FB10-FA10,1)) -> 15 | FD10: =IF(FA10>TIMEVALUE("21:00:00"),0,MIN(TIMEVALUE("21:00:00"),IF(FB10<FA10,FB10+1,FB10))-FA10) -> 0.16666667 | FE10: =IF(IF(FB10<FA10,FB10+1,FB10)>TIMEVALUE("21:00:00"),MIN(IF(FB10<FA10,FB10+1,FB10),TIMEVALUE("06:00:00")+1)-MAX(FA10,TIMEVALUE("21:00:00")),0) -> 0.375 | FF10: =IF(IF(FB10<FA10,FB10+1,FB10)>TIMEVALUE("06:00:00")+1,MIN(FB10+1,TIMEVALUE("07:00:00")+1)-TIMEVALUE("06:00:00")+1,0) -> 2.0416667 | FG10: 0.70833333 | FH10: 0.33333333 | FI10: =24*(MOD(FH10-FG10,1)) -> 15 | FJ10: =IF(FG10>TIMEVALUE("21:00:00"),0,MIN(TIMEVALUE("21:00:00"),IF(FH10<FG10,FH10+1,FH10))-FG10) -> 0.16666667 | FK10: =IF(IF(FH10<FG10,FH10+1,FH10)>TIMEVALUE("21:00:00"),MIN(IF(FH10<FG10,FH10+1,FH10),TIMEVALUE("06:00:00")+1)-MAX(FG10,TIMEVALUE("21:00:00")),0) -> 0.375 | FL10: =IF(IF(FH10<FG10,FH10+1,FH10)>TIMEVALUE("06:00:00")+1,MIN(FH10+1,TIMEVALUE("07:00:00")+1)-TIMEVALUE("06:00:00")+1,0) -> 2.0416667 | FM10: 0.70833333 | FN10: 0.33333333 | FO10: =24*(MOD(FN10-FM10,1)) -> 15 | FP10: =IF(FM10>TIMEVALUE("21:00:00"),0,MIN(TIMEVALUE("21:00:00"),IF(FN10<FM10,FN10+1,FN10))-FM10) -> 0.16666667 | FQ10: =IF(IF(FN10<FM10,FN10+1,FN10)>TIMEVALUE("21:00:00"),MIN(IF(FN10<FM10,FN10+1,FN10),TIMEVALUE("06:00:00")+1)-MAX(FM10,TIMEVALUE("21:00:00")),0) -> 0.375 | FR10: =IF(IF(FN10<FM10,FN10+1,FN10)>TIMEVALUE("06:00:00")+1,MIN(FN10+1,TIMEVALUE("07:00:00")+1)-TIMEVALUE("06:00:00")+1,0) -> 2.0416667 | FS10: 0.70833333 | FT10: 0.33333333 | FU10: =24*(MOD(FT10-FS10,1)) -> 15 | FV10: =IF(FS10>TIMEVALUE("21:00:00"),0,MIN(TIMEVALUE("21:00:00"),IF(FT10<FS10,FT10+1,FT10))-FS10) -> 0.16666667 | FW10: =IF(IF(FT10<FS10,FT10+1,FT10)>TIMEVALUE("21:00:00"),MIN(IF(FT10<FS10,FT10+1,FT10),TIMEVALUE("06:00:00")+1)-MAX(FS10,TIMEVALUE("21:00:00")),0) -> 0.375 | FX10: =IF(IF(FT10<FS10,FT10+1,FT10)>TIMEVALUE("06:00:00")+1,MIN(FT10+1,TIMEVALUE("07:00:00")+1)-TIMEVALUE("06:00:00")+1,0) -> 2.0416667 | FY10: 0.70833333 | FZ10: 0.33333333 | GA10: =24*(MOD(FZ10-FY10,1)) -> 15 | GB10: =IF(FY10>TIMEVALUE("21:00:00"),0,MIN(TIMEVALUE("21:00:00"),IF(FZ10<FY10,FZ10+1,FZ10))-FY10) -> 0.16666667 | GC10: =IF(IF(FZ10<FY10,FZ10+1,FZ10)>TIMEVALUE("21:00:00"),MIN(IF(FZ10<FY10,FZ10+1,FZ10),TIMEVALUE("06:00:00")+1)-MAX(FY10,TIMEVALUE("21:00:00")),0) -> 0.375 | GD10: =IF(IF(FZ10<FY10,FZ10+1,FZ10)>TIMEVALUE("06:00:00")+1,MIN(FZ10+1,TIMEVALUE("07:00:00")+1)-TIMEVALUE("06:00:00")+1,0) -> 2.0416667 | GE10: 0.70833333 | GF10: 0.33333333 | GG10: =24*(MOD(GF10-GE10,1)) -> 15 | GH10: =IF(GE10>TIMEVALUE("21:00:00"),0,MIN(TIMEVALUE("21:00:00"),IF(GF10<GE10,GF10+1,GF10))-GE10) -> 0.16666667 | GI10: =IF(IF(GF10<GE10,GF10+1,GF10)>TIMEVALUE("21:00:00"),MIN(IF(GF10<GE10,GF10+1,GF10),TIMEVALUE("06:00:00")+1)-MAX(GE10,TIMEVALUE("21:00:00")),0) -> 0.375 | GJ10: =IF(IF(GF10<GE10,GF10+1,GF10)>TIMEVALUE("06:00:00")+1,MIN(GF10+1,TIMEVALUE("07:00:00")+1)-TIMEVALUE("06:00:00")+1,0) -> 2.0416667
D11: 0 | E11: 0 | F11: =24*(MOD(E11-D11,1)) -> 0 | G11: =IF(D11>TIMEVALUE("21:00:00"),0,MIN(TIMEVALUE("21:00:00"),IF(E11<D11,E11+1,E11))-D11) -> 0 | H11: =IF(IF(E11<D11,E11+1,E11)>TIMEVALUE("21:00:00"),MIN(IF(E11<D11,E11+1,E11),TIMEVALUE("06:00:00")+1)-MAX(D11,TIMEVALUE("21:00:00")),0) -> 0 | I11: =IF(IF(E11<D11,E11+1,E11)>TIMEVALUE("06:00:00")+1,MIN(E11+1,TIMEVALUE("07:00:00")+1)-TIMEVALUE("06:00:00")+1,0) -> 0 | J11: =_xlfn.IFS($J$6=1,G11*Sheet1!$B$5*24,$D$2="Lundi",TRUE,$D$2="Mardi",TRUE,$D$2="Mercredi",TRUE,$D$2="Jeudi",$D$2="Vendredi") -> 0 | K11: =_xlfn.IFS($K$6=1,H11*Sheet1!$G$5*24,$D$2="Lundi",TRUE,$D$2="Mardi",TRUE,$D$2="Mercredi",TRUE,$D$2="Jeudi",$D$2="Vendredi") -> 0 | L11: =_xlfn.IFS($L$6=1,I11*Sheet1!$B$5,$D$2="Lundi",TRUE,$D$2="Mardi",TRUE,$D$2="Mercredi",TRUE,$D$2="Jeudi",$D$2="Vendredi") -> 0 | M11: 0.70833333 | N11: 0.33333333 | O11: =24*(MOD(N11-M11,1)) -> 15 | P11: =IF(M11>TIMEVALUE("21:00:00"),0,MIN(TIMEVALUE("21:00:00"),IF(N11<M11,N11+1,N11))-M11) -> 0.16666667 | Q11: =IF(IF(N11<M11,N11+1,N11)>TIMEVALUE("21:00:00"),MIN(IF(N11<M11,N11+1,N11),TIMEVALUE("06:00:00")+1)-MAX(M11,TIMEVALUE("21:00:00")),0) -> 0.375 | R11: =IF(IF(N11<M11,N11+1,N11)>TIMEVALUE("06:00:00")+1,MIN(N11+1,TIMEVALUE("07:00:00")+1)-TIMEVALUE("06:00:00")+1,0) -> 2.0416667 | S11: 0.70833333 | T11: 0.33333333 | U11: =24*(MOD(T11-S11,1)) -> 15 | V11: =IF(S11>TIMEVALUE("21:00:00"),0,MIN(TIMEVALUE("21:00:00"),IF(T11<S11,T11+1,T11))-S11) -> 0.16666667 | W11: =IF(IF(T11<S11,T11+1,T11)>TIMEVALUE("21:00:00"),MIN(IF(T11<S11,T11+1,T11),TIMEVALUE("06:00:00")+1)-MAX(S11,TIMEVALUE("21:00:00")),0) -> 0.375 | X11: =IF(IF(T11<S11,T11+1,T11)>TIMEVALUE("06:00:00")+1,MIN(T11+1,TIMEVALUE("07:00:00")+1)-TIMEVALUE("06:00:00")+1,0) -> 2.0416667 | Y11: 0.70833333 | Z11: 0.33333333 | AA11: =24*(MOD(Z11-Y11,1)) -> 15 | AB11: =IF(Y11>TIMEVALUE("21:00:00"),0,MIN(TIMEVALUE("21:00:00"),IF(Z11<Y11,Z11+1,Z11))-Y11) -> 0.16666667 | AC11: =IF(IF(Z11<Y11,Z11+1,Z11)>TIMEVALUE("21:00:00"),MIN(IF(Z11<Y11,Z11+1,Z11),TIMEVALUE("06:00:00")+1)-MAX(Y11,TIMEVALUE("21:00:00")),0) -> 0.375 | AD11: =IF(IF(Z11<Y11,Z11+1,Z11)>TIMEVALUE("06:00:00")+1,MIN(Z11+1,TIMEVALUE("07:00:00")+1)-TIMEVALUE("06:00:00")+1,0) -> 2.0416667 | AE11: 0.70833333 | AF11: 0.33333333 | AG11: =24*(MOD(AF11-AE11,1)) -> 15 | AH11: =IF(AE11>TIMEVALUE("21:00:00"),0,MIN(TIMEVALUE("21:00:00"),IF(AF11<AE11,AF11+1,AF11))-AE11) -> 0.16666667 | AI11: =IF(IF(AF11<AE11,AF11+1,AF11)>TIMEVALUE("21:00:00"),MIN(IF(AF11<AE11,AF11+1,AF11),TIMEVALUE("06:00:00")+1)-MAX(AE11,TIMEVALUE("21:00:00")),0) -> 0.375 | AJ11: =IF(IF(AF11<AE11,AF11+1,AF11)>TIMEVALUE("06:00:00")+1,MIN(AF11+1,TIMEVALUE("07:00:00")+1)-TIMEVALUE("06:00:00")+1,0) -> 2.0416667 | AK11: 0.70833333 | AL11: 0.33333333 | AM11: =24*(MOD(AL11-AK11,1)) -> 15 | AN11: =IF(AK11>TIMEVALUE("21:00:00"),0,MIN(TIMEVALUE("21:00:00"),IF(AL11<AK11,AL11+1,AL11))-AK11) -> 0.16666667 | AO11: =IF(IF(AL11<AK11,AL11+1,AL11)>TIMEVALUE("21:00:00"),MIN(IF(AL11<AK11,AL11+1,AL11),TIMEVALUE("06:00:00")+1)-MAX(AK11,TIMEVALUE("21:00:00")),0) -> 0.375 | AP11: =IF(IF(AL11<AK11,AL11+1,AL11)>TIMEVALUE("06:00:00")+1,MIN(AL11+1,TIMEVALUE("07:00:00")+1)-TIMEVALUE("06:00:00")+1,0) -> 2.0416667 | AQ11: 0.70833333 | AR11: 0.33333333 | AS11: =24*(MOD(AR11-AQ11,1)) -> 15 | AT11: =IF(AQ11>TIMEVALUE("21:00:00"),0,MIN(TIMEVALUE("21:00:00"),IF(AR11<AQ11,AR11+1,AR11))-AQ11) -> 0.16666667 | AU11: =IF(IF(AR11<AQ11,AR11+1,AR11)>TIMEVALUE("21:00:00"),MIN(IF(AR11<AQ11,AR11+1,AR11),TIMEVALUE("06:00:00")+1)-MAX(AQ11,TIMEVALUE("21:00:00")),0) -> 0.375 | AV11: =IF(IF(AR11<AQ11,AR11+1,AR11)>TIMEVALUE("06:00:00")+1,MIN(AR11+1,TIMEVALUE("07:00:00")+1)-TIMEVALUE("06:00:00")+1,0) -> 2.0416667 | AW11: 0.70833333 | AX11: 0.33333333 | AY11: =24*(MOD(AX11-AW11,1)) -> 15 | AZ11: =IF(AW11>TIMEVALUE("21:00:00"),0,MIN(TIMEVALUE("21:00:00"),IF(AX11<AW11,AX11+1,AX11))-AW11) -> 0.16666667 | BA11: =IF(IF(AX11<AW11,AX11+1,AX11)>TIMEVALUE("21:00:00"),MIN(IF(AX11<AW11,AX11+1,AX11),TIMEVALUE("06:00:00")+1)-MAX(AW11,TIMEVALUE("21:00:00")),0) -> 0.375 | BB11: =IF(IF(AX11<AW11,AX11+1,AX11)>TIMEVALUE("06:00:00")+1,MIN(AX11+1,TIMEVALUE("07:00:00")+1)-TIMEVALUE("06:00:00")+1,0) -> 2.0416667 | BC11: 0.70833333 | BD11: 0.33333333 | BE11: =24*(MOD(BD11-BC11,1)) -> 15 | BF11: =IF(BC11>TIMEVALUE("21:00:00"),0,MIN(TIMEVALUE("21:00:00"),IF(BD11<BC11,BD11+1,BD11))-BC11) -> 0.16666667 | BG11: =IF(IF(BD11<BC11,BD11+1,BD11)>TIMEVALUE("21:00:00"),MIN(IF(BD11<BC11,BD11+1,BD11),TIMEVALUE("06:00:00")+1)-MAX(BC11,TIMEVALUE("21:00:00")),0) -> 0.375 | BH11: =IF(IF(BD11<BC11,BD11+1,BD11)>TIMEVALUE("06:00:00")+1,MIN(BD11+1,TIMEVALUE("07:00:00")+1)-TIMEVALUE("06:00:00")+1,0) -> 2.0416667 | BI11: 0.70833333 | BJ11: 0.33333333 | BK11: =24*(MOD(BJ11-BI11,1)) -> 15 | BL11: =IF(BI11>TIMEVALUE("21:00:00"),0,MIN(TIMEVALUE("21:00:00"),IF(BJ11<BI11,BJ11+1,BJ11))-BI11) -> 0.16666667 | BM11: =IF(IF(BJ11<BI11,BJ11+1,BJ11)>TIMEVALUE("21:00:00"),MIN(IF(BJ11<BI11,BJ11+1,BJ11),TIMEVALUE("06:00:00")+1)-MAX(BI11,TIMEVALUE("21:00:00")),0) -> 0.375 | BN11: =IF(IF(BJ11<BI11,BJ11+1,BJ11)>TIMEVALUE("06:00:00")+1,MIN(BJ11+1,TIMEVALUE("07:00:00")+1)-TIMEVALUE("06:00:00")+1,0) -> 2.0416667 | BO11: 0.70833333 | BP11: 0.33333333 | BQ11: =24*(MOD(BP11-BO11,1)) -> 15 | BR11: =IF(BO11>TIMEVALUE("21:00:00"),0,MIN(TIMEVALUE("21:00:00"),IF(BP11<BO11,BP11+1,BP11))-BO11) -> 0.16666667 | BS11: =IF(IF(BP11<BO11,BP11+1,BP11)>TIMEVALUE("21:00:00"),MIN(IF(BP11<BO11,BP11+1,BP11),TIMEVALUE("06:00:00")+1)-MAX(BO11,TIMEVALUE("21:00:00")),0) -> 0.375 | BT11: =IF(IF(BP11<BO11,BP11+1,BP11)>TIMEVALUE("06:00:00")+1,MIN(BP11+1,TIMEVALUE("07:00:00")+1)-TIMEVALUE("06:00:00")+1,0) -> 2.0416667 | BU11: 0.70833333 | BV11: 0.33333333 | BW11: =24*(MOD(BV11-BU11,1)) -> 15 | BX11: =IF(BU11>TIMEVALUE("21:00:00"),0,MIN(TIMEVALUE("21:00:00"),IF(BV11<BU11,BV11+1,BV11))-BU11) -> 0.16666667 | BY11: =IF(IF(BV11<BU11,BV11+1,BV11)>TIMEVALUE("21:00:00"),MIN(IF(BV11<BU11,BV11+1,BV11),TIMEVALUE("06:00:00")+1)-MAX(BU11,TIMEVALUE("21:00:00")),0) -> 0.375 | BZ11: =IF(IF(BV11<BU11,BV11+1,BV11)>TIMEVALUE("06:00:00")+1,MIN(BV11+1,TIMEVALUE("07:00:00")+1)-TIMEVALUE("06:00:00")+1,0) -> 2.0416667 | CA11: 0.70833333 | CB11: 0.33333333 | CC11: =24*(MOD(CB11-CA11,1)) -> 15 | CD11: =IF(CA11>TIMEVALUE("21:00:00"),0,MIN(TIMEVALUE("21:00:00"),IF(CB11<CA11,CB11+1,CB11))-CA11) -> 0.16666667 | CE11: =IF(IF(CB11<CA11,CB11+1,CB11)>TIMEVALUE("21:00:00"),MIN(IF(CB11<CA11,CB11+1,CB11),TIMEVALUE("06:00:00")+1)-MAX(CA11,TIMEVALUE("21:00:00")),0) -> 0.375 | CF11: =IF(IF(CB11<CA11,CB11+1,CB11)>TIMEVALUE("06:00:00")+1,MIN(CB11+1,TIMEVALUE("07:00:00")+1)-TIMEVALUE("06:00:00")+1,0) -> 2.0416667 | CG11: 0.70833333 | CH11: 0.33333333 | CI11: =24*(MOD(CH11-CG11,1)) -> 15 | CJ11: =IF(CG11>TIMEVALUE("21:00:00"),0,MIN(TIMEVALUE("21:00:00"),IF(CH11<CG11,CH11+1,CH11))-CG11) -> 0.16666667 | CK11: =IF(IF(CH11<CG11,CH11+1,CH11)>TIMEVALUE("21:00:00"),MIN(IF(CH11<CG11,CH11+1,CH11),TIMEVALUE("06:00:00")+1)-MAX(CG11,TIMEVALUE("21:00:00")),0) -> 0.375 | CL11: =IF(IF(CH11<CG11,CH11+1,CH11)>TIMEVALUE("06:00:00")+1,MIN(CH11+1,TIMEVALUE("07:00:00")+1)-TIMEVALUE("06:00:00")+1,0) -> 2.0416667 | CM11: 0.70833333 | CN11: 0.33333333 | CO11: =24*(MOD(CN11-CM11,1)) -> 15 | CP11: =IF(CM11>TIMEVALUE("21:00:00"),0,MIN(TIMEVALUE("21:00:00"),IF(CN11<CM11,CN11+1,CN11))-CM11) -> 0.16666667 | CQ11: =IF(IF(CN11<CM11,CN11+1,CN11)>TIMEVALUE("21:00:00"),MIN(IF(CN11<CM11,CN11+1,CN11),TIMEVALUE("06:00:00")+1)-MAX(CM11,TIMEVALUE("21:00:00")),0) -> 0.375 | CR11: =IF(IF(CN11<CM11,CN11+1,CN11)>TIMEVALUE("06:00:00")+1,MIN(CN11+1,TIMEVALUE("07:00:00")+1)-TIMEVALUE("06:00:00")+1,0) -> 2.0416667 | CS11: 0.70833333 | CT11: 0.33333333 | CU11: =24*(MOD(CT11-CS11,1)) -> 15 | CV11: =IF(CS11>TIMEVALUE("21:00:00"),0,MIN(TIMEVALUE("21:00:00"),IF(CT11<CS11,CT11+1,CT11))-CS11) -> 0.16666667 | CW11: =IF(IF(CT11<CS11,CT11+1,CT11)>TIMEVALUE("21:00:00"),MIN(IF(CT11<CS11,CT11+1,CT11),TIMEVALUE("06:00:00")+1)-MAX(CS11,TIMEVALUE("21:00:00")),0) -> 0.375 | CX11: =IF(IF(CT11<CS11,CT11+1,CT11)>TIMEVALUE("06:00:00")+1,MIN(CT11+1,TIMEVALUE("07:00:00")+1)-TIMEVALUE("06:00:00")+1,0) -> 2.0416667 | CY11: 0.70833333 | CZ11: 0.33333333 | DA11: =24*(MOD(CZ11-CY11,1)) -> 15 | DB11: =IF(CY11>TIMEVALUE("21:00:00"),0,MIN(TIMEVALUE("21:00:00"),IF(CZ11<CY11,CZ11+1,CZ11))-CY11) -> 0.16666667 | DC11: =IF(IF(CZ11<CY11,CZ11+1,CZ11)>TIMEVALUE("21:00:00"),MIN(IF(CZ11<CY11,CZ11+1,CZ11),TIMEVALUE("06:00:00")+1)-MAX(CY11,TIMEVALUE("21:00:00")),0) -> 0.375 | DD11: =IF(IF(CZ11<CY11,CZ11+1,CZ11)>TIMEVALUE("06:00:00")+1,MIN(CZ11+1,TIMEVALUE("07:00:00")+1)-TIMEVALUE("06:00:00")+1,0) -> 2.0416667 | DE11: 0.70833333 | DF11: 0.33333333 | DG11: =24*(MOD(DF11-DE11,1)) -> 15 | DH11: =IF(DE11>TIMEVALUE("21:00:00"),0,MIN(TIMEVALUE("21:00:00"),IF(DF11<DE11,DF11+1,DF11))-DE11) -> 0.16666667 | DI11: =IF(IF(DF11<DE11,DF11+1,DF11)>TIMEVALUE("21:00:00"),MIN(IF(DF11<DE11,DF11+1,DF11),TIMEVALUE("06:00:00")+1)-MAX(DE11,TIMEVALUE("21:00:00")),0) -> 0.375 | DJ11: =IF(IF(DF11<DE11,DF11+1,DF11)>TIMEVALUE("06:00:00")+1,MIN(DF11+1,TIMEVALUE("07:00:00")+1)-TIMEVALUE("06:00:00")+1,0) -> 2.0416667 | DK11: 0.70833333 | DL11: 0.33333333 | DM11: =24*(MOD(DL11-DK11,1)) -> 15 | DN11: =IF(DK11>TIMEVALUE("21:00:00"),0,MIN(TIMEVALUE("21:00:00"),IF(DL11<DK11,DL11+1,DL11))-DK11) -> 0.16666667 | DO11: =IF(IF(DL11<DK11,DL11+1,DL11)>TIMEVALUE("21:00:00"),MIN(IF(DL11<DK11,DL11+1,DL11),TIMEVALUE("06:00:00")+1)-MAX(DK11,TIMEVALUE("21:00:00")),0) -> 0.375 | DP11: =IF(IF(DL11<DK11,DL11+1,DL11)>TIMEVALUE("06:00:00")+1,MIN(DL11+1,TIMEVALUE("07:00:00")+1)-TIMEVALUE("06:00:00")+1,0) -> 2.0416667 | DQ11: 0.70833333 | DR11: 0.33333333 | DS11: =24*(MOD(DR11-DQ11,1)) -> 15 | DT11: =IF(DQ11>TIMEVALUE("21:00:00"),0,MIN(TIMEVALUE("21:00:00"),IF(DR11<DQ11,DR11+1,DR11))-DQ11) -> 0.16666667 | DU11: =IF(IF(DR11<DQ11,DR11+1,DR11)>TIMEVALUE("21:00:00"),MIN(IF(DR11<DQ11,DR11+1,DR11),TIMEVALUE("06:00:00")+1)-MAX(DQ11,TIMEVALUE("21:00:00")),0) -> 0.375 | DV11: =IF(IF(DR11<DQ11,DR11+1,DR11)>TIMEVALUE("06:00:00")+1,MIN(DR11+1,TIMEVALUE("07:00:00")+1)-TIMEVALUE("06:00:00")+1,0) -> 2.0416667 | DW11: 0.70833333 | DX11: 0.33333333 | DY11: =24*(MOD(DX11-DW11,1)) -> 15 | DZ11: =IF(DW11>TIMEVALUE("21:00:00"),0,MIN(TIMEVALUE("21:00:00"),IF(DX11<DW11,DX11+1,DX11))-DW11) -> 0.16666667 | EA11: =IF(IF(DX11<DW11,DX11+1,DX11)>TIMEVALUE("21:00:00"),MIN(IF(DX11<DW11,DX11+1,DX11),TIMEVALUE("06:00:00")+1)-MAX(DW11,TIMEVALUE("21:00:00")),0) -> 0.375 | EB11: =IF(IF(DX11<DW11,DX11+1,DX11)>TIMEVALUE("06:00:00")+1,MIN(DX11+1,TIMEVALUE("07:00:00")+1)-TIMEVALUE("06:00:00")+1,0) -> 2.0416667 | EC11: 0.70833333 | ED11: 0.33333333 | EE11: =24*(MOD(ED11-EC11,1)) -> 15 | EF11: =IF(EC11>TIMEVALUE("21:00:00"),0,MIN(TIMEVALUE("21:00:00"),IF(ED11<EC11,ED11+1,ED11))-EC11) -> 0.16666667 | EG11: =IF(IF(ED11<EC11,ED11+1,ED11)>TIMEVALUE("21:00:00"),MIN(IF(ED11<EC11,ED11+1,ED11),TIMEVALUE("06:00:00")+1)-MAX(EC11,TIMEVALUE("21:00:00")),0) -> 0.375 | EH11: =IF(IF(ED11<EC11,ED11+1,ED11)>TIMEVALUE("06:00:00")+1,MIN(ED11+1,TIMEVALUE("07:00:00")+1)-TIMEVALUE("06:00:00")+1,0) -> 2.0416667 | EI11: 0.70833333 | EJ11: 0.33333333 | EK11: =24*(MOD(EJ11-EI11,1)) -> 15 | EL11: =IF(EI11>TIMEVALUE("21:00:00"),0,MIN(TIMEVALUE("21:00:00"),IF(EJ11<EI11,EJ11+1,EJ11))-EI11) -> 0.16666667 | EM11: =IF(IF(EJ11<EI11,EJ11+1,EJ11)>TIMEVALUE("21:00:00"),MIN(IF(EJ11<EI11,EJ11+1,EJ11),TIMEVALUE("06:00:00")+1)-MAX(EI11,TIMEVALUE("21:00:00")),0) -> 0.375 | EN11: =IF(IF(EJ11<EI11,EJ11+1,EJ11)>TIMEVALUE("06:00:00")+1,MIN(EJ11+1,TIMEVALUE("07:00:00")+1)-TIMEVALUE("06:00:00")+1,0) -> 2.0416667 | EO11: 0.70833333 | EP11: 0.33333333 | EQ11: =24*(MOD(EP11-EO11,1)) -> 15 | ER11: =IF(EO11>TIMEVALUE("21:00:00"),0,MIN(TIMEVALUE("21:00:00"),IF(EP11<EO11,EP11+1,EP11))-EO11) -> 0.16666667 | ES11: =IF(IF(EP11<EO11,EP11+1,EP11)>TIMEVALUE("21:00:00"),MIN(IF(EP11<EO11,EP11+1,EP11),TIMEVALUE("06:00:00")+1)-MAX(EO11,TIMEVALUE("21:00:00")),0) -> 0.375 | ET11: =IF(IF(EP11<EO11,EP11+1,EP11)>TIMEVALUE("06:00:00")+1,MIN(EP11+1,TIMEVALUE("07:00:00")+1)-TIMEVALUE("06:00:00")+1,0) -> 2.0416667 | EU11: 0.70833333 | EV11: 0.33333333 | EW11: =24*(MOD(EV11-EU11,1)) -> 15 | EX11: =IF(EU11>TIMEVALUE("21:00:00"),0,MIN(TIMEVALUE("21:00:00"),IF(EV11<EU11,EV11+1,EV11))-EU11) -> 0.16666667 | EY11: =IF(IF(EV11<EU11,EV11+1,EV11)>TIMEVALUE("21:00:00"),MIN(IF(EV11<EU11,EV11+1,EV11),TIMEVALUE("06:00:00")+1)-MAX(EU11,TIMEVALUE("21:00:00")),0) -> 0.375 | EZ11: =IF(IF(EV11<EU11,EV11+1,EV11)>TIMEVALUE("06:00:00")+1,MIN(EV11+1,TIMEVALUE("07:00:00")+1)-TIMEVALUE("06:00:00")+1,0) -> 2.0416667 | FA11: 0.70833333 | FB11: 0.33333333 | FC11: =24*(MOD(FB11-FA11,1)) -> 15 | FD11: =IF(FA11>TIMEVALUE("21:00:00"),0,MIN(TIMEVALUE("21:00:00"),IF(FB11<FA11,FB11+1,FB11))-FA11) -> 0.16666667 | FE11: =IF(IF(FB11<FA11,FB11+1,FB11)>TIMEVALUE("21:00:00"),MIN(IF(FB11<FA11,FB11+1,FB11),TIMEVALUE("06:00:00")+1)-MAX(FA11,TIMEVALUE("21:00:00")),0) -> 0.375 | FF11: =IF(IF(FB11<FA11,FB11+1,FB11)>TIMEVALUE("06:00:00")+1,MIN(FB11+1,TIMEVALUE("07:00:00")+1)-TIMEVALUE("06:00:00")+1,0) -> 2.0416667 | FG11: 0.70833333 | FH11: 0.33333333 | FI11: =24*(MOD(FH11-FG11,1)) -> 15 | FJ11: =IF(FG11>TIMEVALUE("21:00:00"),0,MIN(TIMEVALUE("21:00:00"),IF(FH11<FG11,FH11+1,FH11))-FG11) -> 0.16666667 | FK11: =IF(IF(FH11<FG11,FH11+1,FH11)>TIMEVALUE("21:00:00"),MIN(IF(FH11<FG11,FH11+1,FH11),TIMEVALUE("06:00:00")+1)-MAX(FG11,TIMEVALUE("21:00:00")),0) -> 0.375 | FL11: =IF(IF(FH11<FG11,FH11+1,FH11)>TIMEVALUE("06:00:00")+1,MIN(FH11+1,TIMEVALUE("07:00:00")+1)-TIMEVALUE("06:00:00")+1,0) -> 2.0416667 | FM11: 0.70833333 | FN11: 0.33333333 | FO11: =24*(MOD(FN11-FM11,1)) -> 15 | FP11: =IF(FM11>TIMEVALUE("21:00:00"),0,MIN(TIMEVALUE("21:00:00"),IF(FN11<FM11,FN11+1,FN11))-FM11) -> 0.16666667 | FQ11: =IF(IF(FN11<FM11,FN11+1,FN11)>TIMEVALUE("21:00:00"),MIN(IF(FN11<FM11,FN11+1,FN11),TIMEVALUE("06:00:00")+1)-MAX(FM11,TIMEVALUE("21:00:00")),0) -> 0.375 | FR11: =IF(IF(FN11<FM11,FN11+1,FN11)>TIMEVALUE("06:00:00")+1,MIN(FN11+1,TIMEVALUE("07:00:00")+1)-TIMEVALUE("06:00:00")+1,0) -> 2.0416667 | FS11: 0.70833333 | FT11: 0.33333333 | FU11: =24*(MOD(FT11-FS11,1)) -> 15 | FV11: =IF(FS11>TIMEVALUE("21:00:00"),0,MIN(TIMEVALUE("21:00:00"),IF(FT11<FS11,FT11+1,FT11))-FS11) -> 0.16666667 | FW11: =IF(IF(FT11<FS11,FT11+1,FT11)>TIMEVALUE("21:00:00"),MIN(IF(FT11<FS11,FT11+1,FT11),TIMEVALUE("06:00:00")+1)-MAX(FS11,TIMEVALUE("21:00:00")),0) -> 0.375 | FX11: =IF(IF(FT11<FS11,FT11+1,FT11)>TIMEVALUE("06:00:00")+1,MIN(FT11+1,TIMEVALUE("07:00:00")+1)-TIMEVALUE("06:00:00")+1,0) -> 2.0416667 | FY11: 0.70833333 | FZ11: 0.33333333 | GA11: =24*(MOD(FZ11-FY11,1)) -> 15 | GB11: =IF(FY11>TIMEVALUE("21:00:00"),0,MIN(TIMEVALUE("21:00:00"),IF(FZ11<FY11,FZ11+1,FZ11))-FY11) -> 0.16666667 | GC11: =IF(IF(FZ11<FY11,FZ11+1,FZ11)>TIMEVALUE("21:00:00"),MIN(IF(FZ11<FY11,FZ11+1,FZ11),TIMEVALUE("06:00:00")+1)-MAX(FY11,TIMEVALUE("21:00:00")),0) -> 0.375 | GD11: =IF(IF(FZ11<FY11,FZ11+1,FZ11)>TIMEVALUE("06:00:00")+1,MIN(FZ11+1,TIMEVALUE("07:00:00")+1)-TIMEVALUE("06:00:00")+1,0) -> 2.0416667 | GE11: 0.70833333 | GF11: 0.33333333 | GG11: =24*(MOD(GF11-GE11,1)) -> 15 | GH11: =IF(GE11>TIMEVALUE("21:00:00"),0,MIN(TIMEVALUE("21:00:00"),IF(GF11<GE11,GF11+1,GF11))-GE11) -> 0.16666667 | GI11: =IF(IF(GF11<GE11,GF11+1,GF11)>TIMEVALUE("21:00:00"),MIN(IF(GF11<GE11,GF11+1,GF11),TIMEVALUE("06:00:00")+1)-MAX(GE11,TIMEVALUE("21:00:00")),0) -> 0.375 | GJ11: =IF(IF(GF11<GE11,GF11+1,GF11)>TIMEVALUE("06:00:00")+1,MIN(GF11+1,TIMEVALUE("07:00:00")+1)-TIMEVALUE("06:00:00")+1,0) -> 2.0416667
D12: 0 | E12: 0 | F12: =24*(MOD(E12-D12,1)) -> 0 | G12: =IF(D12>TIMEVALUE("21:00:00"),0,MIN(TIMEVALUE("21:00:00"),IF(E12<D12,E12+1,E12))-D12) -> 0 | H12: =IF(IF(E12<D12,E12+1,E12)>TIMEVALUE("21:00:00"),MIN(IF(E12<D12,E12+1,E12),TIMEVALUE("06:00:00")+1)-MAX(D12,TIMEVALUE("21:00:00")),0) -> 0 | I12: =IF(IF(E12<D12,E12+1,E12)>TIMEVALUE("06:00:00")+1,MIN(E12+1,TIMEVALUE("07:00:00")+1)-TIMEVALUE("06:00:00")+1,0) -> 0 | J12: =_xlfn.IFS($J$6=1,G12*Sheet1!$B$5*24,$D$2="Lundi",TRUE,$D$2="Mardi",TRUE,$D$2="Mercredi",TRUE,$D$2="Jeudi",$D$2="Vendredi") -> 0 | K12: =_xlfn.IFS($K$6=1,H12*Sheet1!$G$5*24,$D$2="Lundi",TRUE,$D$2="Mardi",TRUE,$D$2="Mercredi",TRUE,$D$2="Jeudi",$D$2="Vendredi") -> 0 | L12: =_xlfn.IFS($L$6=1,I12*Sheet1!$B$5,$D$2="Lundi",TRUE,$D$2="Mardi",TRUE,$D$2="Mercredi",TRUE,$D$2="Jeudi",$D$2="Vendredi") -> 0 | M12: 0.70833333 | N12: 0.33333333 | O12: =24*(MOD(N12-M12,1)) -> 15 | P12: =IF(M12>TIMEVALUE("21:00:00"),0,MIN(TIMEVALUE("21:00:00"),IF(N12<M12,N12+1,N12))-M12) -> 0.16666667 | Q12: =IF(IF(N12<M12,N12+1,N12)>TIMEVALUE("21:00:00"),MIN(IF(N12<M12,N12+1,N12),TIMEVALUE("06:00:00")+1)-MAX(M12,TIMEVALUE("21:00:00")),0) -> 0.375 | R12: =IF(IF(N12<M12,N12+1,N12)>TIMEVALUE("06:00:00")+1,MIN(N12+1,TIMEVALUE("07:00:00")+1)-TIMEVALUE("06:00:00")+1,0) -> 2.0416667 | S12: 0.70833333 | T12: 0.33333333 | U12: =24*(MOD(T12-S12,1)) -> 15 | V12: =IF(S12>TIMEVALUE("21:00:00"),0,MIN(TIMEVALUE("21:00:00"),IF(T12<S12,T12+1,T12))-S12) -> 0.16666667 | W12: =IF(IF(T12<S12,T12+1,T12)>TIMEVALUE("21:00:00"),MIN(IF(T12<S12,T12+1,T12),TIMEVALUE("06:00:00")+1)-MAX(S12,TIMEVALUE("21:00:00")),0) -> 0.375 | X12: =IF(IF(T12<S12,T12+1,T12)>TIMEVALUE("06:00:00")+1,MIN(T12+1,TIMEVALUE("07:00:00")+1)-TIMEVALUE("06:00:00")+1,0) -> 2.0416667 | Y12: 0.70833333 | Z12: 0.33333333 | AA12: =24*(MOD(Z12-Y12,1)) -> 15 | AB12: =IF(Y12>TIMEVALUE("21:00:00"),0,MIN(TIMEVALUE("21:00:00"),IF(Z12<Y12,Z12+1,Z12))-Y12) -> 0.16666667 | AC12: =IF(IF(Z12<Y12,Z12+1,Z12)>TIMEVALUE("21:00:00"),MIN(IF(Z12<Y12,Z12+1,Z12),TIMEVALUE("06:00:00")+1)-MAX(Y12,TIMEVALUE("21:00:00")),0) -> 0.375 | AD12: =IF(IF(Z12<Y12,Z12+1,Z12)>TIMEVALUE("06:00:00")+1,MIN(Z12+1,TIMEVALUE("07:00:00")+1)-TIMEVALUE("06:00:00")+1,0) -> 2.0416667 | AE12: 0.70833333 | AF12: 0.33333333 | AG12: =24*(MOD(AF12-AE12,1)) -> 15 | AH12: =IF(AE12>TIMEVALUE("21:00:00"),0,MIN(TIMEVALUE("21:00:00"),IF(AF12<AE12,AF12+1,AF12))-AE12) -> 0.16666667 | AI12: =IF(IF(AF12<AE12,AF12+1,AF12)>TIMEVALUE("21:00:00"),MIN(IF(AF12<AE12,AF12+1,AF12),TIMEVALUE("06:00:00")+1)-MAX(AE12,TIMEVALUE("21:00:00")),0) -> 0.375 | AJ12: =IF(IF(AF12<AE12,AF12+1,AF12)>TIMEVALUE("06:00:00")+1,MIN(AF12+1,TIMEVALUE("07:00:00")+1)-TIMEVALUE("06:00:00")+1,0) -> 2.0416667 | AK12: 0.70833333 | AL12: 0.33333333 | AM12: =24*(MOD(AL12-AK12,1)) -> 15 | AN12: =IF(AK12>TIMEVALUE("21:00:00"),0,MIN(TIMEVALUE("21:00:00"),IF(AL12<AK12,AL12+1,AL12))-AK12) -> 0.16666667 | AO12: =IF(IF(AL12<AK12,AL12+1,AL12)>TIMEVALUE("21:00:00"),MIN(IF(AL12<AK12,AL12+1,AL12),TIMEVALUE("06:00:00")+1)-MAX(AK12,TIMEVALUE("21:00:00")),0) -> 0.375 | AP12: =IF(IF(AL12<AK12,AL12+1,AL12)>TIMEVALUE("06:00:00")+1,MIN(AL12+1,TIMEVALUE("07:00:00")+1)-TIMEVALUE("06:00:00")+1,0) -> 2.0416667 | AQ12: 0.70833333 | AR12: 0.33333333 | AS12: =24*(MOD(AR12-AQ12,1)) -> 15 | AT12: =IF(AQ12>TIMEVALUE("21:00:00"),0,MIN(TIMEVALUE("21:00:00"),IF(AR12<AQ12,AR12+1,AR12))-AQ12) -> 0.16666667 | AU12: =IF(IF(AR12<AQ12,AR12+1,AR12)>TIMEVALUE("21:00:00"),MIN(IF(AR12<AQ12,AR12+1,AR12),TIMEVALUE("06:00:00")+1)-MAX(AQ12,TIMEVALUE("21:00:00")),0) -> 0.375 | AV12: =IF(IF(AR12<AQ12,AR12+1,AR12)>TIMEVALUE("06:00:00")+1,MIN(AR12+1,TIMEVALUE("07:00:00")+1)-TIMEVALUE("06:00:00")+1,0) -> 2.0416667 | AW12: 0.70833333 | AX12: 0.33333333 | AY12: =24*(MOD(AX12-AW12,1)) -> 15 | AZ12: =IF(AW12>TIMEVALUE("21:00:00"),0,MIN(TIMEVALUE("21:00:00"),IF(AX12<AW12,AX12+1,AX12))-AW12) -> 0.16666667 | BA12: =IF(IF(AX12<AW12,AX12+1,AX12)>TIMEVALUE("21:00:00"),MIN(IF(AX12<AW12,AX12+1,AX12),TIMEVALUE("06:00:00")+1)-MAX(AW12,TIMEVALUE("21:00:00")),0) -> 0.375 | BB12: =IF(IF(AX12<AW12,AX12+1,AX12)>TIMEVALUE("06:00:00")+1,MIN(AX12+1,TIMEVALUE("07:00:00")+1)-TIMEVALUE("06:00:00")+1,0) -> 2.0416667 | BC12: 0.70833333 | BD12: 0.33333333 | BE12: =24*(MOD(BD12-BC12,1)) -> 15 | BF12: =IF(BC12>TIMEVALUE("21:00:00"),0,MIN(TIMEVALUE("21:00:00"),IF(BD12<BC12,BD12+1,BD12))-BC12) -> 0.16666667 | BG12: =IF(IF(BD12<BC12,BD12+1,BD12)>TIMEVALUE("21:00:00"),MIN(IF(BD12<BC12,BD12+1,BD12),TIMEVALUE("06:00:00")+1)-MAX(BC12,TIMEVALUE("21:00:00")),0) -> 0.375 | BH12: =IF(IF(BD12<BC12,BD12+1,BD12)>TIMEVALUE("06:00:00")+1,MIN(BD12+1,TIMEVALUE("07:00:00")+1)-TIMEVALUE("06:00:00")+1,0) -> 2.0416667 | BI12: 0.70833333 | BJ12: 0.33333333 | BK12: =24*(MOD(BJ12-BI12,1)) -> 15 | BL12: =IF(BI12>TIMEVALUE("21:00:00"),0,MIN(TIMEVALUE("21:00:00"),IF(BJ12<BI12,BJ12+1,BJ12))-BI12) -> 0.16666667 | BM12: =IF(IF(BJ12<BI12,BJ12+1,BJ12)>TIMEVALUE("21:00:00"),MIN(IF(BJ12<BI12,BJ12+1,BJ12),TIMEVALUE("06:00:00")+1)-MAX(BI12,TIMEVALUE("21:00:00")),0) -> 0.375 | BN12: =IF(IF(BJ12<BI12,BJ12+1,BJ12)>TIMEVALUE("06:00:00")+1,MIN(BJ12+1,TIMEVALUE("07:00:00")+1)-TIMEVALUE("06:00:00")+1,0) -> 2.0416667 | BO12: 0.70833333 | BP12: 0.33333333 | BQ12: =24*(MOD(BP12-BO12,1)) -> 15 | BR12: =IF(BO12>TIMEVALUE("21:00:00"),0,MIN(TIMEVALUE("21:00:00"),IF(BP12<BO12,BP12+1,BP12))-BO12) -> 0.16666667 | BS12: =IF(IF(BP12<BO12,BP12+1,BP12)>TIMEVALUE("21:00:00"),MIN(IF(BP12<BO12,BP12+1,BP12),TIMEVALUE("06:00:00")+1)-MAX(BO12,TIMEVALUE("21:00:00")),0) -> 0.375 | BT12: =IF(IF(BP12<BO12,BP12+1,BP12)>TIMEVALUE("06:00:00")+1,MIN(BP12+1,TIMEVALUE("07:00:00")+1)-TIMEVALUE("06:00:00")+1,0) -> 2.0416667 | BU12: 0.70833333 | BV12: 0.33333333 | BW12: =24*(MOD(BV12-BU12,1)) -> 15 | BX12: =IF(BU12>TIMEVALUE("21:00:00"),0,MIN(TIMEVALUE("21:00:00"),IF(BV12<BU12,BV12+1,BV12))-BU12) -> 0.16666667 | BY12: =IF(IF(BV12<BU12,BV12+1,BV12)>TIMEVALUE("21:00:00"),MIN(IF(BV12<BU12,BV12+1,BV12),TIMEVALUE("06:00:00")+1)-MAX(BU12,TIMEVALUE("21:00:00")),0) -> 0.375 | BZ12: =IF(IF(BV12<BU12,BV12+1,BV12)>TIMEVALUE("06:00:00")+1,MIN(BV12+1,TIMEVALUE("07:00:00")+1)-TIMEVALUE("06:00:00")+1,0) -> 2.0416667 | CA12: 0.70833333 | CB12: 0.33333333 | CC12: =24*(MOD(CB12-CA12,1)) -> 15 | CD12: =IF(CA12>TIMEVALUE("21:00:00"),0,MIN(TIMEVALUE("21:00:00"),IF(CB12<CA12,CB12+1,CB12))-CA12) -> 0.16666667 | CE12: =IF(IF(CB12<CA12,CB12+1,CB12)>TIMEVALUE("21:00:00"),MIN(IF(CB12<CA12,CB12+1,CB12),TIMEVALUE("06:00:00")+1)-MAX(CA12,TIMEVALUE("21:00:00")),0) -> 0.375 | CF12: =IF(IF(CB12<CA12,CB12+1,CB12)>TIMEVALUE("06:00:00")+1,MIN(CB12+1,TIMEVALUE("07:00:00")+1)-TIMEVALUE("06:00:00")+1,0) -> 2.0416667 | CG12: 0.70833333 | CH12: 0.33333333 | CI12: =24*(MOD(CH12-CG12,1)) -> 15 | CJ12: =IF(CG12>TIMEVALUE("21:00:00"),0,MIN(TIMEVALUE("21:00:00"),IF(CH12<CG12,CH12+1,CH12))-CG12) -> 0.16666667 | CK12: =IF(IF(CH12<CG12,CH12+1,CH12)>TIMEVALUE("21:00:00"),MIN(IF(CH12<CG12,CH12+1,CH12),TIMEVALUE("06:00:00")+1)-MAX(CG12,TIMEVALUE("21:00:00")),0) -> 0.375 | CL12: =IF(IF(CH12<CG12,CH12+1,CH12)>TIMEVALUE("06:00:00")+1,MIN(CH12+1,TIMEVALUE("07:00:00")+1)-TIMEVALUE("06:00:00")+1,0) -> 2.0416667 | CM12: 0.70833333 | CN12: 0.33333333 | CO12: =24*(MOD(CN12-CM12,1)) -> 15 | CP12: =IF(CM12>TIMEVALUE("21:00:00"),0,MIN(TIMEVALUE("21:00:00"),IF(CN12<CM12,CN12+1,CN12))-CM12) -> 0.16666667 | CQ12: =IF(IF(CN12<CM12,CN12+1,CN12)>TIMEVALUE("21:00:00"),MIN(IF(CN12<CM12,CN12+1,CN12),TIMEVALUE("06:00:00")+1)-MAX(CM12,TIMEVALUE("21:00:00")),0) -> 0.375 | CR12: =IF(IF(CN12<CM12,CN12+1,CN12)>TIMEVALUE("06:00:00")+1,MIN(CN12+1,TIMEVALUE("07:00:00")+1)-TIMEVALUE("06:00:00")+1,0) -> 2.0416667 | CS12: 0.70833333 | CT12: 0.33333333 | CU12: =24*(MOD(CT12-CS12,1)) -> 15 | CV12: =IF(CS12>TIMEVALUE("21:00:00"),0,MIN(TIMEVALUE("21:00:00"),IF(CT12<CS12,CT12+1,CT12))-CS12) -> 0.16666667 | CW12: =IF(IF(CT12<CS12,CT12+1,CT12)>TIMEVALUE("21:00:00"),MIN(IF(CT12<CS12,CT12+1,CT12),TIMEVALUE("06:00:00")+1)-MAX(CS12,TIMEVALUE("21:00:00")),0) -> 0.375 | CX12: =IF(IF(CT12<CS12,CT12+1,CT12)>TIMEVALUE("06:00:00")+1,MIN(CT12+1,TIMEVALUE("07:00:00")+1)-TIMEVALUE("06:00:00")+1,0) -> 2.0416667 | CY12: 0.70833333 | CZ12: 0.33333333 | DA12: =24*(MOD(CZ12-CY12,1)) -> 15 | DB12: =IF(CY12>TIMEVALUE("21:00:00"),0,MIN(TIMEVALUE("21:00:00"),IF(CZ12<CY12,CZ12+1,CZ12))-CY12) -> 0.16666667 | DC12: =IF(IF(CZ12<CY12,CZ12+1,CZ12)>TIMEVALUE("21:00:00"),MIN(IF(CZ12<CY12,CZ12+1,CZ12),TIMEVALUE("06:00:00")+1)-MAX(CY12,TIMEVALUE("21:00:00")),0) -> 0.375 | DD12: =IF(IF(CZ12<CY12,CZ12+1,CZ12)>TIMEVALUE("06:00:00")+1,MIN(CZ12+1,TIMEVALUE("07:00:00")+1)-TIMEVALUE("06:00:00")+1,0) -> 2.0416667 | DE12: 0.70833333 | DF12: 0.33333333 | DG12: =24*(MOD(DF12-DE12,1)) -> 15 | DH12: =IF(DE12>TIMEVALUE("21:00:00"),0,MIN(TIMEVALUE("21:00:00"),IF(DF12<DE12,DF12+1,DF12))-DE12) -> 0.16666667 | DI12: =IF(IF(DF12<DE12,DF12+1,DF12)>TIMEVALUE("21:00:00"),MIN(IF(DF12<DE12,DF12+1,DF12),TIMEVALUE("06:00:00")+1)-MAX(DE12,TIMEVALUE("21:00:00")),0) -> 0.375 | DJ12: =IF(IF(DF12<DE12,DF12+1,DF12)>TIMEVALUE("06:00:00")+1,MIN(DF12+1,TIMEVALUE("07:00:00")+1)-TIMEVALUE("06:00:00")+1,0) -> 2.0416667 | DK12: 0.70833333 | DL12: 0.33333333 | DM12: =24*(MOD(DL12-DK12,1)) -> 15 | DN12: =IF(DK12>TIMEVALUE("21:00:00"),0,MIN(TIMEVALUE("21:00:00"),IF(DL12<DK12,DL12+1,DL12))-DK12) -> 0.16666667 | DO12: =IF(IF(DL12<DK12,DL12+1,DL12)>TIMEVALUE("21:00:00"),MIN(IF(DL12<DK12,DL12+1,DL12),TIMEVALUE("06:00:00")+1)-MAX(DK12,TIMEVALUE("21:00:00")),0) -> 0.375 | DP12: =IF(IF(DL12<DK12,DL12+1,DL12)>TIMEVALUE("06:00:00")+1,MIN(DL12+1,TIMEVALUE("07:00:00")+1)-TIMEVALUE("06:00:00")+1,0) -> 2.0416667 | DQ12: 0.70833333 | DR12: 0.33333333 | DS12: =24*(MOD(DR12-DQ12,1)) -> 15 | DT12: =IF(DQ12>TIMEVALUE("21:00:00"),0,MIN(TIMEVALUE("21:00:00"),IF(DR12<DQ12,DR12+1,DR12))-DQ12) -> 0.16666667 | DU12: =IF(IF(DR12<DQ12,DR12+1,DR12)>TIMEVALUE("21:00:00"),MIN(IF(DR12<DQ12,DR12+1,DR12),TIMEVALUE("06:00:00")+1)-MAX(DQ12,TIMEVALUE("21:00:00")),0) -> 0.375 | DV12: =IF(IF(DR12<DQ12,DR12+1,DR12)>TIMEVALUE("06:00:00")+1,MIN(DR12+1,TIMEVALUE("07:00:00")+1)-TIMEVALUE("06:00:00")+1,0) -> 2.0416667 | DW12: 0.70833333 | DX12: 0.33333333 | DY12: =24*(MOD(DX12-DW12,1)) -> 15 | DZ12: =IF(DW12>TIMEVALUE("21:00:00"),0,MIN(TIMEVALUE("21:00:00"),IF(DX12<DW12,DX12+1,DX12))-DW12) -> 0.16666667 | EA12: =IF(IF(DX12<DW12,DX12+1,DX12)>TIMEVALUE("21:00:00"),MIN(IF(DX12<DW12,DX12+1,DX12),TIMEVALUE("06:00:00")+1)-MAX(DW12,TIMEVALUE("21:00:00")),0) -> 0.375 | EB12: =IF(IF(DX12<DW12,DX12+1,DX12)>TIMEVALUE("06:00:00")+1,MIN(DX12+1,TIMEVALUE("07:00:00")+1)-TIMEVALUE("06:00:00")+1,0) -> 2.0416667 | EC12: 0.70833333 | ED12: 0.33333333 | EE12: =24*(MOD(ED12-EC12,1)) -> 15 | EF12: =IF(EC12>TIMEVALUE("21:00:00"),0,MIN(TIMEVALUE("21:00:00"),IF(ED12<EC12,ED12+1,ED12))-EC12) -> 0.16666667 | EG12: =IF(IF(ED12<EC12,ED12+1,ED12)>TIMEVALUE("21:00:00"),MIN(IF(ED12<EC12,ED12+1,ED12),TIMEVALUE("06:00:00")+1)-MAX(EC12,TIMEVALUE("21:00:00")),0) -> 0.375 | EH12: =IF(IF(ED12<EC12,ED12+1,ED12)>TIMEVALUE("06:00:00")+1,MIN(ED12+1,TIMEVALUE("07:00:00")+1)-TIMEVALUE("06:00:00")+1,0) -> 2.0416667 | EI12: 0.70833333 | EJ12: 0.33333333 | EK12: =24*(MOD(EJ12-EI12,1)) -> 15 | EL12: =IF(EI12>TIMEVALUE("21:00:00"),0,MIN(TIMEVALUE("21:00:00"),IF(EJ12<EI12,EJ12+1,EJ12))-EI12) -> 0.16666667 | EM12: =IF(IF(EJ12<EI12,EJ12+1,EJ12)>TIMEVALUE("21:00:00"),MIN(IF(EJ12<EI12,EJ12+1,EJ12),TIMEVALUE("06:00:00")+1)-MAX(EI12,TIMEVALUE("21:00:00")),0) -> 0.375 | EN12: =IF(IF(EJ12<EI12,EJ12+1,EJ12)>TIMEVALUE("06:00:00")+1,MIN(EJ12+1,TIMEVALUE("07:00:00")+1)-TIMEVALUE("06:00:00")+1,0) -> 2.0416667 | EO12: 0.70833333 | EP12: 0.33333333 | EQ12: =24*(MOD(EP12-EO12,1)) -> 15 | ER12: =IF(EO12>TIMEVALUE("21:00:00"),0,MIN(TIMEVALUE("21:00:00"),IF(EP12<EO12,EP12+1,EP12))-EO12) -> 0.16666667 | ES12: =IF(IF(EP12<EO12,EP12+1,EP12)>TIMEVALUE("21:00:00"),MIN(IF(EP12<EO12,EP12+1,EP12),TIMEVALUE("06:00:00")+1)-MAX(EO12,TIMEVALUE("21:00:00")),0) -> 0.375 | ET12: =IF(IF(EP12<EO12,EP12+1,EP12)>TIMEVALUE("06:00:00")+1,MIN(EP12+1,TIMEVALUE("07:00:00")+1)-TIMEVALUE("06:00:00")+1,0) -> 2.0416667 | EU12: 0.70833333 | EV12: 0.33333333 | EW12: =24*(MOD(EV12-EU12,1)) -> 15 | EX12: =IF(EU12>TIMEVALUE("21:00:00"),0,MIN(TIMEVALUE("21:00:00"),IF(EV12<EU12,EV12+1,EV12))-EU12) -> 0.16666667 | EY12: =IF(IF(EV12<EU12,EV12+1,EV12)>TIMEVALUE("21:00:00"),MIN(IF(EV12<EU12,EV12+1,EV12),TIMEVALUE("06:00:00")+1)-MAX(EU12,TIMEVALUE("21:00:00")),0) -> 0.375 | EZ12: =IF(IF(EV12<EU12,EV12+1,EV12)>TIMEVALUE("06:00:00")+1,MIN(EV12+1,TIMEVALUE("07:00:00")+1)-TIMEVALUE("06:00:00")+1,0) -> 2.0416667 | FA12: 0.70833333 | FB12: 0.33333333 | FC12: =24*(MOD(FB12-FA12,1)) -> 15 | FD12: =IF(FA12>TIMEVALUE("21:00:00"),0,MIN(TIMEVALUE("21:00:00"),IF(FB12<FA12,FB12+1,FB12))-FA12) -> 0.16666667 | FE12: =IF(IF(FB12<FA12,FB12+1,FB12)>TIMEVALUE("21:00:00"),MIN(IF(FB12<FA12,FB12+1,FB12),TIMEVALUE("06:00:00")+1)-MAX(FA12,TIMEVALUE("21:00:00")),0) -> 0.375 | FF12: =IF(IF(FB12<FA12,FB12+1,FB12)>TIMEVALUE("06:00:00")+1,MIN(FB12+1,TIMEVALUE("07:00:00")+1)-TIMEVALUE("06:00:00")+1,0) -> 2.0416667 | FG12: 0.70833333 | FH12: 0.33333333 | FI12: =24*(MOD(FH12-FG12,1)) -> 15 | FJ12: =IF(FG12>TIMEVALUE("21:00:00"),0,MIN(TIMEVALUE("21:00:00"),IF(FH12<FG12,FH12+1,FH12))-FG12) -> 0.16666667 | FK12: =IF(IF(FH12<FG12,FH12+1,FH12)>TIMEVALUE("21:00:00"),MIN(IF(FH12<FG12,FH12+1,FH12),TIMEVALUE("06:00:00")+1)-MAX(FG12,TIMEVALUE("21:00:00")),0) -> 0.375 | FL12: =IF(IF(FH12<FG12,FH12+1,FH12)>TIMEVALUE("06:00:00")+1,MIN(FH12+1,TIMEVALUE("07:00:00")+1)-TIMEVALUE("06:00:00")+1,0) -> 2.0416667 | FM12: 0.70833333 | FN12: 0.33333333 | FO12: =24*(MOD(FN12-FM12,1)) -> 15 | FP12: =IF(FM12>TIMEVALUE("21:00:00"),0,MIN(TIMEVALUE("21:00:00"),IF(FN12<FM12,FN12+1,FN12))-FM12) -> 0.16666667 | FQ12: =IF(IF(FN12<FM12,FN12+1,FN12)>TIMEVALUE("21:00:00"),MIN(IF(FN12<FM12,FN12+1,FN12),TIMEVALUE("06:00:00")+1)-MAX(FM12,TIMEVALUE("21:00:00")),0) -> 0.375 | FR12: =IF(IF(FN12<FM12,FN12+1,FN12)>TIMEVALUE("06:00:00")+1,MIN(FN12+1,TIMEVALUE("07:00:00")+1)-TIMEVALUE("06:00:00")+1,0) -> 2.0416667 | FS12: 0.70833333 | FT12: 0.33333333 | FU12: =24*(MOD(FT12-FS12,1)) -> 15 | FV12: =IF(FS12>TIMEVALUE("21:00:00"),0,MIN(TIMEVALUE("21:00:00"),IF(FT12<FS12,FT12+1,FT12))-FS12) -> 0.16666667 | FW12: =IF(IF(FT12<FS12,FT12+1,FT12)>TIMEVALUE("21:00:00"),MIN(IF(FT12<FS12,FT12+1,FT12),TIMEVALUE("06:00:00")+1)-MAX(FS12,TIMEVALUE("21:00:00")),0) -> 0.375 | FX12: =IF(IF(FT12<FS12,FT12+1,FT12)>TIMEVALUE("06:00:00")+1,MIN(FT12+1,TIMEVALUE("07:00:00")+1)-TIMEVALUE("06:00:00")+1,0) -> 2.0416667 | FY12: 0.70833333 | FZ12: 0.33333333 | GA12: =24*(MOD(FZ12-FY12,1)) -> 15 | GB12: =IF(FY12>TIMEVALUE("21:00:00"),0,MIN(TIMEVALUE("21:00:00"),IF(FZ12<FY12,FZ12+1,FZ12))-FY12) -> 0.16666667 | GC12: =IF(IF(FZ12<FY12,FZ12+1,FZ12)>TIMEVALUE("21:00:00"),MIN(IF(FZ12<FY12,FZ12+1,FZ12),TIMEVALUE("06:00:00")+1)-MAX(FY12,TIMEVALUE("21:00:00")),0) -> 0.375 | GD12: =IF(IF(FZ12<FY12,FZ12+1,FZ12)>TIMEVALUE("06:00:00")+1,MIN(FZ12+1,TIMEVALUE("07:00:00")+1)-TIMEVALUE("06:00:00")+1,0) -> 2.0416667 | GE12: 0.70833333 | GF12: 0.33333333 | GG12: =24*(MOD(GF12-GE12,1)) -> 15 | GH12: =IF(GE12>TIMEVALUE("21:00:00"),0,MIN(TIMEVALUE("21:00:00"),IF(GF12<GE12,GF12+1,GF12))-GE12) -> 0.16666667 | GI12: =IF(IF(GF12<GE12,GF12+1,GF12)>TIMEVALUE("21:00:00"),MIN(IF(GF12<GE12,GF12+1,GF12),TIMEVALUE("06:00:00")+1)-MAX(GE12,TIMEVALUE("21:00:00")),0) -> 0.375 | GJ12: =IF(IF(GF12<GE12,GF12+1,GF12)>TIMEVALUE("06:00:00")+1,MIN(GF12+1,TIMEVALUE("07:00:00")+1)-TIMEVALUE("06:00:00")+1,0) -> 2.0416667
D13: 0 | E13: 0 | F13: =24*(MOD(E13-D13,1)) -> 0 | G13: =IF(D13>TIMEVALUE("21:00:00"),0,MIN(TIMEVALUE("21:00:00"),IF(E13<D13,E13+1,E13))-D13) -> 0 | H13: =IF(IF(E13<D13,E13+1,E13)>TIMEVALUE("21:00:00"),MIN(IF(E13<D13,E13+1,E13),TIMEVALUE("06:00:00")+1)-MAX(D13,TIMEVALUE("21:00:00")),0) -> 0 | I13: =IF(IF(E13<D13,E13+1,E13)>TIMEVALUE("06:00:00")+1,MIN(E13+1,TIMEVALUE("07:00:00")+1)-TIMEVALUE("06:00:00")+1,0) -> 0 | J13: =_xlfn.IFS($J$6=1,G13*Sheet1!$B$5*24,$D$2="Lundi",TRUE,$D$2="Mardi",TRUE,$D$2="Mercredi",TRUE,$D$2="Jeudi",$D$2="Vendredi") -> 0 | K13: =_xlfn.IFS($K$6=1,H13*Sheet1!$G$5*24,$D$2="Lundi",TRUE,$D$2="Mardi",TRUE,$D$2="Mercredi",TRUE,$D$2="Jeudi",$D$2="Vendredi") -> 0 | L13: =_xlfn.IFS($L$6=1,I13*Sheet1!$B$5,$D$2="Lundi",TRUE,$D$2="Mardi",TRUE,$D$2="Mercredi",TRUE,$D$2="Jeudi",$D$2="Vendredi") -> 0 | M13: 0.70833333 | N13: 0.33333333 | O13: =24*(MOD(N13-M13,1)) -> 15 | P13: =IF(M13>TIMEVALUE("21:00:00"),0,MIN(TIMEVALUE("21:00:00"),IF(N13<M13,N13+1,N13))-M13) -> 0.16666667 | Q13: =IF(IF(N13<M13,N13+1,N13)>TIMEVALUE("21:00:00"),MIN(IF(N13<M13,N13+1,N13),TIMEVALUE("06:00:00")+1)-MAX(M13,TIMEVALUE("21:00:00")),0) -> 0.375 | R13: =IF(IF(N13<M13,N13+1,N13)>TIMEVALUE("06:00:00")+1,MIN(N13+1,TIMEVALUE("07:00:00")+1)-TIMEVALUE("06:00:00")+1,0) -> 2.0416667 | S13: 0.70833333 | T13: 0.33333333 | U13: =24*(MOD(T13-S13,1)) -> 15 | V13: =IF(S13>TIMEVALUE("21:00:00"),0,MIN(TIMEVALUE("21:00:00"),IF(T13<S13,T13+1,T13))-S13) -> 0.16666667 | W13: =IF(IF(T13<S13,T13+1,T13)>TIMEVALUE("21:00:00"),MIN(IF(T13<S13,T13+1,T13),TIMEVALUE("06:00:00")+1)-MAX(S13,TIMEVALUE("21:00:00")),0) -> 0.375 | X13: =IF(IF(T13<S13,T13+1,T13)>TIMEVALUE("06:00:00")+1,MIN(T13+1,TIMEVALUE("07:00:00")+1)-TIMEVALUE("06:00:00")+1,0) -> 2.0416667 | Y13: 0.70833333 | Z13: 0.33333333 | AA13: =24*(MOD(Z13-Y13,1)) -> 15 | AB13: =IF(Y13>TIMEVALUE("21:00:00"),0,MIN(TIMEVALUE("21:00:00"),IF(Z13<Y13,Z13+1,Z13))-Y13) -> 0.16666667 | AC13: =IF(IF(Z13<Y13,Z13+1,Z13)>TIMEVALUE("21:00:00"),MIN(IF(Z13<Y13,Z13+1,Z13),TIMEVALUE("06:00:00")+1)-MAX(Y13,TIMEVALUE("21:00:00")),0) -> 0.375 | AD13: =IF(IF(Z13<Y13,Z13+1,Z13)>TIMEVALUE("06:00:00")+1,MIN(Z13+1,TIMEVALUE("07:00:00")+1)-TIMEVALUE("06:00:00")+1,0) -> 2.0416667 | AE13: 0.70833333 | AF13: 0.33333333 | AG13: =24*(MOD(AF13-AE13,1)) -> 15 | AH13: =IF(AE13>TIMEVALUE("21:00:00"),0,MIN(TIMEVALUE("21:00:00"),IF(AF13<AE13,AF13+1,AF13))-AE13) -> 0.16666667 | AI13: =IF(IF(AF13<AE13,AF13+1,AF13)>TIMEVALUE("21:00:00"),MIN(IF(AF13<AE13,AF13+1,AF13),TIMEVALUE("06:00:00")+1)-MAX(AE13,TIMEVALUE("21:00:00")),0) -> 0.375 | AJ13: =IF(IF(AF13<AE13,AF13+1,AF13)>TIMEVALUE("06:00:00")+1,MIN(AF13+1,TIMEVALUE("07:00:00")+1)-TIMEVALUE("06:00:00")+1,0) -> 2.0416667 | AK13: 0.70833333 | AL13: 0.33333333 | AM13: =24*(MOD(AL13-AK13,1)) -> 15 | AN13: =IF(AK13>TIMEVALUE("21:00:00"),0,MIN(TIMEVALUE("21:00:00"),IF(AL13<AK13,AL13+1,AL13))-AK13) -> 0.16666667 | AO13: =IF(IF(AL13<AK13,AL13+1,AL13)>TIMEVALUE("21:00:00"),MIN(IF(AL13<AK13,AL13+1,AL13),TIMEVALUE("06:00:00")+1)-MAX(AK13,TIMEVALUE("21:00:00")),0) -> 0.375 | AP13: =IF(IF(AL13<AK13,AL13+1,AL13)>TIMEVALUE("06:00:00")+1,MIN(AL13+1,TIMEVALUE("07:00:00")+1)-TIMEVALUE("06:00:00")+1,0) -> 2.0416667 | AQ13: 0.70833333 | AR13: 0.33333333 | AS13: =24*(MOD(AR13-AQ13,1)) -> 15 | AT13: =IF(AQ13>TIMEVALUE("21:00:00"),0,MIN(TIMEVALUE("21:00:00"),IF(AR13<AQ13,AR13+1,AR13))-AQ13) -> 0.16666667 | AU13: =IF(IF(AR13<AQ13,AR13+1,AR13)>TIMEVALUE("21:00:00"),MIN(IF(AR13<AQ13,AR13+1,AR13),TIMEVALUE("06:00:00")+1)-MAX(AQ13,TIMEVALUE("21:00:00")),0) -> 0.375 | AV13: =IF(IF(AR13<AQ13,AR13+1,AR13)>TIMEVALUE("06:00:00")+1,MIN(AR13+1,TIMEVALUE("07:00:00")+1)-TIMEVALUE("06:00:00")+1,0) -> 2.0416667 | AW13: 0.70833333 | AX13: 0.33333333 | AY13: =24*(MOD(AX13-AW13,1)) -> 15 | AZ13: =IF(AW13>TIMEVALUE("21:00:00"),0,MIN(TIMEVALUE("21:00:00"),IF(AX13<AW13,AX13+1,AX13))-AW13) -> 0.16666667 | BA13: =IF(IF(AX13<AW13,AX13+1,AX13)>TIMEVALUE("21:00:00"),MIN(IF(AX13<AW13,AX13+1,AX13),TIMEVALUE("06:00:00")+1)-MAX(AW13,TIMEVALUE("21:00:00")),0) -> 0.375 | BB13: =IF(IF(AX13<AW13,AX13+1,AX13)>TIMEVALUE("06:00:00")+1,MIN(AX13+1,TIMEVALUE("07:00:00")+1)-TIMEVALUE("06:00:00")+1,0) -> 2.0416667 | BC13: 0.70833333 | BD13: 0.33333333 | BE13: =24*(MOD(BD13-BC13,1)) -> 15 | BF13: =IF(BC13>TIMEVALUE("21:00:00"),0,MIN(TIMEVALUE("21:00:00"),IF(BD13<BC13,BD13+1,BD13))-BC13) -> 0.16666667 | BG13: =IF(IF(BD13<BC13,BD13+1,BD13)>TIMEVALUE("21:00:00"),MIN(IF(BD13<BC13,BD13+1,BD13),TIMEVALUE("06:00:00")+1)-MAX(BC13,TIMEVALUE("21:00:00")),0) -> 0.375 | BH13: =IF(IF(BD13<BC13,BD13+1,BD13)>TIMEVALUE("06:00:00")+1,MIN(BD13+1,TIMEVALUE("07:00:00")+1)-TIMEVALUE("06:00:00")+1,0) -> 2.0416667 | BI13: 0.70833333 | BJ13: 0.33333333 | BK13: =24*(MOD(BJ13-BI13,1)) -> 15 | BL13: =IF(BI13>TIMEVALUE("21:00:00"),0,MIN(TIMEVALUE("21:00:00"),IF(BJ13<BI13,BJ13+1,BJ13))-BI13) -> 0.16666667 | BM13: =IF(IF(BJ13<BI13,BJ13+1,BJ13)>TIMEVALUE("21:00:00"),MIN(IF(BJ13<BI13,BJ13+1,BJ13),TIMEVALUE("06:00:00")+1)-MAX(BI13,TIMEVALUE("21:00:00")),0) -> 0.375 | BN13: =IF(IF(BJ13<BI13,BJ13+1,BJ13)>TIMEVALUE("06:00:00")+1,MIN(BJ13+1,TIMEVALUE("07:00:00")+1)-TIMEVALUE("06:00:00")+1,0) -> 2.0416667 | BO13: 0.70833333 | BP13: 0.33333333 | BQ13: =24*(MOD(BP13-BO13,1)) -> 15 | BR13: =IF(BO13>TIMEVALUE("21:00:00"),0,MIN(TIMEVALUE("21:00:00"),IF(BP13<BO13,BP13+1,BP13))-BO13) -> 0.16666667 | BS13: =IF(IF(BP13<BO13,BP13+1,BP13)>TIMEVALUE("21:00:00"),MIN(IF(BP13<BO13,BP13+1,BP13),TIMEVALUE("06:00:00")+1)-MAX(BO13,TIMEVALUE("21:00:00")),0) -> 0.375 | BT13: =IF(IF(BP13<BO13,BP13+1,BP13)>TIMEVALUE("06:00:00")+1,MIN(BP13+1,TIMEVALUE("07:00:00")+1)-TIMEVALUE("06:00:00")+1,0) -> 2.0416667 | BU13: 0.70833333 | BV13: 0.33333333 | BW13: =24*(MOD(BV13-BU13,1)) -> 15 | BX13: =IF(BU13>TIMEVALUE("21:00:00"),0,MIN(TIMEVALUE("21:00:00"),IF(BV13<BU13,BV13+1,BV13))-BU13) -> 0.16666667 | BY13: =IF(IF(BV13<BU13,BV13+1,BV13)>TIMEVALUE("21:00:00"),MIN(IF(BV13<BU13,BV13+1,BV13),TIMEVALUE("06:00:00")+1)-MAX(BU13,TIMEVALUE("21:00:00")),0) -> 0.375 | BZ13: =IF(IF(BV13<BU13,BV13+1,BV13)>TIMEVALUE("06:00:00")+1,MIN(BV13+1,TIMEVALUE("07:00:00")+1)-TIMEVALUE("06:00:00")+1,0) -> 2.0416667 | CA13: 0.70833333 | CB13: 0.33333333 | CC13: =24*(MOD(CB13-CA13,1)) -> 15 | CD13: =IF(CA13>TIMEVALUE("21:00:00"),0,MIN(TIMEVALUE("21:00:00"),IF(CB13<CA13,CB13+1,CB13))-CA13) -> 0.16666667 | CE13: =IF(IF(CB13<CA13,CB13+1,CB13)>TIMEVALUE("21:00:00"),MIN(IF(CB13<CA13,CB13+1,CB13),TIMEVALUE("06:00:00")+1)-MAX(CA13,TIMEVALUE("21:00:00")),0) -> 0.375 | CF13: =IF(IF(CB13<CA13,CB13+1,CB13)>TIMEVALUE("06:00:00")+1,MIN(CB13+1,TIMEVALUE("07:00:00")+1)-TIMEVALUE("06:00:00")+1,0) -> 2.0416667 | CG13: 0.70833333 | CH13: 0.33333333 | CI13: =24*(MOD(CH13-CG13,1)) -> 15 | CJ13: =IF(CG13>TIMEVALUE("21:00:00"),0,MIN(TIMEVALUE("21:00:00"),IF(CH13<CG13,CH13+1,CH13))-CG13) -> 0.16666667 | CK13: =IF(IF(CH13<CG13,CH13+1,CH13)>TIMEVALUE("21:00:00"),MIN(IF(CH13<CG13,CH13+1,CH13),TIMEVALUE("06:00:00")+1)-MAX(CG13,TIMEVALUE("21:00:00")),0) -> 0.375 | CL13: =IF(IF(CH13<CG13,CH13+1,CH13)>TIMEVALUE("06:00:00")+1,MIN(CH13+1,TIMEVALUE("07:00:00")+1)-TIMEVALUE("06:00:00")+1,0) -> 2.0416667 | CM13: 0.70833333 | CN13: 0.33333333 | CO13: =24*(MOD(CN13-CM13,1)) -> 15 | CP13: =IF(CM13>TIMEVALUE("21:00:00"),0,MIN(TIMEVALUE("21:00:00"),IF(CN13<CM13,CN13+1,CN13))-CM13) -> 0.16666667 | CQ13: =IF(IF(CN13<CM13,CN13+1,CN13)>TIMEVALUE("21:00:00"),MIN(IF(CN13<CM13,CN13+1,CN13),TIMEVALUE("06:00:00")+1)-MAX(CM13,TIMEVALUE("21:00:00")),0) -> 0.375 | CR13: =IF(IF(CN13<CM13,CN13+1,CN13)>TIMEVALUE("06:00:00")+1,MIN(CN13+1,TIMEVALUE("07:00:00")+1)-TIMEVALUE("06:00:00")+1,0) -> 2.0416667 | CS13: 0.70833333 | CT13: 0.33333333 | CU13: =24*(MOD(CT13-CS13,1)) -> 15 | CV13: =IF(CS13>TIMEVALUE("21:00:00"),0,MIN(TIMEVALUE("21:00:00"),IF(CT13<CS13,CT13+1,CT13))-CS13) -> 0.16666667 | CW13: =IF(IF(CT13<CS13,CT13+1,CT13)>TIMEVALUE("21:00:00"),MIN(IF(CT13<CS13,CT13+1,CT13),TIMEVALUE("06:00:00")+1)-MAX(CS13,TIMEVALUE("21:00:00")),0) -> 0.375 | CX13: =IF(IF(CT13<CS13,CT13+1,CT13)>TIMEVALUE("06:00:00")+1,MIN(CT13+1,TIMEVALUE("07:00:00")+1)-TIMEVALUE("06:00:00")+1,0) -> 2.0416667 | CY13: 0.70833333 | CZ13: 0.33333333 | DA13: =24*(MOD(CZ13-CY13,1)) -> 15 | DB13: =IF(CY13>TIMEVALUE("21:00:00"),0,MIN(TIMEVALUE("21:00:00"),IF(CZ13<CY13,CZ13+1,CZ13))-CY13) -> 0.16666667 | DC13: =IF(IF(CZ13<CY13,CZ13+1,CZ13)>TIMEVALUE("21:00:00"),MIN(IF(CZ13<CY13,CZ13+1,CZ13),TIMEVALUE("06:00:00")+1)-MAX(CY13,TIMEVALUE("21:00:00")),0) -> 0.375 | DD13: =IF(IF(CZ13<CY13,CZ13+1,CZ13)>TIMEVALUE("06:00:00")+1,MIN(CZ13+1,TIMEVALUE("07:00:00")+1)-TIMEVALUE("06:00:00")+1,0) -> 2.0416667 | DE13: 0.70833333 | DF13: 0.33333333 | DG13: =24*(MOD(DF13-DE13,1)) -> 15 | DH13: =IF(DE13>TIMEVALUE("21:00:00"),0,MIN(TIMEVALUE("21:00:00"),IF(DF13<DE13,DF13+1,DF13))-DE13) -> 0.16666667 | DI13: =IF(IF(DF13<DE13,DF13+1,DF13)>TIMEVALUE("21:00:00"),MIN(IF(DF13<DE13,DF13+1,DF13),TIMEVALUE("06:00:00")+1)-MAX(DE13,TIMEVALUE("21:00:00")),0) -> 0.375 | DJ13: =IF(IF(DF13<DE13,DF13+1,DF13)>TIMEVALUE("06:00:00")+1,MIN(DF13+1,TIMEVALUE("07:00:00")+1)-TIMEVALUE("06:00:00")+1,0) -> 2.0416667 | DK13: 0.70833333 | DL13: 0.33333333 | DM13: =24*(MOD(DL13-DK13,1)) -> 15 | DN13: =IF(DK13>TIMEVALUE("21:00:00"),0,MIN(TIMEVALUE("21:00:00"),IF(DL13<DK13,DL13+1,DL13))-DK13) -> 0.16666667 | DO13: =IF(IF(DL13<DK13,DL13+1,DL13)>TIMEVALUE("21:00:00"),MIN(IF(DL13<DK13,DL13+1,DL13),TIMEVALUE("06:00:00")+1)-MAX(DK13,TIMEVALUE("21:00:00")),0) -> 0.375 | DP13: =IF(IF(DL13<DK13,DL13+1,DL13)>TIMEVALUE("06:00:00")+1,MIN(DL13+1,TIMEVALUE("07:00:00")+1)-TIMEVALUE("06:00:00")+1,0) -> 2.0416667 | DQ13: 0.70833333 | DR13: 0.33333333 | DS13: =24*(MOD(DR13-DQ13,1)) -> 15 | DT13: =IF(DQ13>TIMEVALUE("21:00:00"),0,MIN(TIMEVALUE("21:00:00"),IF(DR13<DQ13,DR13+1,DR13))-DQ13) -> 0.16666667 | DU13: =IF(IF(DR13<DQ13,DR13+1,DR13)>TIMEVALUE("21:00:00"),MIN(IF(DR13<DQ13,DR13+1,DR13),TIMEVALUE("06:00:00")+1)-MAX(DQ13,TIMEVALUE("21:00:00")),0) -> 0.375 | DV13: =IF(IF(DR13<DQ13,DR13+1,DR13)>TIMEVALUE("06:00:00")+1,MIN(DR13+1,TIMEVALUE("07:00:00")+1)-TIMEVALUE("06:00:00")+1,0) -> 2.0416667 | DW13: 0.70833333 | DX13: 0.33333333 | DY13: =24*(MOD(DX13-DW13,1)) -> 15 | DZ13: =IF(DW13>TIMEVALUE("21:00:00"),0,MIN(TIMEVALUE("21:00:00"),IF(DX13<DW13,DX13+1,DX13))-DW13) -> 0.16666667 | EA13: =IF(IF(DX13<DW13,DX13+1,DX13)>TIMEVALUE("21:00:00"),MIN(IF(DX13<DW13,DX13+1,DX13),TIMEVALUE("06:00:00")+1)-MAX(DW13,TIMEVALUE("21:00:00")),0) -> 0.375 | EB13: =IF(IF(DX13<DW13,DX13+1,DX13)>TIMEVALUE("06:00:00")+1,MIN(DX13+1,TIMEVALUE("07:00:00")+1)-TIMEVALUE("06:00:00")+1,0) -> 2.0416667 | EC13: 0.70833333 | ED13: 0.33333333 | EE13: =24*(MOD(ED13-EC13,1)) -> 15 | EF13: =IF(EC13>TIMEVALUE("21:00:00"),0,MIN(TIMEVALUE("21:00:00"),IF(ED13<EC13,ED13+1,ED13))-EC13) -> 0.16666667 | EG13: =IF(IF(ED13<EC13,ED13+1,ED13)>TIMEVALUE("21:00:00"),MIN(IF(ED13<EC13,ED13+1,ED13),TIMEVALUE("06:00:00")+1)-MAX(EC13,TIMEVALUE("21:00:00")),0) -> 0.375 | EH13: =IF(IF(ED13<EC13,ED13+1,ED13)>TIMEVALUE("06:00:00")+1,MIN(ED13+1,TIMEVALUE("07:00:00")+1)-TIMEVALUE("06:00:00")+1,0) -> 2.0416667 | EI13: 0.70833333 | EJ13: 0.33333333 | EK13: =24*(MOD(EJ13-EI13,1)) -> 15 | EL13: =IF(EI13>TIMEVALUE("21:00:00"),0,MIN(TIMEVALUE("21:00:00"),IF(EJ13<EI13,EJ13+1,EJ13))-EI13) -> 0.16666667 | EM13: =IF(IF(EJ13<EI13,EJ13+1,EJ13)>TIMEVALUE("21:00:00"),MIN(IF(EJ13<EI13,EJ13+1,EJ13),TIMEVALUE("06:00:00")+1)-MAX(EI13,TIMEVALUE("21:00:00")),0) -> 0.375 | EN13: =IF(IF(EJ13<EI13,EJ13+1,EJ13)>TIMEVALUE("06:00:00")+1,MIN(EJ13+1,TIMEVALUE("07:00:00")+1)-TIMEVALUE("06:00:00")+1,0) -> 2.0416667 | EO13: 0.70833333 | EP13: 0.33333333 | EQ13: =24*(MOD(EP13-EO13,1)) -> 15 | ER13: =IF(EO13>TIMEVALUE("21:00:00"),0,MIN(TIMEVALUE("21:00:00"),IF(EP13<EO13,EP13+1,EP13))-EO13) -> 0.16666667 | ES13: =IF(IF(EP13<EO13,EP13+1,EP13)>TIMEVALUE("21:00:00"),MIN(IF(EP13<EO13,EP13+1,EP13),TIMEVALUE("06:00:00")+1)-MAX(EO13,TIMEVALUE("21:00:00")),0) -> 0.375 | ET13: =IF(IF(EP13<EO13,EP13+1,EP13)>TIMEVALUE("06:00:00")+1,MIN(EP13+1,TIMEVALUE("07:00:00")+1)-TIMEVALUE("06:00:00")+1,0) -> 2.0416667 | EU13: 0.70833333 | EV13: 0.33333333 | EW13: =24*(MOD(EV13-EU13,1)) -> 15 | EX13: =IF(EU13>TIMEVALUE("21:00:00"),0,MIN(TIMEVALUE("21:00:00"),IF(EV13<EU13,EV13+1,EV13))-EU13) -> 0.16666667 | EY13: =IF(IF(EV13<EU13,EV13+1,EV13)>TIMEVALUE("21:00:00"),MIN(IF(EV13<EU13,EV13+1,EV13),TIMEVALUE("06:00:00")+1)-MAX(EU13,TIMEVALUE("21:00:00")),0) -> 0.375 | EZ13: =IF(IF(EV13<EU13,EV13+1,EV13)>TIMEVALUE("06:00:00")+1,MIN(EV13+1,TIMEVALUE("07:00:00")+1)-TIMEVALUE("06:00:00")+1,0) -> 2.0416667 | FA13: 0.70833333 | FB13: 0.33333333 | FC13: =24*(MOD(FB13-FA13,1)) -> 15 | FD13: =IF(FA13>TIMEVALUE("21:00:00"),0,MIN(TIMEVALUE("21:00:00"),IF(FB13<FA13,FB13+1,FB13))-FA13) -> 0.16666667 | FE13: =IF(IF(FB13<FA13,FB13+1,FB13)>TIMEVALUE("21:00:00"),MIN(IF(FB13<FA13,FB13+1,FB13),TIMEVALUE("06:00:00")+1)-MAX(FA13,TIMEVALUE("21:00:00")),0) -> 0.375 | FF13: =IF(IF(FB13<FA13,FB13+1,FB13)>TIMEVALUE("06:00:00")+1,MIN(FB13+1,TIMEVALUE("07:00:00")+1)-TIMEVALUE("06:00:00")+1,0) -> 2.0416667 | FG13: 0.70833333 | FH13: 0.33333333 | FI13: =24*(MOD(FH13-FG13,1)) -> 15 | FJ13: =IF(FG13>TIMEVALUE("21:00:00"),0,MIN(TIMEVALUE("21:00:00"),IF(FH13<FG13,FH13+1,FH13))-FG13) -> 0.16666667 | FK13: =IF(IF(FH13<FG13,FH13+1,FH13)>TIMEVALUE("21:00:00"),MIN(IF(FH13<FG13,FH13+1,FH13),TIMEVALUE("06:00:00")+1)-MAX(FG13,TIMEVALUE("21:00:00")),0) -> 0.375 | FL13: =IF(IF(FH13<FG13,FH13+1,FH13)>TIMEVALUE("06:00:00")+1,MIN(FH13+1,TIMEVALUE("07:00:00")+1)-TIMEVALUE("06:00:00")+1,0) -> 2.0416667 | FM13: 0.70833333 | FN13: 0.33333333 | FO13: =24*(MOD(FN13-FM13,1)) -> 15 | FP13: =IF(FM13>TIMEVALUE("21:00:00"),0,MIN(TIMEVALUE("21:00:00"),IF(FN13<FM13,FN13+1,FN13))-FM13) -> 0.16666667 | FQ13: =IF(IF(FN13<FM13,FN13+1,FN13)>TIMEVALUE("21:00:00"),MIN(IF(FN13<FM13,FN13+1,FN13),TIMEVALUE("06:00:00")+1)-MAX(FM13,TIMEVALUE("21:00:00")),0) -> 0.375 | FR13: =IF(IF(FN13<FM13,FN13+1,FN13)>TIMEVALUE("06:00:00")+1,MIN(FN13+1,TIMEVALUE("07:00:00")+1)-TIMEVALUE("06:00:00")+1,0) -> 2.0416667 | FS13: 0.70833333 | FT13: 0.33333333 | FU13: =24*(MOD(FT13-FS13,1)) -> 15 | FV13: =IF(FS13>TIMEVALUE("21:00:00"),0,MIN(TIMEVALUE("21:00:00"),IF(FT13<FS13,FT13+1,FT13))-FS13) -> 0.16666667 | FW13: =IF(IF(FT13<FS13,FT13+1,FT13)>TIMEVALUE("21:00:00"),MIN(IF(FT13<FS13,FT13+1,FT13),TIMEVALUE("06:00:00")+1)-MAX(FS13,TIMEVALUE("21:00:00")),0) -> 0.375 | FX13: =IF(IF(FT13<FS13,FT13+1,FT13)>TIMEVALUE("06:00:00")+1,MIN(FT13+1,TIMEVALUE("07:00:00")+1)-TIMEVALUE("06:00:00")+1,0) -> 2.0416667 | FY13: 0.70833333 | FZ13: 0.33333333 | GA13: =24*(MOD(FZ13-FY13,1)) -> 15 | GB13: =IF(FY13>TIMEVALUE("21:00:00"),0,MIN(TIMEVALUE("21:00:00"),IF(FZ13<FY13,FZ13+1,FZ13))-FY13) -> 0.16666667 | GC13: =IF(IF(FZ13<FY13,FZ13+1,FZ13)>TIMEVALUE("21:00:00"),MIN(IF(FZ13<FY13,FZ13+1,FZ13),TIMEVALUE("06:00:00")+1)-MAX(FY13,TIMEVALUE("21:00:00")),0) -> 0.375 | GD13: =IF(IF(FZ13<FY13,FZ13+1,FZ13)>TIMEVALUE("06:00:00")+1,MIN(FZ13+1,TIMEVALUE("07:00:00")+1)-TIMEVALUE("06:00:00")+1,0) -> 2.0416667 | GE13: 0.70833333 | GF13: 0.33333333 | GG13: =24*(MOD(GF13-GE13,1)) -> 15 | GH13: =IF(GE13>TIMEVALUE("21:00:00"),0,MIN(TIMEVALUE("21:00:00"),IF(GF13<GE13,GF13+1,GF13))-GE13) -> 0.16666667 | GI13: =IF(IF(GF13<GE13,GF13+1,GF13)>TIMEVALUE("21:00:00"),MIN(IF(GF13<GE13,GF13+1,GF13),TIMEVALUE("06:00:00")+1)-MAX(GE13,TIMEVALUE("21:00:00")),0) -> 0.375 | GJ13: =IF(IF(GF13<GE13,GF13+1,GF13)>TIMEVALUE("06:00:00")+1,MIN(GF13+1,TIMEVALUE("07:00:00")+1)-TIMEVALUE("06:00:00")+1,0) -> 2.0416667
D14: 0 | E14: 0 | F14: =24*(MOD(E14-D14,1)) -> 0 | G14: =IF(D14>TIMEVALUE("21:00:00"),0,MIN(TIMEVALUE("21:00:00"),IF(E14<D14,E14+1,E14))-D14) -> 0 | H14: =IF(IF(E14<D14,E14+1,E14)>TIMEVALUE("21:00:00"),MIN(IF(E14<D14,E14+1,E14),TIMEVALUE("06:00:00")+1)-MAX(D14,TIMEVALUE("21:00:00")),0) -> 0 | I14: =IF(IF(E14<D14,E14+1,E14)>TIMEVALUE("06:00:00")+1,MIN(E14+1,TIMEVALUE("07:00:00")+1)-TIMEVALUE("06:00:00")+1,0) -> 0 | J14: =_xlfn.IFS($J$6=1,G14*Sheet1!$B$5*24,$D$2="Lundi",TRUE,$D$2="Mardi",TRUE,$D$2="Mercredi",TRUE,$D$2="Jeudi",$D$2="Vendredi") -> 0 | K14: =_xlfn.IFS($K$6=1,H14*Sheet1!$G$5*24,$D$2="Lundi",TRUE,$D$2="Mardi",TRUE,$D$2="Mercredi",TRUE,$D$2="Jeudi",$D$2="Vendredi") -> 0 | L14: =_xlfn.IFS($L$6=1,I14*Sheet1!$B$5,$D$2="Lundi",TRUE,$D$2="Mardi",TRUE,$D$2="Mercredi",TRUE,$D$2="Jeudi",$D$2="Vendredi") -> 0 | M14: 0.70833333 | N14: 0.33333333 | O14: =24*(MOD(N14-M14,1)) -> 15 | P14: =IF(M14>TIMEVALUE("21:00:00"),0,MIN(TIMEVALUE("21:00:00"),IF(N14<M14,N14+1,N14))-M14) -> 0.16666667 | Q14: =IF(IF(N14<M14,N14+1,N14)>TIMEVALUE("21:00:00"),MIN(IF(N14<M14,N14+1,N14),TIMEVALUE("06:00:00")+1)-MAX(M14,TIMEVALUE("21:00:00")),0) -> 0.375 | R14: =IF(IF(N14<M14,N14+1,N14)>TIMEVALUE("06:00:00")+1,MIN(N14+1,TIMEVALUE("07:00:00")+1)-TIMEVALUE("06:00:00")+1,0) -> 2.0416667 | S14: 0.70833333 | T14: 0.33333333 | U14: =24*(MOD(T14-S14,1)) -> 15 | V14: =IF(S14>TIMEVALUE("21:00:00"),0,MIN(TIMEVALUE("21:00:00"),IF(T14<S14,T14+1,T14))-S14) -> 0.16666667 | W14: =IF(IF(T14<S14,T14+1,T14)>TIMEVALUE("21:00:00"),MIN(IF(T14<S14,T14+1,T14),TIMEVALUE("06:00:00")+1)-MAX(S14,TIMEVALUE("21:00:00")),0) -> 0.375 | X14: =IF(IF(T14<S14,T14+1,T14)>TIMEVALUE("06:00:00")+1,MIN(T14+1,TIMEVALUE("07:00:00")+1)-TIMEVALUE("06:00:00")+1,0) -> 2.0416667 | Y14: 0.70833333 | Z14: 0.33333333 | AA14: =24*(MOD(Z14-Y14,1)) -> 15 | AB14: =IF(Y14>TIMEVALUE("21:00:00"),0,MIN(TIMEVALUE("21:00:00"),IF(Z14<Y14,Z14+1,Z14))-Y14) -> 0.16666667 | AC14: =IF(IF(Z14<Y14,Z14+1,Z14)>TIMEVALUE("21:00:00"),MIN(IF(Z14<Y14,Z14+1,Z14),TIMEVALUE("06:00:00")+1)-MAX(Y14,TIMEVALUE("21:00:00")),0) -> 0.375 | AD14: =IF(IF(Z14<Y14,Z14+1,Z14)>TIMEVALUE("06:00:00")+1,MIN(Z14+1,TIMEVALUE("07:00:00")+1)-TIMEVALUE("06:00:00")+1,0) -> 2.0416667 | AE14: 0.70833333 | AF14: 0.33333333 | AG14: =24*(MOD(AF14-AE14,1)) -> 15 | AH14: =IF(AE14>TIMEVALUE("21:00:00"),0,MIN(TIMEVALUE("21:00:00"),IF(AF14<AE14,AF14+1,AF14))-AE14) -> 0.16666667 | AI14: =IF(IF(AF14<AE14,AF14+1,AF14)>TIMEVALUE("21:00:00"),MIN(IF(AF14<AE14,AF14+1,AF14),TIMEVALUE("06:00:00")+1)-MAX(AE14,TIMEVALUE("21:00:00")),0) -> 0.375 | AJ14: =IF(IF(AF14<AE14,AF14+1,AF14)>TIMEVALUE("06:00:00")+1,MIN(AF14+1,TIMEVALUE("07:00:00")+1)-TIMEVALUE("06:00:00")+1,0) -> 2.0416667 | AK14: 0.70833333 | AL14: 0.33333333 | AM14: =24*(MOD(AL14-AK14,1)) -> 15 | AN14: =IF(AK14>TIMEVALUE("21:00:00"),0,MIN(TIMEVALUE("21:00:00"),IF(AL14<AK14,AL14+1,AL14))-AK14) -> 0.16666667 | AO14: =IF(IF(AL14<AK14,AL14+1,AL14)>TIMEVALUE("21:00:00"),MIN(IF(AL14<AK14,AL14+1,AL14),TIMEVALUE("06:00:00")+1)-MAX(AK14,TIMEVALUE("21:00:00")),0) -> 0.375 | AP14: =IF(IF(AL14<AK14,AL14+1,AL14)>TIMEVALUE("06:00:00")+1,MIN(AL14+1,TIMEVALUE("07:00:00")+1)-TIMEVALUE("06:00:00")+1,0) -> 2.0416667 | AQ14: 0.70833333 | AR14: 0.33333333 | AS14: =24*(MOD(AR14-AQ14,1)) -> 15 | AT14: =IF(AQ14>TIMEVALUE("21:00:00"),0,MIN(TIMEVALUE("21:00:00"),IF(AR14<AQ14,AR14+1,AR14))-AQ14) -> 0.16666667 | AU14: =IF(IF(AR14<AQ14,AR14+1,AR14)>TIMEVALUE("21:00:00"),MIN(IF(AR14<AQ14,AR14+1,AR14),TIMEVALUE("06:00:00")+1)-MAX(AQ14,TIMEVALUE("21:00:00")),0) -> 0.375 | AV14: =IF(IF(AR14<AQ14,AR14+1,AR14)>TIMEVALUE("06:00:00")+1,MIN(AR14+1,TIMEVALUE("07:00:00")+1)-TIMEVALUE("06:00:00")+1,0) -> 2.0416667 | AW14: 0.70833333 | AX14: 0.33333333 | AY14: =24*(MOD(AX14-AW14,1)) -> 15 | AZ14: =IF(AW14>TIMEVALUE("21:00:00"),0,MIN(TIMEVALUE("21:00:00"),IF(AX14<AW14,AX14+1,AX14))-AW14) -> 0.16666667 | BA14: =IF(IF(AX14<AW14,AX14+1,AX14)>TIMEVALUE("21:00:00"),MIN(IF(AX14<AW14,AX14+1,AX14),TIMEVALUE("06:00:00")+1)-MAX(AW14,TIMEVALUE("21:00:00")),0) -> 0.375 | BB14: =IF(IF(AX14<AW14,AX14+1,AX14)>TIMEVALUE("06:00:00")+1,MIN(AX14+1,TIMEVALUE("07:00:00")+1)-TIMEVALUE("06:00:00")+1,0) -> 2.0416667 | BC14: 0.70833333 | BD14: 0.33333333 | BE14: =24*(MOD(BD14-BC14,1)) -> 15 | BF14: =IF(BC14>TIMEVALUE("21:00:00"),0,MIN(TIMEVALUE("21:00:00"),IF(BD14<BC14,BD14+1,BD14))-BC14) -> 0.16666667 | BG14: =IF(IF(BD14<BC14,BD14+1,BD14)>TIMEVALUE("21:00:00"),MIN(IF(BD14<BC14,BD14+1,BD14),TIMEVALUE("06:00:00")+1)-MAX(BC14,TIMEVALUE("21:00:00")),0) -> 0.375 | BH14: =IF(IF(BD14<BC14,BD14+1,BD14)>TIMEVALUE("06:00:00")+1,MIN(BD14+1,TIMEVALUE("07:00:00")+1)-TIMEVALUE("06:00:00")+1,0) -> 2.0416667 | BI14: 0.70833333 | BJ14: 0.33333333 | BK14: =24*(MOD(BJ14-BI14,1)) -> 15 | BL14: =IF(BI14>TIMEVALUE("21:00:00"),0,MIN(TIMEVALUE("21:00:00"),IF(BJ14<BI14,BJ14+1,BJ14))-BI14) -> 0.16666667 | BM14: =IF(IF(BJ14<BI14,BJ14+1,BJ14)>TIMEVALUE("21:00:00"),MIN(IF(BJ14<BI14,BJ14+1,BJ14),TIMEVALUE("06:00:00")+1)-MAX(BI14,TIMEVALUE("21:00:00")),0) -> 0.375 | BN14: =IF(IF(BJ14<BI14,BJ14+1,BJ14)>TIMEVALUE("06:00:00")+1,MIN(BJ14+1,TIMEVALUE("07:00:00")+1)-TIMEVALUE("06:00:00")+1,0) -> 2.0416667 | BO14: 0.70833333 | BP14: 0.33333333 | BQ14: =24*(MOD(BP14-BO14,1)) -> 15 | BR14: =IF(BO14>TIMEVALUE("21:00:00"),0,MIN(TIMEVALUE("21:00:00"),IF(BP14<BO14,BP14+1,BP14))-BO14) -> 0.16666667 | BS14: =IF(IF(BP14<BO14,BP14+1,BP14)>TIMEVALUE("21:00:00"),MIN(IF(BP14<BO14,BP14+1,BP14),TIMEVALUE("06:00:00")+1)-MAX(BO14,TIMEVALUE("21:00:00")),0) -> 0.375 | BT14: =IF(IF(BP14<BO14,BP14+1,BP14)>TIMEVALUE("06:00:00")+1,MIN(BP14+1,TIMEVALUE("07:00:00")+1)-TIMEVALUE("06:00:00")+1,0) -> 2.0416667 | BU14: 0.70833333 | BV14: 0.33333333 | BW14: =24*(MOD(BV14-BU14,1)) -> 15 | BX14: =IF(BU14>TIMEVALUE("21:00:00"),0,MIN(TIMEVALUE("21:00:00"),IF(BV14<BU14,BV14+1,BV14))-BU14) -> 0.16666667 | BY14: =IF(IF(BV14<BU14,BV14+1,BV14)>TIMEVALUE("21:00:00"),MIN(IF(BV14<BU14,BV14+1,BV14),TIMEVALUE("06:00:00")+1)-MAX(BU14,TIMEVALUE("21:00:00")),0) -> 0.375 | BZ14: =IF(IF(BV14<BU14,BV14+1,BV14)>TIMEVALUE("06:00:00")+1,MIN(BV14+1,TIMEVALUE("07:00:00")+1)-TIMEVALUE("06:00:00")+1,0) -> 2.0416667 | CA14: 0.70833333 | CB14: 0.33333333 | CC14: =24*(MOD(CB14-CA14,1)) -> 15 | CD14: =IF(CA14>TIMEVALUE("21:00:00"),0,MIN(TIMEVALUE("21:00:00"),IF(CB14<CA14,CB14+1,CB14))-CA14) -> 0.16666667 | CE14: =IF(IF(CB14<CA14,CB14+1,CB14)>TIMEVALUE("21:00:00"),MIN(IF(CB14<CA14,CB14+1,CB14),TIMEVALUE("06:00:00")+1)-MAX(CA14,TIMEVALUE("21:00:00")),0) -> 0.375 | CF14: =IF(IF(CB14<CA14,CB14+1,CB14)>TIMEVALUE("06:00:00")+1,MIN(CB14+1,TIMEVALUE("07:00:00")+1)-TIMEVALUE("06:00:00")+1,0) -> 2.0416667 | CG14: 0.70833333 | CH14: 0.33333333 | CI14: =24*(MOD(CH14-CG14,1)) -> 15 | CJ14: =IF(CG14>TIMEVALUE("21:00:00"),0,MIN(TIMEVALUE("21:00:00"),IF(CH14<CG14,CH14+1,CH14))-CG14) -> 0.16666667 | CK14: =IF(IF(CH14<CG14,CH14+1,CH14)>TIMEVALUE("21:00:00"),MIN(IF(CH14<CG14,CH14+1,CH14),TIMEVALUE("06:00:00")+1)-MAX(CG14,TIMEVALUE("21:00:00")),0) -> 0.375 | CL14: =IF(IF(CH14<CG14,CH14+1,CH14)>TIMEVALUE("06:00:00")+1,MIN(CH14+1,TIMEVALUE("07:00:00")+1)-TIMEVALUE("06:00:00")+1,0) -> 2.0416667 | CM14: 0.70833333 | CN14: 0.33333333 | CO14: =24*(MOD(CN14-CM14,1)) -> 15 | CP14: =IF(CM14>TIMEVALUE("21:00:00"),0,MIN(TIMEVALUE("21:00:00"),IF(CN14<CM14,CN14+1,CN14))-CM14) -> 0.16666667 | CQ14: =IF(IF(CN14<CM14,CN14+1,CN14)>TIMEVALUE("21:00:00"),MIN(IF(CN14<CM14,CN14+1,CN14),TIMEVALUE("06:00:00")+1)-MAX(CM14,TIMEVALUE("21:00:00")),0) -> 0.375 | CR14: =IF(IF(CN14<CM14,CN14+1,CN14)>TIMEVALUE("06:00:00")+1,MIN(CN14+1,TIMEVALUE("07:00:00")+1)-TIMEVALUE("06:00:00")+1,0) -> 2.0416667 | CS14: 0.70833333 | CT14: 0.33333333 | CU14: =24*(MOD(CT14-CS14,1)) -> 15 | CV14: =IF(CS14>TIMEVALUE("21:00:00"),0,MIN(TIMEVALUE("21:00:00"),IF(CT14<CS14,CT14+1,CT14))-CS14) -> 0.16666667 | CW14: =IF(IF(CT14<CS14,CT14+1,CT14)>TIMEVALUE("21:00:00"),MIN(IF(CT14<CS14,CT14+1,CT14),TIMEVALUE("06:00:00")+1)-MAX(CS14,TIMEVALUE("21:00:00")),0) -> 0.375 | CX14: =IF(IF(CT14<CS14,CT14+1,CT14)>TIMEVALUE("06:00:00")+1,MIN(CT14+1,TIMEVALUE("07:00:00")+1)-TIMEVALUE("06:00:00")+1,0) -> 2.0416667 | CY14: 0.70833333 | CZ14: 0.33333333 | DA14: =24*(MOD(CZ14-CY14,1)) -> 15 | DB14: =IF(CY14>TIMEVALUE("21:00:00"),0,MIN(TIMEVALUE("21:00:00"),IF(CZ14<CY14,CZ14+1,CZ14))-CY14) -> 0.16666667 | DC14: =IF(IF(CZ14<CY14,CZ14+1,CZ14)>TIMEVALUE("21:00:00"),MIN(IF(CZ14<CY14,CZ14+1,CZ14),TIMEVALUE("06:00:00")+1)-MAX(CY14,TIMEVALUE("21:00:00")),0) -> 0.375 | DD14: =IF(IF(CZ14<CY14,CZ14+1,CZ14)>TIMEVALUE("06:00:00")+1,MIN(CZ14+1,TIMEVALUE("07:00:00")+1)-TIMEVALUE("06:00:00")+1,0) -> 2.0416667 | DE14: 0.70833333 | DF14: 0.33333333 | DG14: =24*(MOD(DF14-DE14,1)) -> 15 | DH14: =IF(DE14>TIMEVALUE("21:00:00"),0,MIN(TIMEVALUE("21:00:00"),IF(DF14<DE14,DF14+1,DF14))-DE14) -> 0.16666667 | DI14: =IF(IF(DF14<DE14,DF14+1,DF14)>TIMEVALUE("21:00:00"),MIN(IF(DF14<DE14,DF14+1,DF14),TIMEVALUE("06:00:00")+1)-MAX(DE14,TIMEVALUE("21:00:00")),0) -> 0.375 | DJ14: =IF(IF(DF14<DE14,DF14+1,DF14)>TIMEVALUE("06:00:00")+1,MIN(DF14+1,TIMEVALUE("07:00:00")+1)-TIMEVALUE("06:00:00")+1,0) -> 2.0416667 | DK14: 0.70833333 | DL14: 0.33333333 | DM14: =24*(MOD(DL14-DK14,1)) -> 15 | DN14: =IF(DK14>TIMEVALUE("21:00:00"),0,MIN(TIMEVALUE("21:00:00"),IF(DL14<DK14,DL14+1,DL14))-DK14) -> 0.16666667 | DO14: =IF(IF(DL14<DK14,DL14+1,DL14)>TIMEVALUE("21:00:00"),MIN(IF(DL14<DK14,DL14+1,DL14),TIMEVALUE("06:00:00")+1)-MAX(DK14,TIMEVALUE("21:00:00")),0) -> 0.375 | DP14: =IF(IF(DL14<DK14,DL14+1,DL14)>TIMEVALUE("06:00:00")+1,MIN(DL14+1,TIMEVALUE("07:00:00")+1)-TIMEVALUE("06:00:00")+1,0) -> 2.0416667 | DQ14: 0.70833333 | DR14: 0.33333333 | DS14: =24*(MOD(DR14-DQ14,1)) -> 15 | DT14: =IF(DQ14>TIMEVALUE("21:00:00"),0,MIN(TIMEVALUE("21:00:00"),IF(DR14<DQ14,DR14+1,DR14))-DQ14) -> 0.16666667 | DU14: =IF(IF(DR14<DQ14,DR14+1,DR14)>TIMEVALUE("21:00:00"),MIN(IF(DR14<DQ14,DR14+1,DR14),TIMEVALUE("06:00:00")+1)-MAX(DQ14,TIMEVALUE("21:00:00")),0) -> 0.375 | DV14: =IF(IF(DR14<DQ14,DR14+1,DR14)>TIMEVALUE("06:00:00")+1,MIN(DR14+1,TIMEVALUE("07:00:00")+1)-TIMEVALUE("06:00:00")+1,0) -> 2.0416667 | DW14: 0.70833333 | DX14: 0.33333333 | DY14: =24*(MOD(DX14-DW14,1)) -> 15 | DZ14: =IF(DW14>TIMEVALUE("21:00:00"),0,MIN(TIMEVALUE("21:00:00"),IF(DX14<DW14,DX14+1,DX14))-DW14) -> 0.16666667 | EA14: =IF(IF(DX14<DW14,DX14+1,DX14)>TIMEVALUE("21:00:00"),MIN(IF(DX14<DW14,DX14+1,DX14),TIMEVALUE("06:00:00")+1)-MAX(DW14,TIMEVALUE("21:00:00")),0) -> 0.375 | EB14: =IF(IF(DX14<DW14,DX14+1,DX14)>TIMEVALUE("06:00:00")+1,MIN(DX14+1,TIMEVALUE("07:00:00")+1)-TIMEVALUE("06:00:00")+1,0) -> 2.0416667 | EC14: 0.70833333 | ED14: 0.33333333 | EE14: =24*(MOD(ED14-EC14,1)) -> 15 | EF14: =IF(EC14>TIMEVALUE("21:00:00"),0,MIN(TIMEVALUE("21:00:00"),IF(ED14<EC14,ED14+1,ED14))-EC14) -> 0.16666667 | EG14: =IF(IF(ED14<EC14,ED14+1,ED14)>TIMEVALUE("21:00:00"),MIN(IF(ED14<EC14,ED14+1,ED14),TIMEVALUE("06:00:00")+1)-MAX(EC14,TIMEVALUE("21:00:00")),0) -> 0.375 | EH14: =IF(IF(ED14<EC14,ED14+1,ED14)>TIMEVALUE("06:00:00")+1,MIN(ED14+1,TIMEVALUE("07:00:00")+1)-TIMEVALUE("06:00:00")+1,0) -> 2.0416667 | EI14: 0.70833333 | EJ14: 0.33333333 | EK14: =24*(MOD(EJ14-EI14,1)) -> 15 | EL14: =IF(EI14>TIMEVALUE("21:00:00"),0,MIN(TIMEVALUE("21:00:00"),IF(EJ14<EI14,EJ14+1,EJ14))-EI14) -> 0.16666667 | EM14: =IF(IF(EJ14<EI14,EJ14+1,EJ14)>TIMEVALUE("21:00:00"),MIN(IF(EJ14<EI14,EJ14+1,EJ14),TIMEVALUE("06:00:00")+1)-MAX(EI14,TIMEVALUE("21:00:00")),0) -> 0.375 | EN14: =IF(IF(EJ14<EI14,EJ14+1,EJ14)>TIMEVALUE("06:00:00")+1,MIN(EJ14+1,TIMEVALUE("07:00:00")+1)-TIMEVALUE("06:00:00")+1,0) -> 2.0416667 | EO14: 0.70833333 | EP14: 0.33333333 | EQ14: =24*(MOD(EP14-EO14,1)) -> 15 | ER14: =IF(EO14>TIMEVALUE("21:00:00"),0,MIN(TIMEVALUE("21:00:00"),IF(EP14<EO14,EP14+1,EP14))-EO14) -> 0.16666667 | ES14: =IF(IF(EP14<EO14,EP14+1,EP14)>TIMEVALUE("21:00:00"),MIN(IF(EP14<EO14,EP14+1,EP14),TIMEVALUE("06:00:00")+1)-MAX(EO14,TIMEVALUE("21:00:00")),0) -> 0.375 | ET14: =IF(IF(EP14<EO14,EP14+1,EP14)>TIMEVALUE("06:00:00")+1,MIN(EP14+1,TIMEVALUE("07:00:00")+1)-TIMEVALUE("06:00:00")+1,0) -> 2.0416667 | EU14: 0.70833333 | EV14: 0.33333333 | EW14: =24*(MOD(EV14-EU14,1)) -> 15 | EX14: =IF(EU14>TIMEVALUE("21:00:00"),0,MIN(TIMEVALUE("21:00:00"),IF(EV14<EU14,EV14+1,EV14))-EU14) -> 0.16666667 | EY14: =IF(IF(EV14<EU14,EV14+1,EV14)>TIMEVALUE("21:00:00"),MIN(IF(EV14<EU14,EV14+1,EV14),TIMEVALUE("06:00:00")+1)-MAX(EU14,TIMEVALUE("21:00:00")),0) -> 0.375 | EZ14: =IF(IF(EV14<EU14,EV14+1,EV14)>TIMEVALUE("06:00:00")+1,MIN(EV14+1,TIMEVALUE("07:00:00")+1)-TIMEVALUE("06:00:00")+1,0) -> 2.0416667 | FA14: 0.70833333 | FB14: 0.33333333 | FC14: =24*(MOD(FB14-FA14,1)) -> 15 | FD14: =IF(FA14>TIMEVALUE("21:00:00"),0,MIN(TIMEVALUE("21:00:00"),IF(FB14<FA14,FB14+1,FB14))-FA14) -> 0.16666667 | FE14: =IF(IF(FB14<FA14,FB14+1,FB14)>TIMEVALUE("21:00:00"),MIN(IF(FB14<FA14,FB14+1,FB14),TIMEVALUE("06:00:00")+1)-MAX(FA14,TIMEVALUE("21:00:00")),0) -> 0.375 | FF14: =IF(IF(FB14<FA14,FB14+1,FB14)>TIMEVALUE("06:00:00")+1,MIN(FB14+1,TIMEVALUE("07:00:00")+1)-TIMEVALUE("06:00:00")+1,0) -> 2.0416667 | FG14: 0.70833333 | FH14: 0.33333333 | FI14: =24*(MOD(FH14-FG14,1)) -> 15 | FJ14: =IF(FG14>TIMEVALUE("21:00:00"),0,MIN(TIMEVALUE("21:00:00"),IF(FH14<FG14,FH14+1,FH14))-FG14) -> 0.16666667 | FK14: =IF(IF(FH14<FG14,FH14+1,FH14)>TIMEVALUE("21:00:00"),MIN(IF(FH14<FG14,FH14+1,FH14),TIMEVALUE("06:00:00")+1)-MAX(FG14,TIMEVALUE("21:00:00")),0) -> 0.375 | FL14: =IF(IF(FH14<FG14,FH14+1,FH14)>TIMEVALUE("06:00:00")+1,MIN(FH14+1,TIMEVALUE("07:00:00")+1)-TIMEVALUE("06:00:00")+1,0) -> 2.0416667 | FM14: 0.70833333 | FN14: 0.33333333 | FO14: =24*(MOD(FN14-FM14,1)) -> 15 | FP14: =IF(FM14>TIMEVALUE("21:00:00"),0,MIN(TIMEVALUE("21:00:00"),IF(FN14<FM14,FN14+1,FN14))-FM14) -> 0.16666667 | FQ14: =IF(IF(FN14<FM14,FN14+1,FN14)>TIMEVALUE("21:00:00"),MIN(IF(FN14<FM14,FN14+1,FN14),TIMEVALUE("06:00:00")+1)-MAX(FM14,TIMEVALUE("21:00:00")),0) -> 0.375 | FR14: =IF(IF(FN14<FM14,FN14+1,FN14)>TIMEVALUE("06:00:00")+1,MIN(FN14+1,TIMEVALUE("07:00:00")+1)-TIMEVALUE("06:00:00")+1,0) -> 2.0416667 | FS14: 0.70833333 | FT14: 0.33333333 | FU14: =24*(MOD(FT14-FS14,1)) -> 15 | FV14: =IF(FS14>TIMEVALUE("21:00:00"),0,MIN(TIMEVALUE("21:00:00"),IF(FT14<FS14,FT14+1,FT14))-FS14) -> 0.16666667 | FW14: =IF(IF(FT14<FS14,FT14+1,FT14)>TIMEVALUE("21:00:00"),MIN(IF(FT14<FS14,FT14+1,FT14),TIMEVALUE("06:00:00")+1)-MAX(FS14,TIMEVALUE("21:00:00")),0) -> 0.375 | FX14: =IF(IF(FT14<FS14,FT14+1,FT14)>TIMEVALUE("06:00:00")+1,MIN(FT14+1,TIMEVALUE("07:00:00")+1)-TIMEVALUE("06:00:00")+1,0) -> 2.0416667 | FY14: 0.70833333 | FZ14: 0.33333333 | GA14: =24*(MOD(FZ14-FY14,1)) -> 15 | GB14: =IF(FY14>TIMEVALUE("21:00:00"),0,MIN(TIMEVALUE("21:00:00"),IF(FZ14<FY14,FZ14+1,FZ14))-FY14) -> 0.16666667 | GC14: =IF(IF(FZ14<FY14,FZ14+1,FZ14)>TIMEVALUE("21:00:00"),MIN(IF(FZ14<FY14,FZ14+1,FZ14),TIMEVALUE("06:00:00")+1)-MAX(FY14,TIMEVALUE("21:00:00")),0) -> 0.375 | GD14: =IF(IF(FZ14<FY14,FZ14+1,FZ14)>TIMEVALUE("06:00:00")+1,MIN(FZ14+1,TIMEVALUE("07:00:00")+1)-TIMEVALUE("06:00:00")+1,0) -> 2.0416667 | GE14: 0.70833333 | GF14: 0.33333333 | GG14: =24*(MOD(GF14-GE14,1)) -> 15 | GH14: =IF(GE14>TIMEVALUE("21:00:00"),0,MIN(TIMEVALUE("21:00:00"),IF(GF14<GE14,GF14+1,GF14))-GE14) -> 0.16666667 | GI14: =IF(IF(GF14<GE14,GF14+1,GF14)>TIMEVALUE("21:00:00"),MIN(IF(GF14<GE14,GF14+1,GF14),TIMEVALUE("06:00:00")+1)-MAX(GE14,TIMEVALUE("21:00:00")),0) -> 0.375 | GJ14: =IF(IF(GF14<GE14,GF14+1,GF14)>TIMEVALUE("06:00:00")+1,MIN(GF14+1,TIMEVALUE("07:00:00")+1)-TIMEVALUE("06:00:00")+1,0) -> 2.0416667
D15: 0 | E15: 0 | F15: =24*(MOD(E15-D15,1)) -> 0 | G15: =IF(D15>TIMEVALUE("21:00:00"),0,MIN(TIMEVALUE("21:00:00"),IF(E15<D15,E15+1,E15))-D15) -> 0 | H15: =IF(IF(E15<D15,E15+1,E15)>TIMEVALUE("21:00:00"),MIN(IF(E15<D15,E15+1,E15),TIMEVALUE("06:00:00")+1)-MAX(D15,TIMEVALUE("21:00:00")),0) -> 0 | I15: =IF(IF(E15<D15,E15+1,E15)>TIMEVALUE("06:00:00")+1,MIN(E15+1,TIMEVALUE("07:00:00")+1)-TIMEVALUE("06:00:00")+1,0) -> 0 | J15: =_xlfn.IFS($J$6=1,G15*Sheet1!$B$5*24,$D$2="Lundi",TRUE,$D$2="Mardi",TRUE,$D$2="Mercredi",TRUE,$D$2="Jeudi",$D$2="Vendredi") -> 0 | K15: =_xlfn.IFS($K$6=1,H15*Sheet1!$G$5*24,$D$2="Lundi",TRUE,$D$2="Mardi",TRUE,$D$2="Mercredi",TRUE,$D$2="Jeudi",$D$2="Vendredi") -> 0 | L15: =_xlfn.IFS($L$6=1,I15*Sheet1!$B$5,$D$2="Lundi",TRUE,$D$2="Mardi",TRUE,$D$2="Mercredi",TRUE,$D$2="Jeudi",$D$2="Vendredi") -> 0 | M15: 0.70833333 | N15: 0.33333333 | O15: =24*(MOD(N15-M15,1)) -> 15 | P15: =IF(M15>TIMEVALUE("21:00:00"),0,MIN(TIMEVALUE("21:00:00"),IF(N15<M15,N15+1,N15))-M15) -> 0.16666667 | Q15: =IF(IF(N15<M15,N15+1,N15)>TIMEVALUE("21:00:00"),MIN(IF(N15<M15,N15+1,N15),TIMEVALUE("06:00:00")+1)-MAX(M15,TIMEVALUE("21:00:00")),0) -> 0.375 | R15: =IF(IF(N15<M15,N15+1,N15)>TIMEVALUE("06:00:00")+1,MIN(N15+1,TIMEVALUE("07:00:00")+1)-TIMEVALUE("06:00:00")+1,0) -> 2.0416667 | S15: 0.70833333 | T15: 0.33333333 | U15: =24*(MOD(T15-S15,1)) -> 15 | V15: =IF(S15>TIMEVALUE("21:00:00"),0,MIN(TIMEVALUE("21:00:00"),IF(T15<S15,T15+1,T15))-S15) -> 0.16666667 | W15: =IF(IF(T15<S15,T15+1,T15)>TIMEVALUE("21:00:00"),MIN(IF(T15<S15,T15+1,T15),TIMEVALUE("06:00:00")+1)-MAX(S15,TIMEVALUE("21:00:00")),0) -> 0.375 | X15: =IF(IF(T15<S15,T15+1,T15)>TIMEVALUE("06:00:00")+1,MIN(T15+1,TIMEVALUE("07:00:00")+1)-TIMEVALUE("06:00:00")+1,0) -> 2.0416667 | Y15: 0.70833333 | Z15: 0.33333333 | AA15: =24*(MOD(Z15-Y15,1)) -> 15 | AB15: =IF(Y15>TIMEVALUE("21:00:00"),0,MIN(TIMEVALUE("21:00:00"),IF(Z15<Y15,Z15+1,Z15))-Y15) -> 0.16666667 | AC15: =IF(IF(Z15<Y15,Z15+1,Z15)>TIMEVALUE("21:00:00"),MIN(IF(Z15<Y15,Z15+1,Z15),TIMEVALUE("06:00:00")+1)-MAX(Y15,TIMEVALUE("21:00:00")),0) -> 0.375 | AD15: =IF(IF(Z15<Y15,Z15+1,Z15)>TIMEVALUE("06:00:00")+1,MIN(Z15+1,TIMEVALUE("07:00:00")+1)-TIMEVALUE("06:00:00")+1,0) -> 2.0416667 | AE15: 0.70833333 | AF15: 0.33333333 | AG15: =24*(MOD(AF15-AE15,1)) -> 15 | AH15: =IF(AE15>TIMEVALUE("21:00:00"),0,MIN(TIMEVALUE("21:00:00"),IF(AF15<AE15,AF15+1,AF15))-AE15) -> 0.16666667 | AI15: =IF(IF(AF15<AE15,AF15+1,AF15)>TIMEVALUE("21:00:00"),MIN(IF(AF15<AE15,AF15+1,AF15),TIMEVALUE("06:00:00")+1)-MAX(AE15,TIMEVALUE("21:00:00")),0) -> 0.375 | AJ15: =IF(IF(AF15<AE15,AF15+1,AF15)>TIMEVALUE("06:00:00")+1,MIN(AF15+1,TIMEVALUE("07:00:00")+1)-TIMEVALUE("06:00:00")+1,0) -> 2.0416667 | AK15: 0.70833333 | AL15: 0.33333333 | AM15: =24*(MOD(AL15-AK15,1)) -> 15 | AN15: =IF(AK15>TIMEVALUE("21:00:00"),0,MIN(TIMEVALUE("21:00:00"),IF(AL15<AK15,AL15+1,AL15))-AK15) -> 0.16666667 | AO15: =IF(IF(AL15<AK15,AL15+1,AL15)>TIMEVALUE("21:00:00"),MIN(IF(AL15<AK15,AL15+1,AL15),TIMEVALUE("06:00:00")+1)-MAX(AK15,TIMEVALUE("21:00:00")),0) -> 0.375 | AP15: =IF(IF(AL15<AK15,AL15+1,AL15)>TIMEVALUE("06:00:00")+1,MIN(AL15+1,TIMEVALUE("07:00:00")+1)-TIMEVALUE("06:00:00")+1,0) -> 2.0416667 | AQ15: 0.70833333 | AR15: 0.33333333 | AS15: =24*(MOD(AR15-AQ15,1)) -> 15 | AT15: =IF(AQ15>TIMEVALUE("21:00:00"),0,MIN(TIMEVALUE("21:00:00"),IF(AR15<AQ15,AR15+1,AR15))-AQ15) -> 0.16666667 | AU15: =IF(IF(AR15<AQ15,AR15+1,AR15)>TIMEVALUE("21:00:00"),MIN(IF(AR15<AQ15,AR15+1,AR15),TIMEVALUE("06:00:00")+1)-MAX(AQ15,TIMEVALUE("21:00:00")),0) -> 0.375 | AV15: =IF(IF(AR15<AQ15,AR15+1,AR15)>TIMEVALUE("06:00:00")+1,MIN(AR15+1,TIMEVALUE("07:00:00")+1)-TIMEVALUE("06:00:00")+1,0) -> 2.0416667 | AW15: 0.70833333 | AX15: 0.33333333 | AY15: =24*(MOD(AX15-AW15,1)) -> 15 | AZ15: =IF(AW15>TIMEVALUE("21:00:00"),0,MIN(TIMEVALUE("21:00:00"),IF(AX15<AW15,AX15+1,AX15))-AW15) -> 0.16666667 | BA15: =IF(IF(AX15<AW15,AX15+1,AX15)>TIMEVALUE("21:00:00"),MIN(IF(AX15<AW15,AX15+1,AX15),TIMEVALUE("06:00:00")+1)-MAX(AW15,TIMEVALUE("21:00:00")),0) -> 0.375 | BB15: =IF(IF(AX15<AW15,AX15+1,AX15)>TIMEVALUE("06:00:00")+1,MIN(AX15+1,TIMEVALUE("07:00:00")+1)-TIMEVALUE("06:00:00")+1,0) -> 2.0416667 | BC15: 0.70833333 | BD15: 0.33333333 | BE15: =24*(MOD(BD15-BC15,1)) -> 15 | BF15: =IF(BC15>TIMEVALUE("21:00:00"),0,MIN(TIMEVALUE("21:00:00"),IF(BD15<BC15,BD15+1,BD15))-BC15) -> 0.16666667 | BG15: =IF(IF(BD15<BC15,BD15+1,BD15)>TIMEVALUE("21:00:00"),MIN(IF(BD15<BC15,BD15+1,BD15),TIMEVALUE("06:00:00")+1)-MAX(BC15,TIMEVALUE("21:00:00")),0) -> 0.375 | BH15: =IF(IF(BD15<BC15,BD15+1,BD15)>TIMEVALUE("06:00:00")+1,MIN(BD15+1,TIMEVALUE("07:00:00")+1)-TIMEVALUE("06:00:00")+1,0) -> 2.0416667 | BI15: 0.70833333 | BJ15: 0.33333333 | BK15: =24*(MOD(BJ15-BI15,1)) -> 15 | BL15: =IF(BI15>TIMEVALUE("21:00:00"),0,MIN(TIMEVALUE("21:00:00"),IF(BJ15<BI15,BJ15+1,BJ15))-BI15) -> 0.16666667 | BM15: =IF(IF(BJ15<BI15,BJ15+1,BJ15)>TIMEVALUE("21:00:00"),MIN(IF(BJ15<BI15,BJ15+1,BJ15),TIMEVALUE("06:00:00")+1)-MAX(BI15,TIMEVALUE("21:00:00")),0) -> 0.375 | BN15: =IF(IF(BJ15<BI15,BJ15+1,BJ15)>TIMEVALUE("06:00:00")+1,MIN(BJ15+1,TIMEVALUE("07:00:00")+1)-TIMEVALUE("06:00:00")+1,0) -> 2.0416667 | BO15: 0.70833333 | BP15: 0.33333333 | BQ15: =24*(MOD(BP15-BO15,1)) -> 15 | BR15: =IF(BO15>TIMEVALUE("21:00:00"),0,MIN(TIMEVALUE("21:00:00"),IF(BP15<BO15,BP15+1,BP15))-BO15) -> 0.16666667 | BS15: =IF(IF(BP15<BO15,BP15+1,BP15)>TIMEVALUE("21:00:00"),MIN(IF(BP15<BO15,BP15+1,BP15),TIMEVALUE("06:00:00")+1)-MAX(BO15,TIMEVALUE("21:00:00")),0) -> 0.375 | BT15: =IF(IF(BP15<BO15,BP15+1,BP15)>TIMEVALUE("06:00:00")+1,MIN(BP15+1,TIMEVALUE("07:00:00")+1)-TIMEVALUE("06:00:00")+1,0) -> 2.0416667 | BU15: 0.70833333 | BV15: 0.33333333 | BW15: =24*(MOD(BV15-BU15,1)) -> 15 | BX15: =IF(BU15>TIMEVALUE("21:00:00"),0,MIN(TIMEVALUE("21:00:00"),IF(BV15<BU15,BV15+1,BV15))-BU15) -> 0.16666667 | BY15: =IF(IF(BV15<BU15,BV15+1,BV15)>TIMEVALUE("21:00:00"),MIN(IF(BV15<BU15,BV15+1,BV15),TIMEVALUE("06:00:00")+1)-MAX(BU15,TIMEVALUE("21:00:00")),0) -> 0.375 | BZ15: =IF(IF(BV15<BU15,BV15+1,BV15)>TIMEVALUE("06:00:00")+1,MIN(BV15+1,TIMEVALUE("07:00:00")+1)-TIMEVALUE("06:00:00")+1,0) -> 2.0416667 | CA15: 0.70833333 | CB15: 0.33333333 | CC15: =24*(MOD(CB15-CA15,1)) -> 15 | CD15: =IF(CA15>TIMEVALUE("21:00:00"),0,MIN(TIMEVALUE("21:00:00"),IF(CB15<CA15,CB15+1,CB15))-CA15) -> 0.16666667 | CE15: =IF(IF(CB15<CA15,CB15+1,CB15)>TIMEVALUE("21:00:00"),MIN(IF(CB15<CA15,CB15+1,CB15),TIMEVALUE("06:00:00")+1)-MAX(CA15,TIMEVALUE("21:00:00")),0) -> 0.375 | CF15: =IF(IF(CB15<CA15,CB15+1,CB15)>TIMEVALUE("06:00:00")+1,MIN(CB15+1,TIMEVALUE("07:00:00")+1)-TIMEVALUE("06:00:00")+1,0) -> 2.0416667 | CG15: 0.70833333 | CH15: 0.33333333 | CI15: =24*(MOD(CH15-CG15,1)) -> 15 | CJ15: =IF(CG15>TIMEVALUE("21:00:00"),0,MIN(TIMEVALUE("21:00:00"),IF(CH15<CG15,CH15+1,CH15))-CG15) -> 0.16666667 | CK15: =IF(IF(CH15<CG15,CH15+1,CH15)>TIMEVALUE("21:00:00"),MIN(IF(CH15<CG15,CH15+1,CH15),TIMEVALUE("06:00:00")+1)-MAX(CG15,TIMEVALUE("21:00:00")),0) -> 0.375 | CL15: =IF(IF(CH15<CG15,CH15+1,CH15)>TIMEVALUE("06:00:00")+1,MIN(CH15+1,TIMEVALUE("07:00:00")+1)-TIMEVALUE("06:00:00")+1,0) -> 2.0416667 | CM15: 0.70833333 | CN15: 0.33333333 | CO15: =24*(MOD(CN15-CM15,1)) -> 15 | CP15: =IF(CM15>TIMEVALUE("21:00:00"),0,MIN(TIMEVALUE("21:00:00"),IF(CN15<CM15,CN15+1,CN15))-CM15) -> 0.16666667 | CQ15: =IF(IF(CN15<CM15,CN15+1,CN15)>TIMEVALUE("21:00:00"),MIN(IF(CN15<CM15,CN15+1,CN15),TIMEVALUE("06:00:00")+1)-MAX(CM15,TIMEVALUE("21:00:00")),0) -> 0.375 | CR15: =IF(IF(CN15<CM15,CN15+1,CN15)>TIMEVALUE("06:00:00")+1,MIN(CN15+1,TIMEVALUE("07:00:00")+1)-TIMEVALUE("06:00:00")+1,0) -> 2.0416667 | CS15: 0.70833333 | CT15: 0.33333333 | CU15: =24*(MOD(CT15-CS15,1)) -> 15 | CV15: =IF(CS15>TIMEVALUE("21:00:00"),0,MIN(TIMEVALUE("21:00:00"),IF(CT15<CS15,CT15+1,CT15))-CS15) -> 0.16666667 | CW15: =IF(IF(CT15<CS15,CT15+1,CT15)>TIMEVALUE("21:00:00"),MIN(IF(CT15<CS15,CT15+1,CT15),TIMEVALUE("06:00:00")+1)-MAX(CS15,TIMEVALUE("21:00:00")),0) -> 0.375 | CX15: =IF(IF(CT15<CS15,CT15+1,CT15)>TIMEVALUE("06:00:00")+1,MIN(CT15+1,TIMEVALUE("07:00:00")+1)-TIMEVALUE("06:00:00")+1,0) -> 2.0416667 | CY15: 0.70833333 | CZ15: 0.33333333 | DA15: =24*(MOD(CZ15-CY15,1)) -> 15 | DB15: =IF(CY15>TIMEVALUE("21:00:00"),0,MIN(TIMEVALUE("21:00:00"),IF(CZ15<CY15,CZ15+1,CZ15))-CY15) -> 0.16666667 | DC15: =IF(IF(CZ15<CY15,CZ15+1,CZ15)>TIMEVALUE("21:00:00"),MIN(IF(CZ15<CY15,CZ15+1,CZ15),TIMEVALUE("06:00:00")+1)-MAX(CY15,TIMEVALUE("21:00:00")),0) -> 0.375 | DD15: =IF(IF(CZ15<CY15,CZ15+1,CZ15)>TIMEVALUE("06:00:00")+1,MIN(CZ15+1,TIMEVALUE("07:00:00")+1)-TIMEVALUE("06:00:00")+1,0) -> 2.0416667 | DE15: 0.70833333 | DF15: 0.33333333 | DG15: =24*(MOD(DF15-DE15,1)) -> 15 | DH15: =IF(DE15>TIMEVALUE("21:00:00"),0,MIN(TIMEVALUE("21:00:00"),IF(DF15<DE15,DF15+1,DF15))-DE15) -> 0.16666667 | DI15: =IF(IF(DF15<DE15,DF15+1,DF15)>TIMEVALUE("21:00:00"),MIN(IF(DF15<DE15,DF15+1,DF15),TIMEVALUE("06:00:00")+1)-MAX(DE15,TIMEVALUE("21:00:00")),0) -> 0.375 | DJ15: =IF(IF(DF15<DE15,DF15+1,DF15)>TIMEVALUE("06:00:00")+1,MIN(DF15+1,TIMEVALUE("07:00:00")+1)-TIMEVALUE("06:00:00")+1,0) -> 2.0416667 | DK15: 0.70833333 | DL15: 0.33333333 | DM15: =24*(MOD(DL15-DK15,1)) -> 15 | DN15: =IF(DK15>TIMEVALUE("21:00:00"),0,MIN(TIMEVALUE("21:00:00"),IF(DL15<DK15,DL15+1,DL15))-DK15) -> 0.16666667 | DO15: =IF(IF(DL15<DK15,DL15+1,DL15)>TIMEVALUE("21:00:00"),MIN(IF(DL15<DK15,DL15+1,DL15),TIMEVALUE("06:00:00")+1)-MAX(DK15,TIMEVALUE("21:00:00")),0) -> 0.375 | DP15: =IF(IF(DL15<DK15,DL15+1,DL15)>TIMEVALUE("06:00:00")+1,MIN(DL15+1,TIMEVALUE("07:00:00")+1)-TIMEVALUE("06:00:00")+1,0) -> 2.0416667 | DQ15: 0.70833333 | DR15: 0.33333333 | DS15: =24*(MOD(DR15-DQ15,1)) -> 15 | DT15: =IF(DQ15>TIMEVALUE("21:00:00"),0,MIN(TIMEVALUE("21:00:00"),IF(DR15<DQ15,DR15+1,DR15))-DQ15) -> 0.16666667 | DU15: =IF(IF(DR15<DQ15,DR15+1,DR15)>TIMEVALUE("21:00:00"),MIN(IF(DR15<DQ15,DR15+1,DR15),TIMEVALUE("06:00:00")+1)-MAX(DQ15,TIMEVALUE("21:00:00")),0) -> 0.375 | DV15: =IF(IF(DR15<DQ15,DR15+1,DR15)>TIMEVALUE("06:00:00")+1,MIN(DR15+1,TIMEVALUE("07:00:00")+1)-TIMEVALUE("06:00:00")+1,0) -> 2.0416667 | DW15: 0.70833333 | DX15: 0.33333333 | DY15: =24*(MOD(DX15-DW15,1)) -> 15 | DZ15: =IF(DW15>TIMEVALUE("21:00:00"),0,MIN(TIMEVALUE("21:00:00"),IF(DX15<DW15,DX15+1,DX15))-DW15) -> 0.16666667 | EA15: =IF(IF(DX15<DW15,DX15+1,DX15)>TIMEVALUE("21:00:00"),MIN(IF(DX15<DW15,DX15+1,DX15),TIMEVALUE("06:00:00")+1)-MAX(DW15,TIMEVALUE("21:00:00")),0) -> 0.375 | EB15: =IF(IF(DX15<DW15,DX15+1,DX15)>TIMEVALUE("06:00:00")+1,MIN(DX15+1,TIMEVALUE("07:00:00")+1)-TIMEVALUE("06:00:00")+1,0) -> 2.0416667 | EC15: 0.70833333 | ED15: 0.33333333 | EE15: =24*(MOD(ED15-EC15,1)) -> 15 | EF15: =IF(EC15>TIMEVALUE("21:00:00"),0,MIN(TIMEVALUE("21:00:00"),IF(ED15<EC15,ED15+1,ED15))-EC15) -> 0.16666667 | EG15: =IF(IF(ED15<EC15,ED15+1,ED15)>TIMEVALUE("21:00:00"),MIN(IF(ED15<EC15,ED15+1,ED15),TIMEVALUE("06:00:00")+1)-MAX(EC15,TIMEVALUE("21:00:00")),0) -> 0.375 | EH15: =IF(IF(ED15<EC15,ED15+1,ED15)>TIMEVALUE("06:00:00")+1,MIN(ED15+1,TIMEVALUE("07:00:00")+1)-TIMEVALUE("06:00:00")+1,0) -> 2.0416667 | EI15: 0.70833333 | EJ15: 0.33333333 | EK15: =24*(MOD(EJ15-EI15,1)) -> 15 | EL15: =IF(EI15>TIMEVALUE("21:00:00"),0,MIN(TIMEVALUE("21:00:00"),IF(EJ15<EI15,EJ15+1,EJ15))-EI15) -> 0.16666667 | EM15: =IF(IF(EJ15<EI15,EJ15+1,EJ15)>TIMEVALUE("21:00:00"),MIN(IF(EJ15<EI15,EJ15+1,EJ15),TIMEVALUE("06:00:00")+1)-MAX(EI15,TIMEVALUE("21:00:00")),0) -> 0.375 | EN15: =IF(IF(EJ15<EI15,EJ15+1,EJ15)>TIMEVALUE("06:00:00")+1,MIN(EJ15+1,TIMEVALUE("07:00:00")+1)-TIMEVALUE("06:00:00")+1,0) -> 2.0416667 | EO15: 0.70833333 | EP15: 0.33333333 | EQ15: =24*(MOD(EP15-EO15,1)) -> 15 | ER15: =IF(EO15>TIMEVALUE("21:00:00"),0,MIN(TIMEVALUE("21:00:00"),IF(EP15<EO15,EP15+1,EP15))-EO15) -> 0.16666667 | ES15: =IF(IF(EP15<EO15,EP15+1,EP15)>TIMEVALUE("21:00:00"),MIN(IF(EP15<EO15,EP15+1,EP15),TIMEVALUE("06:00:00")+1)-MAX(EO15,TIMEVALUE("21:00:00")),0) -> 0.375 | ET15: =IF(IF(EP15<EO15,EP15+1,EP15)>TIMEVALUE("06:00:00")+1,MIN(EP15+1,TIMEVALUE("07:00:00")+1)-TIMEVALUE("06:00:00")+1,0) -> 2.0416667 | EU15: 0.70833333 | EV15: 0.33333333 | EW15: =24*(MOD(EV15-EU15,1)) -> 15 | EX15: =IF(EU15>TIMEVALUE("21:00:00"),0,MIN(TIMEVALUE("21:00:00"),IF(EV15<EU15,EV15+1,EV15))-EU15) -> 0.16666667 | EY15: =IF(IF(EV15<EU15,EV15+1,EV15)>TIMEVALUE("21:00:00"),MIN(IF(EV15<EU15,EV15+1,EV15),TIMEVALUE("06:00:00")+1)-MAX(EU15,TIMEVALUE("21:00:00")),0) -> 0.375 | EZ15: =IF(IF(EV15<EU15,EV15+1,EV15)>TIMEVALUE("06:00:00")+1,MIN(EV15+1,TIMEVALUE("07:00:00")+1)-TIMEVALUE("06:00:00")+1,0) -> 2.0416667 | FA15: 0.70833333 | FB15: 0.33333333 | FC15: =24*(MOD(FB15-FA15,1)) -> 15 | FD15: =IF(FA15>TIMEVALUE("21:00:00"),0,MIN(TIMEVALUE("21:00:00"),IF(FB15<FA15,FB15+1,FB15))-FA15) -> 0.16666667 | FE15: =IF(IF(FB15<FA15,FB15+1,FB15)>TIMEVALUE("21:00:00"),MIN(IF(FB15<FA15,FB15+1,FB15),TIMEVALUE("06:00:00")+1)-MAX(FA15,TIMEVALUE("21:00:00")),0) -> 0.375 | FF15: =IF(IF(FB15<FA15,FB15+1,FB15)>TIMEVALUE("06:00:00")+1,MIN(FB15+1,TIMEVALUE("07:00:00")+1)-TIMEVALUE("06:00:00")+1,0) -> 2.0416667 | FG15: 0.70833333 | FH15: 0.33333333 | FI15: =24*(MOD(FH15-FG15,1)) -> 15 | FJ15: =IF(FG15>TIMEVALUE("21:00:00"),0,MIN(TIMEVALUE("21:00:00"),IF(FH15<FG15,FH15+1,FH15))-FG15) -> 0.16666667 | FK15: =IF(IF(FH15<FG15,FH15+1,FH15)>TIMEVALUE("21:00:00"),MIN(IF(FH15<FG15,FH15+1,FH15),TIMEVALUE("06:00:00")+1)-MAX(FG15,TIMEVALUE("21:00:00")),0) -> 0.375 | FL15: =IF(IF(FH15<FG15,FH15+1,FH15)>TIMEVALUE("06:00:00")+1,MIN(FH15+1,TIMEVALUE("07:00:00")+1)-TIMEVALUE("06:00:00")+1,0) -> 2.0416667 | FM15: 0.70833333 | FN15: 0.33333333 | FO15: =24*(MOD(FN15-FM15,1)) -> 15 | FP15: =IF(FM15>TIMEVALUE("21:00:00"),0,MIN(TIMEVALUE("21:00:00"),IF(FN15<FM15,FN15+1,FN15))-FM15) -> 0.16666667 | FQ15: =IF(IF(FN15<FM15,FN15+1,FN15)>TIMEVALUE("21:00:00"),MIN(IF(FN15<FM15,FN15+1,FN15),TIMEVALUE("06:00:00")+1)-MAX(FM15,TIMEVALUE("21:00:00")),0) -> 0.375 | FR15: =IF(IF(FN15<FM15,FN15+1,FN15)>TIMEVALUE("06:00:00")+1,MIN(FN15+1,TIMEVALUE("07:00:00")+1)-TIMEVALUE("06:00:00")+1,0) -> 2.0416667 | FS15: 0.70833333 | FT15: 0.33333333 | FU15: =24*(MOD(FT15-FS15,1)) -> 15 | FV15: =IF(FS15>TIMEVALUE("21:00:00"),0,MIN(TIMEVALUE("21:00:00"),IF(FT15<FS15,FT15+1,FT15))-FS15) -> 0.16666667 | FW15: =IF(IF(FT15<FS15,FT15+1,FT15)>TIMEVALUE("21:00:00"),MIN(IF(FT15<FS15,FT15+1,FT15),TIMEVALUE("06:00:00")+1)-MAX(FS15,TIMEVALUE("21:00:00")),0) -> 0.375 | FX15: =IF(IF(FT15<FS15,FT15+1,FT15)>TIMEVALUE("06:00:00")+1,MIN(FT15+1,TIMEVALUE("07:00:00")+1)-TIMEVALUE("06:00:00")+1,0) -> 2.0416667 | FY15: 0.70833333 | FZ15: 0.33333333 | GA15: =24*(MOD(FZ15-FY15,1)) -> 15 | GB15: =IF(FY15>TIMEVALUE("21:00:00"),0,MIN(TIMEVALUE("21:00:00"),IF(FZ15<FY15,FZ15+1,FZ15))-FY15) -> 0.16666667 | GC15: =IF(IF(FZ15<FY15,FZ15+1,FZ15)>TIMEVALUE("21:00:00"),MIN(IF(FZ15<FY15,FZ15+1,FZ15),TIMEVALUE("06:00:00")+1)-MAX(FY15,TIMEVALUE("21:00:00")),0) -> 0.375 | GD15: =IF(IF(FZ15<FY15,FZ15+1,FZ15)>TIMEVALUE("06:00:00")+1,MIN(FZ15+1,TIMEVALUE("07:00:00")+1)-TIMEVALUE("06:00:00")+1,0) -> 2.0416667 | GE15: 0.70833333 | GF15: 0.33333333 | GG15: =24*(MOD(GF15-GE15,1)) -> 15 | GH15: =IF(GE15>TIMEVALUE("21:00:00"),0,MIN(TIMEVALUE("21:00:00"),IF(GF15<GE15,GF15+1,GF15))-GE15) -> 0.16666667 | GI15: =IF(IF(GF15<GE15,GF15+1,GF15)>TIMEVALUE("21:00:00"),MIN(IF(GF15<GE15,GF15+1,GF15),TIMEVALUE("06:00:00")+1)-MAX(GE15,TIMEVALUE("21:00:00")),0) -> 0.375 | GJ15: =IF(IF(GF15<GE15,GF15+1,GF15)>TIMEVALUE("06:00:00")+1,MIN(GF15+1,TIMEVALUE("07:00:00")+1)-TIMEVALUE("06:00:00")+1,0) -> 2.0416667
D16: 0 | E16: 0 | F16: =24*(MOD(E16-D16,1)) -> 0 | G16: =IF(D16>TIMEVALUE("21:00:00"),0,MIN(TIMEVALUE("21:00:00"),IF(E16<D16,E16+1,E16))-D16) -> 0 | H16: =IF(IF(E16<D16,E16+1,E16)>TIMEVALUE("21:00:00"),MIN(IF(E16<D16,E16+1,E16),TIMEVALUE("06:00:00")+1)-MAX(D16,TIMEVALUE("21:00:00")),0) -> 0 | I16: =IF(IF(E16<D16,E16+1,E16)>TIMEVALUE("06:00:00")+1,MIN(E16+1,TIMEVALUE("07:00:00")+1)-TIMEVALUE("06:00:00")+1,0) -> 0 | J16: =_xlfn.IFS($J$6=1,G16*Sheet1!$B$5*24,$D$2="Lundi",TRUE,$D$2="Mardi",TRUE,$D$2="Mercredi",TRUE,$D$2="Jeudi",$D$2="Vendredi") -> 0 | K16: =_xlfn.IFS($K$6=1,H16*Sheet1!$G$5*24,$D$2="Lundi",TRUE,$D$2="Mardi",TRUE,$D$2="Mercredi",TRUE,$D$2="Jeudi",$D$2="Vendredi") -> 0 | L16: =_xlfn.IFS($L$6=1,I16*Sheet1!$B$5,$D$2="Lundi",TRUE,$D$2="Mardi",TRUE,$D$2="Mercredi",TRUE,$D$2="Jeudi",$D$2="Vendredi") -> 0 | M16: 0.70833333 | N16: 0.33333333 | O16: =24*(MOD(N16-M16,1)) -> 15 | P16: =IF(M16>TIMEVALUE("21:00:00"),0,MIN(TIMEVALUE("21:00:00"),IF(N16<M16,N16+1,N16))-M16) -> 0.16666667 | Q16: =IF(IF(N16<M16,N16+1,N16)>TIMEVALUE("21:00:00"),MIN(IF(N16<M16,N16+1,N16),TIMEVALUE("06:00:00")+1)-MAX(M16,TIMEVALUE("21:00:00")),0) -> 0.375 | R16: =IF(IF(N16<M16,N16+1,N16)>TIMEVALUE("06:00:00")+1,MIN(N16+1,TIMEVALUE("07:00:00")+1)-TIMEVALUE("06:00:00")+1,0) -> 2.0416667 | S16: 0.70833333 | T16: 0.33333333 | U16: =24*(MOD(T16-S16,1)) -> 15 | V16: =IF(S16>TIMEVALUE("21:00:00"),0,MIN(TIMEVALUE("21:00:00"),IF(T16<S16,T16+1,T16))-S16) -> 0.16666667 | W16: =IF(IF(T16<S16,T16+1,T16)>TIMEVALUE("21:00:00"),MIN(IF(T16<S16,T16+1,T16),TIMEVALUE("06:00:00")+1)-MAX(S16,TIMEVALUE("21:00:00")),0) -> 0.375 | X16: =IF(IF(T16<S16,T16+1,T16)>TIMEVALUE("06:00:00")+1,MIN(T16+1,TIMEVALUE("07:00:00")+1)-TIMEVALUE("06:00:00")+1,0) -> 2.0416667 | Y16: 0.70833333 | Z16: 0.33333333 | AA16: =24*(MOD(Z16-Y16,1)) -> 15 | AB16: =IF(Y16>TIMEVALUE("21:00:00"),0,MIN(TIMEVALUE("21:00:00"),IF(Z16<Y16,Z16+1,Z16))-Y16) -> 0.16666667 | AC16: =IF(IF(Z16<Y16,Z16+1,Z16)>TIMEVALUE("21:00:00"),MIN(IF(Z16<Y16,Z16+1,Z16),TIMEVALUE("06:00:00")+1)-MAX(Y16,TIMEVALUE("21:00:00")),0) -> 0.375 | AD16: =IF(IF(Z16<Y16,Z16+1,Z16)>TIMEVALUE("06:00:00")+1,MIN(Z16+1,TIMEVALUE("07:00:00")+1)-TIMEVALUE("06:00:00")+1,0) -> 2.0416667 | AE16: 0.70833333 | AF16: 0.33333333 | AG16: =24*(MOD(AF16-AE16,1)) -> 15 | AH16: =IF(AE16>TIMEVALUE("21:00:00"),0,MIN(TIMEVALUE("21:00:00"),IF(AF16<AE16,AF16+1,AF16))-AE16) -> 0.16666667 | AI16: =IF(IF(AF16<AE16,AF16+1,AF16)>TIMEVALUE("21:00:00"),MIN(IF(AF16<AE16,AF16+1,AF16),TIMEVALUE("06:00:00")+1)-MAX(AE16,TIMEVALUE("21:00:00")),0) -> 0.375 | AJ16: =IF(IF(AF16<AE16,AF16+1,AF16)>TIMEVALUE("06:00:00")+1,MIN(AF16+1,TIMEVALUE("07:00:00")+1)-TIMEVALUE("06:00:00")+1,0) -> 2.0416667 | AK16: 0.70833333 | AL16: 0.33333333 | AM16: =24*(MOD(AL16-AK16,1)) -> 15 | AN16: =IF(AK16>TIMEVALUE("21:00:00"),0,MIN(TIMEVALUE("21:00:00"),IF(AL16<AK16,AL16+1,AL16))-AK16) -> 0.16666667 | AO16: =IF(IF(AL16<AK16,AL16+1,AL16)>TIMEVALUE("21:00:00"),MIN(IF(AL16<AK16,AL16+1,AL16),TIMEVALUE("06:00:00")+1)-MAX(AK16,TIMEVALUE("21:00:00")),0) -> 0.375 | AP16: =IF(IF(AL16<AK16,AL16+1,AL16)>TIMEVALUE("06:00:00")+1,MIN(AL16+1,TIMEVALUE("07:00:00")+1)-TIMEVALUE("06:00:00")+1,0) -> 2.0416667 | AQ16: 0.70833333 | AR16: 0.33333333 | AS16: =24*(MOD(AR16-AQ16,1)) -> 15 | AT16: =IF(AQ16>TIMEVALUE("21:00:00"),0,MIN(TIMEVALUE("21:00:00"),IF(AR16<AQ16,AR16+1,AR16))-AQ16) -> 0.16666667 | AU16: =IF(IF(AR16<AQ16,AR16+1,AR16)>TIMEVALUE("21:00:00"),MIN(IF(AR16<AQ16,AR16+1,AR16),TIMEVALUE("06:00:00")+1)-MAX(AQ16,TIMEVALUE("21:00:00")),0) -> 0.375 | AV16: =IF(IF(AR16<AQ16,AR16+1,AR16)>TIMEVALUE("06:00:00")+1,MIN(AR16+1,TIMEVALUE("07:00:00")+1)-TIMEVALUE("06:00:00")+1,0) -> 2.0416667 | AW16: 0.70833333 | AX16: 0.33333333 | AY16: =24*(MOD(AX16-AW16,1)) -> 15 | AZ16: =IF(AW16>TIMEVALUE("21:00:00"),0,MIN(TIMEVALUE("21:00:00"),IF(AX16<AW16,AX16+1,AX16))-AW16) -> 0.16666667 | BA16: =IF(IF(AX16<AW16,AX16+1,AX16)>TIMEVALUE("21:00:00"),MIN(IF(AX16<AW16,AX16+1,AX16),TIMEVALUE("06:00:00")+1)-MAX(AW16,TIMEVALUE("21:00:00")),0) -> 0.375 | BB16: =IF(IF(AX16<AW16,AX16+1,AX16)>TIMEVALUE("06:00:00")+1,MIN(AX16+1,TIMEVALUE("07:00:00")+1)-TIMEVALUE("06:00:00")+1,0) -> 2.0416667 | BC16: 0.70833333 | BD16: 0.33333333 | BE16: =24*(MOD(BD16-BC16,1)) -> 15 | BF16: =IF(BC16>TIMEVALUE("21:00:00"),0,MIN(TIMEVALUE("21:00:00"),IF(BD16<BC16,BD16+1,BD16))-BC16) -> 0.16666667 | BG16: =IF(IF(BD16<BC16,BD16+1,BD16)>TIMEVALUE("21:00:00"),MIN(IF(BD16<BC16,BD16+1,BD16),TIMEVALUE("06:00:00")+1)-MAX(BC16,TIMEVALUE("21:00:00")),0) -> 0.375 | BH16: =IF(IF(BD16<BC16,BD16+1,BD16)>TIMEVALUE("06:00:00")+1,MIN(BD16+1,TIMEVALUE("07:00:00")+1)-TIMEVALUE("06:00:00")+1,0) -> 2.0416667 | BI16: 0.70833333 | BJ16: 0.33333333 | BK16: =24*(MOD(BJ16-BI16,1)) -> 15 | BL16: =IF(BI16>TIMEVALUE("21:00:00"),0,MIN(TIMEVALUE("21:00:00"),IF(BJ16<BI16,BJ16+1,BJ16))-BI16) -> 0.16666667 | BM16: =IF(IF(BJ16<BI16,BJ16+1,BJ16)>TIMEVALUE("21:00:00"),MIN(IF(BJ16<BI16,BJ16+1,BJ16),TIMEVALUE("06:00:00")+1)-MAX(BI16,TIMEVALUE("21:00:00")),0) -> 0.375 | BN16: =IF(IF(BJ16<BI16,BJ16+1,BJ16)>TIMEVALUE("06:00:00")+1,MIN(BJ16+1,TIMEVALUE("07:00:00")+1)-TIMEVALUE("06:00:00")+1,0) -> 2.0416667 | BO16: 0.70833333 | BP16: 0.33333333 | BQ16: =24*(MOD(BP16-BO16,1)) -> 15 | BR16: =IF(BO16>TIMEVALUE("21:00:00"),0,MIN(TIMEVALUE("21:00:00"),IF(BP16<BO16,BP16+1,BP16))-BO16) -> 0.16666667 | BS16: =IF(IF(BP16<BO16,BP16+1,BP16)>TIMEVALUE("21:00:00"),MIN(IF(BP16<BO16,BP16+1,BP16),TIMEVALUE("06:00:00")+1)-MAX(BO16,TIMEVALUE("21:00:00")),0) -> 0.375 | BT16: =IF(IF(BP16<BO16,BP16+1,BP16)>TIMEVALUE("06:00:00")+1,MIN(BP16+1,TIMEVALUE("07:00:00")+1)-TIMEVALUE("06:00:00")+1,0) -> 2.0416667 | BU16: 0.70833333 | BV16: 0.33333333 | BW16: =24*(MOD(BV16-BU16,1)) -> 15 | BX16: =IF(BU16>TIMEVALUE("21:00:00"),0,MIN(TIMEVALUE("21:00:00"),IF(BV16<BU16,BV16+1,BV16))-BU16) -> 0.16666667 | BY16: =IF(IF(BV16<BU16,BV16+1,BV16)>TIMEVALUE("21:00:00"),MIN(IF(BV16<BU16,BV16+1,BV16),TIMEVALUE("06:00:00")+1)-MAX(BU16,TIMEVALUE("21:00:00")),0) -> 0.375 | BZ16: =IF(IF(BV16<BU16,BV16+1,BV16)>TIMEVALUE("06:00:00")+1,MIN(BV16+1,TIMEVALUE("07:00:00")+1)-TIMEVALUE("06:00:00")+1,0) -> 2.0416667 | CA16: 0.70833333 | CB16: 0.33333333 | CC16: =24*(MOD(CB16-CA16,1)) -> 15 | CD16: =IF(CA16>TIMEVALUE("21:00:00"),0,MIN(TIMEVALUE("21:00:00"),IF(CB16<CA16,CB16+1,CB16))-CA16) -> 0.16666667 | CE16: =IF(IF(CB16<CA16,CB16+1,CB16)>TIMEVALUE("21:00:00"),MIN(IF(CB16<CA16,CB16+1,CB16),TIMEVALUE("06:00:00")+1)-MAX(CA16,TIMEVALUE("21:00:00")),0) -> 0.375 | CF16: =IF(IF(CB16<CA16,CB16+1,CB16)>TIMEVALUE("06:00:00")+1,MIN(CB16+1,TIMEVALUE("07:00:00")+1)-TIMEVALUE("06:00:00")+1,0) -> 2.0416667 | CG16: 0.70833333 | CH16: 0.33333333 | CI16: =24*(MOD(CH16-CG16,1)) -> 15 | CJ16: =IF(CG16>TIMEVALUE("21:00:00"),0,MIN(TIMEVALUE("21:00:00"),IF(CH16<CG16,CH16+1,CH16))-CG16) -> 0.16666667 | CK16: =IF(IF(CH16<CG16,CH16+1,CH16)>TIMEVALUE("21:00:00"),MIN(IF(CH16<CG16,CH16+1,CH16),TIMEVALUE("06:00:00")+1)-MAX(CG16,TIMEVALUE("21:00:00")),0) -> 0.375 | CL16: =IF(IF(CH16<CG16,CH16+1,CH16)>TIMEVALUE("06:00:00")+1,MIN(CH16+1,TIMEVALUE("07:00:00")+1)-TIMEVALUE("06:00:00")+1,0) -> 2.0416667 | CM16: 0.70833333 | CN16: 0.33333333 | CO16: =24*(MOD(CN16-CM16,1)) -> 15 | CP16: =IF(CM16>TIMEVALUE("21:00:00"),0,MIN(TIMEVALUE("21:00:00"),IF(CN16<CM16,CN16+1,CN16))-CM16) -> 0.16666667 | CQ16: =IF(IF(CN16<CM16,CN16+1,CN16)>TIMEVALUE("21:00:00"),MIN(IF(CN16<CM16,CN16+1,CN16),TIMEVALUE("06:00:00")+1)-MAX(CM16,TIMEVALUE("21:00:00")),0) -> 0.375 | CR16: =IF(IF(CN16<CM16,CN16+1,CN16)>TIMEVALUE("06:00:00")+1,MIN(CN16+1,TIMEVALUE("07:00:00")+1)-TIMEVALUE("06:00:00")+1,0) -> 2.0416667 | CS16: 0.70833333 | CT16: 0.33333333 | CU16: =24*(MOD(CT16-CS16,1)) -> 15 | CV16: =IF(CS16>TIMEVALUE("21:00:00"),0,MIN(TIMEVALUE("21:00:00"),IF(CT16<CS16,CT16+1,CT16))-CS16) -> 0.16666667 | CW16: =IF(IF(CT16<CS16,CT16+1,CT16)>TIMEVALUE("21:00:00"),MIN(IF(CT16<CS16,CT16+1,CT16),TIMEVALUE("06:00:00")+1)-MAX(CS16,TIMEVALUE("21:00:00")),0) -> 0.375 | CX16: =IF(IF(CT16<CS16,CT16+1,CT16)>TIMEVALUE("06:00:00")+1,MIN(CT16+1,TIMEVALUE("07:00:00")+1)-TIMEVALUE("06:00:00")+1,0) -> 2.0416667 | CY16: 0.70833333 | CZ16: 0.33333333 | DA16: =24*(MOD(CZ16-CY16,1)) -> 15 | DB16: =IF(CY16>TIMEVALUE("21:00:00"),0,MIN(TIMEVALUE("21:00:00"),IF(CZ16<CY16,CZ16+1,CZ16))-CY16) -> 0.16666667 | DC16: =IF(IF(CZ16<CY16,CZ16+1,CZ16)>TIMEVALUE("21:00:00"),MIN(IF(CZ16<CY16,CZ16+1,CZ16),TIMEVALUE("06:00:00")+1)-MAX(CY16,TIMEVALUE("21:00:00")),0) -> 0.375 | DD16: =IF(IF(CZ16<CY16,CZ16+1,CZ16)>TIMEVALUE("06:00:00")+1,MIN(CZ16+1,TIMEVALUE("07:00:00")+1)-TIMEVALUE("06:00:00")+1,0) -> 2.0416667 | DE16: 0.70833333 | DF16: 0.33333333 | DG16: =24*(MOD(DF16-DE16,1)) -> 15 | DH16: =IF(DE16>TIMEVALUE("21:00:00"),0,MIN(TIMEVALUE("21:00:00"),IF(DF16<DE16,DF16+1,DF16))-DE16) -> 0.16666667 | DI16: =IF(IF(DF16<DE16,DF16+1,DF16)>TIMEVALUE("21:00:00"),MIN(IF(DF16<DE16,DF16+1,DF16),TIMEVALUE("06:00:00")+1)-MAX(DE16,TIMEVALUE("21:00:00")),0) -> 0.375 | DJ16: =IF(IF(DF16<DE16,DF16+1,DF16)>TIMEVALUE("06:00:00")+1,MIN(DF16+1,TIMEVALUE("07:00:00")+1)-TIMEVALUE("06:00:00")+1,0) -> 2.0416667 | DK16: 0.70833333 | DL16: 0.33333333 | DM16: =24*(MOD(DL16-DK16,1)) -> 15 | DN16: =IF(DK16>TIMEVALUE("21:00:00"),0,MIN(TIMEVALUE("21:00:00"),IF(DL16<DK16,DL16+1,DL16))-DK16) -> 0.16666667 | DO16: =IF(IF(DL16<DK16,DL16+1,DL16)>TIMEVALUE("21:00:00"),MIN(IF(DL16<DK16,DL16+1,DL16),TIMEVALUE("06:00:00")+1)-MAX(DK16,TIMEVALUE("21:00:00")),0) -> 0.375 | DP16: =IF(IF(DL16<DK16,DL16+1,DL16)>TIMEVALUE("06:00:00")+1,MIN(DL16+1,TIMEVALUE("07:00:00")+1)-TIMEVALUE("06:00:00")+1,0) -> 2.0416667 | DQ16: 0.70833333 | DR16: 0.33333333 | DS16: =24*(MOD(DR16-DQ16,1)) -> 15 | DT16: =IF(DQ16>TIMEVALUE("21:00:00"),0,MIN(TIMEVALUE("21:00:00"),IF(DR16<DQ16,DR16+1,DR16))-DQ16) -> 0.16666667 | DU16: =IF(IF(DR16<DQ16,DR16+1,DR16)>TIMEVALUE("21:00:00"),MIN(IF(DR16<DQ16,DR16+1,DR16),TIMEVALUE("06:00:00")+1)-MAX(DQ16,TIMEVALUE("21:00:00")),0) -> 0.375 | DV16: =IF(IF(DR16<DQ16,DR16+1,DR16)>TIMEVALUE("06:00:00")+1,MIN(DR16+1,TIMEVALUE("07:00:00")+1)-TIMEVALUE("06:00:00")+1,0) -> 2.0416667 | DW16: 0.70833333 | DX16: 0.33333333 | DY16: =24*(MOD(DX16-DW16,1)) -> 15 | DZ16: =IF(DW16>TIMEVALUE("21:00:00"),0,MIN(TIMEVALUE("21:00:00"),IF(DX16<DW16,DX16+1,DX16))-DW16) -> 0.16666667 | EA16: =IF(IF(DX16<DW16,DX16+1,DX16)>TIMEVALUE("21:00:00"),MIN(IF(DX16<DW16,DX16+1,DX16),TIMEVALUE("06:00:00")+1)-MAX(DW16,TIMEVALUE("21:00:00")),0) -> 0.375 | EB16: =IF(IF(DX16<DW16,DX16+1,DX16)>TIMEVALUE("06:00:00")+1,MIN(DX16+1,TIMEVALUE("07:00:00")+1)-TIMEVALUE("06:00:00")+1,0) -> 2.0416667 | EC16: 0.70833333 | ED16: 0.33333333 | EE16: =24*(MOD(ED16-EC16,1)) -> 15 | EF16: =IF(EC16>TIMEVALUE("21:00:00"),0,MIN(TIMEVALUE("21:00:00"),IF(ED16<EC16,ED16+1,ED16))-EC16) -> 0.16666667 | EG16: =IF(IF(ED16<EC16,ED16+1,ED16)>TIMEVALUE("21:00:00"),MIN(IF(ED16<EC16,ED16+1,ED16),TIMEVALUE("06:00:00")+1)-MAX(EC16,TIMEVALUE("21:00:00")),0) -> 0.375 | EH16: =IF(IF(ED16<EC16,ED16+1,ED16)>TIMEVALUE("06:00:00")+1,MIN(ED16+1,TIMEVALUE("07:00:00")+1)-TIMEVALUE("06:00:00")+1,0) -> 2.0416667 | EI16: 0.70833333 | EJ16: 0.33333333 | EK16: =24*(MOD(EJ16-EI16,1)) -> 15 | EL16: =IF(EI16>TIMEVALUE("21:00:00"),0,MIN(TIMEVALUE("21:00:00"),IF(EJ16<EI16,EJ16+1,EJ16))-EI16) -> 0.16666667 | EM16: =IF(IF(EJ16<EI16,EJ16+1,EJ16)>TIMEVALUE("21:00:00"),MIN(IF(EJ16<EI16,EJ16+1,EJ16),TIMEVALUE("06:00:00")+1)-MAX(EI16,TIMEVALUE("21:00:00")),0) -> 0.375 | EN16: =IF(IF(EJ16<EI16,EJ16+1,EJ16)>TIMEVALUE("06:00:00")+1,MIN(EJ16+1,TIMEVALUE("07:00:00")+1)-TIMEVALUE("06:00:00")+1,0) -> 2.0416667 | EO16: 0.70833333 | EP16: 0.33333333 | EQ16: =24*(MOD(EP16-EO16,1)) -> 15 | ER16: =IF(EO16>TIMEVALUE("21:00:00"),0,MIN(TIMEVALUE("21:00:00"),IF(EP16<EO16,EP16+1,EP16))-EO16) -> 0.16666667 | ES16: =IF(IF(EP16<EO16,EP16+1,EP16)>TIMEVALUE("21:00:00"),MIN(IF(EP16<EO16,EP16+1,EP16),TIMEVALUE("06:00:00")+1)-MAX(EO16,TIMEVALUE("21:00:00")),0) -> 0.375 | ET16: =IF(IF(EP16<EO16,EP16+1,EP16)>TIMEVALUE("06:00:00")+1,MIN(EP16+1,TIMEVALUE("07:00:00")+1)-TIMEVALUE("06:00:00")+1,0) -> 2.0416667 | EU16: 0.70833333 | EV16: 0.33333333 | EW16: =24*(MOD(EV16-EU16,1)) -> 15 | EX16: =IF(EU16>TIMEVALUE("21:00:00"),0,MIN(TIMEVALUE("21:00:00"),IF(EV16<EU16,EV16+1,EV16))-EU16) -> 0.16666667 | EY16: =IF(IF(EV16<EU16,EV16+1,EV16)>TIMEVALUE("21:00:00"),MIN(IF(EV16<EU16,EV16+1,EV16),TIMEVALUE("06:00:00")+1)-MAX(EU16,TIMEVALUE("21:00:00")),0) -> 0.375 | EZ16: =IF(IF(EV16<EU16,EV16+1,EV16)>TIMEVALUE("06:00:00")+1,MIN(EV16+1,TIMEVALUE("07:00:00")+1)-TIMEVALUE("06:00:00")+1,0) -> 2.0416667 | FA16: 0.70833333 | FB16: 0.33333333 | FC16: =24*(MOD(FB16-FA16,1)) -> 15 | FD16: =IF(FA16>TIMEVALUE("21:00:00"),0,MIN(TIMEVALUE("21:00:00"),IF(FB16<FA16,FB16+1,FB16))-FA16) -> 0.16666667 | FE16: =IF(IF(FB16<FA16,FB16+1,FB16)>TIMEVALUE("21:00:00"),MIN(IF(FB16<FA16,FB16+1,FB16),TIMEVALUE("06:00:00")+1)-MAX(FA16,TIMEVALUE("21:00:00")),0) -> 0.375 | FF16: =IF(IF(FB16<FA16,FB16+1,FB16)>TIMEVALUE("06:00:00")+1,MIN(FB16+1,TIMEVALUE("07:00:00")+1)-TIMEVALUE("06:00:00")+1,0) -> 2.0416667 | FG16: 0.70833333 | FH16: 0.33333333 | FI16: =24*(MOD(FH16-FG16,1)) -> 15 | FJ16: =IF(FG16>TIMEVALUE("21:00:00"),0,MIN(TIMEVALUE("21:00:00"),IF(FH16<FG16,FH16+1,FH16))-FG16) -> 0.16666667 | FK16: =IF(IF(FH16<FG16,FH16+1,FH16)>TIMEVALUE("21:00:00"),MIN(IF(FH16<FG16,FH16+1,FH16),TIMEVALUE("06:00:00")+1)-MAX(FG16,TIMEVALUE("21:00:00")),0) -> 0.375 | FL16: =IF(IF(FH16<FG16,FH16+1,FH16)>TIMEVALUE("06:00:00")+1,MIN(FH16+1,TIMEVALUE("07:00:00")+1)-TIMEVALUE("06:00:00")+1,0) -> 2.0416667 | FM16: 0.70833333 | FN16: 0.33333333 | FO16: =24*(MOD(FN16-FM16,1)) -> 15 | FP16: =IF(FM16>TIMEVALUE("21:00:00"),0,MIN(TIMEVALUE("21:00:00"),IF(FN16<FM16,FN16+1,FN16))-FM16) -> 0.16666667 | FQ16: =IF(IF(FN16<FM16,FN16+1,FN16)>TIMEVALUE("21:00:00"),MIN(IF(FN16<FM16,FN16+1,FN16),TIMEVALUE("06:00:00")+1)-MAX(FM16,TIMEVALUE("21:00:00")),0) -> 0.375 | FR16: =IF(IF(FN16<FM16,FN16+1,FN16)>TIMEVALUE("06:00:00")+1,MIN(FN16+1,TIMEVALUE("07:00:00")+1)-TIMEVALUE("06:00:00")+1,0) -> 2.0416667 | FS16: 0.70833333 | FT16: 0.33333333 | FU16: =24*(MOD(FT16-FS16,1)) -> 15 | FV16: =IF(FS16>TIMEVALUE("21:00:00"),0,MIN(TIMEVALUE("21:00:00"),IF(FT16<FS16,FT16+1,FT16))-FS16) -> 0.16666667 | FW16: =IF(IF(FT16<FS16,FT16+1,FT16)>TIMEVALUE("21:00:00"),MIN(IF(FT16<FS16,FT16+1,FT16),TIMEVALUE("06:00:00")+1)-MAX(FS16,TIMEVALUE("21:00:00")),0) -> 0.375 | FX16: =IF(IF(FT16<FS16,FT16+1,FT16)>TIMEVALUE("06:00:00")+1,MIN(FT16+1,TIMEVALUE("07:00:00")+1)-TIMEVALUE("06:00:00")+1,0) -> 2.0416667 | FY16: 0.70833333 | FZ16: 0.33333333 | GA16: =24*(MOD(FZ16-FY16,1)) -> 15 | GB16: =IF(FY16>TIMEVALUE("21:00:00"),0,MIN(TIMEVALUE("21:00:00"),IF(FZ16<FY16,FZ16+1,FZ16))-FY16) -> 0.16666667 | GC16: =IF(IF(FZ16<FY16,FZ16+1,FZ16)>TIMEVALUE("21:00:00"),MIN(IF(FZ16<FY16,FZ16+1,FZ16),TIMEVALUE("06:00:00")+1)-MAX(FY16,TIMEVALUE("21:00:00")),0) -> 0.375 | GD16: =IF(IF(FZ16<FY16,FZ16+1,FZ16)>TIMEVALUE("06:00:00")+1,MIN(FZ16+1,TIMEVALUE("07:00:00")+1)-TIMEVALUE("06:00:00")+1,0) -> 2.0416667 | GE16: 0.70833333 | GF16: 0.33333333 | GG16: =24*(MOD(GF16-GE16,1)) -> 15 | GH16: =IF(GE16>TIMEVALUE("21:00:00"),0,MIN(TIMEVALUE("21:00:00"),IF(GF16<GE16,GF16+1,GF16))-GE16) -> 0.16666667 | GI16: =IF(IF(GF16<GE16,GF16+1,GF16)>TIMEVALUE("21:00:00"),MIN(IF(GF16<GE16,GF16+1,GF16),TIMEVALUE("06:00:00")+1)-MAX(GE16,TIMEVALUE("21:00:00")),0) -> 0.375 | GJ16: =IF(IF(GF16<GE16,GF16+1,GF16)>TIMEVALUE("06:00:00")+1,MIN(GF16+1,TIMEVALUE("07:00:00")+1)-TIMEVALUE("06:00:00")+1,0) -> 2.0416667
D17: 0 | E17: 0 | F17: =24*(MOD(E17-D17,1)) -> 0 | G17: =IF(D17>TIMEVALUE("21:00:00"),0,MIN(TIMEVALUE("21:00:00"),IF(E17<D17,E17+1,E17))-D17) -> 0 | H17: =IF(IF(E17<D17,E17+1,E17)>TIMEVALUE("21:00:00"),MIN(IF(E17<D17,E17+1,E17),TIMEVALUE("06:00:00")+1)-MAX(D17,TIMEVALUE("21:00:00")),0) -> 0 | I17: =IF(IF(E17<D17,E17+1,E17)>TIMEVALUE("06:00:00")+1,MIN(E17+1,TIMEVALUE("07:00:00")+1)-TIMEVALUE("06:00:00")+1,0) -> 0 | J17: =_xlfn.IFS($J$6=1,G17*Sheet1!$B$5*24,$D$2="Lundi",TRUE,$D$2="Mardi",TRUE,$D$2="Mercredi",TRUE,$D$2="Jeudi",$D$2="Vendredi") -> 0 | K17: =_xlfn.IFS($K$6=1,H17*Sheet1!$G$5*24,$D$2="Lundi",TRUE,$D$2="Mardi",TRUE,$D$2="Mercredi",TRUE,$D$2="Jeudi",$D$2="Vendredi") -> 0 | L17: =_xlfn.IFS($L$6=1,I17*Sheet1!$B$5,$D$2="Lundi",TRUE,$D$2="Mardi",TRUE,$D$2="Mercredi",TRUE,$D$2="Jeudi",$D$2="Vendredi") -> 0 | M17: 0.70833333 | N17: 0.33333333 | O17: =24*(MOD(N17-M17,1)) -> 15 | P17: =IF(M17>TIMEVALUE("21:00:00"),0,MIN(TIMEVALUE("21:00:00"),IF(N17<M17,N17+1,N17))-M17) -> 0.16666667 | Q17: =IF(IF(N17<M17,N17+1,N17)>TIMEVALUE("21:00:00"),MIN(IF(N17<M17,N17+1,N17),TIMEVALUE("06:00:00")+1)-MAX(M17,TIMEVALUE("21:00:00")),0) -> 0.375 | R17: =IF(IF(N17<M17,N17+1,N17)>TIMEVALUE("06:00:00")+1,MIN(N17+1,TIMEVALUE("07:00:00")+1)-TIMEVALUE("06:00:00")+1,0) -> 2.0416667 | S17: 0.70833333 | T17: 0.33333333 | U17: =24*(MOD(T17-S17,1)) -> 15 | V17: =IF(S17>TIMEVALUE("21:00:00"),0,MIN(TIMEVALUE("21:00:00"),IF(T17<S17,T17+1,T17))-S17) -> 0.16666667 | W17: =IF(IF(T17<S17,T17+1,T17)>TIMEVALUE("21:00:00"),MIN(IF(T17<S17,T17+1,T17),TIMEVALUE("06:00:00")+1)-MAX(S17,TIMEVALUE("21:00:00")),0) -> 0.375 | X17: =IF(IF(T17<S17,T17+1,T17)>TIMEVALUE("06:00:00")+1,MIN(T17+1,TIMEVALUE("07:00:00")+1)-TIMEVALUE("06:00:00")+1,0) -> 2.0416667 | Y17: 0.70833333 | Z17: 0.33333333 | AA17: =24*(MOD(Z17-Y17,1)) -> 15 | AB17: =IF(Y17>TIMEVALUE("21:00:00"),0,MIN(TIMEVALUE("21:00:00"),IF(Z17<Y17,Z17+1,Z17))-Y17) -> 0.16666667 | AC17: =IF(IF(Z17<Y17,Z17+1,Z17)>TIMEVALUE("21:00:00"),MIN(IF(Z17<Y17,Z17+1,Z17),TIMEVALUE("06:00:00")+1)-MAX(Y17,TIMEVALUE("21:00:00")),0) -> 0.375 | AD17: =IF(IF(Z17<Y17,Z17+1,Z17)>TIMEVALUE("06:00:00")+1,MIN(Z17+1,TIMEVALUE("07:00:00")+1)-TIMEVALUE("06:00:00")+1,0) -> 2.0416667 | AE17: 0.70833333 | AF17: 0.33333333 | AG17: =24*(MOD(AF17-AE17,1)) -> 15 | AH17: =IF(AE17>TIMEVALUE("21:00:00"),0,MIN(TIMEVALUE("21:00:00"),IF(AF17<AE17,AF17+1,AF17))-AE17) -> 0.16666667 | AI17: =IF(IF(AF17<AE17,AF17+1,AF17)>TIMEVALUE("21:00:00"),MIN(IF(AF17<AE17,AF17+1,AF17),TIMEVALUE("06:00:00")+1)-MAX(AE17,TIMEVALUE("21:00:00")),0) -> 0.375 | AJ17: =IF(IF(AF17<AE17,AF17+1,AF17)>TIMEVALUE("06:00:00")+1,MIN(AF17+1,TIMEVALUE("07:00:00")+1)-TIMEVALUE("06:00:00")+1,0) -> 2.0416667 | AK17: 0.70833333 | AL17: 0.33333333 | AM17: =24*(MOD(AL17-AK17,1)) -> 15 | AN17: =IF(AK17>TIMEVALUE("21:00:00"),0,MIN(TIMEVALUE("21:00:00"),IF(AL17<AK17,AL17+1,AL17))-AK17) -> 0.16666667 | AO17: =IF(IF(AL17<AK17,AL17+1,AL17)>TIMEVALUE("21:00:00"),MIN(IF(AL17<AK17,AL17+1,AL17),TIMEVALUE("06:00:00")+1)-MAX(AK17,TIMEVALUE("21:00:00")),0) -> 0.375 | AP17: =IF(IF(AL17<AK17,AL17+1,AL17)>TIMEVALUE("06:00:00")+1,MIN(AL17+1,TIMEVALUE("07:00:00")+1)-TIMEVALUE("06:00:00")+1,0) -> 2.0416667 | AQ17: 0.70833333 | AR17: 0.33333333 | AS17: =24*(MOD(AR17-AQ17,1)) -> 15 | AT17: =IF(AQ17>TIMEVALUE("21:00:00"),0,MIN(TIMEVALUE("21:00:00"),IF(AR17<AQ17,AR17+1,AR17))-AQ17) -> 0.16666667 | AU17: =IF(IF(AR17<AQ17,AR17+1,AR17)>TIMEVALUE("21:00:00"),MIN(IF(AR17<AQ17,AR17+1,AR17),TIMEVALUE("06:00:00")+1)-MAX(AQ17,TIMEVALUE("21:00:00")),0) -> 0.375 | AV17: =IF(IF(AR17<AQ17,AR17+1,AR17)>TIMEVALUE("06:00:00")+1,MIN(AR17+1,TIMEVALUE("07:00:00")+1)-TIMEVALUE("06:00:00")+1,0) -> 2.0416667 | AW17: 0.70833333 | AX17: 0.33333333 | AY17: =24*(MOD(AX17-AW17,1)) -> 15 | AZ17: =IF(AW17>TIMEVALUE("21:00:00"),0,MIN(TIMEVALUE("21:00:00"),IF(AX17<AW17,AX17+1,AX17))-AW17) -> 0.16666667 | BA17: =IF(IF(AX17<AW17,AX17+1,AX17)>TIMEVALUE("21:00:00"),MIN(IF(AX17<AW17,AX17+1,AX17),TIMEVALUE("06:00:00")+1)-MAX(AW17,TIMEVALUE("21:00:00")),0) -> 0.375 | BB17: =IF(IF(AX17<AW17,AX17+1,AX17)>TIMEVALUE("06:00:00")+1,MIN(AX17+1,TIMEVALUE("07:00:00")+1)-TIMEVALUE("06:00:00")+1,0) -> 2.0416667 | BC17: 0.70833333 | BD17: 0.33333333 | BE17: =24*(MOD(BD17-BC17,1)) -> 15 | BF17: =IF(BC17>TIMEVALUE("21:00:00"),0,MIN(TIMEVALUE("21:00:00"),IF(BD17<BC17,BD17+1,BD17))-BC17) -> 0.16666667 | BG17: =IF(IF(BD17<BC17,BD17+1,BD17)>TIMEVALUE("21:00:00"),MIN(IF(BD17<BC17,BD17+1,BD17),TIMEVALUE("06:00:00")+1)-MAX(BC17,TIMEVALUE("21:00:00")),0) -> 0.375 | BH17: =IF(IF(BD17<BC17,BD17+1,BD17)>TIMEVALUE("06:00:00")+1,MIN(BD17+1,TIMEVALUE("07:00:00")+1)-TIMEVALUE("06:00:00")+1,0) -> 2.0416667 | BI17: 0.70833333 | BJ17: 0.33333333 | BK17: =24*(MOD(BJ17-BI17,1)) -> 15 | BL17: =IF(BI17>TIMEVALUE("21:00:00"),0,MIN(TIMEVALUE("21:00:00"),IF(BJ17<BI17,BJ17+1,BJ17))-BI17) -> 0.16666667 | BM17: =IF(IF(BJ17<BI17,BJ17+1,BJ17)>TIMEVALUE("21:00:00"),MIN(IF(BJ17<BI17,BJ17+1,BJ17),TIMEVALUE("06:00:00")+1)-MAX(BI17,TIMEVALUE("21:00:00")),0) -> 0.375 | BN17: =IF(IF(BJ17<BI17,BJ17+1,BJ17)>TIMEVALUE("06:00:00")+1,MIN(BJ17+1,TIMEVALUE("07:00:00")+1)-TIMEVALUE("06:00:00")+1,0) -> 2.0416667 | BO17: 0.70833333 | BP17: 0.33333333 | BQ17: =24*(MOD(BP17-BO17,1)) -> 15 | BR17: =IF(BO17>TIMEVALUE("21:00:00"),0,MIN(TIMEVALUE("21:00:00"),IF(BP17<BO17,BP17+1,BP17))-BO17) -> 0.16666667 | BS17: =IF(IF(BP17<BO17,BP17+1,BP17)>TIMEVALUE("21:00:00"),MIN(IF(BP17<BO17,BP17+1,BP17),TIMEVALUE("06:00:00")+1)-MAX(BO17,TIMEVALUE("21:00:00")),0) -> 0.375 | BT17: =IF(IF(BP17<BO17,BP17+1,BP17)>TIMEVALUE("06:00:00")+1,MIN(BP17+1,TIMEVALUE("07:00:00")+1)-TIMEVALUE("06:00:00")+1,0) -> 2.0416667 | BU17: 0.70833333 | BV17: 0.33333333 | BW17: =24*(MOD(BV17-BU17,1)) -> 15 | BX17: =IF(BU17>TIMEVALUE("21:00:00"),0,MIN(TIMEVALUE("21:00:00"),IF(BV17<BU17,BV17+1,BV17))-BU17) -> 0.16666667 | BY17: =IF(IF(BV17<BU17,BV17+1,BV17)>TIMEVALUE("21:00:00"),MIN(IF(BV17<BU17,BV17+1,BV17),TIMEVALUE("06:00:00")+1)-MAX(BU17,TIMEVALUE("21:00:00")),0) -> 0.375 | BZ17: =IF(IF(BV17<BU17,BV17+1,BV17)>TIMEVALUE("06:00:00")+1,MIN(BV17+1,TIMEVALUE("07:00:00")+1)-TIMEVALUE("06:00:00")+1,0) -> 2.0416667 | CA17: 0.70833333 | CB17: 0.33333333 | CC17: =24*(MOD(CB17-CA17,1)) -> 15 | CD17: =IF(CA17>TIMEVALUE("21:00:00"),0,MIN(TIMEVALUE("21:00:00"),IF(CB17<CA17,CB17+1,CB17))-CA17) -> 0.16666667 | CE17: =IF(IF(CB17<CA17,CB17+1,CB17)>TIMEVALUE("21:00:00"),MIN(IF(CB17<CA17,CB17+1,CB17),TIMEVALUE("06:00:00")+1)-MAX(CA17,TIMEVALUE("21:00:00")),0) -> 0.375 | CF17: =IF(IF(CB17<CA17,CB17+1,CB17)>TIMEVALUE("06:00:00")+1,MIN(CB17+1,TIMEVALUE("07:00:00")+1)-TIMEVALUE("06:00:00")+1,0) -> 2.0416667 | CG17: 0.70833333 | CH17: 0.33333333 | CI17: =24*(MOD(CH17-CG17,1)) -> 15 | CJ17: =IF(CG17>TIMEVALUE("21:00:00"),0,MIN(TIMEVALUE("21:00:00"),IF(CH17<CG17,CH17+1,CH17))-CG17) -> 0.16666667 | CK17: =IF(IF(CH17<CG17,CH17+1,CH17)>TIMEVALUE("21:00:00"),MIN(IF(CH17<CG17,CH17+1,CH17),TIMEVALUE("06:00:00")+1)-MAX(CG17,TIMEVALUE("21:00:00")),0) -> 0.375 | CL17: =IF(IF(CH17<CG17,CH17+1,CH17)>TIMEVALUE("06:00:00")+1,MIN(CH17+1,TIMEVALUE("07:00:00")+1)-TIMEVALUE("06:00:00")+1,0) -> 2.0416667 | CM17: 0.70833333 | CN17: 0.33333333 | CO17: =24*(MOD(CN17-CM17,1)) -> 15 | CP17: =IF(CM17>TIMEVALUE("21:00:00"),0,MIN(TIMEVALUE("21:00:00"),IF(CN17<CM17,CN17+1,CN17))-CM17) -> 0.16666667 | CQ17: =IF(IF(CN17<CM17,CN17+1,CN17)>TIMEVALUE("21:00:00"),MIN(IF(CN17<CM17,CN17+1,CN17),TIMEVALUE("06:00:00")+1)-MAX(CM17,TIMEVALUE("21:00:00")),0) -> 0.375 | CR17: =IF(IF(CN17<CM17,CN17+1,CN17)>TIMEVALUE("06:00:00")+1,MIN(CN17+1,TIMEVALUE("07:00:00")+1)-TIMEVALUE("06:00:00")+1,0) -> 2.0416667 | CS17: 0.70833333 | CT17: 0.33333333 | CU17: =24*(MOD(CT17-CS17,1)) -> 15 | CV17: =IF(CS17>TIMEVALUE("21:00:00"),0,MIN(TIMEVALUE("21:00:00"),IF(CT17<CS17,CT17+1,CT17))-CS17) -> 0.16666667 | CW17: =IF(IF(CT17<CS17,CT17+1,CT17)>TIMEVALUE("21:00:00"),MIN(IF(CT17<CS17,CT17+1,CT17),TIMEVALUE("06:00:00")+1)-MAX(CS17,TIMEVALUE("21:00:00")),0) -> 0.375 | CX17: =IF(IF(CT17<CS17,CT17+1,CT17)>TIMEVALUE("06:00:00")+1,MIN(CT17+1,TIMEVALUE("07:00:00")+1)-TIMEVALUE("06:00:00")+1,0) -> 2.0416667 | CY17: 0.70833333 | CZ17: 0.33333333 | DA17: =24*(MOD(CZ17-CY17,1)) -> 15 | DB17: =IF(CY17>TIMEVALUE("21:00:00"),0,MIN(TIMEVALUE("21:00:00"),IF(CZ17<CY17,CZ17+1,CZ17))-CY17) -> 0.16666667 | DC17: =IF(IF(CZ17<CY17,CZ17+1,CZ17)>TIMEVALUE("21:00:00"),MIN(IF(CZ17<CY17,CZ17+1,CZ17),TIMEVALUE("06:00:00")+1)-MAX(CY17,TIMEVALUE("21:00:00")),0) -> 0.375 | DD17: =IF(IF(CZ17<CY17,CZ17+1,CZ17)>TIMEVALUE("06:00:00")+1,MIN(CZ17+1,TIMEVALUE("07:00:00")+1)-TIMEVALUE("06:00:00")+1,0) -> 2.0416667 | DE17: 0.70833333 | DF17: 0.33333333 | DG17: =24*(MOD(DF17-DE17,1)) -> 15 | DH17: =IF(DE17>TIMEVALUE("21:00:00"),0,MIN(TIMEVALUE("21:00:00"),IF(DF17<DE17,DF17+1,DF17))-DE17) -> 0.16666667 | DI17: =IF(IF(DF17<DE17,DF17+1,DF17)>TIMEVALUE("21:00:00"),MIN(IF(DF17<DE17,DF17+1,DF17),TIMEVALUE("06:00:00")+1)-MAX(DE17,TIMEVALUE("21:00:00")),0) -> 0.375 | DJ17: =IF(IF(DF17<DE17,DF17+1,DF17)>TIMEVALUE("06:00:00")+1,MIN(DF17+1,TIMEVALUE("07:00:00")+1)-TIMEVALUE("06:00:00")+1,0) -> 2.0416667 | DK17: 0.70833333 | DL17: 0.33333333 | DM17: =24*(MOD(DL17-DK17,1)) -> 15 | DN17: =IF(DK17>TIMEVALUE("21:00:00"),0,MIN(TIMEVALUE("21:00:00"),IF(DL17<DK17,DL17+1,DL17))-DK17) -> 0.16666667 | DO17: =IF(IF(DL17<DK17,DL17+1,DL17)>TIMEVALUE("21:00:00"),MIN(IF(DL17<DK17,DL17+1,DL17),TIMEVALUE("06:00:00")+1)-MAX(DK17,TIMEVALUE("21:00:00")),0) -> 0.375 | DP17: =IF(IF(DL17<DK17,DL17+1,DL17)>TIMEVALUE("06:00:00")+1,MIN(DL17+1,TIMEVALUE("07:00:00")+1)-TIMEVALUE("06:00:00")+1,0) -> 2.0416667 | DQ17: 0.70833333 | DR17: 0.33333333 | DS17: =24*(MOD(DR17-DQ17,1)) -> 15 | DT17: =IF(DQ17>TIMEVALUE("21:00:00"),0,MIN(TIMEVALUE("21:00:00"),IF(DR17<DQ17,DR17+1,DR17))-DQ17) -> 0.16666667 | DU17: =IF(IF(DR17<DQ17,DR17+1,DR17)>TIMEVALUE("21:00:00"),MIN(IF(DR17<DQ17,DR17+1,DR17),TIMEVALUE("06:00:00")+1)-MAX(DQ17,TIMEVALUE("21:00:00")),0) -> 0.375 | DV17: =IF(IF(DR17<DQ17,DR17+1,DR17)>TIMEVALUE("06:00:00")+1,MIN(DR17+1,TIMEVALUE("07:00:00")+1)-TIMEVALUE("06:00:00")+1,0) -> 2.0416667 | DW17: 0.70833333 | DX17: 0.33333333 | DY17: =24*(MOD(DX17-DW17,1)) -> 15 | DZ17: =IF(DW17>TIMEVALUE("21:00:00"),0,MIN(TIMEVALUE("21:00:00"),IF(DX17<DW17,DX17+1,DX17))-DW17) -> 0.16666667 | EA17: =IF(IF(DX17<DW17,DX17+1,DX17)>TIMEVALUE("21:00:00"),MIN(IF(DX17<DW17,DX17+1,DX17),TIMEVALUE("06:00:00")+1)-MAX(DW17,TIMEVALUE("21:00:00")),0) -> 0.375 | EB17: =IF(IF(DX17<DW17,DX17+1,DX17)>TIMEVALUE("06:00:00")+1,MIN(DX17+1,TIMEVALUE("07:00:00")+1)-TIMEVALUE("06:00:00")+1,0) -> 2.0416667 | EC17: 0.70833333 | ED17: 0.33333333 | EE17: =24*(MOD(ED17-EC17,1)) -> 15 | EF17: =IF(EC17>TIMEVALUE("21:00:00"),0,MIN(TIMEVALUE("21:00:00"),IF(ED17<EC17,ED17+1,ED17))-EC17) -> 0.16666667 | EG17: =IF(IF(ED17<EC17,ED17+1,ED17)>TIMEVALUE("21:00:00"),MIN(IF(ED17<EC17,ED17+1,ED17),TIMEVALUE("06:00:00")+1)-MAX(EC17,TIMEVALUE("21:00:00")),0) -> 0.375 | EH17: =IF(IF(ED17<EC17,ED17+1,ED17)>TIMEVALUE("06:00:00")+1,MIN(ED17+1,TIMEVALUE("07:00:00")+1)-TIMEVALUE("06:00:00")+1,0) -> 2.0416667 | EI17: 0.70833333 | EJ17: 0.33333333 | EK17: =24*(MOD(EJ17-EI17,1)) -> 15 | EL17: =IF(EI17>TIMEVALUE("21:00:00"),0,MIN(TIMEVALUE("21:00:00"),IF(EJ17<EI17,EJ17+1,EJ17))-EI17) -> 0.16666667 | EM17: =IF(IF(EJ17<EI17,EJ17+1,EJ17)>TIMEVALUE("21:00:00"),MIN(IF(EJ17<EI17,EJ17+1,EJ17),TIMEVALUE("06:00:00")+1)-MAX(EI17,TIMEVALUE("21:00:00")),0) -> 0.375 | EN17: =IF(IF(EJ17<EI17,EJ17+1,EJ17)>TIMEVALUE("06:00:00")+1,MIN(EJ17+1,TIMEVALUE("07:00:00")+1)-TIMEVALUE("06:00:00")+1,0) -> 2.0416667 | EO17: 0.70833333 | EP17: 0.33333333 | EQ17: =24*(MOD(EP17-EO17,1)) -> 15 | ER17: =IF(EO17>TIMEVALUE("21:00:00"),0,MIN(TIMEVALUE("21:00:00"),IF(EP17<EO17,EP17+1,EP17))-EO17) -> 0.16666667 | ES17: =IF(IF(EP17<EO17,EP17+1,EP17)>TIMEVALUE("21:00:00"),MIN(IF(EP17<EO17,EP17+1,EP17),TIMEVALUE("06:00:00")+1)-MAX(EO17,TIMEVALUE("21:00:00")),0) -> 0.375 | ET17: =IF(IF(EP17<EO17,EP17+1,EP17)>TIMEVALUE("06:00:00")+1,MIN(EP17+1,TIMEVALUE("07:00:00")+1)-TIMEVALUE("06:00:00")+1,0) -> 2.0416667 | EU17: 0.70833333 | EV17: 0.33333333 | EW17: =24*(MOD(EV17-EU17,1)) -> 15 | EX17: =IF(EU17>TIMEVALUE("21:00:00"),0,MIN(TIMEVALUE("21:00:00"),IF(EV17<EU17,EV17+1,EV17))-EU17) -> 0.16666667 | EY17: =IF(IF(EV17<EU17,EV17+1,EV17)>TIMEVALUE("21:00:00"),MIN(IF(EV17<EU17,EV17+1,EV17),TIMEVALUE("06:00:00")+1)-MAX(EU17,TIMEVALUE("21:00:00")),0) -> 0.375 | EZ17: =IF(IF(EV17<EU17,EV17+1,EV17)>TIMEVALUE("06:00:00")+1,MIN(EV17+1,TIMEVALUE("07:00:00")+1)-TIMEVALUE("06:00:00")+1,0) -> 2.0416667 | FA17: 0.70833333 | FB17: 0.33333333 | FC17: =24*(MOD(FB17-FA17,1)) -> 15 | FD17: =IF(FA17>TIMEVALUE("21:00:00"),0,MIN(TIMEVALUE("21:00:00"),IF(FB17<FA17,FB17+1,FB17))-FA17) -> 0.16666667 | FE17: =IF(IF(FB17<FA17,FB17+1,FB17)>TIMEVALUE("21:00:00"),MIN(IF(FB17<FA17,FB17+1,FB17),TIMEVALUE("06:00:00")+1)-MAX(FA17,TIMEVALUE("21:00:00")),0) -> 0.375 | FF17: =IF(IF(FB17<FA17,FB17+1,FB17)>TIMEVALUE("06:00:00")+1,MIN(FB17+1,TIMEVALUE("07:00:00")+1)-TIMEVALUE("06:00:00")+1,0) -> 2.0416667 | FG17: 0.70833333 | FH17: 0.33333333 | FI17: =24*(MOD(FH17-FG17,1)) -> 15 | FJ17: =IF(FG17>TIMEVALUE("21:00:00"),0,MIN(TIMEVALUE("21:00:00"),IF(FH17<FG17,FH17+1,FH17))-FG17) -> 0.16666667 | FK17: =IF(IF(FH17<FG17,FH17+1,FH17)>TIMEVALUE("21:00:00"),MIN(IF(FH17<FG17,FH17+1,FH17),TIMEVALUE("06:00:00")+1)-MAX(FG17,TIMEVALUE("21:00:00")),0) -> 0.375 | FL17: =IF(IF(FH17<FG17,FH17+1,FH17)>TIMEVALUE("06:00:00")+1,MIN(FH17+1,TIMEVALUE("07:00:00")+1)-TIMEVALUE("06:00:00")+1,0) -> 2.0416667 | FM17: 0.70833333 | FN17: 0.33333333 | FO17: =24*(MOD(FN17-FM17,1)) -> 15 | FP17: =IF(FM17>TIMEVALUE("21:00:00"),0,MIN(TIMEVALUE("21:00:00"),IF(FN17<FM17,FN17+1,FN17))-FM17) -> 0.16666667 | FQ17: =IF(IF(FN17<FM17,FN17+1,FN17)>TIMEVALUE("21:00:00"),MIN(IF(FN17<FM17,FN17+1,FN17),TIMEVALUE("06:00:00")+1)-MAX(FM17,TIMEVALUE("21:00:00")),0) -> 0.375 | FR17: =IF(IF(FN17<FM17,FN17+1,FN17)>TIMEVALUE("06:00:00")+1,MIN(FN17+1,TIMEVALUE("07:00:00")+1)-TIMEVALUE("06:00:00")+1,0) -> 2.0416667 | FS17: 0.70833333 | FT17: 0.33333333 | FU17: =24*(MOD(FT17-FS17,1)) -> 15 | FV17: =IF(FS17>TIMEVALUE("21:00:00"),0,MIN(TIMEVALUE("21:00:00"),IF(FT17<FS17,FT17+1,FT17))-FS17) -> 0.16666667 | FW17: =IF(IF(FT17<FS17,FT17+1,FT17)>TIMEVALUE("21:00:00"),MIN(IF(FT17<FS17,FT17+1,FT17),TIMEVALUE("06:00:00")+1)-MAX(FS17,TIMEVALUE("21:00:00")),0) -> 0.375 | FX17: =IF(IF(FT17<FS17,FT17+1,FT17)>TIMEVALUE("06:00:00")+1,MIN(FT17+1,TIMEVALUE("07:00:00")+1)-TIMEVALUE("06:00:00")+1,0) -> 2.0416667 | FY17: 0.70833333 | FZ17: 0.33333333 | GA17: =24*(MOD(FZ17-FY17,1)) -> 15 | GB17: =IF(FY17>TIMEVALUE("21:00:00"),0,MIN(TIMEVALUE("21:00:00"),IF(FZ17<FY17,FZ17+1,FZ17))-FY17) -> 0.16666667 | GC17: =IF(IF(FZ17<FY17,FZ17+1,FZ17)>TIMEVALUE("21:00:00"),MIN(IF(FZ17<FY17,FZ17+1,FZ17),TIMEVALUE("06:00:00")+1)-MAX(FY17,TIMEVALUE("21:00:00")),0) -> 0.375 | GD17: =IF(IF(FZ17<FY17,FZ17+1,FZ17)>TIMEVALUE("06:00:00")+1,MIN(FZ17+1,TIMEVALUE("07:00:00")+1)-TIMEVALUE("06:00:00")+1,0) -> 2.0416667 | GE17: 0.70833333 | GF17: 0.33333333 | GG17: =24*(MOD(GF17-GE17,1)) -> 15 | GH17: =IF(GE17>TIMEVALUE("21:00:00"),0,MIN(TIMEVALUE("21:00:00"),IF(GF17<GE17,GF17+1,GF17))-GE17) -> 0.16666667 | GI17: =IF(IF(GF17<GE17,GF17+1,GF17)>TIMEVALUE("21:00:00"),MIN(IF(GF17<GE17,GF17+1,GF17),TIMEVALUE("06:00:00")+1)-MAX(GE17,TIMEVALUE("21:00:00")),0) -> 0.375 | GJ17: =IF(IF(GF17<GE17,GF17+1,GF17)>TIMEVALUE("06:00:00")+1,MIN(GF17+1,TIMEVALUE("07:00:00")+1)-TIMEVALUE("06:00:00")+1,0) -> 2.0416667
D18: 0 | E18: 0 | F18: =24*(MOD(E18-D18,1)) -> 0 | G18: =IF(D18>TIMEVALUE("21:00:00"),0,MIN(TIMEVALUE("21:00:00"),IF(E18<D18,E18+1,E18))-D18) -> 0 | H18: =IF(IF(E18<D18,E18+1,E18)>TIMEVALUE("21:00:00"),MIN(IF(E18<D18,E18+1,E18),TIMEVALUE("06:00:00")+1)-MAX(D18,TIMEVALUE("21:00:00")),0) -> 0 | I18: =IF(IF(E18<D18,E18+1,E18)>TIMEVALUE("06:00:00")+1,MIN(E18+1,TIMEVALUE("07:00:00")+1)-TIMEVALUE("06:00:00")+1,0) -> 0 | J18: =_xlfn.IFS($J$6=1,G18*Sheet1!$B$5*24,$D$2="Lundi",TRUE,$D$2="Mardi",TRUE,$D$2="Mercredi",TRUE,$D$2="Jeudi",$D$2="Vendredi") -> 0 | K18: =_xlfn.IFS($K$6=1,H18*Sheet1!$G$5*24,$D$2="Lundi",TRUE,$D$2="Mardi",TRUE,$D$2="Mercredi",TRUE,$D$2="Jeudi",$D$2="Vendredi") -> 0 | L18: =_xlfn.IFS($L$6=1,I18*Sheet1!$B$5,$D$2="Lundi",TRUE,$D$2="Mardi",TRUE,$D$2="Mercredi",TRUE,$D$2="Jeudi",$D$2="Vendredi") -> 0 | M18: 0.70833333 | N18: 0.33333333 | O18: =24*(MOD(N18-M18,1)) -> 15 | P18: =IF(M18>TIMEVALUE("21:00:00"),0,MIN(TIMEVALUE("21:00:00"),IF(N18<M18,N18+1,N18))-M18) -> 0.16666667 | Q18: =IF(IF(N18<M18,N18+1,N18)>TIMEVALUE("21:00:00"),MIN(IF(N18<M18,N18+1,N18),TIMEVALUE("06:00:00")+1)-MAX(M18,TIMEVALUE("21:00:00")),0) -> 0.375 | R18: =IF(IF(N18<M18,N18+1,N18)>TIMEVALUE("06:00:00")+1,MIN(N18+1,TIMEVALUE("07:00:00")+1)-TIMEVALUE("06:00:00")+1,0) -> 2.0416667 | S18: 0.70833333 | T18: 0.33333333 | U18: =24*(MOD(T18-S18,1)) -> 15 | V18: =IF(S18>TIMEVALUE("21:00:00"),0,MIN(TIMEVALUE("21:00:00"),IF(T18<S18,T18+1,T18))-S18) -> 0.16666667 | W18: =IF(IF(T18<S18,T18+1,T18)>TIMEVALUE("21:00:00"),MIN(IF(T18<S18,T18+1,T18),TIMEVALUE("06:00:00")+1)-MAX(S18,TIMEVALUE("21:00:00")),0) -> 0.375 | X18: =IF(IF(T18<S18,T18+1,T18)>TIMEVALUE("06:00:00")+1,MIN(T18+1,TIMEVALUE("07:00:00")+1)-TIMEVALUE("06:00:00")+1,0) -> 2.0416667 | Y18: 0.70833333 | Z18: 0.33333333 | AA18: =24*(MOD(Z18-Y18,1)) -> 15 | AB18: =IF(Y18>TIMEVALUE("21:00:00"),0,MIN(TIMEVALUE("21:00:00"),IF(Z18<Y18,Z18+1,Z18))-Y18) -> 0.16666667 | AC18: =IF(IF(Z18<Y18,Z18+1,Z18)>TIMEVALUE("21:00:00"),MIN(IF(Z18<Y18,Z18+1,Z18),TIMEVALUE("06:00:00")+1)-MAX(Y18,TIMEVALUE("21:00:00")),0) -> 0.375 | AD18: =IF(IF(Z18<Y18,Z18+1,Z18)>TIMEVALUE("06:00:00")+1,MIN(Z18+1,TIMEVALUE("07:00:00")+1)-TIMEVALUE("06:00:00")+1,0) -> 2.0416667 | AE18: 0.70833333 | AF18: 0.33333333 | AG18: =24*(MOD(AF18-AE18,1)) -> 15 | AH18: =IF(AE18>TIMEVALUE("21:00:00"),0,MIN(TIMEVALUE("21:00:00"),IF(AF18<AE18,AF18+1,AF18))-AE18) -> 0.16666667 | AI18: =IF(IF(AF18<AE18,AF18+1,AF18)>TIMEVALUE("21:00:00"),MIN(IF(AF18<AE18,AF18+1,AF18),TIMEVALUE("06:00:00")+1)-MAX(AE18,TIMEVALUE("21:00:00")),0) -> 0.375 | AJ18: =IF(IF(AF18<AE18,AF18+1,AF18)>TIMEVALUE("06:00:00")+1,MIN(AF18+1,TIMEVALUE("07:00:00")+1)-TIMEVALUE("06:00:00")+1,0) -> 2.0416667 | AK18: 0.70833333 | AL18: 0.33333333 | AM18: =24*(MOD(AL18-AK18,1)) -> 15 | AN18: =IF(AK18>TIMEVALUE("21:00:00"),0,MIN(TIMEVALUE("21:00:00"),IF(AL18<AK18,AL18+1,AL18))-AK18) -> 0.16666667 | AO18: =IF(IF(AL18<AK18,AL18+1,AL18)>TIMEVALUE("21:00:00"),MIN(IF(AL18<AK18,AL18+1,AL18),TIMEVALUE("06:00:00")+1)-MAX(AK18,TIMEVALUE("21:00:00")),0) -> 0.375 | AP18: =IF(IF(AL18<AK18,AL18+1,AL18)>TIMEVALUE("06:00:00")+1,MIN(AL18+1,TIMEVALUE("07:00:00")+1)-TIMEVALUE("06:00:00")+1,0) -> 2.0416667 | AQ18: 0.70833333 | AR18: 0.33333333 | AS18: =24*(MOD(AR18-AQ18,1)) -> 15 | AT18: =IF(AQ18>TIMEVALUE("21:00:00"),0,MIN(TIMEVALUE("21:00:00"),IF(AR18<AQ18,AR18+1,AR18))-AQ18) -> 0.16666667 | AU18: =IF(IF(AR18<AQ18,AR18+1,AR18)>TIMEVALUE("21:00:00"),MIN(IF(AR18<AQ18,AR18+1,AR18),TIMEVALUE("06:00:00")+1)-MAX(AQ18,TIMEVALUE("21:00:00")),0) -> 0.375 | AV18: =IF(IF(AR18<AQ18,AR18+1,AR18)>TIMEVALUE("06:00:00")+1,MIN(AR18+1,TIMEVALUE("07:00:00")+1)-TIMEVALUE("06:00:00")+1,0) -> 2.0416667 | AW18: 0.70833333 | AX18: 0.33333333 | AY18: =24*(MOD(AX18-AW18,1)) -> 15 | AZ18: =IF(AW18>TIMEVALUE("21:00:00"),0,MIN(TIMEVALUE("21:00:00"),IF(AX18<AW18,AX18+1,AX18))-AW18) -> 0.16666667 | BA18: =IF(IF(AX18<AW18,AX18+1,AX18)>TIMEVALUE("21:00:00"),MIN(IF(AX18<AW18,AX18+1,AX18),TIMEVALUE("06:00:00")+1)-MAX(AW18,TIMEVALUE("21:00:00")),0) -> 0.375 | BB18: =IF(IF(AX18<AW18,AX18+1,AX18)>TIMEVALUE("06:00:00")+1,MIN(AX18+1,TIMEVALUE("07:00:00")+1)-TIMEVALUE("06:00:00")+1,0) -> 2.0416667 | BC18: 0.70833333 | BD18: 0.33333333 | BE18: =24*(MOD(BD18-BC18,1)) -> 15 | BF18: =IF(BC18>TIMEVALUE("21:00:00"),0,MIN(TIMEVALUE("21:00:00"),IF(BD18<BC18,BD18+1,BD18))-BC18) -> 0.16666667 | BG18: =IF(IF(BD18<BC18,BD18+1,BD18)>TIMEVALUE("21:00:00"),MIN(IF(BD18<BC18,BD18+1,BD18),TIMEVALUE("06:00:00")+1)-MAX(BC18,TIMEVALUE("21:00:00")),0) -> 0.375 | BH18: =IF(IF(BD18<BC18,BD18+1,BD18)>TIMEVALUE("06:00:00")+1,MIN(BD18+1,TIMEVALUE("07:00:00")+1)-TIMEVALUE("06:00:00")+1,0) -> 2.0416667 | BI18: 0.70833333 | BJ18: 0.33333333 | BK18: =24*(MOD(BJ18-BI18,1)) -> 15 | BL18: =IF(BI18>TIMEVALUE("21:00:00"),0,MIN(TIMEVALUE("21:00:00"),IF(BJ18<BI18,BJ18+1,BJ18))-BI18) -> 0.16666667 | BM18: =IF(IF(BJ18<BI18,BJ18+1,BJ18)>TIMEVALUE("21:00:00"),MIN(IF(BJ18<BI18,BJ18+1,BJ18),TIMEVALUE("06:00:00")+1)-MAX(BI18,TIMEVALUE("21:00:00")),0) -> 0.375 | BN18: =IF(IF(BJ18<BI18,BJ18+1,BJ18)>TIMEVALUE("06:00:00")+1,MIN(BJ18+1,TIMEVALUE("07:00:00")+1)-TIMEVALUE("06:00:00")+1,0) -> 2.0416667 | BO18: 0.70833333 | BP18: 0.33333333 | BQ18: =24*(MOD(BP18-BO18,1)) -> 15 | BR18: =IF(BO18>TIMEVALUE("21:00:00"),0,MIN(TIMEVALUE("21:00:00"),IF(BP18<BO18,BP18+1,BP18))-BO18) -> 0.16666667 | BS18: =IF(IF(BP18<BO18,BP18+1,BP18)>TIMEVALUE("21:00:00"),MIN(IF(BP18<BO18,BP18+1,BP18),TIMEVALUE("06:00:00")+1)-MAX(BO18,TIMEVALUE("21:00:00")),0) -> 0.375 | BT18: =IF(IF(BP18<BO18,BP18+1,BP18)>TIMEVALUE("06:00:00")+1,MIN(BP18+1,TIMEVALUE("07:00:00")+1)-TIMEVALUE("06:00:00")+1,0) -> 2.0416667 | BU18: 0.70833333 | BV18: 0.33333333 | BW18: =24*(MOD(BV18-BU18,1)) -> 15 | BX18: =IF(BU18>TIMEVALUE("21:00:00"),0,MIN(TIMEVALUE("21:00:00"),IF(BV18<BU18,BV18+1,BV18))-BU18) -> 0.16666667 | BY18: =IF(IF(BV18<BU18,BV18+1,BV18)>TIMEVALUE("21:00:00"),MIN(IF(BV18<BU18,BV18+1,BV18),TIMEVALUE("06:00:00")+1)-MAX(BU18,TIMEVALUE("21:00:00")),0) -> 0.375 | BZ18: =IF(IF(BV18<BU18,BV18+1,BV18)>TIMEVALUE("06:00:00")+1,MIN(BV18+1,TIMEVALUE("07:00:00")+1)-TIMEVALUE("06:00:00")+1,0) -> 2.0416667 | CA18: 0.70833333 | CB18: 0.33333333 | CC18: =24*(MOD(CB18-CA18,1)) -> 15 | CD18: =IF(CA18>TIMEVALUE("21:00:00"),0,MIN(TIMEVALUE("21:00:00"),IF(CB18<CA18,CB18+1,CB18))-CA18) -> 0.16666667 | CE18: =IF(IF(CB18<CA18,CB18+1,CB18)>TIMEVALUE("21:00:00"),MIN(IF(CB18<CA18,CB18+1,CB18),TIMEVALUE("06:00:00")+1)-MAX(CA18,TIMEVALUE("21:00:00")),0) -> 0.375 | CF18: =IF(IF(CB18<CA18,CB18+1,CB18)>TIMEVALUE("06:00:00")+1,MIN(CB18+1,TIMEVALUE("07:00:00")+1)-TIMEVALUE("06:00:00")+1,0) -> 2.0416667 | CG18: 0.70833333 | CH18: 0.33333333 | CI18: =24*(MOD(CH18-CG18,1)) -> 15 | CJ18: =IF(CG18>TIMEVALUE("21:00:00"),0,MIN(TIMEVALUE("21:00:00"),IF(CH18<CG18,CH18+1,CH18))-CG18) -> 0.16666667 | CK18: =IF(IF(CH18<CG18,CH18+1,CH18)>TIMEVALUE("21:00:00"),MIN(IF(CH18<CG18,CH18+1,CH18),TIMEVALUE("06:00:00")+1)-MAX(CG18,TIMEVALUE("21:00:00")),0) -> 0.375 | CL18: =IF(IF(CH18<CG18,CH18+1,CH18)>TIMEVALUE("06:00:00")+1,MIN(CH18+1,TIMEVALUE("07:00:00")+1)-TIMEVALUE("06:00:00")+1,0) -> 2.0416667 | CM18: 0.70833333 | CN18: 0.33333333 | CO18: =24*(MOD(CN18-CM18,1)) -> 15 | CP18: =IF(CM18>TIMEVALUE("21:00:00"),0,MIN(TIMEVALUE("21:00:00"),IF(CN18<CM18,CN18+1,CN18))-CM18) -> 0.16666667 | CQ18: =IF(IF(CN18<CM18,CN18+1,CN18)>TIMEVALUE("21:00:00"),MIN(IF(CN18<CM18,CN18+1,CN18),TIMEVALUE("06:00:00")+1)-MAX(CM18,TIMEVALUE("21:00:00")),0) -> 0.375 | CR18: =IF(IF(CN18<CM18,CN18+1,CN18)>TIMEVALUE("06:00:00")+1,MIN(CN18+1,TIMEVALUE("07:00:00")+1)-TIMEVALUE("06:00:00")+1,0) -> 2.0416667 | CS18: 0.70833333 | CT18: 0.33333333 | CU18: =24*(MOD(CT18-CS18,1)) -> 15 | CV18: =IF(CS18>TIMEVALUE("21:00:00"),0,MIN(TIMEVALUE("21:00:00"),IF(CT18<CS18,CT18+1,CT18))-CS18) -> 0.16666667 | CW18: =IF(IF(CT18<CS18,CT18+1,CT18)>TIMEVALUE("21:00:00"),MIN(IF(CT18<CS18,CT18+1,CT18),TIMEVALUE("06:00:00")+1)-MAX(CS18,TIMEVALUE("21:00:00")),0) -> 0.375 | CX18: =IF(IF(CT18<CS18,CT18+1,CT18)>TIMEVALUE("06:00:00")+1,MIN(CT18+1,TIMEVALUE("07:00:00")+1)-TIMEVALUE("06:00:00")+1,0) -> 2.0416667 | CY18: 0.70833333 | CZ18: 0.33333333 | DA18: =24*(MOD(CZ18-CY18,1)) -> 15 | DB18: =IF(CY18>TIMEVALUE("21:00:00"),0,MIN(TIMEVALUE("21:00:00"),IF(CZ18<CY18,CZ18+1,CZ18))-CY18) -> 0.16666667 | DC18: =IF(IF(CZ18<CY18,CZ18+1,CZ18)>TIMEVALUE("21:00:00"),MIN(IF(CZ18<CY18,CZ18+1,CZ18),TIMEVALUE("06:00:00")+1)-MAX(CY18,TIMEVALUE("21:00:00")),0) -> 0.375 | DD18: =IF(IF(CZ18<CY18,CZ18+1,CZ18)>TIMEVALUE("06:00:00")+1,MIN(CZ18+1,TIMEVALUE("07:00:00")+1)-TIMEVALUE("06:00:00")+1,0) -> 2.0416667 | DE18: 0.70833333 | DF18: 0.33333333 | DG18: =24*(MOD(DF18-DE18,1)) -> 15 | DH18: =IF(DE18>TIMEVALUE("21:00:00"),0,MIN(TIMEVALUE("21:00:00"),IF(DF18<DE18,DF18+1,DF18))-DE18) -> 0.16666667 | DI18: =IF(IF(DF18<DE18,DF18+1,DF18)>TIMEVALUE("21:00:00"),MIN(IF(DF18<DE18,DF18+1,DF18),TIMEVALUE("06:00:00")+1)-MAX(DE18,TIMEVALUE("21:00:00")),0) -> 0.375 | DJ18: =IF(IF(DF18<DE18,DF18+1,DF18)>TIMEVALUE("06:00:00")+1,MIN(DF18+1,TIMEVALUE("07:00:00")+1)-TIMEVALUE("06:00:00")+1,0) -> 2.0416667 | DK18: 0.70833333 | DL18: 0.33333333 | DM18: =24*(MOD(DL18-DK18,1)) -> 15 | DN18: =IF(DK18>TIMEVALUE("21:00:00"),0,MIN(TIMEVALUE("21:00:00"),IF(DL18<DK18,DL18+1,DL18))-DK18) -> 0.16666667 | DO18: =IF(IF(DL18<DK18,DL18+1,DL18)>TIMEVALUE("21:00:00"),MIN(IF(DL18<DK18,DL18+1,DL18),TIMEVALUE("06:00:00")+1)-MAX(DK18,TIMEVALUE("21:00:00")),0) -> 0.375 | DP18: =IF(IF(DL18<DK18,DL18+1,DL18)>TIMEVALUE("06:00:00")+1,MIN(DL18+1,TIMEVALUE("07:00:00")+1)-TIMEVALUE("06:00:00")+1,0) -> 2.0416667 | DQ18: 0.70833333 | DR18: 0.33333333 | DS18: =24*(MOD(DR18-DQ18,1)) -> 15 | DT18: =IF(DQ18>TIMEVALUE("21:00:00"),0,MIN(TIMEVALUE("21:00:00"),IF(DR18<DQ18,DR18+1,DR18))-DQ18) -> 0.16666667 | DU18: =IF(IF(DR18<DQ18,DR18+1,DR18)>TIMEVALUE("21:00:00"),MIN(IF(DR18<DQ18,DR18+1,DR18),TIMEVALUE("06:00:00")+1)-MAX(DQ18,TIMEVALUE("21:00:00")),0) -> 0.375 | DV18: =IF(IF(DR18<DQ18,DR18+1,DR18)>TIMEVALUE("06:00:00")+1,MIN(DR18+1,TIMEVALUE("07:00:00")+1)-TIMEVALUE("06:00:00")+1,0) -> 2.0416667 | DW18: 0.70833333 | DX18: 0.33333333 | DY18: =24*(MOD(DX18-DW18,1)) -> 15 | DZ18: =IF(DW18>TIMEVALUE("21:00:00"),0,MIN(TIMEVALUE("21:00:00"),IF(DX18<DW18,DX18+1,DX18))-DW18) -> 0.16666667 | EA18: =IF(IF(DX18<DW18,DX18+1,DX18)>TIMEVALUE("21:00:00"),MIN(IF(DX18<DW18,DX18+1,DX18),TIMEVALUE("06:00:00")+1)-MAX(DW18,TIMEVALUE("21:00:00")),0) -> 0.375 | EB18: =IF(IF(DX18<DW18,DX18+1,DX18)>TIMEVALUE("06:00:00")+1,MIN(DX18+1,TIMEVALUE("07:00:00")+1)-TIMEVALUE("06:00:00")+1,0) -> 2.0416667 | EC18: 0.70833333 | ED18: 0.33333333 | EE18: =24*(MOD(ED18-EC18,1)) -> 15 | EF18: =IF(EC18>TIMEVALUE("21:00:00"),0,MIN(TIMEVALUE("21:00:00"),IF(ED18<EC18,ED18+1,ED18))-EC18) -> 0.16666667 | EG18: =IF(IF(ED18<EC18,ED18+1,ED18)>TIMEVALUE("21:00:00"),MIN(IF(ED18<EC18,ED18+1,ED18),TIMEVALUE("06:00:00")+1)-MAX(EC18,TIMEVALUE("21:00:00")),0) -> 0.375 | EH18: =IF(IF(ED18<EC18,ED18+1,ED18)>TIMEVALUE("06:00:00")+1,MIN(ED18+1,TIMEVALUE("07:00:00")+1)-TIMEVALUE("06:00:00")+1,0) -> 2.0416667 | EI18: 0.70833333 | EJ18: 0.33333333 | EK18: =24*(MOD(EJ18-EI18,1)) -> 15 | EL18: =IF(EI18>TIMEVALUE("21:00:00"),0,MIN(TIMEVALUE("21:00:00"),IF(EJ18<EI18,EJ18+1,EJ18))-EI18) -> 0.16666667 | EM18: =IF(IF(EJ18<EI18,EJ18+1,EJ18)>TIMEVALUE("21:00:00"),MIN(IF(EJ18<EI18,EJ18+1,EJ18),TIMEVALUE("06:00:00")+1)-MAX(EI18,TIMEVALUE("21:00:00")),0) -> 0.375 | EN18: =IF(IF(EJ18<EI18,EJ18+1,EJ18)>TIMEVALUE("06:00:00")+1,MIN(EJ18+1,TIMEVALUE("07:00:00")+1)-TIMEVALUE("06:00:00")+1,0) -> 2.0416667 | EO18: 0.70833333 | EP18: 0.33333333 | EQ18: =24*(MOD(EP18-EO18,1)) -> 15 | ER18: =IF(EO18>TIMEVALUE("21:00:00"),0,MIN(TIMEVALUE("21:00:00"),IF(EP18<EO18,EP18+1,EP18))-EO18) -> 0.16666667 | ES18: =IF(IF(EP18<EO18,EP18+1,EP18)>TIMEVALUE("21:00:00"),MIN(IF(EP18<EO18,EP18+1,EP18),TIMEVALUE("06:00:00")+1)-MAX(EO18,TIMEVALUE("21:00:00")),0) -> 0.375 | ET18: =IF(IF(EP18<EO18,EP18+1,EP18)>TIMEVALUE("06:00:00")+1,MIN(EP18+1,TIMEVALUE("07:00:00")+1)-TIMEVALUE("06:00:00")+1,0) -> 2.0416667 | EU18: 0.70833333 | EV18: 0.33333333 | EW18: =24*(MOD(EV18-EU18,1)) -> 15 | EX18: =IF(EU18>TIMEVALUE("21:00:00"),0,MIN(TIMEVALUE("21:00:00"),IF(EV18<EU18,EV18+1,EV18))-EU18) -> 0.16666667 | EY18: =IF(IF(EV18<EU18,EV18+1,EV18)>TIMEVALUE("21:00:00"),MIN(IF(EV18<EU18,EV18+1,EV18),TIMEVALUE("06:00:00")+1)-MAX(EU18,TIMEVALUE("21:00:00")),0) -> 0.375 | EZ18: =IF(IF(EV18<EU18,EV18+1,EV18)>TIMEVALUE("06:00:00")+1,MIN(EV18+1,TIMEVALUE("07:00:00")+1)-TIMEVALUE("06:00:00")+1,0) -> 2.0416667 | FA18: 0.70833333 | FB18: 0.33333333 | FC18: =24*(MOD(FB18-FA18,1)) -> 15 | FD18: =IF(FA18>TIMEVALUE("21:00:00"),0,MIN(TIMEVALUE("21:00:00"),IF(FB18<FA18,FB18+1,FB18))-FA18) -> 0.16666667 | FE18: =IF(IF(FB18<FA18,FB18+1,FB18)>TIMEVALUE("21:00:00"),MIN(IF(FB18<FA18,FB18+1,FB18),TIMEVALUE("06:00:00")+1)-MAX(FA18,TIMEVALUE("21:00:00")),0) -> 0.375 | FF18: =IF(IF(FB18<FA18,FB18+1,FB18)>TIMEVALUE("06:00:00")+1,MIN(FB18+1,TIMEVALUE("07:00:00")+1)-TIMEVALUE("06:00:00")+1,0) -> 2.0416667 | FG18: 0.70833333 | FH18: 0.33333333 | FI18: =24*(MOD(FH18-FG18,1)) -> 15 | FJ18: =IF(FG18>TIMEVALUE("21:00:00"),0,MIN(TIMEVALUE("21:00:00"),IF(FH18<FG18,FH18+1,FH18))-FG18) -> 0.16666667 | FK18: =IF(IF(FH18<FG18,FH18+1,FH18)>TIMEVALUE("21:00:00"),MIN(IF(FH18<FG18,FH18+1,FH18),TIMEVALUE("06:00:00")+1)-MAX(FG18,TIMEVALUE("21:00:00")),0) -> 0.375 | FL18: =IF(IF(FH18<FG18,FH18+1,FH18)>TIMEVALUE("06:00:00")+1,MIN(FH18+1,TIMEVALUE("07:00:00")+1)-TIMEVALUE("06:00:00")+1,0) -> 2.0416667 | FM18: 0.70833333 | FN18: 0.33333333 | FO18: =24*(MOD(FN18-FM18,1)) -> 15 | FP18: =IF(FM18>TIMEVALUE("21:00:00"),0,MIN(TIMEVALUE("21:00:00"),IF(FN18<FM18,FN18+1,FN18))-FM18) -> 0.16666667 | FQ18: =IF(IF(FN18<FM18,FN18+1,FN18)>TIMEVALUE("21:00:00"),MIN(IF(FN18<FM18,FN18+1,FN18),TIMEVALUE("06:00:00")+1)-MAX(FM18,TIMEVALUE("21:00:00")),0) -> 0.375 | FR18: =IF(IF(FN18<FM18,FN18+1,FN18)>TIMEVALUE("06:00:00")+1,MIN(FN18+1,TIMEVALUE("07:00:00")+1)-TIMEVALUE("06:00:00")+1,0) -> 2.0416667 | FS18: 0.70833333 | FT18: 0.33333333 | FU18: =24*(MOD(FT18-FS18,1)) -> 15 | FV18: =IF(FS18>TIMEVALUE("21:00:00"),0,MIN(TIMEVALUE("21:00:00"),IF(FT18<FS18,FT18+1,FT18))-FS18) -> 0.16666667 | FW18: =IF(IF(FT18<FS18,FT18+1,FT18)>TIMEVALUE("21:00:00"),MIN(IF(FT18<FS18,FT18+1,FT18),TIMEVALUE("06:00:00")+1)-MAX(FS18,TIMEVALUE("21:00:00")),0) -> 0.375 | FX18: =IF(IF(FT18<FS18,FT18+1,FT18)>TIMEVALUE("06:00:00")+1,MIN(FT18+1,TIMEVALUE("07:00:00")+1)-TIMEVALUE("06:00:00")+1,0) -> 2.0416667 | FY18: 0.70833333 | FZ18: 0.33333333 | GA18: =24*(MOD(FZ18-FY18,1)) -> 15 | GB18: =IF(FY18>TIMEVALUE("21:00:00"),0,MIN(TIMEVALUE("21:00:00"),IF(FZ18<FY18,FZ18+1,FZ18))-FY18) -> 0.16666667 | GC18: =IF(IF(FZ18<FY18,FZ18+1,FZ18)>TIMEVALUE("21:00:00"),MIN(IF(FZ18<FY18,FZ18+1,FZ18),TIMEVALUE("06:00:00")+1)-MAX(FY18,TIMEVALUE("21:00:00")),0) -> 0.375 | GD18: =IF(IF(FZ18<FY18,FZ18+1,FZ18)>TIMEVALUE("06:00:00")+1,MIN(FZ18+1,TIMEVALUE("07:00:00")+1)-TIMEVALUE("06:00:00")+1,0) -> 2.0416667 | GE18: 0.70833333 | GF18: 0.33333333 | GG18: =24*(MOD(GF18-GE18,1)) -> 15 | GH18: =IF(GE18>TIMEVALUE("21:00:00"),0,MIN(TIMEVALUE("21:00:00"),IF(GF18<GE18,GF18+1,GF18))-GE18) -> 0.16666667 | GI18: =IF(IF(GF18<GE18,GF18+1,GF18)>TIMEVALUE("21:00:00"),MIN(IF(GF18<GE18,GF18+1,GF18),TIMEVALUE("06:00:00")+1)-MAX(GE18,TIMEVALUE("21:00:00")),0) -> 0.375 | GJ18: =IF(IF(GF18<GE18,GF18+1,GF18)>TIMEVALUE("06:00:00")+1,MIN(GF18+1,TIMEVALUE("07:00:00")+1)-TIMEVALUE("06:00:00")+1,0) -> 2.0416667
