Workbook

Sheet Données
A2: Année: | B2: 2019 | D2: Jours feriés France
D3: Jour de l'an | F3: =DATE(B2,1,1) -> 43466
D4: Pâques | F4: 43576
D5: Lundi de Pâques | F5: =F4+1 -> 43577
D6: Fête du travail | F6: =DATE(B2,5,1) -> 43586
D7: Armistice 1945 | F7: =DATE(B2,5,8) -> 43593
D8: Ascension | F8: =F4+39 -> 43615
D9: Pentecôte | F9: =F4+49 -> 43625
D10: Lundi de Pentecote | F10: =F4+50 -> 43626
D11: Fête nationale | F11: =DATE(B2,7,14) -> 43660
D12: Assomption | F12: =DATE(B2,8,15) -> 43692
D13: Toussaint | F13: =DATE(B2,11,1) -> 43770
D14: Armistice 1918 | F14: =DATE(B2,11,11) -> 43780
D15: NOEL | F15: =DATE(B2,12,25) -> 43824
B20: JOUR | C20: NUIT | D20: JOUR | E20: NUIT | F20: JOUR | G20: NUIT | H20: FERIE - JOUR | I20: FERIE - NUIT | J20: FERIE - JOUR | K20: FERIE - NUIT
B21: Lu - Ve | C21: Lu - Ve | D21: Samedi | E21: Samedi | F21: Dimanche | G21: Dimanche | H21: Lu - Sa | I21: Lu - Sa | J21: Dimanche | K21: Dimanche
A22: Poste | B22: 06:00 - 21:00 | C22: 21:00 - 06:00 | D22: 06:00-21:00 | E22: 21:00-06:00 | F22: 06:00-21:00 | G22: 21:00-06:00 | H22: 06:00-21:00 | I22: 21:00-06:00 | J22: 06:00-21:00 | K22: 21:00-06:00
A23: ADS | B23: 23.8 | C23: 26.42 | D23: 23.8 | E23: 26.42 | F23: 26.18 | G23: 29.32 | H23: 47.6 | I23: 52.84 | J23: 53.68 | K23: 58.65
A24: SSIAP1 | B24: 24.4 | C24: 27.08 | D24: 24.4 | E24: 27.08 | F24: 26.84 | G24: 30.06 | H24: 48.8 | I24: 54.17 | J24: 64.24 | K24: 60.13
A25: SSIAP2 | B25: 29.2 | C25: 32.41 | D25: 29.2 | E25: 32.41 | F25: 32.12 | G25: 35.98 | H25: 58.4 | I25: 64.82 | J25: 64.24 | K25: 71.95
A26: SSIAP3 | B26: 46 | C26: 51.06 | D26: 46 | E26: 51.06 | F26: 50.6 | G26: 56.68 | H26: 92 | I26: 102.12 | J26: 101.2 | K26: 113.35

Sheet January
B1: =DATE([1]Données!B2,1,1) -> 43466
E3: =INDEX({"Dimanche";"Lundi";"Mardi";"Mercredi";"Jeudi";"Vendredi";"Samedi"},WEEKDAY(E4)) -> Mardi | Q3: =INDEX({"Dimanche";"Lundi";"Mardi";"Mercredi";"Jeudi";"Vendredi";"Samedi"},WEEKDAY(Q4)) -> Mercredi | AC3: =INDEX({"Dimanche";"Lundi";"Mardi";"Mercredi";"Jeudi";"Vendredi";"Samedi"},WEEKDAY(AC4)) -> Jeudi | AO3: =INDEX({"Dimanche";"Lundi";"Mardi";"Mercredi";"Jeudi";"Vendredi";"Samedi"},WEEKDAY(AO4)) -> Vendredi | BA3: =INDEX({"Dimanche";"Lundi";"Mardi";"Mercredi";"Jeudi";"Vendredi";"Samedi"},WEEKDAY(BA4)) -> Samedi | BM3: =INDEX({"Dimanche";"Lundi";"Mardi";"Mercredi";"Jeudi";"Vendredi";"Samedi"},WEEKDAY(BM4)) -> Dimanche | BY3: =INDEX({"Dimanche";"Lundi";"Mardi";"Mercredi";"Jeudi";"Vendredi";"Samedi"},WEEKDAY(BY4)) -> Lundi | CK3: =INDEX({"Dimanche";"Lundi";"Mardi";"Mercredi";"Jeudi";"Vendredi";"Samedi"},WEEKDAY(CK4)) -> Mardi | CW3: =INDEX({"Dimanche";"Lundi";"Mardi";"Mercredi";"Jeudi";"Vendredi";"Samedi"},WEEKDAY(CW4)) -> Mercredi | DI3: =INDEX({"Dimanche";"Lundi";"Mardi";"Mercredi";"Jeudi";"Vendredi";"Samedi"},WEEKDAY(DI4)) -> Jeudi | DU3: =INDEX({"Dimanche";"Lundi";"Mardi";"Mercredi";"Jeudi";"Vendredi";"Samedi"},WEEKDAY(DU4)) -> Vendredi | EG3: =INDEX({"Dimanche";"Lundi";"Mardi";"Mercredi";"Jeudi";"Vendredi";"Samedi"},WEEKDAY(EG4)) -> Samedi | ES3: =INDEX({"Dimanche";"Lundi";"Mardi";"Mercredi";"Jeudi";"Vendredi";"Samedi"},WEEKDAY(ES4)) -> Dimanche | FE3: =INDEX({"Dimanche";"Lundi";"Mardi";"Mercredi";"Jeudi";"Vendredi";"Samedi"},WEEKDAY(FE4)) -> Lundi | FQ3: =INDEX({"Dimanche";"Lundi";"Mardi";"Mercredi";"Jeudi";"Vendredi";"Samedi"},WEEKDAY(FQ4)) -> Mardi | GC3: =INDEX({"Dimanche";"Lundi";"Mardi";"Mercredi";"Jeudi";"Vendredi";"Samedi"},WEEKDAY(GC4)) -> Mercredi | GO3: =INDEX({"Dimanche";"Lundi";"Mardi";"Mercredi";"Jeudi";"Vendredi";"Samedi"},WEEKDAY(GO4)) -> Jeudi | HA3: =INDEX({"Dimanche";"Lundi";"Mardi";"Mercredi";"Jeudi";"Vendredi";"Samedi"},WEEKDAY(HA4)) -> Vendredi | HM3: =INDEX({"Dimanche";"Lundi";"Mardi";"Mercredi";"Jeudi";"Vendredi";"Samedi"},WEEKDAY(HM4)) -> Samedi | HY3: =INDEX({"Dimanche";"Lundi";"Mardi";"Mercredi";"Jeudi";"Vendredi";"Samedi"},WEEKDAY(HY4)) -> Dimanche | IK3: =INDEX({"Dimanche";"Lundi";"Mardi";"Mercredi";"Jeudi";"Vendredi";"Samedi"},WEEKDAY(IK4)) -> Lundi | IW3: =INDEX({"Dimanche";"Lundi";"Mardi";"Mercredi";"Jeudi";"Vendredi";"Samedi"},WEEKDAY(IW4)) -> Mardi | JI3: =INDEX({"Dimanche";"Lundi";"Mardi";"Mercredi";"Jeudi";"Vendredi";"Samedi"},WEEKDAY(JI4)) -> Mercredi | JU3: =INDEX({"Dimanche";"Lundi";"Mardi";"Mercredi";"Jeudi";"Vendredi";"Samedi"},WEEKDAY(JU4)) -> Jeudi | KG3: =INDEX({"Dimanche";"Lundi";"Mardi";"Mercredi";"Jeudi";"Vendredi";"Samedi"},WEEKDAY(KG4)) -> Vendredi | KS3: =INDEX({"Dimanche";"Lundi";"Mardi";"Mercredi";"Jeudi";"Vendredi";"Samedi"},WEEKDAY(KS4)) -> Samedi | LE3: =INDEX({"Dimanche";"Lundi";"Mardi";"Mercredi";"Jeudi";"Vendredi";"Samedi"},WEEKDAY(LE4)) -> Dimanche | LQ3: =INDEX({"Dimanche";"Lundi";"Mardi";"Mercredi";"Jeudi";"Vendredi";"Samedi"},WEEKDAY(LQ4)) -> Lundi | MC3: =INDEX({"Dimanche";"Lundi";"Mardi";"Mercredi";"Jeudi";"Vendredi";"Samedi"},WEEKDAY(MC4)) -> Mardi | MO3: =INDEX({"Dimanche";"Lundi";"Mardi";"Mercredi";"Jeudi";"Vendredi";"Samedi"},WEEKDAY(MO4)) -> Mercredi | NA3: =INDEX({"Dimanche";"Lundi";"Mardi";"Mercredi";"Jeudi";"Vendredi";"Samedi"},WEEKDAY(NA4)) -> Jeudi
B4: Poste | C4: Event | D4: Notes | E4: =B1 -> 43466 | Q4: =E4+1 -> 43467 | AC4: =Q4+1 -> 43468 | AO4: =AC4+1 -> 43469 | BA4: =AO4+1 -> 43470 | BM4: =BA4+1 -> 43471 | BY4: =BM4+1 -> 43472 | CK4: =BY4+1 -> 43473 | CW4: =CK4+1 -> 43474 | DI4: =CW4+1 -> 43475 | DU4: =DI4+1 -> 43476 | EG4: =DU4+1 -> 43477 | ES4: =EG4+1 -> 43478 | FE4: =ES4+1 -> 43479 | FQ4: =FE4+1 -> 43480 | GC4: =FQ4+1 -> 43481 | GO4: =GC4+1 -> 43482 | HA4: =GO4+1 -> 43483 | HM4: =HA4+1 -> 43484 | HY4: =HM4+1 -> 43485 | IK4: =HY4+1 -> 43486 | IW4: =IK4+1 -> 43487 | JI4: =IW4+1 -> 43488 | JU4: =JI4+1 -> 43489 | KG4: =JU4+1 -> 43490 | KS4: =KG4+1 -> 43491 | LE4: =KS4+1 -> 43492 | LQ4: =LE4+1 -> 43493 | MC4: =LQ4+1 -> 43494 | MO4: =MC4+1 -> 43495 | NA4: =MO4+1 -> 43496 | NM4: TOTAL
H5: Détaille Horaires | L5: Coût Horaire | T5: Détaille Horaires | X5: Coût Horaire | AF5: Détaille Horaires | AJ5: Coût Horaire | AR5: Détaille Horaires | AV5: Coût Horaire | BD5: Détaille Horaires | BH5: Coût Horaire | BP5: Détaille Horaires | BT5: Coût Horaire | CB5: Détaille Horaires | CF5: Coût Horaire | CN5: Détaille Horaires | CR5: Coût Horaire | CZ5: Détaille Horaires | DD5: Coût Horaire | DL5: Détaille Horaires | DP5: Coût Horaire | DX5: Détaille Horaires | EB5: Coût Horaire | EJ5: Détaille Horaires | EN5: Coût Horaire | EV5: Détaille Horaires | EZ5: Coût Horaire | FH5: Détaille Horaires | FL5: Coût Horaire | FT5: Détaille Horaires | FX5: Coût Horaire | GF5: Détaille Horaires | GJ5: Coût Horaire | GR5: Détaille Horaires | GV5: Coût Horaire | HD5: Détaille Horaires | HH5: Coût Horaire | HP5: Détaille Horaires | HT5: Coût Horaire | IB5: Détaille Horaires | IF5: Coût Horaire | IN5: Détaille Horaires | IR5: Coût Horaire | IZ5: Détaille Horaires | JD5: Coût Horaire | JL5: Détaille Horaires | JP5: Coût Horaire | JX5: Détaille Horaires | KB5: Coût Horaire | KJ5: Détaille Horaires | KN5: Coût Horaire | KV5: Détaille Horaires | KZ5: Coût Horaire | LH5: Détaille Horaires | LL5: Coût Horaire | LT5: Détaille Horaires | LX5: Coût Horaire | MF5: Détaille Horaires | MJ5: Coût Horaire | MR5: Détaille Horaires | MV5: Coût Horaire | ND5: Détaille Horaires | NH5: Coût Horaire
G7: Total | H7: 06:00-21:00 | I7: 21:00-06:00 | J7: 06:00-07:00 | K7: >7:00 | L7: =IF(OR((E4)=[1]Données!$F$3,(E4)=[1]Données!$F$4,(E4)=[1]Données!$F$5,(E4)=[1]Données!$F$6,(E4)=[1]Données!$F$7,(E4)=[1]Données!$F$8,(E4)=[1]Données!$F$9,(E4)=[1]Données!$F$10,(E4)=[1]Données!$F$11),"X",0) -> X | M7: =IF(E3="Samedi","S",0) -> 0 | N7: =IF(E3="Dimanche","D",0) -> 0 | P7: S-Total | S7: Total | T7: 06:00-21:00 | U7: 21:00-06:00 | V7: 06:00-07:00 | W7: >7:00 | X7: =IF(OR((Q4)=[1]Données!$F$3,(Q4)=[1]Données!$F$4,(Q4)=[1]Données!$F$5,(Q4)=[1]Données!$F$6,(Q4)=[1]Données!$F$7,(Q4)=[1]Données!$F$8,(Q4)=[1]Données!$F$9,(Q4)=[1]Données!$F$10,(Q4)=[1]Données!$F$11),"X",0) -> 0 | Y7: =IF(Q3="Samedi","S",0) -> 0 | Z7: =IF(Q3="Dimanche","D",0) -> 0 | AB7: S-Total | AE7: Total | AF7: 06:00-21:00 | AG7: 21:00-06:00 | AH7: 06:00-07:00 | AI7: >7:00 | AJ7: =IF(OR((AC4)=[1]Données!$F$3,(AC4)=[1]Données!$F$4,(AC4)=[1]Données!$F$5,(AC4)=[1]Données!$F$6,(AC4)=[1]Données!$F$7,(AC4)=[1]Données!$F$8,(AC4)=[1]Données!$F$9,(AC4)=[1]Données!$F$10,(AC4)=[1]Données!$F$11),"X",0) -> 0 | AK7: =IF(AC3="Samedi","S",0) -> 0 | AL7: =IF(AC3="Dimanche","D",0) -> 0 | AN7: S-Total | AQ7: Total | AR7: 06:00-21:00 | AS7: 21:00-06:00 | AT7: 06:00-07:00 | AU7: >7:00 | AV7: =IF(OR((AO4)=[1]Données!$F$3,(AO4)=[1]Données!$F$4,(AO4)=[1]Données!$F$5,(AO4)=[1]Données!$F$6,(AO4)=[1]Données!$F$7,(AO4)=[1]Données!$F$8,(AO4)=[1]Données!$F$9,(AO4)=[1]Données!$F$10,(AO4)=[1]Données!$F$11),"X",0) -> 0 | AW7: =IF(AO3="Samedi","S",0) -> 0 | AX7: =IF(AO3="Dimanche","D",0) -> 0 | AZ7: S-Total | BC7: Total | BD7: 06:00-21:00 | BE7: 21:00-06:00 | BF7: 06:00-07:00 | BG7: >7:00 | BH7: =IF(OR((BA4)=[1]Données!$F$3,(BA4)=[1]Données!$F$4,(BA4)=[1]Données!$F$5,(BA4)=[1]Données!$F$6,(BA4)=[1]Données!$F$7,(BA4)=[1]Données!$F$8,(BA4)=[1]Données!$F$9,(BA4)=[1]Données!$F$10,(BA4)=[1]Données!$F$11),"X",0) -> 0 | BI7: =IF(BA3="Samedi","S",0) -> S | BJ7: =IF(BA3="Dimanche","D",0) -> 0 | BL7: S-Total | BO7: Total | BP7: 06:00-21:00 | BQ7: 21:00-06:00 | BR7: 06:00-07:00 | BS7: >7:00 | BT7: =IF(OR((BM4)=[1]Données!$F$3,(BM4)=[1]Données!$F$4,(BM4)=[1]Données!$F$5,(BM4)=[1]Données!$F$6,(BM4)=[1]Données!$F$7,(BM4)=[1]Données!$F$8,(BM4)=[1]Données!$F$9,(BM4)=[1]Données!$F$10,(BM4)=[1]Données!$F$11),"X",0) -> 0 | BU7: =IF(BM3="Samedi","S",0) -> 0 | BV7: =IF(BM3="Dimanche","D",0) -> D | BX7: S-Total | CA7: Total | CB7: 06:00-21:00 | CC7: 21:00-06:00 | CD7: 06:00-07:00 | CE7: >7:00 | CF7: =IF(OR((BY4)=[1]Données!$F$3,(BY4)=[1]Données!$F$4,(BY4)=[1]Données!$F$5,(BY4)=[1]Données!$F$6,(BY4)=[1]Données!$F$7,(BY4)=[1]Données!$F$8,(BY4)=[1]Données!$F$9,(BY4)=[1]Données!$F$10,(BY4)=[1]Données!$F$11),"X",0) -> 0 | CG7: =IF(BY3="Samedi","S",0) -> 0 | CH7: =IF(BY3="Dimanche","D",0) -> 0 | CJ7: S-Total | CM7: Total | CN7: 06:00-21:00 | CO7: 21:00-06:00 | CP7: 06:00-07:00 | CQ7: >7:00 | CR7: =IF(OR((CK4)=[1]Données!$F$3,(CK4)=[1]Données!$F$4,(CK4)=[1]Données!$F$5,(CK4)=[1]Données!$F$6,(CK4)=[1]Données!$F$7,(CK4)=[1]Données!$F$8,(CK4)=[1]Données!$F$9,(CK4)=[1]Données!$F$10,(CK4)=[1]Données!$F$11),"X",0) -> 0 | CS7: =IF(CK3="Samedi","S",0) -> 0 | CT7: =IF(CK3="Dimanche","D",0) -> 0 | CV7: S-Total | CY7: Total | CZ7: 06:00-21:00 | DA7: 21:00-06:00 | DB7: 06:00-07:00 | DC7: >7:00 | DD7: =IF(OR((CW4)=[1]Données!$F$3,(CW4)=[1]Données!$F$4,(CW4)=[1]Données!$F$5,(CW4)=[1]Données!$F$6,(CW4)=[1]Données!$F$7,(CW4)=[1]Données!$F$8,(CW4)=[1]Données!$F$9,(CW4)=[1]Données!$F$10,(CW4)=[1]Données!$F$11),"X",0) -> 0 | DE7: =IF(CW3="Samedi","S",0) -> 0 | DF7: =IF(CW3="Dimanche","D",0) -> 0 | DH7: S-Total | DK7: Total | DL7: 06:00-21:00 | DM7: 21:00-06:00 | DN7: 06:00-07:00 | DO7: >7:00 | DP7: =IF(OR((DI4)=[1]Données!$F$3,(DI4)=[1]Données!$F$4,(DI4)=[1]Données!$F$5,(DI4)=[1]Données!$F$6,(DI4)=[1]Données!$F$7,(DI4)=[1]Données!$F$8,(DI4)=[1]Données!$F$9,(DI4)=[1]Données!$F$10,(DI4)=[1]Données!$F$11),"X",0) -> 0 | DQ7: =IF(DI3="Samedi","S",0) -> 0 | DR7: =IF(DI3="Dimanche","D",0) -> 0 | DT7: S-Total | DW7: Total | DX7: 06:00-21:00 | DY7: 21:00-06:00 | DZ7: 06:00-07:00 | EA7: >7:00 | EB7: =IF(OR((DU4)=[1]Données!$F$3,(DU4)=[1]Données!$F$4,(DU4)=[1]Données!$F$5,(DU4)=[1]Données!$F$6,(DU4)=[1]Données!$F$7,(DU4)=[1]Données!$F$8,(DU4)=[1]Données!$F$9,(DU4)=[1]Données!$F$10,(DU4)=[1]Données!$F$11),"X",0) -> 0 | EC7: =IF(DU3="Samedi","S",0) -> 0 | ED7: =IF(DU3="Dimanche","D",0) -> 0 | EF7: S-Total | EI7: Total | EJ7: 06:00-21:00 | EK7: 21:00-06:00 | EL7: 06:00-07:00 | EM7: >7:00 | EN7: =IF(OR((EG4)=[1]Données!$F$3,(EG4)=[1]Données!$F$4,(EG4)=[1]Données!$F$5,(EG4)=[1]Données!$F$6,(EG4)=[1]Données!$F$7,(EG4)=[1]Données!$F$8,(EG4)=[1]Données!$F$9,(EG4)=[1]Données!$F$10,(EG4)=[1]Données!$F$11),"X",0) -> 0 | EO7: =IF(EG3="Samedi","S",0) -> S | EP7: =IF(EG3="Dimanche","D",0) -> 0 | ER7: S-Total | EU7: Total | EV7: 06:00-21:00 | EW7: 21:00-06:00 | EX7: 06:00-07:00 | EY7: >7:00 | EZ7: =IF(OR((ES4)=[1]Données!$F$3,(ES4)=[1]Données!$F$4,(ES4)=[1]Données!$F$5,(ES4)=[1]Données!$F$6,(ES4)=[1]Données!$F$7,(ES4)=[1]Données!$F$8,(ES4)=[1]Données!$F$9,(ES4)=[1]Données!$F$10,(ES4)=[1]Données!$F$11),"X",0) -> 0 | FA7: =IF(ES3="Samedi","S",0) -> 0 | FB7: =IF(ES3="Dimanche","D",0) -> D | FD7: S-Total | FG7: Total | FH7: 06:00-21:00 | FI7: 21:00-06:00 | FJ7: 06:00-07:00 | FK7: >7:00 | FL7: =IF(OR((FE4)=[1]Données!$F$3,(FE4)=[1]Données!$F$4,(FE4)=[1]Données!$F$5,(FE4)=[1]Données!$F$6,(FE4)=[1]Données!$F$7,(FE4)=[1]Données!$F$8,(FE4)=[1]Données!$F$9,(FE4)=[1]Données!$F$10,(FE4)=[1]Données!$F$11),"X",0) -> 0 | FM7: =IF(FE3="Samedi","S",0) -> 0 | FN7: =IF(FE3="Dimanche","D",0) -> 0 | FP7: S-Total | FS7: Total | FT7: 06:00-21:00 | FU7: 21:00-06:00 | FV7: 06:00-07:00 | FW7: >7:00 | FX7: =IF(OR((FQ4)=[1]Données!$F$3,(FQ4)=[1]Données!$F$4,(FQ4)=[1]Données!$F$5,(FQ4)=[1]Données!$F$6,(FQ4)=[1]Données!$F$7,(FQ4)=[1]Données!$F$8,(FQ4)=[1]Données!$F$9,(FQ4)=[1]Données!$F$10,(FQ4)=[1]Données!$F$11),"X",0) -> 0 | FY7: =IF(FQ3="Samedi","S",0) -> 0 | FZ7: =IF(FQ3="Dimanche","D",0) -> 0 | GB7: S-Total | GE7: Total | GF7: 06:00-21:00 | GG7: 21:00-06:00 | GH7: 06:00-07:00 | GI7: >7:00 | GJ7: =IF(OR((GC4)=[1]Données!$F$3,(GC4)=[1]Données!$F$4,(GC4)=[1]Données!$F$5,(GC4)=[1]Données!$F$6,(GC4)=[1]Données!$F$7,(GC4)=[1]Données!$F$8,(GC4)=[1]Données!$F$9,(GC4)=[1]Données!$F$10,(GC4)=[1]Données!$F$11),"X",0) -> 0 | GK7: =IF(GC3="Samedi","S",0) -> 0 | GL7: =IF(GC3="Dimanche","D",0) -> 0 | GN7: S-Total | GQ7: Total | GR7: 06:00-21:00 | GS7: 21:00-06:00 | GT7: 06:00-07:00 | GU7: >7:00 | GV7: =IF(OR((GO4)=[1]Données!$F$3,(GO4)=[1]Données!$F$4,(GO4)=[1]Données!$F$5,(GO4)=[1]Données!$F$6,(GO4)=[1]Données!$F$7,(GO4)=[1]Données!$F$8,(GO4)=[1]Données!$F$9,(GO4)=[1]Données!$F$10,(GO4)=[1]Données!$F$11),"X",0) -> 0 | GW7: =IF(GO3="Samedi","S",0) -> 0 | GX7: =IF(GO3="Dimanche","D",0) -> 0 | GZ7: S-Total | HC7: Total | HD7: 06:00-21:00 | HE7: 21:00-06:00 | HF7: 06:00-07:00 | HG7: >7:00 | HH7: =IF(OR((HA4)=[1]Données!$F$3,(HA4)=[1]Données!$F$4,(HA4)=[1]Données!$F$5,(HA4)=[1]Données!$F$6,(HA4)=[1]Données!$F$7,(HA4)=[1]Données!$F$8,(HA4)=[1]Données!$F$9,(HA4)=[1]Données!$F$10,(HA4)=[1]Données!$F$11),"X",0) -> 0 | HI7: =IF(HA3="Samedi","S",0) -> 0 | HJ7: =IF(HA3="Dimanche","D",0) -> 0 | HL7: S-Total | HO7: Total | HP7: 06:00-21:00 | HQ7: 21:00-06:00 | HR7: 06:00-07:00 | HS7: >7:00 | HT7: =IF(OR((HM4)=[1]Données!$F$3,(HM4)=[1]Données!$F$4,(HM4)=[1]Données!$F$5,(HM4)=[1]Données!$F$6,(HM4)=[1]Données!$F$7,(HM4)=[1]Données!$F$8,(HM4)=[1]Données!$F$9,(HM4)=[1]Données!$F$10,(HM4)=[1]Données!$F$11),"X",0) -> 0 | HU7: =IF(HM3="Samedi","S",0) -> S | HV7: =IF(HM3="Dimanche","D",0) -> 0 | HX7: S-Total | IA7: Total | IB7: 06:00-21:00 | IC7: 21:00-06:00 | ID7: 06:00-07:00 | IE7: >7:00 | IF7: =IF(OR((HY4)=[1]Données!$F$3,(HY4)=[1]Données!$F$4,(HY4)=[1]Données!$F$5,(HY4)=[1]Données!$F$6,(HY4)=[1]Données!$F$7,(HY4)=[1]Données!$F$8,(HY4)=[1]Données!$F$9,(HY4)=[1]Données!$F$10,(HY4)=[1]Données!$F$11),"X",0) -> 0 | IG7: =IF(HY3="Samedi","S",0) -> 0 | IH7: =IF(HY3="Dimanche","D",0) -> D | IJ7: S-Total | IM7: Total | IN7: 06:00-21:00 | IO7: 21:00-06:00 | IP7: 06:00-07:00 | IQ7: >7:00 | IR7: =IF(OR((IK4)=[1]Données!$F$3,(IK4)=[1]Données!$F$4,(IK4)=[1]Données!$F$5,(IK4)=[1]Données!$F$6,(IK4)=[1]Données!$F$7,(IK4)=[1]Données!$F$8,(IK4)=[1]Données!$F$9,(IK4)=[1]Données!$F$10,(IK4)=[1]Données!$F$11),"X",0) -> 0 | IS7: =IF(IK3="Samedi","S",0) -> 0 | IT7: =IF(IK3="Dimanche","D",0) -> 0 | IV7: S-Total | IY7: Total | IZ7: 06:00-21:00 | JA7: 21:00-06:00 | JB7: 06:00-07:00 | JC7: >7:00 | JD7: =IF(OR((IW4)=[1]Données!$F$3,(IW4)=[1]Données!$F$4,(IW4)=[1]Données!$F$5,(IW4)=[1]Données!$F$6,(IW4)=[1]Données!$F$7,(IW4)=[1]Données!$F$8,(IW4)=[1]Données!$F$9,(IW4)=[1]Données!$F$10,(IW4)=[1]Données!$F$11),"X",0) -> 0 | JE7: =IF(IW3="Samedi","S",0) -> 0 | JF7: =IF(IW3="Dimanche","D",0) -> 0 | JH7: S-Total | JK7: Total | JL7: 06:00-21:00 | JM7: 21:00-06:00 | JN7: 06:00-07:00 | JO7: >7:00 | JP7: =IF(OR((JI4)=[1]Données!$F$3,(JI4)=[1]Données!$F$4,(JI4)=[1]Données!$F$5,(JI4)=[1]Données!$F$6,(JI4)=[1]Données!$F$7,(JI4)=[1]Données!$F$8,(JI4)=[1]Données!$F$9,(JI4)=[1]Données!$F$10,(JI4)=[1]Données!$F$11),"X",0) -> 0 | JQ7: =IF(JI3="Samedi","S",0) -> 0 | JR7: =IF(JI3="Dimanche","D",0) -> 0 | JT7: S-Total | JW7: Total | JX7: 06:00-21:00 | JY7: 21:00-06:00 | JZ7: 06:00-07:00 | KA7: >7:00 | KB7: =IF(OR((JU4)=[1]Données!$F$3,(JU4)=[1]Données!$F$4,(JU4)=[1]Données!$F$5,(JU4)=[1]Données!$F$6,(JU4)=[1]Données!$F$7,(JU4)=[1]Données!$F$8,(JU4)=[1]Données!$F$9,(JU4)=[1]Données!$F$10,(JU4)=[1]Données!$F$11),"X",0) -> 0 | KC7: =IF(JU3="Samedi","S",0) -> 0 | KD7: =IF(JU3="Dimanche","D",0) -> 0 | KF7: S-Total | KI7: Total | KJ7: 06:00-21:00 | KK7: 21:00-06:00 | KL7: 06:00-07:00 | KM7: >7:00 | KN7: =IF(OR((KG4)=[1]Données!$F$3,(KG4)=[1]Données!$F$4,(KG4)=[1]Données!$F$5,(KG4)=[1]Données!$F$6,(KG4)=[1]Données!$F$7,(KG4)=[1]Données!$F$8,(KG4)=[1]Données!$F$9,(KG4)=[1]Données!$F$10,(KG4)=[1]Données!$F$11),"X",0) -> 0 | KO7: =IF(KG3="Samedi","S",0) -> 0 | KP7: =IF(KG3="Dimanche","D",0) -> 0 | KR7: S-Total | KU7: Total | KV7: 06:00-21:00 | KW7: 21:00-06:00 | KX7: 06:00-07:00 | KY7: >7:00 | KZ7: =IF(OR((KS4)=[1]Données!$F$3,(KS4)=[1]Données!$F$4,(KS4)=[1]Données!$F$5,(KS4)=[1]Données!$F$6,(KS4)=[1]Données!$F$7,(KS4)=[1]Données!$F$8,(KS4)=[1]Données!$F$9,(KS4)=[1]Données!$F$10,(KS4)=[1]Données!$F$11),"X",0) -> 0 | LA7: =IF(KS3="Samedi","S",0) -> S | LB7: =IF(KS3="Dimanche","D",0) -> 0 | LD7: S-Total | LG7: Total | LH7: 06:00-21:00 | LI7: 21:00-06:00 | LJ7: 06:00-07:00 | LK7: >7:00 | LL7: =IF(OR((LE4)=[1]Données!$F$3,(LE4)=[1]Données!$F$4,(LE4)=[1]Données!$F$5,(LE4)=[1]Données!$F$6,(LE4)=[1]Données!$F$7,(LE4)=[1]Données!$F$8,(LE4)=[1]Données!$F$9,(LE4)=[1]Données!$F$10,(LE4)=[1]Données!$F$11),"X",0) -> 0 | LM7: =IF(LE3="Samedi","S",0) -> 0 | LN7: =IF(LE3="Dimanche","D",0) -> D | LP7: S-Total | LS7: Total | LT7: 06:00-21:00 | LU7: 21:00-06:00 | LV7: 06:00-07:00 | LW7: >7:00 | LX7: =IF(OR((LQ4)=[1]Données!$F$3,(LQ4)=[1]Données!$F$4,(LQ4)=[1]Données!$F$5,(LQ4)=[1]Données!$F$6,(LQ4)=[1]Données!$F$7,(LQ4)=[1]Données!$F$8,(LQ4)=[1]Données!$F$9,(LQ4)=[1]Données!$F$10,(LQ4)=[1]Données!$F$11),"X",0) -> 0 | LY7: =IF(LQ3="Samedi","S",0) -> 0 | LZ7: =IF(LQ3="Dimanche","D",0) -> 0 | MB7: S-Total | ME7: Total | MF7: 06:00-21:00 | MG7: 21:00-06:00 | MH7: 06:00-07:00 | MI7: >7:00 | MJ7: =IF(OR((MC4)=[1]Données!$F$3,(MC4)=[1]Données!$F$4,(MC4)=[1]Données!$F$5,(MC4)=[1]Données!$F$6,(MC4)=[1]Données!$F$7,(MC4)=[1]Données!$F$8,(MC4)=[1]Données!$F$9,(MC4)=[1]Données!$F$10,(MC4)=[1]Données!$F$11),"X",0) -> 0 | MK7: =IF(MC3="Samedi","S",0) -> 0 | ML7: =IF(MC3="Dimanche","D",0) -> 0 | MN7: S-Total | MQ7: Total | MR7: 06:00-21:00 | MS7: 21:00-06:00 | MT7: 06:00-07:00 | MU7: >7:00 | MV7: =IF(OR((MO4)=[1]Données!$F$3,(MO4)=[1]Données!$F$4,(MO4)=[1]Données!$F$5,(MO4)=[1]Données!$F$6,(MO4)=[1]Données!$F$7,(MO4)=[1]Données!$F$8,(MO4)=[1]Données!$F$9,(MO4)=[1]Données!$F$10,(MO4)=[1]Données!$F$11),"X",0) -> 0 | MW7: =IF(MO3="Samedi","S",0) -> 0 | MX7: =IF(MO3="Dimanche","D",0) -> 0 | MZ7: S-Total | NC7: Total | ND7: 06:00-21:00 | NE7: 21:00-06:00 | NF7: 06:00-07:00 | NG7: >7:00 | NH7: =IF(OR((NA4)=[1]Données!$F$3,(NA4)=[1]Données!$F$4,(NA4)=[1]Données!$F$5,(NA4)=[1]Données!$F$6,(NA4)=[1]Données!$F$7,(NA4)=[1]Données!$F$8,(NA4)=[1]Données!$F$9,(NA4)=[1]Données!$F$10,(NA4)=[1]Données!$F$11),"X",0) -> 0 | NI7: =IF(NA3="Samedi","S",0) -> 0 | NJ7: =IF(NA3="Dimanche","D",0) -> 0 | NL7: S-Total
A8: 1 | B8: ADS | C8: Expo 1 | E8: 0.91666667 | F8: 0.29166667 | G8: =24*(MOD(F8-E8,1)) -> 9 | H8: =IF(E8<(21/24),(MIN(21-E8*24,G8)),0) -> 0 | I8: =IF(OR(E8>=21/24,H8<>0),MIN(9-MAX(0,E8*24-21),G8-H8),0) -> 8 | J8: =MAX(0,MIN(1,G8-SUM($H8:I8))) -> 1 | K8: =MAX(0,G8-SUM(H8:J8)) -> 0 | L8: =_xlfn.IFS(L$7="X",H$8*[1]Données!$H$23,E$3="Samedi",H$8*[1]Données!$D$23,E$3="Dimanche",H$8*[1]Données!$F23,$B8="ADS",H$8*[1]Données!$B$23) -> 0 | M8: =_xlfn.IFS(L$7="X",I$8*[1]Données!$I$23,E$3="Samedi",I$8*[1]Données!$D$23,E$3="Dimanche",I$8*[1]Données!$F$23,$B8="ADS",I$8*[1]Données!$C$23) -> 422.72 | N8: =_xlfn.IFS(L$7="X",J$8*[1]Données!$I$23,E$3="Samedi",J$8*[1]Données!$D$23,E$3="Dimanche",J$8*[1]Données!$F$23,$B8="ADS",J$8*[1]Données!$C$23) -> 52.84 | O8: =_xlfn.IFS(L$7="X",K$8*[1]Données!$H$23,E$3="Samedi",K8*[1]Données!$D$23,E$3="Dimanche",K$8*[1]Données!$F$23,$B8="ADS",K$8*[1]Données!$B$23) -> 0 | P8: =IF($B8="ADS",SUM(L8:O8),0) -> 475.56 | Q8: 0.70833333 | R8: 0.33333333 | S8: =24*(MOD(R8-Q8,1)) -> 15 | T8: =IF(Q8<(21/24),(MIN(21-Q8*24,S8)),0) -> 4 | U8: =IF(OR(Q8>=21/24,T8<>0),MIN(9-MAX(0,Q8*24-21),S8-T8),0) -> 9 | V8: =MAX(0,MIN(1,S8-SUM($T8:U8))) -> 1 | W8: =MAX(0,S8-SUM(T8:V8)) -> 1 | X8: =_xlfn.IFS(X$7="X",T$8*[1]Données!$H$23,Q$3="Samedi",T$8*[1]Données!$D$23,Q$3="Dimanche",T$8*[1]Données!$F23,$B8="ADS",T$8*[1]Données!$B$23) -> 95.2 | Y8: =_xlfn.IFS(X$7="X",U$8*[1]Données!$I$23,Q$3="Samedi",U$8*[1]Données!$D$23,Q$3="Dimanche",U$8*[1]Données!$F$23,$B8="ADS",U$8*[1]Données!$C$23) -> 237.78 | Z8: =_xlfn.IFS(X$7="X",V$8*[1]Données!$I$23,Q$3="Samedi",V$8*[1]Données!$D$23,Q$3="Dimanche",V$8*[1]Données!$F$23,$B8="ADS",V$8*[1]Données!$C$23) -> 26.42 | AA8: =_xlfn.IFS(X$7="X",W$8*[1]Données!$H$23,Q$3="Samedi",W8*[1]Données!$D$23,Q$3="Dimanche",W$8*[1]Données!$F$23,$B8="ADS",W$8*[1]Données!$B$23) -> 23.8 | AB8: =IF($B8="ADS",SUM(X8:AA8),0) -> 383.2 | AC8: 0.70833333 | AD8: 0.33333333 | AE8: =24*(MOD(AD8-AC8,1)) -> 15 | AF8: =IF(AC8<(21/24),(MIN(21-AC8*24,AE8)),0) -> 4 | AG8: =IF(OR(AC8>=21/24,AF8<>0),MIN(9-MAX(0,AC8*24-21),AE8-AF8),0) -> 9 | AH8: =MAX(0,MIN(1,AE8-SUM($AF8:AG8))) -> 1 | AI8: =MAX(0,AE8-SUM(AF8:AH8)) -> 1 | AJ8: =_xlfn.IFS(AJ$7="X",AF$8*[1]Données!$H$23,AC$3="Samedi",AF$8*[1]Données!$D$23,AC$3="Dimanche",AF$8*[1]Données!$F23,$B8="ADS",AF$8*[1]Données!$B$23) -> 95.2 | AK8: =_xlfn.IFS(AJ$7="X",AG$8*[1]Données!$I$23,AC$3="Samedi",AG$8*[1]Données!$D$23,AC$3="Dimanche",AG$8*[1]Données!$F$23,$B8="ADS",AG$8*[1]Données!$C$23) -> 237.78 | AL8: =_xlfn.IFS(AJ$7="X",AH$8*[1]Données!$I$23,AC$3="Samedi",AH$8*[1]Données!$D$23,AC$3="Dimanche",AH$8*[1]Données!$F$23,$B8="ADS",AH$8*[1]Données!$C$23) -> 26.42 | AM8: =_xlfn.IFS(AJ$7="X",AI$8*[1]Données!$H$23,AC$3="Samedi",AI8*[1]Données!$D$23,AC$3="Dimanche",AI$8*[1]Données!$F$23,$B8="ADS",AI$8*[1]Données!$B$23) -> 23.8 | AN8: =IF($B8="ADS",SUM(AJ8:AM8),0) -> 383.2 | AO8: 0.70833333 | AP8: 0.33333333 | AQ8: =24*(MOD(AP8-AO8,1)) -> 15 | AR8: =IF(AO8<(21/24),(MIN(21-AO8*24,AQ8)),0) -> 4 | AS8: =IF(OR(AO8>=21/24,AR8<>0),MIN(9-MAX(0,AO8*24-21),AQ8-AR8),0) -> 9 | AT8: =MAX(0,MIN(1,AQ8-SUM($AR8:AS8))) -> 1 | AU8: =MAX(0,AQ8-SUM(AR8:AT8)) -> 1 | AV8: =_xlfn.IFS(AV$7="X",AR$8*[1]Données!$H$23,AO$3="Samedi",AR$8*[1]Données!$D$23,AO$3="Dimanche",AR$8*[1]Données!$F23,$B8="ADS",AR$8*[1]Données!$B$23) -> 95.2 | AW8: =_xlfn.IFS(AV$7="X",AS$8*[1]Données!$I$23,AO$3="Samedi",AS$8*[1]Données!$D$23,AO$3="Dimanche",AS$8*[1]Données!$F$23,$B8="ADS",AS$8*[1]Données!$C$23) -> 237.78 | AX8: =_xlfn.IFS(AV$7="X",AT$8*[1]Données!$I$23,AO$3="Samedi",AT$8*[1]Données!$D$23,AO$3="Dimanche",AT$8*[1]Données!$F$23,$B8="ADS",AT$8*[1]Données!$C$23) -> 26.42 | AY8: =_xlfn.IFS(AV$7="X",AU$8*[1]Données!$H$23,AO$3="Samedi",AU8*[1]Données!$D$23,AO$3="Dimanche",AU$8*[1]Données!$F$23,$B8="ADS",AU$8*[1]Données!$B$23) -> 23.8 | AZ8: =IF($B8="ADS",SUM(AV8:AY8),0) -> 383.2 | BA8: 0.70833333 | BB8: 0.33333333 | BC8: =24*(MOD(BB8-BA8,1)) -> 15 | BD8: =IF(BA8<(21/24),(MIN(21-BA8*24,BC8)),0) -> 4 | BE8: =IF(OR(BA8>=21/24,BD8<>0),MIN(9-MAX(0,BA8*24-21),BC8-BD8),0) -> 9 | BF8: =MAX(0,MIN(1,BC8-SUM($BD8:BE8))) -> 1 | BG8: =MAX(0,BC8-SUM(BD8:BF8)) -> 1 | BH8: =_xlfn.IFS(BH$7="X",BD$8*[1]Données!$H$23,BA$3="Samedi",BD$8*[1]Données!$D$23,BA$3="Dimanche",BD$8*[1]Données!$F23,$B8="ADS",BD$8*[1]Données!$B$23) -> 95.2 | BI8: =_xlfn.IFS(BH$7="X",BE$8*[1]Données!$I$23,BA$3="Samedi",BE$8*[1]Données!$D$23,BA$3="Dimanche",BE$8*[1]Données!$F$23,$B8="ADS",BE$8*[1]Données!$C$23) -> 214.2 | BJ8: =_xlfn.IFS(BH$7="X",BF$8*[1]Données!$I$23,BA$3="Samedi",BF$8*[1]Données!$D$23,BA$3="Dimanche",BF$8*[1]Données!$F$23,$B8="ADS",BF$8*[1]Données!$C$23) -> 23.8 | BK8: =_xlfn.IFS(BH$7="X",BG$8*[1]Données!$H$23,BA$3="Samedi",BG8*[1]Données!$D$23,BA$3="Dimanche",BG$8*[1]Données!$F$23,$B8="ADS",BG$8*[1]Données!$B$23) -> 23.8 | BL8: =IF($B8="ADS",SUM(BH8:BK8),0) -> 357 | BM8: 0.70833333 | BN8: 0.33333333 | BO8: =24*(MOD(BN8-BM8,1)) -> 15 | BP8: =IF(BM8<(21/24),(MIN(21-BM8*24,BO8)),0) -> 4 | BQ8: =IF(OR(BM8>=21/24,BP8<>0),MIN(9-MAX(0,BM8*24-21),BO8-BP8),0) -> 9 | BR8: =MAX(0,MIN(1,BO8-SUM($BP8:BQ8))) -> 1 | BS8: =MAX(0,BO8-SUM(BP8:BR8)) -> 1 | BT8: =_xlfn.IFS(BT$7="X",BP$8*[1]Données!$H$23,BM$3="Samedi",BP$8*[1]Données!$D$23,BM$3="Dimanche",BP$8*[1]Données!$F23,$B8="ADS",BP$8*[1]Données!$B$23) -> 104.72 | BU8: =_xlfn.IFS(BT$7="X",BQ$8*[1]Données!$I$23,BM$3="Samedi",BQ$8*[1]Données!$D$23,BM$3="Dimanche",BQ$8*[1]Données!$F$23,$B8="ADS",BQ$8*[1]Données!$C$23) -> 235.62 | BV8: =_xlfn.IFS(BT$7="X",BR$8*[1]Données!$I$23,BM$3="Samedi",BR$8*[1]Données!$D$23,BM$3="Dimanche",BR$8*[1]Données!$F$23,$B8="ADS",BR$8*[1]Données!$C$23) -> 26.18 | BW8: =_xlfn.IFS(BT$7="X",BS$8*[1]Données!$H$23,BM$3="Samedi",BS8*[1]Données!$D$23,BM$3="Dimanche",BS$8*[1]Données!$F$23,$B8="ADS",BS$8*[1]Données!$B$23) -> 26.18 | BX8: =IF($B8="ADS",SUM(BT8:BW8),0) -> 392.7 | BY8: 0.70833333 | BZ8: 0.33333333 | CA8: =24*(MOD(BZ8-BY8,1)) -> 15 | CB8: =IF(BY8<(21/24),(MIN(21-BY8*24,CA8)),0) -> 4 | CC8: =IF(OR(BY8>=21/24,CB8<>0),MIN(9-MAX(0,BY8*24-21),CA8-CB8),0) -> 9 | CD8: =MAX(0,MIN(1,CA8-SUM($BP8:CC8))) -> 0 | CE8: =MAX(0,CA8-SUM(CB8:CD8)) -> 2 | CF8: =_xlfn.IFS(CF$7="X",CB$8*[1]Données!$H$23,BY$3="Samedi",CB$8*[1]Données!$D$23,BY$3="Dimanche",CB$8*[1]Données!$F23,$B8="ADS",CB$8*[1]Données!$B$23) -> 95.2 | CG8: =_xlfn.IFS(CF$7="X",CC$8*[1]Données!$I$23,BY$3="Samedi",CC$8*[1]Données!$D$23,BY$3="Dimanche",CC$8*[1]Données!$F$23,$B8="ADS",CC$8*[1]Données!$C$23) -> 237.78 | CH8: =_xlfn.IFS(CF$7="X",CD$8*[1]Données!$I$23,BY$3="Samedi",CD$8*[1]Données!$D$23,BY$3="Dimanche",CD$8*[1]Données!$F$23,$B8="ADS",CD$8*[1]Données!$C$23) -> 0 | CI8: =_xlfn.IFS(CF$7="X",CE$8*[1]Données!$H$23,BY$3="Samedi",CE8*[1]Données!$D$23,BY$3="Dimanche",CE$8*[1]Données!$F$23,$B8="ADS",CE$8*[1]Données!$B$23) -> 47.6 | CJ8: =IF($B8="ADS",SUM(CF8:CI8),0) -> 380.58 | CK8: 0.70833333 | CL8: 0.33333333 | CM8: =24*(MOD(CL8-CK8,1)) -> 15 | CN8: =IF(CK8<(21/24),(MIN(21-CK8*24,CM8)),0) -> 4 | CO8: =IF(OR(CK8>=21/24,CN8<>0),MIN(9-MAX(0,CK8*24-21),CM8-CN8),0) -> 9 | CP8: =MAX(0,MIN(1,CM8-SUM(CN8:CO8))) -> 1 | CQ8: =MAX(0,CM8-SUM(CN8:CP8)) -> 1 | CR8: =_xlfn.IFS(CR$7="X",CN$8*[1]Données!$H$23,CK$3="Samedi",CN$8*[1]Données!$D$23,CK$3="Dimanche",CN$8*[1]Données!$F23,$B8="ADS",CN$8*[1]Données!$B$23) -> 95.2 | CS8: =_xlfn.IFS(CR$7="X",CO$8*[1]Données!$I$23,CK$3="Samedi",CO$8*[1]Données!$D$23,CK$3="Dimanche",CO$8*[1]Données!$F$23,$B8="ADS",CO$8*[1]Données!$C$23) -> 237.78 | CT8: =_xlfn.IFS(CR$7="X",CP$8*[1]Données!$I$23,CK$3="Samedi",CP$8*[1]Données!$D$23,CK$3="Dimanche",CP$8*[1]Données!$F$23,$B8="ADS",CP$8*[1]Données!$C$23) -> 26.42 | CU8: =_xlfn.IFS(CR$7="X",CQ$8*[1]Données!$H$23,CK$3="Samedi",CQ8*[1]Données!$D$23,CK$3="Dimanche",CQ$8*[1]Données!$F$23,$B8="ADS",CQ$8*[1]Données!$B$23) -> 23.8 | CV8: =IF($B8="ADS",SUM(CR8:CU8),0) -> 383.2 | CW8: 0.70833333 | CX8: 0.33333333 | CY8: =24*(MOD(CX8-CW8,1)) -> 15 | CZ8: =IF(CW8<(21/24),(MIN(21-CW8*24,CY8)),0) -> 4 | DA8: =IF(OR(CW8>=21/24,CZ8<>0),MIN(9-MAX(0,CW8*24-21),CY8-CZ8),0) -> 9 | DB8: =MAX(0,MIN(1,CY8-SUM(CZ8:DA8))) -> 1 | DC8: =MAX(0,CY8-SUM(CZ8:DB8)) -> 1 | DD8: =_xlfn.IFS(DD$7="X",CZ$8*[1]Données!$H$23,CW$3="Samedi",CZ$8*[1]Données!$D$23,CW$3="Dimanche",CZ$8*[1]Données!$F23,$B8="ADS",CZ$8*[1]Données!$B$23) -> 95.2 | DE8: =_xlfn.IFS(DD$7="X",DA$8*[1]Données!$I$23,CW$3="Samedi",DA$8*[1]Données!$D$23,CW$3="Dimanche",DA$8*[1]Données!$F$23,$B8="ADS",DA$8*[1]Données!$C$23) -> 237.78 | DF8: =_xlfn.IFS(DD$7="X",DB$8*[1]Données!$I$23,CW$3="Samedi",DB$8*[1]Données!$D$23,CW$3="Dimanche",DB$8*[1]Données!$F$23,$B8="ADS",DB$8*[1]Données!$C$23) -> 26.42 | DG8: =_xlfn.IFS(DD$7="X",DC$8*[1]Données!$H$23,CW$3="Samedi",DC8*[1]Données!$D$23,CW$3="Dimanche",DC$8*[1]Données!$F$23,$B8="ADS",DC$8*[1]Données!$B$23) -> 23.8 | DH8: =IF($B8="ADS",SUM(DD8:DG8),0) -> 383.2 | DI8: 0.70833333 | DJ8: 0.33333333 | DK8: =24*(MOD(DJ8-DI8,1)) -> 15 | DL8: =IF(DI8<(21/24),(MIN(21-DI8*24,DK8)),0) -> 4 | DM8: =IF(OR(DI8>=21/24,DL8<>0),MIN(9-MAX(0,DI8*24-21),DK8-DL8),0) -> 9 | DN8: =MAX(0,MIN(1,DK8-SUM($DL8:DM8))) -> 1 | DO8: =MAX(0,DK8-SUM(DL8:DN8)) -> 1 | DP8: =_xlfn.IFS(DP$7="X",DL$8*[1]Données!$H$23,DI$3="Samedi",DL$8*[1]Données!$D$23,DI$3="Dimanche",DL$8*[1]Données!$F23,$B8="ADS",DL$8*[1]Données!$B$23) -> 95.2 | DQ8: =_xlfn.IFS(DP$7="X",DM$8*[1]Données!$I$23,DI$3="Samedi",DM$8*[1]Données!$D$23,DI$3="Dimanche",DM$8*[1]Données!$F$23,$B8="ADS",DM$8*[1]Données!$C$23) -> 237.78 | DR8: =_xlfn.IFS(DP$7="X",DN$8*[1]Données!$I$23,DI$3="Samedi",DN$8*[1]Données!$D$23,DI$3="Dimanche",DN$8*[1]Données!$F$23,$B8="ADS",DN$8*[1]Données!$C$23) -> 26.42 | DS8: =_xlfn.IFS(DP$7="X",DO$8*[1]Données!$H$23,DI$3="Samedi",DO8*[1]Données!$D$23,DI$3="Dimanche",DO$8*[1]Données!$F$23,$B8="ADS",DO$8*[1]Données!$B$23) -> 23.8 | DT8: =IF($B8="ADS",SUM(DP8:DS8),0) -> 383.2 | DU8: 0.70833333 | DV8: 0.33333333 | DW8: =24*(MOD(DV8-DU8,1)) -> 15 | DX8: =IF(DU8<(21/24),(MIN(21-DU8*24,DW8)),0) -> 4 | DY8: =IF(OR(DU8>=21/24,DX8<>0),MIN(9-MAX(0,DU8*24-21),DW8-DX8),0) -> 9 | DZ8: =MAX(0,MIN(1,DW8-SUM(DX8:DY8))) -> 1 | EA8: =MAX(0,DW8-SUM(DX8:DZ8)) -> 1 | EB8: =_xlfn.IFS(EB$7="X",DX$8*[1]Données!$H$23,DU$3="Samedi",DX$8*[1]Données!$D$23,DU$3="Dimanche",DX$8*[1]Données!$F23,$B8="ADS",DX$8*[1]Données!$B$23) -> 95.2 | EC8: =_xlfn.IFS(EB$7="X",DY$8*[1]Données!$I$23,DU$3="Samedi",DY$8*[1]Données!$D$23,DU$3="Dimanche",DY$8*[1]Données!$F$23,$B8="ADS",DY$8*[1]Données!$C$23) -> 237.78 | ED8: =_xlfn.IFS(EB$7="X",DZ$8*[1]Données!$I$23,DU$3="Samedi",DZ$8*[1]Données!$D$23,DU$3="Dimanche",DZ$8*[1]Données!$F$23,$B8="ADS",DZ$8*[1]Données!$C$23) -> 26.42 | EE8: =_xlfn.IFS(EB$7="X",EA$8*[1]Données!$H$23,DU$3="Samedi",EA8*[1]Données!$D$23,DU$3="Dimanche",EA$8*[1]Données!$F$23,$B8="ADS",EA$8*[1]Données!$B$23) -> 23.8 | EF8: =IF($B8="ADS",SUM(EB8:EE8),0) -> 383.2 | EG8: 0.70833333 | EH8: 0.33333333 | EI8: =24*(MOD(EH8-EG8,1)) -> 15 | EJ8: =IF(EG8<(21/24),(MIN(21-EG8*24,EI8)),0) -> 4 | EK8: =IF(OR(EG8>=21/24,EJ8<>0),MIN(9-MAX(0,EG8*24-21),EI8-EJ8),0) -> 9 | EL8: =MAX(0,MIN(1,EI8-SUM(EJ8:EK8))) -> 1 | EM8: =MAX(0,EI8-SUM(EJ8:EL8)) -> 1 | EN8: =_xlfn.IFS(EN$7="X",EJ$8*[1]Données!$H$23,EG$3="Samedi",EJ$8*[1]Données!$D$23,EG$3="Dimanche",EJ$8*[1]Données!$F23,$B8="ADS",EJ$8*[1]Données!$B$23) -> 95.2 | EO8: =_xlfn.IFS(EN$7="X",EK$8*[1]Données!$I$23,EG$3="Samedi",EK$8*[1]Données!$D$23,EG$3="Dimanche",EK$8*[1]Données!$F$23,$B8="ADS",EK$8*[1]Données!$C$23) -> 214.2 | EP8: =_xlfn.IFS(EN$7="X",EL$8*[1]Données!$I$23,EG$3="Samedi",EL$8*[1]Données!$D$23,EG$3="Dimanche",EL$8*[1]Données!$F$23,$B8="ADS",EL$8*[1]Données!$C$23) -> 23.8 | EQ8: =_xlfn.IFS(EN$7="X",EM$8*[1]Données!$H$23,EG$3="Samedi",EM8*[1]Données!$D$23,EG$3="Dimanche",EM$8*[1]Données!$F$23,$B8="ADS",EM$8*[1]Données!$B$23) -> 23.8 | ER8: =IF($B8="ADS",SUM(EN8:EQ8),0) -> 357 | ES8: 0.70833333 | ET8: 0.33333333 | EU8: =24*(MOD(ET8-ES8,1)) -> 15 | EV8: =IF(ES8<(21/24),(MIN(21-ES8*24,EU8)),0) -> 4 | EW8: =IF(OR(ES8>=21/24,EV8<>0),MIN(9-MAX(0,ES8*24-21),EU8-EV8),0) -> 9 | EX8: =MAX(0,MIN(1,EU8-SUM(EV8:EW8))) -> 1 | EY8: =MAX(0,EU8-SUM(EV8:EX8)) -> 1 | EZ8: =_xlfn.IFS(EZ$7="X",EV$8*[1]Données!$H$23,ES$3="Samedi",EV$8*[1]Données!$D$23,ES$3="Dimanche",EV$8*[1]Données!$F23,$B8="ADS",EV$8*[1]Données!$B$23) -> 104.72 | FA8: =_xlfn.IFS(EZ$7="X",EW$8*[1]Données!$I$23,ES$3="Samedi",EW$8*[1]Données!$D$23,ES$3="Dimanche",EW$8*[1]Données!$F$23,$B8="ADS",EW$8*[1]Données!$C$23) -> 235.62 | FB8: =_xlfn.IFS(EZ$7="X",EX$8*[1]Données!$I$23,ES$3="Samedi",EX$8*[1]Données!$D$23,ES$3="Dimanche",EX$8*[1]Données!$F$23,$B8="ADS",EX$8*[1]Données!$C$23) -> 26.18 | FC8: =_xlfn.IFS(EZ$7="X",EY$8*[1]Données!$H$23,ES$3="Samedi",EY8*[1]Données!$D$23,ES$3="Dimanche",EY$8*[1]Données!$F$23,$B8="ADS",EY$8*[1]Données!$B$23) -> 26.18 | FD8: =IF($B8="ADS",SUM(EZ8:FC8),0) -> 392.7 | FE8: 0.70833333 | FF8: 0.33333333 | FG8: =24*(MOD(FF8-FE8,1)) -> 15 | FH8: =IF(FE8<(21/24),(MIN(21-FE8*24,FG8)),0) -> 4 | FI8: =IF(OR(FE8>=21/24,FH8<>0),MIN(9-MAX(0,FE8*24-21),FG8-FH8),0) -> 9 | FJ8: =MAX(0,MIN(1,FG8-SUM(FH8:FI8))) -> 1 | FK8: =MAX(0,FG8-SUM(FH8:FJ8)) -> 1 | FL8: =_xlfn.IFS(FL$7="X",FH$8*[1]Données!$H$23,FE$3="Samedi",FH$8*[1]Données!$D$23,FE$3="Dimanche",FH$8*[1]Données!$F23,$B8="ADS",FH$8*[1]Données!$B$23) -> 95.2 | FM8: =_xlfn.IFS(FL$7="X",FI$8*[1]Données!$I$23,FE$3="Samedi",FI$8*[1]Données!$D$23,FE$3="Dimanche",FI$8*[1]Données!$F$23,$B8="ADS",FI$8*[1]Données!$C$23) -> 237.78 | FN8: =_xlfn.IFS(FL$7="X",FJ$8*[1]Données!$I$23,FE$3="Samedi",FJ$8*[1]Données!$D$23,FE$3="Dimanche",FJ$8*[1]Données!$F$23,$B8="ADS",FJ$8*[1]Données!$C$23) -> 26.42 | FO8: =_xlfn.IFS(FL$7="X",FK$8*[1]Données!$H$23,FE$3="Samedi",FK8*[1]Données!$D$23,FE$3="Dimanche",FK$8*[1]Données!$F$23,$B8="ADS",FK$8*[1]Données!$B$23) -> 23.8 | FP8: =IF($B8="ADS",SUM(FL8:FO8),0) -> 383.2 | FQ8: 0.70833333 | FR8: 0.33333333 | FS8: =24*(MOD(FR8-FQ8,1)) -> 15 | FT8: =IF(FQ8<(21/24),(MIN(21-FQ8*24,FS8)),0) -> 4 | FU8: =IF(OR(FQ8>=21/24,FT8<>0),MIN(9-MAX(0,FQ8*24-21),FS8-FT8),0) -> 9 | FV8: =MAX(0,MIN(1,FS8-SUM(FT8:FU8))) -> 1 | FW8: =MAX(0,FS8-SUM(FT8:FV8)) -> 1 | FX8: =_xlfn.IFS(FX$7="X",FT$8*[1]Données!$H$23,FQ$3="Samedi",FT$8*[1]Données!$D$23,FQ$3="Dimanche",FT$8*[1]Données!$F23,$B8="ADS",FT$8*[1]Données!$B$23) -> 95.2 | FY8: =_xlfn.IFS(FX$7="X",FU$8*[1]Données!$I$23,FQ$3="Samedi",FU$8*[1]Données!$D$23,FQ$3="Dimanche",FU$8*[1]Données!$F$23,$B8="ADS",FU$8*[1]Données!$C$23) -> 237.78 | FZ8: =_xlfn.IFS(FX$7="X",FV$8*[1]Données!$I$23,FQ$3="Samedi",FV$8*[1]Données!$D$23,FQ$3="Dimanche",FV$8*[1]Données!$F$23,$B8="ADS",FV$8*[1]Données!$C$23) -> 26.42 | GA8: =_xlfn.IFS(FX$7="X",FW$8*[1]Données!$H$23,FQ$3="Samedi",FW8*[1]Données!$D$23,FQ$3="Dimanche",FW$8*[1]Données!$F$23,$B8="ADS",FW$8*[1]Données!$B$23) -> 23.8 | GB8: =IF($B8="ADS",SUM(FX8:GA8),0) -> 383.2 | GC8: 0.70833333 | GD8: 0.33333333 | GE8: =24*(MOD(GD8-GC8,1)) -> 15 | GF8: =IF(GC8<(21/24),(MIN(21-GC8*24,GE8)),0) -> 4 | GG8: =IF(OR(GC8>=21/24,GF8<>0),MIN(9-MAX(0,GC8*24-21),GE8-GF8),0) -> 9 | GH8: =MAX(0,MIN(1,GE8-SUM(GF8:GG8))) -> 1 | GI8: =MAX(0,GE8-SUM(GF8:GH8)) -> 1 | GJ8: =_xlfn.IFS(GJ$7="X",GF$8*[1]Données!$H$23,GC$3="Samedi",GF$8*[1]Données!$D$23,GC$3="Dimanche",GF$8*[1]Données!$F23,$B8="ADS",GF$8*[1]Données!$B$23) -> 95.2 | GK8: =_xlfn.IFS(GJ$7="X",GG$8*[1]Données!$I$23,GC$3="Samedi",GG$8*[1]Données!$D$23,GC$3="Dimanche",GG$8*[1]Données!$F$23,$B8="ADS",GG$8*[1]Données!$C$23) -> 237.78 | GL8: =_xlfn.IFS(GJ$7="X",GH$8*[1]Données!$I$23,GC$3="Samedi",GH$8*[1]Données!$D$23,GC$3="Dimanche",GH$8*[1]Données!$F$23,$B8="ADS",GH$8*[1]Données!$C$23) -> 26.42 | GM8: =_xlfn.IFS(GJ$7="X",GI$8*[1]Données!$H$23,GC$3="Samedi",GI8*[1]Données!$D$23,GC$3="Dimanche",GI$8*[1]Données!$F$23,$B8="ADS",GI$8*[1]Données!$B$23) -> 23.8 | GN8: =IF($B8="ADS",SUM(GJ8:GM8),0) -> 383.2 | GO8: 0.70833333 | GP8: 0.33333333 | GQ8: =24*(MOD(GP8-GO8,1)) -> 15 | GR8: =IF(GO8<(21/24),(MIN(21-GO8*24,GQ8)),0) -> 4 | GS8: =IF(OR(GO8>=21/24,GR8<>0),MIN(9-MAX(0,GO8*24-21),GQ8-GR8),0) -> 9 | GT8: =MAX(0,MIN(1,GQ8-SUM(GR8:GS8))) -> 1 | GU8: =MAX(0,GQ8-SUM(GR8:GT8)) -> 1 | GV8: =_xlfn.IFS(GV$7="X",GR$8*[1]Données!$H$23,GO$3="Samedi",GR$8*[1]Données!$D$23,GO$3="Dimanche",GR$8*[1]Données!$F23,$B8="ADS",GR$8*[1]Données!$B$23) -> 95.2 | GW8: =_xlfn.IFS(GV$7="X",GS$8*[1]Données!$I$23,GO$3="Samedi",GS$8*[1]Données!$D$23,GO$3="Dimanche",GS$8*[1]Données!$F$23,$B8="ADS",GS$8*[1]Données!$C$23) -> 237.78 | GX8: =_xlfn.IFS(GV$7="X",GT$8*[1]Données!$I$23,GO$3="Samedi",GT$8*[1]Données!$D$23,GO$3="Dimanche",GT$8*[1]Données!$F$23,$B8="ADS",GT$8*[1]Données!$C$23) -> 26.42 | GY8: =_xlfn.IFS(GV$7="X",GU$8*[1]Données!$H$23,GO$3="Samedi",GU8*[1]Données!$D$23,GO$3="Dimanche",GU$8*[1]Données!$F$23,$B8="ADS",GU$8*[1]Données!$B$23) -> 23.8 | GZ8: =IF($B8="ADS",SUM(GV8:GY8),0) -> 383.2 | HA8: 0.70833333 | HB8: 0.33333333 | HC8: =24*(MOD(HB8-HA8,1)) -> 15 | HD8: =IF(HA8<(21/24),(MIN(21-HA8*24,HC8)),0) -> 4 | HE8: =IF(OR(HA8>=21/24,HD8<>0),MIN(9-MAX(0,HA8*24-21),HC8-HD8),0) -> 9 | HF8: =MAX(0,MIN(1,HC8-SUM(HD8:HE8))) -> 1 | HG8: =MAX(0,HC8-SUM(HD8:HF8)) -> 1 | HH8: =_xlfn.IFS(HH$7="X",HD$8*[1]Données!$H$23,HA$3="Samedi",HD$8*[1]Données!$D$23,HA$3="Dimanche",HD$8*[1]Données!$F23,$B8="ADS",HD$8*[1]Données!$B$23) -> 95.2 | HI8: =_xlfn.IFS(HH$7="X",HE$8*[1]Données!$I$23,HA$3="Samedi",HE$8*[1]Données!$D$23,HA$3="Dimanche",HE$8*[1]Données!$F$23,$B8="ADS",HE$8*[1]Données!$C$23) -> 237.78 | HJ8: =_xlfn.IFS(HH$7="X",HF$8*[1]Données!$I$23,HA$3="Samedi",HF$8*[1]Données!$D$23,HA$3="Dimanche",HF$8*[1]Données!$F$23,$B8="ADS",HF$8*[1]Données!$C$23) -> 26.42 | HK8: =_xlfn.IFS(HH$7="X",HG$8*[1]Données!$H$23,HA$3="Samedi",HG8*[1]Données!$D$23,HA$3="Dimanche",HG$8*[1]Données!$F$23,$B8="ADS",HG$8*[1]Données!$B$23) -> 23.8 | HL8: =IF($B8="ADS",SUM(HH8:HK8),0) -> 383.2 | HM8: 0.70833333 | HN8: 0.33333333 | HO8: =24*(MOD(HN8-HM8,1)) -> 15 | HP8: =IF(HM8<(21/24),(MIN(21-HM8*24,HO8)),0) -> 4 | HQ8: =IF(OR(HM8>=21/24,HP8<>0),MIN(9-MAX(0,HM8*24-21),HO8-HP8),0) -> 9 | HR8: =MAX(0,MIN(1,HO8-SUM(HP8:HQ8))) -> 1 | HS8: =MAX(0,HO8-SUM(HP8:HR8)) -> 1 | HT8: =_xlfn.IFS(HT$7="X",HP$8*[1]Données!$H$23,HM$3="Samedi",HP$8*[1]Données!$D$23,HM$3="Dimanche",HP$8*[1]Données!$F23,$B8="ADS",HP$8*[1]Données!$B$23) -> 95.2 | HU8: =_xlfn.IFS(HT$7="X",HQ$8*[1]Données!$I$23,HM$3="Samedi",HQ$8*[1]Données!$D$23,HM$3="Dimanche",HQ$8*[1]Données!$F$23,$B8="ADS",HQ$8*[1]Données!$C$23) -> 214.2 | HV8: =_xlfn.IFS(HT$7="X",HR$8*[1]Données!$I$23,HM$3="Samedi",HR$8*[1]Données!$D$23,HM$3="Dimanche",HR$8*[1]Données!$F$23,$B8="ADS",HR$8*[1]Données!$C$23) -> 23.8 | HW8: =_xlfn.IFS(HT$7="X",HS$8*[1]Données!$H$23,HM$3="Samedi",HS8*[1]Données!$D$23,HM$3="Dimanche",HS$8*[1]Données!$F$23,$B8="ADS",HS$8*[1]Données!$B$23) -> 23.8 | HX8: =IF($B8="ADS",SUM(HT8:HW8),0) -> 357 | HY8: 0.70833333 | HZ8: 0.33333333 | IA8: =24*(MOD(HZ8-HY8,1)) -> 15 | IB8: =IF(HY8<(21/24),(MIN(21-HY8*24,IA8)),0) -> 4 | IC8: =IF(OR(HY8>=21/24,IB8<>0),MIN(9-MAX(0,HY8*24-21),IA8-IB8),0) -> 9 | ID8: =MAX(0,MIN(1,IA8-SUM(IB8:IC8))) -> 1 | IE8: =MAX(0,IA8-SUM(IB8:ID8)) -> 1 | IF8: =_xlfn.IFS(IF$7="X",IB$8*[1]Données!$H$23,HY$3="Samedi",IB$8*[1]Données!$D$23,HY$3="Dimanche",IB$8*[1]Données!$F23,$B8="ADS",IB$8*[1]Données!$B$23) -> 104.72 | IG8: =_xlfn.IFS(IF$7="X",IC$8*[1]Données!$I$23,HY$3="Samedi",IC$8*[1]Données!$D$23,HY$3="Dimanche",IC$8*[1]Données!$F$23,$B8="ADS",IC$8*[1]Données!$C$23) -> 235.62 | IH8: =_xlfn.IFS(IF$7="X",ID$8*[1]Données!$I$23,HY$3="Samedi",ID$8*[1]Données!$D$23,HY$3="Dimanche",ID$8*[1]Données!$F$23,$B8="ADS",ID$8*[1]Données!$C$23) -> 26.18 | II8: =_xlfn.IFS(IF$7="X",IE$8*[1]Données!$H$23,HY$3="Samedi",IE8*[1]Données!$D$23,HY$3="Dimanche",IE$8*[1]Données!$F$23,$B8="ADS",IE$8*[1]Données!$B$23) -> 26.18 | IJ8: =IF($B8="ADS",SUM(IF8:II8),0) -> 392.7 | IK8: 0.70833333 | IL8: 0.33333333 | IM8: =24*(MOD(IL8-IK8,1)) -> 15 | IN8: =IF(IK8<(21/24),(MIN(21-IK8*24,IM8)),0) -> 4 | IO8: =IF(OR(IK8>=21/24,IN8<>0),MIN(9-MAX(0,IK8*24-21),IM8-IN8),0) -> 9 | IP8: =MAX(0,MIN(1,IM8-SUM(IN8:IO8))) -> 1 | IQ8: =MAX(0,IM8-SUM(IN8:IP8)) -> 1 | IR8: =_xlfn.IFS(IR$7="X",IN$8*[1]Données!$H$23,IK$3="Samedi",IN$8*[1]Données!$D$23,IK$3="Dimanche",IN$8*[1]Données!$F23,$B8="ADS",IN$8*[1]Données!$B$23) -> 95.2 | IS8: =_xlfn.IFS(IR$7="X",IO$8*[1]Données!$I$23,IK$3="Samedi",IO$8*[1]Données!$D$23,IK$3="Dimanche",IO$8*[1]Données!$F$23,$B8="ADS",IO$8*[1]Données!$C$23) -> 237.78 | IT8: =_xlfn.IFS(IR$7="X",IP$8*[1]Données!$I$23,IK$3="Samedi",IP$8*[1]Données!$D$23,IK$3="Dimanche",IP$8*[1]Données!$F$23,$B8="ADS",IP$8*[1]Données!$C$23) -> 26.42 | IU8: =_xlfn.IFS(IR$7="X",IQ$8*[1]Données!$H$23,IK$3="Samedi",IQ8*[1]Données!$D$23,IK$3="Dimanche",IQ$8*[1]Données!$F$23,$B8="ADS",IQ$8*[1]Données!$B$23) -> 23.8 | IV8: =IF($B8="ADS",SUM(IR8:IU8),0) -> 383.2 | IW8: 0.70833333 | IX8: 0.33333333 | IY8: =24*(MOD(IX8-IW8,1)) -> 15 | IZ8: =IF(IW8<(21/24),(MIN(21-IW8*24,IY8)),0) -> 4 | JA8: =IF(OR(IW8>=21/24,IZ8<>0),MIN(9-MAX(0,IW8*24-21),IY8-IZ8),0) -> 9 | JB8: =MAX(0,MIN(1,IY8-SUM(IZ8:JA8))) -> 1 | JC8: =MAX(0,IY8-SUM(IZ8:JB8)) -> 1 | JD8: =_xlfn.IFS(JD$7="X",IZ$8*[1]Données!$H$23,IW$3="Samedi",IZ$8*[1]Données!$D$23,IW$3="Dimanche",IZ$8*[1]Données!$F23,$B8="ADS",IZ$8*[1]Données!$B$23) -> 95.2 | JE8: =_xlfn.IFS(JD$7="X",JA$8*[1]Données!$I$23,IW$3="Samedi",JA$8*[1]Données!$D$23,IW$3="Dimanche",JA$8*[1]Données!$F$23,$B8="ADS",JA$8*[1]Données!$C$23) -> 237.78 | JF8: =_xlfn.IFS(JD$7="X",JB$8*[1]Données!$I$23,IW$3="Samedi",JB$8*[1]Données!$D$23,IW$3="Dimanche",JB$8*[1]Données!$F$23,$B8="ADS",JB$8*[1]Données!$C$23) -> 26.42 | JG8: =_xlfn.IFS(JD$7="X",JC$8*[1]Données!$H$23,IW$3="Samedi",JC8*[1]Données!$D$23,IW$3="Dimanche",JC$8*[1]Données!$F$23,$B8="ADS",JC$8*[1]Données!$B$23) -> 23.8 | JH8: =IF($B8="ADS",SUM(JD8:JG8),0) -> 383.2 | JI8: 0.70833333 | JJ8: 0.33333333 | JK8: =24*(MOD(JJ8-JI8,1)) -> 15 | JL8: =IF(JI8<(21/24),(MIN(21-JI8*24,JK8)),0) -> 4 | JM8: =IF(OR(JI8>=21/24,JL8<>0),MIN(9-MAX(0,JI8*24-21),JK8-JL8),0) -> 9 | JN8: =MAX(0,MIN(1,JK8-SUM(JL8:JM8))) -> 1 | JO8: =MAX(0,JK8-SUM(JL8:JN8)) -> 1 | JP8: =_xlfn.IFS(JP$7="X",JL$8*[1]Données!$H$23,JI$3="Samedi",JL$8*[1]Données!$D$23,JI$3="Dimanche",JL$8*[1]Données!$F23,$B8="ADS",JL$8*[1]Données!$B$23) -> 95.2 | JQ8: =_xlfn.IFS(JP$7="X",JM$8*[1]Données!$I$23,JI$3="Samedi",JM$8*[1]Données!$D$23,JI$3="Dimanche",JM$8*[1]Données!$F$23,$B8="ADS",JM$8*[1]Données!$C$23) -> 237.78 | JR8: =_xlfn.IFS(JP$7="X",JN$8*[1]Données!$I$23,JI$3="Samedi",JN$8*[1]Données!$D$23,JI$3="Dimanche",JN$8*[1]Données!$F$23,$B8="ADS",JN$8*[1]Données!$C$23) -> 26.42 | JS8: =_xlfn.IFS(JP$7="X",JO$8*[1]Données!$H$23,JI$3="Samedi",JO8*[1]Données!$D$23,JI$3="Dimanche",JO$8*[1]Données!$F$23,$B8="ADS",JO$8*[1]Données!$B$23) -> 23.8 | JT8: =IF($B8="ADS",SUM(JP8:JS8),0) -> 383.2 | JU8: 0.70833333 | JV8: 0.33333333 | JW8: =24*(MOD(JV8-JU8,1)) -> 15 | JX8: =IF(JU8<(21/24),(MIN(21-JU8*24,JW8)),0) -> 4 | JY8: =IF(OR(JU8>=21/24,JX8<>0),MIN(9-MAX(0,JU8*24-21),JW8-JX8),0) -> 9 | JZ8: =MAX(0,MIN(1,JW8-SUM(JX8:JY8))) -> 1 | KA8: =MAX(0,JW8-SUM(JX8:JZ8)) -> 1 | KB8: =_xlfn.IFS(KB$7="X",JX$8*[1]Données!$H$23,JU$3="Samedi",JX$8*[1]Données!$D$23,JU$3="Dimanche",JX$8*[1]Données!$F23,$B8="ADS",JX$8*[1]Données!$B$23) -> 95.2 | KC8: =_xlfn.IFS(KB$7="X",JY$8*[1]Données!$I$23,JU$3="Samedi",JY$8*[1]Données!$D$23,JU$3="Dimanche",JY$8*[1]Données!$F$23,$B8="ADS",JY$8*[1]Données!$C$23) -> 237.78 | KD8: =_xlfn.IFS(KB$7="X",JZ$8*[1]Données!$I$23,JU$3="Samedi",JZ$8*[1]Données!$D$23,JU$3="Dimanche",JZ$8*[1]Données!$F$23,$B8="ADS",JZ$8*[1]Données!$C$23) -> 26.42 | KE8: =_xlfn.IFS(KB$7="X",KA$8*[1]Données!$H$23,JU$3="Samedi",KA8*[1]Données!$D$23,JU$3="Dimanche",KA$8*[1]Données!$F$23,$B8="ADS",KA$8*[1]Données!$B$23) -> 23.8 | KF8: =IF($B8="ADS",SUM(KB8:KE8),0) -> 383.2 | KG8: 0.70833333 | KH8: 0.33333333 | KI8: =24*(MOD(KH8-KG8,1)) -> 15 | KJ8: =IF(KG8<(21/24),(MIN(21-KG8*24,KI8)),0) -> 4 | KK8: =IF(OR(KG8>=21/24,KJ8<>0),MIN(9-MAX(0,KG8*24-21),KI8-KJ8),0) -> 9 | KL8: =MAX(0,MIN(1,KI8-SUM(KJ8:KK8))) -> 1 | KM8: =MAX(0,KI8-SUM(KJ8:KL8)) -> 1 | KN8: =_xlfn.IFS(KN$7="X",KJ$8*[1]Données!$H$23,KG$3="Samedi",KJ$8*[1]Données!$D$23,KG$3="Dimanche",KJ$8*[1]Données!$F23,$B8="ADS",KJ$8*[1]Données!$B$23) -> 95.2 | KO8: =_xlfn.IFS(KN$7="X",KK$8*[1]Données!$I$23,KG$3="Samedi",KK$8*[1]Données!$D$23,KG$3="Dimanche",KK$8*[1]Données!$F$23,$B8="ADS",KK$8*[1]Données!$C$23) -> 237.78 | KP8: =_xlfn.IFS(KN$7="X",KL$8*[1]Données!$I$23,KG$3="Samedi",KL$8*[1]Données!$D$23,KG$3="Dimanche",KL$8*[1]Données!$F$23,$B8="ADS",KL$8*[1]Données!$C$23) -> 26.42 | KQ8: =_xlfn.IFS(KN$7="X",KM$8*[1]Données!$H$23,KG$3="Samedi",KM8*[1]Données!$D$23,KG$3="Dimanche",KM$8*[1]Données!$F$23,$B8="ADS",KM$8*[1]Données!$B$23) -> 23.8 | KR8: =IF($B8="ADS",SUM(KN8:KQ8),0) -> 383.2 | KS8: 0.70833333 | KT8: 0.33333333 | KU8: =24*(MOD(KT8-KS8,1)) -> 15 | KV8: =IF(KS8<(21/24),(MIN(21-KS8*24,KU8)),0) -> 4 | KW8: =IF(OR(KS8>=21/24,KV8<>0),MIN(9-MAX(0,KS8*24-21),KU8-KV8),0) -> 9 | KX8: =MAX(0,MIN(1,KU8-SUM(KV8:KW8))) -> 1 | KY8: =MAX(0,KU8-SUM(KV8:KX8)) -> 1 | KZ8: =_xlfn.IFS(KZ$7="X",KV$8*[1]Données!$H$23,KS$3="Samedi",KV$8*[1]Données!$D$23,KS$3="Dimanche",KV$8*[1]Données!$F23,$B8="ADS",KV$8*[1]Données!$B$23) -> 95.2 | LA8: =_xlfn.IFS(KZ$7="X",KW$8*[1]Données!$I$23,KS$3="Samedi",KW$8*[1]Données!$D$23,KS$3="Dimanche",KW$8*[1]Données!$F$23,$B8="ADS",KW$8*[1]Données!$C$23) -> 214.2 | LB8: =_xlfn.IFS(KZ$7="X",KX$8*[1]Données!$I$23,KS$3="Samedi",KX$8*[1]Données!$D$23,KS$3="Dimanche",KX$8*[1]Données!$F$23,$B8="ADS",KX$8*[1]Données!$C$23) -> 23.8 | LC8: =_xlfn.IFS(KZ$7="X",KY$8*[1]Données!$H$23,KS$3="Samedi",KY8*[1]Données!$D$23,KS$3="Dimanche",KY$8*[1]Données!$F$23,$B8="ADS",KY$8*[1]Données!$B$23) -> 23.8 | LD8: =IF($B8="ADS",SUM(KZ8:LC8),0) -> 357 | LE8: 0.70833333 | LF8: 0.33333333 | LG8: =24*(MOD(LF8-LE8,1)) -> 15 | LH8: =IF(LE8<(21/24),(MIN(21-LE8*24,LG8)),0) -> 4 | LI8: =IF(OR(LE8>=21/24,LH8<>0),MIN(9-MAX(0,LE8*24-21),LG8-LH8),0) -> 9 | LJ8: =MAX(0,MIN(1,LG8-SUM(LH8:LI8))) -> 1 | LK8: =MAX(0,LG8-SUM(LH8:LJ8)) -> 1 | LL8: =_xlfn.IFS(LL$7="X",LH$8*[1]Données!$H$23,LE$3="Samedi",LH$8*[1]Données!$D$23,LE$3="Dimanche",LH$8*[1]Données!$F23,$B8="ADS",LH$8*[1]Données!$B$23) -> 104.72 | LM8: =_xlfn.IFS(LL$7="X",LI$8*[1]Données!$I$23,LE$3="Samedi",LI$8*[1]Données!$D$23,LE$3="Dimanche",LI$8*[1]Données!$F$23,$B8="ADS",LI$8*[1]Données!$C$23) -> 235.62 | LN8: =_xlfn.IFS(LL$7="X",LJ$8*[1]Données!$I$23,LE$3="Samedi",LJ$8*[1]Données!$D$23,LE$3="Dimanche",LJ$8*[1]Données!$F$23,$B8="ADS",LJ$8*[1]Données!$C$23) -> 26.18 | LO8: =_xlfn.IFS(LL$7="X",LK$8*[1]Données!$H$23,LE$3="Samedi",LK8*[1]Données!$D$23,LE$3="Dimanche",LK$8*[1]Données!$F$23,$B8="ADS",LK$8*[1]Données!$B$23) -> 26.18 | LP8: =IF($B8="ADS",SUM(LL8:LO8),0) -> 392.7 | LQ8: 0.70833333 | LR8: 0.33333333 | LS8: =24*(MOD(LR8-LQ8,1)) -> 15 | LT8: =IF(LQ8<(21/24),(MIN(21-LQ8*24,LS8)),0) -> 4 | LU8: =IF(OR(LQ8>=21/24,LT8<>0),MIN(9-MAX(0,LQ8*24-21),LS8-LT8),0) -> 9 | LV8: =MAX(0,MIN(1,LS8-SUM(LT8:LU8))) -> 1 | LW8: =MAX(0,LS8-SUM(LT8:LV8)) -> 1 | LX8: =_xlfn.IFS(LX$7="X",LT$8*[1]Données!$H$23,LQ$3="Samedi",LT$8*[1]Données!$D$23,LQ$3="Dimanche",LT$8*[1]Données!$F23,$B8="ADS",LT$8*[1]Données!$B$23) -> 95.2 | LY8: =_xlfn.IFS(LX$7="X",LU$8*[1]Données!$I$23,LQ$3="Samedi",LU$8*[1]Données!$D$23,LQ$3="Dimanche",LU$8*[1]Données!$F$23,$B8="ADS",LU$8*[1]Données!$C$23) -> 237.78 | LZ8: =_xlfn.IFS(LX$7="X",LV$8*[1]Données!$I$23,LQ$3="Samedi",LV$8*[1]Données!$D$23,LQ$3="Dimanche",LV$8*[1]Données!$F$23,$B8="ADS",LV$8*[1]Données!$C$23) -> 26.42 | MA8: =_xlfn.IFS(LX$7="X",LW$8*[1]Données!$H$23,LQ$3="Samedi",LW8*[1]Données!$D$23,LQ$3="Dimanche",LW$8*[1]Données!$F$23,$B8="ADS",LW$8*[1]Données!$B$23) -> 23.8 | MB8: =IF($B8="ADS",SUM(LX8:MA8),0) -> 383.2 | MC8: 0.70833333 | MD8: 0.33333333 | ME8: =24*(MOD(MD8-MC8,1)) -> 15 | MF8: =IF(MC8<(21/24),(MIN(21-MC8*24,ME8)),0) -> 4 | MG8: =IF(OR(MC8>=21/24,MF8<>0),MIN(9-MAX(0,MC8*24-21),ME8-MF8),0) -> 9 | MH8: =MAX(0,MIN(1,ME8-SUM(MF8:MG8))) -> 1 | MI8: =MAX(0,ME8-SUM(MF8:MH8)) -> 1 | MJ8: =_xlfn.IFS(MJ$7="X",MF$8*[1]Données!$H$23,MC$3="Samedi",MF$8*[1]Données!$D$23,MC$3="Dimanche",MF$8*[1]Données!$F23,$B8="ADS",MF$8*[1]Données!$B$23) -> 95.2 | MK8: =_xlfn.IFS(MJ$7="X",MG$8*[1]Données!$I$23,MC$3="Samedi",MG$8*[1]Données!$D$23,MC$3="Dimanche",MG$8*[1]Données!$F$23,$B8="ADS",MG$8*[1]Données!$C$23) -> 237.78 | ML8: =_xlfn.IFS(MJ$7="X",MH$8*[1]Données!$I$23,MC$3="Samedi",MH$8*[1]Données!$D$23,MC$3="Dimanche",MH$8*[1]Données!$F$23,$B8="ADS",MH$8*[1]Données!$C$23) -> 26.42 | MM8: =_xlfn.IFS(MJ$7="X",MI$8*[1]Données!$H$23,MC$3="Samedi",MI8*[1]Données!$D$23,MC$3="Dimanche",MI$8*[1]Données!$F$23,$B8="ADS",MI$8*[1]Données!$B$23) -> 23.8 | MN8: =IF($B8="ADS",SUM(MJ8:MM8),0) -> 383.2 | MO8: 0.70833333 | MP8: 0.33333333 | MQ8: =24*(MOD(MP8-MO8,1)) -> 15 | MR8: =IF(MO8<(21/24),(MIN(21-MO8*24,MQ8)),0) -> 4 | MS8: =IF(OR(MO8>=21/24,MR8<>0),MIN(9-MAX(0,MO8*24-21),MQ8-MR8),0) -> 9 | MT8: =MAX(0,MIN(1,MQ8-SUM(MR8:MS8))) -> 1 | MU8: =MAX(0,MQ8-SUM(MR8:MT8)) -> 1 | MV8: =_xlfn.IFS(MV$7="X",MR$8*[1]Données!$H$23,MO$3="Samedi",MR$8*[1]Données!$D$23,MO$3="Dimanche",MR$8*[1]Données!$F23,$B8="ADS",MR$8*[1]Données!$B$23) -> 95.2 | MW8: =_xlfn.IFS(MV$7="X",MS$8*[1]Données!$I$23,MO$3="Samedi",MS$8*[1]Données!$D$23,MO$3="Dimanche",MS$8*[1]Données!$F$23,$B8="ADS",MS$8*[1]Données!$C$23) -> 237.78 | MX8: =_xlfn.IFS(MV$7="X",MT$8*[1]Données!$I$23,MO$3="Samedi",MT$8*[1]Données!$D$23,MO$3="Dimanche",MT$8*[1]Données!$F$23,$B8="ADS",MT$8*[1]Données!$C$23) -> 26.42 | MY8: =_xlfn.IFS(MV$7="X",MU$8*[1]Données!$H$23,MO$3="Samedi",MU8*[1]Données!$D$23,MO$3="Dimanche",MU$8*[1]Données!$F$23,$B8="ADS",MU$8*[1]Données!$B$23) -> 23.8 | MZ8: =IF($B8="ADS",SUM(MV8:MY8),0) -> 383.2 | NA8: 0.70833333 | NB8: 0.33333333 | NC8: =24*(MOD(NB8-NA8,1)) -> 15 | ND8: =IF(NA8<(21/24),(MIN(21-NA8*24,NC8)),0) -> 4 | NE8: =IF(OR(NA8>=21/24,ND8<>0),MIN(9-MAX(0,NA8*24-21),NC8-ND8),0) -> 9 | NF8: =MAX(0,MIN(1,NC8-SUM(ND8:NE8))) -> 1 | NG8: =MAX(0,NC8-SUM(ND8:NF8)) -> 1 | NH8: =_xlfn.IFS(NH$7="X",ND$8*[1]Données!$H$23,NA$3="Samedi",ND$8*[1]Données!$D$23,NA$3="Dimanche",ND$8*[1]Données!$F23,$B8="ADS",ND$8*[1]Données!$B$23) -> 95.2 | NI8: =_xlfn.IFS(NH$7="X",NE$8*[1]Données!$I$23,NA$3="Samedi",NE$8*[1]Données!$D$23,NA$3="Dimanche",NE$8*[1]Données!$F$23,$B8="ADS",NE$8*[1]Données!$C$23) -> 237.78 | NJ8: =_xlfn.IFS(NH$7="X",NF$8*[1]Données!$I$23,NA$3="Samedi",NF$8*[1]Données!$D$23,NA$3="Dimanche",NF$8*[1]Données!$F$23,$B8="ADS",NF$8*[1]Données!$C$23) -> 26.42 | NK8: =_xlfn.IFS(NH$7="X",NG$8*[1]Données!$H$23,NA$3="Samedi",NG8*[1]Données!$D$23,NA$3="Dimanche",NG$8*[1]Données!$F$23,$B8="ADS",NG$8*[1]Données!$B$23) -> 23.8 | NL8: =IF($B8="ADS",SUM(NH8:NK8),0) -> 383.2 | NM8: =IF($B$8="ADS",SUM($P8+$AB8+$AN8+$AZ8+$BL8+$BX8+$CJ8+$CV8+$DH8+$DT8+$EF8+$ER8+$FD8+$FP8+$GB8+$GN8+$GZ8+$HL8+$HX8+$IJ8+$IV8+$JH8+$JT8+$KF8+$KR8+$LD8+$LP8+$MB8+$MN8+$MZ8+$NL8),0) -> 11902.14
L9: =_xlfn.IFS(L$7="X",H$8*[1]Données!$H$24,E$3="Samedi",H$8*[1]Données!$D$24,E$3="Dimanche",H$8*[1]Données!$F$24,$B8="SSIAP1",H$8*[1]Données!$B$24) -> 0 | M9: =_xlfn.IFS(L$7="X",I$8*[1]Données!$I$24,E$3="Samedi",I$8*[1]Données!$D$24,E$3="Dimanche",I$8*[1]Données!$F$24,$B8="SSIAP1",I$8*[1]Données!$C$24) -> 433.36 | N9: =_xlfn.IFS(L$7="X",J$8*[1]Données!$I$24,E$3="Samedi",J$8*[1]Données!$D$24,E$3="Dimanche",J$8*[1]Données!$F$24,$B8="SSIAP1",J$8*[1]Données!$C$24) -> 54.17 | O9: =_xlfn.IFS(L$7="X",K$8*[1]Données!$I$24,E$3="Samedi",$K8*[1]Données!$D$24,E$3="Dimanche",K$8*[1]Données!$F$24,$B8="SSIAP1",K$8*[1]Données!$B$24) -> 0 | P9: =IF($B8="SSIAP1",SUM(L9:O9),0) -> 0 | X9: =_xlfn.IFS(X$7="X",T$8*[1]Données!$H$24,Q$3="Samedi",T$8*[1]Données!$D$24,Q$3="Dimanche",T$8*[1]Données!$F$24,$B8="SSIAP1",T$8*[1]Données!$B$24) -> #N/A | Y9: =_xlfn.IFS(X$7="X",U$8*[1]Données!$I$24,Q$3="Samedi",U$8*[1]Données!$D$24,Q$3="Dimanche",U$8*[1]Données!$F$24,$B8="SSIAP1",U$8*[1]Données!$C$24) -> #N/A | Z9: =_xlfn.IFS(X$7="X",V$8*[1]Données!$I$24,Q$3="Samedi",V$8*[1]Données!$D$24,Q$3="Dimanche",V$8*[1]Données!$F$24,$B8="SSIAP1",V$8*[1]Données!$C$24) -> #N/A | AA9: =_xlfn.IFS(X$7="X",W$8*[1]Données!$I$24,Q$3="Samedi",$K8*[1]Données!$D$24,Q$3="Dimanche",W$8*[1]Données!$F$24,$B8="SSIAP1",W$8*[1]Données!$B$24) -> #N/A | AB9: =IF($B8="SSIAP1",SUM(X9:AA9),0) -> 0 | AJ9: =_xlfn.IFS(AJ$7="X",AF$8*[1]Données!$H$24,AC$3="Samedi",AF$8*[1]Données!$D$24,AC$3="Dimanche",AF$8*[1]Données!$F$24,$B8="SSIAP1",AF$8*[1]Données!$B$24) -> #N/A | AK9: =_xlfn.IFS(AJ$7="X",AG$8*[1]Données!$I$24,AC$3="Samedi",AG$8*[1]Données!$D$24,AC$3="Dimanche",AG$8*[1]Données!$F$24,$B8="SSIAP1",AG$8*[1]Données!$C$24) -> #N/A | AL9: =_xlfn.IFS(AJ$7="X",AH$8*[1]Données!$I$24,AC$3="Samedi",AH$8*[1]Données!$D$24,AC$3="Dimanche",AH$8*[1]Données!$F$24,$B8="SSIAP1",AH$8*[1]Données!$C$24) -> #N/A | AM9: =_xlfn.IFS(AJ$7="X",AI$8*[1]Données!$I$24,AC$3="Samedi",$K8*[1]Données!$D$24,AC$3="Dimanche",AI$8*[1]Données!$F$24,$B8="SSIAP1",AI$8*[1]Données!$B$24) -> #N/A | AN9: =IF($B8="SSIAP1",SUM(AJ9:AM9),0) -> 0 | AV9: =_xlfn.IFS(AV$7="X",AR$8*[1]Données!$H$24,AO$3="Samedi",AR$8*[1]Données!$D$24,AO$3="Dimanche",AR$8*[1]Données!$F$24,$B8="SSIAP1",AR$8*[1]Données!$B$24) -> #N/A | AW9: =_xlfn.IFS(AV$7="X",AS$8*[1]Données!$I$24,AO$3="Samedi",AS$8*[1]Données!$D$24,AO$3="Dimanche",AS$8*[1]Données!$F$24,$B8="SSIAP1",AS$8*[1]Données!$C$24) -> #N/A | AX9: =_xlfn.IFS(AV$7="X",AT$8*[1]Données!$I$24,AO$3="Samedi",AT$8*[1]Données!$D$24,AO$3="Dimanche",AT$8*[1]Données!$F$24,$B8="SSIAP1",AT$8*[1]Données!$C$24) -> #N/A | AY9: =_xlfn.IFS(AV$7="X",AU$8*[1]Données!$I$24,AO$3="Samedi",$K8*[1]Données!$D$24,AO$3="Dimanche",AU$8*[1]Données!$F$24,$B8="SSIAP1",AU$8*[1]Données!$B$24) -> #N/A | AZ9: =IF($B8="SSIAP1",SUM(AV9:AY9),0) -> 0 | BH9: =_xlfn.IFS(BH$7="X",BD$8*[1]Données!$H$24,BA$3="Samedi",BD$8*[1]Données!$D$24,BA$3="Dimanche",BD$8*[1]Données!$F$24,$B8="SSIAP1",BD$8*[1]Données!$B$24) -> 97.6 | BI9: =_xlfn.IFS(BH$7="X",BE$8*[1]Données!$I$24,BA$3="Samedi",BE$8*[1]Données!$D$24,BA$3="Dimanche",BE$8*[1]Données!$F$24,$B8="SSIAP1",BE$8*[1]Données!$C$24) -> 219.6 | BJ9: =_xlfn.IFS(BH$7="X",BF$8*[1]Données!$I$24,BA$3="Samedi",BF$8*[1]Données!$D$24,BA$3="Dimanche",BF$8*[1]Données!$F$24,$B8="SSIAP1",BF$8*[1]Données!$C$24) -> 24.4 | BK9: =_xlfn.IFS(BH$7="X",BG$8*[1]Données!$I$24,BA$3="Samedi",$K8*[1]Données!$D$24,BA$3="Dimanche",BG$8*[1]Données!$F$24,$B8="SSIAP1",BG$8*[1]Données!$B$24) -> 0 | BL9: =IF($B8="SSIAP1",SUM(BH9:BK9),0) -> 0 | BT9: =_xlfn.IFS(BT$7="X",BP$8*[1]Données!$H$24,BM$3="Samedi",BP$8*[1]Données!$D$24,BM$3="Dimanche",BP$8*[1]Données!$F$24,$B8="SSIAP1",BP$8*[1]Données!$B$24) -> 107.36 | BU9: =_xlfn.IFS(BT$7="X",BQ$8*[1]Données!$I$24,BM$3="Samedi",BQ$8*[1]Données!$D$24,BM$3="Dimanche",BQ$8*[1]Données!$F$24,$B8="SSIAP1",BQ$8*[1]Données!$C$24) -> 241.56 | BV9: =_xlfn.IFS(BT$7="X",BR$8*[1]Données!$I$24,BM$3="Samedi",BR$8*[1]Données!$D$24,BM$3="Dimanche",BR$8*[1]Données!$F$24,$B8="SSIAP1",BR$8*[1]Données!$C$24) -> 26.84 | BW9: =_xlfn.IFS(BT$7="X",BS$8*[1]Données!$I$24,BM$3="Samedi",$K8*[1]Données!$D$24,BM$3="Dimanche",BS$8*[1]Données!$F$24,$B8="SSIAP1",BS$8*[1]Données!$B$24) -> 26.84 | BX9: =IF($B8="SSIAP1",SUM(BT9:BW9),0) -> 0 | CF9: =_xlfn.IFS(CF$7="X",CB$8*[1]Données!$H$24,BY$3="Samedi",CB$8*[1]Données!$D$24,BY$3="Dimanche",CB$8*[1]Données!$F$24,$B8="SSIAP1",CB$8*[1]Données!$B$24) -> #N/A | CG9: =_xlfn.IFS(CF$7="X",CC$8*[1]Données!$I$24,BY$3="Samedi",CC$8*[1]Données!$D$24,BY$3="Dimanche",CC$8*[1]Données!$F$24,$B8="SSIAP1",CC$8*[1]Données!$C$24) -> #N/A | CH9: =_xlfn.IFS(CF$7="X",CD$8*[1]Données!$I$24,BY$3="Samedi",CD$8*[1]Données!$D$24,BY$3="Dimanche",CD$8*[1]Données!$F$24,$B8="SSIAP1",CD$8*[1]Données!$C$24) -> #N/A | CI9: =_xlfn.IFS(CF$7="X",CE$8*[1]Données!$I$24,BY$3="Samedi",$K8*[1]Données!$D$24,BY$3="Dimanche",CE$8*[1]Données!$F$24,$B8="SSIAP1",CE$8*[1]Données!$B$24) -> #N/A | CJ9: =IF($B8="SSIAP1",SUM(CF9:CI9),0) -> 0 | CR9: =_xlfn.IFS(CR$7="X",CN$8*[1]Données!$H$24,CK$3="Samedi",CN$8*[1]Données!$D$24,CK$3="Dimanche",CN$8*[1]Données!$F$24,$B8="SSIAP1",CN$8*[1]Données!$B$24) -> #N/A | CS9: =_xlfn.IFS(CR$7="X",CO$8*[1]Données!$I$24,CK$3="Samedi",CO$8*[1]Données!$D$24,CK$3="Dimanche",CO$8*[1]Données!$F$24,$B8="SSIAP1",CO$8*[1]Données!$C$24) -> #N/A | CT9: =_xlfn.IFS(CR$7="X",CP$8*[1]Données!$I$24,CK$3="Samedi",CP$8*[1]Données!$D$24,CK$3="Dimanche",CP$8*[1]Données!$F$24,$B8="SSIAP1",CP$8*[1]Données!$C$24) -> #N/A | CU9: =_xlfn.IFS(CR$7="X",CQ$8*[1]Données!$I$24,CK$3="Samedi",$K8*[1]Données!$D$24,CK$3="Dimanche",CQ$8*[1]Données!$F$24,$B8="SSIAP1",CQ$8*[1]Données!$B$24) -> #N/A | CV9: =IF($B8="SSIAP1",SUM(CR9:CU9),0) -> 0 | DD9: =_xlfn.IFS(DD$7="X",CZ$8*[1]Données!$H$24,CW$3="Samedi",CZ$8*[1]Données!$D$24,CW$3="Dimanche",CZ$8*[1]Données!$F$24,$B8="SSIAP1",CZ$8*[1]Données!$B$24) -> #N/A | DE9: =_xlfn.IFS(DD$7="X",DA$8*[1]Données!$I$24,CW$3="Samedi",DA$8*[1]Données!$D$24,CW$3="Dimanche",DA$8*[1]Données!$F$24,$B8="SSIAP1",DA$8*[1]Données!$C$24) -> #N/A | DF9: =_xlfn.IFS(DD$7="X",DB$8*[1]Données!$I$24,CW$3="Samedi",DB$8*[1]Données!$D$24,CW$3="Dimanche",DB$8*[1]Données!$F$24,$B8="SSIAP1",DB$8*[1]Données!$C$24) -> #N/A | DG9: =_xlfn.IFS(DD$7="X",DC$8*[1]Données!$I$24,CW$3="Samedi",$K8*[1]Données!$D$24,CW$3="Dimanche",DC$8*[1]Données!$F$24,$B8="SSIAP1",DC$8*[1]Données!$B$24) -> #N/A | DH9: =IF($B8="SSIAP1",SUM(DD9:DG9),0) -> 0 | DP9: =_xlfn.IFS(DP$7="X",DL$8*[1]Données!$H$24,DI$3="Samedi",DL$8*[1]Données!$D$24,DI$3="Dimanche",DL$8*[1]Données!$F$24,$B8="SSIAP1",DL$8*[1]Données!$B$24) -> #N/A | DQ9: =_xlfn.IFS(DP$7="X",DM$8*[1]Données!$I$24,DI$3="Samedi",DM$8*[1]Données!$D$24,DI$3="Dimanche",DM$8*[1]Données!$F$24,$B8="SSIAP1",DM$8*[1]Données!$C$24) -> #N/A | DR9: =_xlfn.IFS(DP$7="X",DN$8*[1]Données!$I$24,DI$3="Samedi",DN$8*[1]Données!$D$24,DI$3="Dimanche",DN$8*[1]Données!$F$24,$B8="SSIAP1",DN$8*[1]Données!$C$24) -> #N/A | DS9: =_xlfn.IFS(DP$7="X",DO$8*[1]Données!$I$24,DI$3="Samedi",$K8*[1]Données!$D$24,DI$3="Dimanche",DO$8*[1]Données!$F$24,$B8="SSIAP1",DO$8*[1]Données!$B$24) -> #N/A | DT9: =IF($B8="SSIAP1",SUM(DP9:DS9),0) -> 0 | EB9: =_xlfn.IFS(EB$7="X",DX$8*[1]Données!$H$24,DU$3="Samedi",DX$8*[1]Données!$D$24,DU$3="Dimanche",DX$8*[1]Données!$F$24,$B8="SSIAP1",DX$8*[1]Données!$B$24) -> #N/A | EC9: =_xlfn.IFS(EB$7="X",DY$8*[1]Données!$I$24,DU$3="Samedi",DY$8*[1]Données!$D$24,DU$3="Dimanche",DY$8*[1]Données!$F$24,$B8="SSIAP1",DY$8*[1]Données!$C$24) -> #N/A | ED9: =_xlfn.IFS(EB$7="X",DZ$8*[1]Données!$I$24,DU$3="Samedi",DZ$8*[1]Données!$D$24,DU$3="Dimanche",DZ$8*[1]Données!$F$24,$B8="SSIAP1",DZ$8*[1]Données!$C$24) -> #N/A | EE9: =_xlfn.IFS(EB$7="X",EA$8*[1]Données!$I$24,DU$3="Samedi",$K8*[1]Données!$D$24,DU$3="Dimanche",EA$8*[1]Données!$F$24,$B8="SSIAP1",EA$8*[1]Données!$B$24) -> #N/A | EF9: =IF($B8="SSIAP1",SUM(EB9:EE9),0) -> 0 | EN9: =_xlfn.IFS(EN$7="X",EJ$8*[1]Données!$H$24,EG$3="Samedi",EJ$8*[1]Données!$D$24,EG$3="Dimanche",EJ$8*[1]Données!$F$24,$B8="SSIAP1",EJ$8*[1]Données!$B$24) -> 97.6 | EO9: =_xlfn.IFS(EN$7="X",EK$8*[1]Données!$I$24,EG$3="Samedi",EK$8*[1]Données!$D$24,EG$3="Dimanche",EK$8*[1]Données!$F$24,$B8="SSIAP1",EK$8*[1]Données!$C$24) -> 219.6 | EP9: =_xlfn.IFS(EN$7="X",EL$8*[1]Données!$I$24,EG$3="Samedi",EL$8*[1]Données!$D$24,EG$3="Dimanche",EL$8*[1]Données!$F$24,$B8="SSIAP1",EL$8*[1]Données!$C$24) -> 24.4 | EQ9: =_xlfn.IFS(EN$7="X",EM$8*[1]Données!$I$24,EG$3="Samedi",$K8*[1]Données!$D$24,EG$3="Dimanche",EM$8*[1]Données!$F$24,$B8="SSIAP1",EM$8*[1]Données!$B$24) -> 0 | ER9: =IF($B8="SSIAP1",SUM(EN9:EQ9),0) -> 0 | EZ9: =_xlfn.IFS(EZ$7="X",EV$8*[1]Données!$H$24,ES$3="Samedi",EV$8*[1]Données!$D$24,ES$3="Dimanche",EV$8*[1]Données!$F$24,$B8="SSIAP1",EV$8*[1]Données!$B$24) -> 107.36 | FA9: =_xlfn.IFS(EZ$7="X",EW$8*[1]Données!$I$24,ES$3="Samedi",EW$8*[1]Données!$D$24,ES$3="Dimanche",EW$8*[1]Données!$F$24,$B8="SSIAP1",EW$8*[1]Données!$C$24) -> 241.56 | FB9: =_xlfn.IFS(EZ$7="X",EX$8*[1]Données!$I$24,ES$3="Samedi",EX$8*[1]Données!$D$24,ES$3="Dimanche",EX$8*[1]Données!$F$24,$B8="SSIAP1",EX$8*[1]Données!$C$24) -> 26.84 | FC9: =_xlfn.IFS(EZ$7="X",EY$8*[1]Données!$I$24,ES$3="Samedi",$K8*[1]Données!$D$24,ES$3="Dimanche",EY$8*[1]Données!$F$24,$B8="SSIAP1",EY$8*[1]Données!$B$24) -> 26.84 | FD9: =IF($B8="SSIAP1",SUM(EZ9:FC9),0) -> 0 | FL9: =_xlfn.IFS(FL$7="X",FH$8*[1]Données!$H$24,FE$3="Samedi",FH$8*[1]Données!$D$24,FE$3="Dimanche",FH$8*[1]Données!$F$24,$B8="SSIAP1",FH$8*[1]Données!$B$24) -> #N/A | FM9: =_xlfn.IFS(FL$7="X",FI$8*[1]Données!$I$24,FE$3="Samedi",FI$8*[1]Données!$D$24,FE$3="Dimanche",FI$8*[1]Données!$F$24,$B8="SSIAP1",FI$8*[1]Données!$C$24) -> #N/A | FN9: =_xlfn.IFS(FL$7="X",FJ$8*[1]Données!$I$24,FE$3="Samedi",FJ$8*[1]Données!$D$24,FE$3="Dimanche",FJ$8*[1]Données!$F$24,$B8="SSIAP1",FJ$8*[1]Données!$C$24) -> #N/A | FO9: =_xlfn.IFS(FL$7="X",FK$8*[1]Données!$I$24,FE$3="Samedi",$K8*[1]Données!$D$24,FE$3="Dimanche",FK$8*[1]Données!$F$24,$B8="SSIAP1",FK$8*[1]Données!$B$24) -> #N/A | FP9: =IF($B8="SSIAP1",SUM(FL9:FO9),0) -> 0 | FX9: =_xlfn.IFS(FX$7="X",FT$8*[1]Données!$H$24,FQ$3="Samedi",FT$8*[1]Données!$D$24,FQ$3="Dimanche",FT$8*[1]Données!$F$24,$B8="SSIAP1",FT$8*[1]Données!$B$24) -> #N/A | FY9: =_xlfn.IFS(FX$7="X",FU$8*[1]Données!$I$24,FQ$3="Samedi",FU$8*[1]Données!$D$24,FQ$3="Dimanche",FU$8*[1]Données!$F$24,$B8="SSIAP1",FU$8*[1]Données!$C$24) -> #N/A | FZ9: =_xlfn.IFS(FX$7="X",FV$8*[1]Données!$I$24,FQ$3="Samedi",FV$8*[1]Données!$D$24,FQ$3="Dimanche",FV$8*[1]Données!$F$24,$B8="SSIAP1",FV$8*[1]Données!$C$24) -> #N/A | GA9: =_xlfn.IFS(FX$7="X",FW$8*[1]Données!$I$24,FQ$3="Samedi",$K8*[1]Données!$D$24,FQ$3="Dimanche",FW$8*[1]Données!$F$24,$B8="SSIAP1",FW$8*[1]Données!$B$24) -> #N/A | GB9: =IF($B8="SSIAP1",SUM(FX9:GA9),0) -> 0 | GJ9: =_xlfn.IFS(GJ$7="X",GF$8*[1]Données!$H$24,GC$3="Samedi",GF$8*[1]Données!$D$24,GC$3="Dimanche",GF$8*[1]Données!$F$24,$B8="SSIAP1",GF$8*[1]Données!$B$24) -> #N/A | GK9: =_xlfn.IFS(GJ$7="X",GG$8*[1]Données!$I$24,GC$3="Samedi",GG$8*[1]Données!$D$24,GC$3="Dimanche",GG$8*[1]Données!$F$24,$B8="SSIAP1",GG$8*[1]Données!$C$24) -> #N/A | GL9: =_xlfn.IFS(GJ$7="X",GH$8*[1]Données!$I$24,GC$3="Samedi",GH$8*[1]Données!$D$24,GC$3="Dimanche",GH$8*[1]Données!$F$24,$B8="SSIAP1",GH$8*[1]Données!$C$24) -> #N/A | GM9: =_xlfn.IFS(GJ$7="X",GI$8*[1]Données!$I$24,GC$3="Samedi",$K8*[1]Données!$D$24,GC$3="Dimanche",GI$8*[1]Données!$F$24,$B8="SSIAP1",GI$8*[1]Données!$B$24) -> #N/A | GN9: =IF($B8="SSIAP1",SUM(GJ9:GM9),0) -> 0 | GV9: =_xlfn.IFS(GV$7="X",GR$8*[1]Données!$H$24,GO$3="Samedi",GR$8*[1]Données!$D$24,GO$3="Dimanche",GR$8*[1]Données!$F$24,$B8="SSIAP1",GR$8*[1]Données!$B$24) -> #N/A | GW9: =_xlfn.IFS(GV$7="X",GS$8*[1]Données!$I$24,GO$3="Samedi",GS$8*[1]Données!$D$24,GO$3="Dimanche",GS$8*[1]Données!$F$24,$B8="SSIAP1",GS$8*[1]Données!$C$24) -> #N/A | GX9: =_xlfn.IFS(GV$7="X",GT$8*[1]Données!$I$24,GO$3="Samedi",GT$8*[1]Données!$D$24,GO$3="Dimanche",GT$8*[1]Données!$F$24,$B8="SSIAP1",GT$8*[1]Données!$C$24) -> #N/A | GY9: =_xlfn.IFS(GV$7="X",GU$8*[1]Données!$I$24,GO$3="Samedi",$K8*[1]Données!$D$24,GO$3="Dimanche",GU$8*[1]Données!$F$24,$B8="SSIAP1",GU$8*[1]Données!$B$24) -> #N/A | GZ9: =IF($B8="SSIAP1",SUM(GV9:GY9),0) -> 0 | HH9: =_xlfn.IFS(HH$7="X",HD$8*[1]Données!$H$24,HA$3="Samedi",HD$8*[1]Données!$D$24,HA$3="Dimanche",HD$8*[1]Données!$F$24,$B8="SSIAP1",HD$8*[1]Données!$B$24) -> #N/A | HI9: =_xlfn.IFS(HH$7="X",HE$8*[1]Données!$I$24,HA$3="Samedi",HE$8*[1]Données!$D$24,HA$3="Dimanche",HE$8*[1]Données!$F$24,$B8="SSIAP1",HE$8*[1]Données!$C$24) -> #N/A | HJ9: =_xlfn.IFS(HH$7="X",HF$8*[1]Données!$I$24,HA$3="Samedi",HF$8*[1]Données!$D$24,HA$3="Dimanche",HF$8*[1]Données!$F$24,$B8="SSIAP1",HF$8*[1]Données!$C$24) -> #N/A | HK9: =_xlfn.IFS(HH$7="X",HG$8*[1]Données!$I$24,HA$3="Samedi",$K8*[1]Données!$D$24,HA$3="Dimanche",HG$8*[1]Données!$F$24,$B8="SSIAP1",HG$8*[1]Données!$B$24) -> #N/A | HL9: =IF($B8="SSIAP1",SUM(HH9:HK9),0) -> 0 | HT9: =_xlfn.IFS(HT$7="X",HP$8*[1]Données!$H$24,HM$3="Samedi",HP$8*[1]Données!$D$24,HM$3="Dimanche",HP$8*[1]Données!$F$24,$B8="SSIAP1",HP$8*[1]Données!$B$24) -> 97.6 | HU9: =_xlfn.IFS(HT$7="X",HQ$8*[1]Données!$I$24,HM$3="Samedi",HQ$8*[1]Données!$D$24,HM$3="Dimanche",HQ$8*[1]Données!$F$24,$B8="SSIAP1",HQ$8*[1]Données!$C$24) -> 219.6 | HV9: =_xlfn.IFS(HT$7="X",HR$8*[1]Données!$I$24,HM$3="Samedi",HR$8*[1]Données!$D$24,HM$3="Dimanche",HR$8*[1]Données!$F$24,$B8="SSIAP1",HR$8*[1]Données!$C$24) -> 24.4 | HW9: =_xlfn.IFS(HT$7="X",HS$8*[1]Données!$I$24,HM$3="Samedi",$K8*[1]Données!$D$24,HM$3="Dimanche",HS$8*[1]Données!$F$24,$B8="SSIAP1",HS$8*[1]Données!$B$24) -> 0 | HX9: =IF($B8="SSIAP1",SUM(HT9:HW9),0) -> 0 | IF9: =_xlfn.IFS(IF$7="X",IB$8*[1]Données!$H$24,HY$3="Samedi",IB$8*[1]Données!$D$24,HY$3="Dimanche",IB$8*[1]Données!$F$24,$B8="SSIAP1",IB$8*[1]Données!$B$24) -> 107.36 | IG9: =_xlfn.IFS(IF$7="X",IC$8*[1]Données!$I$24,HY$3="Samedi",IC$8*[1]Données!$D$24,HY$3="Dimanche",IC$8*[1]Données!$F$24,$B8="SSIAP1",IC$8*[1]Données!$C$24) -> 241.56 | IH9: =_xlfn.IFS(IF$7="X",ID$8*[1]Données!$I$24,HY$3="Samedi",ID$8*[1]Données!$D$24,HY$3="Dimanche",ID$8*[1]Données!$F$24,$B8="SSIAP1",ID$8*[1]Données!$C$24) -> 26.84 | II9: =_xlfn.IFS(IF$7="X",IE$8*[1]Données!$I$24,HY$3="Samedi",$K8*[1]Données!$D$24,HY$3="Dimanche",IE$8*[1]Données!$F$24,$B8="SSIAP1",IE$8*[1]Données!$B$24) -> 26.84 | IJ9: =IF($B8="SSIAP1",SUM(IF9:II9),0) -> 0 | IR9: =_xlfn.IFS(IR$7="X",IN$8*[1]Données!$H$24,IK$3="Samedi",IN$8*[1]Données!$D$24,IK$3="Dimanche",IN$8*[1]Données!$F$24,$B8="SSIAP1",IN$8*[1]Données!$B$24) -> #N/A | IS9: =_xlfn.IFS(IR$7="X",IO$8*[1]Données!$I$24,IK$3="Samedi",IO$8*[1]Données!$D$24,IK$3="Dimanche",IO$8*[1]Données!$F$24,$B8="SSIAP1",IO$8*[1]Données!$C$24) -> #N/A | IT9: =_xlfn.IFS(IR$7="X",IP$8*[1]Données!$I$24,IK$3="Samedi",IP$8*[1]Données!$D$24,IK$3="Dimanche",IP$8*[1]Données!$F$24,$B8="SSIAP1",IP$8*[1]Données!$C$24) -> #N/A | IU9: =_xlfn.IFS(IR$7="X",IQ$8*[1]Données!$I$24,IK$3="Samedi",$K8*[1]Données!$D$24,IK$3="Dimanche",IQ$8*[1]Données!$F$24,$B8="SSIAP1",IQ$8*[1]Données!$B$24) -> #N/A | IV9: =IF($B8="SSIAP1",SUM(IR9:IU9),0) -> 0 | JD9: =_xlfn.IFS(JD$7="X",IZ$8*[1]Données!$H$24,IW$3="Samedi",IZ$8*[1]Données!$D$24,IW$3="Dimanche",IZ$8*[1]Données!$F$24,$B8="SSIAP1",IZ$8*[1]Données!$B$24) -> #N/A | JE9: =_xlfn.IFS(JD$7="X",JA$8*[1]Données!$I$24,IW$3="Samedi",JA$8*[1]Données!$D$24,IW$3="Dimanche",JA$8*[1]Données!$F$24,$B8="SSIAP1",JA$8*[1]Données!$C$24) -> #N/A | JF9: =_xlfn.IFS(JD$7="X",JB$8*[1]Données!$I$24,IW$3="Samedi",JB$8*[1]Données!$D$24,IW$3="Dimanche",JB$8*[1]Données!$F$24,$B8="SSIAP1",JB$8*[1]Données!$C$24) -> #N/A | JG9: =_xlfn.IFS(JD$7="X",JC$8*[1]Données!$I$24,IW$3="Samedi",$K8*[1]Données!$D$24,IW$3="Dimanche",JC$8*[1]Données!$F$24,$B8="SSIAP1",JC$8*[1]Données!$B$24) -> #N/A | JH9: =IF($B8="SSIAP1",SUM(JD9:JG9),0) -> 0 | JP9: =_xlfn.IFS(JP$7="X",JL$8*[1]Données!$H$24,JI$3="Samedi",JL$8*[1]Données!$D$24,JI$3="Dimanche",JL$8*[1]Données!$F$24,$B8="SSIAP1",JL$8*[1]Données!$B$24) -> #N/A | JQ9: =_xlfn.IFS(JP$7="X",JM$8*[1]Données!$I$24,JI$3="Samedi",JM$8*[1]Données!$D$24,JI$3="Dimanche",JM$8*[1]Données!$F$24,$B8="SSIAP1",JM$8*[1]Données!$C$24) -> #N/A | JR9: =_xlfn.IFS(JP$7="X",JN$8*[1]Données!$I$24,JI$3="Samedi",JN$8*[1]Données!$D$24,JI$3="Dimanche",JN$8*[1]Données!$F$24,$B8="SSIAP1",JN$8*[1]Données!$C$24) -> #N/A | JS9: =_xlfn.IFS(JP$7="X",JO$8*[1]Données!$I$24,JI$3="Samedi",$K8*[1]Données!$D$24,JI$3="Dimanche",JO$8*[1]Données!$F$24,$B8="SSIAP1",JO$8*[1]Données!$B$24) -> #N/A | JT9: =IF($B8="SSIAP1",SUM(JP9:JS9),0) -> 0 | KB9: =_xlfn.IFS(KB$7="X",JX$8*[1]Données!$H$24,JU$3="Samedi",JX$8*[1]Données!$D$24,JU$3="Dimanche",JX$8*[1]Données!$F$24,$B8="SSIAP1",JX$8*[1]Données!$B$24) -> #N/A | KC9: =_xlfn.IFS(KB$7="X",JY$8*[1]Données!$I$24,JU$3="Samedi",JY$8*[1]Données!$D$24,JU$3="Dimanche",JY$8*[1]Données!$F$24,$B8="SSIAP1",JY$8*[1]Données!$C$24) -> #N/A | KD9: =_xlfn.IFS(KB$7="X",JZ$8*[1]Données!$I$24,JU$3="Samedi",JZ$8*[1]Données!$D$24,JU$3="Dimanche",JZ$8*[1]Données!$F$24,$B8="SSIAP1",JZ$8*[1]Données!$C$24) -> #N/A | KE9: =_xlfn.IFS(KB$7="X",KA$8*[1]Données!$I$24,JU$3="Samedi",$K8*[1]Données!$D$24,JU$3="Dimanche",KA$8*[1]Données!$F$24,$B8="SSIAP1",KA$8*[1]Données!$B$24) -> #N/A | KF9: =IF($B8="SSIAP1",SUM(KB9:KE9),0) -> 0 | KN9: =_xlfn.IFS(KN$7="X",KJ$8*[1]Données!$H$24,KG$3="Samedi",KJ$8*[1]Données!$D$24,KG$3="Dimanche",KJ$8*[1]Données!$F$24,$B8="SSIAP1",KJ$8*[1]Données!$B$24) -> #N/A | KO9: =_xlfn.IFS(KN$7="X",KK$8*[1]Données!$I$24,KG$3="Samedi",KK$8*[1]Données!$D$24,KG$3="Dimanche",KK$8*[1]Données!$F$24,$B8="SSIAP1",KK$8*[1]Données!$C$24) -> #N/A | KP9: =_xlfn.IFS(KN$7="X",KL$8*[1]Données!$I$24,KG$3="Samedi",KL$8*[1]Données!$D$24,KG$3="Dimanche",KL$8*[1]Données!$F$24,$B8="SSIAP1",KL$8*[1]Données!$C$24) -> #N/A | KQ9: =_xlfn.IFS(KN$7="X",KM$8*[1]Données!$I$24,KG$3="Samedi",$K8*[1]Données!$D$24,KG$3="Dimanche",KM$8*[1]Données!$F$24,$B8="SSIAP1",KM$8*[1]Données!$B$24) -> #N/A | KR9: =IF($B8="SSIAP1",SUM(KN9:KQ9),0) -> 0 | KZ9: =_xlfn.IFS(KZ$7="X",KV$8*[1]Données!$H$24,KS$3="Samedi",KV$8*[1]Données!$D$24,KS$3="Dimanche",KV$8*[1]Données!$F$24,$B8="SSIAP1",KV$8*[1]Données!$B$24) -> 97.6 | LA9: =_xlfn.IFS(KZ$7="X",KW$8*[1]Données!$I$24,KS$3="Samedi",KW$8*[1]Données!$D$24,KS$3="Dimanche",KW$8*[1]Données!$F$24,$B8="SSIAP1",KW$8*[1]Données!$C$24) -> 219.6 | LB9: =_xlfn.IFS(KZ$7="X",KX$8*[1]Données!$I$24,KS$3="Samedi",KX$8*[1]Données!$D$24,KS$3="Dimanche",KX$8*[1]Données!$F$24,$B8="SSIAP1",KX$8*[1]Données!$C$24) -> 24.4 | LC9: =_xlfn.IFS(KZ$7="X",KY$8*[1]Données!$I$24,KS$3="Samedi",$K8*[1]Données!$D$24,KS$3="Dimanche",KY$8*[1]Données!$F$24,$B8="SSIAP1",KY$8*[1]Données!$B$24) -> 0 | LD9: =IF($B8="SSIAP1",SUM(KZ9:LC9),0) -> 0 | LL9: =_xlfn.IFS(LL$7="X",LH$8*[1]Données!$H$24,LE$3="Samedi",LH$8*[1]Données!$D$24,LE$3="Dimanche",LH$8*[1]Données!$F$24,$B8="SSIAP1",LH$8*[1]Données!$B$24) -> 107.36 | LM9: =_xlfn.IFS(LL$7="X",LI$8*[1]Données!$I$24,LE$3="Samedi",LI$8*[1]Données!$D$24,LE$3="Dimanche",LI$8*[1]Données!$F$24,$B8="SSIAP1",LI$8*[1]Données!$C$24) -> 241.56 | LN9: =_xlfn.IFS(LL$7="X",LJ$8*[1]Données!$I$24,LE$3="Samedi",LJ$8*[1]Données!$D$24,LE$3="Dimanche",LJ$8*[1]Données!$F$24,$B8="SSIAP1",LJ$8*[1]Données!$C$24) -> 26.84 | LO9: =_xlfn.IFS(LL$7="X",LK$8*[1]Données!$I$24,LE$3="Samedi",$K8*[1]Données!$D$24,LE$3="Dimanche",LK$8*[1]Données!$F$24,$B8="SSIAP1",LK$8*[1]Données!$B$24) -> 26.84 | LP9: =IF($B8="SSIAP1",SUM(LL9:LO9),0) -> 0 | LX9: =_xlfn.IFS(LX$7="X",LT$8*[1]Données!$H$24,LQ$3="Samedi",LT$8*[1]Données!$D$24,LQ$3="Dimanche",LT$8*[1]Données!$F$24,$B8="SSIAP1",LT$8*[1]Données!$B$24) -> #N/A | LY9: =_xlfn.IFS(LX$7="X",LU$8*[1]Données!$I$24,LQ$3="Samedi",LU$8*[1]Données!$D$24,LQ$3="Dimanche",LU$8*[1]Données!$F$24,$B8="SSIAP1",LU$8*[1]Données!$C$24) -> #N/A | LZ9: =_xlfn.IFS(LX$7="X",LV$8*[1]Données!$I$24,LQ$3="Samedi",LV$8*[1]Données!$D$24,LQ$3="Dimanche",LV$8*[1]Données!$F$24,$B8="SSIAP1",LV$8*[1]Données!$C$24) -> #N/A | MA9: =_xlfn.IFS(LX$7="X",LW$8*[1]Données!$I$24,LQ$3="Samedi",$K8*[1]Données!$D$24,LQ$3="Dimanche",LW$8*[1]Données!$F$24,$B8="SSIAP1",LW$8*[1]Données!$B$24) -> #N/A | MB9: =IF($B8="SSIAP1",SUM(LX9:MA9),0) -> 0 | MJ9: =_xlfn.IFS(MJ$7="X",MF$8*[1]Données!$H$24,MC$3="Samedi",MF$8*[1]Données!$D$24,MC$3="Dimanche",MF$8*[1]Données!$F$24,$B8="SSIAP1",MF$8*[1]Données!$B$24) -> #N/A | MK9: =_xlfn.IFS(MJ$7="X",MG$8*[1]Données!$I$24,MC$3="Samedi",MG$8*[1]Données!$D$24,MC$3="Dimanche",MG$8*[1]Données!$F$24,$B8="SSIAP1",MG$8*[1]Données!$C$24) -> #N/A | ML9: =_xlfn.IFS(MJ$7="X",MH$8*[1]Données!$I$24,MC$3="Samedi",MH$8*[1]Données!$D$24,MC$3="Dimanche",MH$8*[1]Données!$F$24,$B8="SSIAP1",MH$8*[1]Données!$C$24) -> #N/A | MM9: =_xlfn.IFS(MJ$7="X",MI$8*[1]Données!$I$24,MC$3="Samedi",$K8*[1]Données!$D$24,MC$3="Dimanche",MI$8*[1]Données!$F$24,$B8="SSIAP1",MI$8*[1]Données!$B$24) -> #N/A | MN9: =IF($B8="SSIAP1",SUM(MJ9:MM9),0) -> 0 | MV9: =_xlfn.IFS(MV$7="X",MR$8*[1]Données!$H$24,MO$3="Samedi",MR$8*[1]Données!$D$24,MO$3="Dimanche",MR$8*[1]Données!$F$24,$B8="SSIAP1",MR$8*[1]Données!$B$24) -> #N/A | MW9: =_xlfn.IFS(MV$7="X",MS$8*[1]Données!$I$24,MO$3="Samedi",MS$8*[1]Données!$D$24,MO$3="Dimanche",MS$8*[1]Données!$F$24,$B8="SSIAP1",MS$8*[1]Données!$C$24) -> #N/A | MX9: =_xlfn.IFS(MV$7="X",MT$8*[1]Données!$I$24,MO$3="Samedi",MT$8*[1]Données!$D$24,MO$3="Dimanche",MT$8*[1]Données!$F$24,$B8="SSIAP1",MT$8*[1]Données!$C$24) -> #N/A | MY9: =_xlfn.IFS(MV$7="X",MU$8*[1]Données!$I$24,MO$3="Samedi",$K8*[1]Données!$D$24,MO$3="Dimanche",MU$8*[1]Données!$F$24,$B8="SSIAP1",MU$8*[1]Données!$B$24) -> #N/A | MZ9: =IF($B8="SSIAP1",SUM(MV9:MY9),0) -> 0 | NH9: =_xlfn.IFS(NH$7="X",ND$8*[1]Données!$H$24,NA$3="Samedi",ND$8*[1]Données!$D$24,NA$3="Dimanche",ND$8*[1]Données!$F$24,$B8="SSIAP1",ND$8*[1]Données!$B$24) -> #N/A | NI9: =_xlfn.IFS(NH$7="X",NE$8*[1]Données!$I$24,NA$3="Samedi",NE$8*[1]Données!$D$24,NA$3="Dimanche",NE$8*[1]Données!$F$24,$B8="SSIAP1",NE$8*[1]Données!$C$24) -> #N/A | NJ9: =_xlfn.IFS(NH$7="X",NF$8*[1]Données!$I$24,NA$3="Samedi",NF$8*[1]Données!$D$24,NA$3="Dimanche",NF$8*[1]Données!$F$24,$B8="SSIAP1",NF$8*[1]Données!$C$24) -> #N/A | NK9: =_xlfn.IFS(NH$7="X",NG$8*[1]Données!$I$24,NA$3="Samedi",$K8*[1]Données!$D$24,NA$3="Dimanche",NG$8*[1]Données!$F$24,$B8="SSIAP1",NG$8*[1]Données!$B$24) -> #N/A | NL9: =IF($B8="SSIAP1",SUM(NH9:NK9),0) -> 0 | NM9: =IF($B$8="SSIAP1",SUM($P9+$AB9+$AN9+$AZ9+$BL9+$BX9+$CJ9+$CV9+$DH9+$DT9+$EF9+$ER9+$FD9+$FP9+$GB8+$GB9+$GN9+$GZ9+$HL9+$HX9+$IJ9+$IV9+$JH9+$JT9+$KF9+$KR9+$LD9+$LP9+$MB9+$MN9+$MZ9+$NL9),0) -> 0
L10: =_xlfn.IFS(L$7="X",H$8*[1]Données!$H$25,E$3="Samedi",H$8*[1]Données!$D$25,E$3="Dimanche",H$8*[1]Données!$F$25,$B8="SSIAP2",H$8*[1]Données!$B$25) -> 0 | M10: =_xlfn.IFS(L$7="X",I$8*[1]Données!$I$25,E$3="Samedi",I$8*[1]Données!$D$25,E$3="Dimanche",I$8*[1]Données!$F$25,$B8="SSIAP2",I$8*[1]Données!$C$25) -> 518.56 | N10: =_xlfn.IFS(L$7="X",J$8*[1]Données!$I$25,E$3="Samedi",J$8*[1]Données!$D$25,E$3="Dimanche",J$8*[1]Données!$F$25,$B8="SSIAP2",J$8*[1]Données!$C$25) -> 64.82 | O10: =_xlfn.IFS(L$7="X",K$8*[1]Données!$I$25,E$3="Samedi",K$8*[1]Données!$D$25,E$3="Dimanche",K$8*[1]Données!$F$25,$B8="SSIAP2",K$8*[1]Données!$B$25) -> 0 | P10: =IF($B8="SSIAP2",SUM(L10:O10),0) -> 0 | X10: =_xlfn.IFS(X$7="X",T$8*[1]Données!$H$25,Q$3="Samedi",T$8*[1]Données!$D$25,Q$3="Dimanche",T$8*[1]Données!$F$25,$B8="SSIAP2",T$8*[1]Données!$B$25) -> #N/A | Y10: =_xlfn.IFS(X$7="X",U$8*[1]Données!$I$25,Q$3="Samedi",U$8*[1]Données!$D$25,Q$3="Dimanche",U$8*[1]Données!$F$25,$B8="SSIAP2",U$8*[1]Données!$C$25) -> #N/A | Z10: =_xlfn.IFS(X$7="X",V$8*[1]Données!$I$25,Q$3="Samedi",V$8*[1]Données!$D$25,Q$3="Dimanche",V$8*[1]Données!$F$25,$B8="SSIAP2",V$8*[1]Données!$C$25) -> #N/A | AA10: =_xlfn.IFS(X$7="X",W$8*[1]Données!$I$25,Q$3="Samedi",W$8*[1]Données!$D$25,Q$3="Dimanche",W$8*[1]Données!$F$25,$B8="SSIAP2",W$8*[1]Données!$B$25) -> #N/A | AB10: =IF($B8="SSIAP2",SUM(X10:AA10),0) -> 0 | AJ10: =_xlfn.IFS(AJ$7="X",AF$8*[1]Données!$H$25,AC$3="Samedi",AF$8*[1]Données!$D$25,AC$3="Dimanche",AF$8*[1]Données!$F$25,$B8="SSIAP2",AF$8*[1]Données!$B$25) -> #N/A | AK10: =_xlfn.IFS(AJ$7="X",AG$8*[1]Données!$I$25,AC$3="Samedi",AG$8*[1]Données!$D$25,AC$3="Dimanche",AG$8*[1]Données!$F$25,$B8="SSIAP2",AG$8*[1]Données!$C$25) -> #N/A | AL10: =_xlfn.IFS(AJ$7="X",AH$8*[1]Données!$I$25,AC$3="Samedi",AH$8*[1]Données!$D$25,AC$3="Dimanche",AH$8*[1]Données!$F$25,$B8="SSIAP2",AH$8*[1]Données!$C$25) -> #N/A | AM10: =_xlfn.IFS(AJ$7="X",AI$8*[1]Données!$I$25,AC$3="Samedi",AI$8*[1]Données!$D$25,AC$3="Dimanche",AI$8*[1]Données!$F$25,$B8="SSIAP2",AI$8*[1]Données!$B$25) -> #N/A | AN10: =IF($B8="SSIAP2",SUM(AJ10:AM10),0) -> 0 | AV10: =_xlfn.IFS(AV$7="X",AR$8*[1]Données!$H$25,AO$3="Samedi",AR$8*[1]Données!$D$25,AO$3="Dimanche",AR$8*[1]Données!$F$25,$B8="SSIAP2",AR$8*[1]Données!$B$25) -> #N/A | AW10: =_xlfn.IFS(AV$7="X",AS$8*[1]Données!$I$25,AO$3="Samedi",AS$8*[1]Données!$D$25,AO$3="Dimanche",AS$8*[1]Données!$F$25,$B8="SSIAP2",AS$8*[1]Données!$C$25) -> #N/A | AX10: =_xlfn.IFS(AV$7="X",AT$8*[1]Données!$I$25,AO$3="Samedi",AT$8*[1]Données!$D$25,AO$3="Dimanche",AT$8*[1]Données!$F$25,$B8="SSIAP2",AT$8*[1]Données!$C$25) -> #N/A | AY10: =_xlfn.IFS(AV$7="X",AU$8*[1]Données!$I$25,AO$3="Samedi",AU$8*[1]Données!$D$25,AO$3="Dimanche",AU$8*[1]Données!$F$25,$B8="SSIAP2",AU$8*[1]Données!$B$25) -> #N/A | AZ10: =IF($B8="SSIAP2",SUM(AV10:AY10),0) -> 0 | BH10: =_xlfn.IFS(BH$7="X",BD$8*[1]Données!$H$25,BA$3="Samedi",BD$8*[1]Données!$D$25,BA$3="Dimanche",BD$8*[1]Données!$F$25,$B8="SSIAP2",BD$8*[1]Données!$B$25) -> 116.8 | BI10: =_xlfn.IFS(BH$7="X",BE$8*[1]Données!$I$25,BA$3="Samedi",BE$8*[1]Données!$D$25,BA$3="Dimanche",BE$8*[1]Données!$F$25,$B8="SSIAP2",BE$8*[1]Données!$C$25) -> 262.8 | BJ10: =_xlfn.IFS(BH$7="X",BF$8*[1]Données!$I$25,BA$3="Samedi",BF$8*[1]Données!$D$25,BA$3="Dimanche",BF$8*[1]Données!$F$25,$B8="SSIAP2",BF$8*[1]Données!$C$25) -> 29.2 | BK10: =_xlfn.IFS(BH$7="X",BG$8*[1]Données!$I$25,BA$3="Samedi",BG$8*[1]Données!$D$25,BA$3="Dimanche",BG$8*[1]Données!$F$25,$B8="SSIAP2",BG$8*[1]Données!$B$25) -> 29.2 | BL10: =IF($B8="SSIAP2",SUM(BH10:BK10),0) -> 0 | BT10: =_xlfn.IFS(BT$7="X",BP$8*[1]Données!$H$25,BM$3="Samedi",BP$8*[1]Données!$D$25,BM$3="Dimanche",BP$8*[1]Données!$F$25,$B8="SSIAP2",BP$8*[1]Données!$B$25) -> 128.48 | BU10: =_xlfn.IFS(BT$7="X",BQ$8*[1]Données!$I$25,BM$3="Samedi",BQ$8*[1]Données!$D$25,BM$3="Dimanche",BQ$8*[1]Données!$F$25,$B8="SSIAP2",BQ$8*[1]Données!$C$25) -> 289.08 | BV10: =_xlfn.IFS(BT$7="X",BR$8*[1]Données!$I$25,BM$3="Samedi",BR$8*[1]Données!$D$25,BM$3="Dimanche",BR$8*[1]Données!$F$25,$B8="SSIAP2",BR$8*[1]Données!$C$25) -> 32.12 | BW10: =_xlfn.IFS(BT$7="X",BS$8*[1]Données!$I$25,BM$3="Samedi",BS$8*[1]Données!$D$25,BM$3="Dimanche",BS$8*[1]Données!$F$25,$B8="SSIAP2",BS$8*[1]Données!$B$25) -> 32.12 | BX10: =IF($B8="SSIAP2",SUM(BT10:BW10),0) -> 0 | CF10: =_xlfn.IFS(CF$7="X",CB$8*[1]Données!$H$25,BY$3="Samedi",CB$8*[1]Données!$D$25,BY$3="Dimanche",CB$8*[1]Données!$F$25,$B8="SSIAP2",CB$8*[1]Données!$B$25) -> #N/A | CG10: =_xlfn.IFS(CF$7="X",CC$8*[1]Données!$I$25,BY$3="Samedi",CC$8*[1]Données!$D$25,BY$3="Dimanche",CC$8*[1]Données!$F$25,$B8="SSIAP2",CC$8*[1]Données!$C$25) -> #N/A | CH10: =_xlfn.IFS(CF$7="X",CD$8*[1]Données!$I$25,BY$3="Samedi",CD$8*[1]Données!$D$25,BY$3="Dimanche",CD$8*[1]Données!$F$25,$B8="SSIAP2",CD$8*[1]Données!$C$25) -> #N/A | CI10: =_xlfn.IFS(CF$7="X",CE$8*[1]Données!$I$25,BY$3="Samedi",CE$8*[1]Données!$D$25,BY$3="Dimanche",CE$8*[1]Données!$F$25,$B8="SSIAP2",CE$8*[1]Données!$B$25) -> #N/A | CJ10: =IF($B8="SSIAP2",SUM(CF10:CI10),0) -> 0 | CR10: =_xlfn.IFS(CR$7="X",CN$8*[1]Données!$H$25,CK$3="Samedi",CN$8*[1]Données!$D$25,CK$3="Dimanche",CN$8*[1]Données!$F$25,$B8="SSIAP2",CN$8*[1]Données!$B$25) -> #N/A | CS10: =_xlfn.IFS(CR$7="X",CO$8*[1]Données!$I$25,CK$3="Samedi",CO$8*[1]Données!$D$25,CK$3="Dimanche",CO$8*[1]Données!$F$25,$B8="SSIAP2",CO$8*[1]Données!$C$25) -> #N/A | CT10: =_xlfn.IFS(CR$7="X",CP$8*[1]Données!$I$25,CK$3="Samedi",CP$8*[1]Données!$D$25,CK$3="Dimanche",CP$8*[1]Données!$F$25,$B8="SSIAP2",CP$8*[1]Données!$C$25) -> #N/A | CU10: =_xlfn.IFS(CR$7="X",CQ$8*[1]Données!$I$25,CK$3="Samedi",CQ$8*[1]Données!$D$25,CK$3="Dimanche",CQ$8*[1]Données!$F$25,$B8="SSIAP2",CQ$8*[1]Données!$B$25) -> #N/A | CV10: =IF($B8="SSIAP2",SUM(CR10:CU10),0) -> 0 | DD10: =_xlfn.IFS(DD$7="X",CZ$8*[1]Données!$H$25,CW$3="Samedi",CZ$8*[1]Données!$D$25,CW$3="Dimanche",CZ$8*[1]Données!$F$25,$B8="SSIAP2",CZ$8*[1]Données!$B$25) -> #N/A | DE10: =_xlfn.IFS(DD$7="X",DA$8*[1]Données!$I$25,CW$3="Samedi",DA$8*[1]Données!$D$25,CW$3="Dimanche",DA$8*[1]Données!$F$25,$B8="SSIAP2",DA$8*[1]Données!$C$25) -> #N/A | DF10: =_xlfn.IFS(DD$7="X",DB$8*[1]Données!$I$25,CW$3="Samedi",DB$8*[1]Données!$D$25,CW$3="Dimanche",DB$8*[1]Données!$F$25,$B8="SSIAP2",DB$8*[1]Données!$C$25) -> #N/A | DG10: =_xlfn.IFS(DD$7="X",DC$8*[1]Données!$I$25,CW$3="Samedi",DC$8*[1]Données!$D$25,CW$3="Dimanche",DC$8*[1]Données!$F$25,$B8="SSIAP2",DC$8*[1]Données!$B$25) -> #N/A | DH10: =IF($B8="SSIAP2",SUM(DD10:DG10),0) -> 0 | DP10: =_xlfn.IFS(DP$7="X",DL$8*[1]Données!$H$25,DI$3="Samedi",DL$8*[1]Données!$D$25,DI$3="Dimanche",DL$8*[1]Données!$F$25,$B8="SSIAP2",DL$8*[1]Données!$B$25) -> #N/A | DQ10: =_xlfn.IFS(DP$7="X",DM$8*[1]Données!$I$25,DI$3="Samedi",DM$8*[1]Données!$D$25,DI$3="Dimanche",DM$8*[1]Données!$F$25,$B8="SSIAP2",DM$8*[1]Données!$C$25) -> #N/A | DR10: =_xlfn.IFS(DP$7="X",DN$8*[1]Données!$I$25,DI$3="Samedi",DN$8*[1]Données!$D$25,DI$3="Dimanche",DN$8*[1]Données!$F$25,$B8="SSIAP2",DN$8*[1]Données!$C$25) -> #N/A | DS10: =_xlfn.IFS(DP$7="X",DO$8*[1]Données!$I$25,DI$3="Samedi",DO$8*[1]Données!$D$25,DI$3="Dimanche",DO$8*[1]Données!$F$25,$B8="SSIAP2",DO$8*[1]Données!$B$25) -> #N/A | DT10: =IF($B8="SSIAP2",SUM(DP10:DS10),0) -> 0 | EB10: =_xlfn.IFS(EB$7="X",DX$8*[1]Données!$H$25,DU$3="Samedi",DX$8*[1]Données!$D$25,DU$3="Dimanche",DX$8*[1]Données!$F$25,$B8="SSIAP2",DX$8*[1]Données!$B$25) -> #N/A | EC10: =_xlfn.IFS(EB$7="X",DY$8*[1]Données!$I$25,DU$3="Samedi",DY$8*[1]Données!$D$25,DU$3="Dimanche",DY$8*[1]Données!$F$25,$B8="SSIAP2",DY$8*[1]Données!$C$25) -> #N/A | ED10: =_xlfn.IFS(EB$7="X",DZ$8*[1]Données!$I$25,DU$3="Samedi",DZ$8*[1]Données!$D$25,DU$3="Dimanche",DZ$8*[1]Données!$F$25,$B8="SSIAP2",DZ$8*[1]Données!$C$25) -> #N/A | EE10: =_xlfn.IFS(EB$7="X",EA$8*[1]Données!$I$25,DU$3="Samedi",EA$8*[1]Données!$D$25,DU$3="Dimanche",EA$8*[1]Données!$F$25,$B8="SSIAP2",EA$8*[1]Données!$B$25) -> #N/A | EF10: =IF($B8="SSIAP2",SUM(EB10:EE10),0) -> 0 | EN10: =_xlfn.IFS(EN$7="X",EJ$8*[1]Données!$H$25,EG$3="Samedi",EJ$8*[1]Données!$D$25,EG$3="Dimanche",EJ$8*[1]Données!$F$25,$B8="SSIAP2",EJ$8*[1]Données!$B$25) -> 116.8 | EO10: =_xlfn.IFS(EN$7="X",EK$8*[1]Données!$I$25,EG$3="Samedi",EK$8*[1]Données!$D$25,EG$3="Dimanche",EK$8*[1]Données!$F$25,$B8="SSIAP2",EK$8*[1]Données!$C$25) -> 262.8 | EP10: =_xlfn.IFS(EN$7="X",EL$8*[1]Données!$I$25,EG$3="Samedi",EL$8*[1]Données!$D$25,EG$3="Dimanche",EL$8*[1]Données!$F$25,$B8="SSIAP2",EL$8*[1]Données!$C$25) -> 29.2 | EQ10: =_xlfn.IFS(EN$7="X",EM$8*[1]Données!$I$25,EG$3="Samedi",EM$8*[1]Données!$D$25,EG$3="Dimanche",EM$8*[1]Données!$F$25,$B8="SSIAP2",EM$8*[1]Données!$B$25) -> 29.2 | ER10: =IF($B8="SSIAP2",SUM(EN10:EQ10),0) -> 0 | EZ10: =_xlfn.IFS(EZ$7="X",EV$8*[1]Données!$H$25,ES$3="Samedi",EV$8*[1]Données!$D$25,ES$3="Dimanche",EV$8*[1]Données!$F$25,$B8="SSIAP2",EV$8*[1]Données!$B$25) -> 128.48 | FA10: =_xlfn.IFS(EZ$7="X",EW$8*[1]Données!$I$25,ES$3="Samedi",EW$8*[1]Données!$D$25,ES$3="Dimanche",EW$8*[1]Données!$F$25,$B8="SSIAP2",EW$8*[1]Données!$C$25) -> 289.08 | FB10: =_xlfn.IFS(EZ$7="X",EX$8*[1]Données!$I$25,ES$3="Samedi",EX$8*[1]Données!$D$25,ES$3="Dimanche",EX$8*[1]Données!$F$25,$B8="SSIAP2",EX$8*[1]Données!$C$25) -> 32.12 | FC10: =_xlfn.IFS(EZ$7="X",EY$8*[1]Données!$I$25,ES$3="Samedi",EY$8*[1]Données!$D$25,ES$3="Dimanche",EY$8*[1]Données!$F$25,$B8="SSIAP2",EY$8*[1]Données!$B$25) -> 32.12 | FD10: =IF($B8="SSIAP2",SUM(EZ10:FC10),0) -> 0 | FL10: =_xlfn.IFS(FL$7="X",FH$8*[1]Données!$H$25,FE$3="Samedi",FH$8*[1]Données!$D$25,FE$3="Dimanche",FH$8*[1]Données!$F$25,$B8="SSIAP2",FH$8*[1]Données!$B$25) -> #N/A | FM10: =_xlfn.IFS(FL$7="X",FI$8*[1]Données!$I$25,FE$3="Samedi",FI$8*[1]Données!$D$25,FE$3="Dimanche",FI$8*[1]Données!$F$25,$B8="SSIAP2",FI$8*[1]Données!$C$25) -> #N/A | FN10: =_xlfn.IFS(FL$7="X",FJ$8*[1]Données!$I$25,FE$3="Samedi",FJ$8*[1]Données!$D$25,FE$3="Dimanche",FJ$8*[1]Données!$F$25,$B8="SSIAP2",FJ$8*[1]Données!$C$25) -> #N/A | FO10: =_xlfn.IFS(FL$7="X",FK$8*[1]Données!$I$25,FE$3="Samedi",FK$8*[1]Données!$D$25,FE$3="Dimanche",FK$8*[1]Données!$F$25,$B8="SSIAP2",FK$8*[1]Données!$B$25) -> #N/A | FP10: =IF($B8="SSIAP2",SUM(FL10:FO10),0) -> 0 | FX10: =_xlfn.IFS(FX$7="X",FT$8*[1]Données!$H$25,FQ$3="Samedi",FT$8*[1]Données!$D$25,FQ$3="Dimanche",FT$8*[1]Données!$F$25,$B8="SSIAP2",FT$8*[1]Données!$B$25) -> #N/A | FY10: =_xlfn.IFS(FX$7="X",FU$8*[1]Données!$I$25,FQ$3="Samedi",FU$8*[1]Données!$D$25,FQ$3="Dimanche",FU$8*[1]Données!$F$25,$B8="SSIAP2",FU$8*[1]Données!$C$25) -> #N/A | FZ10: =_xlfn.IFS(FX$7="X",FV$8*[1]Données!$I$25,FQ$3="Samedi",FV$8*[1]Données!$D$25,FQ$3="Dimanche",FV$8*[1]Données!$F$25,$B8="SSIAP2",FV$8*[1]Données!$C$25) -> #N/A | GA10: =_xlfn.IFS(FX$7="X",FW$8*[1]Données!$I$25,FQ$3="Samedi",FW$8*[1]Données!$D$25,FQ$3="Dimanche",FW$8*[1]Données!$F$25,$B8="SSIAP2",FW$8*[1]Données!$B$25) -> #N/A | GB10: =IF($B8="SSIAP2",SUM(FX10:GA10),0) -> 0 | GJ10: =_xlfn.IFS(GJ$7="X",GF$8*[1]Données!$H$25,GC$3="Samedi",GF$8*[1]Données!$D$25,GC$3="Dimanche",GF$8*[1]Données!$F$25,$B8="SSIAP2",GF$8*[1]Données!$B$25) -> #N/A | GK10: =_xlfn.IFS(GJ$7="X",GG$8*[1]Données!$I$25,GC$3="Samedi",GG$8*[1]Données!$D$25,GC$3="Dimanche",GG$8*[1]Données!$F$25,$B8="SSIAP2",GG$8*[1]Données!$C$25) -> #N/A | GL10: =_xlfn.IFS(GJ$7="X",GH$8*[1]Données!$I$25,GC$3="Samedi",GH$8*[1]Données!$D$25,GC$3="Dimanche",GH$8*[1]Données!$F$25,$B8="SSIAP2",GH$8*[1]Données!$C$25) -> #N/A | GM10: =_xlfn.IFS(GJ$7="X",GI$8*[1]Données!$I$25,GC$3="Samedi",GI$8*[1]Données!$D$25,GC$3="Dimanche",GI$8*[1]Données!$F$25,$B8="SSIAP2",GI$8*[1]Données!$B$25) -> #N/A | GN10: =IF($B8="SSIAP2",SUM(GJ10:GM10),0) -> 0 | GV10: =_xlfn.IFS(GV$7="X",GR$8*[1]Données!$H$25,GO$3="Samedi",GR$8*[1]Données!$D$25,GO$3="Dimanche",GR$8*[1]Données!$F$25,$B8="SSIAP2",GR$8*[1]Données!$B$25) -> #N/A | GW10: =_xlfn.IFS(GV$7="X",GS$8*[1]Données!$I$25,GO$3="Samedi",GS$8*[1]Données!$D$25,GO$3="Dimanche",GS$8*[1]Données!$F$25,$B8="SSIAP2",GS$8*[1]Données!$C$25) -> #N/A | GX10: =_xlfn.IFS(GV$7="X",GT$8*[1]Données!$I$25,GO$3="Samedi",GT$8*[1]Données!$D$25,GO$3="Dimanche",GT$8*[1]Données!$F$25,$B8="SSIAP2",GT$8*[1]Données!$C$25) -> #N/A | GY10: =_xlfn.IFS(GV$7="X",GU$8*[1]Données!$I$25,GO$3="Samedi",GU$8*[1]Données!$D$25,GO$3="Dimanche",GU$8*[1]Données!$F$25,$B8="SSIAP2",GU$8*[1]Données!$B$25) -> #N/A | GZ10: =IF($B8="SSIAP2",SUM(GV10:GY10),0) -> 0 | HH10: =_xlfn.IFS(HH$7="X",HD$8*[1]Données!$H$25,HA$3="Samedi",HD$8*[1]Données!$D$25,HA$3="Dimanche",HD$8*[1]Données!$F$25,$B8="SSIAP2",HD$8*[1]Données!$B$25) -> #N/A | HI10: =_xlfn.IFS(HH$7="X",HE$8*[1]Données!$I$25,HA$3="Samedi",HE$8*[1]Données!$D$25,HA$3="Dimanche",HE$8*[1]Données!$F$25,$B8="SSIAP2",HE$8*[1]Données!$C$25) -> #N/A | HJ10: =_xlfn.IFS(HH$7="X",HF$8*[1]Données!$I$25,HA$3="Samedi",HF$8*[1]Données!$D$25,HA$3="Dimanche",HF$8*[1]Données!$F$25,$B8="SSIAP2",HF$8*[1]Données!$C$25) -> #N/A | HK10: =_xlfn.IFS(HH$7="X",HG$8*[1]Données!$I$25,HA$3="Samedi",HG$8*[1]Données!$D$25,HA$3="Dimanche",HG$8*[1]Données!$F$25,$B8="SSIAP2",HG$8*[1]Données!$B$25) -> #N/A | HL10: =IF($B8="SSIAP2",SUM(HH10:HK10),0) -> 0 | HT10: =_xlfn.IFS(HT$7="X",HP$8*[1]Données!$H$25,HM$3="Samedi",HP$8*[1]Données!$D$25,HM$3="Dimanche",HP$8*[1]Données!$F$25,$B8="SSIAP2",HP$8*[1]Données!$B$25) -> 116.8 | HU10: =_xlfn.IFS(HT$7="X",HQ$8*[1]Données!$I$25,HM$3="Samedi",HQ$8*[1]Données!$D$25,HM$3="Dimanche",HQ$8*[1]Données!$F$25,$B8="SSIAP2",HQ$8*[1]Données!$C$25) -> 262.8 | HV10: =_xlfn.IFS(HT$7="X",HR$8*[1]Données!$I$25,HM$3="Samedi",HR$8*[1]Données!$D$25,HM$3="Dimanche",HR$8*[1]Données!$F$25,$B8="SSIAP2",HR$8*[1]Données!$C$25) -> 29.2 | HW10: =_xlfn.IFS(HT$7="X",HS$8*[1]Données!$I$25,HM$3="Samedi",HS$8*[1]Données!$D$25,HM$3="Dimanche",HS$8*[1]Données!$F$25,$B8="SSIAP2",HS$8*[1]Données!$B$25) -> 29.2 | HX10: =IF($B8="SSIAP2",SUM(HT10:HW10),0) -> 0 | IF10: =_xlfn.IFS(IF$7="X",IB$8*[1]Données!$H$25,HY$3="Samedi",IB$8*[1]Données!$D$25,HY$3="Dimanche",IB$8*[1]Données!$F$25,$B8="SSIAP2",IB$8*[1]Données!$B$25) -> 128.48 | IG10: =_xlfn.IFS(IF$7="X",IC$8*[1]Données!$I$25,HY$3="Samedi",IC$8*[1]Données!$D$25,HY$3="Dimanche",IC$8*[1]Données!$F$25,$B8="SSIAP2",IC$8*[1]Données!$C$25) -> 289.08 | IH10: =_xlfn.IFS(IF$7="X",ID$8*[1]Données!$I$25,HY$3="Samedi",ID$8*[1]Données!$D$25,HY$3="Dimanche",ID$8*[1]Données!$F$25,$B8="SSIAP2",ID$8*[1]Données!$C$25) -> 32.12 | II10: =_xlfn.IFS(IF$7="X",IE$8*[1]Données!$I$25,HY$3="Samedi",IE$8*[1]Données!$D$25,HY$3="Dimanche",IE$8*[1]Données!$F$25,$B8="SSIAP2",IE$8*[1]Données!$B$25) -> 32.12 | IJ10: =IF($B8="SSIAP2",SUM(IF10:II10),0) -> 0 | IR10: =_xlfn.IFS(IR$7="X",IN$8*[1]Données!$H$25,IK$3="Samedi",IN$8*[1]Données!$D$25,IK$3="Dimanche",IN$8*[1]Données!$F$25,$B8="SSIAP2",IN$8*[1]Données!$B$25) -> #N/A | IS10: =_xlfn.IFS(IR$7="X",IO$8*[1]Données!$I$25,IK$3="Samedi",IO$8*[1]Données!$D$25,IK$3="Dimanche",IO$8*[1]Données!$F$25,$B8="SSIAP2",IO$8*[1]Données!$C$25) -> #N/A | IT10: =_xlfn.IFS(IR$7="X",IP$8*[1]Données!$I$25,IK$3="Samedi",IP$8*[1]Données!$D$25,IK$3="Dimanche",IP$8*[1]Données!$F$25,$B8="SSIAP2",IP$8*[1]Données!$C$25) -> #N/A | IU10: =_xlfn.IFS(IR$7="X",IQ$8*[1]Données!$I$25,IK$3="Samedi",IQ$8*[1]Données!$D$25,IK$3="Dimanche",IQ$8*[1]Données!$F$25,$B8="SSIAP2",IQ$8*[1]Données!$B$25) -> #N/A | IV10: =IF($B8="SSIAP2",SUM(IR10:IU10),0) -> 0 | JD10: =_xlfn.IFS(JD$7="X",IZ$8*[1]Données!$H$25,IW$3="Samedi",IZ$8*[1]Données!$D$25,IW$3="Dimanche",IZ$8*[1]Données!$F$25,$B8="SSIAP2",IZ$8*[1]Données!$B$25) -> #N/A | JE10: =_xlfn.IFS(JD$7="X",JA$8*[1]Données!$I$25,IW$3="Samedi",JA$8*[1]Données!$D$25,IW$3="Dimanche",JA$8*[1]Données!$F$25,$B8="SSIAP2",JA$8*[1]Données!$C$25) -> #N/A | JF10: =_xlfn.IFS(JD$7="X",JB$8*[1]Données!$I$25,IW$3="Samedi",JB$8*[1]Données!$D$25,IW$3="Dimanche",JB$8*[1]Données!$F$25,$B8="SSIAP2",JB$8*[1]Données!$C$25) -> #N/A | JG10: =_xlfn.IFS(JD$7="X",JC$8*[1]Données!$I$25,IW$3="Samedi",JC$8*[1]Données!$D$25,IW$3="Dimanche",JC$8*[1]Données!$F$25,$B8="SSIAP2",JC$8*[1]Données!$B$25) -> #N/A | JH10: =IF($B8="SSIAP2",SUM(JD10:JG10),0) -> 0 | JP10: =_xlfn.IFS(JP$7="X",JL$8*[1]Données!$H$25,JI$3="Samedi",JL$8*[1]Données!$D$25,JI$3="Dimanche",JL$8*[1]Données!$F$25,$B8="SSIAP2",JL$8*[1]Données!$B$25) -> #N/A | JQ10: =_xlfn.IFS(JP$7="X",JM$8*[1]Données!$I$25,JI$3="Samedi",JM$8*[1]Données!$D$25,JI$3="Dimanche",JM$8*[1]Données!$F$25,$B8="SSIAP2",JM$8*[1]Données!$C$25) -> #N/A | JR10: =_xlfn.IFS(JP$7="X",JN$8*[1]Données!$I$25,JI$3="Samedi",JN$8*[1]Données!$D$25,JI$3="Dimanche",JN$8*[1]Données!$F$25,$B8="SSIAP2",JN$8*[1]Données!$C$25) -> #N/A | JS10: =_xlfn.IFS(JP$7="X",JO$8*[1]Données!$I$25,JI$3="Samedi",JO$8*[1]Données!$D$25,JI$3="Dimanche",JO$8*[1]Données!$F$25,$B8="SSIAP2",JO$8*[1]Données!$B$25) -> #N/A | JT10: =IF($B8="SSIAP2",SUM(JP10:JS10),0) -> 0 | KB10: =_xlfn.IFS(KB$7="X",JX$8*[1]Données!$H$25,JU$3="Samedi",JX$8*[1]Données!$D$25,JU$3="Dimanche",JX$8*[1]Données!$F$25,$B8="SSIAP2",JX$8*[1]Données!$B$25) -> #N/A | KC10: =_xlfn.IFS(KB$7="X",JY$8*[1]Données!$I$25,JU$3="Samedi",JY$8*[1]Données!$D$25,JU$3="Dimanche",JY$8*[1]Données!$F$25,$B8="SSIAP2",JY$8*[1]Données!$C$25) -> #N/A | KD10: =_xlfn.IFS(KB$7="X",JZ$8*[1]Données!$I$25,JU$3="Samedi",JZ$8*[1]Données!$D$25,JU$3="Dimanche",JZ$8*[1]Données!$F$25,$B8="SSIAP2",JZ$8*[1]Données!$C$25) -> #N/A | KE10: =_xlfn.IFS(KB$7="X",KA$8*[1]Données!$I$25,JU$3="Samedi",KA$8*[1]Données!$D$25,JU$3="Dimanche",KA$8*[1]Données!$F$25,$B8="SSIAP2",KA$8*[1]Données!$B$25) -> #N/A | KF10: =IF($B8="SSIAP2",SUM(KB10:KE10),0) -> 0 | KN10: =_xlfn.IFS(KN$7="X",KJ$8*[1]Données!$H$25,KG$3="Samedi",KJ$8*[1]Données!$D$25,KG$3="Dimanche",KJ$8*[1]Données!$F$25,$B8="SSIAP2",KJ$8*[1]Données!$B$25) -> #N/A | KO10: =_xlfn.IFS(KN$7="X",KK$8*[1]Données!$I$25,KG$3="Samedi",KK$8*[1]Données!$D$25,KG$3="Dimanche",KK$8*[1]Données!$F$25,$B8="SSIAP2",KK$8*[1]Données!$C$25) -> #N/A | KP10: =_xlfn.IFS(KN$7="X",KL$8*[1]Données!$I$25,KG$3="Samedi",KL$8*[1]Données!$D$25,KG$3="Dimanche",KL$8*[1]Données!$F$25,$B8="SSIAP2",KL$8*[1]Données!$C$25) -> #N/A | KQ10: =_xlfn.IFS(KN$7="X",KM$8*[1]Données!$I$25,KG$3="Samedi",KM$8*[1]Données!$D$25,KG$3="Dimanche",KM$8*[1]Données!$F$25,$B8="SSIAP2",KM$8*[1]Données!$B$25) -> #N/A | KR10: =IF($B8="SSIAP2",SUM(KN10:KQ10),0) -> 0 | KZ10: =_xlfn.IFS(KZ$7="X",KV$8*[1]Données!$H$25,KS$3="Samedi",KV$8*[1]Données!$D$25,KS$3="Dimanche",KV$8*[1]Données!$F$25,$B8="SSIAP2",KV$8*[1]Données!$B$25) -> 116.8 | LA10: =_xlfn.IFS(KZ$7="X",KW$8*[1]Données!$I$25,KS$3="Samedi",KW$8*[1]Données!$D$25,KS$3="Dimanche",KW$8*[1]Données!$F$25,$B8="SSIAP2",KW$8*[1]Données!$C$25) -> 262.8 | LB10: =_xlfn.IFS(KZ$7="X",KX$8*[1]Données!$I$25,KS$3="Samedi",KX$8*[1]Données!$D$25,KS$3="Dimanche",KX$8*[1]Données!$F$25,$B8="SSIAP2",KX$8*[1]Données!$C$25) -> 29.2 | LC10: =_xlfn.IFS(KZ$7="X",KY$8*[1]Données!$I$25,KS$3="Samedi",KY$8*[1]Données!$D$25,KS$3="Dimanche",KY$8*[1]Données!$F$25,$B8="SSIAP2",KY$8*[1]Données!$B$25) -> 29.2 | LD10: =IF($B8="SSIAP2",SUM(KZ10:LC10),0) -> 0 | LL10: =_xlfn.IFS(LL$7="X",LH$8*[1]Données!$H$25,LE$3="Samedi",LH$8*[1]Données!$D$25,LE$3="Dimanche",LH$8*[1]Données!$F$25,$B8="SSIAP2",LH$8*[1]Données!$B$25) -> 128.48 | LM10: =_xlfn.IFS(LL$7="X",LI$8*[1]Données!$I$25,LE$3="Samedi",LI$8*[1]Données!$D$25,LE$3="Dimanche",LI$8*[1]Données!$F$25,$B8="SSIAP2",LI$8*[1]Données!$C$25) -> 289.08 | LN10: =_xlfn.IFS(LL$7="X",LJ$8*[1]Données!$I$25,LE$3="Samedi",LJ$8*[1]Données!$D$25,LE$3="Dimanche",LJ$8*[1]Données!$F$25,$B8="SSIAP2",LJ$8*[1]Données!$C$25) -> 32.12 | LO10: =_xlfn.IFS(LL$7="X",LK$8*[1]Données!$I$25,LE$3="Samedi",LK$8*[1]Données!$D$25,LE$3="Dimanche",LK$8*[1]Données!$F$25,$B8="SSIAP2",LK$8*[1]Données!$B$25) -> 32.12 | LP10: =IF($B8="SSIAP2",SUM(LL10:LO10),0) -> 0 | LX10: =_xlfn.IFS(LX$7="X",LT$8*[1]Données!$H$25,LQ$3="Samedi",LT$8*[1]Données!$D$25,LQ$3="Dimanche",LT$8*[1]Données!$F$25,$B8="SSIAP2",LT$8*[1]Données!$B$25) -> #N/A | LY10: =_xlfn.IFS(LX$7="X",LU$8*[1]Données!$I$25,LQ$3="Samedi",LU$8*[1]Données!$D$25,LQ$3="Dimanche",LU$8*[1]Données!$F$25,$B8="SSIAP2",LU$8*[1]Données!$C$25) -> #N/A | LZ10: =_xlfn.IFS(LX$7="X",LV$8*[1]Données!$I$25,LQ$3="Samedi",LV$8*[1]Données!$D$25,LQ$3="Dimanche",LV$8*[1]Données!$F$25,$B8="SSIAP2",LV$8*[1]Données!$C$25) -> #N/A | MA10: =_xlfn.IFS(LX$7="X",LW$8*[1]Données!$I$25,LQ$3="Samedi",LW$8*[1]Données!$D$25,LQ$3="Dimanche",LW$8*[1]Données!$F$25,$B8="SSIAP2",LW$8*[1]Données!$B$25) -> #N/A | MB10: =IF($B8="SSIAP2",SUM(LX10:MA10),0) -> 0 | MJ10: =_xlfn.IFS(MJ$7="X",MF$8*[1]Données!$H$25,MC$3="Samedi",MF$8*[1]Données!$D$25,MC$3="Dimanche",MF$8*[1]Données!$F$25,$B8="SSIAP2",MF$8*[1]Données!$B$25) -> #N/A | MK10: =_xlfn.IFS(MJ$7="X",MG$8*[1]Données!$I$25,MC$3="Samedi",MG$8*[1]Données!$D$25,MC$3="Dimanche",MG$8*[1]Données!$F$25,$B8="SSIAP2",MG$8*[1]Données!$C$25) -> #N/A | ML10: =_xlfn.IFS(MJ$7="X",MH$8*[1]Données!$I$25,MC$3="Samedi",MH$8*[1]Données!$D$25,MC$3="Dimanche",MH$8*[1]Données!$F$25,$B8="SSIAP2",MH$8*[1]Données!$C$25) -> #N/A | MM10: =_xlfn.IFS(MJ$7="X",MI$8*[1]Données!$I$25,MC$3="Samedi",MI$8*[1]Données!$D$25,MC$3="Dimanche",MI$8*[1]Données!$F$25,$B8="SSIAP2",MI$8*[1]Données!$B$25) -> #N/A | MN10: =IF($B8="SSIAP2",SUM(MJ10:MM10),0) -> 0 | MV10: =_xlfn.IFS(MV$7="X",MR$8*[1]Données!$H$25,MO$3="Samedi",MR$8*[1]Données!$D$25,MO$3="Dimanche",MR$8*[1]Données!$F$25,$B8="SSIAP2",MR$8*[1]Données!$B$25) -> #N/A | MW10: =_xlfn.IFS(MV$7="X",MS$8*[1]Données!$I$25,MO$3="Samedi",MS$8*[1]Données!$D$25,MO$3="Dimanche",MS$8*[1]Données!$F$25,$B8="SSIAP2",MS$8*[1]Données!$C$25) -> #N/A | MX10: =_xlfn.IFS(MV$7="X",MT$8*[1]Données!$I$25,MO$3="Samedi",MT$8*[1]Données!$D$25,MO$3="Dimanche",MT$8*[1]Données!$F$25,$B8="SSIAP2",MT$8*[1]Données!$C$25) -> #N/A | MY10: =_xlfn.IFS(MV$7="X",MU$8*[1]Données!$I$25,MO$3="Samedi",MU$8*[1]Données!$D$25,MO$3="Dimanche",MU$8*[1]Données!$F$25,$B8="SSIAP2",MU$8*[1]Données!$B$25) -> #N/A | MZ10: =IF($B8="SSIAP2",SUM(MV10:MY10),0) -> 0 | NH10: =_xlfn.IFS(NH$7="X",ND$8*[1]Données!$H$25,NA$3="Samedi",ND$8*[1]Données!$D$25,NA$3="Dimanche",ND$8*[1]Données!$F$25,$B8="SSIAP2",ND$8*[1]Données!$B$25) -> #N/A | NI10: =_xlfn.IFS(NH$7="X",NE$8*[1]Données!$I$25,NA$3="Samedi",NE$8*[1]Données!$D$25,NA$3="Dimanche",NE$8*[1]Données!$F$25,$B8="SSIAP2",NE$8*[1]Données!$C$25) -> #N/A | NJ10: =_xlfn.IFS(NH$7="X",NF$8*[1]Données!$I$25,NA$3="Samedi",NF$8*[1]Données!$D$25,NA$3="Dimanche",NF$8*[1]Données!$F$25,$B8="SSIAP2",NF$8*[1]Données!$C$25) -> #N/A | NK10: =_xlfn.IFS(NH$7="X",NG$8*[1]Données!$I$25,NA$3="Samedi",NG$8*[1]Données!$D$25,NA$3="Dimanche",NG$8*[1]Données!$F$25,$B8="SSIAP2",NG$8*[1]Données!$B$25) -> #N/A | NL10: =IF($B8="SSIAP2",SUM(NH10:NK10),0) -> 0 | NM10: =IF($B$8="SSIAP2",SUM($P10+$AB10+$AN10+$AZ10+$BL10+$BX10+$CJ10+$CV10+$DH10+$DT10+$EF10+$ER10+$FD10+$FP10+$GB9+$GB10+$GN10+$GZ10+$HL10+$HX10+$IJ10+$IV10+$JH10+$JT10+$KF10+$KR10+$LD10+$LP10+$MB10+$MN10+$MZ10+$NL10),0) -> 0
L11: =_xlfn.IFS(L$7="X",H$8*[1]Données!$H$26,E$3="Samedi",H$8*[1]Données!$D$26,E$3="Dimanche",H$8*[1]Données!$F$26,$B8="SSIAP3",H$8*[1]Données!$B$26) -> 0 | M11: =_xlfn.IFS(L$7="X",I$8*[1]Données!$I$26,E$3="Samedi",I$8*[1]Données!$D$26,E$3="Dimanche",I$8*[1]Données!$F$26,$B8="SSIAP3",I$8*[1]Données!$C$26) -> 816.96 | N11: =_xlfn.IFS(L$7="X",J$8*[1]Données!$I$26,E$3="Samedi",J$8*[1]Données!$D$26,E$3="Dimanche",J$8*[1]Données!$F$26,$B8="SSIAP3",J$8*[1]Données!$C$26) -> 102.12 | O11: =_xlfn.IFS(L$7="X",K$8*[1]Données!$I$26,E$3="Samedi",K$8*[1]Données!$D$26,E$3="Dimanche",K$8*[1]Données!$F$26,$B8="SSIAP3",K$8*[1]Données!$B$26) -> 0 | P11: =IF($B8="SSIAP3",SUM(L11:O11),0) -> 0 | X11: =_xlfn.IFS(X$7="X",T$8*[1]Données!$H$26,Q$3="Samedi",T$8*[1]Données!$D$26,Q$3="Dimanche",T$8*[1]Données!$F$26,$B8="SSIAP3",T$8*[1]Données!$B$26) -> #N/A | Y11: =_xlfn.IFS(X$7="X",U$8*[1]Données!$I$26,Q$3="Samedi",U$8*[1]Données!$D$26,Q$3="Dimanche",U$8*[1]Données!$F$26,$B8="SSIAP3",U$8*[1]Données!$C$26) -> #N/A | Z11: =_xlfn.IFS(X$7="X",V$8*[1]Données!$I$26,Q$3="Samedi",V$8*[1]Données!$D$26,Q$3="Dimanche",V$8*[1]Données!$F$26,$B8="SSIAP3",V$8*[1]Données!$C$26) -> #N/A | AA11: =_xlfn.IFS(X$7="X",W$8*[1]Données!$I$26,Q$3="Samedi",W$8*[1]Données!$D$26,Q$3="Dimanche",W$8*[1]Données!$F$26,$B8="SSIAP3",W$8*[1]Données!$B$26) -> #N/A | AB11: =IF($B8="SSIAP3",SUM(X11:AA11),0) -> 0 | AJ11: =_xlfn.IFS(AJ$7="X",AF$8*[1]Données!$H$26,AC$3="Samedi",AF$8*[1]Données!$D$26,AC$3="Dimanche",AF$8*[1]Données!$F$26,$B8="SSIAP3",AF$8*[1]Données!$B$26) -> #N/A | AK11: =_xlfn.IFS(AJ$7="X",AG$8*[1]Données!$I$26,AC$3="Samedi",AG$8*[1]Données!$D$26,AC$3="Dimanche",AG$8*[1]Données!$F$26,$B8="SSIAP3",AG$8*[1]Données!$C$26) -> #N/A | AL11: =_xlfn.IFS(AJ$7="X",AH$8*[1]Données!$I$26,AC$3="Samedi",AH$8*[1]Données!$D$26,AC$3="Dimanche",AH$8*[1]Données!$F$26,$B8="SSIAP3",AH$8*[1]Données!$C$26) -> #N/A | AM11: =_xlfn.IFS(AJ$7="X",AI$8*[1]Données!$I$26,AC$3="Samedi",AI$8*[1]Données!$D$26,AC$3="Dimanche",AI$8*[1]Données!$F$26,$B8="SSIAP3",AI$8*[1]Données!$B$26) -> #N/A | AN11: =IF($B8="SSIAP3",SUM(AJ11:AM11),0) -> 0 | AV11: =_xlfn.IFS(AV$7="X",AR$8*[1]Données!$H$26,AO$3="Samedi",AR$8*[1]Données!$D$26,AO$3="Dimanche",AR$8*[1]Données!$F$26,$B8="SSIAP3",AR$8*[1]Données!$B$26) -> #N/A | AW11: =_xlfn.IFS(AV$7="X",AS$8*[1]Données!$I$26,AO$3="Samedi",AS$8*[1]Données!$D$26,AO$3="Dimanche",AS$8*[1]Données!$F$26,$B8="SSIAP3",AS$8*[1]Données!$C$26) -> #N/A | AX11: =_xlfn.IFS(AV$7="X",AT$8*[1]Données!$I$26,AO$3="Samedi",AT$8*[1]Données!$D$26,AO$3="Dimanche",AT$8*[1]Données!$F$26,$B8="SSIAP3",AT$8*[1]Données!$C$26) -> #N/A | AY11: =_xlfn.IFS(AV$7="X",AU$8*[1]Données!$I$26,AO$3="Samedi",AU$8*[1]Données!$D$26,AO$3="Dimanche",AU$8*[1]Données!$F$26,$B8="SSIAP3",AU$8*[1]Données!$B$26) -> #N/A | AZ11: =IF($B8="SSIAP3",SUM(AV11:AY11),0) -> 0 | BH11: =_xlfn.IFS(BH$7="X",BD$8*[1]Données!$H$26,BA$3="Samedi",BD$8*[1]Données!$D$26,BA$3="Dimanche",BD$8*[1]Données!$F$26,$B8="SSIAP3",BD$8*[1]Données!$B$26) -> 184 | BI11: =_xlfn.IFS(BH$7="X",BE$8*[1]Données!$I$26,BA$3="Samedi",BE$8*[1]Données!$D$26,BA$3="Dimanche",BE$8*[1]Données!$F$26,$B8="SSIAP3",BE$8*[1]Données!$C$26) -> 414 | BJ11: =_xlfn.IFS(BH$7="X",BF$8*[1]Données!$I$26,BA$3="Samedi",BF$8*[1]Données!$D$26,BA$3="Dimanche",BF$8*[1]Données!$F$26,$B8="SSIAP3",BF$8*[1]Données!$C$26) -> 46 | BK11: =_xlfn.IFS(BH$7="X",BG$8*[1]Données!$I$26,BA$3="Samedi",BG$8*[1]Données!$D$26,BA$3="Dimanche",BG$8*[1]Données!$F$26,$B8="SSIAP3",BG$8*[1]Données!$B$26) -> 46 | BL11: =IF($B8="SSIAP3",SUM(BH11:BK11),0) -> 0 | BT11: =_xlfn.IFS(BT$7="X",BP$8*[1]Données!$H$26,BM$3="Samedi",BP$8*[1]Données!$D$26,BM$3="Dimanche",BP$8*[1]Données!$F$26,$B8="SSIAP3",BP$8*[1]Données!$B$26) -> 202.4 | BU11: =_xlfn.IFS(BT$7="X",BQ$8*[1]Données!$I$26,BM$3="Samedi",BQ$8*[1]Données!$D$26,BM$3="Dimanche",BQ$8*[1]Données!$F$26,$B8="SSIAP3",BQ$8*[1]Données!$C$26) -> 455.4 | BV11: =_xlfn.IFS(BT$7="X",BR$8*[1]Données!$I$26,BM$3="Samedi",BR$8*[1]Données!$D$26,BM$3="Dimanche",BR$8*[1]Données!$F$26,$B8="SSIAP3",BR$8*[1]Données!$C$26) -> 50.6 | BW11: =_xlfn.IFS(BT$7="X",BS$8*[1]Données!$I$26,BM$3="Samedi",BS$8*[1]Données!$D$26,BM$3="Dimanche",BS$8*[1]Données!$F$26,$B8="SSIAP3",BS$8*[1]Données!$B$26) -> 50.6 | BX11: =IF($B8="SSIAP3",SUM(BT11:BW11),0) -> 0 | CF11: =_xlfn.IFS(CF$7="X",CB$8*[1]Données!$H$26,BY$3="Samedi",CB$8*[1]Données!$D$26,BY$3="Dimanche",CB$8*[1]Données!$F$26,$B8="SSIAP3",CB$8*[1]Données!$B$26) -> #N/A | CG11: =_xlfn.IFS(CF$7="X",CC$8*[1]Données!$I$26,BY$3="Samedi",CC$8*[1]Données!$D$26,BY$3="Dimanche",CC$8*[1]Données!$F$26,$B8="SSIAP3",CC$8*[1]Données!$C$26) -> #N/A | CH11: =_xlfn.IFS(CF$7="X",CD$8*[1]Données!$I$26,BY$3="Samedi",CD$8*[1]Données!$D$26,BY$3="Dimanche",CD$8*[1]Données!$F$26,$B8="SSIAP3",CD$8*[1]Données!$C$26) -> #N/A | CI11: =_xlfn.IFS(CF$7="X",CE$8*[1]Données!$I$26,BY$3="Samedi",CE$8*[1]Données!$D$26,BY$3="Dimanche",CE$8*[1]Données!$F$26,$B8="SSIAP3",CE$8*[1]Données!$B$26) -> #N/A | CJ11: =IF($B8="SSIAP3",SUM(CF11:CI11),0) -> 0 | CR11: =_xlfn.IFS(CR$7="X",CN$8*[1]Données!$H$26,CK$3="Samedi",CN$8*[1]Données!$D$26,CK$3="Dimanche",CN$8*[1]Données!$F$26,$B8="SSIAP3",CN$8*[1]Données!$B$26) -> #N/A | CS11: =_xlfn.IFS(CR$7="X",CO$8*[1]Données!$I$26,CK$3="Samedi",CO$8*[1]Données!$D$26,CK$3="Dimanche",CO$8*[1]Données!$F$26,$B8="SSIAP3",CO$8*[1]Données!$C$26) -> #N/A | CT11: =_xlfn.IFS(CR$7="X",CP$8*[1]Données!$I$26,CK$3="Samedi",CP$8*[1]Données!$D$26,CK$3="Dimanche",CP$8*[1]Données!$F$26,$B8="SSIAP3",CP$8*[1]Données!$C$26) -> #N/A | CU11: =_xlfn.IFS(CR$7="X",CQ$8*[1]Données!$I$26,CK$3="Samedi",CQ$8*[1]Données!$D$26,CK$3="Dimanche",CQ$8*[1]Données!$F$26,$B8="SSIAP3",CQ$8*[1]Données!$B$26) -> #N/A | CV11: =IF($B8="SSIAP3",SUM(CR11:CU11),0) -> 0 | DD11: =_xlfn.IFS(DD$7="X",CZ$8*[1]Données!$H$26,CW$3="Samedi",CZ$8*[1]Données!$D$26,CW$3="Dimanche",CZ$8*[1]Données!$F$26,$B8="SSIAP3",CZ$8*[1]Données!$B$26) -> #N/A | DE11: =_xlfn.IFS(DD$7="X",DA$8*[1]Données!$I$26,CW$3="Samedi",DA$8*[1]Données!$D$26,CW$3="Dimanche",DA$8*[1]Données!$F$26,$B8="SSIAP3",DA$8*[1]Données!$C$26) -> #N/A | DF11: =_xlfn.IFS(DD$7="X",DB$8*[1]Données!$I$26,CW$3="Samedi",DB$8*[1]Données!$D$26,CW$3="Dimanche",DB$8*[1]Données!$F$26,$B8="SSIAP3",DB$8*[1]Données!$C$26) -> #N/A | DG11: =_xlfn.IFS(DD$7="X",DC$8*[1]Données!$I$26,CW$3="Samedi",DC$8*[1]Données!$D$26,CW$3="Dimanche",DC$8*[1]Données!$F$26,$B8="SSIAP3",DC$8*[1]Données!$B$26) -> #N/A | DH11: =IF($B8="SSIAP3",SUM(DD11:DG11),0) -> 0 | DP11: =_xlfn.IFS(DP$7="X",DL$8*[1]Données!$H$26,DI$3="Samedi",DL$8*[1]Données!$D$26,DI$3="Dimanche",DL$8*[1]Données!$F$26,$B8="SSIAP3",DL$8*[1]Données!$B$26) -> #N/A | DQ11: =_xlfn.IFS(DP$7="X",DM$8*[1]Données!$I$26,DI$3="Samedi",DM$8*[1]Données!$D$26,DI$3="Dimanche",DM$8*[1]Données!$F$26,$B8="SSIAP3",DM$8*[1]Données!$C$26) -> #N/A | DR11: =_xlfn.IFS(DP$7="X",DN$8*[1]Données!$I$26,DI$3="Samedi",DN$8*[1]Données!$D$26,DI$3="Dimanche",DN$8*[1]Données!$F$26,$B8="SSIAP3",DN$8*[1]Données!$C$26) -> #N/A | DS11: =_xlfn.IFS(DP$7="X",DO$8*[1]Données!$I$26,DI$3="Samedi",DO$8*[1]Données!$D$26,DI$3="Dimanche",DO$8*[1]Données!$F$26,$B8="SSIAP3",DO$8*[1]Données!$B$26) -> #N/A | DT11: =IF($B8="SSIAP3",SUM(DP11:DS11),0) -> 0 | EB11: =_xlfn.IFS(EB$7="X",DX$8*[1]Données!$H$26,DU$3="Samedi",DX$8*[1]Données!$D$26,DU$3="Dimanche",DX$8*[1]Données!$F$26,$B8="SSIAP3",DX$8*[1]Données!$B$26) -> #N/A | EC11: =_xlfn.IFS(EB$7="X",DY$8*[1]Données!$I$26,DU$3="Samedi",DY$8*[1]Données!$D$26,DU$3="Dimanche",DY$8*[1]Données!$F$26,$B8="SSIAP3",DY$8*[1]Données!$C$26) -> #N/A | ED11: =_xlfn.IFS(EB$7="X",DZ$8*[1]Données!$I$26,DU$3="Samedi",DZ$8*[1]Données!$D$26,DU$3="Dimanche",DZ$8*[1]Données!$F$26,$B8="SSIAP3",DZ$8*[1]Données!$C$26) -> #N/A | EE11: =_xlfn.IFS(EB$7="X",EA$8*[1]Données!$I$26,DU$3="Samedi",EA$8*[1]Données!$D$26,DU$3="Dimanche",EA$8*[1]Données!$F$26,$B8="SSIAP3",EA$8*[1]Données!$B$26) -> #N/A | EF11: =IF($B8="SSIAP3",SUM(EB11:EE11),0) -> 0 | EN11: =_xlfn.IFS(EN$7="X",EJ$8*[1]Données!$H$26,EG$3="Samedi",EJ$8*[1]Données!$D$26,EG$3="Dimanche",EJ$8*[1]Données!$F$26,$B8="SSIAP3",EJ$8*[1]Données!$B$26) -> 184 | EO11: =_xlfn.IFS(EN$7="X",EK$8*[1]Données!$I$26,EG$3="Samedi",EK$8*[1]Données!$D$26,EG$3="Dimanche",EK$8*[1]Données!$F$26,$B8="SSIAP3",EK$8*[1]Données!$C$26) -> 414 | EP11: =_xlfn.IFS(EN$7="X",EL$8*[1]Données!$I$26,EG$3="Samedi",EL$8*[1]Données!$D$26,EG$3="Dimanche",EL$8*[1]Données!$F$26,$B8="SSIAP3",EL$8*[1]Données!$C$26) -> 46 | EQ11: =_xlfn.IFS(EN$7="X",EM$8*[1]Données!$I$26,EG$3="Samedi",EM$8*[1]Données!$D$26,EG$3="Dimanche",EM$8*[1]Données!$F$26,$B8="SSIAP3",EM$8*[1]Données!$B$26) -> 46 | ER11: =IF($B8="SSIAP3",SUM(EN11:EQ11),0) -> 0 | EZ11: =_xlfn.IFS(EZ$7="X",EV$8*[1]Données!$H$26,ES$3="Samedi",EV$8*[1]Données!$D$26,ES$3="Dimanche",EV$8*[1]Données!$F$26,$B8="SSIAP3",EV$8*[1]Données!$B$26) -> 202.4 | FA11: =_xlfn.IFS(EZ$7="X",EW$8*[1]Données!$I$26,ES$3="Samedi",EW$8*[1]Données!$D$26,ES$3="Dimanche",EW$8*[1]Données!$F$26,$B8="SSIAP3",EW$8*[1]Données!$C$26) -> 455.4 | FB11: =_xlfn.IFS(EZ$7="X",EX$8*[1]Données!$I$26,ES$3="Samedi",EX$8*[1]Données!$D$26,ES$3="Dimanche",EX$8*[1]Données!$F$26,$B8="SSIAP3",EX$8*[1]Données!$C$26) -> 50.6 | FC11: =_xlfn.IFS(EZ$7="X",EY$8*[1]Données!$I$26,ES$3="Samedi",EY$8*[1]Données!$D$26,ES$3="Dimanche",EY$8*[1]Données!$F$26,$B8="SSIAP3",EY$8*[1]Données!$B$26) -> 50.6 | FD11: =IF($B8="SSIAP3",SUM(EZ11:FC11),0) -> 0 | FL11: =_xlfn.IFS(FL$7="X",FH$8*[1]Données!$H$26,FE$3="Samedi",FH$8*[1]Données!$D$26,FE$3="Dimanche",FH$8*[1]Données!$F$26,$B8="SSIAP3",FH$8*[1]Données!$B$26) -> #N/A | FM11: =_xlfn.IFS(FL$7="X",FI$8*[1]Données!$I$26,FE$3="Samedi",FI$8*[1]Données!$D$26,FE$3="Dimanche",FI$8*[1]Données!$F$26,$B8="SSIAP3",FI$8*[1]Données!$C$26) -> #N/A | FN11: =_xlfn.IFS(FL$7="X",FJ$8*[1]Données!$I$26,FE$3="Samedi",FJ$8*[1]Données!$D$26,FE$3="Dimanche",FJ$8*[1]Données!$F$26,$B8="SSIAP3",FJ$8*[1]Données!$C$26) -> #N/A | FO11: =_xlfn.IFS(FL$7="X",FK$8*[1]Données!$I$26,FE$3="Samedi",FK$8*[1]Données!$D$26,FE$3="Dimanche",FK$8*[1]Données!$F$26,$B8="SSIAP3",FK$8*[1]Données!$B$26) -> #N/A | FP11: =IF($B8="SSIAP3",SUM(FL11:FO11),0) -> 0 | FX11: =_xlfn.IFS(FX$7="X",FT$8*[1]Données!$H$26,FQ$3="Samedi",FT$8*[1]Données!$D$26,FQ$3="Dimanche",FT$8*[1]Données!$F$26,$B8="SSIAP3",FT$8*[1]Données!$B$26) -> #N/A | FY11: =_xlfn.IFS(FX$7="X",FU$8*[1]Données!$I$26,FQ$3="Samedi",FU$8*[1]Données!$D$26,FQ$3="Dimanche",FU$8*[1]Données!$F$26,$B8="SSIAP3",FU$8*[1]Données!$C$26) -> #N/A | FZ11: =_xlfn.IFS(FX$7="X",FV$8*[1]Données!$I$26,FQ$3="Samedi",FV$8*[1]Données!$D$26,FQ$3="Dimanche",FV$8*[1]Données!$F$26,$B8="SSIAP3",FV$8*[1]Données!$C$26) -> #N/A | GA11: =_xlfn.IFS(FX$7="X",FW$8*[1]Données!$I$26,FQ$3="Samedi",FW$8*[1]Données!$D$26,FQ$3="Dimanche",FW$8*[1]Données!$F$26,$B8="SSIAP3",FW$8*[1]Données!$B$26) -> #N/A | GB11: =IF($B8="SSIAP3",SUM(FX11:GA11),0) -> 0 | GJ11: =_xlfn.IFS(GJ$7="X",GF$8*[1]Données!$H$26,GC$3="Samedi",GF$8*[1]Données!$D$26,GC$3="Dimanche",GF$8*[1]Données!$F$26,$B8="SSIAP3",GF$8*[1]Données!$B$26) -> #N/A | GK11: =_xlfn.IFS(GJ$7="X",GG$8*[1]Données!$I$26,GC$3="Samedi",GG$8*[1]Données!$D$26,GC$3="Dimanche",GG$8*[1]Données!$F$26,$B8="SSIAP3",GG$8*[1]Données!$C$26) -> #N/A | GL11: =_xlfn.IFS(GJ$7="X",GH$8*[1]Données!$I$26,GC$3="Samedi",GH$8*[1]Données!$D$26,GC$3="Dimanche",GH$8*[1]Données!$F$26,$B8="SSIAP3",GH$8*[1]Données!$C$26) -> #N/A | GM11: =_xlfn.IFS(GJ$7="X",GI$8*[1]Données!$I$26,GC$3="Samedi",GI$8*[1]Données!$D$26,GC$3="Dimanche",GI$8*[1]Données!$F$26,$B8="SSIAP3",GI$8*[1]Données!$B$26) -> #N/A | GN11: =IF($B8="SSIAP3",SUM(GJ11:GM11),0) -> 0 | GV11: =_xlfn.IFS(GV$7="X",GR$8*[1]Données!$H$26,GO$3="Samedi",GR$8*[1]Données!$D$26,GO$3="Dimanche",GR$8*[1]Données!$F$26,$B8="SSIAP3",GR$8*[1]Données!$B$26) -> #N/A | GW11: =_xlfn.IFS(GV$7="X",GS$8*[1]Données!$I$26,GO$3="Samedi",GS$8*[1]Données!$D$26,GO$3="Dimanche",GS$8*[1]Données!$F$26,$B8="SSIAP3",GS$8*[1]Données!$C$26) -> #N/A | GX11: =_xlfn.IFS(GV$7="X",GT$8*[1]Données!$I$26,GO$3="Samedi",GT$8*[1]Données!$D$26,GO$3="Dimanche",GT$8*[1]Données!$F$26,$B8="SSIAP3",GT$8*[1]Données!$C$26) -> #N/A | GY11: =_xlfn.IFS(GV$7="X",GU$8*[1]Données!$I$26,GO$3="Samedi",GU$8*[1]Données!$D$26,GO$3="Dimanche",GU$8*[1]Données!$F$26,$B8="SSIAP3",GU$8*[1]Données!$B$26) -> #N/A | GZ11: =IF($B8="SSIAP3",SUM(GV11:GY11),0) -> 0 | HH11: =_xlfn.IFS(HH$7="X",HD$8*[1]Données!$H$26,HA$3="Samedi",HD$8*[1]Données!$D$26,HA$3="Dimanche",HD$8*[1]Données!$F$26,$B8="SSIAP3",HD$8*[1]Données!$B$26) -> #N/A | HI11: =_xlfn.IFS(HH$7="X",HE$8*[1]Données!$I$26,HA$3="Samedi",HE$8*[1]Données!$D$26,HA$3="Dimanche",HE$8*[1]Données!$F$26,$B8="SSIAP3",HE$8*[1]Données!$C$26) -> #N/A | HJ11: =_xlfn.IFS(HH$7="X",HF$8*[1]Données!$I$26,HA$3="Samedi",HF$8*[1]Données!$D$26,HA$3="Dimanche",HF$8*[1]Données!$F$26,$B8="SSIAP3",HF$8*[1]Données!$C$26) -> #N/A | HK11: =_xlfn.IFS(HH$7="X",HG$8*[1]Données!$I$26,HA$3="Samedi",HG$8*[1]Données!$D$26,HA$3="Dimanche",HG$8*[1]Données!$F$26,$B8="SSIAP3",HG$8*[1]Données!$B$26) -> #N/A | HL11: =IF($B8="SSIAP3",SUM(HH11:HK11),0) -> 0 | HT11: =_xlfn.IFS(HT$7="X",HP$8*[1]Données!$H$26,HM$3="Samedi",HP$8*[1]Données!$D$26,HM$3="Dimanche",HP$8*[1]Données!$F$26,$B8="SSIAP3",HP$8*[1]Données!$B$26) -> 184 | HU11: =_xlfn.IFS(HT$7="X",HQ$8*[1]Données!$I$26,HM$3="Samedi",HQ$8*[1]Données!$D$26,HM$3="Dimanche",HQ$8*[1]Données!$F$26,$B8="SSIAP3",HQ$8*[1]Données!$C$26) -> 414 | HV11: =_xlfn.IFS(HT$7="X",HR$8*[1]Données!$I$26,HM$3="Samedi",HR$8*[1]Données!$D$26,HM$3="Dimanche",HR$8*[1]Données!$F$26,$B8="SSIAP3",HR$8*[1]Données!$C$26) -> 46 | HW11: =_xlfn.IFS(HT$7="X",HS$8*[1]Données!$I$26,HM$3="Samedi",HS$8*[1]Données!$D$26,HM$3="Dimanche",HS$8*[1]Données!$F$26,$B8="SSIAP3",HS$8*[1]Données!$B$26) -> 46 | HX11: =IF($B8="SSIAP3",SUM(HT11:HW11),0) -> 0 | IF11: =_xlfn.IFS(IF$7="X",IB$8*[1]Données!$H$26,HY$3="Samedi",IB$8*[1]Données!$D$26,HY$3="Dimanche",IB$8*[1]Données!$F$26,$B8="SSIAP3",IB$8*[1]Données!$B$26) -> 202.4 | IG11: =_xlfn.IFS(IF$7="X",IC$8*[1]Données!$I$26,HY$3="Samedi",IC$8*[1]Données!$D$26,HY$3="Dimanche",IC$8*[1]Données!$F$26,$B8="SSIAP3",IC$8*[1]Données!$C$26) -> 455.4 | IH11: =_xlfn.IFS(IF$7="X",ID$8*[1]Données!$I$26,HY$3="Samedi",ID$8*[1]Données!$D$26,HY$3="Dimanche",ID$8*[1]Données!$F$26,$B8="SSIAP3",ID$8*[1]Données!$C$26) -> 50.6 | II11: =_xlfn.IFS(IF$7="X",IE$8*[1]Données!$I$26,HY$3="Samedi",IE$8*[1]Données!$D$26,HY$3="Dimanche",IE$8*[1]Données!$F$26,$B8="SSIAP3",IE$8*[1]Données!$B$26) -> 50.6 | IJ11: =IF($B8="SSIAP3",SUM(IF11:II11),0) -> 0 | IR11: =_xlfn.IFS(IR$7="X",IN$8*[1]Données!$H$26,IK$3="Samedi",IN$8*[1]Données!$D$26,IK$3="Dimanche",IN$8*[1]Données!$F$26,$B8="SSIAP3",IN$8*[1]Données!$B$26) -> #N/A | IS11: =_xlfn.IFS(IR$7="X",IO$8*[1]Données!$I$26,IK$3="Samedi",IO$8*[1]Données!$D$26,IK$3="Dimanche",IO$8*[1]Données!$F$26,$B8="SSIAP3",IO$8*[1]Données!$C$26) -> #N/A | IT11: =_xlfn.IFS(IR$7="X",IP$8*[1]Données!$I$26,IK$3="Samedi",IP$8*[1]Données!$D$26,IK$3="Dimanche",IP$8*[1]Données!$F$26,$B8="SSIAP3",IP$8*[1]Données!$C$26) -> #N/A | IU11: =_xlfn.IFS(IR$7="X",IQ$8*[1]Données!$I$26,IK$3="Samedi",IQ$8*[1]Données!$D$26,IK$3="Dimanche",IQ$8*[1]Données!$F$26,$B8="SSIAP3",IQ$8*[1]Données!$B$26) -> #N/A | IV11: =IF($B8="SSIAP3",SUM(IR11:IU11),0) -> 0 | JD11: =_xlfn.IFS(JD$7="X",IZ$8*[1]Données!$H$26,IW$3="Samedi",IZ$8*[1]Données!$D$26,IW$3="Dimanche",IZ$8*[1]Données!$F$26,$B8="SSIAP3",IZ$8*[1]Données!$B$26) -> #N/A | JE11: =_xlfn.IFS(JD$7="X",JA$8*[1]Données!$I$26,IW$3="Samedi",JA$8*[1]Données!$D$26,IW$3="Dimanche",JA$8*[1]Données!$F$26,$B8="SSIAP3",JA$8*[1]Données!$C$26) -> #N/A | JF11: =_xlfn.IFS(JD$7="X",JB$8*[1]Données!$I$26,IW$3="Samedi",JB$8*[1]Données!$D$26,IW$3="Dimanche",JB$8*[1]Données!$F$26,$B8="SSIAP3",JB$8*[1]Données!$C$26) -> #N/A | JG11: =_xlfn.IFS(JD$7="X",JC$8*[1]Données!$I$26,IW$3="Samedi",JC$8*[1]Données!$D$26,IW$3="Dimanche",JC$8*[1]Données!$F$26,$B8="SSIAP3",JC$8*[1]Données!$B$26) -> #N/A | JH11: =IF($B8="SSIAP3",SUM(JD11:JG11),0) -> 0 | JP11: =_xlfn.IFS(JP$7="X",JL$8*[1]Données!$H$26,JI$3="Samedi",JL$8*[1]Données!$D$26,JI$3="Dimanche",JL$8*[1]Données!$F$26,$B8="SSIAP3",JL$8*[1]Données!$B$26) -> #N/A | JQ11: =_xlfn.IFS(JP$7="X",JM$8*[1]Données!$I$26,JI$3="Samedi",JM$8*[1]Données!$D$26,JI$3="Dimanche",JM$8*[1]Données!$F$26,$B8="SSIAP3",JM$8*[1]Données!$C$26) -> #N/A | JR11: =_xlfn.IFS(JP$7="X",JN$8*[1]Données!$I$26,JI$3="Samedi",JN$8*[1]Données!$D$26,JI$3="Dimanche",JN$8*[1]Données!$F$26,$B8="SSIAP3",JN$8*[1]Données!$C$26) -> #N/A | JS11: =_xlfn.IFS(JP$7="X",JO$8*[1]Données!$I$26,JI$3="Samedi",JO$8*[1]Données!$D$26,JI$3="Dimanche",JO$8*[1]Données!$F$26,$B8="SSIAP3",JO$8*[1]Données!$B$26) -> #N/A | JT11: =IF($B8="SSIAP3",SUM(JP11:JS11),0) -> 0 | KB11: =_xlfn.IFS(KB$7="X",JX$8*[1]Données!$H$26,JU$3="Samedi",JX$8*[1]Données!$D$26,JU$3="Dimanche",JX$8*[1]Données!$F$26,$B8="SSIAP3",JX$8*[1]Données!$B$26) -> #N/A | KC11: =_xlfn.IFS(KB$7="X",JY$8*[1]Données!$I$26,JU$3="Samedi",JY$8*[1]Données!$D$26,JU$3="Dimanche",JY$8*[1]Données!$F$26,$B8="SSIAP3",JY$8*[1]Données!$C$26) -> #N/A | KD11: =_xlfn.IFS(KB$7="X",JZ$8*[1]Données!$I$26,JU$3="Samedi",JZ$8*[1]Données!$D$26,JU$3="Dimanche",JZ$8*[1]Données!$F$26,$B8="SSIAP3",JZ$8*[1]Données!$C$26) -> #N/A | KE11: =_xlfn.IFS(KB$7="X",KA$8*[1]Données!$I$26,JU$3="Samedi",KA$8*[1]Données!$D$26,JU$3="Dimanche",KA$8*[1]Données!$F$26,$B8="SSIAP3",KA$8*[1]Données!$B$26) -> #N/A | KF11: =IF($B8="SSIAP3",SUM(KB11:KE11),0) -> 0 | KN11: =_xlfn.IFS(KN$7="X",KJ$8*[1]Données!$H$26,KG$3="Samedi",KJ$8*[1]Données!$D$26,KG$3="Dimanche",KJ$8*[1]Données!$F$26,$B8="SSIAP3",KJ$8*[1]Données!$B$26) -> #N/A | KO11: =_xlfn.IFS(KN$7="X",KK$8*[1]Données!$I$26,KG$3="Samedi",KK$8*[1]Données!$D$26,KG$3="Dimanche",KK$8*[1]Données!$F$26,$B8="SSIAP3",KK$8*[1]Données!$C$26) -> #N/A | KP11: =_xlfn.IFS(KN$7="X",KL$8*[1]Données!$I$26,KG$3="Samedi",KL$8*[1]Données!$D$26,KG$3="Dimanche",KL$8*[1]Données!$F$26,$B8="SSIAP3",KL$8*[1]Données!$C$26) -> #N/A | KQ11: =_xlfn.IFS(KN$7="X",KM$8*[1]Données!$I$26,KG$3="Samedi",KM$8*[1]Données!$D$26,KG$3="Dimanche",KM$8*[1]Données!$F$26,$B8="SSIAP3",KM$8*[1]Données!$B$26) -> #N/A | KR11: =IF($B8="SSIAP3",SUM(KN11:KQ11),0) -> 0 | KZ11: =_xlfn.IFS(KZ$7="X",KV$8*[1]Données!$H$26,KS$3="Samedi",KV$8*[1]Données!$D$26,KS$3="Dimanche",KV$8*[1]Données!$F$26,$B8="SSIAP3",KV$8*[1]Données!$B$26) -> 184 | LA11: =_xlfn.IFS(KZ$7="X",KW$8*[1]Données!$I$26,KS$3="Samedi",KW$8*[1]Données!$D$26,KS$3="Dimanche",KW$8*[1]Données!$F$26,$B8="SSIAP3",KW$8*[1]Données!$C$26) -> 414 | LB11: =_xlfn.IFS(KZ$7="X",KX$8*[1]Données!$I$26,KS$3="Samedi",KX$8*[1]Données!$D$26,KS$3="Dimanche",KX$8*[1]Données!$F$26,$B8="SSIAP3",KX$8*[1]Données!$C$26) -> 46 | LC11: =_xlfn.IFS(KZ$7="X",KY$8*[1]Données!$I$26,KS$3="Samedi",KY$8*[1]Données!$D$26,KS$3="Dimanche",KY$8*[1]Données!$F$26,$B8="SSIAP3",KY$8*[1]Données!$B$26) -> 46 | LD11: =IF($B8="SSIAP3",SUM(KZ11:LC11),0) -> 0 | LL11: =_xlfn.IFS(LL$7="X",LH$8*[1]Données!$H$26,LE$3="Samedi",LH$8*[1]Données!$D$26,LE$3="Dimanche",LH$8*[1]Données!$F$26,$B8="SSIAP3",LH$8*[1]Données!$B$26) -> 202.4 | LM11: =_xlfn.IFS(LL$7="X",LI$8*[1]Données!$I$26,LE$3="Samedi",LI$8*[1]Données!$D$26,LE$3="Dimanche",LI$8*[1]Données!$F$26,$B8="SSIAP3",LI$8*[1]Données!$C$26) -> 455.4 | LN11: =_xlfn.IFS(LL$7="X",LJ$8*[1]Données!$I$26,LE$3="Samedi",LJ$8*[1]Données!$D$26,LE$3="Dimanche",LJ$8*[1]Données!$F$26,$B8="SSIAP3",LJ$8*[1]Données!$C$26) -> 50.6 | LO11: =_xlfn.IFS(LL$7="X",LK$8*[1]Données!$I$26,LE$3="Samedi",LK$8*[1]Données!$D$26,LE$3="Dimanche",LK$8*[1]Données!$F$26,$B8="SSIAP3",LK$8*[1]Données!$B$26) -> 50.6 | LP11: =IF($B8="SSIAP3",SUM(LL11:LO11),0) -> 0 | LX11: =_xlfn.IFS(LX$7="X",LT$8*[1]Données!$H$26,LQ$3="Samedi",LT$8*[1]Données!$D$26,LQ$3="Dimanche",LT$8*[1]Données!$F$26,$B8="SSIAP3",LT$8*[1]Données!$B$26) -> #N/A | LY11: =_xlfn.IFS(LX$7="X",LU$8*[1]Données!$I$26,LQ$3="Samedi",LU$8*[1]Données!$D$26,LQ$3="Dimanche",LU$8*[1]Données!$F$26,$B8="SSIAP3",LU$8*[1]Données!$C$26) -> #N/A | LZ11: =_xlfn.IFS(LX$7="X",LV$8*[1]Données!$I$26,LQ$3="Samedi",LV$8*[1]Données!$D$26,LQ$3="Dimanche",LV$8*[1]Données!$F$26,$B8="SSIAP3",LV$8*[1]Données!$C$26) -> #N/A | MA11: =_xlfn.IFS(LX$7="X",LW$8*[1]Données!$I$26,LQ$3="Samedi",LW$8*[1]Données!$D$26,LQ$3="Dimanche",LW$8*[1]Données!$F$26,$B8="SSIAP3",LW$8*[1]Données!$B$26) -> #N/A | MB11: =IF($B8="SSIAP3",SUM(LX11:MA11),0) -> 0 | MJ11: =_xlfn.IFS(MJ$7="X",MF$8*[1]Données!$H$26,MC$3="Samedi",MF$8*[1]Données!$D$26,MC$3="Dimanche",MF$8*[1]Données!$F$26,$B8="SSIAP3",MF$8*[1]Données!$B$26) -> #N/A | MK11: =_xlfn.IFS(MJ$7="X",MG$8*[1]Données!$I$26,MC$3="Samedi",MG$8*[1]Données!$D$26,MC$3="Dimanche",MG$8*[1]Données!$F$26,$B8="SSIAP3",MG$8*[1]Données!$C$26) -> #N/A | ML11: =_xlfn.IFS(MJ$7="X",MH$8*[1]Données!$I$26,MC$3="Samedi",MH$8*[1]Données!$D$26,MC$3="Dimanche",MH$8*[1]Données!$F$26,$B8="SSIAP3",MH$8*[1]Données!$C$26) -> #N/A | MM11: =_xlfn.IFS(MJ$7="X",MI$8*[1]Données!$I$26,MC$3="Samedi",MI$8*[1]Données!$D$26,MC$3="Dimanche",MI$8*[1]Données!$F$26,$B8="SSIAP3",MI$8*[1]Données!$B$26) -> #N/A | MN11: =IF($B8="SSIAP3",SUM(MJ11:MM11),0) -> 0 | MV11: =_xlfn.IFS(MV$7="X",MR$8*[1]Données!$H$26,MO$3="Samedi",MR$8*[1]Données!$D$26,MO$3="Dimanche",MR$8*[1]Données!$F$26,$B8="SSIAP3",MR$8*[1]Données!$B$26) -> #N/A | MW11: =_xlfn.IFS(MV$7="X",MS$8*[1]Données!$I$26,MO$3="Samedi",MS$8*[1]Données!$D$26,MO$3="Dimanche",MS$8*[1]Données!$F$26,$B8="SSIAP3",MS$8*[1]Données!$C$26) -> #N/A | MX11: =_xlfn.IFS(MV$7="X",MT$8*[1]Données!$I$26,MO$3="Samedi",MT$8*[1]Données!$D$26,MO$3="Dimanche",MT$8*[1]Données!$F$26,$B8="SSIAP3",MT$8*[1]Données!$C$26) -> #N/A | MY11: =_xlfn.IFS(MV$7="X",MU$8*[1]Données!$I$26,MO$3="Samedi",MU$8*[1]Données!$D$26,MO$3="Dimanche",MU$8*[1]Données!$F$26,$B8="SSIAP3",MU$8*[1]Données!$B$26) -> #N/A | MZ11: =IF($B8="SSIAP3",SUM(MV11:MY11),0) -> 0 | NH11: =_xlfn.IFS(NH$7="X",ND$8*[1]Données!$H$26,NA$3="Samedi",ND$8*[1]Données!$D$26,NA$3="Dimanche",ND$8*[1]Données!$F$26,$B8="SSIAP3",ND$8*[1]Données!$B$26) -> #N/A | NI11: =_xlfn.IFS(NH$7="X",NE$8*[1]Données!$I$26,NA$3="Samedi",NE$8*[1]Données!$D$26,NA$3="Dimanche",NE$8*[1]Données!$F$26,$B8="SSIAP3",NE$8*[1]Données!$C$26) -> #N/A | NJ11: =_xlfn.IFS(NH$7="X",NF$8*[1]Données!$I$26,NA$3="Samedi",NF$8*[1]Données!$D$26,NA$3="Dimanche",NF$8*[1]Données!$F$26,$B8="SSIAP3",NF$8*[1]Données!$C$26) -> #N/A | NK11: =_xlfn.IFS(NH$7="X",NG$8*[1]Données!$I$26,NA$3="Samedi",NG$8*[1]Données!$D$26,NA$3="Dimanche",NG$8*[1]Données!$F$26,$B8="SSIAP3",NG$8*[1]Données!$B$26) -> #N/A | NL11: =IF($B8="SSIAP3",SUM(NH11:NK11),0) -> 0 | NM11: =IF($B$8="SSIAP3",SUM($P11+$AB11+$AN11+$AZ11+$BL11+$BX11+$CJ11+$CV11+$DH11+$DT11+$EF11+$ER11+$FD11+$FP11+$GB10+$GB11+$GN11+$GZ11+$HL11+$HX11+$IJ11+$IV11+$JH11+$JT11+$KF11+$KR11+$LD11+$LP11+$MB11+$MN11+$MZ11+$NL11),0) -> 0
A12: 2 | B12: ADS | C12: Expo 2 | E12: 0.91666667 | F12: 0.33333333 | G12: =24*(MOD(F12-E12,1)) -> 10 | H12: =IF(E12<(21/24),(MIN(21-E12*24,G12)),0) -> 0 | I12: =IF(OR(E12>=21/24,H12<>0),MIN(9-MAX(0,E12*24-21),G12-H12),0) -> 8 | J12: =MAX(0,MIN(1,G12-SUM($H12:I12))) -> 1 | K12: =MAX(0,G12-SUM(H12:J12)) -> 1 | L12: =_xlfn.IFS(L$7="X",H$12*[1]Données!$H$23,E$3="Samedi",H$12*[1]Données!$D$23,E$3="Dimanche",H$12*[1]Données!$F27,$B12="ADS",H$12*[1]Données!$B$23) -> 0 | M12: =_xlfn.IFS(L$7="X",I$12*[1]Données!$I$23,E$3="Samedi",I$12*[1]Données!$D$23,E$3="Dimanche",I$12*[1]Données!$F$23,$B12="ADS",I$12*[1]Données!$C$23) -> 422.72 | N12: =_xlfn.IFS(L$7="X",J$12*[1]Données!$I$23,E$3="Samedi",J$12*[1]Données!$D$23,E$3="Dimanche",J$12*[1]Données!$F$23,$B12="ADS",J$12*[1]Données!$C$23) -> 52.84 | O12: =_xlfn.IFS(L$7="X",K$12*[1]Données!$H$23,E$3="Samedi",K$12*[1]Données!$D$23,E$3="Dimanche",K$12*[1]Données!$F$23,$B12="ADS",K$12*[1]Données!$B$23) -> 47.6 | P12: =IF($B12="ADS",SUM(L12:O12),0) -> 523.16 | Q12: 0.70833333 | R12: 0.33333333 | S12: =24*(MOD(R12-Q12,1)) -> 15 | T12: =IF(Q12<(21/24),(MIN(21-Q12*24,S12)),0) -> 4 | U12: =IF(OR(Q12>=21/24,T12<>0),MIN(9-MAX(0,Q12*24-21),S12-T12),0) -> 9 | V12: =MAX(0,MIN(1,S12-SUM($T12:U12))) -> 1 | W12: =MAX(0,S12-SUM(T12:V12)) -> 1 | X12: =_xlfn.IFS(X$7="X",T$12*[1]Données!$H$23,Q$3="Samedi",T$12*[1]Données!$D$23,Q$3="Dimanche",T$12*[1]Données!$F27,$B12="ADS",T$12*[1]Données!$B$23) -> 95.2 | Y12: =_xlfn.IFS(X$7="X",U$12*[1]Données!$I$23,Q$3="Samedi",U$12*[1]Données!$D$23,Q$3="Dimanche",U$12*[1]Données!$F$23,$B12="ADS",U$12*[1]Données!$C$23) -> 237.78 | Z12: =_xlfn.IFS(X$7="X",V$12*[1]Données!$I$23,Q$3="Samedi",V$12*[1]Données!$D$23,Q$3="Dimanche",V$12*[1]Données!$F$23,$B12="ADS",V$12*[1]Données!$C$23) -> 26.42 | AA12: =_xlfn.IFS(X$7="X",W$12*[1]Données!$H$23,Q$3="Samedi",W$12*[1]Données!$D$23,Q$3="Dimanche",W$12*[1]Données!$F$23,$B12="ADS",W$12*[1]Données!$B$23) -> 23.8 | AB12: =IF($B12="ADS",SUM(X12:AA12),0) -> 383.2 | AC12: 0.70833333 | AD12: 0.33333333 | AE12: =24*(MOD(AD12-AC12,1)) -> 15 | AF12: =IF(AC12<(21/24),(MIN(21-AC12*24,AE12)),0) -> 4 | AG12: =IF(OR(AC12>=21/24,AF12<>0),MIN(9-MAX(0,AC12*24-21),AE12-AF12),0) -> 9 | AH12: =MAX(0,MIN(1,AE12-SUM($AF12:AG12))) -> 1 | AI12: =MAX(0,AE12-SUM(AF12:AH12)) -> 1 | AJ12: =_xlfn.IFS(AJ$7="X",AF$12*[1]Données!$H$23,AC$3="Samedi",AF$12*[1]Données!$D$23,AC$3="Dimanche",AF$12*[1]Données!$F27,$B12="ADS",AF$12*[1]Données!$B$23) -> 95.2 | AK12: =_xlfn.IFS(AJ$7="X",AG$12*[1]Données!$I$23,AC$3="Samedi",AG$12*[1]Données!$D$23,AC$3="Dimanche",AG$12*[1]Données!$F$23,$B12="ADS",AG$12*[1]Données!$C$23) -> 237.78 | AL12: =_xlfn.IFS(AJ$7="X",AH$12*[1]Données!$I$23,AC$3="Samedi",AH$12*[1]Données!$D$23,AC$3="Dimanche",AH$12*[1]Données!$F$23,$B12="ADS",AH$12*[1]Données!$C$23) -> 26.42 | AM12: =_xlfn.IFS(AJ$7="X",AI$12*[1]Données!$H$23,AC$3="Samedi",AI$12*[1]Données!$D$23,AC$3="Dimanche",AI$12*[1]Données!$F$23,$B12="ADS",AI$12*[1]Données!$B$23) -> 23.8 | AN12: =IF($B12="ADS",SUM(AJ12:AM12),0) -> 383.2 | AO12: 0.70833333 | AP12: 0.33333333 | AQ12: =24*(MOD(AP12-AO12,1)) -> 15 | AR12: =IF(AO12<(21/24),(MIN(21-AO12*24,AQ12)),0) -> 4 | AS12: =IF(OR(AO12>=21/24,AR12<>0),MIN(9-MAX(0,AO12*24-21),AQ12-AR12),0) -> 9 | AT12: =MAX(0,MIN(1,AQ12-SUM($AR12:AS12))) -> 1 | AU12: =MAX(0,AQ12-SUM(AR12:AT12)) -> 1 | AV12: =_xlfn.IFS(AV$7="X",AR$12*[1]Données!$H$23,AO$3="Samedi",AR$12*[1]Données!$D$23,AO$3="Dimanche",AR$12*[1]Données!$F27,$B12="ADS",AR$12*[1]Données!$B$23) -> 95.2 | AW12: =_xlfn.IFS(AV$7="X",AS$12*[1]Données!$I$23,AO$3="Samedi",AS$12*[1]Données!$D$23,AO$3="Dimanche",AS$12*[1]Données!$F$23,$B12="ADS",AS$12*[1]Données!$C$23) -> 237.78 | AX12: =_xlfn.IFS(AV$7="X",AT$12*[1]Données!$I$23,AO$3="Samedi",AT$12*[1]Données!$D$23,AO$3="Dimanche",AT$12*[1]Données!$F$23,$B12="ADS",AT$12*[1]Données!$C$23) -> 26.42 | AY12: =_xlfn.IFS(AV$7="X",AU$12*[1]Données!$H$23,AO$3="Samedi",AU$12*[1]Données!$D$23,AO$3="Dimanche",AU$12*[1]Données!$F$23,$B12="ADS",AU$12*[1]Données!$B$23) -> 23.8 | AZ12: =IF($B12="ADS",SUM(AV12:AY12),0) -> 383.2 | BA12: 0.70833333 | BB12: 0.33333333 | BC12: =24*(MOD(BB12-BA12,1)) -> 15 | BD12: =IF(BA12<(21/24),(MIN(21-BA12*24,BC12)),0) -> 4 | BE12: =IF(OR(BA12>=21/24,BD12<>0),MIN(9-MAX(0,BA12*24-21),BC12-BD12),0) -> 9 | BF12: =MAX(0,MIN(1,BC12-SUM($BD12:BE12))) -> 1 | BG12: =MAX(0,BC12-SUM(BD12:BF12)) -> 1 | BH12: =_xlfn.IFS(BH$7="X",BD$12*[1]Données!$H$23,BA$3="Samedi",BD$12*[1]Données!$D$23,BA$3="Dimanche",BD$12*[1]Données!$F27,$B12="ADS",BD$12*[1]Données!$B$23) -> 95.2 | BI12: =_xlfn.IFS(BH$7="X",BE$12*[1]Données!$I$23,BA$3="Samedi",BE$12*[1]Données!$D$23,BA$3="Dimanche",BE$12*[1]Données!$F$23,$B12="ADS",BE$12*[1]Données!$C$23) -> 214.2 | BJ12: =_xlfn.IFS(BH$7="X",BF$12*[1]Données!$I$23,BA$3="Samedi",BF$12*[1]Données!$D$23,BA$3="Dimanche",BF$12*[1]Données!$F$23,$B12="ADS",BF$12*[1]Données!$C$23) -> 23.8 | BK12: =_xlfn.IFS(BH$7="X",BG$12*[1]Données!$H$23,BA$3="Samedi",BG$12*[1]Données!$D$23,BA$3="Dimanche",BG$12*[1]Données!$F$23,$B12="ADS",BG$12*[1]Données!$B$23) -> 23.8 | BL12: =IF($B12="ADS",SUM(BH12:BK12),0) -> 357 | BM12: 0.70833333 | BN12: 0.33333333 | BO12: =24*(MOD(BN12-BM12,1)) -> 15 | BP12: =IF(BM12<(21/24),(MIN(21-BM12*24,BO12)),0) -> 4 | BQ12: =IF(OR(BM12>=21/24,BP12<>0),MIN(9-MAX(0,BM12*24-21),BO12-BP12),0) -> 9 | BR12: =MAX(0,MIN(1,BO12-SUM($BP12:BQ12))) -> 1 | BS12: =MAX(0,BO12-SUM(BP12:BR12)) -> 1 | BT12: =_xlfn.IFS(BT$7="X",BP$12*[1]Données!$H$23,BM$3="Samedi",BP$12*[1]Données!$D$23,BM$3="Dimanche",BP$12*[1]Données!$F27,$B12="ADS",BP$12*[1]Données!$B$23) -> 0 | BU12: =_xlfn.IFS(BT$7="X",BQ$12*[1]Données!$I$23,BM$3="Samedi",BQ$12*[1]Données!$D$23,BM$3="Dimanche",BQ$12*[1]Données!$F$23,$B12="ADS",BQ$12*[1]Données!$C$23) -> 235.62 | BV12: =_xlfn.IFS(BT$7="X",BR$12*[1]Données!$I$23,BM$3="Samedi",BR$12*[1]Données!$D$23,BM$3="Dimanche",BR$12*[1]Données!$F$23,$B12="ADS",BR$12*[1]Données!$C$23) -> 26.18 | BW12: =_xlfn.IFS(BT$7="X",BS$12*[1]Données!$H$23,BM$3="Samedi",BS$12*[1]Données!$D$23,BM$3="Dimanche",BS$12*[1]Données!$F$23,$B12="ADS",BS$12*[1]Données!$B$23) -> 26.18 | BX12: =IF($B12="ADS",SUM(BT12:BW12),0) -> 287.98 | BY12: 0.70833333 | BZ12: 0.33333333 | CA12: =24*(MOD(BZ12-BY12,1)) -> 15 | CB12: =IF(BY12<(21/24),(MIN(21-BY12*24,CA12)),0) -> 4 | CC12: =IF(OR(BY12>=21/24,CB12<>0),MIN(9-MAX(0,BY12*24-21),CA12-CB12),0) -> 9 | CD12: =MAX(0,MIN(1,CA12-SUM($BP12:CC12))) -> 0 | CE12: =MAX(0,CA12-SUM(CB12:CD12)) -> 2 | CF12: =_xlfn.IFS(CF$7="X",CB$12*[1]Données!$H$23,BY$3="Samedi",CB$12*[1]Données!$D$23,BY$3="Dimanche",CB$12*[1]Données!$F27,$B12="ADS",CB$12*[1]Données!$B$23) -> 95.2 | CG12: =_xlfn.IFS(CF$7="X",CC$12*[1]Données!$I$23,BY$3="Samedi",CC$12*[1]Données!$D$23,BY$3="Dimanche",CC$12*[1]Données!$F$23,$B12="ADS",CC$12*[1]Données!$C$23) -> 237.78 | CH12: =_xlfn.IFS(CF$7="X",CD$12*[1]Données!$I$23,BY$3="Samedi",CD$12*[1]Données!$D$23,BY$3="Dimanche",CD$12*[1]Données!$F$23,$B12="ADS",CD$12*[1]Données!$C$23) -> 0 | CI12: =_xlfn.IFS(CF$7="X",CE$12*[1]Données!$H$23,BY$3="Samedi",CE$12*[1]Données!$D$23,BY$3="Dimanche",CE$12*[1]Données!$F$23,$B12="ADS",CE$12*[1]Données!$B$23) -> 47.6 | CJ12: =IF($B12="ADS",SUM(CF12:CI12),0) -> 380.58 | CK12: 0.70833333 | CL12: 0.33333333 | CM12: =24*(MOD(CL12-CK12,1)) -> 15 | CN12: =IF(CK12<(21/24),(MIN(21-CK12*24,CM12)),0) -> 4 | CO12: =IF(OR(CK12>=21/24,CN12<>0),MIN(9-MAX(0,CK12*24-21),CM12-CN12),0) -> 9 | CP12: =MAX(0,MIN(1,CM12-SUM(CN12:CO12))) -> 1 | CQ12: =MAX(0,CM12-SUM(CN12:CP12)) -> 1 | CR12: =_xlfn.IFS(CR$7="X",CN$12*[1]Données!$H$23,CK$3="Samedi",CN$12*[1]Données!$D$23,CK$3="Dimanche",CN$12*[1]Données!$F27,$B12="ADS",CN$12*[1]Données!$B$23) -> 95.2 | CS12: =_xlfn.IFS(CR$7="X",CO$12*[1]Données!$I$23,CK$3="Samedi",CO$12*[1]Données!$D$23,CK$3="Dimanche",CO$12*[1]Données!$F$23,$B12="ADS",CO$12*[1]Données!$C$23) -> 237.78 | CT12: =_xlfn.IFS(CR$7="X",CP$12*[1]Données!$I$23,CK$3="Samedi",CP$12*[1]Données!$D$23,CK$3="Dimanche",CP$12*[1]Données!$F$23,$B12="ADS",CP$12*[1]Données!$C$23) -> 26.42 | CU12: =_xlfn.IFS(CR$7="X",CQ$12*[1]Données!$H$23,CK$3="Samedi",CQ$12*[1]Données!$D$23,CK$3="Dimanche",CQ$12*[1]Données!$F$23,$B12="ADS",CQ$12*[1]Données!$B$23) -> 23.8 | CV12: =IF($B12="ADS",SUM(CR12:CU12),0) -> 383.2 | CW12: 0.70833333 | CX12: 0.33333333 | CY12: =24*(MOD(CX12-CW12,1)) -> 15 | CZ12: =IF(CW12<(21/24),(MIN(21-CW12*24,CY12)),0) -> 4 | DA12: =IF(OR(CW12>=21/24,CZ12<>0),MIN(9-MAX(0,CW12*24-21),CY12-CZ12),0) -> 9 | DB12: =MAX(0,MIN(1,CY12-SUM(CZ12:DA12))) -> 1 | DC12: =MAX(0,CY12-SUM(CZ12:DB12)) -> 1 | DD12: =_xlfn.IFS(DD$7="X",CZ$12*[1]Données!$H$23,CW$3="Samedi",CZ$12*[1]Données!$D$23,CW$3="Dimanche",CZ$12*[1]Données!$F27,$B12="ADS",CZ$12*[1]Données!$B$23) -> 95.2 | DE12: =_xlfn.IFS(DD$7="X",DA$12*[1]Données!$I$23,CW$3="Samedi",DA$12*[1]Données!$D$23,CW$3="Dimanche",DA$12*[1]Données!$F$23,$B12="ADS",DA$12*[1]Données!$C$23) -> 237.78 | DF12: =_xlfn.IFS(DD$7="X",DB$12*[1]Données!$I$23,CW$3="Samedi",DB$12*[1]Données!$D$23,CW$3="Dimanche",DB$12*[1]Données!$F$23,$B12="ADS",DB$12*[1]Données!$C$23) -> 26.42 | DG12: =_xlfn.IFS(DD$7="X",DC$12*[1]Données!$H$23,CW$3="Samedi",DC$12*[1]Données!$D$23,CW$3="Dimanche",DC$12*[1]Données!$F$23,$B12="ADS",DC$12*[1]Données!$B$23) -> 23.8 | DH12: =IF($B12="ADS",SUM(DD12:DG12),0) -> 383.2 | DI12: 0.70833333 | DJ12: 0.33333333 | DK12: =24*(MOD(DJ12-DI12,1)) -> 15 | DL12: =IF(DI12<(21/24),(MIN(21-DI12*24,DK12)),0) -> 4 | DM12: =IF(OR(DI12>=21/24,DL12<>0),MIN(9-MAX(0,DI12*24-21),DK12-DL12),0) -> 9 | DN12: =MAX(0,MIN(1,DK12-SUM($DL12:DM12))) -> 1 | DO12: =MAX(0,DK12-SUM(DL12:DN12)) -> 1 | DP12: =_xlfn.IFS(DP$7="X",DL$12*[1]Données!$H$23,DI$3="Samedi",DL$12*[1]Données!$D$23,DI$3="Dimanche",DL$12*[1]Données!$F27,$B12="ADS",DL$12*[1]Données!$B$23) -> 95.2 | DQ12: =_xlfn.IFS(DP$7="X",DM$12*[1]Données!$I$23,DI$3="Samedi",DM$12*[1]Données!$D$23,DI$3="Dimanche",DM$12*[1]Données!$F$23,$B12="ADS",DM$12*[1]Données!$C$23) -> 237.78 | DR12: =_xlfn.IFS(DP$7="X",DN$12*[1]Données!$I$23,DI$3="Samedi",DN$12*[1]Données!$D$23,DI$3="Dimanche",DN$12*[1]Données!$F$23,$B12="ADS",DN$12*[1]Données!$C$23) -> 26.42 | DS12: =_xlfn.IFS(DP$7="X",DO$12*[1]Données!$H$23,DI$3="Samedi",DO$12*[1]Données!$D$23,DI$3="Dimanche",DO$12*[1]Données!$F$23,$B12="ADS",DO$12*[1]Données!$B$23) -> 23.8 | DT12: =IF($B12="ADS",SUM(DP12:DS12),0) -> 383.2 | DU12: 0.70833333 | DV12: 0.33333333 | DW12: =24*(MOD(DV12-DU12,1)) -> 15 | DX12: =IF(DU12<(21/24),(MIN(21-DU12*24,DW12)),0) -> 4 | DY12: =IF(OR(DU12>=21/24,DX12<>0),MIN(9-MAX(0,DU12*24-21),DW12-DX12),0) -> 9 | DZ12: =MAX(0,MIN(1,DW12-SUM(DX12:DY12))) -> 1 | EA12: =MAX(0,DW12-SUM(DX12:DZ12)) -> 1 | EB12: =_xlfn.IFS(EB$7="X",DX$12*[1]Données!$H$23,DU$3="Samedi",DX$12*[1]Données!$D$23,DU$3="Dimanche",DX$12*[1]Données!$F27,$B12="ADS",DX$12*[1]Données!$B$23) -> 95.2 | EC12: =_xlfn.IFS(EB$7="X",DY$12*[1]Données!$I$23,DU$3="Samedi",DY$12*[1]Données!$D$23,DU$3="Dimanche",DY$12*[1]Données!$F$23,$B12="ADS",DY$12*[1]Données!$C$23) -> 237.78 | ED12: =_xlfn.IFS(EB$7="X",DZ$12*[1]Données!$I$23,DU$3="Samedi",DZ$12*[1]Données!$D$23,DU$3="Dimanche",DZ$12*[1]Données!$F$23,$B12="ADS",DZ$12*[1]Données!$C$23) -> 26.42 | EE12: =_xlfn.IFS(EB$7="X",EA$12*[1]Données!$H$23,DU$3="Samedi",EA$12*[1]Données!$D$23,DU$3="Dimanche",EA$12*[1]Données!$F$23,$B12="ADS",EA$12*[1]Données!$B$23) -> 23.8 | EF12: =IF($B12="ADS",SUM(EB12:EE12),0) -> 383.2 | EG12: 0.70833333 | EH12: 0.33333333 | EI12: =24*(MOD(EH12-EG12,1)) -> 15 | EJ12: =IF(EG12<(21/24),(MIN(21-EG12*24,EI12)),0) -> 4 | EK12: =IF(OR(EG12>=21/24,EJ12<>0),MIN(9-MAX(0,EG12*24-21),EI12-EJ12),0) -> 9 | EL12: =MAX(0,MIN(1,EI12-SUM(EJ12:EK12))) -> 1 | EM12: =MAX(0,EI12-SUM(EJ12:EL12)) -> 1 | EN12: =_xlfn.IFS(EN$7="X",EJ$12*[1]Données!$H$23,EG$3="Samedi",EJ$12*[1]Données!$D$23,EG$3="Dimanche",EJ$12*[1]Données!$F27,$B12="ADS",EJ$12*[1]Données!$B$23) -> 95.2 | EO12: =_xlfn.IFS(EN$7="X",EK$12*[1]Données!$I$23,EG$3="Samedi",EK$12*[1]Données!$D$23,EG$3="Dimanche",EK$12*[1]Données!$F$23,$B12="ADS",EK$12*[1]Données!$C$23) -> 214.2 | EP12: =_xlfn.IFS(EN$7="X",EL$12*[1]Données!$I$23,EG$3="Samedi",EL$12*[1]Données!$D$23,EG$3="Dimanche",EL$12*[1]Données!$F$23,$B12="ADS",EL$12*[1]Données!$C$23) -> 23.8 | EQ12: =_xlfn.IFS(EN$7="X",EM$12*[1]Données!$H$23,EG$3="Samedi",EM$12*[1]Données!$D$23,EG$3="Dimanche",EM$12*[1]Données!$F$23,$B12="ADS",EM$12*[1]Données!$B$23) -> 23.8 | ER12: =IF($B12="ADS",SUM(EN12:EQ12),0) -> 357 | ES12: 0.70833333 | ET12: 0.33333333 | EU12: =24*(MOD(ET12-ES12,1)) -> 15 | EV12: =IF(ES12<(21/24),(MIN(21-ES12*24,EU12)),0) -> 4 | EW12: =IF(OR(ES12>=21/24,EV12<>0),MIN(9-MAX(0,ES12*24-21),EU12-EV12),0) -> 9 | EX12: =MAX(0,MIN(1,EU12-SUM(EV12:EW12))) -> 1 | EY12: =MAX(0,EU12-SUM(EV12:EX12)) -> 1 | EZ12: =_xlfn.IFS(EZ$7="X",EV$12*[1]Données!$H$23,ES$3="Samedi",EV$12*[1]Données!$D$23,ES$3="Dimanche",EV$12*[1]Données!$F27,$B12="ADS",EV$12*[1]Données!$B$23) -> 0 | FA12: =_xlfn.IFS(EZ$7="X",EW$12*[1]Données!$I$23,ES$3="Samedi",EW$12*[1]Données!$D$23,ES$3="Dimanche",EW$12*[1]Données!$F$23,$B12="ADS",EW$12*[1]Données!$C$23) -> 235.62 | FB12: =_xlfn.IFS(EZ$7="X",EX$12*[1]Données!$I$23,ES$3="Samedi",EX$12*[1]Données!$D$23,ES$3="Dimanche",EX$12*[1]Données!$F$23,$B12="ADS",EX$12*[1]Données!$C$23) -> 26.18 | FC12: =_xlfn.IFS(EZ$7="X",EY$12*[1]Données!$H$23,ES$3="Samedi",EY$12*[1]Données!$D$23,ES$3="Dimanche",EY$12*[1]Données!$F$23,$B12="ADS",EY$12*[1]Données!$B$23) -> 26.18 | FD12: =IF($B12="ADS",SUM(EZ12:FC12),0) -> 287.98 | FE12: 0.70833333 | FF12: 0.33333333 | FG12: =24*(MOD(FF12-FE12,1)) -> 15 | FH12: =IF(FE12<(21/24),(MIN(21-FE12*24,FG12)),0) -> 4 | FI12: =IF(OR(FE12>=21/24,FH12<>0),MIN(9-MAX(0,FE12*24-21),FG12-FH12),0) -> 9 | FJ12: =MAX(0,MIN(1,FG12-SUM(FH12:FI12))) -> 1 | FK12: =MAX(0,FG12-SUM(FH12:FJ12)) -> 1 | FL12: =_xlfn.IFS(FL$7="X",FH$12*[1]Données!$H$23,FE$3="Samedi",FH$12*[1]Données!$D$23,FE$3="Dimanche",FH$12*[1]Données!$F27,$B12="ADS",FH$12*[1]Données!$B$23) -> 95.2 | FM12: =_xlfn.IFS(FL$7="X",FI$12*[1]Données!$I$23,FE$3="Samedi",FI$12*[1]Données!$D$23,FE$3="Dimanche",FI$12*[1]Données!$F$23,$B12="ADS",FI$12*[1]Données!$C$23) -> 237.78 | FN12: =_xlfn.IFS(FL$7="X",FJ$12*[1]Données!$I$23,FE$3="Samedi",FJ$12*[1]Données!$D$23,FE$3="Dimanche",FJ$12*[1]Données!$F$23,$B12="ADS",FJ$12*[1]Données!$C$23) -> 26.42 | FO12: =_xlfn.IFS(FL$7="X",FK$12*[1]Données!$H$23,FE$3="Samedi",FK$12*[1]Données!$D$23,FE$3="Dimanche",FK$12*[1]Données!$F$23,$B12="ADS",FK$12*[1]Données!$B$23) -> 23.8 | FP12: =IF($B12="ADS",SUM(FL12:FO12),0) -> 383.2 | FQ12: 0.70833333 | FR12: 0.33333333 | FS12: =24*(MOD(FR12-FQ12,1)) -> 15 | FT12: =IF(FQ12<(21/24),(MIN(21-FQ12*24,FS12)),0) -> 4 | FU12: =IF(OR(FQ12>=21/24,FT12<>0),MIN(9-MAX(0,FQ12*24-21),FS12-FT12),0) -> 9 | FV12: =MAX(0,MIN(1,FS12-SUM(FT12:FU12))) -> 1 | FW12: =MAX(0,FS12-SUM(FT12:FV12)) -> 1 | FX12: =_xlfn.IFS(FX$7="X",FT$12*[1]Données!$H$23,FQ$3="Samedi",FT$12*[1]Données!$D$23,FQ$3="Dimanche",FT$12*[1]Données!$F27,$B12="ADS",FT$12*[1]Données!$B$23) -> 95.2 | FY12: =_xlfn.IFS(FX$7="X",FU$12*[1]Données!$I$23,FQ$3="Samedi",FU$12*[1]Données!$D$23,FQ$3="Dimanche",FU$12*[1]Données!$F$23,$B12="ADS",FU$12*[1]Données!$C$23) -> 237.78 | FZ12: =_xlfn.IFS(FX$7="X",FV$12*[1]Données!$I$23,FQ$3="Samedi",FV$12*[1]Données!$D$23,FQ$3="Dimanche",FV$12*[1]Données!$F$23,$B12="ADS",FV$12*[1]Données!$C$23) -> 26.42 | GA12: =_xlfn.IFS(FX$7="X",FW$12*[1]Données!$H$23,FQ$3="Samedi",FW$12*[1]Données!$D$23,FQ$3="Dimanche",FW$12*[1]Données!$F$23,$B12="ADS",FW$12*[1]Données!$B$23) -> 23.8 | GB12: =IF($B12="ADS",SUM(FX12:GA12),0) -> 383.2 | GC12: 0.70833333 | GD12: 0.33333333 | GE12: =24*(MOD(GD12-GC12,1)) -> 15 | GF12: =IF(GC12<(21/24),(MIN(21-GC12*24,GE12)),0) -> 4 | GG12: =IF(OR(GC12>=21/24,GF12<>0),MIN(9-MAX(0,GC12*24-21),GE12-GF12),0) -> 9 | GH12: =MAX(0,MIN(1,GE12-SUM(GF12:GG12))) -> 1 | GI12: =MAX(0,GE12-SUM(GF12:GH12)) -> 1 | GJ12: =_xlfn.IFS(GJ$7="X",GF$12*[1]Données!$H$23,GC$3="Samedi",GF$12*[1]Données!$D$23,GC$3="Dimanche",GF$12*[1]Données!$F27,$B12="ADS",GF$12*[1]Données!$B$23) -> 95.2 | GK12: =_xlfn.IFS(GJ$7="X",GG$12*[1]Données!$I$23,GC$3="Samedi",GG$12*[1]Données!$D$23,GC$3="Dimanche",GG$12*[1]Données!$F$23,$B12="ADS",GG$12*[1]Données!$C$23) -> 237.78 | GL12: =_xlfn.IFS(GJ$7="X",GH$12*[1]Données!$I$23,GC$3="Samedi",GH$12*[1]Données!$D$23,GC$3="Dimanche",GH$12*[1]Données!$F$23,$B12="ADS",GH$12*[1]Données!$C$23) -> 26.42 | GM12: =_xlfn.IFS(GJ$7="X",GI$12*[1]Données!$H$23,GC$3="Samedi",GI$12*[1]Données!$D$23,GC$3="Dimanche",GI$12*[1]Données!$F$23,$B12="ADS",GI$12*[1]Données!$B$23) -> 23.8 | GN12: =IF($B12="ADS",SUM(GJ12:GM12),0) -> 383.2 | GO12: 0.70833333 | GP12: 0.33333333 | GQ12: =24*(MOD(GP12-GO12,1)) -> 15 | GR12: =IF(GO12<(21/24),(MIN(21-GO12*24,GQ12)),0) -> 4 | GS12: =IF(OR(GO12>=21/24,GR12<>0),MIN(9-MAX(0,GO12*24-21),GQ12-GR12),0) -> 9 | GT12: =MAX(0,MIN(1,GQ12-SUM(GR12:GS12))) -> 1 | GU12: =MAX(0,GQ12-SUM(GR12:GT12)) -> 1 | GV12: =_xlfn.IFS(GV$7="X",GR$12*[1]Données!$H$23,GO$3="Samedi",GR$12*[1]Données!$D$23,GO$3="Dimanche",GR$12*[1]Données!$F27,$B12="ADS",GR$12*[1]Données!$B$23) -> 95.2 | GW12: =_xlfn.IFS(GV$7="X",GS$12*[1]Données!$I$23,GO$3="Samedi",GS$12*[1]Données!$D$23,GO$3="Dimanche",GS$12*[1]Données!$F$23,$B12="ADS",GS$12*[1]Données!$C$23) -> 237.78 | GX12: =_xlfn.IFS(GV$7="X",GT$12*[1]Données!$I$23,GO$3="Samedi",GT$12*[1]Données!$D$23,GO$3="Dimanche",GT$12*[1]Données!$F$23,$B12="ADS",GT$12*[1]Données!$C$23) -> 26.42 | GY12: =_xlfn.IFS(GV$7="X",GU$12*[1]Données!$H$23,GO$3="Samedi",GU$12*[1]Données!$D$23,GO$3="Dimanche",GU$12*[1]Données!$F$23,$B12="ADS",GU$12*[1]Données!$B$23) -> 23.8 | GZ12: =IF($B12="ADS",SUM(GV12:GY12),0) -> 383.2 | HA12: 0.70833333 | HB12: 0.33333333 | HC12: =24*(MOD(HB12-HA12,1)) -> 15 | HD12: =IF(HA12<(21/24),(MIN(21-HA12*24,HC12)),0) -> 4 | HE12: =IF(OR(HA12>=21/24,HD12<>0),MIN(9-MAX(0,HA12*24-21),HC12-HD12),0) -> 9 | HF12: =MAX(0,MIN(1,HC12-SUM(HD12:HE12))) -> 1 | HG12: =MAX(0,HC12-SUM(HD12:HF12)) -> 1 | HH12: =_xlfn.IFS(HH$7="X",HD$12*[1]Données!$H$23,HA$3="Samedi",HD$12*[1]Données!$D$23,HA$3="Dimanche",HD$12*[1]Données!$F27,$B12="ADS",HD$12*[1]Données!$B$23) -> 95.2 | HI12: =_xlfn.IFS(HH$7="X",HE$12*[1]Données!$I$23,HA$3="Samedi",HE$12*[1]Données!$D$23,HA$3="Dimanche",HE$12*[1]Données!$F$23,$B12="ADS",HE$12*[1]Données!$C$23) -> 237.78 | HJ12: =_xlfn.IFS(HH$7="X",HF$12*[1]Données!$I$23,HA$3="Samedi",HF$12*[1]Données!$D$23,HA$3="Dimanche",HF$12*[1]Données!$F$23,$B12="ADS",HF$12*[1]Données!$C$23) -> 26.42 | HK12: =_xlfn.IFS(HH$7="X",HG$12*[1]Données!$H$23,HA$3="Samedi",HG$12*[1]Données!$D$23,HA$3="Dimanche",HG$12*[1]Données!$F$23,$B12="ADS",HG$12*[1]Données!$B$23) -> 23.8 | HL12: =IF($B12="ADS",SUM(HH12:HK12),0) -> 383.2 | HM12: 0.70833333 | HN12: 0.33333333 | HO12: =24*(MOD(HN12-HM12,1)) -> 15 | HP12: =IF(HM12<(21/24),(MIN(21-HM12*24,HO12)),0) -> 4 | HQ12: =IF(OR(HM12>=21/24,HP12<>0),MIN(9-MAX(0,HM12*24-21),HO12-HP12),0) -> 9 | HR12: =MAX(0,MIN(1,HO12-SUM(HP12:HQ12))) -> 1 | HS12: =MAX(0,HO12-SUM(HP12:HR12)) -> 1 | HT12: =_xlfn.IFS(HT$7="X",HP$12*[1]Données!$H$23,HM$3="Samedi",HP$12*[1]Données!$D$23,HM$3="Dimanche",HP$12*[1]Données!$F27,$B12="ADS",HP$12*[1]Données!$B$23) -> 95.2 | HU12: =_xlfn.IFS(HT$7="X",HQ$12*[1]Données!$I$23,HM$3="Samedi",HQ$12*[1]Données!$D$23,HM$3="Dimanche",HQ$12*[1]Données!$F$23,$B12="ADS",HQ$12*[1]Données!$C$23) -> 214.2 | HV12: =_xlfn.IFS(HT$7="X",HR$12*[1]Données!$I$23,HM$3="Samedi",HR$12*[1]Données!$D$23,HM$3="Dimanche",HR$12*[1]Données!$F$23,$B12="ADS",HR$12*[1]Données!$C$23) -> 23.8 | HW12: =_xlfn.IFS(HT$7="X",HS$12*[1]Données!$H$23,HM$3="Samedi",HS$12*[1]Données!$D$23,HM$3="Dimanche",HS$12*[1]Données!$F$23,$B12="ADS",HS$12*[1]Données!$B$23) -> 23.8 | HX12: =IF($B12="ADS",SUM(HT12:HW12),0) -> 357 | HY12: 0.70833333 | HZ12: 0.33333333 | IA12: =24*(MOD(HZ12-HY12,1)) -> 15 | IB12: =IF(HY12<(21/24),(MIN(21-HY12*24,IA12)),0) -> 4 | IC12: =IF(OR(HY12>=21/24,IB12<>0),MIN(9-MAX(0,HY12*24-21),IA12-IB12),0) -> 9 | ID12: =MAX(0,MIN(1,IA12-SUM(IB12:IC12))) -> 1 | IE12: =MAX(0,IA12-SUM(IB12:ID12)) -> 1 | IF12: =_xlfn.IFS(IF$7="X",IB$12*[1]Données!$H$23,HY$3="Samedi",IB$12*[1]Données!$D$23,HY$3="Dimanche",IB$12*[1]Données!$F27,$B12="ADS",IB$12*[1]Données!$B$23) -> 0 | IG12: =_xlfn.IFS(IF$7="X",IC$12*[1]Données!$I$23,HY$3="Samedi",IC$12*[1]Données!$D$23,HY$3="Dimanche",IC$12*[1]Données!$F$23,$B12="ADS",IC$12*[1]Données!$C$23) -> 235.62 | IH12: =_xlfn.IFS(IF$7="X",ID$12*[1]Données!$I$23,HY$3="Samedi",ID$12*[1]Données!$D$23,HY$3="Dimanche",ID$12*[1]Données!$F$23,$B12="ADS",ID$12*[1]Données!$C$23) -> 26.18 | II12: =_xlfn.IFS(IF$7="X",IE$12*[1]Données!$H$23,HY$3="Samedi",IE$12*[1]Données!$D$23,HY$3="Dimanche",IE$12*[1]Données!$F$23,$B12="ADS",IE$12*[1]Données!$B$23) -> 26.18 | IJ12: =IF($B12="ADS",SUM(IF12:II12),0) -> 287.98 | IK12: 0.70833333 | IL12: 0.33333333 | IM12: =24*(MOD(IL12-IK12,1)) -> 15 | IN12: =IF(IK12<(21/24),(MIN(21-IK12*24,IM12)),0) -> 4 | IO12: =IF(OR(IK12>=21/24,IN12<>0),MIN(9-MAX(0,IK12*24-21),IM12-IN12),0) -> 9 | IP12: =MAX(0,MIN(1,IM12-SUM(IN12:IO12))) -> 1 | IQ12: =MAX(0,IM12-SUM(IN12:IP12)) -> 1 | IR12: =_xlfn.IFS(IR$7="X",IN$12*[1]Données!$H$23,IK$3="Samedi",IN$12*[1]Données!$D$23,IK$3="Dimanche",IN$12*[1]Données!$F27,$B12="ADS",IN$12*[1]Données!$B$23) -> 95.2 | IS12: =_xlfn.IFS(IR$7="X",IO$12*[1]Données!$I$23,IK$3="Samedi",IO$12*[1]Données!$D$23,IK$3="Dimanche",IO$12*[1]Données!$F$23,$B12="ADS",IO$12*[1]Données!$C$23) -> 237.78 | IT12: =_xlfn.IFS(IR$7="X",IP$12*[1]Données!$I$23,IK$3="Samedi",IP$12*[1]Données!$D$23,IK$3="Dimanche",IP$12*[1]Données!$F$23,$B12="ADS",IP$12*[1]Données!$C$23) -> 26.42 | IU12: =_xlfn.IFS(IR$7="X",IQ$12*[1]Données!$H$23,IK$3="Samedi",IQ$12*[1]Données!$D$23,IK$3="Dimanche",IQ$12*[1]Données!$F$23,$B12="ADS",IQ$12*[1]Données!$B$23) -> 23.8 | IV12: =IF($B12="ADS",SUM(IR12:IU12),0) -> 383.2 | IW12: 0.70833333 | IX12: 0.33333333 | IY12: =24*(MOD(IX12-IW12,1)) -> 15 | IZ12: =IF(IW12<(21/24),(MIN(21-IW12*24,IY12)),0) -> 4 | JA12: =IF(OR(IW12>=21/24,IZ12<>0),MIN(9-MAX(0,IW12*24-21),IY12-IZ12),0) -> 9 | JB12: =MAX(0,MIN(1,IY12-SUM(IZ12:JA12))) -> 1 | JC12: =MAX(0,IY12-SUM(IZ12:JB12)) -> 1 | JD12: =_xlfn.IFS(JD$7="X",IZ$12*[1]Données!$H$23,IW$3="Samedi",IZ$12*[1]Données!$D$23,IW$3="Dimanche",IZ$12*[1]Données!$F27,$B12="ADS",IZ$12*[1]Données!$B$23) -> 95.2 | JE12: =_xlfn.IFS(JD$7="X",JA$12*[1]Données!$I$23,IW$3="Samedi",JA$12*[1]Données!$D$23,IW$3="Dimanche",JA$12*[1]Données!$F$23,$B12="ADS",JA$12*[1]Données!$C$23) -> 237.78 | JF12: =_xlfn.IFS(JD$7="X",JB$12*[1]Données!$I$23,IW$3="Samedi",JB$12*[1]Données!$D$23,IW$3="Dimanche",JB$12*[1]Données!$F$23,$B12="ADS",JB$12*[1]Données!$C$23) -> 26.42 | JG12: =_xlfn.IFS(JD$7="X",JC$12*[1]Données!$H$23,IW$3="Samedi",JC$12*[1]Données!$D$23,IW$3="Dimanche",JC$12*[1]Données!$F$23,$B12="ADS",JC$12*[1]Données!$B$23) -> 23.8 | JH12: =IF($B12="ADS",SUM(JD12:JG12),0) -> 383.2 | JI12: 0.70833333 | JJ12: 0.33333333 | JK12: =24*(MOD(JJ12-JI12,1)) -> 15 | JL12: =IF(JI12<(21/24),(MIN(21-JI12*24,JK12)),0) -> 4 | JM12: =IF(OR(JI12>=21/24,JL12<>0),MIN(9-MAX(0,JI12*24-21),JK12-JL12),0) -> 9 | JN12: =MAX(0,MIN(1,JK12-SUM(JL12:JM12))) -> 1 | JO12: =MAX(0,JK12-SUM(JL12:JN12)) -> 1 | JP12: =_xlfn.IFS(JP$7="X",JL$12*[1]Données!$H$23,JI$3="Samedi",JL$12*[1]Données!$D$23,JI$3="Dimanche",JL$12*[1]Données!$F27,$B12="ADS",JL$12*[1]Données!$B$23) -> 95.2 | JQ12: =_xlfn.IFS(JP$7="X",JM$12*[1]Données!$I$23,JI$3="Samedi",JM$12*[1]Données!$D$23,JI$3="Dimanche",JM$12*[1]Données!$F$23,$B12="ADS",JM$12*[1]Données!$C$23) -> 237.78 | JR12: =_xlfn.IFS(JP$7="X",JN$12*[1]Données!$I$23,JI$3="Samedi",JN$12*[1]Données!$D$23,JI$3="Dimanche",JN$12*[1]Données!$F$23,$B12="ADS",JN$12*[1]Données!$C$23) -> 26.42 | JS12: =_xlfn.IFS(JP$7="X",JO$12*[1]Données!$H$23,JI$3="Samedi",JO$12*[1]Données!$D$23,JI$3="Dimanche",JO$12*[1]Données!$F$23,$B12="ADS",JO$12*[1]Données!$B$23) -> 23.8 | JT12: =IF($B12="ADS",SUM(JP12:JS12),0) -> 383.2 | JU12: 0.70833333 | JV12: 0.33333333 | JW12: =24*(MOD(JV12-JU12,1)) -> 15 | JX12: =IF(JU12<(21/24),(MIN(21-JU12*24,JW12)),0) -> 4 | JY12: =IF(OR(JU12>=21/24,JX12<>0),MIN(9-MAX(0,JU12*24-21),JW12-JX12),0) -> 9 | JZ12: =MAX(0,MIN(1,JW12-SUM(JX12:JY12))) -> 1 | KA12: =MAX(0,JW12-SUM(JX12:JZ12)) -> 1 | KB12: =_xlfn.IFS(KB$7="X",JX$12*[1]Données!$H$23,JU$3="Samedi",JX$12*[1]Données!$D$23,JU$3="Dimanche",JX$12*[1]Données!$F27,$B12="ADS",JX$12*[1]Données!$B$23) -> 95.2 | KC12: =_xlfn.IFS(KB$7="X",JY$12*[1]Données!$I$23,JU$3="Samedi",JY$12*[1]Données!$D$23,JU$3="Dimanche",JY$12*[1]Données!$F$23,$B12="ADS",JY$12*[1]Données!$C$23) -> 237.78 | KD12: =_xlfn.IFS(KB$7="X",JZ$12*[1]Données!$I$23,JU$3="Samedi",JZ$12*[1]Données!$D$23,JU$3="Dimanche",JZ$12*[1]Données!$F$23,$B12="ADS",JZ$12*[1]Données!$C$23) -> 26.42 | KE12: =_xlfn.IFS(KB$7="X",KA$12*[1]Données!$H$23,JU$3="Samedi",KA$12*[1]Données!$D$23,JU$3="Dimanche",KA$12*[1]Données!$F$23,$B12="ADS",KA$12*[1]Données!$B$23) -> 23.8 | KF12: =IF($B12="ADS",SUM(KB12:KE12),0) -> 383.2 | KG12: 0.70833333 | KH12: 0.33333333 | KI12: =24*(MOD(KH12-KG12,1)) -> 15 | KJ12: =IF(KG12<(21/24),(MIN(21-KG12*24,KI12)),0) -> 4 | KK12: =IF(OR(KG12>=21/24,KJ12<>0),MIN(9-MAX(0,KG12*24-21),KI12-KJ12),0) -> 9 | KL12: =MAX(0,MIN(1,KI12-SUM(KJ12:KK12))) -> 1 | KM12: =MAX(0,KI12-SUM(KJ12:KL12)) -> 1 | KN12: =_xlfn.IFS(KN$7="X",KJ$12*[1]Données!$H$23,KG$3="Samedi",KJ$12*[1]Données!$D$23,KG$3="Dimanche",KJ$12*[1]Données!$F27,$B12="ADS",KJ$12*[1]Données!$B$23) -> 95.2 | KO12: =_xlfn.IFS(KN$7="X",KK$12*[1]Données!$I$23,KG$3="Samedi",KK$12*[1]Données!$D$23,KG$3="Dimanche",KK$12*[1]Données!$F$23,$B12="ADS",KK$12*[1]Données!$C$23) -> 237.78 | KP12: =_xlfn.IFS(KN$7="X",KL$12*[1]Données!$I$23,KG$3="Samedi",KL$12*[1]Données!$D$23,KG$3="Dimanche",KL$12*[1]Données!$F$23,$B12="ADS",KL$12*[1]Données!$C$23) -> 26.42 | KQ12: =_xlfn.IFS(KN$7="X",KM$12*[1]Données!$H$23,KG$3="Samedi",KM$12*[1]Données!$D$23,KG$3="Dimanche",KM$12*[1]Données!$F$23,$B12="ADS",KM$12*[1]Données!$B$23) -> 23.8 | KR12: =IF($B12="ADS",SUM(KN12:KQ12),0) -> 383.2 | KS12: 0.70833333 | KT12: 0.33333333 | KU12: =24*(MOD(KT12-KS12,1)) -> 15 | KV12: =IF(KS12<(21/24),(MIN(21-KS12*24,KU12)),0) -> 4 | KW12: =IF(OR(KS12>=21/24,KV12<>0),MIN(9-MAX(0,KS12*24-21),KU12-KV12),0) -> 9 | KX12: =MAX(0,MIN(1,KU12-SUM(KV12:KW12))) -> 1 | KY12: =MAX(0,KU12-SUM(KV12:KX12)) -> 1 | KZ12: =_xlfn.IFS(KZ$7="X",KV$12*[1]Données!$H$23,KS$3="Samedi",KV$12*[1]Données!$D$23,KS$3="Dimanche",KV$12*[1]Données!$F27,$B12="ADS",KV$12*[1]Données!$B$23) -> 95.2 | LA12: =_xlfn.IFS(KZ$7="X",KW$12*[1]Données!$I$23,KS$3="Samedi",KW$12*[1]Données!$D$23,KS$3="Dimanche",KW$12*[1]Données!$F$23,$B12="ADS",KW$12*[1]Données!$C$23) -> 214.2 | LB12: =_xlfn.IFS(KZ$7="X",KX$12*[1]Données!$I$23,KS$3="Samedi",KX$12*[1]Données!$D$23,KS$3="Dimanche",KX$12*[1]Données!$F$23,$B12="ADS",KX$12*[1]Données!$C$23) -> 23.8 | LC12: =_xlfn.IFS(KZ$7="X",KY$12*[1]Données!$H$23,KS$3="Samedi",KY$12*[1]Données!$D$23,KS$3="Dimanche",KY$12*[1]Données!$F$23,$B12="ADS",KY$12*[1]Données!$B$23) -> 23.8 | LD12: =IF($B12="ADS",SUM(KZ12:LC12),0) -> 357 | LE12: 0.70833333 | LF12: 0.33333333 | LG12: =24*(MOD(LF12-LE12,1)) -> 15 | LH12: =IF(LE12<(21/24),(MIN(21-LE12*24,LG12)),0) -> 4 | LI12: =IF(OR(LE12>=21/24,LH12<>0),MIN(9-MAX(0,LE12*24-21),LG12-LH12),0) -> 9 | LJ12: =MAX(0,MIN(1,LG12-SUM(LH12:LI12))) -> 1 | LK12: =MAX(0,LG12-SUM(LH12:LJ12)) -> 1 | LL12: =_xlfn.IFS(LL$7="X",LH$12*[1]Données!$H$23,LE$3="Samedi",LH$12*[1]Données!$D$23,LE$3="Dimanche",LH$12*[1]Données!$F27,$B12="ADS",LH$12*[1]Données!$B$23) -> 0 | LM12: =_xlfn.IFS(LL$7="X",LI$12*[1]Données!$I$23,LE$3="Samedi",LI$12*[1]Données!$D$23,LE$3="Dimanche",LI$12*[1]Données!$F$23,$B12="ADS",LI$12*[1]Données!$C$23) -> 235.62 | LN12: =_xlfn.IFS(LL$7="X",LJ$12*[1]Données!$I$23,LE$3="Samedi",LJ$12*[1]Données!$D$23,LE$3="Dimanche",LJ$12*[1]Données!$F$23,$B12="ADS",LJ$12*[1]Données!$C$23) -> 26.18 | LO12: =_xlfn.IFS(LL$7="X",LK$12*[1]Données!$H$23,LE$3="Samedi",LK$12*[1]Données!$D$23,LE$3="Dimanche",LK$12*[1]Données!$F$23,$B12="ADS",LK$12*[1]Données!$B$23) -> 26.18 | LP12: =IF($B12="ADS",SUM(LL12:LO12),0) -> 287.98 | LQ12: 0.70833333 | LR12: 0.33333333 | LS12: =24*(MOD(LR12-LQ12,1)) -> 15 | LT12: =IF(LQ12<(21/24),(MIN(21-LQ12*24,LS12)),0) -> 4 | LU12: =IF(OR(LQ12>=21/24,LT12<>0),MIN(9-MAX(0,LQ12*24-21),LS12-LT12),0) -> 9 | LV12: =MAX(0,MIN(1,LS12-SUM(LT12:LU12))) -> 1 | LW12: =MAX(0,LS12-SUM(LT12:LV12)) -> 1 | LX12: =_xlfn.IFS(LX$7="X",LT$12*[1]Données!$H$23,LQ$3="Samedi",LT$12*[1]Données!$D$23,LQ$3="Dimanche",LT$12*[1]Données!$F27,$B12="ADS",LT$12*[1]Données!$B$23) -> 95.2 | LY12: =_xlfn.IFS(LX$7="X",LU$12*[1]Données!$I$23,LQ$3="Samedi",LU$12*[1]Données!$D$23,LQ$3="Dimanche",LU$12*[1]Données!$F$23,$B12="ADS",LU$12*[1]Données!$C$23) -> 237.78 | LZ12: =_xlfn.IFS(LX$7="X",LV$12*[1]Données!$I$23,LQ$3="Samedi",LV$12*[1]Données!$D$23,LQ$3="Dimanche",LV$12*[1]Données!$F$23,$B12="ADS",LV$12*[1]Données!$C$23) -> 26.42 | MA12: =_xlfn.IFS(LX$7="X",LW$12*[1]Données!$H$23,LQ$3="Samedi",LW$12*[1]Données!$D$23,LQ$3="Dimanche",LW$12*[1]Données!$F$23,$B12="ADS",LW$12*[1]Données!$B$23) -> 23.8 | MB12: =IF($B12="ADS",SUM(LX12:MA12),0) -> 383.2 | MC12: 0.70833333 | MD12: 0.33333333 | ME12: =24*(MOD(MD12-MC12,1)) -> 15 | MF12: =IF(MC12<(21/24),(MIN(21-MC12*24,ME12)),0) -> 4 | MG12: =IF(OR(MC12>=21/24,MF12<>0),MIN(9-MAX(0,MC12*24-21),ME12-MF12),0) -> 9 | MH12: =MAX(0,MIN(1,ME12-SUM(MF12:MG12))) -> 1 | MI12: =MAX(0,ME12-SUM(MF12:MH12)) -> 1 | MJ12: =_xlfn.IFS(MJ$7="X",MF$12*[1]Données!$H$23,MC$3="Samedi",MF$12*[1]Données!$D$23,MC$3="Dimanche",MF$12*[1]Données!$F27,$B12="ADS",MF$12*[1]Données!$B$23) -> 95.2 | MK12: =_xlfn.IFS(MJ$7="X",MG$12*[1]Données!$I$23,MC$3="Samedi",MG$12*[1]Données!$D$23,MC$3="Dimanche",MG$12*[1]Données!$F$23,$B12="ADS",MG$12*[1]Données!$C$23) -> 237.78 | ML12: =_xlfn.IFS(MJ$7="X",MH$12*[1]Données!$I$23,MC$3="Samedi",MH$12*[1]Données!$D$23,MC$3="Dimanche",MH$12*[1]Données!$F$23,$B12="ADS",MH$12*[1]Données!$C$23) -> 26.42 | MM12: =_xlfn.IFS(MJ$7="X",MI$12*[1]Données!$H$23,MC$3="Samedi",MI$12*[1]Données!$D$23,MC$3="Dimanche",MI$12*[1]Données!$F$23,$B12="ADS",MI$12*[1]Données!$B$23) -> 23.8 | MN12: =IF($B12="ADS",SUM(MJ12:MM12),0) -> 383.2 | MO12: 0.70833333 | MP12: 0.33333333 | MQ12: =24*(MOD(MP12-MO12,1)) -> 15 | MR12: =IF(MO12<(21/24),(MIN(21-MO12*24,MQ12)),0) -> 4 | MS12: =IF(OR(MO12>=21/24,MR12<>0),MIN(9-MAX(0,MO12*24-21),MQ12-MR12),0) -> 9 | MT12: =MAX(0,MIN(1,MQ12-SUM(MR12:MS12))) -> 1 | MU12: =MAX(0,MQ12-SUM(MR12:MT12)) -> 1 | MV12: =_xlfn.IFS(MV$7="X",MR$12*[1]Données!$H$23,MO$3="Samedi",MR$12*[1]Données!$D$23,MO$3="Dimanche",MR$12*[1]Données!$F27,$B12="ADS",MR$12*[1]Données!$B$23) -> 95.2 | MW12: =_xlfn.IFS(MV$7="X",MS$12*[1]Données!$I$23,MO$3="Samedi",MS$12*[1]Données!$D$23,MO$3="Dimanche",MS$12*[1]Données!$F$23,$B12="ADS",MS$12*[1]Données!$C$23) -> 237.78 | MX12: =_xlfn.IFS(MV$7="X",MT$12*[1]Données!$I$23,MO$3="Samedi",MT$12*[1]Données!$D$23,MO$3="Dimanche",MT$12*[1]Données!$F$23,$B12="ADS",MT$12*[1]Données!$C$23) -> 26.42 | MY12: =_xlfn.IFS(MV$7="X",MU$12*[1]Données!$H$23,MO$3="Samedi",MU$12*[1]Données!$D$23,MO$3="Dimanche",MU$12*[1]Données!$F$23,$B12="ADS",MU$12*[1]Données!$B$23) -> 23.8 | MZ12: =IF($B12="ADS",SUM(MV12:MY12),0) -> 383.2 | NA12: 0.70833333 | NB12: 0.33333333 | NC12: =24*(MOD(NB12-NA12,1)) -> 15 | ND12: =IF(NA12<(21/24),(MIN(21-NA12*24,NC12)),0) -> 4 | NE12: =IF(OR(NA12>=21/24,ND12<>0),MIN(9-MAX(0,NA12*24-21),NC12-ND12),0) -> 9 | NF12: =MAX(0,MIN(1,NC12-SUM(ND12:NE12))) -> 1 | NG12: =MAX(0,NC12-SUM(ND12:NF12)) -> 1 | NH12: =_xlfn.IFS(NH$7="X",ND$12*[1]Données!$H$23,NA$3="Samedi",ND$12*[1]Données!$D$23,NA$3="Dimanche",ND$12*[1]Données!$F27,$B12="ADS",ND$12*[1]Données!$B$23) -> 95.2 | NI12: =_xlfn.IFS(NH$7="X",NE$12*[1]Données!$I$23,NA$3="Samedi",NE$12*[1]Données!$D$23,NA$3="Dimanche",NE$12*[1]Données!$F$23,$B12="ADS",NE$12*[1]Données!$C$23) -> 237.78 | NJ12: =_xlfn.IFS(NH$7="X",NF$12*[1]Données!$I$23,NA$3="Samedi",NF$12*[1]Données!$D$23,NA$3="Dimanche",NF$12*[1]Données!$F$23,$B12="ADS",NF$12*[1]Données!$C$23) -> 26.42 | NK12: =_xlfn.IFS(NH$7="X",NG$12*[1]Données!$H$23,NA$3="Samedi",NG$12*[1]Données!$D$23,NA$3="Dimanche",NG$12*[1]Données!$F$23,$B12="ADS",NG$12*[1]Données!$B$23) -> 23.8 | NL12: =IF($B12="ADS",SUM(NH12:NK12),0) -> 383.2 | NM12: =IF($B$12="ADS",SUM($P12+$AB12+$AN12+$AZ12+$BL12+$BX12+$CJ12+$CV12+$DH12+$DT12+$EF12+$ER12+$FD12+$FP12+$GB11+$GB12+$GN12+$GZ12+$HL12+$HX12+$IJ12+$IV12+$JH12+$JT12+$KF12+$KR12+$LD12+$LP12+$MB12+$MN12+$MZ12+$NL12),0) -> 11530.86
L13: =_xlfn.IFS(L$7="X",H$12*[1]Données!$H$24,E$3="Samedi",H$12*[1]Données!$D$24,E$3="Dimanche",H$12*[1]Données!$F$24,$B12="SSIAP1",H$12*[1]Données!$B$24) -> 0 | M13: =_xlfn.IFS(L$7="X",I$12*[1]Données!$I$24,E$3="Samedi",I$12*[1]Données!$D$24,E$3="Dimanche",I$12*[1]Données!$F$24,$B12="SSIAP1",I$12*[1]Données!$C$24) -> 433.36 | N13: =_xlfn.IFS(L$7="X",J$12*[1]Données!$I$24,E$3="Samedi",J$12*[1]Données!$D$24,E$3="Dimanche",J$12*[1]Données!$F$24,$B12="SSIAP1",J$12*[1]Données!$C$24) -> 54.17 | O13: =_xlfn.IFS(L$7="X",K$12*[1]Données!$I$24,E$3="Samedi",K$12*[1]Données!$D$24,E$3="Dimanche",K$12*[1]Données!$F$24,$B12="SSIAP1",K$12*[1]Données!$B$24) -> 54.17 | P13: =IF($B12="SSIAP1",SUM(L13:O13),0) -> 0 | X13: =_xlfn.IFS(X$7="X",T$12*[1]Données!$H$24,Q$3="Samedi",T$12*[1]Données!$D$24,Q$3="Dimanche",T$12*[1]Données!$F$24,$B12="SSIAP1",T$12*[1]Données!$B$24) -> #N/A | Y13: =_xlfn.IFS(X$7="X",U$12*[1]Données!$I$24,Q$3="Samedi",U$12*[1]Données!$D$24,Q$3="Dimanche",U$12*[1]Données!$F$24,$B12="SSIAP1",U$12*[1]Données!$C$24) -> #N/A | Z13: =_xlfn.IFS(X$7="X",V$12*[1]Données!$I$24,Q$3="Samedi",V$12*[1]Données!$D$24,Q$3="Dimanche",V$12*[1]Données!$F$24,$B12="SSIAP1",V$12*[1]Données!$C$24) -> #N/A | AA13: =_xlfn.IFS(X$7="X",W$12*[1]Données!$I$24,Q$3="Samedi",W$12*[1]Données!$D$24,Q$3="Dimanche",W$12*[1]Données!$F$24,$B12="SSIAP1",W$12*[1]Données!$B$24) -> #N/A | AB13: =IF($B12="SSIAP1",SUM(X13:AA13),0) -> 0 | AJ13: =_xlfn.IFS(AJ$7="X",AF$12*[1]Données!$H$24,AC$3="Samedi",AF$12*[1]Données!$D$24,AC$3="Dimanche",AF$12*[1]Données!$F$24,$B12="SSIAP1",AF$12*[1]Données!$B$24) -> #N/A | AK13: =_xlfn.IFS(AJ$7="X",AG$12*[1]Données!$I$24,AC$3="Samedi",AG$12*[1]Données!$D$24,AC$3="Dimanche",AG$12*[1]Données!$F$24,$B12="SSIAP1",AG$12*[1]Données!$C$24) -> #N/A | AL13: =_xlfn.IFS(AJ$7="X",AH$12*[1]Données!$I$24,AC$3="Samedi",AH$12*[1]Données!$D$24,AC$3="Dimanche",AH$12*[1]Données!$F$24,$B12="SSIAP1",AH$12*[1]Données!$C$24) -> #N/A | AM13: =_xlfn.IFS(AJ$7="X",AI$12*[1]Données!$I$24,AC$3="Samedi",AI$12*[1]Données!$D$24,AC$3="Dimanche",AI$12*[1]Données!$F$24,$B12="SSIAP1",AI$12*[1]Données!$B$24) -> #N/A | AN13: =IF($B12="SSIAP1",SUM(AJ13:AM13),0) -> 0 | AV13: =_xlfn.IFS(AV$7="X",AR$12*[1]Données!$H$24,AO$3="Samedi",AR$12*[1]Données!$D$24,AO$3="Dimanche",AR$12*[1]Données!$F$24,$B12="SSIAP1",AR$12*[1]Données!$B$24) -> #N/A | AW13: =_xlfn.IFS(AV$7="X",AS$12*[1]Données!$I$24,AO$3="Samedi",AS$12*[1]Données!$D$24,AO$3="Dimanche",AS$12*[1]Données!$F$24,$B12="SSIAP1",AS$12*[1]Données!$C$24) -> #N/A | AX13: =_xlfn.IFS(AV$7="X",AT$12*[1]Données!$I$24,AO$3="Samedi",AT$12*[1]Données!$D$24,AO$3="Dimanche",AT$12*[1]Données!$F$24,$B12="SSIAP1",AT$12*[1]Données!$C$24) -> #N/A | AY13: =_xlfn.IFS(AV$7="X",AU$12*[1]Données!$I$24,AO$3="Samedi",AU$12*[1]Données!$D$24,AO$3="Dimanche",AU$12*[1]Données!$F$24,$B12="SSIAP1",AU$12*[1]Données!$B$24) -> #N/A | AZ13: =IF($B12="SSIAP1",SUM(AV13:AY13),0) -> 0 | BH13: =_xlfn.IFS(BH$7="X",BD$12*[1]Données!$H$24,BA$3="Samedi",BD$12*[1]Données!$D$24,BA$3="Dimanche",BD$12*[1]Données!$F$24,$B12="SSIAP1",BD$12*[1]Données!$B$24) -> 97.6 | BI13: =_xlfn.IFS(BH$7="X",BE$12*[1]Données!$I$24,BA$3="Samedi",BE$12*[1]Données!$D$24,BA$3="Dimanche",BE$12*[1]Données!$F$24,$B12="SSIAP1",BE$12*[1]Données!$C$24) -> 219.6 | BJ13: =_xlfn.IFS(BH$7="X",BF$12*[1]Données!$I$24,BA$3="Samedi",BF$12*[1]Données!$D$24,BA$3="Dimanche",BF$12*[1]Données!$F$24,$B12="SSIAP1",BF$12*[1]Données!$C$24) -> 24.4 | BK13: =_xlfn.IFS(BH$7="X",BG$12*[1]Données!$I$24,BA$3="Samedi",BG$12*[1]Données!$D$24,BA$3="Dimanche",BG$12*[1]Données!$F$24,$B12="SSIAP1",BG$12*[1]Données!$B$24) -> 24.4 | BL13: =IF($B12="SSIAP1",SUM(BH13:BK13),0) -> 0 | BT13: =_xlfn.IFS(BT$7="X",BP$12*[1]Données!$H$24,BM$3="Samedi",BP$12*[1]Données!$D$24,BM$3="Dimanche",BP$12*[1]Données!$F$24,$B12="SSIAP1",BP$12*[1]Données!$B$24) -> 107.36 | BU13: =_xlfn.IFS(BT$7="X",BQ$12*[1]Données!$I$24,BM$3="Samedi",BQ$12*[1]Données!$D$24,BM$3="Dimanche",BQ$12*[1]Données!$F$24,$B12="SSIAP1",BQ$12*[1]Données!$C$24) -> 241.56 | BV13: =_xlfn.IFS(BT$7="X",BR$12*[1]Données!$I$24,BM$3="Samedi",BR$12*[1]Données!$D$24,BM$3="Dimanche",BR$12*[1]Données!$F$24,$B12="SSIAP1",BR$12*[1]Données!$C$24) -> 26.84 | BW13: =_xlfn.IFS(BT$7="X",BS$12*[1]Données!$I$24,BM$3="Samedi",BS$12*[1]Données!$D$24,BM$3="Dimanche",BS$12*[1]Données!$F$24,$B12="SSIAP1",BS$12*[1]Données!$B$24) -> 26.84 | BX13: =IF($B12="SSIAP1",SUM(BT13:BW13),0) -> 0 | CF13: =_xlfn.IFS(CF$7="X",CB$12*[1]Données!$H$24,BY$3="Samedi",CB$12*[1]Données!$D$24,BY$3="Dimanche",CB$12*[1]Données!$F$24,$B12="SSIAP1",CB$12*[1]Données!$B$24) -> #N/A | CG13: =_xlfn.IFS(CF$7="X",CC$12*[1]Données!$I$24,BY$3="Samedi",CC$12*[1]Données!$D$24,BY$3="Dimanche",CC$12*[1]Données!$F$24,$B12="SSIAP1",CC$12*[1]Données!$C$24) -> #N/A | CH13: =_xlfn.IFS(CF$7="X",CD$12*[1]Données!$I$24,BY$3="Samedi",CD$12*[1]Données!$D$24,BY$3="Dimanche",CD$12*[1]Données!$F$24,$B12="SSIAP1",CD$12*[1]Données!$C$24) -> #N/A | CI13: =_xlfn.IFS(CF$7="X",CE$12*[1]Données!$I$24,BY$3="Samedi",CE$12*[1]Données!$D$24,BY$3="Dimanche",CE$12*[1]Données!$F$24,$B12="SSIAP1",CE$12*[1]Données!$B$24) -> #N/A | CJ13: =IF($B12="SSIAP1",SUM(CF13:CI13),0) -> 0 | CR13: =_xlfn.IFS(CR$7="X",CN$12*[1]Données!$H$24,CK$3="Samedi",CN$12*[1]Données!$D$24,CK$3="Dimanche",CN$12*[1]Données!$F$24,$B12="SSIAP1",CN$12*[1]Données!$B$24) -> #N/A | CS13: =_xlfn.IFS(CR$7="X",CO$12*[1]Données!$I$24,CK$3="Samedi",CO$12*[1]Données!$D$24,CK$3="Dimanche",CO$12*[1]Données!$F$24,$B12="SSIAP1",CO$12*[1]Données!$C$24) -> #N/A | CT13: =_xlfn.IFS(CR$7="X",CP$12*[1]Données!$I$24,CK$3="Samedi",CP$12*[1]Données!$D$24,CK$3="Dimanche",CP$12*[1]Données!$F$24,$B12="SSIAP1",CP$12*[1]Données!$C$24) -> #N/A | CU13: =_xlfn.IFS(CR$7="X",CQ$12*[1]Données!$I$24,CK$3="Samedi",CQ$12*[1]Données!$D$24,CK$3="Dimanche",CQ$12*[1]Données!$F$24,$B12="SSIAP1",CQ$12*[1]Données!$B$24) -> #N/A | CV13: =IF($B12="SSIAP1",SUM(CR13:CU13),0) -> 0 | DD13: =_xlfn.IFS(DD$7="X",CZ$12*[1]Données!$H$24,CW$3="Samedi",CZ$12*[1]Données!$D$24,CW$3="Dimanche",CZ$12*[1]Données!$F$24,$B12="SSIAP1",CZ$12*[1]Données!$B$24) -> #N/A | DE13: =_xlfn.IFS(DD$7="X",DA$12*[1]Données!$I$24,CW$3="Samedi",DA$12*[1]Données!$D$24,CW$3="Dimanche",DA$12*[1]Données!$F$24,$B12="SSIAP1",DA$12*[1]Données!$C$24) -> #N/A | DF13: =_xlfn.IFS(DD$7="X",DB$12*[1]Données!$I$24,CW$3="Samedi",DB$12*[1]Données!$D$24,CW$3="Dimanche",DB$12*[1]Données!$F$24,$B12="SSIAP1",DB$12*[1]Données!$C$24) -> #N/A | DG13: =_xlfn.IFS(DD$7="X",DC$12*[1]Données!$I$24,CW$3="Samedi",DC$12*[1]Données!$D$24,CW$3="Dimanche",DC$12*[1]Données!$F$24,$B12="SSIAP1",DC$12*[1]Données!$B$24) -> #N/A | DH13: =IF($B12="SSIAP1",SUM(DD13:DG13),0) -> 0 | DP13: =_xlfn.IFS(DP$7="X",DL$12*[1]Données!$H$24,DI$3="Samedi",DL$12*[1]Données!$D$24,DI$3="Dimanche",DL$12*[1]Données!$F$24,$B12="SSIAP1",DL$12*[1]Données!$B$24) -> #N/A | DQ13: =_xlfn.IFS(DP$7="X",DM$12*[1]Données!$I$24,DI$3="Samedi",DM$12*[1]Données!$D$24,DI$3="Dimanche",DM$12*[1]Données!$F$24,$B12="SSIAP1",DM$12*[1]Données!$C$24) -> #N/A | DR13: =_xlfn.IFS(DP$7="X",DN$12*[1]Données!$I$24,DI$3="Samedi",DN$12*[1]Données!$D$24,DI$3="Dimanche",DN$12*[1]Données!$F$24,$B12="SSIAP1",DN$12*[1]Données!$C$24) -> #N/A | DS13: =_xlfn.IFS(DP$7="X",DO$12*[1]Données!$I$24,DI$3="Samedi",DO$12*[1]Données!$D$24,DI$3="Dimanche",DO$12*[1]Données!$F$24,$B12="SSIAP1",DO$12*[1]Données!$B$24) -> #N/A | DT13: =IF($B12="SSIAP1",SUM(DP13:DS13),0) -> 0 | EB13: =_xlfn.IFS(EB$7="X",DX$12*[1]Données!$H$24,DU$3="Samedi",DX$12*[1]Données!$D$24,DU$3="Dimanche",DX$12*[1]Données!$F$24,$B12="SSIAP1",DX$12*[1]Données!$B$24) -> #N/A | EC13: =_xlfn.IFS(EB$7="X",DY$12*[1]Données!$I$24,DU$3="Samedi",DY$12*[1]Données!$D$24,DU$3="Dimanche",DY$12*[1]Données!$F$24,$B12="SSIAP1",DY$12*[1]Données!$C$24) -> #N/A | ED13: =_xlfn.IFS(EB$7="X",DZ$12*[1]Données!$I$24,DU$3="Samedi",DZ$12*[1]Données!$D$24,DU$3="Dimanche",DZ$12*[1]Données!$F$24,$B12="SSIAP1",DZ$12*[1]Données!$C$24) -> #N/A | EE13: =_xlfn.IFS(EB$7="X",EA$12*[1]Données!$I$24,DU$3="Samedi",EA$12*[1]Données!$D$24,DU$3="Dimanche",EA$12*[1]Données!$F$24,$B12="SSIAP1",EA$12*[1]Données!$B$24) -> #N/A | EF13: =IF($B12="SSIAP1",SUM(EB13:EE13),0) -> 0 | EN13: =_xlfn.IFS(EN$7="X",EJ$12*[1]Données!$H$24,EG$3="Samedi",EJ$12*[1]Données!$D$24,EG$3="Dimanche",EJ$12*[1]Données!$F$24,$B12="SSIAP1",EJ$12*[1]Données!$B$24) -> 97.6 | EO13: =_xlfn.IFS(EN$7="X",EK$12*[1]Données!$I$24,EG$3="Samedi",EK$12*[1]Données!$D$24,EG$3="Dimanche",EK$12*[1]Données!$F$24,$B12="SSIAP1",EK$12*[1]Données!$C$24) -> 219.6 | EP13: =_xlfn.IFS(EN$7="X",EL$12*[1]Données!$I$24,EG$3="Samedi",EL$12*[1]Données!$D$24,EG$3="Dimanche",EL$12*[1]Données!$F$24,$B12="SSIAP1",EL$12*[1]Données!$C$24) -> 24.4 | EQ13: =_xlfn.IFS(EN$7="X",EM$12*[1]Données!$I$24,EG$3="Samedi",EM$12*[1]Données!$D$24,EG$3="Dimanche",EM$12*[1]Données!$F$24,$B12="SSIAP1",EM$12*[1]Données!$B$24) -> 24.4 | ER13: =IF($B12="SSIAP1",SUM(EN13:EQ13),0) -> 0 | EZ13: =_xlfn.IFS(EZ$7="X",EV$12*[1]Données!$H$24,ES$3="Samedi",EV$12*[1]Données!$D$24,ES$3="Dimanche",EV$12*[1]Données!$F$24,$B12="SSIAP1",EV$12*[1]Données!$B$24) -> 107.36 | FA13: =_xlfn.IFS(EZ$7="X",EW$12*[1]Données!$I$24,ES$3="Samedi",EW$12*[1]Données!$D$24,ES$3="Dimanche",EW$12*[1]Données!$F$24,$B12="SSIAP1",EW$12*[1]Données!$C$24) -> 241.56 | FB13: =_xlfn.IFS(EZ$7="X",EX$12*[1]Données!$I$24,ES$3="Samedi",EX$12*[1]Données!$D$24,ES$3="Dimanche",EX$12*[1]Données!$F$24,$B12="SSIAP1",EX$12*[1]Données!$C$24) -> 26.84 | FC13: =_xlfn.IFS(EZ$7="X",EY$12*[1]Données!$I$24,ES$3="Samedi",EY$12*[1]Données!$D$24,ES$3="Dimanche",EY$12*[1]Données!$F$24,$B12="SSIAP1",EY$12*[1]Données!$B$24) -> 26.84 | FD13: =IF($B12="SSIAP1",SUM(EZ13:FC13),0) -> 0 | FL13: =_xlfn.IFS(FL$7="X",FH$12*[1]Données!$H$24,FE$3="Samedi",FH$12*[1]Données!$D$24,FE$3="Dimanche",FH$12*[1]Données!$F$24,$B12="SSIAP1",FH$12*[1]Données!$B$24) -> #N/A | FM13: =_xlfn.IFS(FL$7="X",FI$12*[1]Données!$I$24,FE$3="Samedi",FI$12*[1]Données!$D$24,FE$3="Dimanche",FI$12*[1]Données!$F$24,$B12="SSIAP1",FI$12*[1]Données!$C$24) -> #N/A | FN13: =_xlfn.IFS(FL$7="X",FJ$12*[1]Données!$I$24,FE$3="Samedi",FJ$12*[1]Données!$D$24,FE$3="Dimanche",FJ$12*[1]Données!$F$24,$B12="SSIAP1",FJ$12*[1]Données!$C$24) -> #N/A | FO13: =_xlfn.IFS(FL$7="X",FK$12*[1]Données!$I$24,FE$3="Samedi",FK$12*[1]Données!$D$24,FE$3="Dimanche",FK$12*[1]Données!$F$24,$B12="SSIAP1",FK$12*[1]Données!$B$24) -> #N/A | FP13: =IF($B12="SSIAP1",SUM(FL13:FO13),0) -> 0 | FX13: =_xlfn.IFS(FX$7="X",FT$12*[1]Données!$H$24,FQ$3="Samedi",FT$12*[1]Données!$D$24,FQ$3="Dimanche",FT$12*[1]Données!$F$24,$B12="SSIAP1",FT$12*[1]Données!$B$24) -> #N/A | FY13: =_xlfn.IFS(FX$7="X",FU$12*[1]Données!$I$24,FQ$3="Samedi",FU$12*[1]Données!$D$24,FQ$3="Dimanche",FU$12*[1]Données!$F$24,$B12="SSIAP1",FU$12*[1]Données!$C$24) -> #N/A | FZ13: =_xlfn.IFS(FX$7="X",FV$12*[1]Données!$I$24,FQ$3="Samedi",FV$12*[1]Données!$D$24,FQ$3="Dimanche",FV$12*[1]Données!$F$24,$B12="SSIAP1",FV$12*[1]Données!$C$24) -> #N/A | GA13: =_xlfn.IFS(FX$7="X",FW$12*[1]Données!$I$24,FQ$3="Samedi",FW$12*[1]Données!$D$24,FQ$3="Dimanche",FW$12*[1]Données!$F$24,$B12="SSIAP1",FW$12*[1]Données!$B$24) -> #N/A | GB13: =IF($B12="SSIAP1",SUM(FX13:GA13),0) -> 0 | GJ13: =_xlfn.IFS(GJ$7="X",GF$12*[1]Données!$H$24,GC$3="Samedi",GF$12*[1]Données!$D$24,GC$3="Dimanche",GF$12*[1]Données!$F$24,$B12="SSIAP1",GF$12*[1]Données!$B$24) -> #N/A | GK13: =_xlfn.IFS(GJ$7="X",GG$12*[1]Données!$I$24,GC$3="Samedi",GG$12*[1]Données!$D$24,GC$3="Dimanche",GG$12*[1]Données!$F$24,$B12="SSIAP1",GG$12*[1]Données!$C$24) -> #N/A | GL13: =_xlfn.IFS(GJ$7="X",GH$12*[1]Données!$I$24,GC$3="Samedi",GH$12*[1]Données!$D$24,GC$3="Dimanche",GH$12*[1]Données!$F$24,$B12="SSIAP1",GH$12*[1]Données!$C$24) -> #N/A | GM13: =_xlfn.IFS(GJ$7="X",GI$12*[1]Données!$I$24,GC$3="Samedi",GI$12*[1]Données!$D$24,GC$3="Dimanche",GI$12*[1]Données!$F$24,$B12="SSIAP1",GI$12*[1]Données!$B$24) -> #N/A | GN13: =IF($B12="SSIAP1",SUM(GJ13:GM13),0) -> 0 | GV13: =_xlfn.IFS(GV$7="X",GR$12*[1]Données!$H$24,GO$3="Samedi",GR$12*[1]Données!$D$24,GO$3="Dimanche",GR$12*[1]Données!$F$24,$B12="SSIAP1",GR$12*[1]Données!$B$24) -> #N/A | GW13: =_xlfn.IFS(GV$7="X",GS$12*[1]Données!$I$24,GO$3="Samedi",GS$12*[1]Données!$D$24,GO$3="Dimanche",GS$12*[1]Données!$F$24,$B12="SSIAP1",GS$12*[1]Données!$C$24) -> #N/A | GX13: =_xlfn.IFS(GV$7="X",GT$12*[1]Données!$I$24,GO$3="Samedi",GT$12*[1]Données!$D$24,GO$3="Dimanche",GT$12*[1]Données!$F$24,$B12="SSIAP1",GT$12*[1]Données!$C$24) -> #N/A | GY13: =_xlfn.IFS(GV$7="X",GU$12*[1]Données!$I$24,GO$3="Samedi",GU$12*[1]Données!$D$24,GO$3="Dimanche",GU$12*[1]Données!$F$24,$B12="SSIAP1",GU$12*[1]Données!$B$24) -> #N/A | GZ13: =IF($B12="SSIAP1",SUM(GV13:GY13),0) -> 0 | HH13: =_xlfn.IFS(HH$7="X",HD$12*[1]Données!$H$24,HA$3="Samedi",HD$12*[1]Données!$D$24,HA$3="Dimanche",HD$12*[1]Données!$F$24,$B12="SSIAP1",HD$12*[1]Données!$B$24) -> #N/A | HI13: =_xlfn.IFS(HH$7="X",HE$12*[1]Données!$I$24,HA$3="Samedi",HE$12*[1]Données!$D$24,HA$3="Dimanche",HE$12*[1]Données!$F$24,$B12="SSIAP1",HE$12*[1]Données!$C$24) -> #N/A | HJ13: =_xlfn.IFS(HH$7="X",HF$12*[1]Données!$I$24,HA$3="Samedi",HF$12*[1]Données!$D$24,HA$3="Dimanche",HF$12*[1]Données!$F$24,$B12="SSIAP1",HF$12*[1]Données!$C$24) -> #N/A | HK13: =_xlfn.IFS(HH$7="X",HG$12*[1]Données!$I$24,HA$3="Samedi",HG$12*[1]Données!$D$24,HA$3="Dimanche",HG$12*[1]Données!$F$24,$B12="SSIAP1",HG$12*[1]Données!$B$24) -> #N/A | HL13: =IF($B12="SSIAP1",SUM(HH13:HK13),0) -> 0 | HT13: =_xlfn.IFS(HT$7="X",HP$12*[1]Données!$H$24,HM$3="Samedi",HP$12*[1]Données!$D$24,HM$3="Dimanche",HP$12*[1]Données!$F$24,$B12="SSIAP1",HP$12*[1]Données!$B$24) -> 97.6 | HU13: =_xlfn.IFS(HT$7="X",HQ$12*[1]Données!$I$24,HM$3="Samedi",HQ$12*[1]Données!$D$24,HM$3="Dimanche",HQ$12*[1]Données!$F$24,$B12="SSIAP1",HQ$12*[1]Données!$C$24) -> 219.6 | HV13: =_xlfn.IFS(HT$7="X",HR$12*[1]Données!$I$24,HM$3="Samedi",HR$12*[1]Données!$D$24,HM$3="Dimanche",HR$12*[1]Données!$F$24,$B12="SSIAP1",HR$12*[1]Données!$C$24) -> 24.4 | HW13: =_xlfn.IFS(HT$7="X",HS$12*[1]Données!$I$24,HM$3="Samedi",HS$12*[1]Données!$D$24,HM$3="Dimanche",HS$12*[1]Données!$F$24,$B12="SSIAP1",HS$12*[1]Données!$B$24) -> 24.4 | HX13: =IF($B12="SSIAP1",SUM(HT13:HW13),0) -> 0 | IF13: =_xlfn.IFS(IF$7="X",IB$12*[1]Données!$H$24,HY$3="Samedi",IB$12*[1]Données!$D$24,HY$3="Dimanche",IB$12*[1]Données!$F$24,$B12="SSIAP1",IB$12*[1]Données!$B$24) -> 107.36 | IG13: =_xlfn.IFS(IF$7="X",IC$12*[1]Données!$I$24,HY$3="Samedi",IC$12*[1]Données!$D$24,HY$3="Dimanche",IC$12*[1]Données!$F$24,$B12="SSIAP1",IC$12*[1]Données!$C$24) -> 241.56 | IH13: =_xlfn.IFS(IF$7="X",ID$12*[1]Données!$I$24,HY$3="Samedi",ID$12*[1]Données!$D$24,HY$3="Dimanche",ID$12*[1]Données!$F$24,$B12="SSIAP1",ID$12*[1]Données!$C$24) -> 26.84 | II13: =_xlfn.IFS(IF$7="X",IE$12*[1]Données!$I$24,HY$3="Samedi",IE$12*[1]Données!$D$24,HY$3="Dimanche",IE$12*[1]Données!$F$24,$B12="SSIAP1",IE$12*[1]Données!$B$24) -> 26.84 | IJ13: =IF($B12="SSIAP1",SUM(IF13:II13),0) -> 0 | IR13: =_xlfn.IFS(IR$7="X",IN$12*[1]Données!$H$24,IK$3="Samedi",IN$12*[1]Données!$D$24,IK$3="Dimanche",IN$12*[1]Données!$F$24,$B12="SSIAP1",IN$12*[1]Données!$B$24) -> #N/A | IS13: =_xlfn.IFS(IR$7="X",IO$12*[1]Données!$I$24,IK$3="Samedi",IO$12*[1]Données!$D$24,IK$3="Dimanche",IO$12*[1]Données!$F$24,$B12="SSIAP1",IO$12*[1]Données!$C$24) -> #N/A | IT13: =_xlfn.IFS(IR$7="X",IP$12*[1]Données!$I$24,IK$3="Samedi",IP$12*[1]Données!$D$24,IK$3="Dimanche",IP$12*[1]Données!$F$24,$B12="SSIAP1",IP$12*[1]Données!$C$24) -> #N/A | IU13: =_xlfn.IFS(IR$7="X",IQ$12*[1]Données!$I$24,IK$3="Samedi",IQ$12*[1]Données!$D$24,IK$3="Dimanche",IQ$12*[1]Données!$F$24,$B12="SSIAP1",IQ$12*[1]Données!$B$24) -> #N/A | IV13: =IF($B12="SSIAP1",SUM(IR13:IU13),0) -> 0 | JD13: =_xlfn.IFS(JD$7="X",IZ$12*[1]Données!$H$24,IW$3="Samedi",IZ$12*[1]Données!$D$24,IW$3="Dimanche",IZ$12*[1]Données!$F$24,$B12="SSIAP1",IZ$12*[1]Données!$B$24) -> #N/A | JE13: =_xlfn.IFS(JD$7="X",JA$12*[1]Données!$I$24,IW$3="Samedi",JA$12*[1]Données!$D$24,IW$3="Dimanche",JA$12*[1]Données!$F$24,$B12="SSIAP1",JA$12*[1]Données!$C$24) -> #N/A | JF13: =_xlfn.IFS(JD$7="X",JB$12*[1]Données!$I$24,IW$3="Samedi",JB$12*[1]Données!$D$24,IW$3="Dimanche",JB$12*[1]Données!$F$24,$B12="SSIAP1",JB$12*[1]Données!$C$24) -> #N/A | JG13: =_xlfn.IFS(JD$7="X",JC$12*[1]Données!$I$24,IW$3="Samedi",JC$12*[1]Données!$D$24,IW$3="Dimanche",JC$12*[1]Données!$F$24,$B12="SSIAP1",JC$12*[1]Données!$B$24) -> #N/A | JH13: =IF($B12="SSIAP1",SUM(JD13:JG13),0) -> 0 | JP13: =_xlfn.IFS(JP$7="X",JL$12*[1]Données!$H$24,JI$3="Samedi",JL$12*[1]Données!$D$24,JI$3="Dimanche",JL$12*[1]Données!$F$24,$B12="SSIAP1",JL$12*[1]Données!$B$24) -> #N/A | JQ13: =_xlfn.IFS(JP$7="X",JM$12*[1]Données!$I$24,JI$3="Samedi",JM$12*[1]Données!$D$24,JI$3="Dimanche",JM$12*[1]Données!$F$24,$B12="SSIAP1",JM$12*[1]Données!$C$24) -> #N/A | JR13: =_xlfn.IFS(JP$7="X",JN$12*[1]Données!$I$24,JI$3="Samedi",JN$12*[1]Données!$D$24,JI$3="Dimanche",JN$12*[1]Données!$F$24,$B12="SSIAP1",JN$12*[1]Données!$C$24) -> #N/A | JS13: =_xlfn.IFS(JP$7="X",JO$12*[1]Données!$I$24,JI$3="Samedi",JO$12*[1]Données!$D$24,JI$3="Dimanche",JO$12*[1]Données!$F$24,$B12="SSIAP1",JO$12*[1]Données!$B$24) -> #N/A | JT13: =IF($B12="SSIAP1",SUM(JP13:JS13),0) -> 0 | KB13: =_xlfn.IFS(KB$7="X",JX$12*[1]Données!$H$24,JU$3="Samedi",JX$12*[1]Données!$D$24,JU$3="Dimanche",JX$12*[1]Données!$F$24,$B12="SSIAP1",JX$12*[1]Données!$B$24) -> #N/A | KC13: =_xlfn.IFS(KB$7="X",JY$12*[1]Données!$I$24,JU$3="Samedi",JY$12*[1]Données!$D$24,JU$3="Dimanche",JY$12*[1]Données!$F$24,$B12="SSIAP1",JY$12*[1]Données!$C$24) -> #N/A | KD13: =_xlfn.IFS(KB$7="X",JZ$12*[1]Données!$I$24,JU$3="Samedi",JZ$12*[1]Données!$D$24,JU$3="Dimanche",JZ$12*[1]Données!$F$24,$B12="SSIAP1",JZ$12*[1]Données!$C$24) -> #N/A | KE13: =_xlfn.IFS(KB$7="X",KA$12*[1]Données!$I$24,JU$3="Samedi",KA$12*[1]Données!$D$24,JU$3="Dimanche",KA$12*[1]Données!$F$24,$B12="SSIAP1",KA$12*[1]Données!$B$24) -> #N/A | KF13: =IF($B12="SSIAP1",SUM(KB13:KE13),0) -> 0 | KN13: =_xlfn.IFS(KN$7="X",KJ$12*[1]Données!$H$24,KG$3="Samedi",KJ$12*[1]Données!$D$24,KG$3="Dimanche",KJ$12*[1]Données!$F$24,$B12="SSIAP1",KJ$12*[1]Données!$B$24) -> #N/A | KO13: =_xlfn.IFS(KN$7="X",KK$12*[1]Données!$I$24,KG$3="Samedi",KK$12*[1]Données!$D$24,KG$3="Dimanche",KK$12*[1]Données!$F$24,$B12="SSIAP1",KK$12*[1]Données!$C$24) -> #N/A | KP13: =_xlfn.IFS(KN$7="X",KL$12*[1]Données!$I$24,KG$3="Samedi",KL$12*[1]Données!$D$24,KG$3="Dimanche",KL$12*[1]Données!$F$24,$B12="SSIAP1",KL$12*[1]Données!$C$24) -> #N/A | KQ13: =_xlfn.IFS(KN$7="X",KM$12*[1]Données!$I$24,KG$3="Samedi",KM$12*[1]Données!$D$24,KG$3="Dimanche",KM$12*[1]Données!$F$24,$B12="SSIAP1",KM$12*[1]Données!$B$24) -> #N/A | KR13: =IF($B12="SSIAP1",SUM(KN13:KQ13),0) -> 0 | KZ13: =_xlfn.IFS(KZ$7="X",KV$12*[1]Données!$H$24,KS$3="Samedi",KV$12*[1]Données!$D$24,KS$3="Dimanche",KV$12*[1]Données!$F$24,$B12="SSIAP1",KV$12*[1]Données!$B$24) -> 97.6 | LA13: =_xlfn.IFS(KZ$7="X",KW$12*[1]Données!$I$24,KS$3="Samedi",KW$12*[1]Données!$D$24,KS$3="Dimanche",KW$12*[1]Données!$F$24,$B12="SSIAP1",KW$12*[1]Données!$C$24) -> 219.6 | LB13: =_xlfn.IFS(KZ$7="X",KX$12*[1]Données!$I$24,KS$3="Samedi",KX$12*[1]Données!$D$24,KS$3="Dimanche",KX$12*[1]Données!$F$24,$B12="SSIAP1",KX$12*[1]Données!$C$24) -> 24.4 | LC13: =_xlfn.IFS(KZ$7="X",KY$12*[1]Données!$I$24,KS$3="Samedi",KY$12*[1]Données!$D$24,KS$3="Dimanche",KY$12*[1]Données!$F$24,$B12="SSIAP1",KY$12*[1]Données!$B$24) -> 24.4 | LD13: =IF($B12="SSIAP1",SUM(KZ13:LC13),0) -> 0 | LL13: =_xlfn.IFS(LL$7="X",LH$12*[1]Données!$H$24,LE$3="Samedi",LH$12*[1]Données!$D$24,LE$3="Dimanche",LH$12*[1]Données!$F$24,$B12="SSIAP1",LH$12*[1]Données!$B$24) -> 107.36 | LM13: =_xlfn.IFS(LL$7="X",LI$12*[1]Données!$I$24,LE$3="Samedi",LI$12*[1]Données!$D$24,LE$3="Dimanche",LI$12*[1]Données!$F$24,$B12="SSIAP1",LI$12*[1]Données!$C$24) -> 241.56 | LN13: =_xlfn.IFS(LL$7="X",LJ$12*[1]Données!$I$24,LE$3="Samedi",LJ$12*[1]Données!$D$24,LE$3="Dimanche",LJ$12*[1]Données!$F$24,$B12="SSIAP1",LJ$12*[1]Données!$C$24) -> 26.84 | LO13: =_xlfn.IFS(LL$7="X",LK$12*[1]Données!$I$24,LE$3="Samedi",LK$12*[1]Données!$D$24,LE$3="Dimanche",LK$12*[1]Données!$F$24,$B12="SSIAP1",LK$12*[1]Données!$B$24) -> 26.84 | LP13: =IF($B12="SSIAP1",SUM(LL13:LO13),0) -> 0 | LX13: =_xlfn.IFS(LX$7="X",LT$12*[1]Données!$H$24,LQ$3="Samedi",LT$12*[1]Données!$D$24,LQ$3="Dimanche",LT$12*[1]Données!$F$24,$B12="SSIAP1",LT$12*[1]Données!$B$24) -> #N/A | LY13: =_xlfn.IFS(LX$7="X",LU$12*[1]Données!$I$24,LQ$3="Samedi",LU$12*[1]Données!$D$24,LQ$3="Dimanche",LU$12*[1]Données!$F$24,$B12="SSIAP1",LU$12*[1]Données!$C$24) -> #N/A | LZ13: =_xlfn.IFS(LX$7="X",LV$12*[1]Données!$I$24,LQ$3="Samedi",LV$12*[1]Données!$D$24,LQ$3="Dimanche",LV$12*[1]Données!$F$24,$B12="SSIAP1",LV$12*[1]Données!$C$24) -> #N/A | MA13: =_xlfn.IFS(LX$7="X",LW$12*[1]Données!$I$24,LQ$3="Samedi",LW$12*[1]Données!$D$24,LQ$3="Dimanche",LW$12*[1]Données!$F$24,$B12="SSIAP1",LW$12*[1]Données!$B$24) -> #N/A | MB13: =IF($B12="SSIAP1",SUM(LX13:MA13),0) -> 0 | MJ13: =_xlfn.IFS(MJ$7="X",MF$12*[1]Données!$H$24,MC$3="Samedi",MF$12*[1]Données!$D$24,MC$3="Dimanche",MF$12*[1]Données!$F$24,$B12="SSIAP1",MF$12*[1]Données!$B$24) -> #N/A | MK13: =_xlfn.IFS(MJ$7="X",MG$12*[1]Données!$I$24,MC$3="Samedi",MG$12*[1]Données!$D$24,MC$3="Dimanche",MG$12*[1]Données!$F$24,$B12="SSIAP1",MG$12*[1]Données!$C$24) -> #N/A | ML13: =_xlfn.IFS(MJ$7="X",MH$12*[1]Données!$I$24,MC$3="Samedi",MH$12*[1]Données!$D$24,MC$3="Dimanche",MH$12*[1]Données!$F$24,$B12="SSIAP1",MH$12*[1]Données!$C$24) -> #N/A | MM13: =_xlfn.IFS(MJ$7="X",MI$12*[1]Données!$I$24,MC$3="Samedi",MI$12*[1]Données!$D$24,MC$3="Dimanche",MI$12*[1]Données!$F$24,$B12="SSIAP1",MI$12*[1]Données!$B$24) -> #N/A | MN13: =IF($B12="SSIAP1",SUM(MJ13:MM13),0) -> 0 | MV13: =_xlfn.IFS(MV$7="X",MR$12*[1]Données!$H$24,MO$3="Samedi",MR$12*[1]Données!$D$24,MO$3="Dimanche",MR$12*[1]Données!$F$24,$B12="SSIAP1",MR$12*[1]Données!$B$24) -> #N/A | MW13: =_xlfn.IFS(MV$7="X",MS$12*[1]Données!$I$24,MO$3="Samedi",MS$12*[1]Données!$D$24,MO$3="Dimanche",MS$12*[1]Données!$F$24,$B12="SSIAP1",MS$12*[1]Données!$C$24) -> #N/A | MX13: =_xlfn.IFS(MV$7="X",MT$12*[1]Données!$I$24,MO$3="Samedi",MT$12*[1]Données!$D$24,MO$3="Dimanche",MT$12*[1]Données!$F$24,$B12="SSIAP1",MT$12*[1]Données!$C$24) -> #N/A | MY13: =_xlfn.IFS(MV$7="X",MU$12*[1]Données!$I$24,MO$3="Samedi",MU$12*[1]Données!$D$24,MO$3="Dimanche",MU$12*[1]Données!$F$24,$B12="SSIAP1",MU$12*[1]Données!$B$24) -> #N/A | MZ13: =IF($B12="SSIAP1",SUM(MV13:MY13),0) -> 0 | NH13: =_xlfn.IFS(NH$7="X",ND$12*[1]Données!$H$24,NA$3="Samedi",ND$12*[1]Données!$D$24,NA$3="Dimanche",ND$12*[1]Données!$F$24,$B12="SSIAP1",ND$12*[1]Données!$B$24) -> #N/A | NI13: =_xlfn.IFS(NH$7="X",NE$12*[1]Données!$I$24,NA$3="Samedi",NE$12*[1]Données!$D$24,NA$3="Dimanche",NE$12*[1]Données!$F$24,$B12="SSIAP1",NE$12*[1]Données!$C$24) -> #N/A | NJ13: =_xlfn.IFS(NH$7="X",NF$12*[1]Données!$I$24,NA$3="Samedi",NF$12*[1]Données!$D$24,NA$3="Dimanche",NF$12*[1]Données!$F$24,$B12="SSIAP1",NF$12*[1]Données!$C$24) -> #N/A | NK13: =_xlfn.IFS(NH$7="X",NG$12*[1]Données!$I$24,NA$3="Samedi",NG$12*[1]Données!$D$24,NA$3="Dimanche",NG$12*[1]Données!$F$24,$B12="SSIAP1",NG$12*[1]Données!$B$24) -> #N/A | NL13: =IF($B12="SSIAP1",SUM(NH13:NK13),0) -> 0 | NM13: =IF($B12="SSIAP1",SUM($P13+$AB13+$AN13+$AZ13+$BL13+$BX13+$CJ13+$CV13+$DH13+$DT13+$EF13+$ER13+$FD13+$FP13+$GB12+$GB13+$GN13+$GZ13+$HL13+$HX13+$IJ13+$IV13+$JH13+$JT13+$KF13+$KR13+$LD13+$LP13+$MB13+$MN13+$MZ13+$NL13),0) -> 0
L14: =_xlfn.IFS(L$7="X",H$12*[1]Données!$H$25,E$3="Samedi",H$12*[1]Données!$D$25,E$3="Dimanche",H$12*[1]Données!$F$25,$B12="SSIAP2",H$12*[1]Données!$B$25) -> 0 | M14: =_xlfn.IFS(L$7="X",I$12*[1]Données!$I$25,E$3="Samedi",I$12*[1]Données!$D$25,E$3="Dimanche",I$12*[1]Données!$F$25,$B12="SSIAP2",I$12*[1]Données!$C$25) -> 518.56 | N14: =_xlfn.IFS(L$7="X",J$12*[1]Données!$I$25,E$3="Samedi",J$12*[1]Données!$D$25,E$3="Dimanche",J$12*[1]Données!$F$25,B$8="SSIAP2",J$12*[1]Données!$C$25) -> 64.82 | O14: =_xlfn.IFS(L$7="X",K$12*[1]Données!$I$25,E$3="Samedi",K$12*[1]Données!$D$25,E$3="Dimanche",K$12*[1]Données!$F$25,$B12="SSIAP2",K$12*[1]Données!$B$25) -> 64.82 | P14: =IF($B12="SSIAP2",SUM(L14:O14),0) -> 0 | X14: =_xlfn.IFS(X$7="X",T$12*[1]Données!$H$25,Q$3="Samedi",T$12*[1]Données!$D$25,Q$3="Dimanche",T$12*[1]Données!$F$25,$B12="SSIAP2",T$12*[1]Données!$B$25) -> #N/A | Y14: =_xlfn.IFS(X$7="X",U$12*[1]Données!$I$25,Q$3="Samedi",U$12*[1]Données!$D$25,Q$3="Dimanche",U$12*[1]Données!$F$25,$B12="SSIAP2",U$12*[1]Données!$C$25) -> #N/A | Z14: =_xlfn.IFS(X$7="X",V$12*[1]Données!$I$25,Q$3="Samedi",V$12*[1]Données!$D$25,Q$3="Dimanche",V$12*[1]Données!$F$25,B$8="SSIAP2",V$12*[1]Données!$C$25) -> #N/A | AA14: =_xlfn.IFS(X$7="X",W$12*[1]Données!$I$25,Q$3="Samedi",W$12*[1]Données!$D$25,Q$3="Dimanche",W$12*[1]Données!$F$25,$B12="SSIAP2",W$12*[1]Données!$B$25) -> #N/A | AB14: =IF($B12="SSIAP2",SUM(X14:AA14),0) -> 0 | AJ14: =_xlfn.IFS(AJ$7="X",AF$12*[1]Données!$H$25,AC$3="Samedi",AF$12*[1]Données!$D$25,AC$3="Dimanche",AF$12*[1]Données!$F$25,$B12="SSIAP2",AF$12*[1]Données!$B$25) -> #N/A | AK14: =_xlfn.IFS(AJ$7="X",AG$12*[1]Données!$I$25,AC$3="Samedi",AG$12*[1]Données!$D$25,AC$3="Dimanche",AG$12*[1]Données!$F$25,$B12="SSIAP2",AG$12*[1]Données!$C$25) -> #N/A | AL14: =_xlfn.IFS(AJ$7="X",AH$12*[1]Données!$I$25,AC$3="Samedi",AH$12*[1]Données!$D$25,AC$3="Dimanche",AH$12*[1]Données!$F$25,Z$8="SSIAP2",AH$12*[1]Données!$C$25) -> #N/A | AM14: =_xlfn.IFS(AJ$7="X",AI$12*[1]Données!$I$25,AC$3="Samedi",AI$12*[1]Données!$D$25,AC$3="Dimanche",AI$12*[1]Données!$F$25,$B12="SSIAP2",AI$12*[1]Données!$B$25) -> #N/A | AN14: =IF($B12="SSIAP2",SUM(AJ14:AM14),0) -> 0 | AV14: =_xlfn.IFS(AV$7="X",AR$12*[1]Données!$H$25,AO$3="Samedi",AR$12*[1]Données!$D$25,AO$3="Dimanche",AR$12*[1]Données!$F$25,$B12="SSIAP2",AR$12*[1]Données!$B$25) -> #N/A | AW14: =_xlfn.IFS(AV$7="X",AS$12*[1]Données!$I$25,AO$3="Samedi",AS$12*[1]Données!$D$25,AO$3="Dimanche",AS$12*[1]Données!$F$25,$B12="SSIAP2",AS$12*[1]Données!$C$25) -> #N/A | AX14: =_xlfn.IFS(AV$7="X",AT$12*[1]Données!$I$25,AO$3="Samedi",AT$12*[1]Données!$D$25,AO$3="Dimanche",AT$12*[1]Données!$F$25,AL$8="SSIAP2",AT$12*[1]Données!$C$25) -> #N/A | AY14: =_xlfn.IFS(AV$7="X",AU$12*[1]Données!$I$25,AO$3="Samedi",AU$12*[1]Données!$D$25,AO$3="Dimanche",AU$12*[1]Données!$F$25,$B12="SSIAP2",AU$12*[1]Données!$B$25) -> #N/A | AZ14: =IF($B12="SSIAP2",SUM(AV14:AY14),0) -> 0 | BH14: =_xlfn.IFS(BH$7="X",BD$12*[1]Données!$H$25,BA$3="Samedi",BD$12*[1]Données!$D$25,BA$3="Dimanche",BD$12*[1]Données!$F$25,$B12="SSIAP2",BD$12*[1]Données!$B$25) -> 116.8 | BI14: =_xlfn.IFS(BH$7="X",BE$12*[1]Données!$I$25,BA$3="Samedi",BE$12*[1]Données!$D$25,BA$3="Dimanche",BE$12*[1]Données!$F$25,$B12="SSIAP2",BE$12*[1]Données!$C$25) -> 262.8 | BJ14: =_xlfn.IFS(BH$7="X",BF$12*[1]Données!$I$25,BA$3="Samedi",BF$12*[1]Données!$D$25,BA$3="Dimanche",BF$12*[1]Données!$F$25,AX$8="SSIAP2",BF$12*[1]Données!$C$25) -> 29.2 | BK14: =_xlfn.IFS(BH$7="X",BG$12*[1]Données!$I$25,BA$3="Samedi",BG$12*[1]Données!$D$25,BA$3="Dimanche",BG$12*[1]Données!$F$25,$B12="SSIAP2",BG$12*[1]Données!$B$25) -> 29.2 | BL14: =IF($B12="SSIAP2",SUM(BH14:BK14),0) -> 0 | BT14: =_xlfn.IFS(BT$7="X",BP$12*[1]Données!$H$25,BM$3="Samedi",BP$12*[1]Données!$D$25,BM$3="Dimanche",BP$12*[1]Données!$F$25,$B12="SSIAP2",BP$12*[1]Données!$B$25) -> 128.48 | BU14: =_xlfn.IFS(BT$7="X",BQ$12*[1]Données!$I$25,BM$3="Samedi",BQ$12*[1]Données!$D$25,BM$3="Dimanche",BQ$12*[1]Données!$F$25,$B12="SSIAP2",BQ$12*[1]Données!$C$25) -> 289.08 | BV14: =_xlfn.IFS(BT$7="X",BR$12*[1]Données!$I$25,BM$3="Samedi",BR$12*[1]Données!$D$25,BM$3="Dimanche",BR$12*[1]Données!$F$25,BJ$8="SSIAP2",BR$12*[1]Données!$C$25) -> 32.12 | BW14: =_xlfn.IFS(BT$7="X",BS$12*[1]Données!$I$25,BM$3="Samedi",BS$12*[1]Données!$D$25,BM$3="Dimanche",BS$12*[1]Données!$F$25,$B12="SSIAP2",BS$12*[1]Données!$B$25) -> 32.12 | BX14: =IF($B12="SSIAP2",SUM(BT14:BW14),0) -> 0 | CF14: =_xlfn.IFS(CF$7="X",CB$12*[1]Données!$H$25,BY$3="Samedi",CB$12*[1]Données!$D$25,BY$3="Dimanche",CB$12*[1]Données!$F$25,$B12="SSIAP2",CB$12*[1]Données!$B$25) -> #N/A | CG14: =_xlfn.IFS(CF$7="X",CC$12*[1]Données!$I$25,BY$3="Samedi",CC$12*[1]Données!$D$25,BY$3="Dimanche",CC$12*[1]Données!$F$25,$B12="SSIAP2",CC$12*[1]Données!$C$25) -> #N/A | CH14: =_xlfn.IFS(CF$7="X",CD$12*[1]Données!$I$25,BY$3="Samedi",CD$12*[1]Données!$D$25,BY$3="Dimanche",CD$12*[1]Données!$F$25,BV$8="SSIAP2",CD$12*[1]Données!$C$25) -> #N/A | CI14: =_xlfn.IFS(CF$7="X",CE$12*[1]Données!$I$25,BY$3="Samedi",CE$12*[1]Données!$D$25,BY$3="Dimanche",CE$12*[1]Données!$F$25,$B12="SSIAP2",CE$12*[1]Données!$B$25) -> #N/A | CJ14: =IF($B12="SSIAP2",SUM(CF14:CI14),0) -> 0 | CR14: =_xlfn.IFS(CR$7="X",CN$12*[1]Données!$H$25,CK$3="Samedi",CN$12*[1]Données!$D$25,CK$3="Dimanche",CN$12*[1]Données!$F$25,$B12="SSIAP2",CN$12*[1]Données!$B$25) -> #N/A | CS14: =_xlfn.IFS(CR$7="X",CO$12*[1]Données!$I$25,CK$3="Samedi",CO$12*[1]Données!$D$25,CK$3="Dimanche",CO$12*[1]Données!$F$25,$B12="SSIAP2",CO$12*[1]Données!$C$25) -> #N/A | CT14: =_xlfn.IFS(CR$7="X",CP$12*[1]Données!$I$25,CK$3="Samedi",CP$12*[1]Données!$D$25,CK$3="Dimanche",CP$12*[1]Données!$F$25,CH$8="SSIAP2",CP$12*[1]Données!$C$25) -> #N/A | CU14: =_xlfn.IFS(CR$7="X",CQ$12*[1]Données!$I$25,CK$3="Samedi",CQ$12*[1]Données!$D$25,CK$3="Dimanche",CQ$12*[1]Données!$F$25,$B12="SSIAP2",CQ$12*[1]Données!$B$25) -> #N/A | CV14: =IF($B12="SSIAP2",SUM(CR14:CU14),0) -> 0 | DD14: =_xlfn.IFS(DD$7="X",CZ$12*[1]Données!$H$25,CW$3="Samedi",CZ$12*[1]Données!$D$25,CW$3="Dimanche",CZ$12*[1]Données!$F$25,$B12="SSIAP2",CZ$12*[1]Données!$B$25) -> #N/A | DE14: =_xlfn.IFS(DD$7="X",DA$12*[1]Données!$I$25,CW$3="Samedi",DA$12*[1]Données!$D$25,CW$3="Dimanche",DA$12*[1]Données!$F$25,$B12="SSIAP2",DA$12*[1]Données!$C$25) -> #N/A | DF14: =_xlfn.IFS(DD$7="X",DB$12*[1]Données!$I$25,CW$3="Samedi",DB$12*[1]Données!$D$25,CW$3="Dimanche",DB$12*[1]Données!$F$25,CT$8="SSIAP2",DB$12*[1]Données!$C$25) -> #N/A | DG14: =_xlfn.IFS(DD$7="X",DC$12*[1]Données!$I$25,CW$3="Samedi",DC$12*[1]Données!$D$25,CW$3="Dimanche",DC$12*[1]Données!$F$25,$B12="SSIAP2",DC$12*[1]Données!$B$25) -> #N/A | DH14: =IF($B12="SSIAP2",SUM(DD14:DG14),0) -> 0 | DP14: =_xlfn.IFS(DP$7="X",DL$12*[1]Données!$H$25,DI$3="Samedi",DL$12*[1]Données!$D$25,DI$3="Dimanche",DL$12*[1]Données!$F$25,$B12="SSIAP2",DL$12*[1]Données!$B$25) -> #N/A | DQ14: =_xlfn.IFS(DP$7="X",DM$12*[1]Données!$I$25,DI$3="Samedi",DM$12*[1]Données!$D$25,DI$3="Dimanche",DM$12*[1]Données!$F$25,$B12="SSIAP2",DM$12*[1]Données!$C$25) -> #N/A | DR14: =_xlfn.IFS(DP$7="X",DN$12*[1]Données!$I$25,DI$3="Samedi",DN$12*[1]Données!$D$25,DI$3="Dimanche",DN$12*[1]Données!$F$25,DF$8="SSIAP2",DN$12*[1]Données!$C$25) -> #N/A | DS14: =_xlfn.IFS(DP$7="X",DO$12*[1]Données!$I$25,DI$3="Samedi",DO$12*[1]Données!$D$25,DI$3="Dimanche",DO$12*[1]Données!$F$25,$B12="SSIAP2",DO$12*[1]Données!$B$25) -> #N/A | DT14: =IF($B12="SSIAP2",SUM(DP14:DS14),0) -> 0 | EB14: =_xlfn.IFS(EB$7="X",DX$12*[1]Données!$H$25,DU$3="Samedi",DX$12*[1]Données!$D$25,DU$3="Dimanche",DX$12*[1]Données!$F$25,$B12="SSIAP2",DX$12*[1]Données!$B$25) -> #N/A | EC14: =_xlfn.IFS(EB$7="X",DY$12*[1]Données!$I$25,DU$3="Samedi",DY$12*[1]Données!$D$25,DU$3="Dimanche",DY$12*[1]Données!$F$25,$B12="SSIAP2",DY$12*[1]Données!$C$25) -> #N/A | ED14: =_xlfn.IFS(EB$7="X",DZ$12*[1]Données!$I$25,DU$3="Samedi",DZ$12*[1]Données!$D$25,DU$3="Dimanche",DZ$12*[1]Données!$F$25,DR$8="SSIAP2",DZ$12*[1]Données!$C$25) -> #N/A | EE14: =_xlfn.IFS(EB$7="X",EA$12*[1]Données!$I$25,DU$3="Samedi",EA$12*[1]Données!$D$25,DU$3="Dimanche",EA$12*[1]Données!$F$25,$B12="SSIAP2",EA$12*[1]Données!$B$25) -> #N/A | EF14: =IF($B12="SSIAP2",SUM(EB14:EE14),0) -> 0 | EN14: =_xlfn.IFS(EN$7="X",EJ$12*[1]Données!$H$25,EG$3="Samedi",EJ$12*[1]Données!$D$25,EG$3="Dimanche",EJ$12*[1]Données!$F$25,$B12="SSIAP2",EJ$12*[1]Données!$B$25) -> 116.8 | EO14: =_xlfn.IFS(EN$7="X",EK$12*[1]Données!$I$25,EG$3="Samedi",EK$12*[1]Données!$D$25,EG$3="Dimanche",EK$12*[1]Données!$F$25,$B12="SSIAP2",EK$12*[1]Données!$C$25) -> 262.8 | EP14: =_xlfn.IFS(EN$7="X",EL$12*[1]Données!$I$25,EG$3="Samedi",EL$12*[1]Données!$D$25,EG$3="Dimanche",EL$12*[1]Données!$F$25,ED$8="SSIAP2",EL$12*[1]Données!$C$25) -> 29.2 | EQ14: =_xlfn.IFS(EN$7="X",EM$12*[1]Données!$I$25,EG$3="Samedi",EM$12*[1]Données!$D$25,EG$3="Dimanche",EM$12*[1]Données!$F$25,$B12="SSIAP2",EM$12*[1]Données!$B$25) -> 29.2 | ER14: =IF($B12="SSIAP2",SUM(EN14:EQ14),0) -> 0 | EZ14: =_xlfn.IFS(EZ$7="X",EV$12*[1]Données!$H$25,ES$3="Samedi",EV$12*[1]Données!$D$25,ES$3="Dimanche",EV$12*[1]Données!$F$25,$B12="SSIAP2",EV$12*[1]Données!$B$25) -> 128.48 | FA14: =_xlfn.IFS(EZ$7="X",EW$12*[1]Données!$I$25,ES$3="Samedi",EW$12*[1]Données!$D$25,ES$3="Dimanche",EW$12*[1]Données!$F$25,$B12="SSIAP2",EW$12*[1]Données!$C$25) -> 289.08 | FB14: =_xlfn.IFS(EZ$7="X",EX$12*[1]Données!$I$25,ES$3="Samedi",EX$12*[1]Données!$D$25,ES$3="Dimanche",EX$12*[1]Données!$F$25,EP$8="SSIAP2",EX$12*[1]Données!$C$25) -> 32.12 | FC14: =_xlfn.IFS(EZ$7="X",EY$12*[1]Données!$I$25,ES$3="Samedi",EY$12*[1]Données!$D$25,ES$3="Dimanche",EY$12*[1]Données!$F$25,$B12="SSIAP2",EY$12*[1]Données!$B$25) -> 32.12 | FD14: =IF($B12="SSIAP2",SUM(EZ14:FC14),0) -> 0 | FL14: =_xlfn.IFS(FL$7="X",FH$12*[1]Données!$H$25,FE$3="Samedi",FH$12*[1]Données!$D$25,FE$3="Dimanche",FH$12*[1]Données!$F$25,$B12="SSIAP2",FH$12*[1]Données!$B$25) -> #N/A | FM14: =_xlfn.IFS(FL$7="X",FI$12*[1]Données!$I$25,FE$3="Samedi",FI$12*[1]Données!$D$25,FE$3="Dimanche",FI$12*[1]Données!$F$25,$B12="SSIAP2",FI$12*[1]Données!$C$25) -> #N/A | FN14: =_xlfn.IFS(FL$7="X",FJ$12*[1]Données!$I$25,FE$3="Samedi",FJ$12*[1]Données!$D$25,FE$3="Dimanche",FJ$12*[1]Données!$F$25,FB$8="SSIAP2",FJ$12*[1]Données!$C$25) -> #N/A | FO14: =_xlfn.IFS(FL$7="X",FK$12*[1]Données!$I$25,FE$3="Samedi",FK$12*[1]Données!$D$25,FE$3="Dimanche",FK$12*[1]Données!$F$25,$B12="SSIAP2",FK$12*[1]Données!$B$25) -> #N/A | FP14: =IF($B12="SSIAP2",SUM(FL14:FO14),0) -> 0 | FX14: =_xlfn.IFS(FX$7="X",FT$12*[1]Données!$H$25,FQ$3="Samedi",FT$12*[1]Données!$D$25,FQ$3="Dimanche",FT$12*[1]Données!$F$25,$B12="SSIAP2",FT$12*[1]Données!$B$25) -> #N/A | FY14: =_xlfn.IFS(FX$7="X",FU$12*[1]Données!$I$25,FQ$3="Samedi",FU$12*[1]Données!$D$25,FQ$3="Dimanche",FU$12*[1]Données!$F$25,$B12="SSIAP2",FU$12*[1]Données!$C$25) -> #N/A | FZ14: =_xlfn.IFS(FX$7="X",FV$12*[1]Données!$I$25,FQ$3="Samedi",FV$12*[1]Données!$D$25,FQ$3="Dimanche",FV$12*[1]Données!$F$25,FN$8="SSIAP2",FV$12*[1]Données!$C$25) -> #N/A | GA14: =_xlfn.IFS(FX$7="X",FW$12*[1]Données!$I$25,FQ$3="Samedi",FW$12*[1]Données!$D$25,FQ$3="Dimanche",FW$12*[1]Données!$F$25,$B12="SSIAP2",FW$12*[1]Données!$B$25) -> #N/A | GB14: =IF($B12="SSIAP2",SUM(FX14:GA14),0) -> 0 | GJ14: =_xlfn.IFS(GJ$7="X",GF$12*[1]Données!$H$25,GC$3="Samedi",GF$12*[1]Données!$D$25,GC$3="Dimanche",GF$12*[1]Données!$F$25,$B12="SSIAP2",GF$12*[1]Données!$B$25) -> #N/A | GK14: =_xlfn.IFS(GJ$7="X",GG$12*[1]Données!$I$25,GC$3="Samedi",GG$12*[1]Données!$D$25,GC$3="Dimanche",GG$12*[1]Données!$F$25,$B12="SSIAP2",GG$12*[1]Données!$C$25) -> #N/A | GL14: =_xlfn.IFS(GJ$7="X",GH$12*[1]Données!$I$25,GC$3="Samedi",GH$12*[1]Données!$D$25,GC$3="Dimanche",GH$12*[1]Données!$F$25,FZ$8="SSIAP2",GH$12*[1]Données!$C$25) -> #N/A | GM14: =_xlfn.IFS(GJ$7="X",GI$12*[1]Données!$I$25,GC$3="Samedi",GI$12*[1]Données!$D$25,GC$3="Dimanche",GI$12*[1]Données!$F$25,$B12="SSIAP2",GI$12*[1]Données!$B$25) -> #N/A | GN14: =IF($B12="SSIAP2",SUM(GJ14:GM14),0) -> 0 | GV14: =_xlfn.IFS(GV$7="X",GR$12*[1]Données!$H$25,GO$3="Samedi",GR$12*[1]Données!$D$25,GO$3="Dimanche",GR$12*[1]Données!$F$25,$B12="SSIAP2",GR$12*[1]Données!$B$25) -> #N/A | GW14: =_xlfn.IFS(GV$7="X",GS$12*[1]Données!$I$25,GO$3="Samedi",GS$12*[1]Données!$D$25,GO$3="Dimanche",GS$12*[1]Données!$F$25,$B12="SSIAP2",GS$12*[1]Données!$C$25) -> #N/A | GX14: =_xlfn.IFS(GV$7="X",GT$12*[1]Données!$I$25,GO$3="Samedi",GT$12*[1]Données!$D$25,GO$3="Dimanche",GT$12*[1]Données!$F$25,GL$8="SSIAP2",GT$12*[1]Données!$C$25) -> #N/A | GY14: =_xlfn.IFS(GV$7="X",GU$12*[1]Données!$I$25,GO$3="Samedi",GU$12*[1]Données!$D$25,GO$3="Dimanche",GU$12*[1]Données!$F$25,$B12="SSIAP2",GU$12*[1]Données!$B$25) -> #N/A | GZ14: =IF($B12="SSIAP2",SUM(GV14:GY14),0) -> 0 | HH14: =_xlfn.IFS(HH$7="X",HD$12*[1]Données!$H$25,HA$3="Samedi",HD$12*[1]Données!$D$25,HA$3="Dimanche",HD$12*[1]Données!$F$25,$B12="SSIAP2",HD$12*[1]Données!$B$25) -> #N/A | HI14: =_xlfn.IFS(HH$7="X",HE$12*[1]Données!$I$25,HA$3="Samedi",HE$12*[1]Données!$D$25,HA$3="Dimanche",HE$12*[1]Données!$F$25,$B12="SSIAP2",HE$12*[1]Données!$C$25) -> #N/A | HJ14: =_xlfn.IFS(HH$7="X",HF$12*[1]Données!$I$25,HA$3="Samedi",HF$12*[1]Données!$D$25,HA$3="Dimanche",HF$12*[1]Données!$F$25,GX$8="SSIAP2",HF$12*[1]Données!$C$25) -> #N/A | HK14: =_xlfn.IFS(HH$7="X",HG$12*[1]Données!$I$25,HA$3="Samedi",HG$12*[1]Données!$D$25,HA$3="Dimanche",HG$12*[1]Données!$F$25,$B12="SSIAP2",HG$12*[1]Données!$B$25) -> #N/A | HL14: =IF($B12="SSIAP2",SUM(HH14:HK14),0) -> 0 | HT14: =_xlfn.IFS(HT$7="X",HP$12*[1]Données!$H$25,HM$3="Samedi",HP$12*[1]Données!$D$25,HM$3="Dimanche",HP$12*[1]Données!$F$25,$B12="SSIAP2",HP$12*[1]Données!$B$25) -> 116.8 | HU14: =_xlfn.IFS(HT$7="X",HQ$12*[1]Données!$I$25,HM$3="Samedi",HQ$12*[1]Données!$D$25,HM$3="Dimanche",HQ$12*[1]Données!$F$25,$B12="SSIAP2",HQ$12*[1]Données!$C$25) -> 262.8 | HV14: =_xlfn.IFS(HT$7="X",HR$12*[1]Données!$I$25,HM$3="Samedi",HR$12*[1]Données!$D$25,HM$3="Dimanche",HR$12*[1]Données!$F$25,HJ$8="SSIAP2",HR$12*[1]Données!$C$25) -> 29.2 | HW14: =_xlfn.IFS(HT$7="X",HS$12*[1]Données!$I$25,HM$3="Samedi",HS$12*[1]Données!$D$25,HM$3="Dimanche",HS$12*[1]Données!$F$25,$B12="SSIAP2",HS$12*[1]Données!$B$25) -> 29.2 | HX14: =IF($B12="SSIAP2",SUM(HT14:HW14),0) -> 0 | IF14: =_xlfn.IFS(IF$7="X",IB$12*[1]Données!$H$25,HY$3="Samedi",IB$12*[1]Données!$D$25,HY$3="Dimanche",IB$12*[1]Données!$F$25,$B12="SSIAP2",IB$12*[1]Données!$B$25) -> 128.48 | IG14: =_xlfn.IFS(IF$7="X",IC$12*[1]Données!$I$25,HY$3="Samedi",IC$12*[1]Données!$D$25,HY$3="Dimanche",IC$12*[1]Données!$F$25,$B12="SSIAP2",IC$12*[1]Données!$C$25) -> 289.08 | IH14: =_xlfn.IFS(IF$7="X",ID$12*[1]Données!$I$25,HY$3="Samedi",ID$12*[1]Données!$D$25,HY$3="Dimanche",ID$12*[1]Données!$F$25,HV$8="SSIAP2",ID$12*[1]Données!$C$25) -> 32.12 | II14: =_xlfn.IFS(IF$7="X",IE$12*[1]Données!$I$25,HY$3="Samedi",IE$12*[1]Données!$D$25,HY$3="Dimanche",IE$12*[1]Données!$F$25,$B12="SSIAP2",IE$12*[1]Données!$B$25) -> 32.12 | IJ14: =IF($B12="SSIAP2",SUM(IF14:II14),0) -> 0 | IR14: =_xlfn.IFS(IR$7="X",IN$12*[1]Données!$H$25,IK$3="Samedi",IN$12*[1]Données!$D$25,IK$3="Dimanche",IN$12*[1]Données!$F$25,$B12="SSIAP2",IN$12*[1]Données!$B$25) -> #N/A | IS14: =_xlfn.IFS(IR$7="X",IO$12*[1]Données!$I$25,IK$3="Samedi",IO$12*[1]Données!$D$25,IK$3="Dimanche",IO$12*[1]Données!$F$25,$B12="SSIAP2",IO$12*[1]Données!$C$25) -> #N/A | IT14: =_xlfn.IFS(IR$7="X",IP$12*[1]Données!$I$25,IK$3="Samedi",IP$12*[1]Données!$D$25,IK$3="Dimanche",IP$12*[1]Données!$F$25,IH$8="SSIAP2",IP$12*[1]Données!$C$25) -> #N/A | IU14: =_xlfn.IFS(IR$7="X",IQ$12*[1]Données!$I$25,IK$3="Samedi",IQ$12*[1]Données!$D$25,IK$3="Dimanche",IQ$12*[1]Données!$F$25,$B12="SSIAP2",IQ$12*[1]Données!$B$25) -> #N/A | IV14: =IF($B12="SSIAP2",SUM(IR14:IU14),0) -> 0 | JD14: =_xlfn.IFS(JD$7="X",IZ$12*[1]Données!$H$25,IW$3="Samedi",IZ$12*[1]Données!$D$25,IW$3="Dimanche",IZ$12*[1]Données!$F$25,$B12="SSIAP2",IZ$12*[1]Données!$B$25) -> #N/A | JE14: =_xlfn.IFS(JD$7="X",JA$12*[1]Données!$I$25,IW$3="Samedi",JA$12*[1]Données!$D$25,IW$3="Dimanche",JA$12*[1]Données!$F$25,$B12="SSIAP2",JA$12*[1]Données!$C$25) -> #N/A | JF14: =_xlfn.IFS(JD$7="X",JB$12*[1]Données!$I$25,IW$3="Samedi",JB$12*[1]Données!$D$25,IW$3="Dimanche",JB$12*[1]Données!$F$25,IT$8="SSIAP2",JB$12*[1]Données!$C$25) -> #N/A | JG14: =_xlfn.IFS(JD$7="X",JC$12*[1]Données!$I$25,IW$3="Samedi",JC$12*[1]Données!$D$25,IW$3="Dimanche",JC$12*[1]Données!$F$25,$B12="SSIAP2",JC$12*[1]Données!$B$25) -> #N/A | JH14: =IF($B12="SSIAP2",SUM(JD14:JG14),0) -> 0 | JP14: =_xlfn.IFS(JP$7="X",JL$12*[1]Données!$H$25,JI$3="Samedi",JL$12*[1]Données!$D$25,JI$3="Dimanche",JL$12*[1]Données!$F$25,$B12="SSIAP2",JL$12*[1]Données!$B$25) -> #N/A | JQ14: =_xlfn.IFS(JP$7="X",JM$12*[1]Données!$I$25,JI$3="Samedi",JM$12*[1]Données!$D$25,JI$3="Dimanche",JM$12*[1]Données!$F$25,$B12="SSIAP2",JM$12*[1]Données!$C$25) -> #N/A | JR14: =_xlfn.IFS(JP$7="X",JN$12*[1]Données!$I$25,JI$3="Samedi",JN$12*[1]Données!$D$25,JI$3="Dimanche",JN$12*[1]Données!$F$25,JF$8="SSIAP2",JN$12*[1]Données!$C$25) -> #N/A | JS14: =_xlfn.IFS(JP$7="X",JO$12*[1]Données!$I$25,JI$3="Samedi",JO$12*[1]Données!$D$25,JI$3="Dimanche",JO$12*[1]Données!$F$25,$B12="SSIAP2",JO$12*[1]Données!$B$25) -> #N/A | JT14: =IF($B12="SSIAP2",SUM(JP14:JS14),0) -> 0 | KB14: =_xlfn.IFS(KB$7="X",JX$12*[1]Données!$H$25,JU$3="Samedi",JX$12*[1]Données!$D$25,JU$3="Dimanche",JX$12*[1]Données!$F$25,$B12="SSIAP2",JX$12*[1]Données!$B$25) -> #N/A | KC14: =_xlfn.IFS(KB$7="X",JY$12*[1]Données!$I$25,JU$3="Samedi",JY$12*[1]Données!$D$25,JU$3="Dimanche",JY$12*[1]Données!$F$25,$B12="SSIAP2",JY$12*[1]Données!$C$25) -> #N/A | KD14: =_xlfn.IFS(KB$7="X",JZ$12*[1]Données!$I$25,JU$3="Samedi",JZ$12*[1]Données!$D$25,JU$3="Dimanche",JZ$12*[1]Données!$F$25,JR$8="SSIAP2",JZ$12*[1]Données!$C$25) -> #N/A | KE14: =_xlfn.IFS(KB$7="X",KA$12*[1]Données!$I$25,JU$3="Samedi",KA$12*[1]Données!$D$25,JU$3="Dimanche",KA$12*[1]Données!$F$25,$B12="SSIAP2",KA$12*[1]Données!$B$25) -> #N/A | KF14: =IF($B12="SSIAP2",SUM(KB14:KE14),0) -> 0 | KN14: =_xlfn.IFS(KN$7="X",KJ$12*[1]Données!$H$25,KG$3="Samedi",KJ$12*[1]Données!$D$25,KG$3="Dimanche",KJ$12*[1]Données!$F$25,$B12="SSIAP2",KJ$12*[1]Données!$B$25) -> #N/A | KO14: =_xlfn.IFS(KN$7="X",KK$12*[1]Données!$I$25,KG$3="Samedi",KK$12*[1]Données!$D$25,KG$3="Dimanche",KK$12*[1]Données!$F$25,$B12="SSIAP2",KK$12*[1]Données!$C$25) -> #N/A | KP14: =_xlfn.IFS(KN$7="X",KL$12*[1]Données!$I$25,KG$3="Samedi",KL$12*[1]Données!$D$25,KG$3="Dimanche",KL$12*[1]Données!$F$25,KD$8="SSIAP2",KL$12*[1]Données!$C$25) -> #N/A | KQ14: =_xlfn.IFS(KN$7="X",KM$12*[1]Données!$I$25,KG$3="Samedi",KM$12*[1]Données!$D$25,KG$3="Dimanche",KM$12*[1]Données!$F$25,$B12="SSIAP2",KM$12*[1]Données!$B$25) -> #N/A | KR14: =IF($B12="SSIAP2",SUM(KN14:KQ14),0) -> 0 | KZ14: =_xlfn.IFS(KZ$7="X",KV$12*[1]Données!$H$25,KS$3="Samedi",KV$12*[1]Données!$D$25,KS$3="Dimanche",KV$12*[1]Données!$F$25,$B12="SSIAP2",KV$12*[1]Données!$B$25) -> 116.8 | LA14: =_xlfn.IFS(KZ$7="X",KW$12*[1]Données!$I$25,KS$3="Samedi",KW$12*[1]Données!$D$25,KS$3="Dimanche",KW$12*[1]Données!$F$25,$B12="SSIAP2",KW$12*[1]Données!$C$25) -> 262.8 | LB14: =_xlfn.IFS(KZ$7="X",KX$12*[1]Données!$I$25,KS$3="Samedi",KX$12*[1]Données!$D$25,KS$3="Dimanche",KX$12*[1]Données!$F$25,KP$8="SSIAP2",KX$12*[1]Données!$C$25) -> 29.2 | LC14: =_xlfn.IFS(KZ$7="X",KY$12*[1]Données!$I$25,KS$3="Samedi",KY$12*[1]Données!$D$25,KS$3="Dimanche",KY$12*[1]Données!$F$25,$B12="SSIAP2",KY$12*[1]Données!$B$25) -> 29.2 | LD14: =IF($B12="SSIAP2",SUM(KZ14:LC14),0) -> 0 | LL14: =_xlfn.IFS(LL$7="X",LH$12*[1]Données!$H$25,LE$3="Samedi",LH$12*[1]Données!$D$25,LE$3="Dimanche",LH$12*[1]Données!$F$25,$B12="SSIAP2",LH$12*[1]Données!$B$25) -> 128.48 | LM14: =_xlfn.IFS(LL$7="X",LI$12*[1]Données!$I$25,LE$3="Samedi",LI$12*[1]Données!$D$25,LE$3="Dimanche",LI$12*[1]Données!$F$25,$B12="SSIAP2",LI$12*[1]Données!$C$25) -> 289.08 | LN14: =_xlfn.IFS(LL$7="X",LJ$12*[1]Données!$I$25,LE$3="Samedi",LJ$12*[1]Données!$D$25,LE$3="Dimanche",LJ$12*[1]Données!$F$25,LB$8="SSIAP2",LJ$12*[1]Données!$C$25) -> 32.12 | LO14: =_xlfn.IFS(LL$7="X",LK$12*[1]Données!$I$25,LE$3="Samedi",LK$12*[1]Données!$D$25,LE$3="Dimanche",LK$12*[1]Données!$F$25,$B12="SSIAP2",LK$12*[1]Données!$B$25) -> 32.12 | LP14: =IF($B12="SSIAP2",SUM(LL14:LO14),0) -> 0 | LX14: =_xlfn.IFS(LX$7="X",LT$12*[1]Données!$H$25,LQ$3="Samedi",LT$12*[1]Données!$D$25,LQ$3="Dimanche",LT$12*[1]Données!$F$25,$B12="SSIAP2",LT$12*[1]Données!$B$25) -> #N/A | LY14: =_xlfn.IFS(LX$7="X",LU$12*[1]Données!$I$25,LQ$3="Samedi",LU$12*[1]Données!$D$25,LQ$3="Dimanche",LU$12*[1]Données!$F$25,$B12="SSIAP2",LU$12*[1]Données!$C$25) -> #N/A | LZ14: =_xlfn.IFS(LX$7="X",LV$12*[1]Données!$I$25,LQ$3="Samedi",LV$12*[1]Données!$D$25,LQ$3="Dimanche",LV$12*[1]Données!$F$25,LN$8="SSIAP2",LV$12*[1]Données!$C$25) -> #N/A | MA14: =_xlfn.IFS(LX$7="X",LW$12*[1]Données!$I$25,LQ$3="Samedi",LW$12*[1]Données!$D$25,LQ$3="Dimanche",LW$12*[1]Données!$F$25,$B12="SSIAP2",LW$12*[1]Données!$B$25) -> #N/A | MB14: =IF($B12="SSIAP2",SUM(LX14:MA14),0) -> 0 | MJ14: =_xlfn.IFS(MJ$7="X",MF$12*[1]Données!$H$25,MC$3="Samedi",MF$12*[1]Données!$D$25,MC$3="Dimanche",MF$12*[1]Données!$F$25,$B12="SSIAP2",MF$12*[1]Données!$B$25) -> #N/A | MK14: =_xlfn.IFS(MJ$7="X",MG$12*[1]Données!$I$25,MC$3="Samedi",MG$12*[1]Données!$D$25,MC$3="Dimanche",MG$12*[1]Données!$F$25,$B12="SSIAP2",MG$12*[1]Données!$C$25) -> #N/A | ML14: =_xlfn.IFS(MJ$7="X",MH$12*[1]Données!$I$25,MC$3="Samedi",MH$12*[1]Données!$D$25,MC$3="Dimanche",MH$12*[1]Données!$F$25,LZ$8="SSIAP2",MH$12*[1]Données!$C$25) -> #N/A | MM14: =_xlfn.IFS(MJ$7="X",MI$12*[1]Données!$I$25,MC$3="Samedi",MI$12*[1]Données!$D$25,MC$3="Dimanche",MI$12*[1]Données!$F$25,$B12="SSIAP2",MI$12*[1]Données!$B$25) -> #N/A | MN14: =IF($B12="SSIAP2",SUM(MJ14:MM14),0) -> 0 | MV14: =_xlfn.IFS(MV$7="X",MR$12*[1]Données!$H$25,MO$3="Samedi",MR$12*[1]Données!$D$25,MO$3="Dimanche",MR$12*[1]Données!$F$25,$B12="SSIAP2",MR$12*[1]Données!$B$25) -> #N/A | MW14: =_xlfn.IFS(MV$7="X",MS$12*[1]Données!$I$25,MO$3="Samedi",MS$12*[1]Données!$D$25,MO$3="Dimanche",MS$12*[1]Données!$F$25,$B12="SSIAP2",MS$12*[1]Données!$C$25) -> #N/A | MX14: =_xlfn.IFS(MV$7="X",MT$12*[1]Données!$I$25,MO$3="Samedi",MT$12*[1]Données!$D$25,MO$3="Dimanche",MT$12*[1]Données!$F$25,ML$8="SSIAP2",MT$12*[1]Données!$C$25) -> #N/A | MY14: =_xlfn.IFS(MV$7="X",MU$12*[1]Données!$I$25,MO$3="Samedi",MU$12*[1]Données!$D$25,MO$3="Dimanche",MU$12*[1]Données!$F$25,$B12="SSIAP2",MU$12*[1]Données!$B$25) -> #N/A | MZ14: =IF($B12="SSIAP2",SUM(MV14:MY14),0) -> 0 | NH14: =_xlfn.IFS(NH$7="X",ND$12*[1]Données!$H$25,NA$3="Samedi",ND$12*[1]Données!$D$25,NA$3="Dimanche",ND$12*[1]Données!$F$25,$B12="SSIAP2",ND$12*[1]Données!$B$25) -> #N/A | NI14: =_xlfn.IFS(NH$7="X",NE$12*[1]Données!$I$25,NA$3="Samedi",NE$12*[1]Données!$D$25,NA$3="Dimanche",NE$12*[1]Données!$F$25,$B12="SSIAP2",NE$12*[1]Données!$C$25) -> #N/A | NJ14: =_xlfn.IFS(NH$7="X",NF$12*[1]Données!$I$25,NA$3="Samedi",NF$12*[1]Données!$D$25,NA$3="Dimanche",NF$12*[1]Données!$F$25,MX$8="SSIAP2",NF$12*[1]Données!$C$25) -> #N/A | NK14: =_xlfn.IFS(NH$7="X",NG$12*[1]Données!$I$25,NA$3="Samedi",NG$12*[1]Données!$D$25,NA$3="Dimanche",NG$12*[1]Données!$F$25,$B12="SSIAP2",NG$12*[1]Données!$B$25) -> #N/A | NL14: =IF($B12="SSIAP2",SUM(NH14:NK14),0) -> 0 | NM14: =IF($B12="SSIAP2",SUM($P14+$AB14+$AN14+$AZ14+$BL14+$BX14+$CJ14+$CV14+$DH14+$DT14+$EF14+$ER14+$FD14+$FP14+$GB13+$GB14+$GN14+$GZ14+$HL14+$HX14+$IJ14+$IV14+$JH14+$JT14+$KF14+$KR14+$LD14+$LP14+$MB14+$MN14+$MZ14+$NL14),0) -> 0
