Workbook

Sheet Données
A2: Année: | B2: 2019 | D2: Jours feriés France
D3: Jour de l'an | F3: =DATE(B2,1,1) -> 43466
D4: Pâques | F4: 43576
D5: Lundi de Pâques | F5: =F4+1 -> 43577
D6: Fête du travail | F6: =DATE(B2,5,1) -> 43586
D7: Armistice 1945 | F7: =DATE(B2,5,8) -> 43593
D8: Ascension | F8: =F4+39 -> 43615
D9: Pentecôte | F9: =F4+49 -> 43625
D10: Lundi de Pentecote | F10: =F4+50 -> 43626
D11: Fête nationale | F11: =DATE(B2,7,14) -> 43660
D12: Assomption | F12: =DATE(B2,8,15) -> 43692
D13: Toussaint | F13: =DATE(B2,11,1) -> 43770
D14: Armistice 1918 | F14: =DATE(B2,11,11) -> 43780
D15: NOEL | F15: =DATE(B2,12,25) -> 43824
B20: JOUR | C20: NUIT | D20: JOUR | E20: NUIT | F20: JOUR | G20: NUIT | H20: FERIE - JOUR | I20: FERIE - NUIT | J20: FERIE - JOUR | K20: FERIE - NUIT
B21: Lu - Ve | C21: Lu - Ve | D21: Samedi | E21: Samedi | F21: Dimanche | G21: Dimanche | H21: Lu - Sa | I21: Lu - Sa | J21: Dimanche | K21: Dimanche
A22: Poste | B22: 06:00 - 21:00 | C22: 21:00 - 06:00 | D22: 06:00-21:00 | E22: 21:00-06:00 | F22: 06:00-21:00 | G22: 21:00-06:00 | H22: 06:00-21:00 | I22: 21:00-06:00 | J22: 06:00-21:00 | K22: 21:00-06:00
A23: ADS | B23: 23.8 | C23: 26.42 | D23: 23.8 | E23: 26.42 | F23: 26.18 | G23: 29.32 | H23: 47.6 | I23: 52.84 | J23: 53.68 | K23: 58.65
A24: SSIAP1 | B24: 24.4 | C24: 27.08 | D24: 24.4 | E24: 27.08 | F24: 26.84 | G24: 30.06 | H24: 48.8 | I24: 54.17 | J24: 64.24 | K24: 60.13
A25: SSIAP2 | B25: 29.2 | C25: 32.41 | D25: 29.2 | E25: 32.41 | F25: 32.12 | G25: 35.98 | H25: 58.4 | I25: 64.82 | J25: 64.24 | K25: 71.95
A26: SSIAP3 | B26: 46 | C26: 51.06 | D26: 46 | E26: 51.06 | F26: 50.6 | G26: 56.68 | H26: 92 | I26: 102.12 | J26: 101.2 | K26: 113.35

Sheet January
B1: =DATE([1]Données!B2,1,1) -> 43466
E3: =INDEX({"Dimanche";"Lundi";"Mardi";"Mercredi";"Jeudi";"Vendredi";"Samedi"},WEEKDAY(E4)) -> Mardi | Q3: =INDEX({"Dimanche";"Lundi";"Mardi";"Mercredi";"Jeudi";"Vendredi";"Samedi"},WEEKDAY(Q4)) -> Mercredi | AC3: =INDEX({"Dimanche";"Lundi";"Mardi";"Mercredi";"Jeudi";"Vendredi";"Samedi"},WEEKDAY(AC4)) -> Jeudi | AO3: =INDEX({"Dimanche";"Lundi";"Mardi";"Mercredi";"Jeudi";"Vendredi";"Samedi"},WEEKDAY(AO4)) -> Vendredi | BA3: =INDEX({"Dimanche";"Lundi";"Mardi";"Mercredi";"Jeudi";"Vendredi";"Samedi"},WEEKDAY(BA4)) -> Samedi | BM3: =INDEX({"Dimanche";"Lundi";"Mardi";"Mercredi";"Jeudi";"Vendredi";"Samedi"},WEEKDAY(BM4)) -> Dimanche | BY3: =INDEX({"Dimanche";"Lundi";"Mardi";"Mercredi";"Jeudi";"Vendredi";"Samedi"},WEEKDAY(BY4)) -> Lundi | CK3: =INDEX({"Dimanche";"Lundi";"Mardi";"Mercredi";"Jeudi";"Vendredi";"Samedi"},WEEKDAY(CK4)) -> Mardi | CW3: =INDEX({"Dimanche";"Lundi";"Mardi";"Mercredi";"Jeudi";"Vendredi";"Samedi"},WEEKDAY(CW4)) -> Mercredi | DI3: =INDEX({"Dimanche";"Lundi";"Mardi";"Mercredi";"Jeudi";"Vendredi";"Samedi"},WEEKDAY(DI4)) -> Jeudi | DU3: =INDEX({"Dimanche";"Lundi";"Mardi";"Mercredi";"Jeudi";"Vendredi";"Samedi"},WEEKDAY(DU4)) -> Vendredi | EG3: =INDEX({"Dimanche";"Lundi";"Mardi";"Mercredi";"Jeudi";"Vendredi";"Samedi"},WEEKDAY(EG4)) -> Samedi | ES3: =INDEX({"Dimanche";"Lundi";"Mardi";"Mercredi";"Jeudi";"Vendredi";"Samedi"},WEEKDAY(ES4)) -> Dimanche | FE3: =INDEX({"Dimanche";"Lundi";"Mardi";"Mercredi";"Jeudi";"Vendredi";"Samedi"},WEEKDAY(FE4)) -> Lundi | FQ3: =INDEX({"Dimanche";"Lundi";"Mardi";"Mercredi";"Jeudi";"Vendredi";"Samedi"},WEEKDAY(FQ4)) -> Mardi | GC3: =INDEX({"Dimanche";"Lundi";"Mardi";"Mercredi";"Jeudi";"Vendredi";"Samedi"},WEEKDAY(GC4)) -> Mercredi | GO3: =INDEX({"Dimanche";"Lundi";"Mardi";"Mercredi";"Jeudi";"Vendredi";"Samedi"},WEEKDAY(GO4)) -> Jeudi | HA3: =INDEX({"Dimanche";"Lundi";"Mardi";"Mercredi";"Jeudi";"Vendredi";"Samedi"},WEEKDAY(HA4)) -> Vendredi | HM3: =INDEX({"Dimanche";"Lundi";"Mardi";"Mercredi";"Jeudi";"Vendredi";"Samedi"},WEEKDAY(HM4)) -> Samedi | HY3: =INDEX({"Dimanche";"Lundi";"Mardi";"Mercredi";"Jeudi";"Vendredi";"Samedi"},WEEKDAY(HY4)) -> Dimanche | IK3: =INDEX({"Dimanche";"Lundi";"Mardi";"Mercredi";"Jeudi";"Vendredi";"Samedi"},WEEKDAY(IK4)) -> Lundi | IW3: =INDEX({"Dimanche";"Lundi";"Mardi";"Mercredi";"Jeudi";"Vendredi";"Samedi"},WEEKDAY(IW4)) -> Mardi | JI3: =INDEX({"Dimanche";"Lundi";"Mardi";"Mercredi";"Jeudi";"Vendredi";"Samedi"},WEEKDAY(JI4)) -> Mercredi | JU3: =INDEX({"Dimanche";"Lundi";"Mardi";"Mercredi";"Jeudi";"Vendredi";"Samedi"},WEEKDAY(JU4)) -> Jeudi | KG3: =INDEX({"Dimanche";"Lundi";"Mardi";"Mercredi";"Jeudi";"Vendredi";"Samedi"},WEEKDAY(KG4)) -> Vendredi | KS3: =INDEX({"Dimanche";"Lundi";"Mardi";"Mercredi";"Jeudi";"Vendredi";"Samedi"},WEEKDAY(KS4)) -> Samedi | LE3: =INDEX({"Dimanche";"Lundi";"Mardi";"Mercredi";"Jeudi";"Vendredi";"Samedi"},WEEKDAY(LE4)) -> Dimanche | LQ3: =INDEX({"Dimanche";"Lundi";"Mardi";"Mercredi";"Jeudi";"Vendredi";"Samedi"},WEEKDAY(LQ4)) -> Lundi | MC3: =INDEX({"Dimanche";"Lundi";"Mardi";"Mercredi";"Jeudi";"Vendredi";"Samedi"},WEEKDAY(MC4)) -> Mardi | MO3: =INDEX({"Dimanche";"Lundi";"Mardi";"Mercredi";"Jeudi";"Vendredi";"Samedi"},WEEKDAY(MO4)) -> Mercredi | NA3: =INDEX({"Dimanche";"Lundi";"Mardi";"Mercredi";"Jeudi";"Vendredi";"Samedi"},WEEKDAY(NA4)) -> Jeudi
B4: Poste | C4: Event | D4: Notes | E4: =B1 -> 43466 | Q4: =E4+1 -> 43467 | AC4: =Q4+1 -> 43468 | AO4: =AC4+1 -> 43469 | BA4: =AO4+1 -> 43470 | BM4: =BA4+1 -> 43471 | BY4: =BM4+1 -> 43472 | CK4: =BY4+1 -> 43473 | CW4: =CK4+1 -> 43474 | DI4: =CW4+1 -> 43475 | DU4: =DI4+1 -> 43476 | EG4: =DU4+1 -> 43477 | ES4: =EG4+1 -> 43478 | FE4: =ES4+1 -> 43479 | FQ4: =FE4+1 -> 43480 | GC4: =FQ4+1 -> 43481 | GO4: =GC4+1 -> 43482 | HA4: =GO4+1 -> 43483 | HM4: =HA4+1 -> 43484 | HY4: =HM4+1 -> 43485 | IK4: =HY4+1 -> 43486 | IW4: =IK4+1 -> 43487 | JI4: =IW4+1 -> 43488 | JU4: =JI4+1 -> 43489 | KG4: =JU4+1 -> 43490 | KS4: =KG4+1 -> 43491 | LE4: =KS4+1 -> 43492 | LQ4: =LE4+1 -> 43493 | MC4: =LQ4+1 -> 43494 | MO4: =MC4+1 -> 43495 | NA4: =MO4+1 -> 43496 | NM4: TOTAL
H5: Détaille Horaires | L5: Coût Horaire | T5: Détaille Horaires | X5: Coût Horaire | AF5: Détaille Horaires | AJ5: Coût Horaire | AR5: Détaille Horaires | AV5: Coût Horaire | BD5: Détaille Horaires | BH5: Coût Horaire | BP5: Détaille Horaires | BT5: Coût Horaire | CB5: Détaille Horaires | CF5: Coût Horaire | CN5: Détaille Horaires | CR5: Coût Horaire | CZ5: Détaille Horaires | DD5: Coût Horaire | DL5: Détaille Horaires | DP5: Coût Horaire | DX5: Détaille Horaires | EB5: Coût Horaire | EJ5: Détaille Horaires | EN5: Coût Horaire | EV5: Détaille Horaires | EZ5: Coût Horaire | FH5: Détaille Horaires | FL5: Coût Horaire | FT5: Détaille Horaires | FX5: Coût Horaire | GF5: Détaille Horaires | GJ5: Coût Horaire | GR5: Détaille Horaires | GV5: Coût Horaire | HD5: Détaille Horaires | HH5: Coût Horaire | HP5: Détaille Horaires | HT5: Coût Horaire | IB5: Détaille Horaires | IF5: Coût Horaire | IN5: Détaille Horaires | IR5: Coût Horaire | IZ5: Détaille Horaires | JD5: Coût Horaire | JL5: Détaille Horaires | JP5: Coût Horaire | JX5: Détaille Horaires | KB5: Coût Horaire | KJ5: Détaille Horaires | KN5: Coût Horaire | KV5: Détaille Horaires | KZ5: Coût Horaire | LH5: Détaille Horaires | LL5: Coût Horaire | LT5: Détaille Horaires | LX5: Coût Horaire | MF5: Détaille Horaires | MJ5: Coût Horaire | MR5: Détaille Horaires | MV5: Coût Horaire | ND5: Détaille Horaires | NH5: Coût Horaire
G7: Total | H7: 06:00-21:00 | I7: 21:00-06:00 | J7: 06:00-07:00 | K7: >7:00 | L7: =IF(OR((E4)=[1]Données!$F$3,(E4)=[1]Données!$F$4,(E4)=[1]Données!$F$5,(E4)=[1]Données!$F$6,(E4)=[1]Données!$F$7,(E4)=[1]Données!$F$8,(E4)=[1]Données!$F$9,(E4)=[1]Données!$F$10,(E4)=[1]Données!$F$11),"X",0) -> X | M7: =IF(E3="Samedi","S",0) -> 0 | N7: =IF(E3="Dimanche","D",0) -> 0 | P7: S-Total | S7: Total | T7: 06:00-21:00 | U7: 21:00-06:00 | V7: 06:00-07:00 | W7: >7:00 | X7: =IF(OR((Q4)=[1]Données!$F$3,(Q4)=[1]Données!$F$4,(Q4)=[1]Données!$F$5,(Q4)=[1]Données!$F$6,(Q4)=[1]Données!$F$7,(Q4)=[1]Données!$F$8,(Q4)=[1]Données!$F$9,(Q4)=[1]Données!$F$10,(Q4)=[1]Données!$F$11),"X",0) -> 0 | Y7: =IF(Q3="Samedi","S",0) -> 0 | Z7: =IF(Q3="Dimanche","D",0) -> 0 | AB7: S-Total | AE7: Total | AF7: 06:00-21:00 | AG7: 21:00-06:00 | AH7: 06:00-07:00 | AI7: >7:00 | AJ7: =IF(OR((AC4)=[1]Données!$F$3,(AC4)=[1]Données!$F$4,(AC4)=[1]Données!$F$5,(AC4)=[1]Données!$F$6,(AC4)=[1]Données!$F$7,(AC4)=[1]Données!$F$8,(AC4)=[1]Données!$F$9,(AC4)=[1]Données!$F$10,(AC4)=[1]Données!$F$11),"X",0) -> 0 | AK7: =IF(AC3="Samedi","S",0) -> 0 | AL7: =IF(AC3="Dimanche","D",0) -> 0 | AN7: S-Total | AQ7: Total | AR7: 06:00-21:00 | AS7: 21:00-06:00 | AT7: 06:00-07:00 | AU7: >7:00 | AV7: =IF(OR((AO4)=[1]Données!$F$3,(AO4)=[1]Données!$F$4,(AO4)=[1]Données!$F$5,(AO4)=[1]Données!$F$6,(AO4)=[1]Données!$F$7,(AO4)=[1]Données!$F$8,(AO4)=[1]Données!$F$9,(AO4)=[1]Données!$F$10,(AO4)=[1]Données!$F$11),"X",0) -> 0 | AW7: =IF(AO3="Samedi","S",0) -> 0 | AX7: =IF(AO3="Dimanche","D",0) -> 0 | AZ7: S-Total | BC7: Total | BD7: 06:00-21:00 | BE7: 21:00-06:00 | BF7: 06:00-07:00 | BG7: >7:00 | BH7: =IF(OR((BA4)=[1]Données!$F$3,(BA4)=[1]Données!$F$4,(BA4)=[1]Données!$F$5,(BA4)=[1]Données!$F$6,(BA4)=[1]Données!$F$7,(BA4)=[1]Données!$F$8,(BA4)=[1]Données!$F$9,(BA4)=[1]Données!$F$10,(BA4)=[1]Données!$F$11),"X",0) -> 0 | BI7: =IF(BA3="Samedi","S",0) -> S | BJ7: =IF(BA3="Dimanche","D",0) -> 0 | BL7: S-Total | BO7: Total | BP7: 06:00-21:00 | BQ7: 21:00-06:00 | BR7: 06:00-07:00 | BS7: >7:00 | BT7: =IF(OR((BM4)=[1]Données!$F$3,(BM4)=[1]Données!$F$4,(BM4)=[1]Données!$F$5,(BM4)=[1]Données!$F$6,(BM4)=[1]Données!$F$7,(BM4)=[1]Données!$F$8,(BM4)=[1]Données!$F$9,(BM4)=[1]Données!$F$10,(BM4)=[1]Données!$F$11),"X",0) -> 0 | BU7: =IF(BM3="Samedi","S",0) -> 0 | BV7: =IF(BM3="Dimanche","D",0) -> D | BX7: S-Total | CA7: Total | CB7: 06:00-21:00 | CC7: 21:00-06:00 | CD7: 06:00-07:00 | CE7: >7:00 | CF7: =IF(OR((BY4)=[1]Données!$F$3,(BY4)=[1]Données!$F$4,(BY4)=[1]Données!$F$5,(BY4)=[1]Données!$F$6,(BY4)=[1]Données!$F$7,(BY4)=[1]Données!$F$8,(BY4)=[1]Données!$F$9,(BY4)=[1]Données!$F$10,(BY4)=[1]Données!$F$11),"X",0) -> 0 | CG7: =IF(BY3="Samedi","S",0) -> 0 | CH7: =IF(BY3="Dimanche","D",0) -> 0 | CJ7: S-Total | CM7: Total | CN7: 06:00-21:00 | CO7: 21:00-06:00 | CP7: 06:00-07:00 | CQ7: >7:00 | CR7: =IF(OR((CK4)=[1]Données!$F$3,(CK4)=[1]Données!$F$4,(CK4)=[1]Données!$F$5,(CK4)=[1]Données!$F$6,(CK4)=[1]Données!$F$7,(CK4)=[1]Données!$F$8,(CK4)=[1]Données!$F$9,(CK4)=[1]Données!$F$10,(CK4)=[1]Données!$F$11),"X",0) -> 0 | CS7: =IF(CK3="Samedi","S",0) -> 0 | CT7: =IF(CK3="Dimanche","D",0) -> 0 | CV7: S-Total | CY7: Total | CZ7: 06:00-21:00 | DA7: 21:00-06:00 | DB7: 06:00-07:00 | DC7: >7:00 | DD7: =IF(OR((CW4)=[1]Données!$F$3,(CW4)=[1]Données!$F$4,(CW4)=[1]Données!$F$5,(CW4)=[1]Données!$F$6,(CW4)=[1]Données!$F$7,(CW4)=[1]Données!$F$8,(CW4)=[1]Données!$F$9,(CW4)=[1]Données!$F$10,(CW4)=[1]Données!$F$11),"X",0) -> 0 | DE7: =IF(CW3="Samedi","S",0) -> 0 | DF7: =IF(CW3="Dimanche","D",0) -> 0 | DH7: S-Total | DK7: Total | DL7: 06:00-21:00 | DM7: 21:00-06:00 | DN7: 06:00-07:00 | DO7: >7:00 | DP7: =IF(OR((DI4)=[1]Données!$F$3,(DI4)=[1]Données!$F$4,(DI4)=[1]Données!$F$5,(DI4)=[1]Données!$F$6,(DI4)=[1]Données!$F$7,(DI4)=[1]Données!$F$8,(DI4)=[1]Données!$F$9,(DI4)=[1]Données!$F$10,(DI4)=[1]Données!$F$11),"X",0) -> 0 | DQ7: =IF(DI3="Samedi","S",0) -> 0 | DR7: =IF(DI3="Dimanche","D",0) -> 0 | DT7: S-Total | DW7: Total | DX7: 06:00-21:00 | DY7: 21:00-06:00 | DZ7: 06:00-07:00 | EA7: >7:00 | EB7: =IF(OR((DU4)=[1]Données!$F$3,(DU4)=[1]Données!$F$4,(DU4)=[1]Données!$F$5,(DU4)=[1]Données!$F$6,(DU4)=[1]Données!$F$7,(DU4)=[1]Données!$F$8,(DU4)=[1]Données!$F$9,(DU4)=[1]Données!$F$10,(DU4)=[1]Données!$F$11),"X",0) -> 0 | EC7: =IF(DU3="Samedi","S",0) -> 0 | ED7: =IF(DU3="Dimanche","D",0) -> 0 | EF7: S-Total | EI7: Total | EJ7: 06:00-21:00 | EK7: 21:00-06:00 | EL7: 06:00-07:00 | EM7: >7:00 | EN7: =IF(OR((EG4)=[1]Données!$F$3,(EG4)=[1]Données!$F$4,(EG4)=[1]Données!$F$5,(EG4)=[1]Données!$F$6,(EG4)=[1]Données!$F$7,(EG4)=[1]Données!$F$8,(EG4)=[1]Données!$F$9,(EG4)=[1]Données!$F$10,(EG4)=[1]Données!$F$11),"X",0) -> 0 | EO7: =IF(EG3="Samedi","S",0) -> S | EP7: =IF(EG3="Dimanche","D",0) -> 0 | ER7: S-Total | EU7: Total | EV7: 06:00-21:00 | EW7: 21:00-06:00 | EX7: 06:00-07:00 | EY7: >7:00 | EZ7: =IF(OR((ES4)=[1]Données!$F$3,(ES4)=[1]Données!$F$4,(ES4)=[1]Données!$F$5,(ES4)=[1]Données!$F$6,(ES4)=[1]Données!$F$7,(ES4)=[1]Données!$F$8,(ES4)=[1]Données!$F$9,(ES4)=[1]Données!$F$10,(ES4)=[1]Données!$F$11),"X",0) -> 0 | FA7: =IF(ES3="Samedi","S",0) -> 0 | FB7: =IF(ES3="Dimanche","D",0) -> D | FD7: S-Total | FG7: Total | FH7: 06:00-21:00 | FI7: 21:00-06:00 | FJ7: 06:00-07:00 | FK7: >7:00 | FL7: =IF(OR((FE4)=[1]Données!$F$3,(FE4)=[1]Données!$F$4,(FE4)=[1]Données!$F$5,(FE4)=[1]Données!$F$6,(FE4)=[1]Données!$F$7,(FE4)=[1]Données!$F$8,(FE4)=[1]Données!$F$9,(FE4)=[1]Données!$F$10,(FE4)=[1]Données!$F$11),"X",0) -> 0 | FM7: =IF(FE3="Samedi","S",0) -> 0 | FN7: =IF(FE3="Dimanche","D",0) -> 0 | FP7: S-Total | FS7: Total | FT7: 06:00-21:00 | FU7: 21:00-06:00 | FV7: 06:00-07:00 | FW7: >7:00 | FX7: =IF(OR((FQ4)=[1]Données!$F$3,(FQ4)=[1]Données!$F$4,(FQ4)=[1]Données!$F$5,(FQ4)=[1]Données!$F$6,(FQ4)=[1]Données!$F$7,(FQ4)=[1]Données!$F$8,(FQ4)=[1]Données!$F$9,(FQ4)=[1]Données!$F$10,(FQ4)=[1]Données!$F$11),"X",0) -> 0 | FY7: =IF(FQ3="Samedi","S",0) -> 0 | FZ7: =IF(FQ3="Dimanche","D",0) -> 0 | GB7: S-Total | GE7: Total | GF7: 06:00-21:00 | GG7: 21:00-06:00 | GH7: 06:00-07:00 | GI7: >7:00 | GJ7: =IF(OR((GC4)=[1]Données!$F$3,(GC4)=[1]Données!$F$4,(GC4)=[1]Données!$F$5,(GC4)=[1]Données!$F$6,(GC4)=[1]Données!$F$7,(GC4)=[1]Données!$F$8,(GC4)=[1]Données!$F$9,(GC4)=[1]Données!$F$10,(GC4)=[1]Données!$F$11),"X",0) -> 0 | GK7: =IF(GC3="Samedi","S",0) -> 0 | GL7: =IF(GC3="Dimanche","D",0) -> 0 | GN7: S-Total | GQ7: Total | GR7: 06:00-21:00 | GS7: 21:00-06:00 | GT7: 06:00-07:00 | GU7: >7:00 | GV7: =IF(OR((GO4)=[1]Données!$F$3,(GO4)=[1]Données!$F$4,(GO4)=[1]Données!$F$5,(GO4)=[1]Données!$F$6,(GO4)=[1]Données!$F$7,(GO4)=[1]Données!$F$8,(GO4)=[1]Données!$F$9,(GO4)=[1]Données!$F$10,(GO4)=[1]Données!$F$11),"X",0) -> 0 | GW7: =IF(GO3="Samedi","S",0) -> 0 | GX7: =IF(GO3="Dimanche","D",0) -> 0 | GZ7: S-Total | HC7: Total | HD7: 06:00-21:00 | HE7: 21:00-06:00 | HF7: 06:00-07:00 | HG7: >7:00 | HH7: =IF(OR((HA4)=[1]Données!$F$3,(HA4)=[1]Données!$F$4,(HA4)=[1]Données!$F$5,(HA4)=[1]Données!$F$6,(HA4)=[1]Données!$F$7,(HA4)=[1]Données!$F$8,(HA4)=[1]Données!$F$9,(HA4)=[1]Données!$F$10,(HA4)=[1]Données!$F$11),"X",0) -> 0 | HI7: =IF(HA3="Samedi","S",0) -> 0 | HJ7: =IF(HA3="Dimanche","D",0) -> 0 | HL7: S-Total | HO7: Total | HP7: 06:00-21:00 | HQ7: 21:00-06:00 | HR7: 06:00-07:00 | HS7: >7:00 | HT7: =IF(OR((HM4)=[1]Données!$F$3,(HM4)=[1]Données!$F$4,(HM4)=[1]Données!$F$5,(HM4)=[1]Données!$F$6,(HM4)=[1]Données!$F$7,(HM4)=[1]Données!$F$8,(HM4)=[1]Données!$F$9,(HM4)=[1]Données!$F$10,(HM4)=[1]Données!$F$11),"X",0) -> 0 | HU7: =IF(HM3="Samedi","S",0) -> S | HV7: =IF(HM3="Dimanche","D",0) -> 0 | HX7: S-Total | IA7: Total | IB7: 06:00-21:00 | IC7: 21:00-06:00 | ID7: 06:00-07:00 | IE7: >7:00 | IF7: =IF(OR((HY4)=[1]Données!$F$3,(HY4)=[1]Données!$F$4,(HY4)=[1]Données!$F$5,(HY4)=[1]Données!$F$6,(HY4)=[1]Données!$F$7,(HY4)=[1]Données!$F$8,(HY4)=[1]Données!$F$9,(HY4)=[1]Données!$F$10,(HY4)=[1]Données!$F$11),"X",0) -> 0 | IG7: =IF(HY3="Samedi","S",0) -> 0 | IH7: =IF(HY3="Dimanche","D",0) -> D | IJ7: S-Total | IM7: Total | IN7: 06:00-21:00 | IO7: 21:00-06:00 | IP7: 06:00-07:00 | IQ7: >7:00 | IR7: =IF(OR((IK4)=[1]Données!$F$3,(IK4)=[1]Données!$F$4,(IK4)=[1]Données!$F$5,(IK4)=[1]Données!$F$6,(IK4)=[1]Données!$F$7,(IK4)=[1]Données!$F$8,(IK4)=[1]Données!$F$9,(IK4)=[1]Données!$F$10,(IK4)=[1]Données!$F$11),"X",0) -> 0 | IS7: =IF(IK3="Samedi","S",0) -> 0 | IT7: =IF(IK3="Dimanche","D",0) -> 0 | IV7: S-Total | IY7: Total | IZ7: 06:00-21:00 | JA7: 21:00-06:00 | JB7: 06:00-07:00 | JC7: >7:00 | JD7: =IF(OR((IW4)=[1]Données!$F$3,(IW4)=[1]Données!$F$4,(IW4)=[1]Données!$F$5,(IW4)=[1]Données!$F$6,(IW4)=[1]Données!$F$7,(IW4)=[1]Données!$F$8,(IW4)=[1]Données!$F$9,(IW4)=[1]Données!$F$10,(IW4)=[1]Données!$F$11),"X",0) -> 0 | JE7: =IF(IW3="Samedi","S",0) -> 0 | JF7: =IF(IW3="Dimanche","D",0) -> 0 | JH7: S-Total | JK7: Total | JL7: 06:00-21:00 | JM7: 21:00-06:00 | JN7: 06:00-07:00 | JO7: >7:00 | JP7: =IF(OR((JI4)=[1]Données!$F$3,(JI4)=[1]Données!$F$4,(JI4)=[1]Données!$F$5,(JI4)=[1]Données!$F$6,(JI4)=[1]Données!$F$7,(JI4)=[1]Données!$F$8,(JI4)=[1]Données!$F$9,(JI4)=[1]Données!$F$10,(JI4)=[1]Données!$F$11),"X",0) -> 0 | JQ7: =IF(JI3="Samedi","S",0) -> 0 | JR7: =IF(JI3="Dimanche","D",0) -> 0 | JT7: S-Total | JW7: Total | JX7: 06:00-21:00 | JY7: 21:00-06:00 | JZ7: 06:00-07:00 | KA7: >7:00 | KB7: =IF(OR((JU4)=[1]Données!$F$3,(JU4)=[1]Données!$F$4,(JU4)=[1]Données!$F$5,(JU4)=[1]Données!$F$6,(JU4)=[1]Données!$F$7,(JU4)=[1]Données!$F$8,(JU4)=[1]Données!$F$9,(JU4)=[1]Données!$F$10,(JU4)=[1]Données!$F$11),"X",0) -> 0 | KC7: =IF(JU3="Samedi","S",0) -> 0 | KD7: =IF(JU3="Dimanche","D",0) -> 0 | KF7: S-Total | KI7: Total | KJ7: 06:00-21:00 | KK7: 21:00-06:00 | KL7: 06:00-07:00 | KM7: >7:00 | KN7: =IF(OR((KG4)=[1]Données!$F$3,(KG4)=[1]Données!$F$4,(KG4)=[1]Données!$F$5,(KG4)=[1]Données!$F$6,(KG4)=[1]Données!$F$7,(KG4)=[1]Données!$F$8,(KG4)=[1]Données!$F$9,(KG4)=[1]Données!$F$10,(KG4)=[1]Données!$F$11),"X",0) -> 0 | KO7: =IF(KG3="Samedi","S",0) -> 0 | KP7: =IF(KG3="Dimanche","D",0) -> 0 | KR7: S-Total | KU7: Total | KV7: 06:00-21:00 | KW7: 21:00-06:00 | KX7: 06:00-07:00 | KY7: >7:00 | KZ7: =IF(OR((KS4)=[1]Données!$F$3,(KS4)=[1]Données!$F$4,(KS4)=[1]Données!$F$5,(KS4)=[1]Données!$F$6,(KS4)=[1]Données!$F$7,(KS4)=[1]Données!$F$8,(KS4)=[1]Données!$F$9,(KS4)=[1]Données!$F$10,(KS4)=[1]Données!$F$11),"X",0) -> 0 | LA7: =IF(KS3="Samedi","S",0) -> S | LB7: =IF(KS3="Dimanche","D",0) -> 0 | LD7: S-Total | LG7: Total | LH7: 06:00-21:00 | LI7: 21:00-06:00 | LJ7: 06:00-07:00 | LK7: >7:00 | LL7: =IF(OR((LE4)=[1]Données!$F$3,(LE4)=[1]Données!$F$4,(LE4)=[1]Données!$F$5,(LE4)=[1]Données!$F$6,(LE4)=[1]Données!$F$7,(LE4)=[1]Données!$F$8,(LE4)=[1]Données!$F$9,(LE4)=[1]Données!$F$10,(LE4)=[1]Données!$F$11),"X",0) -> 0 | LM7: =IF(LE3="Samedi","S",0) -> 0 | LN7: =IF(LE3="Dimanche","D",0) -> D | LP7: S-Total | LS7: Total | LT7: 06:00-21:00 | LU7: 21:00-06:00 | LV7: 06:00-07:00 | LW7: >7:00 | LX7: =IF(OR((LQ4)=[1]Données!$F$3,(LQ4)=[1]Données!$F$4,(LQ4)=[1]Données!$F$5,(LQ4)=[1]Données!$F$6,(LQ4)=[1]Données!$F$7,(LQ4)=[1]Données!$F$8,(LQ4)=[1]Données!$F$9,(LQ4)=[1]Données!$F$10,(LQ4)=[1]Données!$F$11),"X",0) -> 0 | LY7: =IF(LQ3="Samedi","S",0) -> 0 | LZ7: =IF(LQ3="Dimanche","D",0) -> 0 | MB7: S-Total | ME7: Total | MF7: 06:00-21:00 | MG7: 21:00-06:00 | MH7: 06:00-07:00 | MI7: >7:00 | MJ7: =IF(OR((MC4)=[1]Données!$F$3,(MC4)=[1]Données!$F$4,(MC4)=[1]Données!$F$5,(MC4)=[1]Données!$F$6,(MC4)=[1]Données!$F$7,(MC4)=[1]Données!$F$8,(MC4)=[1]Données!$F$9,(MC4)=[1]Données!$F$10,(MC4)=[1]Données!$F$11),"X",0) -> 0 | MK7: =IF(MC3="Samedi","S",0) -> 0 | ML7: =IF(MC3="Dimanche","D",0) -> 0 | MN7: S-Total | MQ7: Total | MR7: 06:00-21:00 | MS7: 21:00-06:00 | MT7: 06:00-07:00 | MU7: >7:00 | MV7: =IF(OR((MO4)=[1]Données!$F$3,(MO4)=[1]Données!$F$4,(MO4)=[1]Données!$F$5,(MO4)=[1]Données!$F$6,(MO4)=[1]Données!$F$7,(MO4)=[1]Données!$F$8,(MO4)=[1]Données!$F$9,(MO4)=[1]Données!$F$10,(MO4)=[1]Données!$F$11),"X",0) -> 0 | MW7: =IF(MO3="Samedi","S",0) -> 0 | MX7: =IF(MO3="Dimanche","D",0) -> 0 | MZ7: S-Total | NC7: Total | ND7: 06:00-21:00 | NE7: 21:00-06:00 | NF7: 06:00-07:00 | NG7: >7:00 | NH7: =IF(OR((NA4)=[1]Données!$F$3,(NA4)=[1]Données!$F$4,(NA4)=[1]Données!$F$5,(NA4)=[1]Données!$F$6,(NA4)=[1]Données!$F$7,(NA4)=[1]Données!$F$8,(NA4)=[1]Données!$F$9,(NA4)=[1]Données!$F$10,(NA4)=[1]Données!$F$11),"X",0) -> 0 | NI7: =IF(NA3="Samedi","S",0) -> 0 | NJ7: =IF(NA3="Dimanche","D",0) -> 0 | NL7: S-Total
A8: 1 | B8: ADS | C8: Expo 1 | E8: 0.91666667 | F8: 0.29166667 | G8: =24*(MOD(F8-E8,1)) -> 9 | H8: =IF(E8<(21/24),(MIN(21-E8*24,G8)),0) -> 0 | I8: =IF(OR(E8>=21/24,H8<>0),MIN(9-MAX(0,E8*24-21),G8-H8),0) -> 8 | J8: =MAX(0,MIN(1,G8-SUM($H8:I8))) -> 1 | K8: =MAX(0,G8-SUM(H8:J8)) -> 0 | L8: =_xlfn.IFS(L$7="X",H$8*[1]Données!$H$23,E$3="Samedi",H$8*[1]Données!$D$23,E$3="Dimanche",H$8*[1]Données!$F23,$B8="ADS",H$8*[1]Données!$B$23) -> 0 | M8: =_xlfn.IFS(L$7="X",I$8*[1]Données!$I$23,E$3="Samedi",I$8*[1]Données!$D$23,E$3="Dimanche",I$8*[1]Données!$F$23,$B8="ADS",I$8*[1]Données!$C$23) -> 422.72 | N8: =_xlfn.IFS(L$7="X",J$8*[1]Données!$I$23,E$3="Samedi",J$8*[1]Données!$D$23,E$3="Dimanche",J$8*[1]Données!$F$23,$B8="ADS",J$8*[1]Données!$C$23) -> 52.84 | O8: =_xlfn.IFS(L$7="X",K$8*[1]Données!$H$23,E$3="Samedi",K8*[1]Données!$D$23,E$3="Dimanche",K$8*[1]Données!$F$23,$B8="ADS",K$8*[1]Données!$B$23) -> 0 | P8: =IF($B8="ADS",SUM(L8:O8),0) -> 475.56 | Q8: 0.70833333 | R8: 0.33333333 | S8: =24*(MOD(R8-Q8,1)) -> 15 | T8: =IF(Q8<(21/24),(MIN(21-Q8*24,S8)),0) -> 4 | U8: =IF(OR(Q8>=21/24,T8<>0),MIN(9-MAX(0,Q8*24-21),S8-T8),0) -> 9 | V8: =MAX(0,MIN(1,S8-SUM($T8:U8))) -> 1 | W8: =MAX(0,S8-SUM(T8:V8)) -> 1 | X8: =_xlfn.IFS(X$7="X",T$8*[1]Données!$H$23,Q$3="Samedi",T$8*[1]Données!$D$23,Q$3="Dimanche",T$8*[1]Données!$F23,$B8="ADS",T$8*[1]Données!$B$23) -> 95.2 | Y8: =_xlfn.IFS(X$7="X",U$8*[1]Données!$I$23,Q$3="Samedi",U$8*[1]Données!$D$23,Q$3="Dimanche",U$8*[1]Données!$F$23,$B8="ADS",U$8*[1]Données!$C$23) -> 237.78 | Z8: =_xlfn.IFS(X$7="X",V$8*[1]Données!$I$23,Q$3="Samedi",V$8*[1]Données!$D$23,Q$3="Dimanche",V$8*[1]Données!$F$23,$B8="ADS",V$8*[1]Données!$C$23) -> 26.42 | AA8: =_xlfn.IFS(X$7="X",W$8*[1]Données!$H$23,Q$3="Samedi",W8*[1]Données!$D$23,Q$3="Dimanche",W$8*[1]Données!$F$23,$B8="ADS",W$8*[1]Données!$B$23) -> 23.8 | AB8: =IF($B8="ADS",SUM(X8:AA8),0) -> 383.2 | AC8: 0.70833333 | AD8: 0.33333333 | AE8: =24*(MOD(AD8-AC8,1)) -> 15 | AF8: =IF(AC8<(21/24),(MIN(21-AC8*24,AE8)),0) -> 4 | AG8: =IF(OR(AC8>=21/24,AF8<>0),MIN(9-MAX(0,AC8*24-21),AE8-AF8),0) -> 9 | AH8: =MAX(0,MIN(1,AE8-SUM($AF8:AG8))) -> 1 | AI8: =MAX(0,AE8-SUM(AF8:AH8)) -> 1 | AJ8: =_xlfn.IFS(AJ$7="X",AF$8*[1]Données!$H$23,AC$3="Samedi",AF$8*[1]Données!$D$23,AC$3="Dimanche",AF$8*[1]Données!$F23,$B8="ADS",AF$8*[1]Données!$B$23) -> 95.2 | AK8: =_xlfn.IFS(AJ$7="X",AG$8*[1]Données!$I$23,AC$3="Samedi",AG$8*[1]Données!$D$23,AC$3="Dimanche",AG$8*[1]Données!$F$23,$B8="ADS",AG$8*[1]Données!$C$23) -> 237.78 | AL8: =_xlfn.IFS(AJ$7="X",AH$8*[1]Données!$I$23,AC$3="Samedi",AH$8*[1]Données!$D$23,AC$3="Dimanche",AH$8*[1]Données!$F$23,$B8="ADS",AH$8*[1]Données!$C$23) -> 26.42 | AM8: =_xlfn.IFS(AJ$7="X",AI$8*[1]Données!$H$23,AC$3="Samedi",AI8*[1]Données!$D$23,AC$3="Dimanche",AI$8*[1]Données!$F$23,$B8="ADS",AI$8*[1]Données!$B$23) -> 23.8 | AN8: =IF($B8="ADS",SUM(AJ8:AM8),0) -> 383.2 | AO8: 0.70833333 | AP8: 0.33333333 | AQ8: =24*(MOD(AP8-AO8,1)) -> 15 | AR8: =IF(AO8<(21/24),(MIN(21-AO8*24,AQ8)),0) -> 4 | AS8: =IF(OR(AO8>=21/24,AR8<>0),MIN(9-MAX(0,AO8*24-21),AQ8-AR8),0) -> 9 | AT8: =MAX(0,MIN(1,AQ8-SUM($AR8:AS8))) -> 1 | AU8: =MAX(0,AQ8-SUM(AR8:AT8)) -> 1 | AV8: =_xlfn.IFS(AV$7="X",AR$8*[1]Données!$H$23,AO$3="Samedi",AR$8*[1]Données!$D$23,AO$3="Dimanche",AR$8*[1]Données!$F23,$B8="ADS",AR$8*[1]Données!$B$23) -> 95.2 | AW8: =_xlfn.IFS(AV$7="X",AS$8*[1]Données!$I$23,AO$3="Samedi",AS$8*[1]Données!$D$23,AO$3="Dimanche",AS$8*[1]Données!$F$23,$B8="ADS",AS$8*[1]Données!$C$23) -> 237.78 | AX8: =_xlfn.IFS(AV$7="X",AT$8*[1]Données!$I$23,AO$3="Samedi",AT$8*[1]Données!$D$23,AO$3="Dimanche",AT$8*[1]Données!$F$23,$B8="ADS",AT$8*[1]Données!$C$23) -> 26.42 | AY8: =_xlfn.IFS(AV$7="X",AU$8*[1]Données!$H$23,AO$3="Samedi",AU8*[1]Données!$D$23,AO$3="Dimanche",AU$8*[1]Données!$F$23,$B8="ADS",AU$8*[1]Données!$B$23) -> 23.8 | AZ8: =IF($B8="ADS",SUM(AV8:AY8),0) -> 383.2 | BA8: 0.70833333 | BB8: 0.33333333 | BC8: =24*(MOD(BB8-BA8,1)) -> 15 | BD8: =IF(BA8<(21/24),(MIN(21-BA8*24,BC8)),0) -> 4 | BE8: =IF(OR(BA8>=21/24,BD8<>0),MIN(9-MAX(0,BA8*24-21),BC8-BD8),0) -> 9 | BF8: =MAX(0,MIN(1,BC8-SUM($BD8:BE8))) -> 1 | BG8: =MAX(0,BC8-SUM(BD8:BF8)) -> 1 | BH8: =_xlfn.IFS(BH$7="X",BD$8*[1]Données!$H$23,BA$3="Samedi",BD$8*[1]Données!$D$23,BA$3="Dimanche",BD$8*[1]Données!$F23,$B8="ADS",BD$8*[1]Données!$B$23) -> 95.2 | BI8: =_xlfn.IFS(BH$7="X",BE$8*[1]Données!$I$23,BA$3="Samedi",BE$8*[1]Données!$D$23,BA$3="Dimanche",BE$8*[1]Données!$F$23,$B8="ADS",BE$8*[1]Données!$C$23) -> 214.2 | BJ8: =_xlfn.IFS(BH$7="X",BF$8*[1]Données!$I$23,BA$3="Samedi",BF$8*[1]Données!$D$23,BA$3="Dimanche",BF$8*[1]Données!$F$23,$B8="ADS",BF$8*[1]Données!$C$23) -> 23.8 | BK8: =_xlfn.IFS(BH$7="X",BG$8*[1]Données!$H$23,BA$3="Samedi",BG8*[1]Données!$D$23,BA$3="Dimanche",BG$8*[1]Données!$F$23,$B8="ADS",BG$8*[1]Données!$B$23) -> 23.8 | BL8: =IF($B8="ADS",SUM(BH8:BK8),0) -> 357 | BM8: 0.70833333 | BN8: 0.33333333 | BO8: =24*(MOD(BN8-BM8,1)) -> 15 | BP8: =IF(BM8<(21/24),(MIN(21-BM8*24,BO8)),0) -> 4 | BQ8: =IF(OR(BM8>=21/24,BP8<>0),MIN(9-MAX(0,BM8*24-21),BO8-BP8),0) -> 9 | BR8: =MAX(0,MIN(1,BO8-SUM($BP8:BQ8))) -> 1 | BS8: =MAX(0,BO8-SUM(BP8:BR8)) -> 1 | BT8: =_xlfn.IFS(BT$7="X",BP$8*[1]Données!$H$23,BM$3="Samedi",BP$8*[1]Données!$D$23,BM$3="Dimanche",BP$8*[1]Données!$F23,$B8="ADS",BP$8*[1]Données!$B$23) -> 104.72 | BU8: =_xlfn.IFS(BT$7="X",BQ$8*[1]Données!$I$23,BM$3="Samedi",BQ$8*[1]Données!$D$23,BM$3="Dimanche",BQ$8*[1]Données!$F$23,$B8="ADS",BQ$8*[1]Données!$C$23) -> 235.62 | BV8: =_xlfn.IFS(BT$7="X",BR$8*[1]Données!$I$23,BM$3="Samedi",BR$8*[1]Données!$D$23,BM$3="Dimanche",BR$8*[1]Données!$F$23,$B8="ADS",BR$8*[1]Données!$C$23) -> 26.18 | BW8: =_xlfn.IFS(BT$7="X",BS$8*[1]Données!$H$23,BM$3="Samedi",BS8*[1]Données!$D$23,BM$3="Dimanche",BS$8*[1]Données!$F$23,$B8="ADS",BS$8*[1]Données!$B$23) -> 26.18 | BX8: =IF($B8="ADS",SUM(BT8:BW8),0) -> 392.7 | BY8: 0.70833333 | BZ8: 0.33333333 | CA8: =24*(MOD(BZ8-BY8,1)) -> 15 | CB8: =IF(BY8<(21/24),(MIN(21-BY8*24,CA8)),0) -> 4 | CC8: =IF(OR(BY8>=21/24,CB8<>0),MIN(9-MAX(0,BY8*24-21),CA8-CB8),0) -> 9 | CD8: =MAX(0,MIN(1,CA8-SUM($BP8:CC8))) -> 0 | CE8: =MAX(0,CA8-SUM(CB8:CD8)) -> 2 | CF8: =_xlfn.IFS(CF$7="X",CB$8*[1]Données!$H$23,BY$3="Samedi",CB$8*[1]Données!$D$23,BY$3="Dimanche",CB$8*[1]Données!$F23,$B8="ADS",CB$8*[1]Données!$B$23) -> 95.2 | CG8: =_xlfn.IFS(CF$7="X",CC$8*[1]Données!$I$23,BY$3="Samedi",CC$8*[1]Données!$D$23,BY$3="Dimanche",CC$8*[1]Données!$F$23,$B8="ADS",CC$8*[1]Données!$C$23) -> 237.78 | CH8: =_xlfn.IFS(CF$7="X",CD$8*[1]Données!$I$23,BY$3="Samedi",CD$8*[1]Données!$D$23,BY$3="Dimanche",CD$8*[1]Données!$F$23,$B8="ADS",CD$8*[1]Données!$C$23) -> 0 | CI8: =_xlfn.IFS(CF$7="X",CE$8*[1]Données!$H$23,BY$3="Samedi",CE8*[1]Données!$D$23,BY$3="Dimanche",CE$8*[1]Données!$F$23,$B8="ADS",CE$8*[1]Données!$B$23) -> 47.6 | CJ8: =IF($B8="ADS",SUM(CF8:CI8),0) -> 380.58 | CK8: 0.70833333 | CL8: 0.33333333 | CM8: =24*(MOD(CL8-CK8,1)) -> 15 | CN8: =IF(CK8<(21/24),(MIN(21-CK8*24,CM8)),0) -> 4 | CO8: =IF(OR(CK8>=21/24,CN8<>0),MIN(9-MAX(0,CK8*24-21),CM8-CN8),0) -> 9 | CP8: =MAX(0,MIN(1,CM8-SUM(CN8:CO8))) -> 1 | CQ8: =MAX(0,CM8-SUM(CN8:CP8)) -> 1 | CR8: =_xlfn.IFS(CR$7="X",CN$8*[1]Données!$H$23,CK$3="Samedi",CN$8*[1]Données!$D$23,CK$3="Dimanche",CN$8*[1]Données!$F23,$B8="ADS",CN$8*[1]Données!$B$23) -> 95.2 | CS8: =_xlfn.IFS(CR$7="X",CO$8*[1]Données!$I$23,CK$3="Samedi",CO$8*[1]Données!$D$23,CK$3="Dimanche",CO$8*[1]Données!$F$23,$B8="ADS",CO$8*[1]Données!$C$23) -> 237.78 | CT8: =_xlfn.IFS(CR$7="X",CP$8*[1]Données!$I$23,CK$3="Samedi",CP$8*[1]Données!$D$23,CK$3="Dimanche",CP$8*[1]Données!$F$23,$B8="ADS",CP$8*[1]Données!$C$23) -> 26.42 | CU8: =_xlfn.IFS(CR$7="X",CQ$8*[1]Données!$H$23,CK$3="Samedi",CQ8*[1]Données!$D$23,CK$3="Dimanche",CQ$8*[1]Données!$F$23,$B8="ADS",CQ$8*[1]Données!$B$23) -> 23.8 | CV8: =IF($B8="ADS",SUM(CR8:CU8),0) -> 383.2 | CW8: 0.70833333 | CX8: 0.33333333 | CY8: =24*(MOD(CX8-CW8,1)) -> 15 | CZ8: =IF(CW8<(21/24),(MIN(21-CW8*24,CY8)),0) -> 4 | DA8: =IF(OR(CW8>=21/24,CZ8<>0),MIN(9-MAX(0,CW8*24-21),CY8-CZ8),0) -> 9 | DB8: =MAX(0,MIN(1,CY8-SUM(CZ8:DA8))) -> 1 | DC8: =MAX(0,CY8-SUM(CZ8:DB8)) -> 1 | DD8: =_xlfn.IFS(DD$7="X",CZ$8*[1]Données!$H$23,CW$3="Samedi",CZ$8*[1]Données!$D$23,CW$3="Dimanche",CZ$8*[1]Données!$F23,$B8="ADS",CZ$8*[1]Données!$B$23) -> 95.2 | DE8: =_xlfn.IFS(DD$7="X",DA$8*[1]Données!$I$23,CW$3="Samedi",DA$8*[1]Données!$D$23,CW$3="Dimanche",DA$8*[1]Données!$F$23,$B8="ADS",DA$8*[1]Données!$C$23) -> 237.78 | DF8: =_xlfn.IFS(DD$7="X",DB$8*[1]Données!$I$23,CW$3="Samedi",DB$8*[1]Données!$D$23,CW$3="Dimanche",DB$8*[1]Données!$F$23,$B8="ADS",DB$8*[1]Données!$C$23) -> 26.42 | DG8: =_xlfn.IFS(DD$7="X",DC$8*[1]Données!$H$23,CW$3="Samedi",DC8*[1]Données!$D$23,CW$3="Dimanche",DC$8*[1]Données!$F$23,$B8="ADS",DC$8*[1]Données!$B$23) -> 23.8 | DH8: =IF($B8="ADS",SUM(DD8:DG8),0) -> 383.2 | DI8: 0.70833333 | DJ8: 0.33333333 | DK8: =24*(MOD(DJ8-DI8,1)) -> 15 | DL8: =IF(DI8<(21/24),(MIN(21-DI8*24,DK8)),0) -> 4 | DM8: =IF(OR(DI8>=21/24,DL8<>0),MIN(9-MAX(0,DI8*24-21),DK8-DL8),0) -> 9 | DN8: =MAX(0,MIN(1,DK8-SUM($DL8:DM8))) -> 1 | DO8: =MAX(0,DK8-SUM(DL8:DN8)) -> 1 | DP8: =_xlfn.IFS(DP$7="X",DL$8*[1]Données!$H$23,DI$3="Samedi",DL$8*[1]Données!$D$23,DI$3="Dimanche",DL$8*[1]Données!$F23,$B8="ADS",DL$8*[1]Données!$B$23) -> 95.2 | DQ8: =_xlfn.IFS(DP$7="X",DM$8*[1]Données!$I$23,DI$3="Samedi",DM$8*[1]Données!$D$23,DI$3="Dimanche",DM$8*[1]Données!$F$23,$B8="ADS",DM$8*[1]Données!$C$23) -> 237.78 | DR8: =_xlfn.IFS(DP$7="X",DN$8*[1]Données!$I$23,DI$3="Samedi",DN$8*[1]Données!$D$23,DI$3="Dimanche",DN$8*[1]Données!$F$23,$B8="ADS",DN$8*[1]Données!$C$23) -> 26.42 | DS8: =_xlfn.IFS(DP$7="X",DO$8*[1]Données!$H$23,DI$3="Samedi",DO8*[1]Données!$D$23,DI$3="Dimanche",DO$8*[1]Données!$F$23,$B8="ADS",DO$8*[1]Données!$B$23) -> 23.8 | DT8: =IF($B8="ADS",SUM(DP8:DS8),0) -> 383.2 | DU8: 0.70833333 | DV8: 0.33333333 | DW8: =24*(MOD(DV8-DU8,1)) -> 15 | DX8: =IF(DU8<(21/24),(MIN(21-DU8*24,DW8)),0) -> 4 | DY8: =IF(OR(DU8>=21/24,DX8<>0),MIN(9-MAX(0,DU8*24-21),DW8-DX8),0) -> 9 | DZ8: =MAX(0,MIN(1,DW8-SUM(DX8:DY8))) -> 1 | EA8: =MAX(0,DW8-SUM(DX8:DZ8)) -> 1 | EB8: =_xlfn.IFS(EB$7="X",DX$8*[1]Données!$H$23,DU$3="Samedi",DX$8*[1]Données!$D$23,DU$3="Dimanche",DX$8*[1]Données!$F23,$B8="ADS",DX$8*[1]Données!$B$23) -> 95.2 | EC8: =_xlfn.IFS(EB$7="X",DY$8*[1]Données!$I$23,DU$3="Samedi",DY$8*[1]Données!$D$23,DU$3="Dimanche",DY$8*[1]Données!$F$23,$B8="ADS",DY$8*[1]Données!$C$23) -> 237.78 | ED8: =_xlfn.IFS(EB$7="X",DZ$8*[1]Données!$I$23,DU$3="Samedi",DZ$8*[1]Données!$D$23,DU$3="Dimanche",DZ$8*[1]Données!$F$23,$B8="ADS",DZ$8*[1]Données!$C$23) -> 26.42 | EE8: =_xlfn.IFS(EB$7="X",EA$8*[1]Données!$H$23,DU$3="Samedi",EA8*[1]Données!$D$23,DU$3="Dimanche",EA$8*[1]Données!$F$23,$B8="ADS",EA$8*[1]Données!$B$23) -> 23.8 | EF8: =IF($B8="ADS",SUM(EB8:EE8),0) -> 383.2 | EG8: 0.70833333 | EH8: 0.33333333 | EI8: =24*(MOD(EH8-EG8,1)) -> 15 | EJ8: =IF(EG8<(21/24),(MIN(21-EG8*24,EI8)),0) -> 4 | EK8: =IF(OR(EG8>=21/24,EJ8<>0),MIN(9-MAX(0,EG8*24-21),EI8-EJ8),0) -> 9 | EL8: =MAX(0,MIN(1,EI8-SUM(EJ8:EK8))) -> 1 | EM8: =MAX(0,EI8-SUM(EJ8:EL8)) -> 1 | EN8: =_xlfn.IFS(EN$7="X",EJ$8*[1]Données!$H$23,EG$3="Samedi",EJ$8*[1]Données!$D$23,EG$3="Dimanche",EJ$8*[1]Données!$F23,$B8="ADS",EJ$8*[1]Données!$B$23) -> 95.2 | EO8: =_xlfn.IFS(EN$7="X",EK$8*[1]Données!$I$23,EG$3="Samedi",EK$8*[1]Données!$D$23,EG$3="Dimanche",EK$8*[1]Données!$F$23,$B8="ADS",EK$8*[1]Données!$C$23) -> 214.2 | EP8: =_xlfn.IFS(EN$7="X",EL$8*[1]Données!$I$23,EG$3="Samedi",EL$8*[1]Données!$D$23,EG$3="Dimanche",EL$8*[1]Données!$F$23,$B8="ADS",EL$8*[1]Données!$C$23) -> 23.8 | EQ8: =_xlfn.IFS(EN$7="X",EM$8*[1]Données!$H$23,EG$3="Samedi",EM8*[1]Données!$D$23,EG$3="Dimanche",EM$8*[1]Données!$F$23,$B8="ADS",EM$8*[1]Données!$B$23) -> 23.8 | ER8: =IF($B8="ADS",SUM(EN8:EQ8),0) -> 357 | ES8: 0.70833333 | ET8: 0.33333333 | EU8: =24*(MOD(ET8-ES8,1)) -> 15 | EV8: =IF(ES8<(21/24),(MIN(21-ES8*24,EU8)),0) -> 4 | EW8: =IF(OR(ES8>=21/24,EV8<>0),MIN(9-MAX(0,ES8*24-21),EU8-EV8),0) -> 9 | EX8: =MAX(0,MIN(1,EU8-SUM(EV8:EW8))) -> 1 | EY8: =MAX(0,EU8-SUM(EV8:EX8)) -> 1 | EZ8: =_xlfn.IFS(EZ$7="X",EV$8*[1]Données!$H$23,ES$3="Samedi",EV$8*[1]Données!$D$23,ES$3="Dimanche",EV$8*[1]Données!$F23,$B8="ADS",EV$8*[1]Données!$B$23) -> 104.72 | FA8: =_xlfn.IFS(EZ$7="X",EW$8*[1]Données!$I$23,ES$3="Samedi",EW$8*[1]Données!$D$23,ES$3="Dimanche",EW$8*[1]Données!$F$23,$B8="ADS",EW$8*[1]Données!$C$23) -> 235.62 | FB8: =_xlfn.IFS(EZ$7="X",EX$8*[1]Données!$I$23,ES$3="Samedi",EX$8*[1]Données!$D$23,ES$3="Dimanche",EX$8*[1]Données!$F$23,$B8="ADS",EX$8*[1]Données!$C$23) -> 26.18 | FC8: =_xlfn.IFS(EZ$7="X",EY$8*[1]Données!$H$23,ES$3="Samedi",EY8*[1]Données!$D$23,ES$3="Dimanche",EY$8*[1]Données!$F$23,$B8="ADS",EY$8*[1]Données!$B$23) -> 26.18 | FD8: =IF($B8="ADS",SUM(EZ8:FC8),0) -> 392.7 | FE8: 0.70833333 | FF8: 0.33333333 | FG8: =24*(MOD(FF8-FE8,1)) -> 15 | FH8: =IF(FE8<(21/24),(MIN(21-FE8*24,FG8)),0) -> 4 | FI8: =IF(OR(FE8>=21/24,FH8<>0),MIN(9-MAX(0,FE8*24-21),FG8-FH8),0) -> 9 | FJ8: =MAX(0,MIN(1,FG8-SUM(FH8:FI8))) -> 1 | FK8: =MAX(0,FG8-SUM(FH8:FJ8)) -> 1 | FL8: =_xlfn.IFS(FL$7="X",FH$8*[1]Données!$H$23,FE$3="Samedi",FH$8*[1]Données!$D$23,FE$3="Dimanche",FH$8*[1]Données!$F23,$B8="ADS",FH$8*[1]Données!$B$23) -> 95.2 | FM8: =_xlfn.IFS(FL$7="X",FI$8*[1]Données!$I$23,FE$3="Samedi",FI$8*[1]Données!$D$23,FE$3="Dimanche",FI$8*[1]Données!$F$23,$B8="ADS",FI$8*[1]Données!$C$23) -> 237.78 | FN8: =_xlfn.IFS(FL$7="X",FJ$8*[1]Données!$I$23,FE$3="Samedi",FJ$8*[1]Données!$D$23,FE$3="Dimanche",FJ$8*[1]Données!$F$23,$B8="ADS",FJ$8*[1]Données!$C$23) -> 26.42 | FO8: =_xlfn.IFS(FL$7="X",FK$8*[1]Données!$H$23,FE$3="Samedi",FK8*[1]Données!$D$23,FE$3="Dimanche",FK$8*[1]Données!$F$23,$B8="ADS",FK$8*[1]Données!$B$23) -> 23.8 | FP8: =IF($B8="ADS",SUM(FL8:FO8),0) -> 383.2 | FQ8: 0.70833333 | FR8: 0.33333333 | FS8: =24*(MOD(FR8-FQ8,1)) -> 15 | FT8: =IF(FQ8<(21/24),(MIN(21-FQ8*24,FS8)),0) -> 4 | FU8: =IF(OR(FQ8>=21/24,FT8<>0),MIN(9-MAX(0,FQ8*24-21),FS8-FT8),0) -> 9 | FV8: =MAX(0,MIN(1,FS8-SUM(FT8:FU8))) -> 1 | FW8: =MAX(0,FS8-SUM(FT8:FV8)) -> 1 | FX8: =_xlfn.IFS(FX$7="X",FT$8*[1]Données!$H$23,FQ$3="Samedi",FT$8*[1]Données!$D$23,FQ$3="Dimanche",FT$8*[1]Données!$F23,$B8="ADS",FT$8*[1]Données!$B$23) -> 95.2 | FY8: =_xlfn.IFS(FX$7="X",FU$8*[1]Données!$I$23,FQ$3="Samedi",FU$8*[1]Données!$D$23,FQ$3="Dimanche",FU$8*[1]Données!$F$23,$B8="ADS",FU$8*[1]Données!$C$23) -> 237.78 | FZ8: =_xlfn.IFS(FX$7="X",FV$8*[1]Données!$I$23,FQ$3="Samedi",FV$8*[1]Données!$D$23,FQ$3="Dimanche",FV$8*[1]Données!$F$23,$B8="ADS",FV$8*[1]Données!$C$23) -> 26.42 | GA8: =_xlfn.IFS(FX$7="X",FW$8*[1]Données!$H$23,FQ$3="Samedi",FW8*[1]Données!$D$23,FQ$3="Dimanche",FW$8*[1]Données!$F$23,$B8="ADS",FW$8*[1]Données!$B$23) -> 23.8 | GB8: =IF($B8="ADS",SUM(FX8:GA8),0) -> 383.2 | GC8: 0.70833333 | GD8: 0.33333333 | GE8: =24*(MOD(GD8-GC8,1)) -> 15 | GF8: =IF(GC8<(21/24),(MIN(21-GC8*24,GE8)),0) -> 4 | GG8: =IF(OR(GC8>=21/24,GF8<>0),MIN(9-MAX(0,GC8*24-21),GE8-GF8),0) -> 9 | GH8: =MAX(0,MIN(1,GE8-SUM(GF8:GG8))) -> 1 | GI8: =MAX(0,GE8-SUM(GF8:GH8)) -> 1 | GJ8: =_xlfn.IFS(GJ$7="X",GF$8*[1]Données!$H$23,GC$3="Samedi",GF$8*[1]Données!$D$23,GC$3="Dimanche",GF$8*[1]Données!$F23,$B8="ADS",GF$8*[1]Données!$B$23) -> 95.2 | GK8: =_xlfn.IFS(GJ$7="X",GG$8*[1]Données!$I$23,GC$3="Samedi",GG$8*[1]Données!$D$23,GC$3="Dimanche",GG$8*[1]Données!$F$23,$B8="ADS",GG$8*[1]Données!$C$23) -> 237.78 | GL8: =_xlfn.IFS(GJ$7="X",GH$8*[1]Données!$I$23,GC$3="Samedi",GH$8*[1]Données!$D$23,GC$3="Dimanche",GH$8*[1]Données!$F$23,$B8="ADS",GH$8*[1]Données!$C$23) -> 26.42 | GM8: =_xlfn.IFS(GJ$7="X",GI$8*[1]Données!$H$23,GC$3="Samedi",GI8*[1]Données!$D$23,GC$3="Dimanche",GI$8*[1]Données!$F$23,$B8="ADS",GI$8*[1]Données!$B$23) -> 23.8 | GN8: =IF($B8="ADS",SUM(GJ8:GM8),0) -> 383.2 | GO8: 0.70833333 | GP8: 0.33333333 | GQ8: =24*(MOD(GP8-GO8,1)) -> 15 | GR8: =IF(GO8<(21/24),(MIN(21-GO8*24,GQ8)),0) -> 4 | GS8: =IF(OR(GO8>=21/24,GR8<>0),MIN(9-MAX(0,GO8*24-21),GQ8-GR8),0) -> 9 | GT8: =MAX(0,MIN(1,GQ8-SUM(GR8:GS8))) -> 1 | GU8: =MAX(0,GQ8-SUM(GR8:GT8)) -> 1 | GV8: =_xlfn.IFS(GV$7="X",GR$8*[1]Données!$H$23,GO$3="Samedi",GR$8*[1]Données!$D$23,GO$3="Dimanche",GR$8*[1]Données!$F23,$B8="ADS",GR$8*[1]Données!$B$23) -> 95.2 | GW8: =_xlfn.IFS(GV$7="X",GS$8*[1]Données!$I$23,GO$3="Samedi",GS$8*[1]Données!$D$23,GO$3="Dimanche",GS$8*[1]Données!$F$23,$B8="ADS",GS$8*[1]Données!$C$23) -> 237.78 | GX8: =_xlfn.IFS(GV$7="X",GT$8*[1]Données!$I$23,GO$3="Samedi",GT$8*[1]Données!$D$23,GO$3="Dimanche",GT$8*[1]Données!$F$23,$B8="ADS",GT$8*[1]Données!$C$23) -> 26.42 | GY8: =_xlfn.IFS(GV$7="X",GU$8*[1]Données!$H$23,GO$3="Samedi",GU8*[1]Données!$D$23,GO$3="Dimanche",GU$8*[1]Données!$F$23,$B8="ADS",GU$8*[1]Données!$B$23) -> 23.8 | GZ8: =IF($B8="ADS",SUM(GV8:GY8),0) -> 383.2 | HA8: 0.70833333 | HB8: 0.33333333 | HC8: =24*(MOD(HB8-HA8,1)) -> 15 | HD8: =IF(HA8<(21/24),(MIN(21-HA8*24,HC8)),0) -> 4 | HE8: =IF(OR(HA8>=21/24,HD8<>0),MIN(9-MAX(0,HA8*24-21),HC8-HD8),0) -> 9 | HF8: =MAX(0,MIN(1,HC8-SUM(HD8:HE8))) -> 1 | HG8: =MAX(0,HC8-SUM(HD8:HF8)) -> 1 | HH8: =_xlfn.IFS(HH$7="X",HD$8*[1]Données!$H$23,HA$3="Samedi",HD$8*[1]Données!$D$23,HA$3="Dimanche",HD$8*[1]Données!$F23,$B8="ADS",HD$8*[1]Données!$B$23) -> 95.2 | HI8: =_xlfn.IFS(HH$7="X",HE$8*[1]Données!$I$23,HA$3="Samedi",HE$8*[1]Données!$D$23,HA$3="Dimanche",HE$8*[1]Données!$F$23,$B8="ADS",HE$8*[1]Données!$C$23) -> 237.78 | HJ8: =_xlfn.IFS(HH$7="X",HF$8*[1]Données!$I$23,HA$3="Samedi",HF$8*[1]Données!$D$23,HA$3="Dimanche",HF$8*[1]Données!$F$23,$B8="ADS",HF$8*[1]Données!$C$23) -> 26.42 | HK8: =_xlfn.IFS(HH$7="X",HG$8*[1]Données!$H$23,HA$3="Samedi",HG8*[1]Données!$D$23,HA$3="Dimanche",HG$8*[1]Données!$F$23,$B8="ADS",HG$8*[1]Données!$B$23) -> 23.8 | HL8: =IF($B8="ADS",SUM(HH8:HK8),0) -> 383.2 | HM8: 0.70833333 | HN8: 0.33333333 | HO8: =24*(MOD(HN8-HM8,1)) -> 15 | HP8: =IF(HM8<(21/24),(MIN(21-HM8*24,HO8)),0) -> 4 | HQ8: =IF(OR(HM8>=21/24,HP8<>0),MIN(9-MAX(0,HM8*24-21),HO8-HP8),0) -> 9 | HR8: =MAX(0,MIN(1,HO8-SUM(HP8:HQ8))) -> 1 | HS8: =MAX(0,HO8-SUM(HP8:HR8)) -> 1 | HT8: =_xlfn.IFS(HT$7="X",HP$8*[1]Données!$H$23,HM$3="Samedi",HP$8*[1]Données!$D$23,HM$3="Dimanche",HP$8*[1]Données!$F23,$B8="ADS",HP$8*[1]Données!$B$23) -> 95.2 | HU8: =_xlfn.IFS(HT$7="X",HQ$8*[1]Données!$I$23,HM$3="Samedi",HQ$8*[1]Données!$D$23,HM$3="Dimanche",HQ$8*[1]Données!$F$23,$B8="ADS",HQ$8*[1]Données!$C$23) -> 214.2 | HV8: =_xlfn.IFS(HT$7="X",HR$8*[1]Données!$I$23,HM$3="Samedi",HR$8*[1]Données!$D$23,HM$3="Dimanche",HR$8*[1]Données!$F$23,$B8="ADS",HR$8*[1]Données!$C$23) -> 23.8 | HW8: =_xlfn.IFS(HT$7="X",HS$8*[1]Données!$H$23,HM$3="Samedi",HS8*[1]Données!$D$23,HM$3="Dimanche",HS$8*[1]Données!$F$23,$B8="ADS",HS$8*[1]Données!$B$23) -> 23.8 | HX8: =IF($B8="ADS",SUM(HT8:HW8),0) -> 357 | HY8: 0.70833333 | HZ8: 0.33333333 | IA8: =24*(MOD(HZ8-HY8,1)) -> 15 | IB8: =IF(HY8<(21/24),(MIN(21-HY8*24,IA8)),0) -> 4 | IC8: =IF(OR(HY8>=21/24,IB8<>0),MIN(9-MAX(0,HY8*24-21),IA8-IB8),0) -> 9 | ID8: =MAX(0,MIN(1,IA8-SUM(IB8:IC8))) -> 1 | IE8: =MAX(0,IA8-SUM(IB8:ID8)) -> 1 | IF8: =_xlfn.IFS(IF$7="X",IB$8*[1]Données!$H$23,HY$3="Samedi",IB$8*[1]Données!$D$23,HY$3="Dimanche",IB$8*[1]Données!$F23,$B8="ADS",IB$8*[1]Données!$B$23) -> 104.72 | IG8: =_xlfn.IFS(IF$7="X",IC$8*[1]Données!$I$23,HY$3="Samedi",IC$8*[1]Données!$D$23,HY$3="Dimanche",IC$8*[1]Données!$F$23,$B8="ADS",IC$8*[1]Données!$C$23) -> 235.62 | IH8: =_xlfn.IFS(IF$7="X",ID$8*[1]Données!$I$23,HY$3="Samedi",ID$8*[1]Données!$D$23,HY$3="Dimanche",ID$8*[1]Données!$F$23,$B8="ADS",ID$8*[1]Données!$C$23) -> 26.18 | II8: =_xlfn.IFS(IF$7="X",IE$8*[1]Données!$H$23,HY$3="Samedi",IE8*[1]Données!$D$23,HY$3="Dimanche",IE$8*[1]Données!$F$23,$B8="ADS",IE$8*[1]Données!$B$23) -> 26.18 | IJ8: =IF($B8="ADS",SUM(IF8:II8),0) -> 392.7 | IK8: 0.70833333 | IL8: 0.33333333 | IM8: =24*(MOD(IL8-IK8,1)) -> 15 | IN8: =IF(IK8<(21/24),(MIN(21-IK8*24,IM8)),0) -> 4 | IO8: =IF(OR(IK8>=21/24,IN8<>0),MIN(9-MAX(0,IK8*24-21),IM8-IN8),0) -> 9 | IP8: =MAX(0,MIN(1,IM8-SUM(IN8:IO8))) -> 1 | IQ8: =MAX(0,IM8-SUM(IN8:IP8)) -> 1 | IR8: =_xlfn.IFS(IR$7="X",IN$8*[1]Données!$H$23,IK$3="Samedi",IN$8*[1]Données!$D$23,IK$3="Dimanche",IN$8*[1]Données!$F23,$B8="ADS",IN$8*[1]Données!$B$23) -> 95.2 | IS8: =_xlfn.IFS(IR$7="X",IO$8*[1]Données!$I$23,IK$3="Samedi",IO$8*[1]Données!$D$23,IK$3="Dimanche",IO$8*[1]Données!$F$23,$B8="ADS",IO$8*[1]Données!$C$23) -> 237.78 | IT8: =_xlfn.IFS(IR$7="X",IP$8*[1]Données!$I$23,IK$3="Samedi",IP$8*[1]Données!$D$23,IK$3="Dimanche",IP$8*[1]Données!$F$23,$B8="ADS",IP$8*[1]Données!$C$23) -> 26.42 | IU8: =_xlfn.IFS(IR$7="X",IQ$8*[1]Données!$H$23,IK$3="Samedi",IQ8*[1]Données!$D$23,IK$3="Dimanche",IQ$8*[1]Données!$F$23,$B8="ADS",IQ$8*[1]Données!$B$23) -> 23.8 | IV8: =IF($B8="ADS",SUM(IR8:IU8),0) -> 383.2 | IW8: 0.70833333 | IX8: 0.33333333 | IY8: =24*(MOD(IX8-IW8,1)) -> 15 | IZ8: =IF(IW8<(21/24),(MIN(21-IW8*24,IY8)),0) -> 4 | JA8: =IF(OR(IW8>=21/24,IZ8<>0),MIN(9-MAX(0,IW8*24-21),IY8-IZ8),0) -> 9 | JB8: =MAX(0,MIN(1,IY8-SUM(IZ8:JA8))) -> 1 | JC8: =MAX(0,IY8-SUM(IZ8:JB8)) -> 1 | JD8: =_xlfn.IFS(JD$7="X",IZ$8*[1]Données!$H$23,IW$3="Samedi",IZ$8*[1]Données!$D$23,IW$3="Dimanche",IZ$8*[1]Données!$F23,$B8="ADS",IZ$8*[1]Données!$B$23) -> 95.2 | JE8: =_xlfn.IFS(JD$7="X",JA$8*[1]Données!$I$23,IW$3="Samedi",JA$8*[1]Données!$D$23,IW$3="Dimanche",JA$8*[1]Données!$F$23,$B8="ADS",JA$8*[1]Données!$C$23) -> 237.78 | JF8: =_xlfn.IFS(JD$7="X",JB$8*[1]Données!$I$23,IW$3="Samedi",JB$8*[1]Données!$D$23,IW$3="Dimanche",JB$8*[1]Données!$F$23,$B8="ADS",JB$8*[1]Données!$C$23) -> 26.42 | JG8: =_xlfn.IFS(JD$7="X",JC$8*[1]Données!$H$23,IW$3="Samedi",JC8*[1]Données!$D$23,IW$3="Dimanche",JC$8*[1]Données!$F$23,$B8="ADS",JC$8*[1]Données!$B$23) -> 23.8 | JH8: =IF($B8="ADS",SUM(JD8:JG8),0) -> 383.2 | JI8: 0.70833333 | JJ8: 0.33333333 | JK8: =24*(MOD(JJ8-JI8,1)) -> 15 | JL8: =IF(JI8<(21/24),(MIN(21-JI8*24,JK8)),0) -> 4 | JM8: =IF(OR(JI8>=21/24,JL8<>0),MIN(9-MAX(0,JI8*24-21),JK8-JL8),0) -> 9 | JN8: =MAX(0,MIN(1,JK8-SUM(JL8:JM8))) -> 1 | JO8: =MAX(0,JK8-SUM(JL8:JN8)) -> 1 | JP8: =_xlfn.IFS(JP$7="X",JL$8*[1]Données!$H$23,JI$3="Samedi",JL$8*[1]Données!$D$23,JI$3="Dimanche",JL$8*[1]Données!$F23,$B8="ADS",JL$8*[1]Données!$B$23) -> 95.2 | JQ8: =_xlfn.IFS(JP$7="X",JM$8*[1]Données!$I$23,JI$3="Samedi",JM$8*[1]Données!$D$23,JI$3="Dimanche",JM$8*[1]Données!$F$23,$B8="ADS",JM$8*[1]Données!$C$23) -> 237.78 | JR8: =_xlfn.IFS(JP$7="X",JN$8*[1]Données!$I$23,JI$3="Samedi",JN$8*[1]Données!$D$23,JI$3="Dimanche",JN$8*[1]Données!$F$23,$B8="ADS",JN$8*[1]Données!$C$23) -> 26.42 | JS8: =_xlfn.IFS(JP$7="X",JO$8*[1]Données!$H$23,JI$3="Samedi",JO8*[1]Données!$D$23,JI$3="Dimanche",JO$8*[1]Données!$F$23,$B8="ADS",JO$8*[1]Données!$B$23) -> 23.8 | JT8: =IF($B8="ADS",SUM(JP8:JS8),0) -> 383.2 | JU8: 0.70833333 | JV8: 0.33333333 | JW8: =24*(MOD(JV8-JU8,1)) -> 15 | JX8: =IF(JU8<(21/24),(MIN(21-JU8*24,JW8)),0) -> 4 | JY8: =IF(OR(JU8>=21/24,JX8<>0),MIN(9-MAX(0,JU8*24-21),JW8-JX8),0) -> 9 | JZ8: =MAX(0,MIN(1,JW8-SUM(JX8:JY8))) -> 1 | KA8: =MAX(0,JW8-SUM(JX8:JZ8)) -> 1 | KB8: =_xlfn.IFS(KB$7="X",JX$8*[1]Données!$H$23,JU$3="Samedi",JX$8*[1]Données!$D$23,JU$3="Dimanche",JX$8*[1]Données!$F23,$B8="ADS",JX$8*[1]Données!$B$23) -> 95.2 | KC8: =_xlfn.IFS(KB$7="X",JY$8*[1]Données!$I$23,JU$3="Samedi",JY$8*[1]Données!$D$23,JU$3="Dimanche",JY$8*[1]Données!$F$23,$B8="ADS",JY$8*[1]Données!$C$23) -> 237.78 | KD8: =_xlfn.IFS(KB$7="X",JZ$8*[1]Données!$I$23,JU$3="Samedi",JZ$8*[1]Données!$D$23,JU$3="Dimanche",JZ$8*[1]Données!$F$23,$B8="ADS",JZ$8*[1]Données!$C$23) -> 26.42 | KE8: =_xlfn.IFS(KB$7="X",KA$8*[1]Données!$H$23,JU$3="Samedi",KA8*[1]Données!$D$23,JU$3="Dimanche",KA$8*[1]Données!$F$23,$B8="ADS",KA$8*[1]Données!$B$23) -> 23.8 | KF8: =IF($B8="ADS",SUM(KB8:KE8),0) -> 383.2 | KG8: 0.70833333 | KH8: 0.33333333 | KI8: =24*(MOD(KH8-KG8,1)) -> 15 | KJ8: =IF(KG8<(21/24),(MIN(21-KG8*24,KI8)),0) -> 4 | KK8: =IF(OR(KG8>=21/24,KJ8<>0),MIN(9-MAX(0,KG8*24-21),KI8-KJ8),0) -> 9 | KL8: =MAX(0,MIN(1,KI8-SUM(KJ8:KK8))) -> 1 | KM8: =MAX(0,KI8-SUM(KJ8:KL8)) -> 1 | KN8: =_xlfn.IFS(KN$7="X",KJ$8*[1]Données!$H$23,KG$3="Samedi",KJ$8*[1]Données!$D$23,KG$3="Dimanche",KJ$8*[1]Données!$F23,$B8="ADS",KJ$8*[1]Données!$B$23) -> 95.2 | KO8: =_xlfn.IFS(KN$7="X",KK$8*[1]Données!$I$23,KG$3="Samedi",KK$8*[1]Données!$D$23,KG$3="Dimanche",KK$8*[1]Données!$F$23,$B8="ADS",KK$8*[1]Données!$C$23) -> 237.78 | KP8: =_xlfn.IFS(KN$7="X",KL$8*[1]Données!$I$23,KG$3="Samedi",KL$8*[1]Données!$D$23,KG$3="Dimanche",KL$8*[1]Données!$F$23,$B8="ADS",KL$8*[1]Données!$C$23) -> 26.42 | KQ8: =_xlfn.IFS(KN$7="X",KM$8*[1]Données!$H$23,KG$3="Samedi",KM8*[1]Données!$D$23,KG$3="Dimanche",KM$8*[1]Données!$F$23,$B8="ADS",KM$8*[1]Données!$B$23) -> 23.8 | KR8: =IF($B8="ADS",SUM(KN8:KQ8),0) -> 383.2 | KS8: 0.70833333 | KT8: 0.33333333 | KU8: =24*(MOD(KT8-KS8,1)) -> 15 | KV8: =IF(KS8<(21/24),(MIN(21-KS8*24,KU8)),0) -> 4 | KW8: =IF(OR(KS8>=21/24,KV8<>0),MIN(9-MAX(0,KS8*24-21),KU8-KV8),0) -> 9 | KX8: =MAX(0,MIN(1,KU8-SUM(KV8:KW8))) -> 1 | KY8: =MAX(0,KU8-SUM(KV8:KX8)) -> 1 | KZ8: =_xlfn.IFS(KZ$7="X",KV$8*[1]Données!$H$23,KS$3="Samedi",KV$8*[1]Données!$D$23,KS$3="Dimanche",KV$8*[1]Données!$F23,$B8="ADS",KV$8*[1]Données!$B$23) -> 95.2 | LA8: =_xlfn.IFS(KZ$7="X",KW$8*[1]Données!$I$23,KS$3="Samedi",KW$8*[1]Données!$D$23,KS$3="Dimanche",KW$8*[1]Données!$F$23,$B8="ADS",KW$8*[1]Données!$C$23) -> 214.2 | LB8: =_xlfn.IFS(KZ$7="X",KX$8*[1]Données!$I$23,KS$3="Samedi",KX$8*[1]Données!$D$23,KS$3="Dimanche",KX$8*[1]Données!$F$23,$B8="ADS",KX$8*[1]Données!$C$23) -> 23.8 | LC8: =_xlfn.IFS(KZ$7="X",KY$8*[1]Données!$H$23,KS$3="Samedi",KY8*[1]Données!$D$23,KS$3="Dimanche",KY$8*[1]Données!$F$23,$B8="ADS",KY$8*[1]Données!$B$23) -> 23.8 | LD8: =IF($B8="ADS",SUM(KZ8:LC8),0) -> 357 | LE8: 0.70833333 | LF8: 0.33333333 | LG8: =24*(MOD(LF8-LE8,1)) -> 15 | LH8: =IF(LE8<(21/24),(MIN(21-LE8*24,LG8)),0) -> 4 | LI8: =IF(OR(LE8>=21/24,LH8<>0),MIN(9-MAX(0,LE8*24-21),LG8-LH8),0) -> 9 | LJ8: =MAX(0,MIN(1,LG8-SUM(LH8:LI8))) -> 1 | LK8: =MAX(0,LG8-SUM(LH8:LJ8)) -> 1 | LL8: =_xlfn.IFS(LL$7="X",LH$8*[1]Données!$H$23,LE$3="Samedi",LH$8*[1]Données!$D$23,LE$3="Dimanche",LH$8*[1]Données!$F23,$B8="ADS",LH$8*[1]Données!$B$23) -> 104.72 | LM8: =_xlfn.IFS(LL$7="X",LI$8*[1]Données!$I$23,LE$3="Samedi",LI$8*[1]Données!$D$23,LE$3="Dimanche",LI$8*[1]Données!$F$23,$B8="ADS",LI$8*[1]Données!$C$23) -> 235.62 | LN8: =_xlfn.IFS(LL$7="X",LJ$8*[1]Données!$I$23,LE$3="Samedi",LJ$8*[1]Données!$D$23,LE$3="Dimanche",LJ$8*[1]Données!$F$23,$B8="ADS",LJ$8*[1]Données!$C$23) -> 26.18 | LO8: =_xlfn.IFS(LL$7="X",LK$8*[1]Données!$H$23,LE$3="Samedi",LK8*[1]Données!$D$23,LE$3="Dimanche",LK$8*[1]Données!$F$23,$B8="ADS",LK$8*[1]Données!$B$23) -> 26.18 | LP8: =IF($B8="ADS",SUM(LL8:LO8),0) -> 392.7 | LQ8: 0.70833333 | LR8: 0.33333333 | LS8: =24*(MOD(LR8-LQ8,1)) -> 15 | LT8: =IF(LQ8<(21/24),(MIN(21-LQ8*24,LS8)),0) -> 4 | LU8: =IF(OR(LQ8>=21/24,LT8<>0),MIN(9-MAX(0,LQ8*24-21),LS8-LT8),0) -> 9 | LV8: =MAX(0,MIN(1,LS8-SUM(LT8:LU8))) -> 1 | LW8: =MAX(0,LS8-SUM(LT8:LV8)) -> 1 | LX8: =_xlfn.IFS(LX$7="X",LT$8*[1]Données!$H$23,LQ$3="Samedi",LT$8*[1]Données!$D$23,LQ$3="Dimanche",LT$8*[1]Données!$F23,$B8="ADS",LT$8*[1]Données!$B$23) -> 95.2 | LY8: =_xlfn.IFS(LX$7="X",LU$8*[1]Données!$I$23,LQ$3="Samedi",LU$8*[1]Données!$D$23,LQ$3="Dimanche",LU$8*[1]Données!$F$23,$B8="ADS",LU$8*[1]Données!$C$23) -> 237.78 | LZ8: =_xlfn.IFS(LX$7="X",LV$8*[1]Données!$I$23,LQ$3="Samedi",LV$8*[1]Données!$D$23,LQ$3="Dimanche",LV$8*[1]Données!$F$23,$B8="ADS",LV$8*[1]Données!$C$23) -> 26.42 | MA8: =_xlfn.IFS(LX$7="X",LW$8*[1]Données!$H$23,LQ$3="Samedi",LW8*[1]Données!$D$23,LQ$3="Dimanche",LW$8*[1]Données!$F$23,$B8="ADS",LW$8*[1]Données!$B$23) -> 23.8 | MB8: =IF($B8="ADS",SUM(LX8:MA8),0) -> 383.2 | MC8: 0.70833333 | MD8: 0.33333333 | ME8: =24*(MOD(MD8-MC8,1)) -> 15 | MF8: =IF(MC8<(21/24),(MIN(21-MC8*24,ME8)),0) -> 4 | MG8: =IF(OR(MC8>=21/24,MF8<>0),MIN(9-MAX(0,MC8*24-21),ME8-MF8),0) -> 9 | MH8: =MAX(0,MIN(1,ME8-SUM(MF8:MG8))) -> 1 | MI8: =MAX(0,ME8-SUM(MF8:MH8)) -> 1 | MJ8: =_xlfn.IFS(MJ$7="X",MF$8*[1]Données!$H$23,MC$3="Samedi",MF$8*[1]Données!$D$23,MC$3="Dimanche",MF$8*[1]Données!$F23,$B8="ADS",MF$8*[1]Données!$B$23) -> 95.2 | MK8: =_xlfn.IFS(MJ$7="X",MG$8*[1]Données!$I$23,MC$3="Samedi",MG$8*[1]Données!$D$23,MC$3="Dimanche",MG$8*[1]Données!$F$23,$B8="ADS",MG$8*[1]Données!$C$23) -> 237.78 | ML8: =_xlfn.IFS(MJ$7="X",MH$8*[1]Données!$I$23,MC$3="Samedi",MH$8*[1]Données!$D$23,MC$3="Dimanche",MH$8*[1]Données!$F$23,$B8="ADS",MH$8*[1]Données!$C$23) -> 26.42 | MM8: =_xlfn.IFS(MJ$7="X",MI$8*[1]Données!$H$23,MC$3="Samedi",MI8*[1]Données!$D$23,MC$3="Dimanche",MI$8*[1]Données!$F$23,$B8="ADS",MI$8*[1]Données!$B$23) -> 23.8 | MN8: =IF($B8="ADS",SUM(MJ8:MM8),0) -> 383.2 | MO8: 0.70833333 | MP8: 0.33333333 | MQ8: =24*(MOD(MP8-MO8,1)) -> 15 | MR8: =IF(MO8<(21/24),(MIN(21-MO8*24,MQ8)),0) -> 4 | MS8: =IF(OR(MO8>=21/24,MR8<>0),MIN(9-MAX(0,MO8*24-21),MQ8-MR8),0) -> 9 | MT8: =MAX(0,MIN(1,MQ8-SUM(MR8:MS8))) -> 1 | MU8: =MAX(0,MQ8-SUM(MR8:MT8)) -> 1 | MV8: =_xlfn.IFS(MV$7="X",MR$8*[1]Données!$H$23,MO$3="Samedi",MR$8*[1]Données!$D$23,MO$3="Dimanche",MR$8*[1]Données!$F23,$B8="ADS",MR$8*[1]Données!$B$23) -> 95.2 | MW8: =_xlfn.IFS(MV$7="X",MS$8*[1]Données!$I$23,MO$3="Samedi",MS$8*[1]Données!$D$23,MO$3="Dimanche",MS$8*[1]Données!$F$23,$B8="ADS",MS$8*[1]Données!$C$23) -> 237.78 | MX8: =_xlfn.IFS(MV$7="X",MT$8*[1]Données!$I$23,MO$3="Samedi",MT$8*[1]Données!$D$23,MO$3="Dimanche",MT$8*[1]Données!$F$23,$B8="ADS",MT$8*[1]Données!$C$23) -> 26.42 | MY8: =_xlfn.IFS(MV$7="X",MU$8*[1]Données!$H$23,MO$3="Samedi",MU8*[1]Données!$D$23,MO$3="Dimanche",MU$8*[1]Données!$F$23,$B8="ADS",MU$8*[1]Données!$B$23) -> 23.8 | MZ8: =IF($B8="ADS",SUM(MV8:MY8),0) -> 383.2 | NA8: 0.70833333 | NB8: 0.33333333 | NC8: =24*(MOD(NB8-NA8,1)) -> 15 | ND8: =IF(NA8<(21/24),(MIN(21-NA8*24,NC8)),0) -> 4 | NE8: =IF(OR(NA8>=21/24,ND8<>0),MIN(9-MAX(0,NA8*24-21),NC8-ND8),0) -> 9 | NF8: =MAX(0,MIN(1,NC8-SUM(ND8:NE8))) -> 1 | NG8: =MAX(0,NC8-SUM(ND8:NF8)) -> 1 | NH8: =_xlfn.IFS(NH$7="X",ND$8*[1]Données!$H$23,NA$3="Samedi",ND$8*[1]Données!$D$23,NA$3="Dimanche",ND$8*[1]Données!$F23,$B8="ADS",ND$8*[1]Données!$B$23) -> 95.2 | NI8: =_xlfn.IFS(NH$7="X",NE$8*[1]Données!$I$23,NA$3="Samedi",NE$8*[1]Données!$D$23,NA$3="Dimanche",NE$8*[1]Données!$F$23,$B8="ADS",NE$8*[1]Données!$C$23) -> 237.78 | NJ8: =_xlfn.IFS(NH$7="X",NF$8*[1]Données!$I$23,NA$3="Samedi",NF$8*[1]Données!$D$23,NA$3="Dimanche",NF$8*[1]Données!$F$23,$B8="ADS",NF$8*[1]Données!$C$23) -> 26.42 | NK8: =_xlfn.IFS(NH$7="X",NG$8*[1]Données!$H$23,NA$3="Samedi",NG8*[1]Données!$D$23,NA$3="Dimanche",NG$8*[1]Données!$F$23,$B8="ADS",NG$8*[1]Données!$B$23) -> 23.8 | NL8: =IF($B8="ADS",SUM(NH8:NK8),0) -> 383.2 | NM8: =IF($B$8="ADS",SUM($P8+$AB8+$AN8+$AZ8+$BL8+$BX8+$CJ8+$CV8+$DH8+$DT8+$EF8+$ER8+$FD8+$FP8+$GB8+$GN8+$GZ8+$HL8+$HX8+$IJ8+$IV8+$JH8+$JT8+$KF8+$KR8+$LD8+$LP8+$MB8+$MN8+$MZ8+$NL8),0) -> 11902.14
