Workbook
Name journee1: #REF!
Name journee10: #REF!
Name journee11: #REF!
Name journee12: #REF!
Name journee13: #REF!
Name journee14: #REF!
Name journee15: #REF!
Name journee16: #REF!
Name journee17: #REF!
Name journee18: #REF!
Name journee19: #REF!
Name journee2: #REF!
Name journee20: #REF!
Name journee21: #REF!
Name journee22: #REF!
Name journee23: #REF!
Name journee24: #REF!
Name journee25: #REF!
Name journee26: #REF!
Name journee3: #REF!
Name journee4: #REF!
Name journee5: #REF!
Name journee6: #REF!
Name journee7: #REF!
Name journee8: #REF!
Name journee9: #REF!

Sheet Agen 
A1: Agen | B1: saison 2019/2020 | H1: point marquer | I1: saison 2020/2021 | M1: match du jour
B2: nbre match | C2: nbre vitoire | D2: nbre nul | E2: nbre defaite | H2: match dom | I2: =SUM(C8:C20) -> 0 | J2: =SUM(D8:D20) -> 0 | K2: =I2-J2 -> 0 | M2: domicile | N2: exertieur
A3: nbre match D | B3: 9 | C3: 3 | D3: 0 | E3: 6 | H3: par match | I3: =I2/B3 -> 0 | J3: =J2/B3 -> 0 | M3: Agen | N3: paris
A4: nbre match E | B4: 8 | C4: 2 | D4: 1 | E4: 5 | H4: match ext | I4: =SUM(D23:D35) -> 0 | J4: =SUM(C23:C35) -> 0 | K4: =I4-J4 -> 0 | M4: {=INDEX($C$38:$L$50,MATCH(1,($A$38:$A$50=$A$1)*($B$38:$B$50=$N$3),0),4)} -> 0.38461538 | N4: {=INDEX($C$38:$L$50,MATCH(1,($A$38:$A$50=$M$3)*($B$38:$B$50=$N$3),0),7)} -> 0.61538462
A5: nbre match T | B5: =B3+B4 -> 17 | C5: =C3+C4 -> 5 | D5: =D3+D4 -> 1 | E5: =E3+E4 -> 11 | H5: par match | I5: =I4/B4 -> 0 | J5: =J4/B4 -> 0 | M5: =100/M4/100 -> 2.6 | N5: =100/N4/100 -> 1.625
H6: match | I6: =I2+I4 -> 0 | J6: =J2+J4 -> 0 | K6: =I6-J6 -> 0
A7: journée | B7: adversaire | C7: Lieu Match | D7: Issue match | E7: Score D | F7: Score E | H7: par match | I7: =I6/B5 -> 0 | J7: =J6/B5 -> 0 | M7: Agen | N7: Bayonne
A8: journée 1 | E8: =VLOOKUP(B8,INDIRECT(A8),COLUMN(resultat!D:D),FALSE) -> #REF! | F8: =VLOOKUP(B8,INDIRECT(A8),COLUMN(resultat!E2),FALSE) -> #REF! | M8: Agen | N8: Bordeaux
A9: journée 2 | H9: point marquer | I9: saison 2019/2020 | M9: Agen | N9: Brive
A10: journée 3 | H10: match dom | I10: 158 | J10: 164 | K10: -6 | M10: Agen | N10: Castres
A11: journée 4 | H11: par match | I11: 17.555556 | J11: 18.222222 | M11: Agen | N11: Clermont
A12: journée 5 | H12: match ext | I12: 140 | J12: 206 | K12: -66 | M12: Agen | N12: La Rochelle
A13: journée 6 | H13: par match | I13: 17.5 | J13: 25.75 | M13: Agen | N13: Lyon
A14: journée 7 | H14: match | I14: 298 | J14: 370 | K14: -72 | M14: Agen | N14: Montpellier
A15: journée 8 | H15: par match | I15: 17.529412 | J15: 21.764706 | M15: Agen | N15: Paris
A16: journée 9 | M16: Agen | N16: Pau
A17: journée 10 | H17: point marquer | M17: Agen | N17: Racing 92
A18: journée 11 | H18: match dom | M18: Agen | N18: Toulon
A19: journée 12 | H19: par match | M19: Agen | N19: Toulouse
A20: journée 13 | H20: match ext
A21: journée 14 | H21: par match
A22: journée 15 | H22: match
A23: journée 16 | H23: par match
A24: journée 17
A25: journée 18 | H25: point marquer
A26: journée 19 | H26: match dom
A27: journée 20 | H27: par match
A28: journée 21 | H28: match ext
A29: journée 22 | H29: par match
A30: journée 23 | H30: match
A31: journée 24 | H31: par match
A32: journée 25
A33: journée 26
A37: club | C37: nbr de match | D37: victoire D | E37: victoire E | F37: % | G37: defaite D | H37: defaite E | I37: % | J37: nul | K37: %
A38: AGEN | B38: BAYONNE | C38: 8 | D38: 2 | E38: 1 | F38: =(D38+E38)/C38 -> 0.375 | G38: 2 | H38: 3 | I38: =(G38+H38)/C38 -> 0.625 | K38: =100%-(F38+I38) -> 0 | L38: =SUM(F38+I38+K38) -> 1
A39: AGEN | B39: BORDEAUX | C39: 11 | D39: 3 | E39: 0 | F39: =(D39+E39)/C39 -> 0.27272727 | G39: 2 | H39: 6 | I39: =(G39+H39)/C39 -> 0.72727273 | K39: =100%-(F39+I39) -> 0 | L39: =SUM(F39+I39+K39) -> 1
A40: AGEN | B40: BRIVE | C40: 10 | D40: 5 | E40: 3 | F40: =(D40+E40)/C40 -> 0.8 | G40: 0 | H40: 2 | I40: =(G40+H40)/C40 -> 0.2 | K40: =100%-(F40+I40) -> 0 | L40: =SUM(F40+I40+K40) -> 1
A41: AGEN | B41: CASTRE | C41: 14 | D41: 3 | E41: 1 | F41: =(D41+E41)/C41 -> 0.28571429 | G41: 4 | H41: 6 | I41: =(G41+H41)/C41 -> 0.71428571 | K41: =100%-(F41+I41) -> 0 | L41: =SUM(F41+I41+K41) -> 1
A42: AGEN | B42: CLERMONT | C42: 14 | D42: 2 | E42: 0 | F42: =(D42+E42)/C42 -> 0.14285714 | G42: 5 | H42: 7 | I42: =(G42+H42)/C42 -> 0.85714286 | K42: =100%-(F42+I42) -> 0 | L42: =SUM(F42+I42+K42) -> 1
A43: AGEN | B43: LA ROCHELLE | C43: 12 | D43: 4 | E43: 2 | F43: =(D43+E43)/C43 -> 0.5 | G43: 2 | H43: 4 | I43: =(G43+H43)/C43 -> 0.5 | K43: =100%-(F43+I43) -> 0 | L43: =SUM(F43+I43+K43) -> 1
...

Sheet Bayonne
A1: Bayonne | B1: saison 2019/2020 | H1: point marquer | I1: saison 2020/2021 | M1: match du jour
B2: nbre match | C2: nbre vitoire | D2: nbre nul | E2: nbre defaite | H2: match dom | I2: =SUM(C8:C20) -> 0 | J2: =SUM(D8:D20) -> 0 | K2: =I2-J2 -> 0 | M2: domicile | N2: exertieur
A3: nbre match D | B3: 9 | C3: 5 | D3: 1 | E3: 3 | H3: par match | I3: =I2/B3 -> 0 | J3: =J2/B3 -> 0 | M3: Bayonne | N3: pau
A4: nbre match E | B4: 8 | C4: 2 | D4: 0 | E4: 6 | H4: match ext | I4: =SUM(D23:D35) -> 0 | J4: =SUM(C23:C35) -> 0 | K4: =I4-J4 -> 0 | M4: {=INDEX($C$38:$L$50,MATCH(1,($A$38:$A$50=$A$1)*($B$38:$B$50=$N$3),0),4)} -> 0 | N4: {=INDEX($C$38:$L$50,MATCH(1,($A$38:$A$50=$M$3)*($B$38:$B$50=$N$3),0),7)} -> 0.66666667
A5: nbre match T | B5: =B3+B4 -> 17 | C5: =C3+C4 -> 7 | D5: =D3+D4 -> 1 | E5: =E3+E4 -> 9 | H5: par match | I5: =I4/B4 -> 0 | J5: =J4/B4 -> 0 | M5: =100/M4/100 -> #DIV/0! | N5: =100/N4/100 -> 1.5
H6: match | I6: =I2+I4 -> 0 | J6: =J2+J4 -> 0 | K6: =I6-J6 -> 0
A7: journée | B7: adversaire | C7: Lieu Match | D7: Issue match | E7: Score D | F7: Score E | H7: par match | I7: =I6/B5 -> 0 | J7: =J6/B5 -> 0 | M7: Bayonne | N7: Agen
A8: journée 1 | E8: =VLOOKUP(B8,INDIRECT(A8),COLUMN(resultat!D:D),FALSE) -> #REF! | F8: =VLOOKUP(B8,INDIRECT(A8),COLUMN(resultat!E2),FALSE) -> #REF! | M8: Bayonne | N8: Bordeaux
A9: journée 2 | H9: point marquer | I9: saison 2019/2020 | M9: Bayonne | N9: Brive
A10: journée 3 | H10: match dom | I10: 187 | J10: 162 | K10: 25 | M10: Bayonne | N10: Castres
A11: journée 4 | H11: par match | I11: 20.777778 | J11: 18 | M11: Bayonne | N11: Clermont
A12: journée 5 | H12: match ext | I12: 116 | J12: 230 | K12: -114 | M12: Bayonne | N12: La Rochelle
A13: journée 6 | H13: par match | I13: 14.5 | J13: 28.75 | M13: Bayonne | N13: Lyon
A14: journée 7 | H14: match | I14: 303 | J14: 392 | K14: -89 | M14: Bayonne | N14: Montpellier
A15: journée 8 | H15: par match | I15: 17.823529 | J15: 23.058824 | M15: Bayonne | N15: Paris
A16: journée 9 | M16: Bayonne | N16: Pau
A17: journée 10 | H17: point marquer | M17: Bayonne | N17: Racing 92
A18: journée 11 | H18: match dom | M18: Bayonne | N18: Toulon
A19: journée 12 | H19: par match | M19: Bayonne | N19: Toulouse
A20: journée 13 | H20: match ext
A21: journée 14 | H21: par match
A22: journée 15 | H22: match
A23: journée 16 | H23: par match
A24: journée 17
A25: journée 18 | H25: point marquer
A26: journée 19 | H26: match dom
A27: journée 20 | H27: par match
A28: journée 21 | H28: match ext
A29: journée 22 | H29: par match
A30: journée 23 | H30: match
A31: journée 24 | H31: par match
A32: journée 25
A33: journée 26
A37: club | C37: face a face | D37: nbr de match | E37: victoire D | F37: victoire E | G37: % | H37: defaite D | I37: defaite E | J37: % | K37: nul | L37: %
A38: BAYONNE | B38: AGEN | C38: 8 | D38: 3 | E38: 2 | F38: =(D38+E38)/C38 -> 0.625 | G38: 0 | H38: 3 | I38: =(G38+H38)/C38 -> 0.375 | K38: =100%-(F38+I38) -> 0 | L38: =SUM(F38+I38+K38) -> 1
A39: BAYONNE | B39: BORDEAUX | C39: 11 | D39: 3 | E39: 0 | F39: =(D39+E39)/C39 -> 0.27272727 | G39: 2 | H39: 6 | I39: =(G39+H39)/C39 -> 0.72727273 | K39: =100%-(F39+I39) -> 0 | L39: =SUM(F39+I39+K39) -> 1
A40: BAYONNE | B40: BRIVE | C40: 15 | D40: 7 | E40: 1 | F40: =(D40+E40)/C40 -> 0.53333333 | G40: 0 | H40: 6 | I40: =(G40+H40)/C40 -> 0.4 | J40: 1 | K40: =100%-(F40+I40) -> 0.066666667 | L40: =SUM(F40+I40+K40) -> 1
A41: BAYONNE | B41: CASTRE | C41: 17 | D41: 5 | E41: 1 | F41: =(D41+E41)/C41 -> 0.35294118 | G41: 1 | H41: 7 | I41: =(G41+H41)/C41 -> 0.47058824 | J41: 3 | K41: =100%-(F41+I41) -> 0.17647059 | L41: =SUM(F41+I41+K41) -> 1
A42: BAYONNE | B42: CLERMONT | C42: 17 | D42: 6 | E42: 0 | F42: =(D42+E42)/C42 -> 0.35294118 | G42: 2 | H42: 8 | I42: =(G42+H42)/C42 -> 0.58823529 | J42: 1 | K42: =100%-(F42+I42) -> 0.058823529 | L42: =SUM(F42+I42+K42) -> 1
A43: BAYONNE | B43: LA ROCHELLE | C43: 7 | D43: 3 | E43: 1 | F43: =(D43+E43)/C43 -> 0.57142857 | G43: 1 | H43: 1 | I43: =(G43+H43)/C43 -> 0.28571429 | J43: 1 | K43: =100%-(F43+I43) -> 0.14285714 | L43: =SUM(F43+I43+K43) -> 1
...

Sheet Bordeaux
A1: Bordeaux | B1: saison 2019/2020 | G1: point marquer | H1: saison 2020/2021 | L1: match du jour
B2: nbre match | C2: nbre vitoire | D2: nbre nul | E2: nbre defaite | G2: match dom | H2: =SUM(C8:C20) -> 0 | I2: =SUM(D8:D20) -> 0 | J2: =H2-I2 -> 0 | L2: domicile | M2: exertieur
A3: nbre match D | B3: 9 | C3: 9 | D3: 0 | E3: 0 | G3: par match | H3: =H2/B3 -> 0 | I3: =I2/B3 -> 0 | L3: Bordeaux | M3: pau
A4: nbre match E | B4: 8 | C4: 4 | D4: 1 | E4: 3 | G4: match ext | H4: =SUM(D23:D35) -> #REF! | I4: =SUM(C23:C35) -> #REF! | J4: =H4-I4 -> #REF! | L4: {=INDEX($C$38:$L$50,MATCH(1,($A$38:$A$50=$A$1)*($B$38:$B$50=$M$3),0),4)} -> 0.66666667 | M4: {=INDEX($C$38:$L$50,MATCH(1,($A$38:$A$50=$L$3)*($B$38:$B$50=$M$3),0),7)} -> 0.33333333
A5: nbre match T | B5: =B3+B4 -> 17 | C5: =C3+C4 -> 13 | D5: =D3+D4 -> 1 | E5: =E3+E4 -> 3 | G5: par match | H5: =H4/B4 -> #REF! | I5: =I4/B4 -> #REF! | L5: =100/L4/100 -> 1.5 | M5: =100/M4/100 -> 3
G6: match | H6: =H2+H4 -> #REF! | I6: =I2+I4 -> #REF! | J6: =H6-I6 -> #REF!
A7: journée | B7: adversaire | C7: Lieu Match | D7: Issue match | E7: Score D | F7: Score E | G7: par match | H7: =H6/B5 -> #REF! | I7: =I6/B5 -> #REF! | L7: Bordeaux | M7: Agen
A8: journée 1 | E8: =VLOOKUP(B8,INDIRECT(A8),COLUMN(resultat!D:D),FALSE) -> #REF! | F8: =VLOOKUP(B8,INDIRECT(A8),COLUMN(resultat!E2),FALSE) -> #REF! | L8: Bordeaux | M8: Bayonne
A9: journée 2 | G9: point marquer | H9: saison 2019/2020 | L9: Bordeaux | M9: Brive
A10: journée 3 | G10: match dom | H10: 256 | I10: 91 | J10: 165 | L10: Bordeaux | M10: Castres
A11: journée 4 | G11: par match | H11: 28.444444 | I11: 10.111111 | L11: Bordeaux | M11: Clermont
A12: journée 5 | G12: match ext | H12: 189 | I12: 201 | J12: -12 | L12: Bordeaux | M12: La Rochelle
A13: journée 6 | G13: par match | H13: 23.625 | I13: 25.125 | L13: Bordeaux | M13: Lyon
A14: journée 7 | G14: match | H14: 445 | I14: 292 | J14: 153 | L14: Bordeaux | M14: Montpellier
A15: journée 8 | G15: par match | H15: 26.176471 | I15: 17.176471 | L15: Bordeaux | M15: Paris
A16: journée 9 | L16: Bordeaux | M16: Pau
A17: journée 10 | G17: point marquer | L17: Bordeaux | M17: Racing 92
A18: journée 11 | G18: match dom | L18: Bordeaux | M18: Toulon
A19: journée 12 | G19: par match | L19: Bordeaux | M19: Toulouse
A20: journée 13 | G20: match ext
A21: journée 14 | G21: par match
A22: journée 15 | G22: match
A23: journée 16 | G23: par match
A24: journée 17
A25: journée 18 | G25: point marquer
A26: journée 19 | G26: match dom
A27: journée 20 | G27: par match
A28: journée 21 | G28: match ext
A29: journée 22 | G29: par match
A30: journée 23 | G30: match
A31: journée 24 | G31: par match
A32: journée 25
A33: journée 26
C34: =VLOOKUP($E34,INDIRECT($A34),COLUMN(#REF!),FALSE) -> #REF! | D34: =VLOOKUP($E34,INDIRECT($A34),COLUMN(#REF!),FALSE) -> #REF! | E34: Bordeaux
C35: =VLOOKUP($E35,INDIRECT($A35),COLUMN(#REF!),FALSE) -> #REF! | D35: =VLOOKUP($E35,INDIRECT($A35),COLUMN(#REF!),FALSE) -> #REF! | E35: Bordeaux
A37: club | C37: face a face | D37: nbr de match | E37: victoire D | F37: victoire E | G37: % | H37: defaite D | I37: defaite E | J37: % | K37: nul | L37: %
A38: BORDEAUX | B38: AGEN | C38: 11 | D38: 6 | E38: 2 | F38: =(D38+E38)/C38 -> 0.72727273 | G38: 0 | H38: 3 | I38: =(G38+H38)/C38 -> 0.27272727 | K38: =100%-(F38+I38) -> 0 | L38: =SUM(F38+I38+K38) -> 1
A39: BORDEAUX | B39: BAYONNE | C39: 11 | D39: 6 | E39: 2 | F39: =(D39+E39)/C39 -> 0.72727273 | G39: 0 | H39: 3 | I39: =(G39+H39)/C39 -> 0.27272727 | K39: =100%-(F39+I39) -> 0 | L39: =SUM(F39+I39+K39) -> 1
A40: BORDEAUX | B40: BRIVE | C40: 13 | D40: 5 | E40: 2 | F40: =(D40+E40)/C40 -> 0.53846154 | G40: 0 | H40: 5 | I40: =(G40+H40)/C40 -> 0.38461538 | J40: 1 | K40: =100%-(F40+I40) -> 0.076923077 | L40: =SUM(F40+I40+K40) -> 1
A41: BORDEAUX | B41: CASTRES | C41: 18 | D41: 5 | E41: 2 | F41: =(D41+E41)/C41 -> 0.38888889 | G41: 4 | H41: 6 | I41: =(G41+H41)/C41 -> 0.55555556 | J41: 1 | K41: =100%-(F41+I41) -> 0.055555556 | L41: =SUM(F41+I41+K41) -> 1
...

Sheet Brive
A1: Brive | B1: saison 2019/2020 | G1: point marquer | H1: saison 2020/2021 | L1: match du jour
B2: nbre match | C2: nbre vitoire | D2: nbre nul | E2: nbre defaite | G2: match dom | H2: =SUM(C8:C20) -> 0 | I2: =SUM(D8:D20) -> 0 | J2: =H2-I2 -> 0 | L2: domicile | M2: exertieur
A3: nbre match D | B3: 9 | C3: 7 | D3: 0 | E3: 2 | G3: par match | H3: =H2/B3 -> 0 | I3: =I2/B3 -> 0 | L3: Brive | M3: bordeaux
A4: nbre match E | B4: 8 | C4: 0 | D4: 1 | E4: 7 | G4: match ext | H4: =SUM(D23:D35) -> #REF! | I4: =SUM(C23:C35) -> #REF! | J4: =H4-I4 -> #REF! | L4: {=INDEX($C$38:$L$50,MATCH(1,($A$38:$A$50=$A$1)*($B$38:$B$50=$M$3),0),4)} -> 0.38461538 | M4: {=INDEX($C$38:$L$50,MATCH(1,($A$38:$A$50=$L$3)*($B$38:$B$50=$M$3),0),7)} -> 0.53846154
A5: nbre match T | B5: =B3+B4 -> 17 | C5: =C3+C4 -> 7 | D5: =D3+D4 -> 1 | E5: =E3+E4 -> 9 | G5: par match | H5: =H4/B4 -> #REF! | I5: =I4/B4 -> #REF! | L5: =100/L4/100 -> 2.6 | M5: =100/M4/100 -> 1.8571429
G6: match | H6: =H2+H4 -> #REF! | I6: =I2+I4 -> #REF! | J6: =H6-I6 -> #REF!
A7: journée | B7: adversaire | C7: Lieu Match | D7: Issue match | E7: Score D | F7: Score E | G7: par match | H7: =H6/B5 -> #REF! | I7: =I6/B5 -> #REF! | L7: Brive | M7: Agen
A8: journée 1 | E8: =VLOOKUP(B8,INDIRECT(A8),COLUMN(resultat!D:D),FALSE) -> #REF! | F8: =VLOOKUP(B8,INDIRECT(A8),COLUMN(resultat!E2),FALSE) -> #REF! | L8: Brive | M8: Bayonne
A9: journée 2 | G9: point marquer | H9: saison 2019/2020 | L9: Brive | M9: bordeaux
A10: journée 3 | G10: match dom | H10: 245 | I10: 193 | J10: 52 | L10: Brive | M10: Castres
A11: journée 4 | G11: par match | H11: 27.222222 | I11: 21.444444 | L11: Brive | M11: Clermont
A12: journée 5 | G12: match ext | H12: 105 | I12: 213 | J12: -108 | L12: Brive | M12: La Rochelle
A13: journée 6 | G13: par match | H13: 13.125 | I13: 26.625 | L13: Brive | M13: Lyon
A14: journée 7 | G14: match | H14: 350 | I14: 406 | J14: -56 | L14: Brive | M14: Montpellier
A15: journée 8 | G15: par match | H15: 20.588235 | I15: 23.882353 | L15: Brive | M15: Paris
A16: journée 9 | L16: Brive | M16: Pau
A17: journée 10 | G17: point marquer | L17: Brive | M17: Racing 92
A18: journée 11 | G18: match dom | L18: Brive | M18: Toulon
A19: journée 12 | G19: par match | L19: Brive | M19: Toulouse
A20: journée 13 | G20: match ext
A21: journée 14 | G21: par match
A22: journée 15 | G22: match
A23: journée 16 | G23: par match
A24: journée 17
A25: journée 18 | G25: point marquer
A26: journée 19 | G26: match dom
A27: journée 20 | G27: par match
A28: journée 21 | G28: match ext
A29: journée 22 | G29: par match
A30: journée 23 | G30: match
A31: journée 24 | G31: par match
A32: journée 25
A33: journée 26
C34: =VLOOKUP($E34,INDIRECT($A34),COLUMN(#REF!),FALSE) -> #REF! | D34: =VLOOKUP($E34,INDIRECT($A34),COLUMN(#REF!),FALSE) -> #REF! | E34: Brive
C35: =VLOOKUP($E35,INDIRECT($A35),COLUMN(#REF!),FALSE) -> #REF! | D35: =VLOOKUP($E35,INDIRECT($A35),COLUMN(#REF!),FALSE) -> #REF! | E35: Brive
A37: club | C37: face a face | D37: nbr de match | E37: victoire D | F37: victoire E | G37: % | H37: defaite D | I37: defaite E | J37: % | K37: nul | L37: %
A38: BRIVE | B38: AGEN | C38: 10 | D38: 2 | E38: 0 | F38: =(D38+E38)/C38 -> 0.2 | G38: 3 | H38: 5 | I38: =(G38+H38)/C38 -> 0.8 | K38: =100%-(F38+I38) -> 0 | L38: =SUM(F38+I38+K38) -> 1
A39: BRIVE | B39: BAYONNE | C39: 15 | D39: 6 | E39: 0 | F39: =(D39+E39)/C39 -> 0.4 | G39: 1 | H39: 7 | I39: =(G39+H39)/C39 -> 0.53333333 | J39: 1 | K39: =100%-(F39+I39) -> 0.066666667 | L39: =SUM(F39+I39+K39) -> 1
A40: BRIVE | B40: BORDEAUX | C40: 13 | D40: 5 | E40: 0 | F40: =(D40+E40)/C40 -> 0.38461538 | G40: 2 | H40: 5 | I40: =(G40+H40)/C40 -> 0.53846154 | J40: 1 | K40: =100%-(F40+I40) -> 0.076923077 | L40: =SUM(F40+I40+K40) -> 1
A41: BRIVE | B41: CASTRES | C41: 19 | D41: 6 | E41: 0 | F41: =(D41+E41)/C41 -> 0.31578947 | G41: 2 | H41: 9 | I41: =(G41+H41)/C41 -> 0.57894737 | J41: 2 | K41: =100%-(F41+I41) -> 0.10526316 | L41: =SUM(F41+I41+K41) -> 1
...

Sheet Castres
A1: Castres | B1: saison 2019/2020 | G1: point marquer | H1: saison 2020/2021 | L1: match du jour
B2: nbre match | C2: nbre vitoire | D2: nbre nul | E2: nbre defaite | G2: match dom | H2: =SUM(C8:C20) -> 0 | I2: =SUM(D8:D20) -> 0 | J2: =H2-I2 -> 0 | L2: domicile | M2: exertieur
A3: nbre match D | B3: 8 | C3: 6 | D3: 0 | E3: 2 | G3: par match | H3: =H2/B3 -> 0 | I3: =I2/B3 -> 0 | L3: Castres | M3: brive
A4: nbre match E | B4: 9 | C4: 1 | D4: 0 | E4: 8 | G4: match ext | H4: =SUM(D23:D35) -> #REF! | I4: =SUM(C23:C35) -> #REF! | J4: =H4-I4 -> #REF! | L4: {=INDEX($C$39:$L$50,MATCH(1,($A$39:$A$50=$A$1)*($B$39:$B$50=$M$3),0),4)} -> 0.57894737 | M4: {=INDEX($C$39:$L$50,MATCH(1,($A$39:$A$50=$L$3)*($B$39:$B$50=$M$3),0),7)} -> 0.31578947
A5: nbre match T | B5: =B3+B4 -> 17 | C5: =C3+C4 -> 7 | D5: =D3+D4 -> 0 | E5: =E3+E4 -> 10 | G5: par match | H5: =H4/B4 -> #REF! | I5: =I4/B4 -> #REF! | L5: =100/L4/100 -> 1.7272727 | M5: =100/M4/100 -> 3.1666667
G6: match | H6: =H2+H4 -> #REF! | I6: =I2+I4 -> #REF! | J6: =H6-I6 -> #REF!
A7: journée | B7: adversaire | C7: Lieu Match | D7: Issue match | E7: Score D | F7: Score E | G7: par match | H7: =H6/B5 -> #REF! | I7: =I6/B5 -> #REF! | L7: Castres | M7: Agen
A8: journée 1 | E8: =VLOOKUP(B8,INDIRECT(A8),COLUMN(resultat!D:D),FALSE) -> #REF! | F8: =VLOOKUP(B8,INDIRECT(A8),COLUMN(resultat!E2),FALSE) -> #REF! | L8: Castres | M8: Bayonne
A9: journée 2 | G9: point marquer | H9: saison 2019/2020 | L9: Castres | M9: bordeaux
A10: journée 3 | G10: match dom | H10: 191 | I10: 158 | J10: 33 | L10: Castres | M10: brive
A11: journée 4 | G11: par match | H11: 23.875 | I11: 19.75 | L11: Castres | M11: Clermont
A12: journée 5 | G12: match ext | H12: 175 | I12: 267 | J12: -92 | L12: Castres | M12: La Rochelle
A13: journée 6 | G13: par match | H13: 19.444444 | I13: 29.666667 | L13: Castres | M13: Lyon
A14: journée 7 | G14: match | H14: 366 | I14: 425 | J14: -59 | L14: Castres | M14: Montpellier
A15: journée 8 | G15: par match | H15: 21.529412 | I15: 25 | L15: Castres | M15: Paris
A16: journée 9 | L16: Castres | M16: Pau
A17: journée 10 | G17: point marquer | L17: Castres | M17: Racing 92
A18: journée 11 | G18: match dom | L18: Castres | M18: Toulon
A19: journée 12 | G19: par match | L19: Castres | M19: Toulouse
A20: journée 13 | G20: match ext
A21: journée 14 | G21: par match
A22: journée 15 | G22: match
A23: journée 16 | G23: par match
A24: journée 17
A25: journée 18 | G25: point marquer
A26: journée 19 | G26: match dom
A27: journée 20 | G27: par match
A28: journée 21 | G28: match ext
A29: journée 22 | G29: par match
A30: journée 23 | G30: match
A31: journée 24 | G31: par match
A32: journée 25
A33: journée 26
C34: =VLOOKUP($E34,INDIRECT($A34),COLUMN(#REF!),FALSE) -> #REF! | D34: =VLOOKUP($E34,INDIRECT($A34),COLUMN(#REF!),FALSE) -> #REF! | E34: Castres
C35: =VLOOKUP($E35,INDIRECT($A35),COLUMN(#REF!),FALSE) -> #REF! | D35: =VLOOKUP($E35,INDIRECT($A35),COLUMN(#REF!),FALSE) -> #REF! | E35: Castres
A37: ='Agen '!A37 -> club | C37: ='Agen '!C37 -> nbr de match | D37: ='Agen '!D37 -> victoire D | E37: ='Agen '!E37 -> victoire E | F37: ='Agen '!F37 -> % | G37: ='Agen '!G37 -> defaite D | H37: ='Agen '!H37 -> defaite E | I37: ='Agen '!I37 -> % | J37: ='Agen '!J37 -> nul | ... L37: ='Agen '!L37 -> 0
A38: CASTRES | B38: AGEN | C38: 14 | D38: 6 | E38: 4 | F38: =(D38+E38)/C38 -> 0.71428571 | G38: 1 | H38: 3 | I38: =(G38+H38)/C38 -> 0.28571429 | K38: =100%-(F38+I38) -> 0 | L38: =SUM(F38+I38+K38) -> 1
A39: CASTRES | B39: BAYONNE | C39: 17 | D39: 7 | E39: 1 | F39: =(D39+E39)/C39 -> 0.47058824 | G39: 1 | H39: 5 | I39: =(G39+H39)/C39 -> 0.35294118 | J39: 3 | K39: =100%-(F39+I39) -> 0.17647059 | L39: =SUM(F39+I39+K39) -> 1
A40: CASTRES | B40: BORDEAUX | C40: 18 | D40: 6 | E40: 4 | F40: =(D40+E40)/C40 -> 0.55555556 | G40: 2 | H40: 5 | I40: =(G40+H40)/C40 -> 0.38888889 | J40: 1 | K40: =100%-(F40+I40) -> 0.055555556 | L40: =SUM(F40+I40+K40) -> 1
A41: CASTRES | B41: BRIVE | C41: 19 | D41: 9 | E41: 2 | F41: =(D41+E41)/C41 -> 0.57894737 | G41: 0 | H41: 6 | I41: =(G41+H41)/C41 -> 0.31578947 | J41: 2 | K41: =100%-(F41+I41) -> 0.10526316 | L41: =SUM(F41+I41+K41) -> 1
...

Sheet Clermont
A1: Clermont | B1: saison 2019/2020 | G1: point marquer | H1: saison 2020/2021 | L1: match du jour
B2: nbre match | C2: nbre vitoire | D2: nbre nul | E2: nbre defaite | G2: match dom | H2: =SUM(C8:C20) -> 0 | I2: =SUM(D8:D20) -> 0 | J2: =H2-I2 -> 0 | L2: domicile | M2: exertieur
A3: nbre match D | B3: 8 | C3: 6 | D3: 0 | E3: 2 | G3: par match | H3: =H2/B3 -> 0 | I3: =I2/B3 -> 0 | L3: Clermont | M3: Agen
A4: nbre match E | B4: 9 | C4: 4 | D4: 0 | E4: 5 | G4: match ext | H4: =SUM(D23:D35) -> #REF! | I4: =SUM(C23:C35) -> #REF! | J4: =H4-I4 -> #REF! | L4: {=INDEX($C$38:$L$50,MATCH(1,($A$38:$A$50=$A$1)*($B$38:$B$50=$M$3),0),4)} -> 0.85714286 | M4: {=INDEX($C$38:$L$50,MATCH(1,($A$38:$A$50=$L$3)*($B$38:$B$50=$M$3),0),7)} -> 0.14285714
A5: nbre match T | B5: =B3+B4 -> 17 | C5: =C3+C4 -> 10 | D5: =D3+D4 -> 0 | E5: =E3+E4 -> 7 | G5: par match | H5: =H4/B4 -> #REF! | I5: =I4/B4 -> #REF! | L5: =100/L4/100 -> 1.1666667 | M5: =100/M4/100 -> 7
G6: match | H6: =H2+H4 -> #REF! | I6: =I2+I4 -> #REF! | J6: =H6-I6 -> #REF!
A7: journée | B7: adversaire | C7: Lieu Match | D7: Issue match | E7: Score D | F7: Score E | G7: par match | H7: =H6/B5 -> #REF! | I7: =I6/B5 -> #REF! | L7: Clermont | M7: Agen
A8: journée 1 | E8: =VLOOKUP(B8,INDIRECT(A8),COLUMN(resultat!D:D),FALSE) -> #REF! | F8: =VLOOKUP(B8,INDIRECT(A8),COLUMN(resultat!E2),FALSE) -> #REF! | L8: Clermont | M8: Bayonne
A9: journée 2 | G9: point marquer | H9: saison 2019/2020 | L9: Clermont | M9: Bordeaux
A10: journée 3 | G10: match dom | H10: 182 | I10: 150 | J10: 32 | L10: Clermont | M10: Brive
A11: journée 4 | G11: par match | H11: 22.75 | I11: 18.75 | L11: Clermont | M11: Castres
A12: journée 5 | G12: match ext | H12: 203 | I12: 255 | J12: -52 | L12: Clermont | M12: La Rochelle
A13: journée 6 | G13: par match | H13: 22.555556 | I13: 28.333333 | L13: Clermont | M13: Lyon
A14: journée 7 | G14: match | H14: 385 | I14: 405 | J14: -20 | L14: Clermont | M14: Montpellier
A15: journée 8 | G15: par match | H15: 22.647059 | I15: 23.823529 | L15: Clermont | M15: Paris
A16: journée 9 | L16: Clermont | M16: Pau
A17: journée 10 | G17: point marquer | L17: Clermont | M17: Racing 92
A18: journée 11 | G18: match dom | L18: Clermont | M18: Toulon
A19: journée 12 | G19: par match | L19: Clermont | M19: Toulouse
A20: journée 13 | G20: match ext
A21: journée 14 | G21: par match
A22: journée 15 | G22: match
A23: journée 16 | G23: par match
A24: journée 17
A25: journée 18 | G25: point marquer
A26: journée 19 | G26: match dom
A27: journée 20 | G27: par match
A28: journée 21 | G28: match ext
A29: journée 22 | G29: par match
A30: journée 23 | G30: match
A31: journée 24 | G31: par match
A32: journée 25
A33: journée 26
C34: =VLOOKUP($E34,INDIRECT($A34),COLUMN(#REF!),FALSE) -> #REF! | D34: =VLOOKUP($E34,INDIRECT($A34),COLUMN(#REF!),FALSE) -> #REF! | E34: Clermont
C35: =VLOOKUP($E35,INDIRECT($A35),COLUMN(#REF!),FALSE) -> #REF! | D35: =VLOOKUP($E35,INDIRECT($A35),COLUMN(#REF!),FALSE) -> #REF! | E35: Clermont
A37: club | C37: face a face | D37: nbr de match | E37: victoire D | F37: victoire E | G37: % | H37: defaite D | I37: defaite E | J37: % | K37: nul | L37: %
A38: CLERMONT | B38: AGEN | C38: 14 | D38: 7 | E38: 5 | F38: =(D38+E38)/C38 -> 0.85714286 | G38: 0 | H38: 2 | I38: =(G38+H38)/C38 -> 0.14285714 | K38: =100%-(F38+I38) -> 0 | L38: =SUM(F38+I38+K38) -> 1
A39: CLERMONT | B39: BAYONNE | C39: 17 | D39: 8 | E39: 2 | F39: =(D39+E39)/C39 -> 0.58823529 | G39: 0 | H39: 6 | I39: =(G39+H39)/C39 -> 0.35294118 | J39: 1 | K39: =100%-(F39+I39) -> 0.058823529 | L39: =SUM(F39+I39+K39) -> 1
A40: CLERMONT | B40: BORDEAUX | C40: 18 | D40: 7 | E40: 3 | F40: =(D40+E40)/C40 -> 0.55555556 | G40: 1 | H40: 5 | I40: =(G40+H40)/C40 -> 0.33333333 | J40: 2 | K40: =100%-(F40+I40) -> 0.11111111 | L40: =SUM(F40+I40+K40) -> 1
A41: CLERMONT | B41: BRIVE | C41: 19 | D41: 8 | E41: 5 | F41: =(D41+E41)/C41 -> 0.68421053 | G41: 1 | H41: 4 | I41: =(G41+H41)/C41 -> 0.26315789 | K41: =100%-(F41+I41) -> 0.052631579 | L41: =SUM(F41+I41+K41) -> 1
...

Sheet La Rochelle
A1: La Rochelle | B1: saison 2019/2020 | G1: point marquer | H1: saison 2020/2021 | L1: match du jour
B2: nbre match | C2: nbre vitoire | D2: nbre nul | E2: nbre defaite | G2: match dom | H2: =SUM(C8:C19) -> 0 | I2: =SUM(D8:D19) -> 0 | J2: =H2-I2 -> 0 | L2: domicile | M2: exertieur
A3: nbre match D | B3: 8 | C3: 8 | D3: 0 | E3: 0 | G3: par match | H3: =H2/B3 -> 0 | I3: =I2/B3 -> 0 | L3: La Rochelle | M3: lyon
A4: nbre match E | B4: 9 | C4: 1 | D4: 0 | E4: 8 | G4: match ext | H4: =SUM(D23:D35) -> #REF! | I4: =SUM(C23:C35) -> #REF! | J4: =H4-I4 -> #REF! | L4: {=INDEX($C$38:$L$50,MATCH(1,($A$38:$A$50=$A$1)*($B$38:$B$50=$M$3),0),4)} -> 0.46153846 | M4: {=INDEX($C$38:$L$50,MATCH(1,($A$38:$A$50=$L$3)*($B$38:$B$50=$M$3),0),7)} -> 0.46153846
A5: nbre match T | B5: =B3+B4 -> 17 | C5: =C3+C4 -> 9 | D5: =D3+D4 -> 0 | E5: =E3+E4 -> 8 | G5: par match | H5: =H4/B4 -> #REF! | I5: =I4/B4 -> #REF! | L5: =100/L4/100 -> 2.1666667 | M5: =100/M4/100 -> 2.1666667
G6: match | H6: =H2+H4 -> #REF! | I6: =I2+I4 -> #REF! | J6: =H6-I6 -> #REF!
A7: journée | B7: adversaire | C7: Lieu Match | D7: Issue match | E7: Score D | F7: Score E | G7: par match | H7: =H6/B5 -> #REF! | I7: =I6/B5 -> #REF! | L7: La Rochelle | M7: Agen
A8: journée 1 | E8: =VLOOKUP(B8,INDIRECT(A8),COLUMN(resultat!D:D),FALSE) -> #REF! | F8: =VLOOKUP(B8,INDIRECT(A8),COLUMN(resultat!E2),FALSE) -> #REF! | L8: La Rochelle | M8: Bordeaux
A9: journée 2 | G9: point marquer | H9: saison 2019/2020 | L9: La Rochelle | M9: Brive
A10: journée 3 | G10: match dom | H10: 223 | I10: 125 | J10: 98 | L10: La Rochelle | M10: Castres
A11: journée 4 | G11: par match | H11: 27.875 | I11: 15.625 | L11: La Rochelle | M11: Clermont
A12: journée 5 | G12: match ext | H12: 137 | I12: 224 | J12: -87 | L12: La Rochelle | M12: Lyon
A13: journée 6 | G13: par match | H13: 15.222222 | I13: 24.888889 | L13: La Rochelle | M13: Montpellier
A14: journée 7 | G14: match | H14: 360 | I14: 349 | J14: 11 | L14: La Rochelle | M14: Paris
A15: journée 8 | G15: par match | H15: 21.176471 | I15: 20.529412 | L15: La Rochelle | M15: Pau
A16: journée 9 | L16: La Rochelle | M16: Racing 92
A17: journée 10 | G17: point marquer | L17: La Rochelle | M17: Toulon
A18: journée 11 | G18: match dom | L18: La Rochelle | M18: Toulouse
A19: journée 12 | G19: par match
A20: journée 13 | G20: match ext
A21: journée 14 | G21: par match
A22: journée 15 | G22: match
A23: journée 16 | G23: par match
A24: journée 17
A25: journée 18 | G25: point marquer
A26: journée 19 | G26: match dom
A27: journée 20 | G27: par match
A28: journée 21 | G28: match ext
A29: journée 22 | G29: par match
A30: journée 23 | G30: match
A31: journée 24 | G31: par match
A32: journée 25
A33: journée 26
C34: =VLOOKUP($E34,INDIRECT($A34),COLUMN(#REF!),FALSE) -> #REF! | D34: =VLOOKUP($E34,INDIRECT($A34),COLUMN(#REF!),FALSE) -> #REF! | E34: La rochelle
C35: =VLOOKUP($E35,INDIRECT($A35),COLUMN(#REF!),FALSE) -> #REF! | D35: =VLOOKUP($E35,INDIRECT($A35),COLUMN(#REF!),FALSE) -> #REF! | E35: La rochelle
A37: club | C37: face a face | D37: nbr de match | E37: victoire D | F37: victoire E | G37: % | H37: defaite D | I37: defaite E | J37: % | K37: nul | L37: %
A38: LA ROCHELLE | B38: AGEN | C38: 12 | D38: 4 | E38: 2 | F38: =(D38+E38)/C38 -> 0.5 | G38: 2 | H38: 4 | I38: =(G38+H38)/C38 -> 0.5 | K38: =100%-(F38+I38) -> 0 | L38: =SUM(F38+I38+K38) -> 1
A39: LA ROCHELLE | B39: BAYONNE | C39: 7 | D39: 1 | E39: 1 | F39: =(D39+E39)/C39 -> 0.28571429 | G39: 1 | H39: 3 | I39: =(G39+H39)/C39 -> 0.57142857 | J39: 1 | K39: =100%-(F39+I39) -> 0.14285714 | L39: =SUM(F39+I39+K39) -> 1
A40: LA ROCHELLE | B40: BORDEAUX | C40: 11 | D40: 4 | E40: 1 | F40: =(D40+E40)/C40 -> 0.45454545 | G40: 1 | H40: 5 | I40: =(G40+H40)/C40 -> 0.54545455 | K40: =100%-(F40+I40) -> 0 | L40: =SUM(F40+I40+K40) -> 1
A41: LA ROCHELLE | B41: BRIVE | C41: 11 | D41: 6 | E41: 1 | F41: =(D41+E41)/C41 -> 0.63636364 | G41: 0 | H41: 4 | I41: =(G41+H41)/C41 -> 0.36363636 | K41: =100%-(F41+I41) -> 0 | L41: =SUM(F41+I41+K41) -> 1
...

Sheet Lyon 
A1: Lyon | B1: saison 2019/2020 | G1: point marquer | H1: saison 2020/2021 | L1: match du jour
B2: nbre match | C2: nbre vitoire | D2: nbre nul | E2: nbre defaite | G2: match dom | H2: =SUM(C8:C20) -> 0 | I2: =SUM(D8:D20) -> 0 | J2: =H2-I2 -> 0 | L2: domicile | M2: exertieur
A3: nbre match D | B3: 9 | C3: 9 | D3: 0 | E3: 0 | G3: par match | H3: =H2/B3 -> 0 | I3: =I2/B3 -> 0 | L3: Lyon | M3: Agen
A4: nbre match E | B4: 8 | C4: 3 | D4: 0 | E4: 5 | G4: match ext | H4: =SUM(D23:D35) -> #REF! | I4: =SUM(C23:C35) -> #REF! | J4: =H4-I4 -> #REF! | L4: {=INDEX($C$38:$L$50,MATCH(1,($A$38:$A$50=$A$1)*($B$38:$B$50=$M$3),0),4)} -> 0.71428571 | M4: {=INDEX($C$38:$L$50,MATCH(1,($A$38:$A$50=$L$3)*($B$38:$B$50=$M$3),0),7)} -> 0.28571429
A5: nbre match T | B5: =B3+B4 -> 17 | C5: =C3+C4 -> 12 | D5: =D3+D4 -> 0 | E5: =E3+E4 -> 5 | G5: par match | H5: =H4/B4 -> #REF! | I5: =I4/B4 -> #REF! | L5: =100/L4/100 -> 1.4 | M5: =100/M4/100 -> 3.5
G6: match | H6: =H2+H4 -> #REF! | I6: =I2+I4 -> #REF! | J6: =H6-I6 -> #REF!
A7: journée | B7: adversaire | C7: Lieu Match | D7: Issue match | E7: Score D | F7: Score E | G7: par match | H7: =H6/B5 -> #REF! | I7: =I6/B5 -> #REF! | L7: Lyon | M7: Agen
A8: journée 1 | E8: =VLOOKUP(B8,INDIRECT(A8),COLUMN(resultat!D:D),FALSE) -> #REF! | F8: =VLOOKUP(B8,INDIRECT(A8),COLUMN(resultat!E2),FALSE) -> #REF! | L8: Lyon | M8: Bayonne
A9: journée 2 | G9: point marquer | H9: saison 2019/2020 | L9: Lyon | M9: Bordeaux
A10: journée 3 | G10: match dom | H10: 286 | I10: 104 | J10: 182 | L10: Lyon | M10: Brive
A11: journée 4 | G11: par match | H11: 31.777778 | I11: 11.555556 | L11: Lyon | M11: Castres
A12: journée 5 | G12: match ext | H12: 134 | I12: 187 | J12: -53 | L12: Lyon | M12: Clermont
A13: journée 6 | G13: par match | H13: 16.75 | I13: 23.375 | L13: Lyon | M13: La Rochelle
A14: journée 7 | G14: match | H14: 420 | I14: 291 | J14: 129 | L14: Lyon | M14: Montpellier
A15: journée 8 | G15: par match | H15: 24.705882 | I15: 17.117647 | L15: Lyon | M15: Paris
A16: journée 9 | L16: Lyon | M16: Pau
A17: journée 10 | G17: point marquer | L17: Lyon | M17: Racing 92
A18: journée 11 | G18: match dom | L18: Lyon | M18: Toulon
A19: journée 12 | G19: par match | L19: Lyon | M19: Toulouse
A20: journée 13 | G20: match ext
A21: journée 14 | G21: par match
A22: journée 15 | G22: match
A23: journée 16 | G23: par match
A24: journée 17
A25: journée 18 | G25: point marquer
A26: journée 19 | G26: match dom
A27: journée 20 | G27: par match
A28: journée 21 | G28: match ext
A29: journée 22 | G29: par match
A30: journée 23 | G30: match
A31: journée 24 | G31: par match
A32: journée 25
A33: journée 26
C34: =VLOOKUP($E34,INDIRECT($A34),COLUMN(#REF!),FALSE) -> #REF! | D34: =VLOOKUP($E34,INDIRECT($A34),COLUMN(#REF!),FALSE) -> #REF! | E34: Lyon
C35: =VLOOKUP($E35,INDIRECT($A35),COLUMN(#REF!),FALSE) -> #REF! | D35: =VLOOKUP($E35,INDIRECT($A35),COLUMN(#REF!),FALSE) -> #REF! | E35: Lyon
A37: club | C37: face a face | D37: nbr de match | E37: victoire D | F37: victoire E | G37: % | H37: defaite D | I37: defaite E | J37: % | K37: nul | L37: %
A38: LYON | B38: AGEN | C38: 7 | D38: 3 | E38: 2 | F38: =(D38+E38)/C38 -> 0.71428571 | G38: 0 | H38: 2 | I38: =(G38+H38)/C38 -> 0.28571429 | K38: =100%-(F38+I38) -> 0 | L38: =SUM(F38+I38+K38) -> 1
A39: LYON | B39: BAYONNE | C39: 7 | D39: 3 | E39: 0 | F39: =(D39+E39)/C39 -> 0.42857143 | G39: 1 | H39: 2 | I39: =(G39+H39)/C39 -> 0.42857143 | J39: 1 | K39: =100%-(F39+I39) -> 0.14285714 | L39: =SUM(F39+I39+K39) -> 1
A40: LYON | B40: BORDEAUX | C40: 12 | D40: 5 | E40: 0 | F40: =(D40+E40)/C40 -> 0.41666667 | G40: 1 | H40: 6 | I40: =(G40+H40)/C40 -> 0.58333333 | K40: =100%-(F40+I40) -> 0 | L40: =SUM(F40+I40+K40) -> 1
A41: LYON | B41: BRIVE | C41: 13 | D41: 3 | E41: 2 | F41: =(D41+E41)/C41 -> 0.38461538 | G41: 1 | H41: 3 | I41: =(G41+H41)/C41 -> 0.30769231 | J41: 3 | K41: =100%-(F41+I41) -> 0.30769231 | L41: =SUM(F41+I41+K41) -> 1
...

Sheet Montpellier
A1: Montpellier | B1: saison 2019/2020 | G1: point marquer | H1: saison 2020/2021 | L1: match du jour
B2: nbre match | C2: nbre vitoire | D2: nbre nul | E2: nbre defaite | G2: match dom | H2: =SUM(C8:C20) -> 0 | I2: =SUM(D8:D20) -> 0 | J2: =H2-I2 -> 0 | L2: domicile | M2: exertieur
A3: nbre match D | B3: 8 | C3: 6 | D3: 2 | E3: 0 | G3: par match | H3: =H2/B3 -> 0 | I3: =I2/B3 -> 0 | L3: Montpellier | M3: Agen
A4: nbre match E | B4: 9 | C4: 0 | D4: 1 | E4: 8 | G4: match ext | H4: =SUM(D23:D35) -> #REF! | I4: =SUM(C23:C35) -> #REF! | J4: =H4-I4 -> #REF! | L4: {=INDEX($C$38:$L$50,MATCH(1,($A$38:$A$50=$A$1)*($B$38:$B$50=$M$3),0),4)} -> 0.76923077 | M4: {=INDEX($C$38:$L$50,MATCH(1,($A$38:$A$50=$L$3)*($B$38:$B$50=$M$3),0),7)} -> 0.23076923
A5: nbre match T | B5: =B3+B4 -> 17 | C5: =C3+C4 -> 6 | D5: =D3+D4 -> 3 | E5: =E3+E4 -> 8 | G5: par match | H5: =H4/B4 -> #REF! | I5: =I4/B4 -> #REF! | L5: =100/L4/100 -> 1.3 | M5: =100/M4/100 -> 4.3333333
G6: match | H6: =H2+H4 -> #REF! | I6: =I2+I4 -> #REF! | J6: =H6-I6 -> #REF!
A7: journée | B7: adversaire | C7: Lieu Match | D7: Issue match | E7: Score D | F7: Score E | G7: par match | H7: =H6/B5 -> #REF! | I7: =I6/B5 -> #REF! | L7: Montpellier | M7: Agen
A8: journée 1 | E8: =VLOOKUP(B8,INDIRECT(A8),COLUMN(resultat!D:D),FALSE) -> #REF! | F8: =VLOOKUP(B8,INDIRECT(A8),COLUMN(resultat!E2),FALSE) -> #REF! | L8: Montpellier | M8: Bayonne
A9: journée 2 | G9: point marquer | H9: saison 2019/2020 | L9: Montpellier | M9: Bordeaux
A10: journée 3 | G10: match dom | H10: 236 | I10: 160 | J10: 76 | L10: Montpellier | M10: Brive
A11: journée 4 | G11: par match | H11: 29.5 | I11: 20 | L11: Montpellier | M11: Castres
A12: journée 5 | G12: match ext | H12: 143 | I12: 203 | J12: -60 | L12: Montpellier | M12: Clermont
A13: journée 6 | G13: par match | H13: 15.888889 | I13: 22.555556 | L13: Montpellier | M13: La Rochelle
A14: journée 7 | G14: match | H14: 379 | I14: 363 | J14: 16 | L14: Montpellier | M14: Lyon
A15: journée 8 | G15: par match | H15: 22.294118 | I15: 21.352941 | L15: Montpellier | M15: Paris
A16: journée 9 | L16: Montpellier | M16: Pau
A17: journée 10 | G17: point marquer | L17: Montpellier | M17: Racing 92
A18: journée 11 | G18: match dom | L18: Montpellier | M18: Toulon
A19: journée 12 | G19: par match | L19: Montpellier | M19: Toulouse
A20: journée 13 | G20: match ext
A21: journée 14 | G21: par match
A22: journée 15 | G22: match
A23: journée 16 | G23: par match
A24: journée 17
A25: journée 18 | G25: point marquer
A26: journée 19 | G26: match dom
A27: journée 20 | G27: par match
A28: journée 21 | G28: match ext
A29: journée 22 | G29: par match
A30: journée 23 | G30: match
A31: journée 24 | G31: par match
A32: journée 25
A33: journée 26
C34: =VLOOKUP($E34,INDIRECT($A34),COLUMN(#REF!),FALSE) -> #REF! | D34: =VLOOKUP($E34,INDIRECT($A34),COLUMN(#REF!),FALSE) -> #REF! | E34: Montpellier
C35: =VLOOKUP($E35,INDIRECT($A35),COLUMN(#REF!),FALSE) -> #REF! | D35: =VLOOKUP($E35,INDIRECT($A35),COLUMN(#REF!),FALSE) -> #REF! | E35: Montpellier
A37: club | C37: face a face | D37: nbr de match | E37: victoire D | F37: victoire E | G37: % | H37: defaite D | I37: defaite E | J37: % | K37: nul | L37: %
A38: MONTPELLIER | B38: AGEN | C38: 13 | D38: 6 | E38: 4 | F38: =(D38+E38)/C38 -> 0.76923077 | G38: 0 | H38: 3 | I38: =(G38+H38)/C38 -> 0.23076923 | K38: =100%-(F38+I38) -> 0 | L38: =SUM(F38+I38+K38) -> 1
A39: MONTPELLIER | B39: BAYONNE | C39: 18 | D39: 7 | E39: 4 | F39: =(D39+E39)/C39 -> 0.61111111 | G39: 2 | H39: 5 | I39: =(G39+H39)/C39 -> 0.38888889 | K39: =100%-(F39+I39) -> 0 | L39: =SUM(F39+I39+K39) -> 1
A40: MONTPELLIER | B40: BORDEAUX | C40: 17 | D40: 7 | E40: 5 | F40: =(D40+E40)/C40 -> 0.70588235 | G40: 1 | H40: 2 | I40: =(G40+H40)/C40 -> 0.17647059 | J40: 2 | K40: =100%-(F40+I40) -> 0.11764706 | L40: =SUM(F40+I40+K40) -> 1
A41: MONTPELLIER | B41: BRIVE | C41: 19 | D41: 6 | E41: 1 | F41: =(D41+E41)/C41 -> 0.36842105 | G41: 4 | H41: 8 | I41: =(G41+H41)/C41 -> 0.63157895 | K41: =100%-(F41+I41) -> 0 | L41: =SUM(F41+I41+K41) -> 1
...

Sheet Paris
A1: Paris | B1: saison 2019/2020 | G1: point marquer | H1: saison 2020/2021 | L1: match du jour
B2: nbre match | C2: nbre vitoire | D2: nbre nul | E2: nbre defaite | G2: match dom | H2: =SUM(C8:C20) -> 0 | I2: =SUM(D8:D20) -> 0 | J2: =H2-I2 -> 0 | L2: domicile | M2: exertieur
A3: nbre match D | B3: 7 | C3: 5 | D3: 0 | E3: 2 | G3: par match | H3: =H2/B3 -> 0 | I3: =I2/B3 -> 0 | L3: Paris | M3: Agen
A4: nbre match E | B4: 10 | C4: 0 | D4: 1 | E4: 9 | G4: match ext | H4: =SUM(D23:D35) -> #REF! | I4: =SUM(C23:C35) -> #REF! | J4: =H4-I4 -> #REF! | L4: {=INDEX($C$38:$L$50,MATCH(1,($A$38:$A$50=$A$1)*($B$38:$B$50=$M$3),0),4)} -> 0.61538462 | M4: {=INDEX($C$38:$L$50,MATCH(1,($A$38:$A$50=$L$3)*($B$38:$B$50=$M$3),0),7)} -> 0.38461538
A5: nbre match T | B5: =B3+B4 -> 17 | C5: =C3+C4 -> 5 | D5: =D3+D4 -> 1 | E5: =E3+E4 -> 11 | G5: par match | H5: =H4/B4 -> #REF! | I5: =I4/B4 -> #REF! | L5: =100/L4/100 -> 1.625 | M5: =100/M4/100 -> 2.6
G6: match | H6: =H2+H4 -> #REF! | I6: =I2+I4 -> #REF! | J6: =H6-I6 -> #REF!
A7: journée | B7: adversaire | C7: Lieu Match | D7: Issue match | E7: Score D | F7: Score E | G7: par match | H7: =H6/B5 -> #REF! | I7: =I6/B5 -> #REF! | L7: Paris | M7: Agen
A8: journée 1 | E8: =VLOOKUP(B8,INDIRECT(A8),COLUMN(resultat!D:D),FALSE) -> #REF! | F8: =VLOOKUP(B8,INDIRECT(A8),COLUMN(resultat!E2),FALSE) -> #REF! | L8: Paris | M8: Bayonne
A9: journée 2 | G9: point marquer | H9: saison 2019/2020 | L9: Paris | M9: Bordeaux
A10: journée 3 | G10: match dom | H10: 165 | I10: 170 | J10: -5 | L10: Paris | M10: Brive
A11: journée 4 | G11: par match | H11: 23.571429 | I11: 24.285714 | L11: Paris | M11: Castres
A12: journée 5 | G12: match ext | H12: 154 | I12: 275 | J12: -121 | L12: Paris | M12: Clermont
A13: journée 6 | G13: par match | H13: 15.4 | I13: 27.5 | L13: Paris | M13: La Rochelle
A14: journée 7 | G14: match | H14: 319 | I14: 445 | J14: -126 | L14: Paris | M14: Lyon
A15: journée 8 | G15: par match | H15: 18.764706 | I15: 26.176471 | L15: Paris | M15: Montpellier
A16: journée 9 | L16: Paris | M16: Pau
A17: journée 10 | G17: point marquer | L17: Paris | M17: Racing 92
A18: journée 11 | G18: match dom | L18: Paris | M18: Toulon
A19: journée 12 | G19: par match | L19: Paris | M19: Toulouse
A20: journée 13 | G20: match ext
A21: journée 14 | G21: par match
A22: journée 15 | G22: match
A23: journée 16 | G23: par match
A24: journée 17
A25: journée 18 | G25: point marquer
A26: journée 19 | G26: match dom
A27: journée 20 | G27: par match
A28: journée 21 | G28: match ext
A29: journée 22 | G29: par match
A30: journée 23 | G30: match
A31: journée 24 | G31: par match
A32: journée 25
A33: journée 26
C34: =VLOOKUP($E34,INDIRECT($A34),COLUMN(#REF!),FALSE) -> #REF! | D34: =VLOOKUP($E34,INDIRECT($A34),COLUMN(#REF!),FALSE) -> #REF! | E34: Paris
C35: =VLOOKUP($E35,INDIRECT($A35),COLUMN(#REF!),FALSE) -> #REF! | D35: =VLOOKUP($E35,INDIRECT($A35),COLUMN(#REF!),FALSE) -> #REF! | E35: Paris
A37: club | C37: face a face | D37: nbr de match | E37: victoire D | F37: victoire E | G37: % | H37: defaite D | I37: defaite E | J37: % | K37: nul | L37: %
A38: PARIS | B38: AGEN | C38: 13 | D38: 5 | E38: 3 | F38: =(D38+E38)/C38 -> 0.61538462 | G38: 1 | H38: 4 | I38: =(G38+H38)/C38 -> 0.38461538 | K38: =100%-(F38+I38) -> 0 | L38: =SUM(F38+I38+K38) -> 1
A39: PARIS | B39: BAYONNE | C39: 18 | D39: 8 | E39: 1 | F39: =(D39+E39)/C39 -> 0.5 | G39: 1 | H39: 8 | I39: =(G39+H39)/C39 -> 0.5 | K39: =100%-(F39+I39) -> 0 | L39: =SUM(F39+I39+K39) -> 1
A40: PARIS | B40: BORDEAUX | C40: 17 | D40: 7 | E40: 1 | F40: =(D40+E40)/C40 -> 0.47058824 | G40: 1 | H40: 8 | I40: =(G40+H40)/C40 -> 0.52941176 | J40: 1 | K40: =100%-(F40+I40) -> 0 | L40: =SUM(F40+I40+K40) -> 1
A41: PARIS | B41: BRIVE | C41: 19 | D41: 8 | E41: 0 | F41: =(D41+E41)/C41 -> 0.42105263 | G41: 1 | H41: 10 | I41: =(G41+H41)/C41 -> 0.57894737 | K41: =100%-(F41+I41) -> 0 | L41: =SUM(F41+I41+K41) -> 1
...

Sheet Pau
A1: Pau | B1: saison 2019/2020 | G1: point marquer | H1: saison 2020/2021 | L1: match du jour
B2: nbre match | C2: nbre vitoire | D2: nbre nul | E2: nbre defaite | G2: match dom | H2: =SUM(C8:C20) -> 0 | I2: =SUM(D8:D20) -> 0 | J2: =H2-I2 -> 0 | L2: domicile | M2: exertieur
A3: nbre match D | B3: 9 | C3: 4 | D3: 0 | E3: 5 | G3: par match | H3: =H2/B3 -> 0 | I3: =I2/B3 -> 0 | L3: Pau | M3: Agen
A4: nbre match E | B4: 8 | C4: 2 | D4: 0 | E4: 6 | G4: match ext | H4: =SUM(D23:D35) -> #REF! | I4: =SUM(C23:C35) -> #REF! | J4: =H4-I4 -> #REF! | L4: {=INDEX($C$38:$L$50,MATCH(1,($A$38:$A$50=$A$1)*($B$38:$B$50=$M$3),0),4)} -> 0.72727273 | M4: {=INDEX($C$38:$L$50,MATCH(1,($A$38:$A$50=$L$3)*($B$38:$B$50=$M$3),0),7)} -> 0.27272727
A5: nbre match T | B5: =B3+B4 -> 17 | C5: =C3+C4 -> 6 | D5: =D3+D4 -> 0 | E5: =E3+E4 -> 11 | G5: par match | H5: =H4/B4 -> #REF! | I5: =I4/B4 -> #REF! | L5: =100/L4/100 -> 1.375 | M5: =100/M4/100 -> 3.6666667
G6: match | H6: =H2+H4 -> #REF! | I6: =I2+I4 -> #REF! | J6: =H6-I6 -> #REF!
A7: journée | B7: adversaire | C7: Lieu Match | D7: Issue match | E7: Score D | F7: Score E | G7: par match | H7: =H6/B5 -> #REF! | I7: =I6/B5 -> #REF! | L7: Pau | M7: Agen
A8: journée 1 | E8: =VLOOKUP(B8,INDIRECT(A8),COLUMN(resultat!D:D),FALSE) -> #REF! | F8: =VLOOKUP(B8,INDIRECT(A8),COLUMN(resultat!E2),FALSE) -> #REF! | L8: Pau | M8: Bayonne
A9: journée 2 | G9: point marquer | H9: saison 2019/2020 | L9: Pau | M9: Bordeaux
A10: journée 3 | G10: match dom | H10: 142 | I10: 195 | J10: -53 | L10: Pau | M10: Brive
A11: journée 4 | G11: par match | H11: 15.777778 | I11: 21.666667 | L11: Pau | M11: Castres
A12: journée 5 | G12: match ext | H12: 159 | I12: 205 | J12: -46 | L12: Pau | M12: Clermont
A13: journée 6 | G13: par match | H13: 19.875 | I13: 25.625 | L13: Pau | M13: La Rochelle
A14: journée 7 | G14: match | H14: 301 | I14: 400 | J14: -99 | L14: Pau | M14: Lyon
A15: journée 8 | G15: par match | H15: 17.705882 | I15: 23.529412 | L15: Pau | M15: Montpellier
A16: journée 9 | L16: Pau | M16: Paris
A17: journée 10 | G17: point marquer | L17: Pau | M17: Racing 92
A18: journée 11 | G18: match dom | L18: Pau | M18: Toulon
A19: journée 12 | G19: par match | L19: Pau | M19: Toulouse
A20: journée 13 | G20: match ext
A21: journée 14 | G21: par match
A22: journée 15 | G22: match
A23: journée 16 | G23: par match
A24: journée 17
A25: journée 18 | G25: point marquer
A26: journée 19 | G26: match dom
A27: journée 20 | G27: par match
A28: journée 21 | G28: match ext
A29: journée 22 | G29: par match
A30: journée 23 | G30: match
A31: journée 24 | G31: par match
A32: journée 25
A33: journée 26
C34: =VLOOKUP($E34,INDIRECT($A34),COLUMN(#REF!),FALSE) -> #REF! | D34: =VLOOKUP($E34,INDIRECT($A34),COLUMN(#REF!),FALSE) -> #REF! | E34: Pau
C35: =VLOOKUP($E35,INDIRECT($A35),COLUMN(#REF!),FALSE) -> #REF! | D35: =VLOOKUP($E35,INDIRECT($A35),COLUMN(#REF!),FALSE) -> #REF! | E35: Pau
A37: club | C37: face a face | D37: nbr de match | E37: victoire D | F37: victoire E | G37: % | H37: defaite D | I37: defaite E | J37: % | K37: nul | L37: %
A38: PAU | B38: AGEN | C38: 11 | D38: 5 | E38: 3 | F38: =(D38+E38)/C38 -> 0.72727273 | G38: 1 | H38: 2 | I38: =(G38+H38)/C38 -> 0.27272727 | K38: =100%-(F38+I38) -> 0 | L38: =SUM(F38+I38+K38) -> 1
A39: PAU | B39: BAYONNE | C39: 3 | D39: 1 | E39: 1 | F39: =(D39+E39)/C39 -> 0.66666667 | G39: 0 | H39: 0 | I39: =(G39+H39)/C39 -> 0 | J39: 1 | K39: =100%-(F39+I39) -> 0.33333333 | L39: =SUM(F39+I39+K39) -> 1
A40: PAU | B40: BORDEAUX | C40: 9 | D40: 2 | E40: 1 | F40: =(D40+E40)/C40 -> 0.33333333 | G40: 3 | H40: 3 | I40: =(G40+H40)/C40 -> 0.66666667 | K40: =100%-(F40+I40) -> 0 | L40: =SUM(F40+I40+K40) -> 1
A41: PAU | B41: BRIVE | C41: 11 | D41: 4 | E41: 1 | F41: =(D41+E41)/C41 -> 0.45454545 | G41: 1 | H41: 5 | I41: =(G41+H41)/C41 -> 0.54545455 | K41: =100%-(F41+I41) -> 0 | L41: =SUM(F41+I41+K41) -> 1
...

Sheet Racing 92
A1: Racing 92 | B1: saison 2019/2020 | G1: point marquer | H1: saison 2020/2021 | L1: match du jour
B2: nbre match | C2: nbre vitoire | D2: nbre nul | E2: nbre defaite | G2: match dom | H2: =SUM(C8:C20) -> 0 | I2: =SUM(D8:D20) -> 0 | J2: =H2-I2 -> 0 | L2: domicile | M2: exertieur
A3: nbre match D | B3: 9 | C3: 5 | D3: 1 | E3: 3 | G3: par match | H3: =H2/B3 -> 0 | I3: =I2/B3 -> 0 | L3: Racing 92 | M3: Agen
A4: nbre match E | B4: 8 | C4: 4 | D4: 0 | E4: 4 | G4: match ext | H4: =SUM(D23:D35) -> #REF! | I4: =SUM(C23:C35) -> #REF! | J4: =H4-I4 -> #REF! | L4: {=INDEX($C$38:$L$50,MATCH(1,($A$38:$A$50=$A$1)*($B$38:$B$50=$M$3),0),4)} -> 0.61538462 | M4: {=INDEX($C$38:$L$50,MATCH(1,($A$38:$A$50=$L$3)*($B$38:$B$50=$M$3),0),7)} -> 0.30769231
A5: nbre match T | B5: =B3+B4 -> 17 | C5: =C3+C4 -> 9 | D5: =D3+D4 -> 1 | E5: =E3+E4 -> 7 | G5: par match | H5: =H4/B4 -> #REF! | I5: =I4/B4 -> #REF! | L5: =100/L4/100 -> 1.625 | M5: =100/M4/100 -> 3.25
G6: match | H6: =H2+H4 -> #REF! | I6: =I2+I4 -> #REF! | J6: =H6-I6 -> #REF!
A7: journée | B7: adversaire | C7: Lieu Match | D7: Issue match | E7: Score D | F7: Score E | G7: par match | H7: =H6/B5 -> #REF! | I7: =I6/B5 -> #REF! | L7: racing 92 | M7: Agen
A8: journée 1 | E8: =VLOOKUP(B8,INDIRECT(A8),COLUMN(resultat!D:D),FALSE) -> #REF! | F8: =VLOOKUP(B8,INDIRECT(A8),COLUMN(resultat!E2),FALSE) -> #REF! | L8: racing 92 | M8: Bayonne
A9: journée 2 | G9: point marquer | H9: saison 2019/2020 | L9: racing 92 | M9: Bordeaux
A10: journée 3 | G10: match dom | H10: 235 | I10: 177 | J10: 58 | L10: racing 92 | M10: Brive
A11: journée 4 | G11: par match | H11: 26.111111 | I11: 19.666667 | L11: racing 92 | M11: Castres
A12: journée 5 | G12: match ext | H12: 199 | I12: 125 | J12: 74 | L12: racing 92 | M12: Clermont
A13: journée 6 | G13: par match | H13: 24.875 | I13: 15.625 | L13: racing 92 | M13: La Rochelle
A14: journée 7 | G14: match | H14: 434 | I14: 302 | J14: 132 | L14: racing 92 | M14: Lyon
A15: journée 8 | G15: par match | H15: 25.529412 | I15: 17.764706 | L15: racing 92 | M15: Montpellier
A16: journée 9 | L16: racing 92 | M16: Paris
A17: journée 10 | G17: point marquer | L17: racing 92 | M17: Pau
A18: journée 11 | G18: match dom | L18: racing 92 | M18: Toulon
A19: journée 12 | G19: par match | L19: racing 92 | M19: Toulouse
A20: journée 13 | G20: match ext
A21: journée 14 | G21: par match
A22: journée 15 | G22: match
A23: journée 16 | G23: par match
A24: journée 17
A25: journée 18 | G25: point marquer
A26: journée 19 | G26: match dom
A27: journée 20 | G27: par match
A28: journée 21 | G28: match ext
A29: journée 22 | G29: par match
A30: journée 23 | G30: match
A31: journée 24 | G31: par match
A32: journée 25
A33: journée 26
C34: =VLOOKUP($E34,INDIRECT($A34),COLUMN(#REF!),FALSE) -> #REF! | D34: =VLOOKUP($E34,INDIRECT($A34),COLUMN(#REF!),FALSE) -> #REF! | E34: Racing 92
C35: =VLOOKUP($E35,INDIRECT($A35),COLUMN(#REF!),FALSE) -> #REF! | D35: =VLOOKUP($E35,INDIRECT($A35),COLUMN(#REF!),FALSE) -> #REF! | E35: Racing 92
A37: club | C37: face a face | D37: nbr de match | E37: victoire D | F37: victoire E | G37: % | H37: defaite D | I37: defaite E | J37: % | K37: nul | L37: %
A38: RACING 92 | B38: AGEN | C38: 13 | D38: 6 | E38: 2 | F38: =(D38+E38)/C38 -> 0.61538462 | G38: 0 | H38: 4 | I38: =(G38+H38)/C38 -> 0.30769231 | J38: 1 | K38: =100%-(F38+I38) -> 0.076923077 | L38: =SUM(F38+I38+K38) -> 1
A39: RACING 92 | B39: BAYONNE | C39: 15 | D39: 7 | E39: 5 | F39: =(D39+E39)/C39 -> 0.8 | G39: 1 | H39: 2 | I39: =(G39+H39)/C39 -> 0.2 | K39: =100%-(F39+I39) -> 0 | L39: =SUM(F39+I39+K39) -> 1
A40: RACING 92 | B40: BORDEAUX | C40: 17 | D40: 8 | E40: 3 | F40: =(D40+E40)/C40 -> 0.64705882 | G40: 1 | H40: 5 | I40: =(G40+H40)/C40 -> 0.35294118 | K40: =100%-(F40+I40) -> 0 | L40: =SUM(F40+I40+K40) -> 1
A41: RACING 92 | B41: BRIVE | C41: 17 | D41: 7 | E41: 5 | F41: =(D41+E41)/C41 -> 0.70588235 | G41: 0 | H41: 3 | I41: =(G41+H41)/C41 -> 0.17647059 | J41: 2 | K41: =100%-(F41+I41) -> 0.11764706 | L41: =SUM(F41+I41+K41) -> 1
...

Sheet toulon
A1: Toulon | B1: saison 2019/2020 | G1: point marquer | H1: saison 2020/2021 | L1: match du jour
B2: nbre match | C2: nbre vitoire | D2: nbre nul | E2: nbre defaite | G2: match dom | H2: =SUM(C8:C20) -> 0 | I2: =SUM(D8:D20) -> 0 | J2: =H2-I2 -> 0 | L2: domicile | M2: exertieur
A3: nbre match D | B3: 9 | C3: 7 | D3: 1 | E3: 1 | G3: par match | H3: =H2/B3 -> 0 | I3: =I2/B3 -> 0 | L3: Toulon | M3: Agen
A4: nbre match E | B4: 8 | C4: 2 | D4: 1 | E4: 5 | G4: match ext | H4: =SUM(D23:D35) -> #REF! | I4: =SUM(C23:C35) -> #REF! | J4: =H4-I4 -> #REF! | L4: {=INDEX($C$38:$L$50,MATCH(1,($A$38:$A$50=$A$1)*($B$38:$B$50=$M$3),0),4)} -> 0.69230769 | M4: {=INDEX($C$38:$L$50,MATCH(1,($A$38:$A$50=$L$3)*($B$38:$B$50=$M$3),0),7)} -> 0.30769231
A5: nbre match T | B5: =B3+B4 -> 17 | C5: =C3+C4 -> 9 | D5: =D3+D4 -> 2 | E5: =E3+E4 -> 6 | G5: par match | H5: =H4/B4 -> #REF! | I5: =I4/B4 -> #REF! | L5: =100/L4/100 -> 1.4444444 | M5: =100/M4/100 -> 3.25
G6: match | H6: =H2+H4 -> #REF! | I6: =I2+I4 -> #REF! | J6: =H6-I6 -> #REF!
A7: journée | B7: adversaire | C7: Lieu Match | D7: Issue match | E7: Score D | F7: Score E | G7: par match | H7: =H6/B5 -> #REF! | I7: =I6/B5 -> #REF! | L7: Toulon | M7: Agen
A8: journée 1 | E8: =VLOOKUP(B8,INDIRECT(A8),COLUMN(resultat!D:D),FALSE) -> #REF! | F8: =VLOOKUP(B8,INDIRECT(A8),COLUMN(resultat!E2),FALSE) -> #REF! | L8: Toulon | M8: Bayonne
A9: journée 2 | G9: point marquer | H9: saison 2019/2020 | L9: Toulon | M9: Bordeaux
A10: journée 3 | G10: match dom | H10: 233 | I10: 137 | J10: 96 | L10: Toulon | M10: Brive
A11: journée 4 | G11: par match | H11: 25.888889 | I11: 15.222222 | L11: Toulon | M11: Castres
A12: journée 5 | G12: match ext | H12: 115 | I12: 172 | J12: -57 | L12: Toulon | M12: Clermont
A13: journée 6 | G13: par match | H13: 14.375 | I13: 21.5 | L13: Toulon | M13: La Rochelle
A14: journée 7 | G14: match | H14: 348 | I14: 309 | J14: 39 | L14: Toulon | M14: Lyon
A15: journée 8 | G15: par match | H15: 20.470588 | I15: 18.176471 | L15: Toulon | M15: Montpellier
A16: journée 9 | L16: Toulon | M16: Paris
A17: journée 10 | G17: point marquer | L17: Toulon | M17: Pau
A18: journée 11 | G18: match dom | L18: Toulon | M18: Racing 92
A19: journée 12 | G19: par match | L19: Toulon | M19: Toulouse
A20: journée 13 | G20: match ext
A21: journée 14 | G21: par match
A22: journée 15 | G22: match
A23: journée 16 | G23: par match
A24: journée 17
A25: journée 18 | G25: point marquer
A26: journée 19 | G26: match dom
A27: journée 20 | G27: par match
A28: journée 21 | G28: match ext
A29: journée 22 | G29: par match
A30: journée 23 | G30: match
A31: journée 24 | G31: par match
A32: journée 25
A33: journée 26
C34: =VLOOKUP($E34,INDIRECT($A34),COLUMN(#REF!),FALSE) -> #REF! | D34: =VLOOKUP($E34,INDIRECT($A34),COLUMN(#REF!),FALSE) -> #REF! | E34: Toulon
C35: =VLOOKUP($E35,INDIRECT($A35),COLUMN(#REF!),FALSE) -> #REF! | D35: =VLOOKUP($E35,INDIRECT($A35),COLUMN(#REF!),FALSE) -> #REF! | E35: Toulon
A37: club | C37: face a face | D37: nbr de match | E37: victoire D | F37: victoire E | G37: % | H37: defaite D | I37: defaite E | J37: % | K37: nul | L37: %
A38: TOULON | B38: AGEN | C38: 13 | D38: 6 | E38: 3 | F38: =(D38+E38)/C38 -> 0.69230769 | G38: 0 | H38: 4 | I38: =(G38+H38)/C38 -> 0.30769231 | K38: =100%-(F38+I38) -> 0 | L38: =SUM(F38+I38+K38) -> 1
A39: TOULON | B39: BAYONNE | C39: 17 | D39: 7 | E39: 3 | F39: =(D39+E39)/C39 -> 0.58823529 | G39: 1 | H39: 4 | I39: =(G39+H39)/C39 -> 0.29411765 | J39: 2 | K39: =100%-(F39+I39) -> 0.11764706 | L39: =SUM(F39+I39+K39) -> 1
A40: TOULON | B40: BORDEAUX | C40: 17 | D40: 8 | E40: 3 | F40: =(D40+E40)/C40 -> 0.64705882 | G40: 0 | H40: 6 | I40: =(G40+H40)/C40 -> 0.35294118 | K40: =100%-(F40+I40) -> 0 | L40: =SUM(F40+I40+K40) -> 1
A41: TOULON | B41: BRIVE | C41: 20 | D41: 9 | E41: 2 | F41: =(D41+E41)/C41 -> 0.55 | G41: 1 | H41: 8 | I41: =(G41+H41)/C41 -> 0.45 | K41: =100%-(F41+I41) -> 0 | L41: =SUM(F41+I41+K41) -> 1
...

Sheet toulouse
A1: Toulouse | B1: saison 2019/2020
B2: nbre match | C2: nbre vitoire | D2: nbre nul | E2: nbre defaite | H2: point marquer | I2: saison 2020/2021 | M2: match du jour
A3: nbre match D | B3: 8 | C3: 7 | D3: 1 | E3: 0 | H3: match dom | I3: =SUM(C8:C20) -> 0 | J3: =SUM(D8:D20) -> 0 | K3: =I3-J3 -> 0 | M3: domicile | N3: exertieur
A4: nbre match E | B4: 9 | C4: 1 | D4: 0 | E4: 8 | H4: par match | I4: =I3/B3 -> 0 | J4: =J3/B3 -> 0 | M4: Toulouse | N4: Agen
A5: nbre match T | B5: =B3+B4 -> 17 | C5: =C3+C4 -> 8 | D5: =D3+D4 -> 1 | E5: =E3+E4 -> 8 | H5: match ext | I5: =SUM(D23:D35) -> 0 | J5: =SUM(C23:C35) -> 0 | K5: =I5-J5 -> 0 | M5: {=INDEX($G$36:$L$48,MATCH(1,($A$37:$A$49=$A$1)*($B$37:$B$49=$N$4),0),4)} -> 0 | N5: {=INDEX($G$36:$L$48,MATCH(1,($A$37:$A$49=$M$4)*($B$37:$B$49=$N$4),0),7)} -> #REF!
H6: par match | I6: =I5/B4 -> 0 | J6: =J5/B4 -> 0 | M6: =100/M5/100 -> #DIV/0! | N6: =100/N5/100 -> #REF!
A7: journée | B7: adversaire | C7: Lieu Match | D7: Issue match | E7: Score D | F7: Score E | H7: match | I7: =I3+I5 -> 0 | J7: =J3+J5 -> 0 | K7: =I7-J7 -> 0
A8: journée 1 | B8: Clermont | C8: exterieur | D8: victoire | E8: =SUMIFS(resultat!D:D,resultat!$A:$A,toulouse!$A8,resultat!$C:$C,toulouse!$B8) -> 10 | F8: =SUMIFS(resultat!E:E,resultat!$A:$A,toulouse!$A8,resultat!$C:$C,toulouse!$B8) -> 25 | H8: par match | I8: =I7/B5 -> 0 | J8: =J7/B5 -> 0 | M8: Toulouse | N8: Agen
A9: Journée 2 | B9: La Rochelle | C9: Domicile | D9: victoire | E9: =SUMIFS(resultat!D:D,resultat!$A:$A,toulouse!$A9,resultat!$C:$C,toulouse!$B9) -> 0 | F9: =SUMIFS(resultat!E:E,resultat!$A:$A,toulouse!$A9,resultat!$C:$C,toulouse!$B9) -> 0 | M9: Toulouse | N9: Bayonne
B10: Toulon | C10: Domicile | D10: defaite | E10: =SUMIFS(resultat!D:D,resultat!$A:$A,toulouse!$A10,resultat!$C:$C,toulouse!$B10) -> 0 | F10: =SUMIFS(resultat!E:E,resultat!$A:$A,toulouse!$A10,resultat!$C:$C,toulouse!$B10) -> 0 | H10: point marquer | I10: saison 2019/2020 | M10: Toulouse | N10: Bordeaux
A11: journée 4 | E11: =SUMIFS(resultat!D:D,resultat!$A:$A,toulouse!$A11,resultat!$C:$C,toulouse!$B11) -> 0 | F11: =SUMIFS(resultat!E:E,resultat!$A:$A,toulouse!$A11,resultat!$C:$C,toulouse!$B11) -> 0 | H11: match dom | I11: 218 | J11: 107 | K11: 111 | M11: Toulouse | N11: Brive
A12: journée 5 | E12: =SUMIFS(resultat!D:D,resultat!$A:$A,toulouse!$A12,resultat!$C:$C,toulouse!$B12) -> 0 | F12: =SUMIFS(resultat!E:E,resultat!$A:$A,toulouse!$A12,resultat!$C:$C,toulouse!$B12) -> 0 | H12: par match | I12: 27.25 | J12: 13.375 | M12: Toulouse | N12: Castres
A13: journée 6 | E13: =SUMIFS(resultat!D:D,resultat!$A:$A,toulouse!$A13,resultat!$C:$C,toulouse!$B13) -> 0 | F13: =SUMIFS(resultat!E:E,resultat!$A:$A,toulouse!$A13,resultat!$C:$C,toulouse!$B13) -> 0 | H13: match ext | I13: 149 | J13: 224 | K13: -75 | M13: Toulouse | N13: Clermont
A14: journée 7 | E14: =SUMIFS(resultat!D:D,resultat!$A:$A,toulouse!$A14,resultat!$C:$C,toulouse!$B14) -> 0 | F14: =SUMIFS(resultat!E:E,resultat!$A:$A,toulouse!$A14,resultat!$C:$C,toulouse!$B14) -> 0 | H14: par match | I14: 16.555556 | J14: 24.888889 | M14: Toulouse | N14: La Rochelle
A15: journée 8 | E15: =SUMIFS(resultat!D:D,resultat!$A:$A,toulouse!$A15,resultat!$C:$C,toulouse!$B15) -> 0 | F15: =SUMIFS(resultat!E:E,resultat!$A:$A,toulouse!$A15,resultat!$C:$C,toulouse!$B15) -> 0 | H15: match | I15: 367 | J15: 331 | K15: 36 | M15: Toulouse | N15: Lyon
A16: journée 9 | E16: =SUMIFS(resultat!D:D,resultat!$A:$A,toulouse!$A16,resultat!$C:$C,toulouse!$B16) -> 0 | F16: =SUMIFS(resultat!E:E,resultat!$A:$A,toulouse!$A16,resultat!$C:$C,toulouse!$B16) -> 0 | H16: par match | I16: 21.588235 | J16: 19.470588 | M16: Toulouse | N16: Montpellier
A17: journée 10 | E17: =SUMIFS(resultat!D:D,resultat!$A:$A,toulouse!$A17,resultat!$C:$C,toulouse!$B17) -> 0 | F17: =SUMIFS(resultat!E:E,resultat!$A:$A,toulouse!$A17,resultat!$C:$C,toulouse!$B17) -> 0 | M17: Toulouse | N17: Paris
A18: journée 11 | E18: =SUMIFS(resultat!D:D,resultat!$A:$A,toulouse!$A18,resultat!$C:$C,toulouse!$B18) -> 0 | F18: =SUMIFS(resultat!E:E,resultat!$A:$A,toulouse!$A18,resultat!$C:$C,toulouse!$B18) -> 0 | H18: point marquer | M18: Toulouse | N18: Pau
A19: journée 12 | E19: =SUMIFS(resultat!D:D,resultat!$A:$A,toulouse!$A19,resultat!$C:$C,toulouse!$B19) -> 0 | F19: =SUMIFS(resultat!E:E,resultat!$A:$A,toulouse!$A19,resultat!$C:$C,toulouse!$B19) -> 0 | H19: match dom | M19: Toulouse | N19: Racing 92
A20: journée 13 | E20: =SUMIFS(resultat!D:D,resultat!$A:$A,toulouse!$A20,resultat!$C:$C,toulouse!$B20) -> 0 | F20: =SUMIFS(resultat!E:E,resultat!$A:$A,toulouse!$A20,resultat!$C:$C,toulouse!$B20) -> 0 | H20: par match | M20: Toulouse | N20: Toulon
A21: journée 14 | E21: =SUMIFS(resultat!D:D,resultat!$A:$A,toulouse!$A21,resultat!$C:$C,toulouse!$B21) -> 0 | F21: =SUMIFS(resultat!E:E,resultat!$A:$A,toulouse!$A21,resultat!$C:$C,toulouse!$B21) -> 0 | H21: match ext
A22: journée 15 | E22: =SUMIFS(resultat!D:D,resultat!$A:$A,toulouse!$A22,resultat!$C:$C,toulouse!$B22) -> 0 | F22: =SUMIFS(resultat!E:E,resultat!$A:$A,toulouse!$A22,resultat!$C:$C,toulouse!$B22) -> 0 | H22: par match
A23: journée 16 | E23: =SUMIFS(resultat!D:D,resultat!$A:$A,toulouse!$A23,resultat!$C:$C,toulouse!$B23) -> 0 | F23: =SUMIFS(resultat!E:E,resultat!$A:$A,toulouse!$A23,resultat!$C:$C,toulouse!$B23) -> 0 | H23: match
A24: journée 17 | E24: =SUMIFS(resultat!D:D,resultat!$A:$A,toulouse!$A24,resultat!$C:$C,toulouse!$B24) -> 0 | F24: =SUMIFS(resultat!E:E,resultat!$A:$A,toulouse!$A24,resultat!$C:$C,toulouse!$B24) -> 0 | H24: par match
A25: journée 18 | E25: =SUMIFS(resultat!D:D,resultat!$A:$A,toulouse!$A25,resultat!$C:$C,toulouse!$B25) -> 0 | F25: =SUMIFS(resultat!E:E,resultat!$A:$A,toulouse!$A25,resultat!$C:$C,toulouse!$B25) -> 0
A26: journée 19 | E26: =SUMIFS(resultat!D:D,resultat!$A:$A,toulouse!$A26,resultat!$C:$C,toulouse!$B26) -> 0 | F26: =SUMIFS(resultat!E:E,resultat!$A:$A,toulouse!$A26,resultat!$C:$C,toulouse!$B26) -> 0 | H26: point marquer
A27: journée 20 | E27: =SUMIFS(resultat!D:D,resultat!$A:$A,toulouse!$A27,resultat!$C:$C,toulouse!$B27) -> 0 | F27: =SUMIFS(resultat!E:E,resultat!$A:$A,toulouse!$A27,resultat!$C:$C,toulouse!$B27) -> 0 | H27: match dom
A28: journée 21 | E28: =SUMIFS(resultat!D:D,resultat!$A:$A,toulouse!$A28,resultat!$C:$C,toulouse!$B28) -> 0 | F28: =SUMIFS(resultat!E:E,resultat!$A:$A,toulouse!$A28,resultat!$C:$C,toulouse!$B28) -> 0 | H28: par match
A29: journée 22 | E29: =SUMIFS(resultat!D:D,resultat!$A:$A,toulouse!$A29,resultat!$C:$C,toulouse!$B29) -> 0 | F29: =SUMIFS(resultat!E:E,resultat!$A:$A,toulouse!$A29,resultat!$C:$C,toulouse!$B29) -> 0 | H29: match ext
A30: journée 23 | E30: =SUMIFS(resultat!D:D,resultat!$A:$A,toulouse!$A30,resultat!$C:$C,toulouse!$B30) -> 0 | F30: =SUMIFS(resultat!E:E,resultat!$A:$A,toulouse!$A30,resultat!$C:$C,toulouse!$B30) -> 0 | H30: par match
A31: journée 24 | E31: =SUMIFS(resultat!D:D,resultat!$A:$A,toulouse!$A31,resultat!$C:$C,toulouse!$B31) -> 0 | F31: =SUMIFS(resultat!E:E,resultat!$A:$A,toulouse!$A31,resultat!$C:$C,toulouse!$B31) -> 0 | H31: match
A32: journée 25 | E32: =SUMIFS(resultat!D:D,resultat!$A:$A,toulouse!$A32,resultat!$C:$C,toulouse!$B32) -> 0 | F32: =SUMIFS(resultat!E:E,resultat!$A:$A,toulouse!$A32,resultat!$C:$C,toulouse!$B32) -> 0 | H32: par match
A33: journée 26 | E33: =SUMIFS(resultat!D:D,resultat!$A:$A,toulouse!$A33,resultat!$C:$C,toulouse!$B33) -> 0 | F33: =SUMIFS(resultat!E:E,resultat!$A:$A,toulouse!$A33,resultat!$C:$C,toulouse!$B33) -> 0
G35: % | H35: defaite D | I35: defaite E | J35: % | K35: nul | L35: %
A36: club | C36: face a face | D36: nbr de match | E36: victoire D | F36: victoire E | G36: 0 | H36: 1 | I36: =(G36+H36)/C37 -> 0.076923077 | K36: =100%-(F37+I36) -> 0 | L36: =SUM(F37+I36+K36) -> 1
