Workbook
Name journee1: #REF!
Name journee10: #REF!
Name journee11: #REF!
Name journee12: #REF!
Name journee13: #REF!
Name journee14: #REF!
Name journee15: #REF!
Name journee16: #REF!
Name journee17: #REF!
Name journee18: #REF!
Name journee19: #REF!
Name journee2: #REF!
Name journee20: #REF!
Name journee21: #REF!
Name journee22: #REF!
Name journee23: #REF!
Name journee24: #REF!
Name journee25: #REF!
Name journee26: #REF!
Name journee3: #REF!
Name journee4: #REF!
Name journee5: #REF!
Name journee6: #REF!
Name journee7: #REF!
Name journee8: #REF!
Name journee9: #REF!

Sheet Agen 
A1: Agen | B1: saison 2019/2020 | H1: point marquer | I1: saison 2020/2021 | M1: match du jour
B2: nbre match | C2: nbre vitoire | D2: nbre nul | E2: nbre defaite | H2: match dom | I2: =SUM(C8:C20) -> 0 | J2: =SUM(D8:D20) -> 0 | K2: =I2-J2 -> 0 | M2: domicile | N2: exertieur
A3: nbre match D | B3: 9 | C3: 3 | D3: 0 | E3: 6 | H3: par match | I3: =I2/B3 -> 0 | J3: =J2/B3 -> 0 | M3: Agen | N3: paris
A4: nbre match E | B4: 8 | C4: 2 | D4: 1 | E4: 5 | H4: match ext | I4: =SUM(D23:D35) -> 0 | J4: =SUM(C23:C35) -> 0 | K4: =I4-J4 -> 0 | M4: {=INDEX($C$38:$L$50,MATCH(1,($A$38:$A$50=$A$1)*($B$38:$B$50=$N$3),0),4)} -> 0.38461538 | N4: {=INDEX($C$38:$L$50,MATCH(1,($A$38:$A$50=$M$3)*($B$38:$B$50=$N$3),0),7)} -> 0.61538462
A5: nbre match T | B5: =B3+B4 -> 17 | C5: =C3+C4 -> 5 | D5: =D3+D4 -> 1 | E5: =E3+E4 -> 11 | H5: par match | I5: =I4/B4 -> 0 | J5: =J4/B4 -> 0 | M5: =100/M4/100 -> 2.6 | N5: =100/N4/100 -> 1.625
H6: match | I6: =I2+I4 -> 0 | J6: =J2+J4 -> 0 | K6: =I6-J6 -> 0
A7: journée | B7: adversaire | C7: Lieu Match | D7: Issue match | E7: Score D | F7: Score E | H7: par match | I7: =I6/B5 -> 0 | J7: =J6/B5 -> 0 | M7: Agen | N7: Bayonne
A8: journée 1 | E8: =VLOOKUP(B8,INDIRECT(A8),COLUMN(resultat!D:D),FALSE) -> #REF! | F8: =VLOOKUP(B8,INDIRECT(A8),COLUMN(resultat!E2),FALSE) -> #REF! | M8: Agen | N8: Bordeaux
A9: journée 2 | H9: point marquer | I9: saison 2019/2020 | M9: Agen | N9: Brive
A10: journée 3 | H10: match dom | I10: 158 | J10: 164 | K10: -6 | M10: Agen | N10: Castres
A11: journée 4 | H11: par match | I11: 17.555556 | J11: 18.222222 | M11: Agen | N11: Clermont
A12: journée 5 | H12: match ext | I12: 140 | J12: 206 | K12: -66 | M12: Agen | N12: La Rochelle
A13: journée 6 | H13: par match | I13: 17.5 | J13: 25.75 | M13: Agen | N13: Lyon
A14: journée 7 | H14: match | I14: 298 | J14: 370 | K14: -72 | M14: Agen | N14: Montpellier
A15: journée 8 | H15: par match | I15: 17.529412 | J15: 21.764706 | M15: Agen | N15: Paris
A16: journée 9 | M16: Agen | N16: Pau
A17: journée 10 | H17: point marquer | M17: Agen | N17: Racing 92
A18: journée 11 | H18: match dom | M18: Agen | N18: Toulon
A19: journée 12 | H19: par match | M19: Agen | N19: Toulouse
A20: journée 13 | H20: match ext
A21: journée 14 | H21: par match
A22: journée 15 | H22: match
A23: journée 16 | H23: par match
A24: journée 17
A25: journée 18 | H25: point marquer
A26: journée 19 | H26: match dom
A27: journée 20 | H27: par match
A28: journée 21 | H28: match ext
A29: journée 22 | H29: par match
A30: journée 23 | H30: match
A31: journée 24 | H31: par match
A32: journée 25
A33: journée 26
A37: club | C37: nbr de match | D37: victoire D | E37: victoire E | F37: % | G37: defaite D | H37: defaite E | I37: % | J37: nul | K37: %
A38: AGEN | B38: BAYONNE | C38: 8 | D38: 2 | E38: 1 | F38: =(D38+E38)/C38 -> 0.375 | G38: 2 | H38: 3 | I38: =(G38+H38)/C38 -> 0.625 | K38: =100%-(F38+I38) -> 0 | L38: =SUM(F38+I38+K38) -> 1
A39: AGEN | B39: BORDEAUX | C39: 11 | D39: 3 | E39: 0 | F39: =(D39+E39)/C39 -> 0.27272727 | G39: 2 | H39: 6 | I39: =(G39+H39)/C39 -> 0.72727273 | K39: =100%-(F39+I39) -> 0 | L39: =SUM(F39+I39+K39) -> 1
A40: AGEN | B40: BRIVE | C40: 10 | D40: 5 | E40: 3 | F40: =(D40+E40)/C40 -> 0.8 | G40: 0 | H40: 2 | I40: =(G40+H40)/C40 -> 0.2 | K40: =100%-(F40+I40) -> 0 | L40: =SUM(F40+I40+K40) -> 1
A41: AGEN | B41: CASTRE | C41: 14 | D41: 3 | E41: 1 | F41: =(D41+E41)/C41 -> 0.28571429 | G41: 4 | H41: 6 | I41: =(G41+H41)/C41 -> 0.71428571 | K41: =100%-(F41+I41) -> 0 | L41: =SUM(F41+I41+K41) -> 1
A42: AGEN | B42: CLERMONT | C42: 14 | D42: 2 | E42: 0 | F42: =(D42+E42)/C42 -> 0.14285714 | G42: 5 | H42: 7 | I42: =(G42+H42)/C42 -> 0.85714286 | K42: =100%-(F42+I42) -> 0 | L42: =SUM(F42+I42+K42) -> 1
A43: AGEN | B43: LA ROCHELLE | C43: 12 | D43: 4 | E43: 2 | F43: =(D43+E43)/C43 -> 0.5 | G43: 2 | H43: 4 | I43: =(G43+H43)/C43 -> 0.5 | K43: =100%-(F43+I43) -> 0 | L43: =SUM(F43+I43+K43) -> 1
A44: AGEN | B44: LYON | C44: 7 | D44: 2 | E44: 0 | F44: =(D44+E44)/C44 -> 0.28571429 | G44: 2 | H44: 3 | I44: =(G44+H44)/C44 -> 0.71428571 | K44: =100%-(F44+I44) -> 0 | L44: =SUM(F44+I44+K44) -> 1
A45: AGEN | B45: MONTPELLIER | C45: 13 | D45: 3 | E45: 0 | F45: =(D45+E45)/C45 -> 0.23076923 | G45: 4 | H45: 6 | I45: =(G45+H45)/C45 -> 0.76923077 | K45: =100%-(F45+I45) -> 0 | L45: =SUM(F45+I45+K45) -> 1
A46: AGEN | B46: PARIS | C46: 13 | D46: 4 | E46: 1 | F46: =(D46+E46)/C46 -> 0.38461538 | G46: 3 | H46: 5 | I46: =(G46+H46)/C46 -> 0.61538462 | K46: =100%-(F46+I46) -> 0 | L46: =SUM(F46+I46+K46) -> 1
A47: AGEN | B47: PAU | C47: 11 | D47: 2 | E47: 1 | F47: =(D47+E47)/C47 -> 0.27272727 | G47: 3 | H47: 5 | I47: =(G47+H47)/C47 -> 0.72727273 | K47: =100%-(F47+I47) -> 0 | L47: =SUM(F47+I47+K47) -> 1
A48: AGEN | B48: RACING 92 | C48: 13 | D48: 4 | E48: 0 | F48: =(D48+E48)/C48 -> 0.30769231 | G48: 2 | H48: 6 | I48: =(G48+H48)/C48 -> 0.61538462 | J48: 1 | K48: =100%-(F48+I48) -> 0.076923077 | L48: =SUM(F48+I48+K48) -> 1
A49: AGEN | B49: TOULON | C49: 13 | D49: 4 | E49: 0 | F49: =(D49+E49)/C49 -> 0.30769231 | G49: 3 | H49: 6 | I49: =(G49+H49)/C49 -> 0.69230769 | K49: =100%-(F49+I49) -> 0 | L49: =SUM(F49+I49+K49) -> 1
A50: AGEN | B50: TOULOUSE | C50: 13 | D50: 1 | E50: 0 | F50: =(D50+E50)/C50 -> 0.076923077 | G50: 6 | H50: 6 | I50: =(G50+H50)/C50 -> 0.92307692 | K50: =100%-(F50+I50) -> 0 | L50: =SUM(F50+I50+K50) -> 1

Sheet Bayonne
A1: Bayonne | B1: saison 2019/2020 | H1: point marquer | I1: saison 2020/2021 | M1: match du jour
B2: nbre match | C2: nbre vitoire | D2: nbre nul | E2: nbre defaite | H2: match dom | I2: =SUM(C8:C20) -> 0 | J2: =SUM(D8:D20) -> 0 | K2: =I2-J2 -> 0 | M2: domicile | N2: exertieur
A3: nbre match D | B3: 9 | C3: 5 | D3: 1 | E3: 3 | H3: par match | I3: =I2/B3 -> 0 | J3: =J2/B3 -> 0 | M3: Bayonne | N3: pau
A4: nbre match E | B4: 8 | C4: 2 | D4: 0 | E4: 6 | H4: match ext | I4: =SUM(D23:D35) -> 0 | J4: =SUM(C23:C35) -> 0 | K4: =I4-J4 -> 0 | M4: {=INDEX($C$38:$L$50,MATCH(1,($A$38:$A$50=$A$1)*($B$38:$B$50=$N$3),0),4)} -> 0 | N4: {=INDEX($C$38:$L$50,MATCH(1,($A$38:$A$50=$M$3)*($B$38:$B$50=$N$3),0),7)} -> 0.66666667
A5: nbre match T | B5: =B3+B4 -> 17 | C5: =C3+C4 -> 7 | D5: =D3+D4 -> 1 | E5: =E3+E4 -> 9 | H5: par match | I5: =I4/B4 -> 0 | J5: =J4/B4 -> 0 | M5: =100/M4/100 -> #DIV/0! | N5: =100/N4/100 -> 1.5
H6: match | I6: =I2+I4 -> 0 | J6: =J2+J4 -> 0 | K6: =I6-J6 -> 0
A7: journée | B7: adversaire | C7: Lieu Match | D7: Issue match | E7: Score D | F7: Score E | H7: par match | I7: =I6/B5 -> 0 | J7: =J6/B5 -> 0 | M7: Bayonne | N7: Agen
A8: journée 1 | E8: =VLOOKUP(B8,INDIRECT(A8),COLUMN(resultat!D:D),FALSE) -> #REF! | F8: =VLOOKUP(B8,INDIRECT(A8),COLUMN(resultat!E2),FALSE) -> #REF! | M8: Bayonne | N8: Bordeaux
A9: journée 2 | H9: point marquer | I9: saison 2019/2020 | M9: Bayonne | N9: Brive
A10: journée 3 | H10: match dom | I10: 187 | J10: 162 | K10: 25 | M10: Bayonne | N10: Castres
A11: journée 4 | H11: par match | I11: 20.777778 | J11: 18 | M11: Bayonne | N11: Clermont
A12: journée 5 | H12: match ext | I12: 116 | J12: 230 | K12: -114 | M12: Bayonne | N12: La Rochelle
A13: journée 6 | H13: par match | I13: 14.5 | J13: 28.75 | M13: Bayonne | N13: Lyon
A14: journée 7 | H14: match | I14: 303 | J14: 392 | K14: -89 | M14: Bayonne | N14: Montpellier
A15: journée 8 | H15: par match | I15: 17.823529 | J15: 23.058824 | M15: Bayonne | N15: Paris
A16: journée 9 | M16: Bayonne | N16: Pau
A17: journée 10 | H17: point marquer | M17: Bayonne | N17: Racing 92
A18: journée 11 | H18: match dom | M18: Bayonne | N18: Toulon
A19: journée 12 | H19: par match | M19: Bayonne | N19: Toulouse
A20: journée 13 | H20: match ext
A21: journée 14 | H21: par match
A22: journée 15 | H22: match
A23: journée 16 | H23: par match
A24: journée 17
A25: journée 18 | H25: point marquer
A26: journée 19 | H26: match dom
A27: journée 20 | H27: par match
A28: journée 21 | H28: match ext
A29: journée 22 | H29: par match
A30: journée 23 | H30: match
A31: journée 24 | H31: par match
A32: journée 25
A33: journée 26
A37: club | C37: face a face | D37: nbr de match | E37: victoire D | F37: victoire E | G37: % | H37: defaite D | I37: defaite E | J37: % | K37: nul | L37: %
A38: BAYONNE | B38: AGEN | C38: 8 | D38: 3 | E38: 2 | F38: =(D38+E38)/C38 -> 0.625 | G38: 0 | H38: 3 | I38: =(G38+H38)/C38 -> 0.375 | K38: =100%-(F38+I38) -> 0 | L38: =SUM(F38+I38+K38) -> 1
A39: BAYONNE | B39: BORDEAUX | C39: 11 | D39: 3 | E39: 0 | F39: =(D39+E39)/C39 -> 0.27272727 | G39: 2 | H39: 6 | I39: =(G39+H39)/C39 -> 0.72727273 | K39: =100%-(F39+I39) -> 0 | L39: =SUM(F39+I39+K39) -> 1
A40: BAYONNE | B40: BRIVE | C40: 15 | D40: 7 | E40: 1 | F40: =(D40+E40)/C40 -> 0.53333333 | G40: 0 | H40: 6 | I40: =(G40+H40)/C40 -> 0.4 | J40: 1 | K40: =100%-(F40+I40) -> 0.066666667 | L40: =SUM(F40+I40+K40) -> 1
A41: BAYONNE | B41: CASTRE | C41: 17 | D41: 5 | E41: 1 | F41: =(D41+E41)/C41 -> 0.35294118 | G41: 1 | H41: 7 | I41: =(G41+H41)/C41 -> 0.47058824 | J41: 3 | K41: =100%-(F41+I41) -> 0.17647059 | L41: =SUM(F41+I41+K41) -> 1
A42: BAYONNE | B42: CLERMONT | C42: 17 | D42: 6 | E42: 0 | F42: =(D42+E42)/C42 -> 0.35294118 | G42: 2 | H42: 8 | I42: =(G42+H42)/C42 -> 0.58823529 | J42: 1 | K42: =100%-(F42+I42) -> 0.058823529 | L42: =SUM(F42+I42+K42) -> 1
A43: BAYONNE | B43: LA ROCHELLE | C43: 7 | D43: 3 | E43: 1 | F43: =(D43+E43)/C43 -> 0.57142857 | G43: 1 | H43: 1 | I43: =(G43+H43)/C43 -> 0.28571429 | J43: 1 | K43: =100%-(F43+I43) -> 0.14285714 | L43: =SUM(F43+I43+K43) -> 1
A44: BAYONNE | B44: LYON | C44: 7 | D44: 2 | E44: 1 | F44: =(D44+E44)/C44 -> 0.42857143 | G44: 0 | H44: 3 | I44: =(G44+H44)/C44 -> 0.42857143 | J44: 1 | K44: =100%-(F44+I44) -> 0.14285714 | L44: =SUM(F44+I44+K44) -> 1
A45: BAYONNE | B45: MONTPELLIER | C45: 18 | D45: 5 | E45: 2 | F45: =(D45+E45)/C45 -> 0.38888889 | G45: 4 | H45: 7 | I45: =(G45+H45)/C45 -> 0.61111111 | K45: =100%-(F45+I45) -> 0 | L45: =SUM(F45+I45+K45) -> 1
A46: BAYONNE | B46: PARIS | C46: 18 | D46: 8 | E46: 1 | F46: =(D46+E46)/C46 -> 0.5 | G46: 1 | H46: 8 | I46: =(G46+H46)/C46 -> 0.5 | K46: =100%-(F46+I46) -> 0 | L46: =SUM(F46+I46+K46) -> 1
A47: BAYONNE | B47: PAU | C47: 3 | D47: 0 | E47: 0 | F47: =(D47+E47)/C47 -> 0 | G47: 1 | H47: 1 | I47: =(G47+H47)/C47 -> 0.66666667 | J47: 1 | K47: =100%-(F47+I47) -> 0.33333333 | L47: =SUM(F47+I47+K47) -> 1
A48: BAYONNE | B48: RACING 92 | C48: 15 | D48: 2 | E48: 1 | F48: =(D48+E48)/C48 -> 0.2 | G48: 5 | H48: 7 | I48: =(G48+H48)/C48 -> 0.8 | K48: =100%-(F48+I48) -> 0 | L48: =SUM(F48+I48+K48) -> 1
A49: BAYONNE | B49: TOULON | C49: 17 | D49: 4 | E49: 1 | F49: =(D49+E49)/C49 -> 0.29411765 | G49: 3 | H49: 7 | I49: =(G49+H49)/C49 -> 0.58823529 | J49: 2 | K49: =100%-(F49+I49) -> 0.11764706 | L49: =SUM(F49+I49+K49) -> 1
A50: BAYONNE | B50: TOULOUSE | C50: 18 | D50: 6 | E50: 0 | F50: =(D50+E50)/C50 -> 0.33333333 | G50: 3 | H50: 9 | I50: =(G50+H50)/C50 -> 0.66666667 | K50: =100%-(F50+I50) -> 0 | L50: =SUM(F50+I50+K50) -> 1

Sheet Bordeaux
A1: Bordeaux | B1: saison 2019/2020 | G1: point marquer | H1: saison 2020/2021 | L1: match du jour
B2: nbre match | C2: nbre vitoire | D2: nbre nul | E2: nbre defaite | G2: match dom | H2: =SUM(C8:C20) -> 0 | I2: =SUM(D8:D20) -> 0 | J2: =H2-I2 -> 0 | L2: domicile | M2: exertieur
A3: nbre match D | B3: 9 | C3: 9 | D3: 0 | E3: 0 | G3: par match | H3: =H2/B3 -> 0 | I3: =I2/B3 -> 0 | L3: Bordeaux | M3: pau
A4: nbre match E | B4: 8 | C4: 4 | D4: 1 | E4: 3 | G4: match ext | H4: =SUM(D23:D35) -> #REF! | I4: =SUM(C23:C35) -> #REF! | J4: =H4-I4 -> #REF! | L4: {=INDEX($C$38:$L$50,MATCH(1,($A$38:$A$50=$A$1)*($B$38:$B$50=$M$3),0),4)} -> 0.66666667 | M4: {=INDEX($C$38:$L$50,MATCH(1,($A$38:$A$50=$L$3)*($B$38:$B$50=$M$3),0),7)} -> 0.33333333
A5: nbre match T | B5: =B3+B4 -> 17 | C5: =C3+C4 -> 13 | D5: =D3+D4 -> 1 | E5: =E3+E4 -> 3 | G5: par match | H5: =H4/B4 -> #REF! | I5: =I4/B4 -> #REF! | L5: =100/L4/100 -> 1.5 | M5: =100/M4/100 -> 3
G6: match | H6: =H2+H4 -> #REF! | I6: =I2+I4 -> #REF! | J6: =H6-I6 -> #REF!
A7: journée | B7: adversaire | C7: Lieu Match | D7: Issue match | E7: Score D | F7: Score E | G7: par match | H7: =H6/B5 -> #REF! | I7: =I6/B5 -> #REF! | L7: Bordeaux | M7: Agen
A8: journée 1 | E8: =VLOOKUP(B8,INDIRECT(A8),COLUMN(resultat!D:D),FALSE) -> #REF! | F8: =VLOOKUP(B8,INDIRECT(A8),COLUMN(resultat!E2),FALSE) -> #REF! | L8: Bordeaux | M8: Bayonne
A9: journée 2 | G9: point marquer | H9: saison 2019/2020 | L9: Bordeaux | M9: Brive
A10: journée 3 | G10: match dom | H10: 256 | I10: 91 | J10: 165 | L10: Bordeaux | M10: Castres
A11: journée 4 | G11: par match | H11: 28.444444 | I11: 10.111111 | L11: Bordeaux | M11: Clermont
A12: journée 5 | G12: match ext | H12: 189 | I12: 201 | J12: -12 | L12: Bordeaux | M12: La Rochelle
A13: journée 6 | G13: par match | H13: 23.625 | I13: 25.125 | L13: Bordeaux | M13: Lyon
A14: journée 7 | G14: match | H14: 445 | I14: 292 | J14: 153 | L14: Bordeaux | M14: Montpellier
A15: journée 8 | G15: par match | H15: 26.176471 | I15: 17.176471 | L15: Bordeaux | M15: Paris
A16: journée 9 | L16: Bordeaux | M16: Pau
A17: journée 10 | G17: point marquer | L17: Bordeaux | M17: Racing 92
A18: journée 11 | G18: match dom | L18: Bordeaux | M18: Toulon
A19: journée 12 | G19: par match | L19: Bordeaux | M19: Toulouse
A20: journée 13 | G20: match ext
A21: journée 14 | G21: par match
A22: journée 15 | G22: match
A23: journée 16 | G23: par match
A24: journée 17
A25: journée 18 | G25: point marquer
A26: journée 19 | G26: match dom
A27: journée 20 | G27: par match
A28: journée 21 | G28: match ext
A29: journée 22 | G29: par match
A30: journée 23 | G30: match
A31: journée 24 | G31: par match
A32: journée 25
A33: journée 26
C34: =VLOOKUP($E34,INDIRECT($A34),COLUMN(#REF!),FALSE) -> #REF! | D34: =VLOOKUP($E34,INDIRECT($A34),COLUMN(#REF!),FALSE) -> #REF! | E34: Bordeaux
C35: =VLOOKUP($E35,INDIRECT($A35),COLUMN(#REF!),FALSE) -> #REF! | D35: =VLOOKUP($E35,INDIRECT($A35),COLUMN(#REF!),FALSE) -> #REF! | E35: Bordeaux
A37: club | C37: face a face | D37: nbr de match | E37: victoire D | F37: victoire E | G37: % | H37: defaite D | I37: defaite E | J37: % | K37: nul | L37: %
A38: BORDEAUX | B38: AGEN | C38: 11 | D38: 6 | E38: 2 | F38: =(D38+E38)/C38 -> 0.72727273 | G38: 0 | H38: 3 | I38: =(G38+H38)/C38 -> 0.27272727 | K38: =100%-(F38+I38) -> 0 | L38: =SUM(F38+I38+K38) -> 1
A39: BORDEAUX | B39: BAYONNE | C39: 11 | D39: 6 | E39: 2 | F39: =(D39+E39)/C39 -> 0.72727273 | G39: 0 | H39: 3 | I39: =(G39+H39)/C39 -> 0.27272727 | K39: =100%-(F39+I39) -> 0 | L39: =SUM(F39+I39+K39) -> 1
A40: BORDEAUX | B40: BRIVE | C40: 13 | D40: 5 | E40: 2 | F40: =(D40+E40)/C40 -> 0.53846154 | G40: 0 | H40: 5 | I40: =(G40+H40)/C40 -> 0.38461538 | J40: 1 | K40: =100%-(F40+I40) -> 0.076923077 | L40: =SUM(F40+I40+K40) -> 1
A41: BORDEAUX | B41: CASTRES | C41: 18 | D41: 5 | E41: 2 | F41: =(D41+E41)/C41 -> 0.38888889 | G41: 4 | H41: 6 | I41: =(G41+H41)/C41 -> 0.55555556 | J41: 1 | K41: =100%-(F41+I41) -> 0.055555556 | L41: =SUM(F41+I41+K41) -> 1
A42: BORDEAUX | B42: CLERMONT | C42: 18 | D42: 5 | E42: 1 | F42: =(D42+E42)/C42 -> 0.33333333 | G42: 3 | H42: 7 | I42: =(G42+H42)/C42 -> 0.55555556 | J42: 2 | K42: =100%-(F42+I42) -> 0.11111111 | L42: =SUM(F42+I42+K42) -> 1
A43: BORDEAUX | B43: LA ROCHELLE | C43: 11 | D43: 5 | E43: 1 | F43: =(D43+E43)/C43 -> 0.54545455 | G43: 1 | H43: 4 | I43: =(G43+H43)/C43 -> 0.45454545 | K43: =100%-(F43+I43) -> 0 | L43: =SUM(F43+I43+K43) -> 1
A44: BORDEAUX | B44: LYON | C44: 12 | D44: 6 | E44: 1 | F44: =(D44+E44)/C44 -> 0.58333333 | G44: 0 | H44: 5 | I44: =(G44+H44)/C44 -> 0.41666667 | K44: =100%-(F44+I44) -> 0 | L44: =SUM(F44+I44+K44) -> 1
A45: BORDEAUX | B45: MONTPELLIER | C45: 17 | D45: 2 | E45: 1 | F45: =(D45+E45)/C45 -> 0.17647059 | G45: 5 | H45: 7 | I45: =(G45+H45)/C45 -> 0.70588235 | J45: 2 | K45: =100%-(F45+I45) -> 0.11764706 | L45: =SUM(F45+I45+K45) -> 1
A46: BORDEAUX | B46: PARIS | C46: 17 | D46: 8 | E46: 1 | F46: =(D46+E46)/C46 -> 0.52941176 | G46: 1 | H46: 7 | I46: =(G46+H46)/C46 -> 0.47058824 | K46: =100%-(F46+I46) -> 0 | L46: =SUM(F46+I46+K46) -> 1
A47: BORDEAUX | B47: PAU | C47: 9 | D47: 3 | E47: 3 | F47: =(D47+E47)/C47 -> 0.66666667 | G47: 1 | H47: 2 | I47: =(G47+H47)/C47 -> 0.33333333 | K47: =100%-(F47+I47) -> 0 | L47: =SUM(F47+I47+K47) -> 1
A48: BORDEAUX | B48: RACING 92 | C48: 17 | D48: 5 | E48: 1 | F48: =(D48+E48)/C48 -> 0.35294118 | G48: 3 | H48: 8 | I48: =(G48+H48)/C48 -> 0.64705882 | K48: =100%-(F48+I48) -> 0 | L48: =SUM(F48+I48+K48) -> 1
A49: BORDEAUX | B49: TOULON | C49: 17 | D49: 6 | E49: 0 | F49: =(D49+E49)/C49 -> 0.35294118 | G49: 3 | H49: 8 | I49: =(G49+H49)/C49 -> 0.64705882 | K49: =100%-(F49+I49) -> 0 | L49: =SUM(F49+I49+K49) -> 1
A50: BORDEAUX | B50: TOULOUSE | C50: 18 | D50: 5 | E50: 0 | F50: =(D50+E50)/C50 -> 0.27777778 | G50: 4 | H50: 8 | I50: =(G50+H50)/C50 -> 0.66666667 | J50: 1 | K50: =100%-(F50+I50) -> 0.055555556 | L50: =SUM(F50+I50+K50) -> 1

Sheet Brive
A1: Brive | B1: saison 2019/2020 | G1: point marquer | H1: saison 2020/2021 | L1: match du jour
B2: nbre match | C2: nbre vitoire | D2: nbre nul | E2: nbre defaite | G2: match dom | H2: =SUM(C8:C20) -> 0 | I2: =SUM(D8:D20) -> 0 | J2: =H2-I2 -> 0 | L2: domicile | M2: exertieur
A3: nbre match D | B3: 9 | C3: 7 | D3: 0 | E3: 2 | G3: par match | H3: =H2/B3 -> 0 | I3: =I2/B3 -> 0 | L3: Brive | M3: bordeaux
A4: nbre match E | B4: 8 | C4: 0 | D4: 1 | E4: 7 | G4: match ext | H4: =SUM(D23:D35) -> #REF! | I4: =SUM(C23:C35) -> #REF! | J4: =H4-I4 -> #REF! | L4: {=INDEX($C$38:$L$50,MATCH(1,($A$38:$A$50=$A$1)*($B$38:$B$50=$M$3),0),4)} -> 0.38461538 | M4: {=INDEX($C$38:$L$50,MATCH(1,($A$38:$A$50=$L$3)*($B$38:$B$50=$M$3),0),7)} -> 0.53846154
A5: nbre match T | B5: =B3+B4 -> 17 | C5: =C3+C4 -> 7 | D5: =D3+D4 -> 1 | E5: =E3+E4 -> 9 | G5: par match | H5: =H4/B4 -> #REF! | I5: =I4/B4 -> #REF! | L5: =100/L4/100 -> 2.6 | M5: =100/M4/100 -> 1.8571429
G6: match | H6: =H2+H4 -> #REF! | I6: =I2+I4 -> #REF! | J6: =H6-I6 -> #REF!
A7: journée | B7: adversaire | C7: Lieu Match | D7: Issue match | E7: Score D | F7: Score E | G7: par match | H7: =H6/B5 -> #REF! | I7: =I6/B5 -> #REF! | L7: Brive | M7: Agen
A8: journée 1 | E8: =VLOOKUP(B8,INDIRECT(A8),COLUMN(resultat!D:D),FALSE) -> #REF! | F8: =VLOOKUP(B8,INDIRECT(A8),COLUMN(resultat!E2),FALSE) -> #REF! | L8: Brive | M8: Bayonne
A9: journée 2 | G9: point marquer | H9: saison 2019/2020 | L9: Brive | M9: bordeaux
A10: journée 3 | G10: match dom | H10: 245 | I10: 193 | J10: 52 | L10: Brive | M10: Castres
A11: journée 4 | G11: par match | H11: 27.222222 | I11: 21.444444 | L11: Brive | M11: Clermont
A12: journée 5 | G12: match ext | H12: 105 | I12: 213 | J12: -108 | L12: Brive | M12: La Rochelle
A13: journée 6 | G13: par match | H13: 13.125 | I13: 26.625 | L13: Brive | M13: Lyon
A14: journée 7 | G14: match | H14: 350 | I14: 406 | J14: -56 | L14: Brive | M14: Montpellier
A15: journée 8 | G15: par match | H15: 20.588235 | I15: 23.882353 | L15: Brive | M15: Paris
A16: journée 9 | L16: Brive | M16: Pau
A17: journée 10 | G17: point marquer | L17: Brive | M17: Racing 92
A18: journée 11 | G18: match dom | L18: Brive | M18: Toulon
A19: journée 12 | G19: par match | L19: Brive | M19: Toulouse
A20: journée 13 | G20: match ext
A21: journée 14 | G21: par match
A22: journée 15 | G22: match
A23: journée 16 | G23: par match
A24: journée 17
A25: journée 18 | G25: point marquer
A26: journée 19 | G26: match dom
A27: journée 20 | G27: par match
A28: journée 21 | G28: match ext
A29: journée 22 | G29: par match
A30: journée 23 | G30: match
A31: journée 24 | G31: par match
A32: journée 25
A33: journée 26
C34: =VLOOKUP($E34,INDIRECT($A34),COLUMN(#REF!),FALSE) -> #REF! | D34: =VLOOKUP($E34,INDIRECT($A34),COLUMN(#REF!),FALSE) -> #REF! | E34: Brive
C35: =VLOOKUP($E35,INDIRECT($A35),COLUMN(#REF!),FALSE) -> #REF! | D35: =VLOOKUP($E35,INDIRECT($A35),COLUMN(#REF!),FALSE) -> #REF! | E35: Brive
A37: club | C37: face a face | D37: nbr de match | E37: victoire D | F37: victoire E | G37: % | H37: defaite D | I37: defaite E | J37: % | K37: nul | L37: %
A38: BRIVE | B38: AGEN | C38: 10 | D38: 2 | E38: 0 | F38: =(D38+E38)/C38 -> 0.2 | G38: 3 | H38: 5 | I38: =(G38+H38)/C38 -> 0.8 | K38: =100%-(F38+I38) -> 0 | L38: =SUM(F38+I38+K38) -> 1
A39: BRIVE | B39: BAYONNE | C39: 15 | D39: 6 | E39: 0 | F39: =(D39+E39)/C39 -> 0.4 | G39: 1 | H39: 7 | I39: =(G39+H39)/C39 -> 0.53333333 | J39: 1 | K39: =100%-(F39+I39) -> 0.066666667 | L39: =SUM(F39+I39+K39) -> 1
A40: BRIVE | B40: BORDEAUX | C40: 13 | D40: 5 | E40: 0 | F40: =(D40+E40)/C40 -> 0.38461538 | G40: 2 | H40: 5 | I40: =(G40+H40)/C40 -> 0.53846154 | J40: 1 | K40: =100%-(F40+I40) -> 0.076923077 | L40: =SUM(F40+I40+K40) -> 1
A41: BRIVE | B41: CASTRES | C41: 19 | D41: 6 | E41: 0 | F41: =(D41+E41)/C41 -> 0.31578947 | G41: 2 | H41: 9 | I41: =(G41+H41)/C41 -> 0.57894737 | J41: 2 | K41: =100%-(F41+I41) -> 0.10526316 | L41: =SUM(F41+I41+K41) -> 1
A42: BRIVE | B42: CLERMONT | C42: 19 | D42: 4 | E42: 1 | F42: =(D42+E42)/C42 -> 0.26315789 | G42: 5 | H42: 8 | I42: =(G42+H42)/C42 -> 0.68421053 | J42: 1 | K42: =100%-(F42+I42) -> 0.052631579 | L42: =SUM(F42+I42+K42) -> 1
A43: BRIVE | B43: LA ROCHELLE | C43: 11 | D43: 4 | E43: 0 | F43: =(D43+E43)/C43 -> 0.36363636 | G43: 1 | H43: 6 | I43: =(G43+H43)/C43 -> 0.63636364 | K43: =100%-(F43+I43) -> 0 | L43: =SUM(F43+I43+K43) -> 1
A44: BRIVE | B44: LYON | C44: 12 | D44: 3 | E44: 1 | F44: =(D44+E44)/C44 -> 0.33333333 | G44: 2 | H44: 3 | I44: =(G44+H44)/C44 -> 0.41666667 | J44: 3 | K44: =100%-(F44+I44) -> 0.25 | L44: =SUM(F44+I44+K44) -> 1
A45: BRIVE | B45: MONTPELLIER | C45: 19 | D45: 8 | E45: 4 | F45: =(D45+E45)/C45 -> 0.63157895 | G45: 1 | H45: 6 | I45: =(G45+H45)/C45 -> 0.36842105 | K45: =100%-(F45+I45) -> 0 | L45: =SUM(F45+I45+K45) -> 1
A46: BRIVE | B46: PARIS | C46: 19 | D46: 10 | E46: 1 | F46: =(D46+E46)/C46 -> 0.57894737 | G46: 0 | H46: 8 | I46: =(G46+H46)/C46 -> 0.42105263 | K46: =100%-(F46+I46) -> 0 | L46: =SUM(F46+I46+K46) -> 1
A47: BRIVE | B47: PAU | C47: 11 | D47: 5 | E47: 1 | F47: =(D47+E47)/C47 -> 0.54545455 | G47: 1 | H47: 4 | I47: =(G47+H47)/C47 -> 0.45454545 | K47: =100%-(F47+I47) -> 0 | L47: =SUM(F47+I47+K47) -> 1
A48: BRIVE | B48: RACING 92 | C48: 17 | D48: 3 | E48: 0 | F48: =(D48+E48)/C48 -> 0.17647059 | G48: 5 | H48: 7 | I48: =(G48+H48)/C48 -> 0.70588235 | J48: 2 | K48: =100%-(F48+I48) -> 0.11764706 | L48: =SUM(F48+I48+K48) -> 1
A49: BRIVE | B49: TOULON | C49: 20 | D49: 8 | E49: 1 | F49: =(D49+E49)/C49 -> 0.45 | G49: 2 | H49: 8 | I49: =(G49+H49)/C49 -> 0.5 | J49: 1 | K49: =100%-(F49+I49) -> 0.05 | L49: =SUM(F49+I49+K49) -> 1
A50: BRIVE | B50: TOULOUSE | C50: 19 | D50: 5 | E50: 0 | F50: =(D50+E50)/C50 -> 0.26315789 | G50: 2 | H50: 9 | I50: =(G50+H50)/C50 -> 0.57894737 | J50: 3 | K50: =100%-(F50+I50) -> 0.15789474 | L50: =SUM(F50+I50+K50) -> 1

Sheet Castres
A1: Castres | B1: saison 2019/2020 | G1: point marquer | H1: saison 2020/2021 | L1: match du jour
B2: nbre match | C2: nbre vitoire | D2: nbre nul | E2: nbre defaite | G2: match dom | H2: =SUM(C8:C20) -> 0 | I2: =SUM(D8:D20) -> 0 | J2: =H2-I2 -> 0 | L2: domicile | M2: exertieur
A3: nbre match D | B3: 8 | C3: 6 | D3: 0 | E3: 2 | G3: par match | H3: =H2/B3 -> 0 | I3: =I2/B3 -> 0 | L3: Castres | M3: brive
A4: nbre match E | B4: 9 | C4: 1 | D4: 0 | E4: 8 | G4: match ext | H4: =SUM(D23:D35) -> #REF! | I4: =SUM(C23:C35) -> #REF! | J4: =H4-I4 -> #REF! | L4: {=INDEX($C$39:$L$50,MATCH(1,($A$39:$A$50=$A$1)*($B$39:$B$50=$M$3),0),4)} -> 0.57894737 | M4: {=INDEX($C$39:$L$50,MATCH(1,($A$39:$A$50=$L$3)*($B$39:$B$50=$M$3),0),7)} -> 0.31578947
A5: nbre match T | B5: =B3+B4 -> 17 | C5: =C3+C4 -> 7 | D5: =D3+D4 -> 0 | E5: =E3+E4 -> 10 | G5: par match | H5: =H4/B4 -> #REF! | I5: =I4/B4 -> #REF! | L5: =100/L4/100 -> 1.7272727 | M5: =100/M4/100 -> 3.1666667
G6: match | H6: =H2+H4 -> #REF! | I6: =I2+I4 -> #REF! | J6: =H6-I6 -> #REF!
A7: journée | B7: adversaire | C7: Lieu Match | D7: Issue match | E7: Score D | F7: Score E | G7: par match | H7: =H6/B5 -> #REF! | I7: =I6/B5 -> #REF! | L7: Castres | M7: Agen
A8: journée 1 | E8: =VLOOKUP(B8,INDIRECT(A8),COLUMN(resultat!D:D),FALSE) -> #REF! | F8: =VLOOKUP(B8,INDIRECT(A8),COLUMN(resultat!E2),FALSE) -> #REF! | L8: Castres | M8: Bayonne
A9: journée 2 | G9: point marquer | H9: saison 2019/2020 | L9: Castres | M9: bordeaux
A10: journée 3 | G10: match dom | H10: 191 | I10: 158 | J10: 33 | L10: Castres | M10: brive
A11: journée 4 | G11: par match | H11: 23.875 | I11: 19.75 | L11: Castres | M11: Clermont
A12: journée 5 | G12: match ext | H12: 175 | I12: 267 | J12: -92 | L12: Castres | M12: La Rochelle
A13: journée 6 | G13: par match | H13: 19.444444 | I13: 29.666667 | L13: Castres | M13: Lyon
A14: journée 7 | G14: match | H14: 366 | I14: 425 | J14: -59 | L14: Castres | M14: Montpellier
A15: journée 8 | G15: par match | H15: 21.529412 | I15: 25 | L15: Castres | M15: Paris
A16: journée 9 | L16: Castres | M16: Pau
A17: journée 10 | G17: point marquer | L17: Castres | M17: Racing 92
A18: journée 11 | G18: match dom | L18: Castres | M18: Toulon
A19: journée 12 | G19: par match | L19: Castres | M19: Toulouse
A20: journée 13 | G20: match ext
A21: journée 14 | G21: par match
A22: journée 15 | G22: match
A23: journée 16 | G23: par match
A24: journée 17
A25: journée 18 | G25: point marquer
A26: journée 19 | G26: match dom
A27: journée 20 | G27: par match
A28: journée 21 | G28: match ext
A29: journée 22 | G29: par match
A30: journée 23 | G30: match
A31: journée 24 | G31: par match
A32: journée 25
A33: journée 26
C34: =VLOOKUP($E34,INDIRECT($A34),COLUMN(#REF!),FALSE) -> #REF! | D34: =VLOOKUP($E34,INDIRECT($A34),COLUMN(#REF!),FALSE) -> #REF! | E34: Castres
C35: =VLOOKUP($E35,INDIRECT($A35),COLUMN(#REF!),FALSE) -> #REF! | D35: =VLOOKUP($E35,INDIRECT($A35),COLUMN(#REF!),FALSE) -> #REF! | E35: Castres
A37: ='Agen '!A37 -> club | C37: ='Agen '!C37 -> nbr de match | D37: ='Agen '!D37 -> victoire D | E37: ='Agen '!E37 -> victoire E | F37: ='Agen '!F37 -> % | G37: ='Agen '!G37 -> defaite D | H37: ='Agen '!H37 -> defaite E | I37: ='Agen '!I37 -> % | J37: ='Agen '!J37 -> nul | ... L37: ='Agen '!L37 -> 0
A38: CASTRES | B38: AGEN | C38: 14 | D38: 6 | E38: 4 | F38: =(D38+E38)/C38 -> 0.71428571 | G38: 1 | H38: 3 | I38: =(G38+H38)/C38 -> 0.28571429 | K38: =100%-(F38+I38) -> 0 | L38: =SUM(F38+I38+K38) -> 1
A39: CASTRES | B39: BAYONNE | C39: 17 | D39: 7 | E39: 1 | F39: =(D39+E39)/C39 -> 0.47058824 | G39: 1 | H39: 5 | I39: =(G39+H39)/C39 -> 0.35294118 | J39: 3 | K39: =100%-(F39+I39) -> 0.17647059 | L39: =SUM(F39+I39+K39) -> 1
A40: CASTRES | B40: BORDEAUX | C40: 18 | D40: 6 | E40: 4 | F40: =(D40+E40)/C40 -> 0.55555556 | G40: 2 | H40: 5 | I40: =(G40+H40)/C40 -> 0.38888889 | J40: 1 | K40: =100%-(F40+I40) -> 0.055555556 | L40: =SUM(F40+I40+K40) -> 1
A41: CASTRES | B41: BRIVE | C41: 19 | D41: 9 | E41: 2 | F41: =(D41+E41)/C41 -> 0.57894737 | G41: 0 | H41: 6 | I41: =(G41+H41)/C41 -> 0.31578947 | J41: 2 | K41: =100%-(F41+I41) -> 0.10526316 | L41: =SUM(F41+I41+K41) -> 1
A42: CASTRES | B42: CLERMONT | C42: 25 | D42: 8 | E42: 3 | F42: =(D42+E42)/C42 -> 0.44 | G42: 1 | H42: 11 | I42: =(G42+H42)/C42 -> 0.48 | J42: 2 | K42: =100%-(F42+I42) -> 0.08 | L42: =SUM(F42+I42+K42) -> 1
A43: CASTRES | B43: LA ROCHELLE | C43: 13 | D43: 5 | E43: 1 | F43: =(D43+E43)/C43 -> 0.46153846 | G43: 1 | H43: 6 | I43: =(G43+H43)/C43 -> 0.53846154 | K43: =100%-(F43+I43) -> 0 | L43: =SUM(F43+I43+K43) -> 1
A44: CASTRES | B44: LYON | C44: 11 | D44: 4 | E44: 3 | F44: =(D44+E44)/C44 -> 0.63636364 | G44: 1 | H44: 2 | I44: =(G44+H44)/C44 -> 0.27272727 | J44: 1 | K44: =100%-(F44+I44) -> 0.090909091 | L44: =SUM(F44+I44+K44) -> 1
A45: CASTRES | B45: MONTPELLIER | C45: 29 | D45: 11 | E45: 5 | F45: =(D45+E45)/C45 -> 0.55172414 | G45: 4 | H45: 8 | I45: =(G45+H45)/C45 -> 0.4137931 | J45: 1 | K45: =100%-(F45+I45) -> 0.034482759 | L45: =SUM(F45+I45+K45) -> 1
A46: CASTRES | B46: PARIS | C46: 23 | D46: 9 | E46: 0 | F46: =(D46+E46)/C46 -> 0.39130435 | G46: 3 | H46: 10 | I46: =(G46+H46)/C46 -> 0.56521739 | J46: 1 | K46: =100%-(F46+I46) -> 0.043478261 | L46: =SUM(F46+I46+K46) -> 1
A47: CASTRES | B47: PAU | C47: 10 | D47: 4 | E47: 1 | F47: =(D47+E47)/C47 -> 0.5 | G47: 1 | H47: 4 | I47: =(G47+H47)/C47 -> 0.5 | K47: =100%-(F47+I47) -> 0 | L47: =SUM(F47+I47+K47) -> 1
A48: CASTRES | B48: RACING 92 | C48: 23 | D48: 7 | E48: 2 | F48: =(D48+E48)/C48 -> 0.39130435 | G48: 4 | H48: 9 | I48: =(G48+H48)/C48 -> 0.56521739 | J48: 1 | K48: =100%-(F48+I48) -> 0.043478261 | L48: =SUM(F48+I48+K48) -> 1
A49: CASTRES | B49: TOULON | C49: 26 | D49: 9 | E49: 2 | F49: =(D49+E49)/C49 -> 0.42307692 | G49: 1 | H49: 12 | I49: =(G49+H49)/C49 -> 0.5 | J49: 2 | K49: =100%-(F49+I49) -> 0.076923077 | L49: =SUM(F49+I49+K49) -> 1
A50: CASTRES | B50: TOULOUSE | C50: 26 | D50: 7 | E50: 3 | F50: =(D50+E50)/C50 -> 0.38461538 | G50: 4 | H50: 12 | I50: =(G50+H50)/C50 -> 0.61538462 | K50: =100%-(F50+I50) -> 0 | L50: =SUM(F50+I50+K50) -> 1

Sheet Clermont
A1: Clermont | B1: saison 2019/2020 | G1: point marquer | H1: saison 2020/2021 | L1: match du jour
B2: nbre match | C2: nbre vitoire | D2: nbre nul | E2: nbre defaite | G2: match dom | H2: =SUM(C8:C20) -> 0 | I2: =SUM(D8:D20) -> 0 | J2: =H2-I2 -> 0 | L2: domicile | M2: exertieur
A3: nbre match D | B3: 8 | C3: 6 | D3: 0 | E3: 2 | G3: par match | H3: =H2/B3 -> 0 | I3: =I2/B3 -> 0 | L3: Clermont | M3: Agen
A4: nbre match E | B4: 9 | C4: 4 | D4: 0 | E4: 5 | G4: match ext | H4: =SUM(D23:D35) -> #REF! | I4: =SUM(C23:C35) -> #REF! | J4: =H4-I4 -> #REF! | L4: {=INDEX($C$38:$L$50,MATCH(1,($A$38:$A$50=$A$1)*($B$38:$B$50=$M$3),0),4)} -> 0.85714286 | M4: {=INDEX($C$38:$L$50,MATCH(1,($A$38:$A$50=$L$3)*($B$38:$B$50=$M$3),0),7)} -> 0.14285714
A5: nbre match T | B5: =B3+B4 -> 17 | C5: =C3+C4 -> 10 | D5: =D3+D4 -> 0 | E5: =E3+E4 -> 7 | G5: par match | H5: =H4/B4 -> #REF! | I5: =I4/B4 -> #REF! | L5: =100/L4/100 -> 1.1666667 | M5: =100/M4/100 -> 7
G6: match | H6: =H2+H4 -> #REF! | I6: =I2+I4 -> #REF! | J6: =H6-I6 -> #REF!
A7: journée | B7: adversaire | C7: Lieu Match | D7: Issue match | E7: Score D | F7: Score E | G7: par match | H7: =H6/B5 -> #REF! | I7: =I6/B5 -> #REF! | L7: Clermont | M7: Agen
A8: journée 1 | E8: =VLOOKUP(B8,INDIRECT(A8),COLUMN(resultat!D:D),FALSE) -> #REF! | F8: =VLOOKUP(B8,INDIRECT(A8),COLUMN(resultat!E2),FALSE) -> #REF! | L8: Clermont | M8: Bayonne
A9: journée 2 | G9: point marquer | H9: saison 2019/2020 | L9: Clermont | M9: Bordeaux
A10: journée 3 | G10: match dom | H10: 182 | I10: 150 | J10: 32 | L10: Clermont | M10: Brive
A11: journée 4 | G11: par match | H11: 22.75 | I11: 18.75 | L11: Clermont | M11: Castres
A12: journée 5 | G12: match ext | H12: 203 | I12: 255 | J12: -52 | L12: Clermont | M12: La Rochelle
A13: journée 6 | G13: par match | H13: 22.555556 | I13: 28.333333 | L13: Clermont | M13: Lyon
A14: journée 7 | G14: match | H14: 385 | I14: 405 | J14: -20 | L14: Clermont | M14: Montpellier
A15: journée 8 | G15: par match | H15: 22.647059 | I15: 23.823529 | L15: Clermont | M15: Paris
A16: journée 9 | L16: Clermont | M16: Pau
A17: journée 10 | G17: point marquer | L17: Clermont | M17: Racing 92
A18: journée 11 | G18: match dom | L18: Clermont | M18: Toulon
A19: journée 12 | G19: par match | L19: Clermont | M19: Toulouse
A20: journée 13 | G20: match ext
A21: journée 14 | G21: par match
A22: journée 15 | G22: match
A23: journée 16 | G23: par match
A24: journée 17
A25: journée 18 | G25: point marquer
A26: journée 19 | G26: match dom
A27: journée 20 | G27: par match
A28: journée 21 | G28: match ext
A29: journée 22 | G29: par match
A30: journée 23 | G30: match
A31: journée 24 | G31: par match
A32: journée 25
A33: journée 26
C34: =VLOOKUP($E34,INDIRECT($A34),COLUMN(#REF!),FALSE) -> #REF! | D34: =VLOOKUP($E34,INDIRECT($A34),COLUMN(#REF!),FALSE) -> #REF! | E34: Clermont
C35: =VLOOKUP($E35,INDIRECT($A35),COLUMN(#REF!),FALSE) -> #REF! | D35: =VLOOKUP($E35,INDIRECT($A35),COLUMN(#REF!),FALSE) -> #REF! | E35: Clermont
A37: club | C37: face a face | D37: nbr de match | E37: victoire D | F37: victoire E | G37: % | H37: defaite D | I37: defaite E | J37: % | K37: nul | L37: %
A38: CLERMONT | B38: AGEN | C38: 14 | D38: 7 | E38: 5 | F38: =(D38+E38)/C38 -> 0.85714286 | G38: 0 | H38: 2 | I38: =(G38+H38)/C38 -> 0.14285714 | K38: =100%-(F38+I38) -> 0 | L38: =SUM(F38+I38+K38) -> 1
A39: CLERMONT | B39: BAYONNE | C39: 17 | D39: 8 | E39: 2 | F39: =(D39+E39)/C39 -> 0.58823529 | G39: 0 | H39: 6 | I39: =(G39+H39)/C39 -> 0.35294118 | J39: 1 | K39: =100%-(F39+I39) -> 0.058823529 | L39: =SUM(F39+I39+K39) -> 1
A40: CLERMONT | B40: BORDEAUX | C40: 18 | D40: 7 | E40: 3 | F40: =(D40+E40)/C40 -> 0.55555556 | G40: 1 | H40: 5 | I40: =(G40+H40)/C40 -> 0.33333333 | J40: 2 | K40: =100%-(F40+I40) -> 0.11111111 | L40: =SUM(F40+I40+K40) -> 1
A41: CLERMONT | B41: BRIVE | C41: 19 | D41: 8 | E41: 5 | F41: =(D41+E41)/C41 -> 0.68421053 | G41: 1 | H41: 4 | I41: =(G41+H41)/C41 -> 0.26315789 | K41: =100%-(F41+I41) -> 0.052631579 | L41: =SUM(F41+I41+K41) -> 1
A42: CLERMONT | B42: CASTRES | C42: 25 | D42: 11 | E42: 1 | F42: =(D42+E42)/C42 -> 0.48 | G42: 3 | H42: 8 | I42: =(G42+H42)/C42 -> 0.44 | J42: 2 | K42: =100%-(F42+I42) -> 0.08 | L42: =SUM(F42+I42+K42) -> 1
A43: CLERMONT | B43: LA ROCHELLE | C43: 13 | D43: 7 | E43: 1 | F43: =(D43+E43)/C43 -> 0.61538462 | G43: 0 | H43: 4 | I43: =(G43+H43)/C43 -> 0.30769231 | J43: 1 | K43: =100%-(F43+I43) -> 0.076923077 | L43: =SUM(F43+I43+K43) -> 1
A44: CLERMONT | B44: LYON | C44: 12 | D44: 7 | E44: 1 | F44: =(D44+E44)/C44 -> 0.66666667 | G44: 0 | H44: 3 | I44: =(G44+H44)/C44 -> 0.25 | J44: 1 | K44: =100%-(F44+I44) -> 0.083333333 | L44: =SUM(F44+I44+K44) -> 1
A45: CLERMONT | B45: MONTPELLIER | C45: 23 | D45: 7 | E45: 4 | F45: =(D45+E45)/C45 -> 0.47826087 | G45: 5 | H45: 7 | I45: =(G45+H45)/C45 -> 0.52173913 | K45: =100%-(F45+I45) -> 0 | L45: =SUM(F45+I45+K45) -> 1
A46: CLERMONT | B46: PARIS | C46: 25 | D46: 11 | E46: 5 | F46: =(D46+E46)/C46 -> 0.64 | G46: 1 | H46: 6 | I46: =(G46+H46)/C46 -> 0.28 | J46: 2 | K46: =100%-(F46+I46) -> 0.08 | L46: =SUM(F46+I46+K46) -> 1
A47: CLERMONT | B47: PAU | C47: 10 | D47: 4 | E47: 3 | F47: =(D47+E47)/C47 -> 0.7 | G47: 1 | H47: 2 | I47: =(G47+H47)/C47 -> 0.3 | K47: =100%-(F47+I47) -> 0 | L47: =SUM(F47+I47+K47) -> 1
A48: CLERMONT | B48: RACING 92 | C48: 24 | D48: 10 | E48: 2 | F48: =(D48+E48)/C48 -> 0.5 | G48: 1 | H48: 8 | I48: =(G48+H48)/C48 -> 0.375 | J48: 3 | K48: =100%-(F48+I48) -> 0.125 | L48: =SUM(F48+I48+K48) -> 1
A49: CLERMONT | B49: TOULON | C49: 26 | D49: 11 | E49: 2 | F49: =(D49+E49)/C49 -> 0.5 | G49: 2 | H49: 9 | I49: =(G49+H49)/C49 -> 0.42307692 | J49: 2 | K49: =100%-(F49+I49) -> 0.076923077 | L49: =SUM(F49+I49+K49) -> 1
A50: CLERMONT | B50: TOULOUSE | C50: 27 | D50: 11 | E50: 3 | F50: =(D50+E50)/C50 -> 0.51851852 | G50: 0 | H50: 12 | I50: =(G50+H50)/C50 -> 0.44444444 | J50: 1 | K50: =100%-(F50+I50) -> 0.037037037 | L50: =SUM(F50+I50+K50) -> 1

Sheet La Rochelle
A1: La Rochelle | B1: saison 2019/2020 | G1: point marquer | H1: saison 2020/2021 | L1: match du jour
B2: nbre match | C2: nbre vitoire | D2: nbre nul | E2: nbre defaite | G2: match dom | H2: =SUM(C8:C19) -> 0 | I2: =SUM(D8:D19) -> 0 | J2: =H2-I2 -> 0 | L2: domicile | M2: exertieur
A3: nbre match D | B3: 8 | C3: 8 | D3: 0 | E3: 0 | G3: par match | H3: =H2/B3 -> 0 | I3: =I2/B3 -> 0 | L3: La Rochelle | M3: lyon
A4: nbre match E | B4: 9 | C4: 1 | D4: 0 | E4: 8 | G4: match ext | H4: =SUM(D23:D35) -> #REF! | I4: =SUM(C23:C35) -> #REF! | J4: =H4-I4 -> #REF! | L4: {=INDEX($C$38:$L$50,MATCH(1,($A$38:$A$50=$A$1)*($B$38:$B$50=$M$3),0),4)} -> 0.46153846 | M4: {=INDEX($C$38:$L$50,MATCH(1,($A$38:$A$50=$L$3)*($B$38:$B$50=$M$3),0),7)} -> 0.46153846
A5: nbre match T | B5: =B3+B4 -> 17 | C5: =C3+C4 -> 9 | D5: =D3+D4 -> 0 | E5: =E3+E4 -> 8 | G5: par match | H5: =H4/B4 -> #REF! | I5: =I4/B4 -> #REF! | L5: =100/L4/100 -> 2.1666667 | M5: =100/M4/100 -> 2.1666667
G6: match | H6: =H2+H4 -> #REF! | I6: =I2+I4 -> #REF! | J6: =H6-I6 -> #REF!
A7: journée | B7: adversaire | C7: Lieu Match | D7: Issue match | E7: Score D | F7: Score E | G7: par match | H7: =H6/B5 -> #REF! | I7: =I6/B5 -> #REF! | L7: La Rochelle | M7: Agen
A8: journée 1 | E8: =VLOOKUP(B8,INDIRECT(A8),COLUMN(resultat!D:D),FALSE) -> #REF! | F8: =VLOOKUP(B8,INDIRECT(A8),COLUMN(resultat!E2),FALSE) -> #REF! | L8: La Rochelle | M8: Bordeaux
A9: journée 2 | G9: point marquer | H9: saison 2019/2020 | L9: La Rochelle | M9: Brive
A10: journée 3 | G10: match dom | H10: 223 | I10: 125 | J10: 98 | L10: La Rochelle | M10: Castres
A11: journée 4 | G11: par match | H11: 27.875 | I11: 15.625 | L11: La Rochelle | M11: Clermont
A12: journée 5 | G12: match ext | H12: 137 | I12: 224 | J12: -87 | L12: La Rochelle | M12: Lyon
A13: journée 6 | G13: par match | H13: 15.222222 | I13: 24.888889 | L13: La Rochelle | M13: Montpellier
A14: journée 7 | G14: match | H14: 360 | I14: 349 | J14: 11 | L14: La Rochelle | M14: Paris
A15: journée 8 | G15: par match | H15: 21.176471 | I15: 20.529412 | L15: La Rochelle | M15: Pau
A16: journée 9 | L16: La Rochelle | M16: Racing 92
A17: journée 10 | G17: point marquer | L17: La Rochelle | M17: Toulon
A18: journée 11 | G18: match dom | L18: La Rochelle | M18: Toulouse
A19: journée 12 | G19: par match
A20: journée 13 | G20: match ext
A21: journée 14 | G21: par match
A22: journée 15 | G22: match
A23: journée 16 | G23: par match
A24: journée 17
A25: journée 18 | G25: point marquer
A26: journée 19 | G26: match dom
A27: journée 20 | G27: par match
A28: journée 21 | G28: match ext
A29: journée 22 | G29: par match
A30: journée 23 | G30: match
A31: journée 24 | G31: par match
A32: journée 25
A33: journée 26
C34: =VLOOKUP($E34,INDIRECT($A34),COLUMN(#REF!),FALSE) -> #REF! | D34: =VLOOKUP($E34,INDIRECT($A34),COLUMN(#REF!),FALSE) -> #REF! | E34: La rochelle
C35: =VLOOKUP($E35,INDIRECT($A35),COLUMN(#REF!),FALSE) -> #REF! | D35: =VLOOKUP($E35,INDIRECT($A35),COLUMN(#REF!),FALSE) -> #REF! | E35: La rochelle
A37: club | C37: face a face | D37: nbr de match | E37: victoire D | F37: victoire E | G37: % | H37: defaite D | I37: defaite E | J37: % | K37: nul | L37: %
A38: LA ROCHELLE | B38: AGEN | C38: 12 | D38: 4 | E38: 2 | F38: =(D38+E38)/C38 -> 0.5 | G38: 2 | H38: 4 | I38: =(G38+H38)/C38 -> 0.5 | K38: =100%-(F38+I38) -> 0 | L38: =SUM(F38+I38+K38) -> 1
A39: LA ROCHELLE | B39: BAYONNE | C39: 7 | D39: 1 | E39: 1 | F39: =(D39+E39)/C39 -> 0.28571429 | G39: 1 | H39: 3 | I39: =(G39+H39)/C39 -> 0.57142857 | J39: 1 | K39: =100%-(F39+I39) -> 0.14285714 | L39: =SUM(F39+I39+K39) -> 1
A40: LA ROCHELLE | B40: BORDEAUX | C40: 11 | D40: 4 | E40: 1 | F40: =(D40+E40)/C40 -> 0.45454545 | G40: 1 | H40: 5 | I40: =(G40+H40)/C40 -> 0.54545455 | K40: =100%-(F40+I40) -> 0 | L40: =SUM(F40+I40+K40) -> 1
A41: LA ROCHELLE | B41: BRIVE | C41: 11 | D41: 6 | E41: 1 | F41: =(D41+E41)/C41 -> 0.63636364 | G41: 0 | H41: 4 | I41: =(G41+H41)/C41 -> 0.36363636 | K41: =100%-(F41+I41) -> 0 | L41: =SUM(F41+I41+K41) -> 1
A42: LA ROCHELLE | B42: CASTRES | C42: 13 | D42: 6 | E42: 1 | F42: =(D42+E42)/C42 -> 0.53846154 | G42: 1 | H42: 5 | I42: =(G42+H42)/C42 -> 0.46153846 | K42: =100%-(F42+I42) -> 0 | L42: =SUM(F42+I42+K42) -> 1
A43: LA ROCHELLE | B43: CLERMONT | C43: 13 | D43: 4 | E43: 0 | F43: =(D43+E43)/C43 -> 0.30769231 | G43: 1 | H43: 7 | I43: =(G43+H43)/C43 -> 0.61538462 | J43: 1 | K43: =100%-(F43+I43) -> 0.076923077 | L43: =SUM(F43+I43+K43) -> 1
A44: LA ROCHELLE | B44: LYON | C44: 13 | D44: 5 | E44: 1 | F44: =(D44+E44)/C44 -> 0.46153846 | G44: 1 | H44: 5 | I44: =(G44+H44)/C44 -> 0.46153846 | J44: 1 | K44: =100%-(F44+I44) -> 0.076923077 | L44: =SUM(F44+I44+K44) -> 1
A45: LA ROCHELLE | B45: MONTPELLIER | C45: 14 | D45: 7 | E45: 0 | F45: =(D45+E45)/C45 -> 0.5 | G45: 0 | H45: 6 | I45: =(G45+H45)/C45 -> 0.42857143 | J45: 1 | K45: =100%-(F45+I45) -> 0.071428571 | L45: =SUM(F45+I45+K45) -> 1
A46: LA ROCHELLE | B46: PARIS | C46: 14 | D46: 4 | E46: 1 | F46: =(D46+E46)/C46 -> 0.35714286 | G46: 1 | H46: 6 | I46: =(G46+H46)/C46 -> 0.5 | J46: 2 | K46: =100%-(F46+I46) -> 0.14285714 | L46: =SUM(F46+I46+K46) -> 1
A47: LA ROCHELLE | B47: PAU | C47: 15 | D47: 7 | E47: 4 | F47: =(D47+E47)/C47 -> 0.73333333 | G47: 0 | H47: 4 | I47: =(G47+H47)/C47 -> 0.26666667 | K47: =100%-(F47+I47) -> 0 | L47: =SUM(F47+I47+K47) -> 1
A48: LA ROCHELLE | B48: RACING 92 | C48: 15 | D48: 3 | E48: 2 | F48: =(D48+E48)/C48 -> 0.33333333 | G48: 2 | H48: 6 | I48: =(G48+H48)/C48 -> 0.53333333 | J48: 2 | K48: =100%-(F48+I48) -> 0.13333333 | L48: =SUM(F48+I48+K48) -> 1
A49: LA ROCHELLE | B49: TOULON | C49: 15 | D49: 4 | E49: 2 | F49: =(D49+E49)/C49 -> 0.4 | G49: 3 | H49: 5 | I49: =(G49+H49)/C49 -> 0.53333333 | J49: 1 | K49: =100%-(F49+I49) -> 0.066666667 | L49: =SUM(F49+I49+K49) -> 1
A50: LA ROCHELLE | B50: TOULOUSE | C50: 14 | D50: 5 | E50: 1 | F50: =(D50+E50)/C50 -> 0.42857143 | G50: 2 | H50: 6 | I50: =(G50+H50)/C50 -> 0.57142857 | K50: =100%-(F50+I50) -> 0 | L50: =SUM(F50+I50+K50) -> 1

Sheet Lyon 
A1: Lyon | B1: saison 2019/2020 | G1: point marquer | H1: saison 2020/2021 | L1: match du jour
B2: nbre match | C2: nbre vitoire | D2: nbre nul | E2: nbre defaite | G2: match dom | H2: =SUM(C8:C20) -> 0 | I2: =SUM(D8:D20) -> 0 | J2: =H2-I2 -> 0 | L2: domicile | M2: exertieur
A3: nbre match D | B3: 9 | C3: 9 | D3: 0 | E3: 0 | G3: par match | H3: =H2/B3 -> 0 | I3: =I2/B3 -> 0 | L3: Lyon | M3: Agen
A4: nbre match E | B4: 8 | C4: 3 | D4: 0 | E4: 5 | G4: match ext | H4: =SUM(D23:D35) -> #REF! | I4: =SUM(C23:C35) -> #REF! | J4: =H4-I4 -> #REF! | L4: {=INDEX($C$38:$L$50,MATCH(1,($A$38:$A$50=$A$1)*($B$38:$B$50=$M$3),0),4)} -> 0.71428571 | M4: {=INDEX($C$38:$L$50,MATCH(1,($A$38:$A$50=$L$3)*($B$38:$B$50=$M$3),0),7)} -> 0.28571429
A5: nbre match T | B5: =B3+B4 -> 17 | C5: =C3+C4 -> 12 | D5: =D3+D4 -> 0 | E5: =E3+E4 -> 5 | G5: par match | H5: =H4/B4 -> #REF! | I5: =I4/B4 -> #REF! | L5: =100/L4/100 -> 1.4 | M5: =100/M4/100 -> 3.5
G6: match | H6: =H2+H4 -> #REF! | I6: =I2+I4 -> #REF! | J6: =H6-I6 -> #REF!
A7: journée | B7: adversaire | C7: Lieu Match | D7: Issue match | E7: Score D | F7: Score E | G7: par match | H7: =H6/B5 -> #REF! | I7: =I6/B5 -> #REF! | L7: Lyon | M7: Agen
A8: journée 1 | E8: =VLOOKUP(B8,INDIRECT(A8),COLUMN(resultat!D:D),FALSE) -> #REF! | F8: =VLOOKUP(B8,INDIRECT(A8),COLUMN(resultat!E2),FALSE) -> #REF! | L8: Lyon | M8: Bayonne
A9: journée 2 | G9: point marquer | H9: saison 2019/2020 | L9: Lyon | M9: Bordeaux
A10: journée 3 | G10: match dom | H10: 286 | I10: 104 | J10: 182 | L10: Lyon | M10: Brive
A11: journée 4 | G11: par match | H11: 31.777778 | I11: 11.555556 | L11: Lyon | M11: Castres
A12: journée 5 | G12: match ext | H12: 134 | I12: 187 | J12: -53 | L12: Lyon | M12: Clermont
A13: journée 6 | G13: par match | H13: 16.75 | I13: 23.375 | L13: Lyon | M13: La Rochelle
A14: journée 7 | G14: match | H14: 420 | I14: 291 | J14: 129 | L14: Lyon | M14: Montpellier
A15: journée 8 | G15: par match | H15: 24.705882 | I15: 17.117647 | L15: Lyon | M15: Paris
A16: journée 9 | L16: Lyon | M16: Pau
A17: journée 10 | G17: point marquer | L17: Lyon | M17: Racing 92
A18: journée 11 | G18: match dom | L18: Lyon | M18: Toulon
A19: journée 12 | G19: par match | L19: Lyon | M19: Toulouse
A20: journée 13 | G20: match ext
A21: journée 14 | G21: par match
A22: journée 15 | G22: match
A23: journée 16 | G23: par match
A24: journée 17
A25: journée 18 | G25: point marquer
A26: journée 19 | G26: match dom
A27: journée 20 | G27: par match
A28: journée 21 | G28: match ext
A29: journée 22 | G29: par match
A30: journée 23 | G30: match
A31: journée 24 | G31: par match
A32: journée 25
A33: journée 26
C34: =VLOOKUP($E34,INDIRECT($A34),COLUMN(#REF!),FALSE) -> #REF! | D34: =VLOOKUP($E34,INDIRECT($A34),COLUMN(#REF!),FALSE) -> #REF! | E34: Lyon
C35: =VLOOKUP($E35,INDIRECT($A35),COLUMN(#REF!),FALSE) -> #REF! | D35: =VLOOKUP($E35,INDIRECT($A35),COLUMN(#REF!),FALSE) -> #REF! | E35: Lyon
A37: club | C37: face a face | D37: nbr de match | E37: victoire D | F37: victoire E | G37: % | H37: defaite D | I37: defaite E | J37: % | K37: nul | L37: %
A38: LYON | B38: AGEN | C38: 7 | D38: 3 | E38: 2 | F38: =(D38+E38)/C38 -> 0.71428571 | G38: 0 | H38: 2 | I38: =(G38+H38)/C38 -> 0.28571429 | K38: =100%-(F38+I38) -> 0 | L38: =SUM(F38+I38+K38) -> 1
A39: LYON | B39: BAYONNE | C39: 7 | D39: 3 | E39: 0 | F39: =(D39+E39)/C39 -> 0.42857143 | G39: 1 | H39: 2 | I39: =(G39+H39)/C39 -> 0.42857143 | J39: 1 | K39: =100%-(F39+I39) -> 0.14285714 | L39: =SUM(F39+I39+K39) -> 1
A40: LYON | B40: BORDEAUX | C40: 12 | D40: 5 | E40: 0 | F40: =(D40+E40)/C40 -> 0.41666667 | G40: 1 | H40: 6 | I40: =(G40+H40)/C40 -> 0.58333333 | K40: =100%-(F40+I40) -> 0 | L40: =SUM(F40+I40+K40) -> 1
A41: LYON | B41: BRIVE | C41: 13 | D41: 3 | E41: 2 | F41: =(D41+E41)/C41 -> 0.38461538 | G41: 1 | H41: 3 | I41: =(G41+H41)/C41 -> 0.30769231 | J41: 3 | K41: =100%-(F41+I41) -> 0.30769231 | L41: =SUM(F41+I41+K41) -> 1
A42: LYON | B42: CASTRES | C42: 11 | D42: 2 | E42: 1 | F42: =(D42+E42)/C42 -> 0.27272727 | G42: 3 | H42: 4 | I42: =(G42+H42)/C42 -> 0.63636364 | J42: 1 | K42: =100%-(F42+I42) -> 0.090909091 | L42: =SUM(F42+I42+K42) -> 1
A43: LYON | B43: CLERMONT | C43: 12 | D43: 3 | E43: 0 | F43: =(D43+E43)/C43 -> 0.25 | G43: 1 | H43: 7 | I43: =(G43+H43)/C43 -> 0.66666667 | J43: 1 | K43: =100%-(F43+I43) -> 0.083333333 | L43: =SUM(F43+I43+K43) -> 1
A44: LYON | B44: LA ROCHELLE | C44: 13 | D44: 5 | E44: 1 | F44: =(D44+E44)/C44 -> 0.46153846 | G44: 1 | H44: 5 | I44: =(G44+H44)/C44 -> 0.46153846 | J44: 1 | K44: =100%-(F44+I44) -> 0.076923077 | L44: =SUM(F44+I44+K44) -> 1
A45: LYON | B45: MONTPELLIER | C45: 13 | D45: 5 | E45: 1 | F45: =(D45+E45)/C45 -> 0.46153846 | G45: 1 | H45: 6 | I45: =(G45+H45)/C45 -> 0.53846154 | K45: =100%-(F45+I45) -> 0 | L45: =SUM(F45+I45+K45) -> 1
A46: LYON | B46: PARIS | C46: 11 | D46: 6 | E46: 2 | F46: =(D46+E46)/C46 -> 0.72727273 | G46: 0 | H46: 3 | I46: =(G46+H46)/C46 -> 0.27272727 | K46: =100%-(F46+I46) -> 0 | L46: =SUM(F46+I46+K46) -> 1
A47: LYON | B47: PAU | C47: 11 | D47: 5 | E47: 2 | F47: =(D47+E47)/C47 -> 0.63636364 | G47: 1 | H47: 3 | I47: =(G47+H47)/C47 -> 0.36363636 | K47: =100%-(F47+I47) -> 0 | L47: =SUM(F47+I47+K47) -> 1
A48: LYON | B48: RACING 92 | C48: 12 | D48: 3 | E48: 3 | F48: =(D48+E48)/C48 -> 0.5 | G48: 3 | H48: 3 | I48: =(G48+H48)/C48 -> 0.5 | K48: =100%-(F48+I48) -> 0 | L48: =SUM(F48+I48+K48) -> 1
A49: LYON | B49: TOULON | C49: 13 | D49: 4 | E49: 1 | F49: =(D49+E49)/C49 -> 0.38461538 | G49: 2 | H49: 5 | I49: =(G49+H49)/C49 -> 0.53846154 | J49: 1 | K49: =100%-(F49+I49) -> 0.076923077 | L49: =SUM(F49+I49+K49) -> 1
A50: LYON | B50: TOULOUSE | C50: 11 | D50: 2 | E50: 1 | F50: =(D50+E50)/C50 -> 0.27272727 | G50: 3 | H50: 4 | I50: =(G50+H50)/C50 -> 0.63636364 | J50: 1 | K50: =100%-(F50+I50) -> 0.090909091 | L50: =SUM(F50+I50+K50) -> 1

Sheet Montpellier
A1: Montpellier | B1: saison 2019/2020 | G1: point marquer | H1: saison 2020/2021 | L1: match du jour
B2: nbre match | C2: nbre vitoire | D2: nbre nul | E2: nbre defaite | G2: match dom | H2: =SUM(C8:C20) -> 0 | I2: =SUM(D8:D20) -> 0 | J2: =H2-I2 -> 0 | L2: domicile | M2: exertieur
A3: nbre match D | B3: 8 | C3: 6 | D3: 2 | E3: 0 | G3: par match | H3: =H2/B3 -> 0 | I3: =I2/B3 -> 0 | L3: Montpellier | M3: Agen
A4: nbre match E | B4: 9 | C4: 0 | D4: 1 | E4: 8 | G4: match ext | H4: =SUM(D23:D35) -> #REF! | I4: =SUM(C23:C35) -> #REF! | J4: =H4-I4 -> #REF! | L4: {=INDEX($C$38:$L$50,MATCH(1,($A$38:$A$50=$A$1)*($B$38:$B$50=$M$3),0),4)} -> 0.76923077 | M4: {=INDEX($C$38:$L$50,MATCH(1,($A$38:$A$50=$L$3)*($B$38:$B$50=$M$3),0),7)} -> 0.23076923
A5: nbre match T | B5: =B3+B4 -> 17 | C5: =C3+C4 -> 6 | D5: =D3+D4 -> 3 | E5: =E3+E4 -> 8 | G5: par match | H5: =H4/B4 -> #REF! | I5: =I4/B4 -> #REF! | L5: =100/L4/100 -> 1.3 | M5: =100/M4/100 -> 4.3333333
G6: match | H6: =H2+H4 -> #REF! | I6: =I2+I4 -> #REF! | J6: =H6-I6 -> #REF!
A7: journée | B7: adversaire | C7: Lieu Match | D7: Issue match | E7: Score D | F7: Score E | G7: par match | H7: =H6/B5 -> #REF! | I7: =I6/B5 -> #REF! | L7: Montpellier | M7: Agen
A8: journée 1 | E8: =VLOOKUP(B8,INDIRECT(A8),COLUMN(resultat!D:D),FALSE) -> #REF! | F8: =VLOOKUP(B8,INDIRECT(A8),COLUMN(resultat!E2),FALSE) -> #REF! | L8: Montpellier | M8: Bayonne
A9: journée 2 | G9: point marquer | H9: saison 2019/2020 | L9: Montpellier | M9: Bordeaux
A10: journée 3 | G10: match dom | H10: 236 | I10: 160 | J10: 76 | L10: Montpellier | M10: Brive
A11: journée 4 | G11: par match | H11: 29.5 | I11: 20 | L11: Montpellier | M11: Castres
A12: journée 5 | G12: match ext | H12: 143 | I12: 203 | J12: -60 | L12: Montpellier | M12: Clermont
A13: journée 6 | G13: par match | H13: 15.888889 | I13: 22.555556 | L13: Montpellier | M13: La Rochelle
A14: journée 7 | G14: match | H14: 379 | I14: 363 | J14: 16 | L14: Montpellier | M14: Lyon
A15: journée 8 | G15: par match | H15: 22.294118 | I15: 21.352941 | L15: Montpellier | M15: Paris
A16: journée 9 | L16: Montpellier | M16: Pau
A17: journée 10 | G17: point marquer | L17: Montpellier | M17: Racing 92
A18: journée 11 | G18: match dom | L18: Montpellier | M18: Toulon
A19: journée 12 | G19: par match | L19: Montpellier | M19: Toulouse
A20: journée 13 | G20: match ext
A21: journée 14 | G21: par match
A22: journée 15 | G22: match
A23: journée 16 | G23: par match
A24: journée 17
A25: journée 18 | G25: point marquer
A26: journée 19 | G26: match dom
A27: journée 20 | G27: par match
A28: journée 21 | G28: match ext
A29: journée 22 | G29: par match
A30: journée 23 | G30: match
A31: journée 24 | G31: par match
A32: journée 25
A33: journée 26
C34: =VLOOKUP($E34,INDIRECT($A34),COLUMN(#REF!),FALSE) -> #REF! | D34: =VLOOKUP($E34,INDIRECT($A34),COLUMN(#REF!),FALSE) -> #REF! | E34: Montpellier
C35: =VLOOKUP($E35,INDIRECT($A35),COLUMN(#REF!),FALSE) -> #REF! | D35: =VLOOKUP($E35,INDIRECT($A35),COLUMN(#REF!),FALSE) -> #REF! | E35: Montpellier
A37: club | C37: face a face | D37: nbr de match | E37: victoire D | F37: victoire E | G37: % | H37: defaite D | I37: defaite E | J37: % | K37: nul | L37: %
A38: MONTPELLIER | B38: AGEN | C38: 13 | D38: 6 | E38: 4 | F38: =(D38+E38)/C38 -> 0.76923077 | G38: 0 | H38: 3 | I38: =(G38+H38)/C38 -> 0.23076923 | K38: =100%-(F38+I38) -> 0 | L38: =SUM(F38+I38+K38) -> 1
A39: MONTPELLIER | B39: BAYONNE | C39: 18 | D39: 7 | E39: 4 | F39: =(D39+E39)/C39 -> 0.61111111 | G39: 2 | H39: 5 | I39: =(G39+H39)/C39 -> 0.38888889 | K39: =100%-(F39+I39) -> 0 | L39: =SUM(F39+I39+K39) -> 1
A40: MONTPELLIER | B40: BORDEAUX | C40: 17 | D40: 7 | E40: 5 | F40: =(D40+E40)/C40 -> 0.70588235 | G40: 1 | H40: 2 | I40: =(G40+H40)/C40 -> 0.17647059 | J40: 2 | K40: =100%-(F40+I40) -> 0.11764706 | L40: =SUM(F40+I40+K40) -> 1
A41: MONTPELLIER | B41: BRIVE | C41: 19 | D41: 6 | E41: 1 | F41: =(D41+E41)/C41 -> 0.36842105 | G41: 4 | H41: 8 | I41: =(G41+H41)/C41 -> 0.63157895 | K41: =100%-(F41+I41) -> 0 | L41: =SUM(F41+I41+K41) -> 1
A42: MONTPELLIER | B42: CASTRES | C42: 29 | D42: 8 | E42: 4 | F42: =(D42+E42)/C42 -> 0.4137931 | G42: 5 | H42: 11 | I42: =(G42+H42)/C42 -> 0.55172414 | J42: 1 | K42: =100%-(F42+I42) -> 0.034482759 | L42: =SUM(F42+I42+K42) -> 1
A43: MONTPELLIER | B43: CLERMONT | C43: 23 | D43: 7 | E43: 5 | F43: =(D43+E43)/C43 -> 0.52173913 | G43: 4 | H43: 7 | I43: =(G43+H43)/C43 -> 0.47826087 | K43: =100%-(F43+I43) -> 0 | L43: =SUM(F43+I43+K43) -> 1
A44: MONTPELLIER | B44: LA ROCHELLE | C44: 14 | D44: 6 | E44: 0 | F44: =(D44+E44)/C44 -> 0.42857143 | G44: 0 | H44: 7 | I44: =(G44+H44)/C44 -> 0.5 | J44: 1 | K44: =100%-(F44+I44) -> 0.071428571 | L44: =SUM(F44+I44+K44) -> 1
A45: MONTPELLIER | B45: LYON | C45: 13 | D45: 6 | E45: 1 | F45: =(D45+E45)/C45 -> 0.53846154 | G45: 1 | H45: 5 | I45: =(G45+H45)/C45 -> 0.46153846 | K45: =100%-(F45+I45) -> 0 | L45: =SUM(F45+I45+K45) -> 1
A46: MONTPELLIER | B46: PARIS | C46: 23 | D46: 11 | E46: 1 | F46: =(D46+E46)/C46 -> 0.52173913 | G46: 0 | H46: 9 | I46: =(G46+H46)/C46 -> 0.39130435 | J46: 2 | K46: =100%-(F46+I46) -> 0.086956522 | L46: =SUM(F46+I46+K46) -> 1
A47: MONTPELLIER | B47: PAU | C47: 10 | D47: 4 | E47: 2 | F47: =(D47+E47)/C47 -> 0.6 | G47: 1 | H47: 3 | I47: =(G47+H47)/C47 -> 0.4 | K47: =100%-(F47+I47) -> 0 | L47: =SUM(F47+I47+K47) -> 1
A48: MONTPELLIER | B48: RACING 92 | C48: 23 | D48: 7 | E48: 2 | F48: =(D48+E48)/C48 -> 0.39130435 | G48: 4 | H48: 9 | I48: =(G48+H48)/C48 -> 0.56521739 | J48: 1 | K48: =100%-(F48+I48) -> 0.043478261 | L48: =SUM(F48+I48+K48) -> 1
A49: MONTPELLIER | B49: TOULON | C49: 24 | D49: 9 | E49: 1 | F49: =(D49+E49)/C49 -> 0.41666667 | G49: 1 | H49: 11 | I49: =(G49+H49)/C49 -> 0.5 | J49: 2 | K49: =100%-(F49+I49) -> 0.083333333 | L49: =SUM(F49+I49+K49) -> 1
A50: MONTPELLIER | B50: TOULOUSE | C50: 25 | D50: 9 | E50: 2 | F50: =(D50+E50)/C50 -> 0.44 | G50: 3 | H50: 11 | I50: =(G50+H50)/C50 -> 0.56 | K50: =100%-(F50+I50) -> 0 | L50: =SUM(F50+I50+K50) -> 1

Sheet Paris
A1: Paris | B1: saison 2019/2020 | G1: point marquer | H1: saison 2020/2021 | L1: match du jour
B2: nbre match | C2: nbre vitoire | D2: nbre nul | E2: nbre defaite | G2: match dom | H2: =SUM(C8:C20) -> 0 | I2: =SUM(D8:D20) -> 0 | J2: =H2-I2 -> 0 | L2: domicile | M2: exertieur
A3: nbre match D | B3: 7 | C3: 5 | D3: 0 | E3: 2 | G3: par match | H3: =H2/B3 -> 0 | I3: =I2/B3 -> 0 | L3: Paris | M3: Agen
A4: nbre match E | B4: 10 | C4: 0 | D4: 1 | E4: 9 | G4: match ext | H4: =SUM(D23:D35) -> #REF! | I4: =SUM(C23:C35) -> #REF! | J4: =H4-I4 -> #REF! | L4: {=INDEX($C$38:$L$50,MATCH(1,($A$38:$A$50=$A$1)*($B$38:$B$50=$M$3),0),4)} -> 0.61538462 | M4: {=INDEX($C$38:$L$50,MATCH(1,($A$38:$A$50=$L$3)*($B$38:$B$50=$M$3),0),7)} -> 0.38461538
A5: nbre match T | B5: =B3+B4 -> 17 | C5: =C3+C4 -> 5 | D5: =D3+D4 -> 1 | E5: =E3+E4 -> 11 | G5: par match | H5: =H4/B4 -> #REF! | I5: =I4/B4 -> #REF! | L5: =100/L4/100 -> 1.625 | M5: =100/M4/100 -> 2.6
G6: match | H6: =H2+H4 -> #REF! | I6: =I2+I4 -> #REF! | J6: =H6-I6 -> #REF!
A7: journée | B7: adversaire | C7: Lieu Match | D7: Issue match | E7: Score D | F7: Score E | G7: par match | H7: =H6/B5 -> #REF! | I7: =I6/B5 -> #REF! | L7: Paris | M7: Agen
A8: journée 1 | E8: =VLOOKUP(B8,INDIRECT(A8),COLUMN(resultat!D:D),FALSE) -> #REF! | F8: =VLOOKUP(B8,INDIRECT(A8),COLUMN(resultat!E2),FALSE) -> #REF! | L8: Paris | M8: Bayonne
A9: journée 2 | G9: point marquer | H9: saison 2019/2020 | L9: Paris | M9: Bordeaux
A10: journée 3 | G10: match dom | H10: 165 | I10: 170 | J10: -5 | L10: Paris | M10: Brive
A11: journée 4 | G11: par match | H11: 23.571429 | I11: 24.285714 | L11: Paris | M11: Castres
A12: journée 5 | G12: match ext | H12: 154 | I12: 275 | J12: -121 | L12: Paris | M12: Clermont
A13: journée 6 | G13: par match | H13: 15.4 | I13: 27.5 | L13: Paris | M13: La Rochelle
A14: journée 7 | G14: match | H14: 319 | I14: 445 | J14: -126 | L14: Paris | M14: Lyon
A15: journée 8 | G15: par match | H15: 18.764706 | I15: 26.176471 | L15: Paris | M15: Montpellier
A16: journée 9 | L16: Paris | M16: Pau
A17: journée 10 | G17: point marquer | L17: Paris | M17: Racing 92
A18: journée 11 | G18: match dom | L18: Paris | M18: Toulon
A19: journée 12 | G19: par match | L19: Paris | M19: Toulouse
A20: journée 13 | G20: match ext
A21: journée 14 | G21: par match
A22: journée 15 | G22: match
A23: journée 16 | G23: par match
A24: journée 17
A25: journée 18 | G25: point marquer
A26: journée 19 | G26: match dom
A27: journée 20 | G27: par match
A28: journée 21 | G28: match ext
A29: journée 22 | G29: par match
A30: journée 23 | G30: match
A31: journée 24 | G31: par match
A32: journée 25
A33: journée 26
C34: =VLOOKUP($E34,INDIRECT($A34),COLUMN(#REF!),FALSE) -> #REF! | D34: =VLOOKUP($E34,INDIRECT($A34),COLUMN(#REF!),FALSE) -> #REF! | E34: Paris
C35: =VLOOKUP($E35,INDIRECT($A35),COLUMN(#REF!),FALSE) -> #REF! | D35: =VLOOKUP($E35,INDIRECT($A35),COLUMN(#REF!),FALSE) -> #REF! | E35: Paris
A37: club | C37: face a face | D37: nbr de match | E37: victoire D | F37: victoire E | G37: % | H37: defaite D | I37: defaite E | J37: % | K37: nul | L37: %
A38: PARIS | B38: AGEN | C38: 13 | D38: 5 | E38: 3 | F38: =(D38+E38)/C38 -> 0.61538462 | G38: 1 | H38: 4 | I38: =(G38+H38)/C38 -> 0.38461538 | K38: =100%-(F38+I38) -> 0 | L38: =SUM(F38+I38+K38) -> 1
A39: PARIS | B39: BAYONNE | C39: 18 | D39: 8 | E39: 1 | F39: =(D39+E39)/C39 -> 0.5 | G39: 1 | H39: 8 | I39: =(G39+H39)/C39 -> 0.5 | K39: =100%-(F39+I39) -> 0 | L39: =SUM(F39+I39+K39) -> 1
A40: PARIS | B40: BORDEAUX | C40: 17 | D40: 7 | E40: 1 | F40: =(D40+E40)/C40 -> 0.47058824 | G40: 1 | H40: 8 | I40: =(G40+H40)/C40 -> 0.52941176 | J40: 1 | K40: =100%-(F40+I40) -> 0 | L40: =SUM(F40+I40+K40) -> 1
A41: PARIS | B41: BRIVE | C41: 19 | D41: 8 | E41: 0 | F41: =(D41+E41)/C41 -> 0.42105263 | G41: 1 | H41: 10 | I41: =(G41+H41)/C41 -> 0.57894737 | K41: =100%-(F41+I41) -> 0 | L41: =SUM(F41+I41+K41) -> 1
A42: PARIS | B42: CASTRES | C42: 23 | D42: 10 | E42: 3 | F42: =(D42+E42)/C42 -> 0.56521739 | G42: 0 | H42: 9 | I42: =(G42+H42)/C42 -> 0.39130435 | J42: 1 | K42: =100%-(F42+I42) -> 0.043478261 | L42: =SUM(F42+I42+K42) -> 1
A43: PARIS | B43: CLERMONT | C43: 25 | D43: 6 | E43: 1 | F43: =(D43+E43)/C43 -> 0.28 | G43: 5 | H43: 11 | I43: =(G43+H43)/C43 -> 0.64 | J43: 2 | K43: =100%-(F43+I43) -> 0.08 | L43: =SUM(F43+I43+K43) -> 1
A44: PARIS | B44: LA ROCHELLE | C44: 14 | D44: 6 | E44: 1 | F44: =(D44+E44)/C44 -> 0.5 | G44: 1 | H44: 4 | I44: =(G44+H44)/C44 -> 0.35714286 | J44: 2 | K44: =100%-(F44+I44) -> 0.14285714 | L44: =SUM(F44+I44+K44) -> 1
A45: PARIS | B45: LYON | C45: 11 | D45: 3 | E45: 0 | F45: =(D45+E45)/C45 -> 0.27272727 | G45: 2 | H45: 6 | I45: =(G45+H45)/C45 -> 0.72727273 | K45: =100%-(F45+I45) -> 0 | L45: =SUM(F45+I45+K45) -> 1
A46: PARIS | B46: MONTPELLIER | C46: 23 | D46: 9 | E46: 0 | F46: =(D46+E46)/C46 -> 0.39130435 | G46: 1 | H46: 11 | I46: =(G46+H46)/C46 -> 0.52173913 | J46: 2 | K46: =100%-(F46+I46) -> 0.086956522 | L46: =SUM(F46+I46+K46) -> 1
A47: PARIS | B47: PAU | C47: 9 | D47: 4 | E47: 2 | F47: =(D47+E47)/C47 -> 0.66666667 | G47: 1 | H47: 2 | I47: =(G47+H47)/C47 -> 0.33333333 | K47: =100%-(F47+I47) -> 0 | L47: =SUM(F47+I47+K47) -> 1
A48: PARIS | B48: RACING 92 | C48: 22 | D48: 7 | E48: 2 | F48: =(D48+E48)/C48 -> 0.40909091 | G48: 5 | H48: 8 | I48: =(G48+H48)/C48 -> 0.59090909 | K48: =100%-(F48+I48) -> 0 | L48: =SUM(F48+I48+K48) -> 1
A49: PARIS | B49: TOULON | C49: 25 | D49: 9 | E49: 4 | F49: =(D49+E49)/C49 -> 0.52 | G49: 3 | H49: 7 | I49: =(G49+H49)/C49 -> 0.4 | J49: 2 | K49: =100%-(F49+I49) -> 0.08 | L49: =SUM(F49+I49+K49) -> 1
A50: PARIS | B50: TOULOUSE | C50: 23 | D50: 4 | E50: 0 | F50: =(D50+E50)/C50 -> 0.17391304 | G50: 7 | H50: 10 | I50: =(G50+H50)/C50 -> 0.73913043 | J50: 2 | K50: =100%-(F50+I50) -> 0.086956522 | L50: =SUM(F50+I50+K50) -> 1

Sheet Pau
A1: Pau | B1: saison 2019/2020 | G1: point marquer | H1: saison 2020/2021 | L1: match du jour
B2: nbre match | C2: nbre vitoire | D2: nbre nul | E2: nbre defaite | G2: match dom | H2: =SUM(C8:C20) -> 0 | I2: =SUM(D8:D20) -> 0 | J2: =H2-I2 -> 0 | L2: domicile | M2: exertieur
A3: nbre match D | B3: 9 | C3: 4 | D3: 0 | E3: 5 | G3: par match | H3: =H2/B3 -> 0 | I3: =I2/B3 -> 0 | L3: Pau | M3: Agen
A4: nbre match E | B4: 8 | C4: 2 | D4: 0 | E4: 6 | G4: match ext | H4: =SUM(D23:D35) -> #REF! | I4: =SUM(C23:C35) -> #REF! | J4: =H4-I4 -> #REF! | L4: {=INDEX($C$38:$L$50,MATCH(1,($A$38:$A$50=$A$1)*($B$38:$B$50=$M$3),0),4)} -> 0.72727273 | M4: {=INDEX($C$38:$L$50,MATCH(1,($A$38:$A$50=$L$3)*($B$38:$B$50=$M$3),0),7)} -> 0.27272727
A5: nbre match T | B5: =B3+B4 -> 17 | C5: =C3+C4 -> 6 | D5: =D3+D4 -> 0 | E5: =E3+E4 -> 11 | G5: par match | H5: =H4/B4 -> #REF! | I5: =I4/B4 -> #REF! | L5: =100/L4/100 -> 1.375 | M5: =100/M4/100 -> 3.6666667
G6: match | H6: =H2+H4 -> #REF! | I6: =I2+I4 -> #REF! | J6: =H6-I6 -> #REF!
A7: journée | B7: adversaire | C7: Lieu Match | D7: Issue match | E7: Score D | F7: Score E | G7: par match | H7: =H6/B5 -> #REF! | I7: =I6/B5 -> #REF! | L7: Pau | M7: Agen
A8: journée 1 | E8: =VLOOKUP(B8,INDIRECT(A8),COLUMN(resultat!D:D),FALSE) -> #REF! | F8: =VLOOKUP(B8,INDIRECT(A8),COLUMN(resultat!E2),FALSE) -> #REF! | L8: Pau | M8: Bayonne
A9: journée 2 | G9: point marquer | H9: saison 2019/2020 | L9: Pau | M9: Bordeaux
A10: journée 3 | G10: match dom | H10: 142 | I10: 195 | J10: -53 | L10: Pau | M10: Brive
A11: journée 4 | G11: par match | H11: 15.777778 | I11: 21.666667 | L11: Pau | M11: Castres
A12: journée 5 | G12: match ext | H12: 159 | I12: 205 | J12: -46 | L12: Pau | M12: Clermont
A13: journée 6 | G13: par match | H13: 19.875 | I13: 25.625 | L13: Pau | M13: La Rochelle
A14: journée 7 | G14: match | H14: 301 | I14: 400 | J14: -99 | L14: Pau | M14: Lyon
A15: journée 8 | G15: par match | H15: 17.705882 | I15: 23.529412 | L15: Pau | M15: Montpellier
A16: journée 9 | L16: Pau | M16: Paris
A17: journée 10 | G17: point marquer | L17: Pau | M17: Racing 92
A18: journée 11 | G18: match dom | L18: Pau | M18: Toulon
A19: journée 12 | G19: par match | L19: Pau | M19: Toulouse
A20: journée 13 | G20: match ext
A21: journée 14 | G21: par match
A22: journée 15 | G22: match
A23: journée 16 | G23: par match
A24: journée 17
A25: journée 18 | G25: point marquer
A26: journée 19 | G26: match dom
A27: journée 20 | G27: par match
A28: journée 21 | G28: match ext
A29: journée 22 | G29: par match
A30: journée 23 | G30: match
A31: journée 24 | G31: par match
A32: journée 25
A33: journée 26
C34: =VLOOKUP($E34,INDIRECT($A34),COLUMN(#REF!),FALSE) -> #REF! | D34: =VLOOKUP($E34,INDIRECT($A34),COLUMN(#REF!),FALSE) -> #REF! | E34: Pau
C35: =VLOOKUP($E35,INDIRECT($A35),COLUMN(#REF!),FALSE) -> #REF! | D35: =VLOOKUP($E35,INDIRECT($A35),COLUMN(#REF!),FALSE) -> #REF! | E35: Pau
A37: club | C37: face a face | D37: nbr de match | E37: victoire D | F37: victoire E | G37: % | H37: defaite D | I37: defaite E | J37: % | K37: nul | L37: %
A38: PAU | B38: AGEN | C38: 11 | D38: 5 | E38: 3 | F38: =(D38+E38)/C38 -> 0.72727273 | G38: 1 | H38: 2 | I38: =(G38+H38)/C38 -> 0.27272727 | K38: =100%-(F38+I38) -> 0 | L38: =SUM(F38+I38+K38) -> 1
A39: PAU | B39: BAYONNE | C39: 3 | D39: 1 | E39: 1 | F39: =(D39+E39)/C39 -> 0.66666667 | G39: 0 | H39: 0 | I39: =(G39+H39)/C39 -> 0 | J39: 1 | K39: =100%-(F39+I39) -> 0.33333333 | L39: =SUM(F39+I39+K39) -> 1
A40: PAU | B40: BORDEAUX | C40: 9 | D40: 2 | E40: 1 | F40: =(D40+E40)/C40 -> 0.33333333 | G40: 3 | H40: 3 | I40: =(G40+H40)/C40 -> 0.66666667 | K40: =100%-(F40+I40) -> 0 | L40: =SUM(F40+I40+K40) -> 1
A41: PAU | B41: BRIVE | C41: 11 | D41: 4 | E41: 1 | F41: =(D41+E41)/C41 -> 0.45454545 | G41: 1 | H41: 5 | I41: =(G41+H41)/C41 -> 0.54545455 | K41: =100%-(F41+I41) -> 0 | L41: =SUM(F41+I41+K41) -> 1
A42: PAU | B42: CASTRES | C42: 10 | D42: 4 | E42: 1 | F42: =(D42+E42)/C42 -> 0.5 | G42: 1 | H42: 4 | I42: =(G42+H42)/C42 -> 0.5 | K42: =100%-(F42+I42) -> 0 | L42: =SUM(F42+I42+K42) -> 1
A43: PAU | B43: CLERMONT | C43: 10 | D43: 2 | E43: 1 | F43: =(D43+E43)/C43 -> 0.3 | G43: 3 | H43: 4 | I43: =(G43+H43)/C43 -> 0.7 | K43: =100%-(F43+I43) -> 0 | L43: =SUM(F43+I43+K43) -> 1
A44: PAU | B44: LA ROCHELLE | C44: 15 | D44: 4 | E44: 0 | F44: =(D44+E44)/C44 -> 0.26666667 | G44: 4 | H44: 7 | I44: =(G44+H44)/C44 -> 0.73333333 | K44: =100%-(F44+I44) -> 0 | L44: =SUM(F44+I44+K44) -> 1
A45: PAU | B45: LYON | C45: 11 | D45: 3 | E45: 1 | F45: =(D45+E45)/C45 -> 0.36363636 | G45: 2 | H45: 5 | I45: =(G45+H45)/C45 -> 0.63636364 | K45: =100%-(F45+I45) -> 0 | L45: =SUM(F45+I45+K45) -> 1
A46: PAU | B46: MONTPELLIER | C46: 10 | D46: 3 | E46: 1 | F46: =(D46+E46)/C46 -> 0.4 | G46: 2 | H46: 4 | I46: =(G46+H46)/C46 -> 0.6 | K46: =100%-(F46+I46) -> 0 | L46: =SUM(F46+I46+K46) -> 1
A47: PAU | B47: PARIS | C47: 9 | D47: 2 | E47: 1 | F47: =(D47+E47)/C47 -> 0.33333333 | G47: 2 | H47: 4 | I47: =(G47+H47)/C47 -> 0.66666667 | K47: =100%-(F47+I47) -> 0 | L47: =SUM(F47+I47+K47) -> 1
A48: PAU | B48: RACING 92 | C48: 9 | D48: 3 | E48: 0 | F48: =(D48+E48)/C48 -> 0.33333333 | G48: 1 | H48: 4 | I48: =(G48+H48)/C48 -> 0.55555556 | J48: 1 | K48: =100%-(F48+I48) -> 0.11111111 | L48: =SUM(F48+I48+K48) -> 1
A49: PAU | B49: TOULON | C49: 9 | D49: 2 | E49: 0 | F49: =(D49+E49)/C49 -> 0.22222222 | G49: 3 | H49: 4 | I49: =(G49+H49)/C49 -> 0.77777778 | K49: =100%-(F49+I49) -> 0 | L49: =SUM(F49+I49+K49) -> 1
A50: PAU | B50: TOULOUSE | C50: 9 | D50: 2 | E50: 1 | F50: =(D50+E50)/C50 -> 0.33333333 | G50: 2 | H50: 4 | I50: =(G50+H50)/C50 -> 0.66666667 | K50: =100%-(F50+I50) -> 0 | L50: =SUM(F50+I50+K50) -> 1

Sheet Racing 92
A1: Racing 92 | B1: saison 2019/2020 | G1: point marquer | H1: saison 2020/2021 | L1: match du jour
B2: nbre match | C2: nbre vitoire | D2: nbre nul | E2: nbre defaite | G2: match dom | H2: =SUM(C8:C20) -> 0 | I2: =SUM(D8:D20) -> 0 | J2: =H2-I2 -> 0 | L2: domicile | M2: exertieur
A3: nbre match D | B3: 9 | C3: 5 | D3: 1 | E3: 3 | G3: par match | H3: =H2/B3 -> 0 | I3: =I2/B3 -> 0 | L3: Racing 92 | M3: Agen
A4: nbre match E | B4: 8 | C4: 4 | D4: 0 | E4: 4 | G4: match ext | H4: =SUM(D23:D35) -> #REF! | I4: =SUM(C23:C35) -> #REF! | J4: =H4-I4 -> #REF! | L4: {=INDEX($C$38:$L$50,MATCH(1,($A$38:$A$50=$A$1)*($B$38:$B$50=$M$3),0),4)} -> 0.61538462 | M4: {=INDEX($C$38:$L$50,MATCH(1,($A$38:$A$50=$L$3)*($B$38:$B$50=$M$3),0),7)} -> 0.30769231
A5: nbre match T | B5: =B3+B4 -> 17 | C5: =C3+C4 -> 9 | D5: =D3+D4 -> 1 | E5: =E3+E4 -> 7 | G5: par match | H5: =H4/B4 -> #REF! | I5: =I4/B4 -> #REF! | L5: =100/L4/100 -> 1.625 | M5: =100/M4/100 -> 3.25
G6: match | H6: =H2+H4 -> #REF! | I6: =I2+I4 -> #REF! | J6: =H6-I6 -> #REF!
A7: journée | B7: adversaire | C7: Lieu Match | D7: Issue match | E7: Score D | F7: Score E | G7: par match | H7: =H6/B5 -> #REF! | I7: =I6/B5 -> #REF! | L7: racing 92 | M7: Agen
A8: journée 1 | E8: =VLOOKUP(B8,INDIRECT(A8),COLUMN(resultat!D:D),FALSE) -> #REF! | F8: =VLOOKUP(B8,INDIRECT(A8),COLUMN(resultat!E2),FALSE) -> #REF! | L8: racing 92 | M8: Bayonne
A9: journée 2 | G9: point marquer | H9: saison 2019/2020 | L9: racing 92 | M9: Bordeaux
A10: journée 3 | G10: match dom | H10: 235 | I10: 177 | J10: 58 | L10: racing 92 | M10: Brive
A11: journée 4 | G11: par match | H11: 26.111111 | I11: 19.666667 | L11: racing 92 | M11: Castres
A12: journée 5 | G12: match ext | H12: 199 | I12: 125 | J12: 74 | L12: racing 92 | M12: Clermont
A13: journée 6 | G13: par match | H13: 24.875 | I13: 15.625 | L13: racing 92 | M13: La Rochelle
A14: journée 7 | G14: match | H14: 434 | I14: 302 | J14: 132 | L14: racing 92 | M14: Lyon
A15: journée 8 | G15: par match | H15: 25.529412 | I15: 17.764706 | L15: racing 92 | M15: Montpellier
A16: journée 9 | L16: racing 92 | M16: Paris
A17: journée 10 | G17: point marquer | L17: racing 92 | M17: Pau
A18: journée 11 | G18: match dom | L18: racing 92 | M18: Toulon
A19: journée 12 | G19: par match | L19: racing 92 | M19: Toulouse
A20: journée 13 | G20: match ext
A21: journée 14 | G21: par match
A22: journée 15 | G22: match
A23: journée 16 | G23: par match
A24: journée 17
A25: journée 18 | G25: point marquer
A26: journée 19 | G26: match dom
A27: journée 20 | G27: par match
A28: journée 21 | G28: match ext
A29: journée 22 | G29: par match
A30: journée 23 | G30: match
A31: journée 24 | G31: par match
A32: journée 25
A33: journée 26
C34: =VLOOKUP($E34,INDIRECT($A34),COLUMN(#REF!),FALSE) -> #REF! | D34: =VLOOKUP($E34,INDIRECT($A34),COLUMN(#REF!),FALSE) -> #REF! | E34: Racing 92
C35: =VLOOKUP($E35,INDIRECT($A35),COLUMN(#REF!),FALSE) -> #REF! | D35: =VLOOKUP($E35,INDIRECT($A35),COLUMN(#REF!),FALSE) -> #REF! | E35: Racing 92
A37: club | C37: face a face | D37: nbr de match | E37: victoire D | F37: victoire E | G37: % | H37: defaite D | I37: defaite E | J37: % | K37: nul | L37: %
A38: RACING 92 | B38: AGEN | C38: 13 | D38: 6 | E38: 2 | F38: =(D38+E38)/C38 -> 0.61538462 | G38: 0 | H38: 4 | I38: =(G38+H38)/C38 -> 0.30769231 | J38: 1 | K38: =100%-(F38+I38) -> 0.076923077 | L38: =SUM(F38+I38+K38) -> 1
A39: RACING 92 | B39: BAYONNE | C39: 15 | D39: 7 | E39: 5 | F39: =(D39+E39)/C39 -> 0.8 | G39: 1 | H39: 2 | I39: =(G39+H39)/C39 -> 0.2 | K39: =100%-(F39+I39) -> 0 | L39: =SUM(F39+I39+K39) -> 1
A40: RACING 92 | B40: BORDEAUX | C40: 17 | D40: 8 | E40: 3 | F40: =(D40+E40)/C40 -> 0.64705882 | G40: 1 | H40: 5 | I40: =(G40+H40)/C40 -> 0.35294118 | K40: =100%-(F40+I40) -> 0 | L40: =SUM(F40+I40+K40) -> 1
A41: RACING 92 | B41: BRIVE | C41: 17 | D41: 7 | E41: 5 | F41: =(D41+E41)/C41 -> 0.70588235 | G41: 0 | H41: 3 | I41: =(G41+H41)/C41 -> 0.17647059 | J41: 2 | K41: =100%-(F41+I41) -> 0.11764706 | L41: =SUM(F41+I41+K41) -> 1
A42: RACING 92 | B42: CASTRES | C42: 23 | D42: 9 | E42: 4 | F42: =(D42+E42)/C42 -> 0.56521739 | G42: 2 | H42: 7 | I42: =(G42+H42)/C42 -> 0.39130435 | J42: 1 | K42: =100%-(F42+I42) -> 0.043478261 | L42: =SUM(F42+I42+K42) -> 1
A43: RACING 92 | B43: CLERMONT | C43: 24 | D43: 8 | E43: 1 | F43: =(D43+E43)/C43 -> 0.375 | G43: 2 | H43: 10 | I43: =(G43+H43)/C43 -> 0.5 | J43: 3 | K43: =100%-(F43+I43) -> 0.125 | L43: =SUM(F43+I43+K43) -> 1
A44: RACING 92 | B44: LA ROCHELLE | C44: 15 | D44: 6 | E44: 2 | F44: =(D44+E44)/C44 -> 0.53333333 | G44: 2 | H44: 3 | I44: =(G44+H44)/C44 -> 0.33333333 | J44: 2 | K44: =100%-(F44+I44) -> 0.13333333 | L44: =SUM(F44+I44+K44) -> 1
A45: RACING 92 | B45: LYON | C45: 12 | D45: 3 | E45: 3 | F45: =(D45+E45)/C45 -> 0.5 | G45: 3 | H45: 3 | I45: =(G45+H45)/C45 -> 0.5 | K45: =100%-(F45+I45) -> 0 | L45: =SUM(F45+I45+K45) -> 1
A46: RACING 92 | B46: MONTPELLIER | C46: 23 | D46: 9 | E46: 4 | F46: =(D46+E46)/C46 -> 0.56521739 | G46: 2 | H46: 7 | I46: =(G46+H46)/C46 -> 0.39130435 | J46: 1 | K46: =100%-(F46+I46) -> 0.043478261 | L46: =SUM(F46+I46+K46) -> 1
A47: RACING 92 | B47: PARIS | C47: 22 | D47: 8 | E47: 5 | F47: =(D47+E47)/C47 -> 0.59090909 | G47: 2 | H47: 7 | I47: =(G47+H47)/C47 -> 0.40909091 | K47: =100%-(F47+I47) -> 0 | L47: =SUM(F47+I47+K47) -> 1
A48: RACING 92 | B48: PAU | C48: 9 | D48: 4 | E48: 1 | F48: =(D48+E48)/C48 -> 0.55555556 | G48: 0 | H48: 3 | I48: =(G48+H48)/C48 -> 0.33333333 | J48: 1 | K48: =100%-(F48+I48) -> 0.11111111 | L48: =SUM(F48+I48+K48) -> 1
A49: RACING 92 | B49: TOULON | C49: 24 | D49: 7 | E49: 6 | F49: =(D49+E49)/C49 -> 0.54166667 | G49: 3 | H49: 8 | I49: =(G49+H49)/C49 -> 0.45833333 | K49: =100%-(F49+I49) -> 0 | L49: =SUM(F49+I49+K49) -> 1
A50: RACING 92 | B50: TOULOUSE | C50: 25 | D50: 9 | E50: 2 | F50: =(D50+E50)/C50 -> 0.44 | G50: 3 | H50: 11 | I50: =(G50+H50)/C50 -> 0.56 | K50: =100%-(F50+I50) -> 0 | L50: =SUM(F50+I50+K50) -> 1

Sheet toulon
A1: Toulon | B1: saison 2019/2020 | G1: point marquer | H1: saison 2020/2021 | L1: match du jour
B2: nbre match | C2: nbre vitoire | D2: nbre nul | E2: nbre defaite | G2: match dom | H2: =SUM(C8:C20) -> 0 | I2: =SUM(D8:D20) -> 0 | J2: =H2-I2 -> 0 | L2: domicile | M2: exertieur
A3: nbre match D | B3: 9 | C3: 7 | D3: 1 | E3: 1 | G3: par match | H3: =H2/B3 -> 0 | I3: =I2/B3 -> 0 | L3: Toulon | M3: Agen
A4: nbre match E | B4: 8 | C4: 2 | D4: 1 | E4: 5 | G4: match ext | H4: =SUM(D23:D35) -> #REF! | I4: =SUM(C23:C35) -> #REF! | J4: =H4-I4 -> #REF! | L4: {=INDEX($C$38:$L$50,MATCH(1,($A$38:$A$50=$A$1)*($B$38:$B$50=$M$3),0),4)} -> 0.69230769 | M4: {=INDEX($C$38:$L$50,MATCH(1,($A$38:$A$50=$L$3)*($B$38:$B$50=$M$3),0),7)} -> 0.30769231
A5: nbre match T | B5: =B3+B4 -> 17 | C5: =C3+C4 -> 9 | D5: =D3+D4 -> 2 | E5: =E3+E4 -> 6 | G5: par match | H5: =H4/B4 -> #REF! | I5: =I4/B4 -> #REF! | L5: =100/L4/100 -> 1.4444444 | M5: =100/M4/100 -> 3.25
G6: match | H6: =H2+H4 -> #REF! | I6: =I2+I4 -> #REF! | J6: =H6-I6 -> #REF!
A7: journée | B7: adversaire | C7: Lieu Match | D7: Issue match | E7: Score D | F7: Score E | G7: par match | H7: =H6/B5 -> #REF! | I7: =I6/B5 -> #REF! | L7: Toulon | M7: Agen
A8: journée 1 | E8: =VLOOKUP(B8,INDIRECT(A8),COLUMN(resultat!D:D),FALSE) -> #REF! | F8: =VLOOKUP(B8,INDIRECT(A8),COLUMN(resultat!E2),FALSE) -> #REF! | L8: Toulon | M8: Bayonne
A9: journée 2 | G9: point marquer | H9: saison 2019/2020 | L9: Toulon | M9: Bordeaux
A10: journée 3 | G10: match dom | H10: 233 | I10: 137 | J10: 96 | L10: Toulon | M10: Brive
A11: journée 4 | G11: par match | H11: 25.888889 | I11: 15.222222 | L11: Toulon | M11: Castres
A12: journée 5 | G12: match ext | H12: 115 | I12: 172 | J12: -57 | L12: Toulon | M12: Clermont
A13: journée 6 | G13: par match | H13: 14.375 | I13: 21.5 | L13: Toulon | M13: La Rochelle
A14: journée 7 | G14: match | H14: 348 | I14: 309 | J14: 39 | L14: Toulon | M14: Lyon
A15: journée 8 | G15: par match | H15: 20.470588 | I15: 18.176471 | L15: Toulon | M15: Montpellier
A16: journée 9 | L16: Toulon | M16: Paris
A17: journée 10 | G17: point marquer | L17: Toulon | M17: Pau
A18: journée 11 | G18: match dom | L18: Toulon | M18: Racing 92
A19: journée 12 | G19: par match | L19: Toulon | M19: Toulouse
A20: journée 13 | G20: match ext
A21: journée 14 | G21: par match
A22: journée 15 | G22: match
A23: journée 16 | G23: par match
A24: journée 17
A25: journée 18 | G25: point marquer
A26: journée 19 | G26: match dom
A27: journée 20 | G27: par match
A28: journée 21 | G28: match ext
A29: journée 22 | G29: par match
A30: journée 23 | G30: match
A31: journée 24 | G31: par match
A32: journée 25
A33: journée 26
C34: =VLOOKUP($E34,INDIRECT($A34),COLUMN(#REF!),FALSE) -> #REF! | D34: =VLOOKUP($E34,INDIRECT($A34),COLUMN(#REF!),FALSE) -> #REF! | E34: Toulon
C35: =VLOOKUP($E35,INDIRECT($A35),COLUMN(#REF!),FALSE) -> #REF! | D35: =VLOOKUP($E35,INDIRECT($A35),COLUMN(#REF!),FALSE) -> #REF! | E35: Toulon
A37: club | C37: face a face | D37: nbr de match | E37: victoire D | F37: victoire E | G37: % | H37: defaite D | I37: defaite E | J37: % | K37: nul | L37: %
A38: TOULON | B38: AGEN | C38: 13 | D38: 6 | E38: 3 | F38: =(D38+E38)/C38 -> 0.69230769 | G38: 0 | H38: 4 | I38: =(G38+H38)/C38 -> 0.30769231 | K38: =100%-(F38+I38) -> 0 | L38: =SUM(F38+I38+K38) -> 1
A39: TOULON | B39: BAYONNE | C39: 17 | D39: 7 | E39: 3 | F39: =(D39+E39)/C39 -> 0.58823529 | G39: 1 | H39: 4 | I39: =(G39+H39)/C39 -> 0.29411765 | J39: 2 | K39: =100%-(F39+I39) -> 0.11764706 | L39: =SUM(F39+I39+K39) -> 1
A40: TOULON | B40: BORDEAUX | C40: 17 | D40: 8 | E40: 3 | F40: =(D40+E40)/C40 -> 0.64705882 | G40: 0 | H40: 6 | I40: =(G40+H40)/C40 -> 0.35294118 | K40: =100%-(F40+I40) -> 0 | L40: =SUM(F40+I40+K40) -> 1
A41: TOULON | B41: BRIVE | C41: 20 | D41: 9 | E41: 2 | F41: =(D41+E41)/C41 -> 0.55 | G41: 1 | H41: 8 | I41: =(G41+H41)/C41 -> 0.45 | K41: =100%-(F41+I41) -> 0 | L41: =SUM(F41+I41+K41) -> 1
A42: TOULON | B42: CASTRES | C42: 26 | D42: 12 | E42: 1 | F42: =(D42+E42)/C42 -> 0.5 | G42: 2 | H42: 9 | I42: =(G42+H42)/C42 -> 0.42307692 | J42: 2 | K42: =100%-(F42+I42) -> 0.076923077 | L42: =SUM(F42+I42+K42) -> 1
A43: TOULON | B43: CLERMONT | C43: 26 | D43: 9 | E43: 2 | F43: =(D43+E43)/C43 -> 0.42307692 | G43: 2 | H43: 11 | I43: =(G43+H43)/C43 -> 0.5 | J43: 2 | K43: =100%-(F43+I43) -> 0.076923077 | L43: =SUM(F43+I43+K43) -> 1
A44: TOULON | B44: LA ROCHELLE | C44: 15 | D44: 5 | E44: 3 | F44: =(D44+E44)/C44 -> 0.53333333 | G44: 2 | H44: 4 | I44: =(G44+H44)/C44 -> 0.4 | J44: 1 | K44: =100%-(F44+I44) -> 0.066666667 | L44: =SUM(F44+I44+K44) -> 1
A45: TOULON | B45: LYON | C45: 13 | D45: 5 | E45: 2 | F45: =(D45+E45)/C45 -> 0.53846154 | G45: 1 | H45: 4 | I45: =(G45+H45)/C45 -> 0.38461538 | J45: 1 | K45: =100%-(F45+I45) -> 0.076923077 | L45: =SUM(F45+I45+K45) -> 1
A46: TOULON | B46: MONTPELLIER | C46: 24 | D46: 11 | E46: 1 | F46: =(D46+E46)/C46 -> 0.5 | G46: 1 | H46: 9 | I46: =(G46+H46)/C46 -> 0.41666667 | J46: 2 | K46: =100%-(F46+I46) -> 0.083333333 | L46: =SUM(F46+I46+K46) -> 1
A47: TOULON | B47: PARIS | C47: 25 | D47: 7 | E47: 3 | F47: =(D47+E47)/C47 -> 0.4 | G47: 4 | H47: 9 | I47: =(G47+H47)/C47 -> 0.52 | J47: 2 | K47: =100%-(F47+I47) -> 0.08 | L47: =SUM(F47+I47+K47) -> 1
A48: TOULON | B48: PAU | C48: 9 | D48: 4 | E48: 3 | F48: =(D48+E48)/C48 -> 0.77777778 | G48: 0 | H48: 2 | I48: =(G48+H48)/C48 -> 0.22222222 | J48: 1 | K48: =100%-(F48+I48) -> 0 | L48: =SUM(F48+I48+K48) -> 1
A49: TOULON | B49: RACING 92 | C49: 24 | D49: 8 | E49: 3 | F49: =(D49+E49)/C49 -> 0.45833333 | G49: 6 | H49: 7 | I49: =(G49+H49)/C49 -> 0.54166667 | K49: =100%-(F49+I49) -> 0 | L49: =SUM(F49+I49+K49) -> 1
A50: TOULON | B50: TOULOUSE | C50: 25 | D50: 10 | E50: 2 | F50: =(D50+E50)/C50 -> 0.48 | G50: 2 | H50: 10 | I50: =(G50+H50)/C50 -> 0.48 | J50: 1 | K50: =100%-(F50+I50) -> 0.04 | L50: =SUM(F50+I50+K50) -> 1

Sheet toulouse
A1: Toulouse | B1: saison 2019/2020
B2: nbre match | C2: nbre vitoire | D2: nbre nul | E2: nbre defaite | H2: point marquer | I2: saison 2020/2021 | M2: match du jour
A3: nbre match D | B3: 8 | C3: 7 | D3: 1 | E3: 0 | H3: match dom | I3: =SUM(C8:C20) -> 0 | J3: =SUM(D8:D20) -> 0 | K3: =I3-J3 -> 0 | M3: domicile | N3: exertieur
A4: nbre match E | B4: 9 | C4: 1 | D4: 0 | E4: 8 | H4: par match | I4: =I3/B3 -> 0 | J4: =J3/B3 -> 0 | M4: Toulouse | N4: Agen
A5: nbre match T | B5: =B3+B4 -> 17 | C5: =C3+C4 -> 8 | D5: =D3+D4 -> 1 | E5: =E3+E4 -> 8 | H5: match ext | I5: =SUM(D23:D35) -> 0 | J5: =SUM(C23:C35) -> 0 | K5: =I5-J5 -> 0 | M5: {=INDEX($G$36:$L$48,MATCH(1,($A$37:$A$49=$A$1)*($B$37:$B$49=$N$4),0),4)} -> 0 | N5: {=INDEX($G$36:$L$48,MATCH(1,($A$37:$A$49=$M$4)*($B$37:$B$49=$N$4),0),7)} -> #REF!
H6: par match | I6: =I5/B4 -> 0 | J6: =J5/B4 -> 0 | M6: =100/M5/100 -> #DIV/0! | N6: =100/N5/100 -> #REF!
A7: journée | B7: adversaire | C7: Lieu Match | D7: Issue match | E7: Score D | F7: Score E | H7: match | I7: =I3+I5 -> 0 | J7: =J3+J5 -> 0 | K7: =I7-J7 -> 0
A8: journée 1 | B8: Clermont | C8: exterieur | D8: victoire | E8: =SUMIFS(resultat!D:D,resultat!$A:$A,toulouse!$A8,resultat!$C:$C,toulouse!$B8) -> 10 | F8: =SUMIFS(resultat!E:E,resultat!$A:$A,toulouse!$A8,resultat!$C:$C,toulouse!$B8) -> 25 | H8: par match | I8: =I7/B5 -> 0 | J8: =J7/B5 -> 0 | M8: Toulouse | N8: Agen
A9: Journée 2 | B9: La Rochelle | C9: Domicile | D9: victoire | E9: =SUMIFS(resultat!D:D,resultat!$A:$A,toulouse!$A9,resultat!$C:$C,toulouse!$B9) -> 0 | F9: =SUMIFS(resultat!E:E,resultat!$A:$A,toulouse!$A9,resultat!$C:$C,toulouse!$B9) -> 0 | M9: Toulouse | N9: Bayonne
B10: Toulon | C10: Domicile | D10: defaite | E10: =SUMIFS(resultat!D:D,resultat!$A:$A,toulouse!$A10,resultat!$C:$C,toulouse!$B10) -> 0 | F10: =SUMIFS(resultat!E:E,resultat!$A:$A,toulouse!$A10,resultat!$C:$C,toulouse!$B10) -> 0 | H10: point marquer | I10: saison 2019/2020 | M10: Toulouse | N10: Bordeaux
A11: journée 4 | E11: =SUMIFS(resultat!D:D,resultat!$A:$A,toulouse!$A11,resultat!$C:$C,toulouse!$B11) -> 0 | F11: =SUMIFS(resultat!E:E,resultat!$A:$A,toulouse!$A11,resultat!$C:$C,toulouse!$B11) -> 0 | H11: match dom | I11: 218 | J11: 107 | K11: 111 | M11: Toulouse | N11: Brive
A12: journée 5 | E12: =SUMIFS(resultat!D:D,resultat!$A:$A,toulouse!$A12,resultat!$C:$C,toulouse!$B12) -> 0 | F12: =SUMIFS(resultat!E:E,resultat!$A:$A,toulouse!$A12,resultat!$C:$C,toulouse!$B12) -> 0 | H12: par match | I12: 27.25 | J12: 13.375 | M12: Toulouse | N12: Castres
A13: journée 6 | E13: =SUMIFS(resultat!D:D,resultat!$A:$A,toulouse!$A13,resultat!$C:$C,toulouse!$B13) -> 0 | F13: =SUMIFS(resultat!E:E,resultat!$A:$A,toulouse!$A13,resultat!$C:$C,toulouse!$B13) -> 0 | H13: match ext | I13: 149 | J13: 224 | K13: -75 | M13: Toulouse | N13: Clermont
A14: journée 7 | E14: =SUMIFS(resultat!D:D,resultat!$A:$A,toulouse!$A14,resultat!$C:$C,toulouse!$B14) -> 0 | F14: =SUMIFS(resultat!E:E,resultat!$A:$A,toulouse!$A14,resultat!$C:$C,toulouse!$B14) -> 0 | H14: par match | I14: 16.555556 | J14: 24.888889 | M14: Toulouse | N14: La Rochelle
A15: journée 8 | E15: =SUMIFS(resultat!D:D,resultat!$A:$A,toulouse!$A15,resultat!$C:$C,toulouse!$B15) -> 0 | F15: =SUMIFS(resultat!E:E,resultat!$A:$A,toulouse!$A15,resultat!$C:$C,toulouse!$B15) -> 0 | H15: match | I15: 367 | J15: 331 | K15: 36 | M15: Toulouse | N15: Lyon
A16: journée 9 | E16: =SUMIFS(resultat!D:D,resultat!$A:$A,toulouse!$A16,resultat!$C:$C,toulouse!$B16) -> 0 | F16: =SUMIFS(resultat!E:E,resultat!$A:$A,toulouse!$A16,resultat!$C:$C,toulouse!$B16) -> 0 | H16: par match | I16: 21.588235 | J16: 19.470588 | M16: Toulouse | N16: Montpellier
A17: journée 10 | E17: =SUMIFS(resultat!D:D,resultat!$A:$A,toulouse!$A17,resultat!$C:$C,toulouse!$B17) -> 0 | F17: =SUMIFS(resultat!E:E,resultat!$A:$A,toulouse!$A17,resultat!$C:$C,toulouse!$B17) -> 0 | M17: Toulouse | N17: Paris
A18: journée 11 | E18: =SUMIFS(resultat!D:D,resultat!$A:$A,toulouse!$A18,resultat!$C:$C,toulouse!$B18) -> 0 | F18: =SUMIFS(resultat!E:E,resultat!$A:$A,toulouse!$A18,resultat!$C:$C,toulouse!$B18) -> 0 | H18: point marquer | M18: Toulouse | N18: Pau
A19: journée 12 | E19: =SUMIFS(resultat!D:D,resultat!$A:$A,toulouse!$A19,resultat!$C:$C,toulouse!$B19) -> 0 | F19: =SUMIFS(resultat!E:E,resultat!$A:$A,toulouse!$A19,resultat!$C:$C,toulouse!$B19) -> 0 | H19: match dom | M19: Toulouse | N19: Racing 92
A20: journée 13 | E20: =SUMIFS(resultat!D:D,resultat!$A:$A,toulouse!$A20,resultat!$C:$C,toulouse!$B20) -> 0 | F20: =SUMIFS(resultat!E:E,resultat!$A:$A,toulouse!$A20,resultat!$C:$C,toulouse!$B20) -> 0 | H20: par match | M20: Toulouse | N20: Toulon
A21: journée 14 | E21: =SUMIFS(resultat!D:D,resultat!$A:$A,toulouse!$A21,resultat!$C:$C,toulouse!$B21) -> 0 | F21: =SUMIFS(resultat!E:E,resultat!$A:$A,toulouse!$A21,resultat!$C:$C,toulouse!$B21) -> 0 | H21: match ext
A22: journée 15 | E22: =SUMIFS(resultat!D:D,resultat!$A:$A,toulouse!$A22,resultat!$C:$C,toulouse!$B22) -> 0 | F22: =SUMIFS(resultat!E:E,resultat!$A:$A,toulouse!$A22,resultat!$C:$C,toulouse!$B22) -> 0 | H22: par match
A23: journée 16 | E23: =SUMIFS(resultat!D:D,resultat!$A:$A,toulouse!$A23,resultat!$C:$C,toulouse!$B23) -> 0 | F23: =SUMIFS(resultat!E:E,resultat!$A:$A,toulouse!$A23,resultat!$C:$C,toulouse!$B23) -> 0 | H23: match
A24: journée 17 | E24: =SUMIFS(resultat!D:D,resultat!$A:$A,toulouse!$A24,resultat!$C:$C,toulouse!$B24) -> 0 | F24: =SUMIFS(resultat!E:E,resultat!$A:$A,toulouse!$A24,resultat!$C:$C,toulouse!$B24) -> 0 | H24: par match
A25: journée 18 | E25: =SUMIFS(resultat!D:D,resultat!$A:$A,toulouse!$A25,resultat!$C:$C,toulouse!$B25) -> 0 | F25: =SUMIFS(resultat!E:E,resultat!$A:$A,toulouse!$A25,resultat!$C:$C,toulouse!$B25) -> 0
A26: journée 19 | E26: =SUMIFS(resultat!D:D,resultat!$A:$A,toulouse!$A26,resultat!$C:$C,toulouse!$B26) -> 0 | F26: =SUMIFS(resultat!E:E,resultat!$A:$A,toulouse!$A26,resultat!$C:$C,toulouse!$B26) -> 0 | H26: point marquer
A27: journée 20 | E27: =SUMIFS(resultat!D:D,resultat!$A:$A,toulouse!$A27,resultat!$C:$C,toulouse!$B27) -> 0 | F27: =SUMIFS(resultat!E:E,resultat!$A:$A,toulouse!$A27,resultat!$C:$C,toulouse!$B27) -> 0 | H27: match dom
A28: journée 21 | E28: =SUMIFS(resultat!D:D,resultat!$A:$A,toulouse!$A28,resultat!$C:$C,toulouse!$B28) -> 0 | F28: =SUMIFS(resultat!E:E,resultat!$A:$A,toulouse!$A28,resultat!$C:$C,toulouse!$B28) -> 0 | H28: par match
A29: journée 22 | E29: =SUMIFS(resultat!D:D,resultat!$A:$A,toulouse!$A29,resultat!$C:$C,toulouse!$B29) -> 0 | F29: =SUMIFS(resultat!E:E,resultat!$A:$A,toulouse!$A29,resultat!$C:$C,toulouse!$B29) -> 0 | H29: match ext
A30: journée 23 | E30: =SUMIFS(resultat!D:D,resultat!$A:$A,toulouse!$A30,resultat!$C:$C,toulouse!$B30) -> 0 | F30: =SUMIFS(resultat!E:E,resultat!$A:$A,toulouse!$A30,resultat!$C:$C,toulouse!$B30) -> 0 | H30: par match
A31: journée 24 | E31: =SUMIFS(resultat!D:D,resultat!$A:$A,toulouse!$A31,resultat!$C:$C,toulouse!$B31) -> 0 | F31: =SUMIFS(resultat!E:E,resultat!$A:$A,toulouse!$A31,resultat!$C:$C,toulouse!$B31) -> 0 | H31: match
A32: journée 25 | E32: =SUMIFS(resultat!D:D,resultat!$A:$A,toulouse!$A32,resultat!$C:$C,toulouse!$B32) -> 0 | F32: =SUMIFS(resultat!E:E,resultat!$A:$A,toulouse!$A32,resultat!$C:$C,toulouse!$B32) -> 0 | H32: par match
A33: journée 26 | E33: =SUMIFS(resultat!D:D,resultat!$A:$A,toulouse!$A33,resultat!$C:$C,toulouse!$B33) -> 0 | F33: =SUMIFS(resultat!E:E,resultat!$A:$A,toulouse!$A33,resultat!$C:$C,toulouse!$B33) -> 0
G35: % | H35: defaite D | I35: defaite E | J35: % | K35: nul | L35: %
A36: club | C36: face a face | D36: nbr de match | E36: victoire D | F36: victoire E | G36: 0 | H36: 1 | I36: =(G36+H36)/C37 -> 0.076923077 | K36: =100%-(F37+I36) -> 0 | L36: =SUM(F37+I36+K36) -> 1
A37: TOULOUSE | B37: AGEN | C37: 13 | D37: 6 | E37: 6 | F37: =(D37+E37)/C37 -> 0.92307692 | G37: 0 | H37: 6 | I37: =(G37+H37)/C38 -> 0.33333333 | K37: =100%-(F38+I37) -> 0 | L37: =SUM(F38+I37+K37) -> 1
A38: TOULOUSE | B38: BAYONNE | C38: 18 | D38: 9 | E38: 3 | F38: =(D38+E38)/C38 -> 0.66666667 | G38: 0 | H38: 5 | I38: =(G38+H38)/C39 -> 0.27777778 | J38: 1 | K38: =100%-(F39+I38) -> 0.055555556 | L38: =SUM(F39+I38+K38) -> 1
A39: TOULOUSE | B39: BORDEAUX | C39: 18 | D39: 8 | E39: 4 | F39: =(D39+E39)/C39 -> 0.66666667 | G39: 0 | H39: 5 | I39: =(G39+H39)/C40 -> 0.26315789 | J39: 3 | K39: =100%-(F40+I39) -> 0.15789474 | L39: =SUM(F40+I39+K39) -> 1
A40: TOULOUSE | B40: BRIVE | C40: 19 | D40: 9 | E40: 2 | F40: =(D40+E40)/C40 -> 0.57894737 | G40: 3 | H40: 7 | I40: =(G40+H40)/C41 -> 0.38461538 | K40: =100%-(F41+I40) -> 0 | L40: =SUM(F41+I40+K40) -> 1
A41: TOULOUSE | B41: CASTRES | C41: 26 | D41: 12 | E41: 4 | F41: =(D41+E41)/C41 -> 0.61538462 | G41: 3 | H41: 11 | I41: =(G41+H41)/C42 -> 0.51851852 | J41: 1 | K41: =100%-(F42+I41) -> 0.037037037 | L41: =SUM(F42+I41+K41) -> 1
A42: TOULOUSE | B42: CLERMONT | C42: 27 | D42: 12 | E42: 0 | F42: =(D42+E42)/C42 -> 0.44444444 | G42: 1 | H42: 5 | I42: =(G42+H42)/C43 -> 0.42857143 | K42: =100%-(F43+I42) -> 0 | L42: =SUM(F43+I42+K42) -> 1
A43: TOULOUSE | B43: LA ROCHELLE | C43: 14 | D43: 6 | E43: 2 | F43: =(D43+E43)/C43 -> 0.57142857 | G43: 1 | H43: 2 | I43: =(G43+H43)/C44 -> 0.27272727 | J43: 1 | K43: =100%-(F44+I43) -> 0.090909091 | L43: =SUM(F44+I43+K43) -> 1
A44: TOULOUSE | B44: LYON | C44: 11 | D44: 4 | E44: 3 | F44: =(D44+E44)/C44 -> 0.63636364 | G44: 2 | H44: 9 | I44: =(G44+H44)/C45 -> 0.44 | K44: =100%-(F45+I44) -> 0 | L44: =SUM(F45+I44+K44) -> 1
A45: TOULOUSE | B45: MONTPELLIER | C45: 25 | D45: 11 | E45: 3 | F45: =(D45+E45)/C45 -> 0.56 | G45: 0 | H45: 4 | I45: =(G45+H45)/C46 -> 0.17391304 | J45: 2 | K45: =100%-(F46+I45) -> 0.086956522 | L45: =SUM(F46+I45+K45) -> 1
A46: TOULOUSE | B46: PARIS | C46: 23 | D46: 10 | E46: 7 | F46: =(D46+E46)/C46 -> 0.73913043 | G46: 1 | H46: 2 | I46: =(G46+H46)/C47 -> 0.33333333 | K46: =100%-(F47+I46) -> 0 | L46: =SUM(F47+I46+K46) -> 1
A47: TOULOUSE | B47: PAU | C47: 9 | D47: 4 | E47: 2 | F47: =(D47+E47)/C47 -> 0.66666667 | G47: 2 | H47: 9 | I47: =(G47+H47)/C48 -> 0.44 | K47: =100%-(F48+I47) -> 0 | L47: =SUM(F48+I47+K47) -> 1
A48: TOULOUSE | B48: RACING 92 | C48: 25 | D48: 11 | E48: 3 | F48: =(D48+E48)/C48 -> 0.56 | G48: 2 | H48: 10 | I48: =(G48+H48)/C49 -> 0.48 | J48: 1 | K48: =100%-(F49+I48) -> 0.04 | L48: =SUM(F49+I48+K48) -> 1
A49: TOULOUSE | B49: TOULON | C49: 25 | D49: 10 | E49: 2 | F49: =(D49+E49)/C49 -> 0.48

Sheet resultat
A1: Journée | B1: Match | C1: Domicile | D1: Score D | E1: Score E | F1: Exterieur | G1: Score Match
A2: Journée 1 | B2: Match 1 | C2: La Rochelle | F2: Toulon | G2: =IF(NOT(AND(D2="",E2="")),CONCATENATE(D2,"-",E2),"")
A3: Journée 1 | B3: Match 2 | C3: Agen | F3: Castres | G3: =IF(NOT(AND(D3="",E3="")),CONCATENATE(D3,"-",E3),"")
A4: Journée 1 | B4: Match 3 | C4: Brive | F4: Bayonne | G4: =IF(NOT(AND(D4="",E4="")),CONCATENATE(D4,"-",E4),"")
A5: Journée 1 | B5: Match 4 | C5: Lyon | F5: Racing 92 | G5: =IF(NOT(AND(D5="",E5="")),CONCATENATE(D5,"-",E5),"")
A6: Journée 1 | B6: Match 5 | C6: Montpellier | F6: Pau | G6: =IF(NOT(AND(D6="",E6="")),CONCATENATE(D6,"-",E6),"")
A7: Journée 1 | B7: Match 6 | C7: Paris | F7: Bordeaux | G7: =IF(NOT(AND(D7="",E7="")),CONCATENATE(D7,"-",E7),"")
A8: Journée 1 | B8: Match 7 | C8: Clermont | D8: 10 | E8: 25 | F8: Toulouse | G8: =IF(NOT(AND(D8="",E8="")),CONCATENATE(D8,"-",E8),"") -> 10-25
A9: Journée 2 | B9: Match 1 | C9: Toulon | F9: Lyon | G9: =IF(NOT(AND(D9="",E9="")),CONCATENATE(D9,"-",E9),"")
A10: Journée 2 | B10: Match 2 | C10: Bayonne | F10: Clermont | G10: =IF(NOT(AND(D10="",E10="")),CONCATENATE(D10,"-",E10),"")
A11: Journée 2 | B11: Match 3 | C11: Bordeaux | F11: Brive | G11: =IF(NOT(AND(D11="",E11="")),CONCATENATE(D11,"-",E11),"")
A12: Journée 2 | B12: Match 4 | C12: Castres | F12: Paris | G12: =IF(NOT(AND(D12="",E12="")),CONCATENATE(D12,"-",E12),"")
A13: Journée 2 | B13: Match 5 | C13: Pau | F13: Agen | G13: =IF(NOT(AND(D13="",E13="")),CONCATENATE(D13,"-",E13),"")
A14: Journée 2 | B14: Match 6 | C14: Racing 92 | F14: Montpellier | G14: =IF(NOT(AND(D14="",E14="")),CONCATENATE(D14,"-",E14),"")
A15: Journée 2 | B15: Match 7 | C15: Toulouse | D15: 50 | E15: 14 | F15: La Rochelle | G15: =IF(NOT(AND(D15="",E15="")),CONCATENATE(D15,"-",E15),"") -> 50-14
A16: Journée 3 | B16: Match 1 | C16: Brive | F16: Pau | G16: =IF(NOT(AND(D16="",E16="")),CONCATENATE(D16,"-",E16),"")
B17: Match 2 | C17: Clermont | F17: Agen | G17: =IF(NOT(AND(D17="",E17="")),CONCATENATE(D17,"-",E17),"")
B18: Match 3 | C18: La Rochelle | F18: Racing 92 | G18: =IF(NOT(AND(D18="",E18="")),CONCATENATE(D18,"-",E18),"")
B19: Match 4 | C19: La Rochelle | F19: Bordeaux | G19: =IF(NOT(AND(D19="",E19="")),CONCATENATE(D19,"-",E19),"")
B20: Match 5 | C20: Montpellier | F20: Castres | G20: =IF(NOT(AND(D20="",E20="")),CONCATENATE(D20,"-",E20),"")
B21: Match 6 | C21: Paris | F21: Bayonne | G21: =IF(NOT(AND(D21="",E21="")),CONCATENATE(D21,"-",E21),"")
B22: Match 7 | C22: Toulouse | D22: 4 | E22: 14 | F22: Toulon | G22: =IF(NOT(AND(D22="",E22="")),CONCATENATE(D22,"-",E22),"") -> 4-14
A23: Journée 4 | B23: Match 1 | C23: Bordeaux | F23: Clermont | G23: =IF(NOT(AND(D23="",E23="")),CONCATENATE(D23,"-",E23),"")
B24: Match 2 | C24: Racing 92 | F24: Toulouse | G24: =IF(NOT(AND(D24="",E24="")),CONCATENATE(D24,"-",E24),"")
B25: Match 3 | C25: Agen | F25: Pau | G25: =IF(NOT(AND(D25="",E25="")),CONCATENATE(D25,"-",E25),"")
B26: Match 4 | C26: Bayonne | F26: La Rochelle | G26: =IF(NOT(AND(D26="",E26="")),CONCATENATE(D26,"-",E26),"")
B27: Match 5 | C27: Castres | F27: Brive | G27: =IF(NOT(AND(D27="",E27="")),CONCATENATE(D27,"-",E27),"")
B28: Match 6 | C28: Pau | F28: Lyon | G28: =IF(NOT(AND(D28="",E28="")),CONCATENATE(D28,"-",E28),"")
B29: Match 7 | C29: Toulon | F29: Montpellier | G29: =IF(NOT(AND(D29="",E29="")),CONCATENATE(D29,"-",E29),"")
A30: Journée 5 | B30: Match 1 | C30: Racing 92 | F30: Toulon | G30: =IF(NOT(AND(D30="",E30="")),CONCATENATE(D30,"-",E30),"")
B31: Match 2 | C31: Clermont | F31: Pau | G31: =IF(NOT(AND(D31="",E31="")),CONCATENATE(D31,"-",E31),"")
B32: Match 3 | C32: Brive | F32: Toulouse | G32: =IF(NOT(AND(D32="",E32="")),CONCATENATE(D32,"-",E32),"")
B33: Match 4 | C33: Clermont | F33: Castres | G33: =IF(NOT(AND(D33="",E33="")),CONCATENATE(D33,"-",E33),"")
B34: Match 5 | C34: Lyon | F34: Bayonne | G34: =IF(NOT(AND(D34="",E34="")),CONCATENATE(D34,"-",E34),"")
B35: Match 6 | C35: Montpellier | F35: Agen | G35: =IF(NOT(AND(D35="",E35="")),CONCATENATE(D35,"-",E35),"")
B36: Match 7 | C36: Pau | F36: Bordeaux | G36: =IF(NOT(AND(D36="",E36="")),CONCATENATE(D36,"-",E36),"")
A37: Journée 6 | B37: Match 1 | C37: Paris | F37: Racing 92 | G37: =IF(NOT(AND(D37="",E37="")),CONCATENATE(D37,"-",E37),"")
B38: Match 2 | C38: Agen | F38: Bayonne | G38: =IF(NOT(AND(D38="",E38="")),CONCATENATE(D38,"-",E38),"")
B39: Match 3 | C39: Clermont | F39: Pau | G39: =IF(NOT(AND(D39="",E39="")),CONCATENATE(D39,"-",E39),"")
B40: Match 4 | C40: La Rochelle | F40: Bordeaux | G40: =IF(NOT(AND(D40="",E40="")),CONCATENATE(D40,"-",E40),"")
B41: Match 5 | C41: Montpellier | F41: Brive | G41: =IF(NOT(AND(D41="",E41="")),CONCATENATE(D41,"-",E41),"")
B42: Match 6 | C42: Toulon | F42: Castres | G42: =IF(NOT(AND(D42="",E42="")),CONCATENATE(D42,"-",E42),"")
B43: Match 7 | C43: Toulouse | F43: Lyon | G43: =IF(NOT(AND(D43="",E43="")),CONCATENATE(D43,"-",E43),"")
A44: Journée 7 | B44: Match 1 | C44: Paris | F44: Toulouse | G44: =IF(NOT(AND(D44="",E44="")),CONCATENATE(D44,"-",E44),"")
B45: Match 2 | C45: Bayonne | F45: Toulon | G45: =IF(NOT(AND(D45="",E45="")),CONCATENATE(D45,"-",E45),"")
B46: Match 3 | C46: Bordeaux | F46: Agen | G46: =IF(NOT(AND(D46="",E46="")),CONCATENATE(D46,"-",E46),"")
B47: Match 4 | C47: Brive | F47: Clermont | G47: =IF(NOT(AND(D47="",E47="")),CONCATENATE(D47,"-",E47),"")
B48: Match 5 | C48: Castres | F48: Racing 92 | G48: =IF(NOT(AND(D48="",E48="")),CONCATENATE(D48,"-",E48),"")
B49: Match 6 | C49: Lyon | F49: Montpellier | G49: =IF(NOT(AND(D49="",E49="")),CONCATENATE(D49,"-",E49),"")
B50: Match 7 | C50: Pau | F50: La Rochelle | G50: =IF(NOT(AND(D50="",E50="")),CONCATENATE(D50,"-",E50),"")
A51: Journée 8 | B51: Match 1 | C51: La Rochelle | F51: Clermont | G51: =IF(NOT(AND(D51="",E51="")),CONCATENATE(D51,"-",E51),"")
B52: Match 2 | C52: Agen | F52: Lyon | G52: =IF(NOT(AND(D52="",E52="")),CONCATENATE(D52,"-",E52),"")
B53: Match 3 | C53: Bordeaux | F53: Bayonne | G53: =IF(NOT(AND(D53="",E53="")),CONCATENATE(D53,"-",E53),"")
B54: Match 4 | C54: Montpellier | F54: Paris | G54: =IF(NOT(AND(D54="",E54="")),CONCATENATE(D54,"-",E54),"")
B55: Match 5 | C55: Racing 92 | F55: Pau | G55: =IF(NOT(AND(D55="",E55="")),CONCATENATE(D55,"-",E55),"")
B56: Match 6 | C56: Toulon | F56: Brive | G56: =IF(NOT(AND(D56="",E56="")),CONCATENATE(D56,"-",E56),"")
B57: Match 7 | C57: Toulouse | F57: Castres | G57: =IF(NOT(AND(D57="",E57="")),CONCATENATE(D57,"-",E57),"")
A58: Journée 9 | B58: Match 1 | C58: Clermont | F58: La Rochelle | G58: =IF(NOT(AND(D58="",E58="")),CONCATENATE(D58,"-",E58),"")
B59: Match 2 | C59: Agen | F59: Toulon | G59: =IF(NOT(AND(D59="",E59="")),CONCATENATE(D59,"-",E59),"")
B60: Match 3 | C60: Bayonne | F60: Lyon | G60: =IF(NOT(AND(D60="",E60="")),CONCATENATE(D60,"-",E60),"")
B61: Match 4 | C61: Bordeaux | F61: Racing 92 | G61: =IF(NOT(AND(D61="",E61="")),CONCATENATE(D61,"-",E61),"")
B62: Match 5 | C62: Castres | F62: Bordeaux | G62: =IF(NOT(AND(D62="",E62="")),CONCATENATE(D62,"-",E62),"")
B63: Match 6 | C63: Paris | F63: La Rochelle | G63: =IF(NOT(AND(D63="",E63="")),CONCATENATE(D63,"-",E63),"")
B64: Match 7 | C64: Pau | F64: Toulouse | G64: =IF(NOT(AND(D64="",E64="")),CONCATENATE(D64,"-",E64),"")
A65: Journée 10 | B65: Match 1 | C65: La Rochelle | F65: Paris | G65: =IF(NOT(AND(D65="",E65="")),CONCATENATE(D65,"-",E65),"")
B66: Match 2 | C66: Castres | F66: Clermont | G66: =IF(NOT(AND(D66="",E66="")),CONCATENATE(D66,"-",E66),"")
B67: Match 3 | C67: La Rochelle | F67: Brive | G67: =IF(NOT(AND(D67="",E67="")),CONCATENATE(D67,"-",E67),"")
B68: Match 4 | C68: Montpellier | F68: Bordeaux | G68: =IF(NOT(AND(D68="",E68="")),CONCATENATE(D68,"-",E68),"")
B69: Match 5 | C69: Racing 92 | F69: Bayonne | G69: =IF(NOT(AND(D69="",E69="")),CONCATENATE(D69,"-",E69),"")
B70: Match 6 | C70: Toulon | F70: Pau | G70: =IF(NOT(AND(D70="",E70="")),CONCATENATE(D70,"-",E70),"")
B71: Match 7 | C71: Toulouse | F71: Agen | G71: =IF(NOT(AND(D71="",E71="")),CONCATENATE(D71,"-",E71),"")
A72: Journée 11 | B72: Match 1 | C72: Paris | F72: Toulon | G72: =IF(NOT(AND(D72="",E72="")),CONCATENATE(D72,"-",E72),"")
B73: Match 2 | C73: Bordeaux | F73: Racing 92 | G73: =IF(NOT(AND(D73="",E73="")),CONCATENATE(D73,"-",E73),"")
B74: Match 3 | C74: Agen | F74: Brive | G74: =IF(NOT(AND(D74="",E74="")),CONCATENATE(D74,"-",E74),"")
B75: Match 4 | C75: Bayonne | F75: Toulouse | G75: =IF(NOT(AND(D75="",E75="")),CONCATENATE(D75,"-",E75),"")
B76: Match 5 | C76: Clermont | F76: Montpellier | G76: =IF(NOT(AND(D76="",E76="")),CONCATENATE(D76,"-",E76),"")
B77: Match 6 | C77: Lyon | F77: La Rochelle | G77: =IF(NOT(AND(D77="",E77="")),CONCATENATE(D77,"-",E77),"")
B78: Match 7 | C78: Pau | F78: Castres | G78: =IF(NOT(AND(D78="",E78="")),CONCATENATE(D78,"-",E78),"")
A79: Journée 12 | B79: Match 1 | C79: Brive | F79: Lyon | G79: =IF(NOT(AND(D79="",E79="")),CONCATENATE(D79,"-",E79),"")
B80: Match 2 | C80: Castres | F80: Bayonne | G80: =IF(NOT(AND(D80="",E80="")),CONCATENATE(D80,"-",E80),"")
B81: Match 3 | C81: La Rochelle | F81: Montpellier | G81: =IF(NOT(AND(D81="",E81="")),CONCATENATE(D81,"-",E81),"")
B82: Match 4 | C82: Pau | F82: Paris | G82: =IF(NOT(AND(D82="",E82="")),CONCATENATE(D82,"-",E82),"")
B83: Match 5 | C83: Racing 92 | F83: Agen | G83: =IF(NOT(AND(D83="",E83="")),CONCATENATE(D83,"-",E83),"")
B84: Match 6 | C84: Toulon | F84: Clermont | G84: =IF(NOT(AND(D84="",E84="")),CONCATENATE(D84,"-",E84),"")
B85: Match 7 | C85: Toulouse | F85: Bordeaux | G85: =IF(NOT(AND(D85="",E85="")),CONCATENATE(D85,"-",E85),"")
A86: Journée 13 | B86: Match 1 | C86: Bordeaux | F86: Toulon | G86: =IF(NOT(AND(D86="",E86="")),CONCATENATE(D86,"-",E86),"")
B87: Match 2 | C87: Clermont | F87: Racing 92 | G87: =IF(NOT(AND(D87="",E87="")),CONCATENATE(D87,"-",E87),"")
B88: Match 3 | C88: Lyon | F88: Toulouse | G88: =IF(NOT(AND(D88="",E88="")),CONCATENATE(D88,"-",E88),"")
B89: Match 4 | C89: Agen | F89: La Rochelle | G89: =IF(NOT(AND(D89="",E89="")),CONCATENATE(D89,"-",E89),"")
B90: Match 5 | C90: Bayonne | F90: Pau | G90: =IF(NOT(AND(D90="",E90="")),CONCATENATE(D90,"-",E90),"")
B91: Match 6 | C91: Lyon | F91: Castres | G91: =IF(NOT(AND(D91="",E91="")),CONCATENATE(D91,"-",E91),"")
B92: Match 7 | C92: Paris | F92: Brive | G92: =IF(NOT(AND(D92="",E92="")),CONCATENATE(D92,"-",E92),"")
A93: Journée 14 | B93: Match 1 | G93: =IF(NOT(AND(D93="",E93="")),CONCATENATE(D93,"-",E93),"")
B94: Match 2 | G94: =IF(NOT(AND(D94="",E94="")),CONCATENATE(D94,"-",E94),"")
B95: Match 3 | G95: =IF(NOT(AND(D95="",E95="")),CONCATENATE(D95,"-",E95),"")
B96: Match 4 | G96: =IF(NOT(AND(D96="",E96="")),CONCATENATE(D96,"-",E96),"")
B97: Match 5 | G97: =IF(NOT(AND(D97="",E97="")),CONCATENATE(D97,"-",E97),"")
B98: Match 6 | G98: =IF(NOT(AND(D98="",E98="")),CONCATENATE(D98,"-",E98),"")
B99: Match 7 | C99: La Rochelle | G99: =IF(NOT(AND(D99="",E99="")),CONCATENATE(D99,"-",E99),"")
A100: Journée 15 | B100: Match 1 | C100: La Rochelle | G100: =IF(NOT(AND(D100="",E100="")),CONCATENATE(D100,"-",E100),"")
...

Sheet Feuil1
A1: journee1 | B1: Domicile | C1: victoire | D1: Agen
A2: journee2 | B2: exterieur | C2: nul | D2: Bayonne
A3: journee3 | C3: defaite | D3: Bordeaux
A4: journee4 | D4: Brive
A5: journee5 | D5: Castres
A6: journee6 | D6: Clermont
A7: journee7 | D7: La Rochelle
A8: journee8 | D8: Lyon
A9: journee9 | D9: Montpellier
A10: journee10 | D10: Paris
A11: journee11 | D11: Pau
A12: journee12 | D12: Racing 92
A13: journee13 | D13: Toulon
A14: journee14 | D14: Toulouse
A15: journee15
A16: journee16
A17: journee17
A18: journee18
A19: journee19
A20: journee20
A21: journee21
A22: journee22
A23: journee23
A24: journee24
A25: journee25
A26: journee26
