Workbook
Name journee: 'Agen '!$O$5:$P$30
Name journee1: 'resulta '!$B$3:$E$9
Name journee10: 'resulta '!$B$75:$E$81
Name journee11: 'resulta '!$B$83:$E$89
Name journee12: 'resulta '!$B$91:$E$97
Name journee13: 'resulta '!$B$99:$E$105
Name journee14: 'resulta '!$H$3:$K$9
Name journee15: 'resulta '!$H$11:$K$17
Name journee16: 'resulta '!$H$19:$K$25
Name journee17: 'resulta '!$H$27:$K$33
Name journee18: 'resulta '!$H$35:$K$41
Name journee19: 'resulta '!$H$43:$K$49
Name journee2: 'resulta '!$B$11:$E$17
Name journee20: 'resulta '!$H$51:$K$57
Name journee21: 'resulta '!$H$59:$K$65
Name journee22: 'resulta '!$H$67:$K$73
Name journee23: 'resulta '!$H$75:$K$81
Name journee24: 'resulta '!$H$83:$K$89
Name journee25: 'resulta '!$H$83:$K$89
Name journee26: 'resulta '!$H$99:$K$105
Name journee3: 'resulta '!$B$19:$E$25
Name journee4: 'resulta '!$B$27:$E$33
Name journee5: 'resulta '!$B$35:$E$41
Name journee6: 'resulta '!$B$43:$E$49
Name journee7: 'resulta '!$B$51:$E$57
Name journee8: 'resulta '!$B$59:$E$65
Name journee9: 'resulta '!$B$67:$E$73

Sheet Agen 
A1: Agen | B1: saison 2019/2020 | G1: point marquer | H1: saison 2020/2021 | L1: match du jour
B2: nbre match | C2: nbre vitoire | D2: nbre nul | E2: nbre defaite | G2: match dom | H2: =SUM(C8:C20) -> #REF! | I2: =SUM(D8:D20) -> #REF! | J2: =H2-I2 -> #REF! | L2: domicile | M2: exertieur
A3: nbre match D | B3: 9 | C3: 3 | D3: 0 | E3: 6 | G3: par match | H3: =H2/B3 -> #REF! | I3: =I2/B3 -> #REF! | L3: Agen | M3: paris
A4: nbre match E | B4: 8 | C4: 2 | D4: 1 | E4: 5 | G4: match ext | H4: =SUM(D23:D35) -> #N/A | I4: =SUM(C23:C35) -> #N/A | J4: =H4-I4 -> #N/A | L4: {=INDEX($C$38:$L$50,MATCH(1,($A$38:$A$50=$A$1)*($B$38:$B$50=$M$3),0),4)} -> 0.38461538 | M4: {=INDEX($C$38:$L$50,MATCH(1,($A$38:$A$50=$L$3)*($B$38:$B$50=$M$3),0),7)} -> 0.61538462
A5: nbre match T | B5: =B3+B4 -> 17 | C5: =C3+C4 -> 5 | D5: =D3+D4 -> 1 | E5: =E3+E4 -> 11 | G5: par match | H5: =H4/B4 -> #N/A | I5: =I4/B4 -> #N/A | L5: =100/L4/100 -> 2.6 | M5: =100/M4/100 -> 1.625
G6: match | H6: =H2+H4 -> #REF! | I6: =I2+I4 -> #REF! | J6: =H6-I6 -> #REF!
A7: match dom | G7: par match | H7: =H6/B5 -> #REF! | I7: =I6/B5 -> #REF! | L7: Agen | M7: Bayonne
A8: journee1 | B8: Agen | C8: =VLOOKUP($B8,INDIRECT($A8),COLUMN('resulta '!B3),FALSE) -> 0 | D8: =VLOOKUP($B8,INDIRECT($A8),COLUMN('resulta '!C3),FALSE) -> 0 | E8: Castres | L8: Agen | M8: Bordeaux
A9: journee4 | B9: Agen | C9: =VLOOKUP($B9,INDIRECT($A9),COLUMN('resulta '!C4),FALSE) -> 0 | D9: =VLOOKUP($B9,INDIRECT($A9),COLUMN('resulta '!D4),FALSE) -> Pau | E9: Paris | G9: point marquer | H9: saison 2019/2020 | L9: Agen | M9: Brive
A10: journee6 | B10: Agen | C10: =VLOOKUP($B10,INDIRECT($A10),COLUMN('resulta '!C5),FALSE) -> 0 | D10: =VLOOKUP($B10,INDIRECT($A10),COLUMN('resulta '!D5),FALSE) -> Bayonne | E10: Bayonne | G10: match dom | H10: 158 | I10: 164 | J10: -6 | L10: Agen | M10: Castres
A11: journee8 | B11: Agen | C11: =VLOOKUP($B11,INDIRECT($A11),COLUMN('resulta '!C6),FALSE) -> 0 | D11: =VLOOKUP($B11,INDIRECT($A11),COLUMN('resulta '!D6),FALSE) -> Lyon | E11: Lyon | G11: par match | H11: 17.555556 | I11: 18.222222 | L11: Agen | M11: Clermont
A12: journee9 | B12: Agen | C12: =VLOOKUP($B12,INDIRECT($A12),COLUMN('resulta '!C7),FALSE) -> 0 | D12: =VLOOKUP($B12,INDIRECT($A12),COLUMN('resulta '!D7),FALSE) -> Toulon | E12: Toulon | G12: match ext | H12: 140 | I12: 206 | J12: -66 | L12: Agen | M12: La Rochelle
A13: journee11 | B13: Agen | C13: =VLOOKUP($B13,INDIRECT($A13),COLUMN('resulta '!C8),FALSE) -> 0 | D13: =VLOOKUP($B13,INDIRECT($A13),COLUMN('resulta '!D8),FALSE) -> Brive | E13: Brive | G13: par match | H13: 17.5 | I13: 25.75 | L13: Agen | M13: Lyon
A14: journee13 | B14: Agen | C14: =VLOOKUP($B14,INDIRECT($A14),COLUMN('resulta '!C9),FALSE) -> 0 | D14: =VLOOKUP($B14,INDIRECT($A14),COLUMN('resulta '!D9),FALSE) -> La Rochelle | E14: La Rochelle | G14: match | H14: 298 | I14: 370 | J14: -72 | L14: Agen | M14: Montpellier
B15: Agen | C15: =VLOOKUP($B15,INDIRECT($A15),COLUMN('resulta '!C10),FALSE) -> #REF! | D15: =VLOOKUP($B15,INDIRECT($A15),COLUMN('resulta '!D10),FALSE) -> #REF! | G15: par match | H15: 17.529412 | I15: 21.764706 | L15: Agen | M15: Paris
B16: Agen | C16: =VLOOKUP($B16,INDIRECT($A16),COLUMN('resulta '!C11),FALSE) -> #REF! | D16: =VLOOKUP($B16,INDIRECT($A16),COLUMN('resulta '!D11),FALSE) -> #REF! | L16: Agen | M16: Pau
B17: Agen | C17: =VLOOKUP($B17,INDIRECT($A17),COLUMN('resulta '!C12),FALSE) -> #REF! | D17: =VLOOKUP($B17,INDIRECT($A17),COLUMN('resulta '!D12),FALSE) -> #REF! | G17: point marquer | L17: Agen | M17: Racing 92
B18: Agen | C18: =VLOOKUP($B18,INDIRECT($A18),COLUMN('resulta '!C13),FALSE) -> #REF! | D18: =VLOOKUP($B18,INDIRECT($A18),COLUMN('resulta '!D13),FALSE) -> #REF! | G18: match dom | L18: Agen | M18: Toulon
B19: Agen | C19: =VLOOKUP($B19,INDIRECT($A19),COLUMN('resulta '!C14),FALSE) -> #REF! | D19: =VLOOKUP($B19,INDIRECT($A19),COLUMN('resulta '!D14),FALSE) -> #REF! | G19: par match | L19: Agen | M19: Toulouse
B20: Agen | C20: =VLOOKUP($B20,INDIRECT($A20),COLUMN('resulta '!C15),FALSE) -> #REF! | D20: =VLOOKUP($B20,INDIRECT($A20),COLUMN('resulta '!D15),FALSE) -> #REF! | G20: match ext
G21: par match
A22: match ext | G22: match
A23: journee2 | B23: Pau | C23: =VLOOKUP($E23,INDIRECT($A23),COLUMN('resulta '!D3),FALSE) -> #N/A | D23: =VLOOKUP($E23,INDIRECT($A23),COLUMN('resulta '!C3),FALSE) -> #N/A | E23: Agen | G23: par match
A24: journee3 | B24: Clermont | C24: =VLOOKUP($E24,INDIRECT($A24),COLUMN('resulta '!D4),FALSE) -> #N/A | D24: =VLOOKUP($E24,INDIRECT($A24),COLUMN('resulta '!C4),FALSE) -> #N/A | E24: Agen
A25: journee5 | B25: Montpellier | C25: =VLOOKUP($E25,INDIRECT($A25),COLUMN('resulta '!D5),FALSE) -> #N/A | D25: =VLOOKUP($E25,INDIRECT($A25),COLUMN('resulta '!C5),FALSE) -> #N/A | E25: Agen | G25: point marquer
A26: journee7 | B26: Bordeaux | C26: =VLOOKUP($E26,INDIRECT($A26),COLUMN('resulta '!D6),FALSE) -> #N/A | D26: =VLOOKUP($E26,INDIRECT($A26),COLUMN('resulta '!C6),FALSE) -> #N/A | E26: Agen | G26: match dom
A27: journee10 | B27: Toulouse | C27: =VLOOKUP($E27,INDIRECT($A27),COLUMN('resulta '!D7),FALSE) -> #N/A | D27: =VLOOKUP($E27,INDIRECT($A27),COLUMN('resulta '!C7),FALSE) -> #N/A | E27: Agen | G27: par match
A28: journee12 | B28: Racing 92 | C28: =VLOOKUP($E28,INDIRECT($A28),COLUMN('resulta '!D8),FALSE) -> #N/A | D28: =VLOOKUP($E28,INDIRECT($A28),COLUMN('resulta '!C8),FALSE) -> #N/A | E28: Agen | G28: match ext
C29: =VLOOKUP($E29,INDIRECT($A29),COLUMN('resulta '!D9),FALSE) -> #REF! | D29: =VLOOKUP($E29,INDIRECT($A29),COLUMN('resulta '!C9),FALSE) -> #REF! | E29: Agen | G29: par match
C30: =VLOOKUP($E30,INDIRECT($A30),COLUMN('resulta '!D10),FALSE) -> #REF! | D30: =VLOOKUP($E30,INDIRECT($A30),COLUMN('resulta '!C10),FALSE) -> #REF! | E30: Agen | G30: match
C31: =VLOOKUP($E31,INDIRECT($A31),COLUMN('resulta '!D11),FALSE) -> #REF! | D31: =VLOOKUP($E31,INDIRECT($A31),COLUMN('resulta '!C11),FALSE) -> #REF! | E31: Agen | G31: par match
C32: =VLOOKUP($E32,INDIRECT($A32),COLUMN('resulta '!D12),FALSE) -> #REF! | D32: =VLOOKUP($E32,INDIRECT($A32),COLUMN('resulta '!C12),FALSE) -> #REF! | E32: Agen
C33: =VLOOKUP($E33,INDIRECT($A33),COLUMN('resulta '!D13),FALSE) -> #REF! | D33: =VLOOKUP($E33,INDIRECT($A33),COLUMN('resulta '!C13),FALSE) -> #REF! | E33: Agen
C34: =VLOOKUP($E34,INDIRECT($A34),COLUMN('resulta '!D14),FALSE) -> #REF! | D34: =VLOOKUP($E34,INDIRECT($A34),COLUMN('resulta '!C14),FALSE) -> #REF! | E34: Agen
C35: =VLOOKUP($E35,INDIRECT($A35),COLUMN('resulta '!D15),FALSE) -> #REF! | D35: =VLOOKUP($E35,INDIRECT($A35),COLUMN('resulta '!C15),FALSE) -> #REF! | E35: Agen
A37: club | C37: nbr de match | D37: victoire D | E37: victoire E | F37: % | G37: defaite D | H37: defaite E | I37: % | J37: nul | K37: %
A38: AGEN | B38: BAYONNE | C38: 8 | D38: 2 | E38: 1 | F38: =(D38+E38)/C38 -> 0.375 | G38: 2 | H38: 3 | I38: =(G38+H38)/C38 -> 0.625 | K38: =100%-(F38+I38) -> 0 | L38: =SUM(F38+I38+K38) -> 1
A39: AGEN | B39: BORDEAUX | C39: 11 | D39: 3 | E39: 0 | F39: =(D39+E39)/C39 -> 0.27272727 | G39: 2 | H39: 6 | I39: =(G39+H39)/C39 -> 0.72727273 | K39: =100%-(F39+I39) -> 0 | L39: =SUM(F39+I39+K39) -> 1
A40: AGEN | B40: BRIVE | C40: 10 | D40: 5 | E40: 3 | F40: =(D40+E40)/C40 -> 0.8 | G40: 0 | H40: 2 | I40: =(G40+H40)/C40 -> 0.2 | K40: =100%-(F40+I40) -> 0 | L40: =SUM(F40+I40+K40) -> 1
A41: AGEN | B41: CASTRE | C41: 14 | D41: 3 | E41: 1 | F41: =(D41+E41)/C41 -> 0.28571429 | G41: 4 | H41: 6 | I41: =(G41+H41)/C41 -> 0.71428571 | K41: =100%-(F41+I41) -> 0 | L41: =SUM(F41+I41+K41) -> 1
...

Sheet Bayonne
A1: Bayonne | B1: saison 2019/2020 | G1: point marquer | H1: saison 2020/2021 | L1: match du jour
B2: nbre match | C2: nbre vitoire | D2: nbre nul | E2: nbre defaite | G2: match dom | H2: =SUM(C8:C20) -> #REF! | I2: =SUM(D8:D20) -> #REF! | J2: =H2-I2 -> #REF! | L2: domicile | M2: exertieur
A3: nbre match D | B3: 9 | C3: 5 | D3: 1 | E3: 3 | G3: par match | H3: =H2/B3 -> #REF! | I3: =I2/B3 -> #REF! | L3: Bayonne | M3: pau
A4: nbre match E | B4: 8 | C4: 2 | D4: 0 | E4: 6 | G4: match ext | H4: =SUM(D23:D35) -> #REF! | I4: =SUM(C23:C35) -> #REF! | J4: =H4-I4 -> #REF! | L4: {=INDEX($C$38:$L$50,MATCH(1,($A$38:$A$50=$A$1)*($B$38:$B$50=$M$3),0),4)} -> 0 | M4: {=INDEX($C$38:$L$50,MATCH(1,($A$38:$A$50=$L$3)*($B$38:$B$50=$M$3),0),7)} -> 0.66666667
A5: nbre match T | B5: =B3+B4 -> 17 | C5: =C3+C4 -> 7 | D5: =D3+D4 -> 1 | E5: =E3+E4 -> 9 | G5: par match | H5: =H4/B4 -> #REF! | I5: =I4/B4 -> #REF! | L5: =100/L4/100 -> #DIV/0! | M5: =100/M4/100 -> 1.5
G6: match | H6: =H2+H4 -> #REF! | I6: =I2+I4 -> #REF! | J6: =H6-I6 -> #REF!
A7: match dom | G7: par match | H7: =H6/B5 -> #REF! | I7: =I6/B5 -> #REF! | L7: Bayonne | M7: Agen
B8: Bayonne | C8: =VLOOKUP($B8,INDIRECT($A8),COLUMN('resulta '!C3),FALSE) -> #REF! | D8: =VLOOKUP($B8,INDIRECT($A8),COLUMN('resulta '!D3),FALSE) -> #REF! | L8: Bayonne | M8: Bordeaux
B9: Bayonne | C9: =VLOOKUP($B9,INDIRECT($A9),COLUMN('resulta '!C4),FALSE) -> #REF! | D9: =VLOOKUP($B9,INDIRECT($A9),COLUMN('resulta '!D4),FALSE) -> #REF! | G9: point marquer | H9: saison 2019/2020 | L9: Bayonne | M9: Brive
B10: Bayonne | C10: =VLOOKUP($B10,INDIRECT($A10),COLUMN('resulta '!C5),FALSE) -> #REF! | D10: =VLOOKUP($B10,INDIRECT($A10),COLUMN('resulta '!D5),FALSE) -> #REF! | G10: match dom | H10: 187 | I10: 162 | J10: 25 | L10: Bayonne | M10: Castres
B11: Bayonne | C11: =VLOOKUP($B11,INDIRECT($A11),COLUMN('resulta '!C6),FALSE) -> #REF! | D11: =VLOOKUP($B11,INDIRECT($A11),COLUMN('resulta '!D6),FALSE) -> #REF! | G11: par match | H11: 20.777778 | I11: 18 | L11: Bayonne | M11: Clermont
B12: Bayonne | C12: =VLOOKUP($B12,INDIRECT($A12),COLUMN('resulta '!C7),FALSE) -> #REF! | D12: =VLOOKUP($B12,INDIRECT($A12),COLUMN('resulta '!D7),FALSE) -> #REF! | G12: match ext | H12: 116 | I12: 230 | J12: -114 | L12: Bayonne | M12: La Rochelle
B13: Bayonne | C13: =VLOOKUP($B13,INDIRECT($A13),COLUMN('resulta '!C8),FALSE) -> #REF! | D13: =VLOOKUP($B13,INDIRECT($A13),COLUMN('resulta '!D8),FALSE) -> #REF! | G13: par match | H13: 14.5 | I13: 28.75 | L13: Bayonne | M13: Lyon
B14: Bayonne | C14: =VLOOKUP($B14,INDIRECT($A14),COLUMN('resulta '!C9),FALSE) -> #REF! | D14: =VLOOKUP($B14,INDIRECT($A14),COLUMN('resulta '!D9),FALSE) -> #REF! | G14: match | H14: 303 | I14: 392 | J14: -89 | L14: Bayonne | M14: Montpellier
B15: Bayonne | C15: =VLOOKUP($B15,INDIRECT($A15),COLUMN('resulta '!C10),FALSE) -> #REF! | D15: =VLOOKUP($B15,INDIRECT($A15),COLUMN('resulta '!D10),FALSE) -> #REF! | G15: par match | H15: 17.823529 | I15: 23.058824 | L15: Bayonne | M15: Paris
B16: Bayonne | C16: =VLOOKUP($B16,INDIRECT($A16),COLUMN('resulta '!C11),FALSE) -> #REF! | D16: =VLOOKUP($B16,INDIRECT($A16),COLUMN('resulta '!D11),FALSE) -> #REF! | L16: Bayonne | M16: Pau
B17: Bayonne | C17: =VLOOKUP($B17,INDIRECT($A17),COLUMN('resulta '!C12),FALSE) -> #REF! | D17: =VLOOKUP($B17,INDIRECT($A17),COLUMN('resulta '!D12),FALSE) -> #REF! | G17: point marquer | L17: Bayonne | M17: Racing 92
B18: Bayonne | C18: =VLOOKUP($B18,INDIRECT($A18),COLUMN('resulta '!C13),FALSE) -> #REF! | D18: =VLOOKUP($B18,INDIRECT($A18),COLUMN('resulta '!D13),FALSE) -> #REF! | G18: match dom | L18: Bayonne | M18: Toulon
B19: Bayonne | C19: =VLOOKUP($B19,INDIRECT($A19),COLUMN('resulta '!C14),FALSE) -> #REF! | D19: =VLOOKUP($B19,INDIRECT($A19),COLUMN('resulta '!D14),FALSE) -> #REF! | G19: par match | L19: Bayonne | M19: Toulouse
B20: Bayonne | C20: =VLOOKUP($B20,INDIRECT($A20),COLUMN('resulta '!C15),FALSE) -> #REF! | D20: =VLOOKUP($B20,INDIRECT($A20),COLUMN('resulta '!D15),FALSE) -> #REF! | G20: match ext
G21: par match
A22: match ext | G22: match
C23: =VLOOKUP($E23,INDIRECT($A23),COLUMN('resulta '!D3),FALSE) -> #REF! | D23: =VLOOKUP($E23,INDIRECT($A23),COLUMN('resulta '!C3),FALSE) -> #REF! | E23: Bayonne | G23: par match
C24: =VLOOKUP($E24,INDIRECT($A24),COLUMN('resulta '!D4),FALSE) -> #REF! | D24: =VLOOKUP($E24,INDIRECT($A24),COLUMN('resulta '!C4),FALSE) -> #REF! | E24: Bayonne
C25: =VLOOKUP($E25,INDIRECT($A25),COLUMN('resulta '!D5),FALSE) -> #REF! | D25: =VLOOKUP($E25,INDIRECT($A25),COLUMN('resulta '!C5),FALSE) -> #REF! | E25: Bayonne | G25: point marquer
C26: =VLOOKUP($E26,INDIRECT($A26),COLUMN('resulta '!D6),FALSE) -> #REF! | D26: =VLOOKUP($E26,INDIRECT($A26),COLUMN('resulta '!C6),FALSE) -> #REF! | E26: Bayonne | G26: match dom
C27: =VLOOKUP($E27,INDIRECT($A27),COLUMN('resulta '!D7),FALSE) -> #REF! | D27: =VLOOKUP($E27,INDIRECT($A27),COLUMN('resulta '!C7),FALSE) -> #REF! | E27: Bayonne | G27: par match
C28: =VLOOKUP($E28,INDIRECT($A28),COLUMN('resulta '!D8),FALSE) -> #REF! | D28: =VLOOKUP($E28,INDIRECT($A28),COLUMN('resulta '!C8),FALSE) -> #REF! | E28: Bayonne | G28: match ext
C29: =VLOOKUP($E29,INDIRECT($A29),COLUMN('resulta '!D9),FALSE) -> #REF! | D29: =VLOOKUP($E29,INDIRECT($A29),COLUMN('resulta '!C9),FALSE) -> #REF! | E29: Bayonne | G29: par match
C30: =VLOOKUP($E30,INDIRECT($A30),COLUMN('resulta '!D10),FALSE) -> #REF! | D30: =VLOOKUP($E30,INDIRECT($A30),COLUMN('resulta '!C10),FALSE) -> #REF! | E30: Bayonne | G30: match
C31: =VLOOKUP($E31,INDIRECT($A31),COLUMN('resulta '!D11),FALSE) -> #REF! | D31: =VLOOKUP($E31,INDIRECT($A31),COLUMN('resulta '!C11),FALSE) -> #REF! | E31: Bayonne | G31: par match
C32: =VLOOKUP($E32,INDIRECT($A32),COLUMN('resulta '!D12),FALSE) -> #REF! | D32: =VLOOKUP($E32,INDIRECT($A32),COLUMN('resulta '!C12),FALSE) -> #REF! | E32: Bayonne
C33: =VLOOKUP($E33,INDIRECT($A33),COLUMN('resulta '!D13),FALSE) -> #REF! | D33: =VLOOKUP($E33,INDIRECT($A33),COLUMN('resulta '!C13),FALSE) -> #REF! | E33: Bayonne
C34: =VLOOKUP($E34,INDIRECT($A34),COLUMN('resulta '!D14),FALSE) -> #REF! | D34: =VLOOKUP($E34,INDIRECT($A34),COLUMN('resulta '!C14),FALSE) -> #REF! | E34: Bayonne
C35: =VLOOKUP($E35,INDIRECT($A35),COLUMN('resulta '!D15),FALSE) -> #REF! | D35: =VLOOKUP($E35,INDIRECT($A35),COLUMN('resulta '!C15),FALSE) -> #REF! | E35: Bayonne
A37: club | C37: face a face | D37: nbr de match | E37: victoire D | F37: victoire E | G37: % | H37: defaite D | I37: defaite E | J37: % | K37: nul | L37: %
A38: BAYONNE | B38: AGEN | C38: 8 | D38: 3 | E38: 2 | F38: =(D38+E38)/C38 -> 0.625 | G38: 0 | H38: 3 | I38: =(G38+H38)/C38 -> 0.375 | K38: =100%-(F38+I38) -> 0 | L38: =SUM(F38+I38+K38) -> 1
A39: BAYONNE | B39: BORDEAUX | C39: 11 | D39: 3 | E39: 0 | F39: =(D39+E39)/C39 -> 0.27272727 | G39: 2 | H39: 6 | I39: =(G39+H39)/C39 -> 0.72727273 | K39: =100%-(F39+I39) -> 0 | L39: =SUM(F39+I39+K39) -> 1
A40: BAYONNE | B40: BRIVE | C40: 15 | D40: 7 | E40: 1 | F40: =(D40+E40)/C40 -> 0.53333333 | G40: 0 | H40: 6 | I40: =(G40+H40)/C40 -> 0.4 | J40: 1 | K40: =100%-(F40+I40) -> 0.066666667 | L40: =SUM(F40+I40+K40) -> 1
A41: BAYONNE | B41: CASTRE | C41: 17 | D41: 5 | E41: 1 | F41: =(D41+E41)/C41 -> 0.35294118 | G41: 1 | H41: 7 | I41: =(G41+H41)/C41 -> 0.47058824 | J41: 3 | K41: =100%-(F41+I41) -> 0.17647059 | L41: =SUM(F41+I41+K41) -> 1
...

Sheet Bordeaux
A1: Bordeaux | B1: saison 2019/2020 | G1: point marquer | H1: saison 2020/2021 | L1: match du jour
B2: nbre match | C2: nbre vitoire | D2: nbre nul | E2: nbre defaite | G2: match dom | H2: =SUM(C8:C20) -> #REF! | I2: =SUM(D8:D20) -> #REF! | J2: =H2-I2 -> #REF! | L2: domicile | M2: exertieur
A3: nbre match D | B3: 9 | C3: 9 | D3: 0 | E3: 0 | G3: par match | H3: =H2/B3 -> #REF! | I3: =I2/B3 -> #REF! | L3: Bordeaux | M3: pau
A4: nbre match E | B4: 8 | C4: 4 | D4: 1 | E4: 3 | G4: match ext | H4: =SUM(D23:D35) -> #REF! | I4: =SUM(C23:C35) -> #REF! | J4: =H4-I4 -> #REF! | L4: {=INDEX($C$38:$L$50,MATCH(1,($A$38:$A$50=$A$1)*($B$38:$B$50=$M$3),0),4)} -> 0.66666667 | M4: {=INDEX($C$38:$L$50,MATCH(1,($A$38:$A$50=$L$3)*($B$38:$B$50=$M$3),0),7)} -> 0.33333333
A5: nbre match T | B5: =B3+B4 -> 17 | C5: =C3+C4 -> 13 | D5: =D3+D4 -> 1 | E5: =E3+E4 -> 3 | G5: par match | H5: =H4/B4 -> #REF! | I5: =I4/B4 -> #REF! | L5: =100/L4/100 -> 1.5 | M5: =100/M4/100 -> 3
G6: match | H6: =H2+H4 -> #REF! | I6: =I2+I4 -> #REF! | J6: =H6-I6 -> #REF!
A7: match dom | G7: par match | H7: =H6/B5 -> #REF! | I7: =I6/B5 -> #REF! | L7: Bordeaux | M7: Agen
B8: Bordeaux | C8: =VLOOKUP($B8,INDIRECT($A8),COLUMN('resulta '!C3),FALSE) -> #REF! | D8: =VLOOKUP($B8,INDIRECT($A8),COLUMN('resulta '!D3),FALSE) -> #REF! | L8: Bordeaux | M8: Bayonne
B9: Bordeaux | C9: =VLOOKUP($B9,INDIRECT($A9),COLUMN('resulta '!C4),FALSE) -> #REF! | D9: =VLOOKUP($B9,INDIRECT($A9),COLUMN('resulta '!D4),FALSE) -> #REF! | G9: point marquer | H9: saison 2019/2020 | L9: Bordeaux | M9: Brive
B10: Bordeaux | C10: =VLOOKUP($B10,INDIRECT($A10),COLUMN('resulta '!C5),FALSE) -> #REF! | D10: =VLOOKUP($B10,INDIRECT($A10),COLUMN('resulta '!D5),FALSE) -> #REF! | G10: match dom | H10: 256 | I10: 91 | J10: 165 | L10: Bordeaux | M10: Castres
B11: Bordeaux | C11: =VLOOKUP($B11,INDIRECT($A11),COLUMN('resulta '!C6),FALSE) -> #REF! | D11: =VLOOKUP($B11,INDIRECT($A11),COLUMN('resulta '!D6),FALSE) -> #REF! | G11: par match | H11: 28.444444 | I11: 10.111111 | L11: Bordeaux | M11: Clermont
B12: Bordeaux | C12: =VLOOKUP($B12,INDIRECT($A12),COLUMN('resulta '!C7),FALSE) -> #REF! | D12: =VLOOKUP($B12,INDIRECT($A12),COLUMN('resulta '!D7),FALSE) -> #REF! | G12: match ext | H12: 189 | I12: 201 | J12: -12 | L12: Bordeaux | M12: La Rochelle
B13: Bordeaux | C13: =VLOOKUP($B13,INDIRECT($A13),COLUMN('resulta '!C8),FALSE) -> #REF! | D13: =VLOOKUP($B13,INDIRECT($A13),COLUMN('resulta '!D8),FALSE) -> #REF! | G13: par match | H13: 23.625 | I13: 25.125 | L13: Bordeaux | M13: Lyon
B14: Bordeaux | C14: =VLOOKUP($B14,INDIRECT($A14),COLUMN('resulta '!C9),FALSE) -> #REF! | D14: =VLOOKUP($B14,INDIRECT($A14),COLUMN('resulta '!D9),FALSE) -> #REF! | G14: match | H14: 445 | I14: 292 | J14: 153 | L14: Bordeaux | M14: Montpellier
B15: Bordeaux | C15: =VLOOKUP($B15,INDIRECT($A15),COLUMN('resulta '!C10),FALSE) -> #REF! | D15: =VLOOKUP($B15,INDIRECT($A15),COLUMN('resulta '!D10),FALSE) -> #REF! | G15: par match | H15: 26.176471 | I15: 17.176471 | L15: Bordeaux | M15: Paris
B16: Bordeaux | C16: =VLOOKUP($B16,INDIRECT($A16),COLUMN('resulta '!C11),FALSE) -> #REF! | D16: =VLOOKUP($B16,INDIRECT($A16),COLUMN('resulta '!D11),FALSE) -> #REF! | L16: Bordeaux | M16: Pau
B17: Bordeaux | C17: =VLOOKUP($B17,INDIRECT($A17),COLUMN('resulta '!C12),FALSE) -> #REF! | D17: =VLOOKUP($B17,INDIRECT($A17),COLUMN('resulta '!D12),FALSE) -> #REF! | G17: point marquer | L17: Bordeaux | M17: Racing 92
B18: Bordeaux | C18: =VLOOKUP($B18,INDIRECT($A18),COLUMN('resulta '!C13),FALSE) -> #REF! | D18: =VLOOKUP($B18,INDIRECT($A18),COLUMN('resulta '!D13),FALSE) -> #REF! | G18: match dom | L18: Bordeaux | M18: Toulon
B19: Bordeaux | C19: =VLOOKUP($B19,INDIRECT($A19),COLUMN('resulta '!C14),FALSE) -> #REF! | D19: =VLOOKUP($B19,INDIRECT($A19),COLUMN('resulta '!D14),FALSE) -> #REF! | G19: par match | L19: Bordeaux | M19: Toulouse
B20: Bordeaux | C20: =VLOOKUP($B20,INDIRECT($A20),COLUMN('resulta '!C15),FALSE) -> #REF! | D20: =VLOOKUP($B20,INDIRECT($A20),COLUMN('resulta '!D15),FALSE) -> #REF! | G20: match ext
G21: par match
A22: match ext | G22: match
C23: =VLOOKUP($E23,INDIRECT($A23),COLUMN('resulta '!D3),FALSE) -> #REF! | D23: =VLOOKUP($E23,INDIRECT($A23),COLUMN('resulta '!C3),FALSE) -> #REF! | E23: Bordeaux | G23: par match
C24: =VLOOKUP($E24,INDIRECT($A24),COLUMN('resulta '!D4),FALSE) -> #REF! | D24: =VLOOKUP($E24,INDIRECT($A24),COLUMN('resulta '!C4),FALSE) -> #REF! | E24: Bordeaux
C25: =VLOOKUP($E25,INDIRECT($A25),COLUMN('resulta '!D5),FALSE) -> #REF! | D25: =VLOOKUP($E25,INDIRECT($A25),COLUMN('resulta '!C5),FALSE) -> #REF! | E25: Bordeaux | G25: point marquer
C26: =VLOOKUP($E26,INDIRECT($A26),COLUMN('resulta '!D6),FALSE) -> #REF! | D26: =VLOOKUP($E26,INDIRECT($A26),COLUMN('resulta '!C6),FALSE) -> #REF! | E26: Bordeaux | G26: match dom
C27: =VLOOKUP($E27,INDIRECT($A27),COLUMN('resulta '!D7),FALSE) -> #REF! | D27: =VLOOKUP($E27,INDIRECT($A27),COLUMN('resulta '!C7),FALSE) -> #REF! | E27: Bordeaux | G27: par match
C28: =VLOOKUP($E28,INDIRECT($A28),COLUMN('resulta '!D8),FALSE) -> #REF! | D28: =VLOOKUP($E28,INDIRECT($A28),COLUMN('resulta '!C8),FALSE) -> #REF! | E28: Bordeaux | G28: match ext
C29: =VLOOKUP($E29,INDIRECT($A29),COLUMN('resulta '!D9),FALSE) -> #REF! | D29: =VLOOKUP($E29,INDIRECT($A29),COLUMN('resulta '!C9),FALSE) -> #REF! | E29: Bordeaux | G29: par match
C30: =VLOOKUP($E30,INDIRECT($A30),COLUMN('resulta '!D10),FALSE) -> #REF! | D30: =VLOOKUP($E30,INDIRECT($A30),COLUMN('resulta '!C10),FALSE) -> #REF! | E30: Bordeaux | G30: match
C31: =VLOOKUP($E31,INDIRECT($A31),COLUMN('resulta '!D11),FALSE) -> #REF! | D31: =VLOOKUP($E31,INDIRECT($A31),COLUMN('resulta '!C11),FALSE) -> #REF! | E31: Bordeaux | G31: par match
C32: =VLOOKUP($E32,INDIRECT($A32),COLUMN('resulta '!D12),FALSE) -> #REF! | D32: =VLOOKUP($E32,INDIRECT($A32),COLUMN('resulta '!C12),FALSE) -> #REF! | E32: Bordeaux
C33: =VLOOKUP($E33,INDIRECT($A33),COLUMN('resulta '!D13),FALSE) -> #REF! | D33: =VLOOKUP($E33,INDIRECT($A33),COLUMN('resulta '!C13),FALSE) -> #REF! | E33: Bordeaux
C34: =VLOOKUP($E34,INDIRECT($A34),COLUMN('resulta '!D14),FALSE) -> #REF! | D34: =VLOOKUP($E34,INDIRECT($A34),COLUMN('resulta '!C14),FALSE) -> #REF! | E34: Bordeaux
C35: =VLOOKUP($E35,INDIRECT($A35),COLUMN('resulta '!D15),FALSE) -> #REF! | D35: =VLOOKUP($E35,INDIRECT($A35),COLUMN('resulta '!C15),FALSE) -> #REF! | E35: Bordeaux
A37: club | C37: face a face | D37: nbr de match | E37: victoire D | F37: victoire E | G37: % | H37: defaite D | I37: defaite E | J37: % | K37: nul | L37: %
A38: BORDEAUX | B38: AGEN | C38: 11 | D38: 6 | E38: 2 | F38: =(D38+E38)/C38 -> 0.72727273 | G38: 0 | H38: 3 | I38: =(G38+H38)/C38 -> 0.27272727 | K38: =100%-(F38+I38) -> 0 | L38: =SUM(F38+I38+K38) -> 1
A39: BORDEAUX | B39: BAYONNE | C39: 11 | D39: 6 | E39: 2 | F39: =(D39+E39)/C39 -> 0.72727273 | G39: 0 | H39: 3 | I39: =(G39+H39)/C39 -> 0.27272727 | K39: =100%-(F39+I39) -> 0 | L39: =SUM(F39+I39+K39) -> 1
A40: BORDEAUX | B40: BRIVE | C40: 13 | D40: 5 | E40: 2 | F40: =(D40+E40)/C40 -> 0.53846154 | G40: 0 | H40: 5 | I40: =(G40+H40)/C40 -> 0.38461538 | J40: 1 | K40: =100%-(F40+I40) -> 0.076923077 | L40: =SUM(F40+I40+K40) -> 1
A41: BORDEAUX | B41: CASTRES | C41: 18 | D41: 5 | E41: 2 | F41: =(D41+E41)/C41 -> 0.38888889 | G41: 4 | H41: 6 | I41: =(G41+H41)/C41 -> 0.55555556 | J41: 1 | K41: =100%-(F41+I41) -> 0.055555556 | L41: =SUM(F41+I41+K41) -> 1
...

Sheet Brive
A1: Brive | B1: saison 2019/2020 | G1: point marquer | H1: saison 2020/2021 | L1: match du jour
B2: nbre match | C2: nbre vitoire | D2: nbre nul | E2: nbre defaite | G2: match dom | H2: =SUM(C8:C20) -> #REF! | I2: =SUM(D8:D20) -> #REF! | J2: =H2-I2 -> #REF! | L2: domicile | M2: exertieur
A3: nbre match D | B3: 9 | C3: 7 | D3: 0 | E3: 2 | G3: par match | H3: =H2/B3 -> #REF! | I3: =I2/B3 -> #REF! | L3: Brive | M3: bordeaux
A4: nbre match E | B4: 8 | C4: 0 | D4: 1 | E4: 7 | G4: match ext | H4: =SUM(D23:D35) -> #REF! | I4: =SUM(C23:C35) -> #REF! | J4: =H4-I4 -> #REF! | L4: {=INDEX($C$38:$L$50,MATCH(1,($A$38:$A$50=$A$1)*($B$38:$B$50=$M$3),0),4)} -> 0.38461538 | M4: {=INDEX($C$38:$L$50,MATCH(1,($A$38:$A$50=$L$3)*($B$38:$B$50=$M$3),0),7)} -> 0.53846154
A5: nbre match T | B5: =B3+B4 -> 17 | C5: =C3+C4 -> 7 | D5: =D3+D4 -> 1 | E5: =E3+E4 -> 9 | G5: par match | H5: =H4/B4 -> #REF! | I5: =I4/B4 -> #REF! | L5: =100/L4/100 -> 2.6 | M5: =100/M4/100 -> 1.8571429
G6: match | H6: =H2+H4 -> #REF! | I6: =I2+I4 -> #REF! | J6: =H6-I6 -> #REF!
A7: match dom | G7: par match | H7: =H6/B5 -> #REF! | I7: =I6/B5 -> #REF! | L7: Brive | M7: Agen
B8: Brive | C8: =VLOOKUP($B8,INDIRECT($A8),COLUMN('resulta '!C3),FALSE) -> #REF! | D8: =VLOOKUP($B8,INDIRECT($A8),COLUMN('resulta '!D3),FALSE) -> #REF! | L8: Brive | M8: Bayonne
B9: Brive | C9: =VLOOKUP($B9,INDIRECT($A9),COLUMN('resulta '!C4),FALSE) -> #REF! | D9: =VLOOKUP($B9,INDIRECT($A9),COLUMN('resulta '!D4),FALSE) -> #REF! | G9: point marquer | H9: saison 2019/2020 | L9: Brive | M9: bordeaux
B10: Brive | C10: =VLOOKUP($B10,INDIRECT($A10),COLUMN('resulta '!C5),FALSE) -> #REF! | D10: =VLOOKUP($B10,INDIRECT($A10),COLUMN('resulta '!D5),FALSE) -> #REF! | G10: match dom | H10: 245 | I10: 193 | J10: 52 | L10: Brive | M10: Castres
B11: Brive | C11: =VLOOKUP($B11,INDIRECT($A11),COLUMN('resulta '!C6),FALSE) -> #REF! | D11: =VLOOKUP($B11,INDIRECT($A11),COLUMN('resulta '!D6),FALSE) -> #REF! | G11: par match | H11: 27.222222 | I11: 21.444444 | L11: Brive | M11: Clermont
B12: Brive | C12: =VLOOKUP($B12,INDIRECT($A12),COLUMN('resulta '!C7),FALSE) -> #REF! | D12: =VLOOKUP($B12,INDIRECT($A12),COLUMN('resulta '!D7),FALSE) -> #REF! | G12: match ext | H12: 105 | I12: 213 | J12: -108 | L12: Brive | M12: La Rochelle
B13: Brive | C13: =VLOOKUP($B13,INDIRECT($A13),COLUMN('resulta '!C8),FALSE) -> #REF! | D13: =VLOOKUP($B13,INDIRECT($A13),COLUMN('resulta '!D8),FALSE) -> #REF! | G13: par match | H13: 13.125 | I13: 26.625 | L13: Brive | M13: Lyon
B14: Brive | C14: =VLOOKUP($B14,INDIRECT($A14),COLUMN('resulta '!C9),FALSE) -> #REF! | D14: =VLOOKUP($B14,INDIRECT($A14),COLUMN('resulta '!D9),FALSE) -> #REF! | G14: match | H14: 350 | I14: 406 | J14: -56 | L14: Brive | M14: Montpellier
B15: Brive | C15: =VLOOKUP($B15,INDIRECT($A15),COLUMN('resulta '!C10),FALSE) -> #REF! | D15: =VLOOKUP($B15,INDIRECT($A15),COLUMN('resulta '!D10),FALSE) -> #REF! | G15: par match | H15: 20.588235 | I15: 23.882353 | L15: Brive | M15: Paris
B16: Brive | C16: =VLOOKUP($B16,INDIRECT($A16),COLUMN('resulta '!C11),FALSE) -> #REF! | D16: =VLOOKUP($B16,INDIRECT($A16),COLUMN('resulta '!D11),FALSE) -> #REF! | L16: Brive | M16: Pau
B17: Brive | C17: =VLOOKUP($B17,INDIRECT($A17),COLUMN('resulta '!C12),FALSE) -> #REF! | D17: =VLOOKUP($B17,INDIRECT($A17),COLUMN('resulta '!D12),FALSE) -> #REF! | G17: point marquer | L17: Brive | M17: Racing 92
B18: Brive | C18: =VLOOKUP($B18,INDIRECT($A18),COLUMN('resulta '!C13),FALSE) -> #REF! | D18: =VLOOKUP($B18,INDIRECT($A18),COLUMN('resulta '!D13),FALSE) -> #REF! | G18: match dom | L18: Brive | M18: Toulon
B19: Brive | C19: =VLOOKUP($B19,INDIRECT($A19),COLUMN('resulta '!C14),FALSE) -> #REF! | D19: =VLOOKUP($B19,INDIRECT($A19),COLUMN('resulta '!D14),FALSE) -> #REF! | G19: par match | L19: Brive | M19: Toulouse
B20: Brive | C20: =VLOOKUP($B20,INDIRECT($A20),COLUMN('resulta '!C15),FALSE) -> #REF! | D20: =VLOOKUP($B20,INDIRECT($A20),COLUMN('resulta '!D15),FALSE) -> #REF! | G20: match ext
G21: par match
A22: match ext | G22: match
C23: =VLOOKUP($E23,INDIRECT($A23),COLUMN('resulta '!D3),FALSE) -> #REF! | D23: =VLOOKUP($E23,INDIRECT($A23),COLUMN('resulta '!C3),FALSE) -> #REF! | E23: Brive | G23: par match
C24: =VLOOKUP($E24,INDIRECT($A24),COLUMN('resulta '!D4),FALSE) -> #REF! | D24: =VLOOKUP($E24,INDIRECT($A24),COLUMN('resulta '!C4),FALSE) -> #REF! | E24: Brive
C25: =VLOOKUP($E25,INDIRECT($A25),COLUMN('resulta '!D5),FALSE) -> #REF! | D25: =VLOOKUP($E25,INDIRECT($A25),COLUMN('resulta '!C5),FALSE) -> #REF! | E25: Brive | G25: point marquer
C26: =VLOOKUP($E26,INDIRECT($A26),COLUMN('resulta '!D6),FALSE) -> #REF! | D26: =VLOOKUP($E26,INDIRECT($A26),COLUMN('resulta '!C6),FALSE) -> #REF! | E26: Brive | G26: match dom
C27: =VLOOKUP($E27,INDIRECT($A27),COLUMN('resulta '!D7),FALSE) -> #REF! | D27: =VLOOKUP($E27,INDIRECT($A27),COLUMN('resulta '!C7),FALSE) -> #REF! | E27: Brive | G27: par match
C28: =VLOOKUP($E28,INDIRECT($A28),COLUMN('resulta '!D8),FALSE) -> #REF! | D28: =VLOOKUP($E28,INDIRECT($A28),COLUMN('resulta '!C8),FALSE) -> #REF! | E28: Brive | G28: match ext
C29: =VLOOKUP($E29,INDIRECT($A29),COLUMN('resulta '!D9),FALSE) -> #REF! | D29: =VLOOKUP($E29,INDIRECT($A29),COLUMN('resulta '!C9),FALSE) -> #REF! | E29: Brive | G29: par match
C30: =VLOOKUP($E30,INDIRECT($A30),COLUMN('resulta '!D10),FALSE) -> #REF! | D30: =VLOOKUP($E30,INDIRECT($A30),COLUMN('resulta '!C10),FALSE) -> #REF! | E30: Brive | G30: match
C31: =VLOOKUP($E31,INDIRECT($A31),COLUMN('resulta '!D11),FALSE) -> #REF! | D31: =VLOOKUP($E31,INDIRECT($A31),COLUMN('resulta '!C11),FALSE) -> #REF! | E31: Brive | G31: par match
C32: =VLOOKUP($E32,INDIRECT($A32),COLUMN('resulta '!D12),FALSE) -> #REF! | D32: =VLOOKUP($E32,INDIRECT($A32),COLUMN('resulta '!C12),FALSE) -> #REF! | E32: Brive
C33: =VLOOKUP($E33,INDIRECT($A33),COLUMN('resulta '!D13),FALSE) -> #REF! | D33: =VLOOKUP($E33,INDIRECT($A33),COLUMN('resulta '!C13),FALSE) -> #REF! | E33: Brive
C34: =VLOOKUP($E34,INDIRECT($A34),COLUMN('resulta '!D14),FALSE) -> #REF! | D34: =VLOOKUP($E34,INDIRECT($A34),COLUMN('resulta '!C14),FALSE) -> #REF! | E34: Brive
C35: =VLOOKUP($E35,INDIRECT($A35),COLUMN('resulta '!D15),FALSE) -> #REF! | D35: =VLOOKUP($E35,INDIRECT($A35),COLUMN('resulta '!C15),FALSE) -> #REF! | E35: Brive
A37: club | C37: face a face | D37: nbr de match | E37: victoire D | F37: victoire E | G37: % | H37: defaite D | I37: defaite E | J37: % | K37: nul | L37: %
A38: BRIVE | B38: AGEN | C38: 10 | D38: 2 | E38: 0 | F38: =(D38+E38)/C38 -> 0.2 | G38: 3 | H38: 5 | I38: =(G38+H38)/C38 -> 0.8 | K38: =100%-(F38+I38) -> 0 | L38: =SUM(F38+I38+K38) -> 1
A39: BRIVE | B39: BAYONNE | C39: 15 | D39: 6 | E39: 0 | F39: =(D39+E39)/C39 -> 0.4 | G39: 1 | H39: 7 | I39: =(G39+H39)/C39 -> 0.53333333 | J39: 1 | K39: =100%-(F39+I39) -> 0.066666667 | L39: =SUM(F39+I39+K39) -> 1
A40: BRIVE | B40: BORDEAUX | C40: 13 | D40: 5 | E40: 0 | F40: =(D40+E40)/C40 -> 0.38461538 | G40: 2 | H40: 5 | I40: =(G40+H40)/C40 -> 0.53846154 | J40: 1 | K40: =100%-(F40+I40) -> 0.076923077 | L40: =SUM(F40+I40+K40) -> 1
A41: BRIVE | B41: CASTRES | C41: 19 | D41: 6 | E41: 0 | F41: =(D41+E41)/C41 -> 0.31578947 | G41: 2 | H41: 9 | I41: =(G41+H41)/C41 -> 0.57894737 | J41: 2 | K41: =100%-(F41+I41) -> 0.10526316 | L41: =SUM(F41+I41+K41) -> 1
...

Sheet Castres
A1: Castres | B1: saison 2019/2020 | G1: point marquer | H1: saison 2020/2021 | L1: match du jour
B2: nbre match | C2: nbre vitoire | D2: nbre nul | E2: nbre defaite | G2: match dom | H2: =SUM(C8:C20) -> #REF! | I2: =SUM(D8:D20) -> #REF! | J2: =H2-I2 -> #REF! | L2: domicile | M2: exertieur
A3: nbre match D | B3: 8 | C3: 6 | D3: 0 | E3: 2 | G3: par match | H3: =H2/B3 -> #REF! | I3: =I2/B3 -> #REF! | L3: Castres | M3: brive
A4: nbre match E | B4: 9 | C4: 1 | D4: 0 | E4: 8 | G4: match ext | H4: =SUM(D23:D35) -> #REF! | I4: =SUM(C23:C35) -> #REF! | J4: =H4-I4 -> #REF! | L4: {=INDEX($C$39:$L$50,MATCH(1,($A$39:$A$50=$A$1)*($B$39:$B$50=$M$3),0),4)} -> 0.57894737 | M4: {=INDEX($C$39:$L$50,MATCH(1,($A$39:$A$50=$L$3)*($B$39:$B$50=$M$3),0),7)} -> 0.31578947
A5: nbre match T | B5: =B3+B4 -> 17 | C5: =C3+C4 -> 7 | D5: =D3+D4 -> 0 | E5: =E3+E4 -> 10 | G5: par match | H5: =H4/B4 -> #REF! | I5: =I4/B4 -> #REF! | L5: =100/L4/100 -> 1.7272727 | M5: =100/M4/100 -> 3.1666667
G6: match | H6: =H2+H4 -> #REF! | I6: =I2+I4 -> #REF! | J6: =H6-I6 -> #REF!
A7: match dom | G7: par match | H7: =H6/B5 -> #REF! | I7: =I6/B5 -> #REF! | L7: Castres | M7: Agen
B8: Castres | C8: =VLOOKUP($B8,INDIRECT($A8),COLUMN('resulta '!C3),FALSE) -> #REF! | D8: =VLOOKUP($B8,INDIRECT($A8),COLUMN('resulta '!D3),FALSE) -> #REF! | L8: Castres | M8: Bayonne
B9: Castres | C9: =VLOOKUP($B9,INDIRECT($A9),COLUMN('resulta '!C4),FALSE) -> #REF! | D9: =VLOOKUP($B9,INDIRECT($A9),COLUMN('resulta '!D4),FALSE) -> #REF! | G9: point marquer | H9: saison 2019/2020 | L9: Castres | M9: bordeaux
B10: Castres | C10: =VLOOKUP($B10,INDIRECT($A10),COLUMN('resulta '!C5),FALSE) -> #REF! | D10: =VLOOKUP($B10,INDIRECT($A10),COLUMN('resulta '!D5),FALSE) -> #REF! | G10: match dom | H10: 191 | I10: 158 | J10: 33 | L10: Castres | M10: brive
B11: Castres | C11: =VLOOKUP($B11,INDIRECT($A11),COLUMN('resulta '!C6),FALSE) -> #REF! | D11: =VLOOKUP($B11,INDIRECT($A11),COLUMN('resulta '!D6),FALSE) -> #REF! | G11: par match | H11: 23.875 | I11: 19.75 | L11: Castres | M11: Clermont
B12: Castres | C12: =VLOOKUP($B12,INDIRECT($A12),COLUMN('resulta '!C7),FALSE) -> #REF! | D12: =VLOOKUP($B12,INDIRECT($A12),COLUMN('resulta '!D7),FALSE) -> #REF! | G12: match ext | H12: 175 | I12: 267 | J12: -92 | L12: Castres | M12: La Rochelle
B13: Castres | C13: =VLOOKUP($B13,INDIRECT($A13),COLUMN('resulta '!C8),FALSE) -> #REF! | D13: =VLOOKUP($B13,INDIRECT($A13),COLUMN('resulta '!D8),FALSE) -> #REF! | G13: par match | H13: 19.444444 | I13: 29.666667 | L13: Castres | M13: Lyon
B14: Castres | C14: =VLOOKUP($B14,INDIRECT($A14),COLUMN('resulta '!C9),FALSE) -> #REF! | D14: =VLOOKUP($B14,INDIRECT($A14),COLUMN('resulta '!D9),FALSE) -> #REF! | G14: match | H14: 366 | I14: 425 | J14: -59 | L14: Castres | M14: Montpellier
B15: Castres | C15: =VLOOKUP($B15,INDIRECT($A15),COLUMN('resulta '!C10),FALSE) -> #REF! | D15: =VLOOKUP($B15,INDIRECT($A15),COLUMN('resulta '!D10),FALSE) -> #REF! | G15: par match | H15: 21.529412 | I15: 25 | L15: Castres | M15: Paris
B16: Castres | C16: =VLOOKUP($B16,INDIRECT($A16),COLUMN('resulta '!C11),FALSE) -> #REF! | D16: =VLOOKUP($B16,INDIRECT($A16),COLUMN('resulta '!D11),FALSE) -> #REF! | L16: Castres | M16: Pau
B17: Castres | C17: =VLOOKUP($B17,INDIRECT($A17),COLUMN('resulta '!C12),FALSE) -> #REF! | D17: =VLOOKUP($B17,INDIRECT($A17),COLUMN('resulta '!D12),FALSE) -> #REF! | G17: point marquer | L17: Castres | M17: Racing 92
B18: Castres | C18: =VLOOKUP($B18,INDIRECT($A18),COLUMN('resulta '!C13),FALSE) -> #REF! | D18: =VLOOKUP($B18,INDIRECT($A18),COLUMN('resulta '!D13),FALSE) -> #REF! | G18: match dom | L18: Castres | M18: Toulon
B19: Castres | C19: =VLOOKUP($B19,INDIRECT($A19),COLUMN('resulta '!C14),FALSE) -> #REF! | D19: =VLOOKUP($B19,INDIRECT($A19),COLUMN('resulta '!D14),FALSE) -> #REF! | G19: par match | L19: Castres | M19: Toulouse
B20: Castres | C20: =VLOOKUP($B20,INDIRECT($A20),COLUMN('resulta '!C15),FALSE) -> #REF! | D20: =VLOOKUP($B20,INDIRECT($A20),COLUMN('resulta '!D15),FALSE) -> #REF! | G20: match ext
G21: par match
A22: match ext | G22: match
C23: =VLOOKUP($E23,INDIRECT($A23),COLUMN('resulta '!D3),FALSE) -> #REF! | D23: =VLOOKUP($E23,INDIRECT($A23),COLUMN('resulta '!C3),FALSE) -> #REF! | E23: Castres | G23: par match
C24: =VLOOKUP($E24,INDIRECT($A24),COLUMN('resulta '!D4),FALSE) -> #REF! | D24: =VLOOKUP($E24,INDIRECT($A24),COLUMN('resulta '!C4),FALSE) -> #REF! | E24: Castres
C25: =VLOOKUP($E25,INDIRECT($A25),COLUMN('resulta '!D5),FALSE) -> #REF! | D25: =VLOOKUP($E25,INDIRECT($A25),COLUMN('resulta '!C5),FALSE) -> #REF! | E25: Castres | G25: point marquer
C26: =VLOOKUP($E26,INDIRECT($A26),COLUMN('resulta '!D6),FALSE) -> #REF! | D26: =VLOOKUP($E26,INDIRECT($A26),COLUMN('resulta '!C6),FALSE) -> #REF! | E26: Castres | G26: match dom
C27: =VLOOKUP($E27,INDIRECT($A27),COLUMN('resulta '!D7),FALSE) -> #REF! | D27: =VLOOKUP($E27,INDIRECT($A27),COLUMN('resulta '!C7),FALSE) -> #REF! | E27: Castres | G27: par match
C28: =VLOOKUP($E28,INDIRECT($A28),COLUMN('resulta '!D8),FALSE) -> #REF! | D28: =VLOOKUP($E28,INDIRECT($A28),COLUMN('resulta '!C8),FALSE) -> #REF! | E28: Castres | G28: match ext
C29: =VLOOKUP($E29,INDIRECT($A29),COLUMN('resulta '!D9),FALSE) -> #REF! | D29: =VLOOKUP($E29,INDIRECT($A29),COLUMN('resulta '!C9),FALSE) -> #REF! | E29: Castres | G29: par match
C30: =VLOOKUP($E30,INDIRECT($A30),COLUMN('resulta '!D10),FALSE) -> #REF! | D30: =VLOOKUP($E30,INDIRECT($A30),COLUMN('resulta '!C10),FALSE) -> #REF! | E30: Castres | G30: match
C31: =VLOOKUP($E31,INDIRECT($A31),COLUMN('resulta '!D11),FALSE) -> #REF! | D31: =VLOOKUP($E31,INDIRECT($A31),COLUMN('resulta '!C11),FALSE) -> #REF! | E31: Castres | G31: par match
C32: =VLOOKUP($E32,INDIRECT($A32),COLUMN('resulta '!D12),FALSE) -> #REF! | D32: =VLOOKUP($E32,INDIRECT($A32),COLUMN('resulta '!C12),FALSE) -> #REF! | E32: Castres
C33: =VLOOKUP($E33,INDIRECT($A33),COLUMN('resulta '!D13),FALSE) -> #REF! | D33: =VLOOKUP($E33,INDIRECT($A33),COLUMN('resulta '!C13),FALSE) -> #REF! | E33: Castres
C34: =VLOOKUP($E34,INDIRECT($A34),COLUMN('resulta '!D14),FALSE) -> #REF! | D34: =VLOOKUP($E34,INDIRECT($A34),COLUMN('resulta '!C14),FALSE) -> #REF! | E34: Castres
C35: =VLOOKUP($E35,INDIRECT($A35),COLUMN('resulta '!D15),FALSE) -> #REF! | D35: =VLOOKUP($E35,INDIRECT($A35),COLUMN('resulta '!C15),FALSE) -> #REF! | E35: Castres
A37: ='Agen '!A37 -> club | C37: ='Agen '!C37 -> nbr de match | D37: ='Agen '!D37 -> victoire D | E37: ='Agen '!E37 -> victoire E | F37: ='Agen '!F37 -> % | G37: ='Agen '!G37 -> defaite D | H37: ='Agen '!H37 -> defaite E | I37: ='Agen '!I37 -> % | J37: ='Agen '!J37 -> nul | ... L37: ='Agen '!L37 -> 0
A38: CASTRES | B38: AGEN | C38: 14 | D38: 6 | E38: 4 | F38: =(D38+E38)/C38 -> 0.71428571 | G38: 1 | H38: 3 | I38: =(G38+H38)/C38 -> 0.28571429 | K38: =100%-(F38+I38) -> 0 | L38: =SUM(F38+I38+K38) -> 1
A39: CASTRES | B39: BAYONNE | C39: 17 | D39: 7 | E39: 1 | F39: =(D39+E39)/C39 -> 0.47058824 | G39: 1 | H39: 5 | I39: =(G39+H39)/C39 -> 0.35294118 | J39: 3 | K39: =100%-(F39+I39) -> 0.17647059 | L39: =SUM(F39+I39+K39) -> 1
A40: CASTRES | B40: BORDEAUX | C40: 18 | D40: 6 | E40: 4 | F40: =(D40+E40)/C40 -> 0.55555556 | G40: 2 | H40: 5 | I40: =(G40+H40)/C40 -> 0.38888889 | J40: 1 | K40: =100%-(F40+I40) -> 0.055555556 | L40: =SUM(F40+I40+K40) -> 1
A41: CASTRES | B41: BRIVE | C41: 19 | D41: 9 | E41: 2 | F41: =(D41+E41)/C41 -> 0.57894737 | G41: 0 | H41: 6 | I41: =(G41+H41)/C41 -> 0.31578947 | J41: 2 | K41: =100%-(F41+I41) -> 0.10526316 | L41: =SUM(F41+I41+K41) -> 1
...

Sheet Clermont
A1: Clermont | B1: saison 2019/2020 | G1: point marquer | H1: saison 2020/2021 | L1: match du jour
B2: nbre match | C2: nbre vitoire | D2: nbre nul | E2: nbre defaite | G2: match dom | H2: =SUM(C8:C20) -> #REF! | I2: =SUM(D8:D20) -> #REF! | J2: =H2-I2 -> #REF! | L2: domicile | M2: exertieur
A3: nbre match D | B3: 8 | C3: 6 | D3: 0 | E3: 2 | G3: par match | H3: =H2/B3 -> #REF! | I3: =I2/B3 -> #REF! | L3: Clermont | M3: Agen
A4: nbre match E | B4: 9 | C4: 4 | D4: 0 | E4: 5 | G4: match ext | H4: =SUM(D23:D35) -> #REF! | I4: =SUM(C23:C35) -> #REF! | J4: =H4-I4 -> #REF! | L4: {=INDEX($C$38:$L$50,MATCH(1,($A$38:$A$50=$A$1)*($B$38:$B$50=$M$3),0),4)} -> 0.85714286 | M4: {=INDEX($C$38:$L$50,MATCH(1,($A$38:$A$50=$L$3)*($B$38:$B$50=$M$3),0),7)} -> 0.14285714
A5: nbre match T | B5: =B3+B4 -> 17 | C5: =C3+C4 -> 10 | D5: =D3+D4 -> 0 | E5: =E3+E4 -> 7 | G5: par match | H5: =H4/B4 -> #REF! | I5: =I4/B4 -> #REF! | L5: =100/L4/100 -> 1.1666667 | M5: =100/M4/100 -> 7
G6: match | H6: =H2+H4 -> #REF! | I6: =I2+I4 -> #REF! | J6: =H6-I6 -> #REF!
A7: match dom | G7: par match | H7: =H6/B5 -> #REF! | I7: =I6/B5 -> #REF! | L7: Clermont | M7: Agen
B8: Clermont | C8: =VLOOKUP($B8,INDIRECT($A8),COLUMN('resulta '!C3),FALSE) -> #REF! | D8: =VLOOKUP($B8,INDIRECT($A8),COLUMN('resulta '!D3),FALSE) -> #REF! | L8: Clermont | M8: Bayonne
B9: Clermont | C9: =VLOOKUP($B9,INDIRECT($A9),COLUMN('resulta '!C4),FALSE) -> #REF! | D9: =VLOOKUP($B9,INDIRECT($A9),COLUMN('resulta '!D4),FALSE) -> #REF! | G9: point marquer | H9: saison 2019/2020 | L9: Clermont | M9: Bordeaux
B10: Clermont | C10: =VLOOKUP($B10,INDIRECT($A10),COLUMN('resulta '!C5),FALSE) -> #REF! | D10: =VLOOKUP($B10,INDIRECT($A10),COLUMN('resulta '!D5),FALSE) -> #REF! | G10: match dom | H10: 182 | I10: 150 | J10: 32 | L10: Clermont | M10: Brive
B11: Clermont | C11: =VLOOKUP($B11,INDIRECT($A11),COLUMN('resulta '!C6),FALSE) -> #REF! | D11: =VLOOKUP($B11,INDIRECT($A11),COLUMN('resulta '!D6),FALSE) -> #REF! | G11: par match | H11: 22.75 | I11: 18.75 | L11: Clermont | M11: Castres
B12: Clermont | C12: =VLOOKUP($B12,INDIRECT($A12),COLUMN('resulta '!C7),FALSE) -> #REF! | D12: =VLOOKUP($B12,INDIRECT($A12),COLUMN('resulta '!D7),FALSE) -> #REF! | G12: match ext | H12: 203 | I12: 255 | J12: -52 | L12: Clermont | M12: La Rochelle
B13: Clermont | C13: =VLOOKUP($B13,INDIRECT($A13),COLUMN('resulta '!C8),FALSE) -> #REF! | D13: =VLOOKUP($B13,INDIRECT($A13),COLUMN('resulta '!D8),FALSE) -> #REF! | G13: par match | H13: 22.555556 | I13: 28.333333 | L13: Clermont | M13: Lyon
B14: Clermont | C14: =VLOOKUP($B14,INDIRECT($A14),COLUMN('resulta '!C9),FALSE) -> #REF! | D14: =VLOOKUP($B14,INDIRECT($A14),COLUMN('resulta '!D9),FALSE) -> #REF! | G14: match | H14: 385 | I14: 405 | J14: -20 | L14: Clermont | M14: Montpellier
B15: Clermont | C15: =VLOOKUP($B15,INDIRECT($A15),COLUMN('resulta '!C10),FALSE) -> #REF! | D15: =VLOOKUP($B15,INDIRECT($A15),COLUMN('resulta '!D10),FALSE) -> #REF! | G15: par match | H15: 22.647059 | I15: 23.823529 | L15: Clermont | M15: Paris
B16: Clermont | C16: =VLOOKUP($B16,INDIRECT($A16),COLUMN('resulta '!C11),FALSE) -> #REF! | D16: =VLOOKUP($B16,INDIRECT($A16),COLUMN('resulta '!D11),FALSE) -> #REF! | L16: Clermont | M16: Pau
B17: Clermont | C17: =VLOOKUP($B17,INDIRECT($A17),COLUMN('resulta '!C12),FALSE) -> #REF! | D17: =VLOOKUP($B17,INDIRECT($A17),COLUMN('resulta '!D12),FALSE) -> #REF! | G17: point marquer | L17: Clermont | M17: Racing 92
B18: Clermont | C18: =VLOOKUP($B18,INDIRECT($A18),COLUMN('resulta '!C13),FALSE) -> #REF! | D18: =VLOOKUP($B18,INDIRECT($A18),COLUMN('resulta '!D13),FALSE) -> #REF! | G18: match dom | L18: Clermont | M18: Toulon
B19: Clermont | C19: =VLOOKUP($B19,INDIRECT($A19),COLUMN('resulta '!C14),FALSE) -> #REF! | D19: =VLOOKUP($B19,INDIRECT($A19),COLUMN('resulta '!D14),FALSE) -> #REF! | G19: par match | L19: Clermont | M19: Toulouse
B20: Clermont | C20: =VLOOKUP($B20,INDIRECT($A20),COLUMN('resulta '!C15),FALSE) -> #REF! | D20: =VLOOKUP($B20,INDIRECT($A20),COLUMN('resulta '!D15),FALSE) -> #REF! | G20: match ext
G21: par match
A22: match ext | G22: match
C23: =VLOOKUP($E23,INDIRECT($A23),COLUMN('resulta '!D3),FALSE) -> #REF! | D23: =VLOOKUP($E23,INDIRECT($A23),COLUMN('resulta '!C3),FALSE) -> #REF! | E23: Clermont | G23: par match
C24: =VLOOKUP($E24,INDIRECT($A24),COLUMN('resulta '!D4),FALSE) -> #REF! | D24: =VLOOKUP($E24,INDIRECT($A24),COLUMN('resulta '!C4),FALSE) -> #REF! | E24: Clermont
C25: =VLOOKUP($E25,INDIRECT($A25),COLUMN('resulta '!D5),FALSE) -> #REF! | D25: =VLOOKUP($E25,INDIRECT($A25),COLUMN('resulta '!C5),FALSE) -> #REF! | E25: Clermont | G25: point marquer
C26: =VLOOKUP($E26,INDIRECT($A26),COLUMN('resulta '!D6),FALSE) -> #REF! | D26: =VLOOKUP($E26,INDIRECT($A26),COLUMN('resulta '!C6),FALSE) -> #REF! | E26: Clermont | G26: match dom
C27: =VLOOKUP($E27,INDIRECT($A27),COLUMN('resulta '!D7),FALSE) -> #REF! | D27: =VLOOKUP($E27,INDIRECT($A27),COLUMN('resulta '!C7),FALSE) -> #REF! | E27: Clermont | G27: par match
C28: =VLOOKUP($E28,INDIRECT($A28),COLUMN('resulta '!D8),FALSE) -> #REF! | D28: =VLOOKUP($E28,INDIRECT($A28),COLUMN('resulta '!C8),FALSE) -> #REF! | E28: Clermont | G28: match ext
C29: =VLOOKUP($E29,INDIRECT($A29),COLUMN('resulta '!D9),FALSE) -> #REF! | D29: =VLOOKUP($E29,INDIRECT($A29),COLUMN('resulta '!C9),FALSE) -> #REF! | E29: Clermont | G29: par match
C30: =VLOOKUP($E30,INDIRECT($A30),COLUMN('resulta '!D10),FALSE) -> #REF! | D30: =VLOOKUP($E30,INDIRECT($A30),COLUMN('resulta '!C10),FALSE) -> #REF! | E30: Clermont | G30: match
C31: =VLOOKUP($E31,INDIRECT($A31),COLUMN('resulta '!D11),FALSE) -> #REF! | D31: =VLOOKUP($E31,INDIRECT($A31),COLUMN('resulta '!C11),FALSE) -> #REF! | E31: Clermont | G31: par match
C32: =VLOOKUP($E32,INDIRECT($A32),COLUMN('resulta '!D12),FALSE) -> #REF! | D32: =VLOOKUP($E32,INDIRECT($A32),COLUMN('resulta '!C12),FALSE) -> #REF! | E32: Clermont
C33: =VLOOKUP($E33,INDIRECT($A33),COLUMN('resulta '!D13),FALSE) -> #REF! | D33: =VLOOKUP($E33,INDIRECT($A33),COLUMN('resulta '!C13),FALSE) -> #REF! | E33: Clermont
C34: =VLOOKUP($E34,INDIRECT($A34),COLUMN('resulta '!D14),FALSE) -> #REF! | D34: =VLOOKUP($E34,INDIRECT($A34),COLUMN('resulta '!C14),FALSE) -> #REF! | E34: Clermont
C35: =VLOOKUP($E35,INDIRECT($A35),COLUMN('resulta '!D15),FALSE) -> #REF! | D35: =VLOOKUP($E35,INDIRECT($A35),COLUMN('resulta '!C15),FALSE) -> #REF! | E35: Clermont
A37: club | C37: face a face | D37: nbr de match | E37: victoire D | F37: victoire E | G37: % | H37: defaite D | I37: defaite E | J37: % | K37: nul | L37: %
A38: CLERMONT | B38: AGEN | C38: 14 | D38: 7 | E38: 5 | F38: =(D38+E38)/C38 -> 0.85714286 | G38: 0 | H38: 2 | I38: =(G38+H38)/C38 -> 0.14285714 | K38: =100%-(F38+I38) -> 0 | L38: =SUM(F38+I38+K38) -> 1
A39: CLERMONT | B39: BAYONNE | C39: 17 | D39: 8 | E39: 2 | F39: =(D39+E39)/C39 -> 0.58823529 | G39: 0 | H39: 6 | I39: =(G39+H39)/C39 -> 0.35294118 | J39: 1 | K39: =100%-(F39+I39) -> 0.058823529 | L39: =SUM(F39+I39+K39) -> 1
A40: CLERMONT | B40: BORDEAUX | C40: 18 | D40: 7 | E40: 3 | F40: =(D40+E40)/C40 -> 0.55555556 | G40: 1 | H40: 5 | I40: =(G40+H40)/C40 -> 0.33333333 | J40: 2 | K40: =100%-(F40+I40) -> 0.11111111 | L40: =SUM(F40+I40+K40) -> 1
A41: CLERMONT | B41: BRIVE | C41: 19 | D41: 8 | E41: 5 | F41: =(D41+E41)/C41 -> 0.68421053 | G41: 1 | H41: 4 | I41: =(G41+H41)/C41 -> 0.26315789 | K41: =100%-(F41+I41) -> 0.052631579 | L41: =SUM(F41+I41+K41) -> 1
...

Sheet La Rochelle
A1: La Rochelle | B1: saison 2019/2020 | G1: point marquer | H1: saison 2020/2021 | L1: match du jour
B2: nbre match | C2: nbre vitoire | D2: nbre nul | E2: nbre defaite | G2: match dom | H2: =SUM(C8:C19) -> #REF! | I2: =SUM(D8:D19) -> #REF! | J2: =H2-I2 -> #REF! | L2: domicile | M2: exertieur
A3: nbre match D | B3: 8 | C3: 8 | D3: 0 | E3: 0 | G3: par match | H3: =H2/B3 -> #REF! | I3: =I2/B3 -> #REF! | L3: La Rochelle | M3: lyon
A4: nbre match E | B4: 9 | C4: 1 | D4: 0 | E4: 8 | G4: match ext | H4: =SUM(D23:D35) -> #REF! | I4: =SUM(C23:C35) -> #REF! | J4: =H4-I4 -> #REF! | L4: {=INDEX($C$38:$L$50,MATCH(1,($A$38:$A$50=$A$1)*($B$38:$B$50=$M$3),0),4)} -> 0.46153846 | M4: {=INDEX($C$38:$L$50,MATCH(1,($A$38:$A$50=$L$3)*($B$38:$B$50=$M$3),0),7)} -> 0.46153846
A5: nbre match T | B5: =B3+B4 -> 17 | C5: =C3+C4 -> 9 | D5: =D3+D4 -> 0 | E5: =E3+E4 -> 8 | G5: par match | H5: =H4/B4 -> #REF! | I5: =I4/B4 -> #REF! | L5: =100/L4/100 -> 2.1666667 | M5: =100/M4/100 -> 2.1666667
G6: match | H6: =H2+H4 -> #REF! | I6: =I2+I4 -> #REF! | J6: =H6-I6 -> #REF!
A7: match dom | G7: par match | H7: =H6/B5 -> #REF! | I7: =I6/B5 -> #REF! | L7: La Rochelle | M7: Agen
B8: La rochelle | C8: =VLOOKUP($B8,INDIRECT($A8),COLUMN('resulta '!C3),FALSE) -> #REF! | D8: =VLOOKUP($B8,INDIRECT($A8),COLUMN('resulta '!D3),FALSE) -> #REF! | L8: La Rochelle | M8: Bordeaux
B9: La rochelle | C9: =VLOOKUP($B9,INDIRECT($A9),COLUMN('resulta '!C4),FALSE) -> #REF! | D9: =VLOOKUP($B9,INDIRECT($A9),COLUMN('resulta '!D4),FALSE) -> #REF! | G9: point marquer | H9: saison 2019/2020 | L9: La Rochelle | M9: Brive
B10: La rochelle | C10: =VLOOKUP($B10,INDIRECT($A10),COLUMN('resulta '!C5),FALSE) -> #REF! | D10: =VLOOKUP($B10,INDIRECT($A10),COLUMN('resulta '!D5),FALSE) -> #REF! | G10: match dom | H10: 223 | I10: 125 | J10: 98 | L10: La Rochelle | M10: Castres
B11: La rochelle | C11: =VLOOKUP($B11,INDIRECT($A11),COLUMN('resulta '!C6),FALSE) -> #REF! | D11: =VLOOKUP($B11,INDIRECT($A11),COLUMN('resulta '!D6),FALSE) -> #REF! | G11: par match | H11: 27.875 | I11: 15.625 | L11: La Rochelle | M11: Clermont
B12: La rochelle | C12: =VLOOKUP($B12,INDIRECT($A12),COLUMN('resulta '!C7),FALSE) -> #REF! | D12: =VLOOKUP($B12,INDIRECT($A12),COLUMN('resulta '!D7),FALSE) -> #REF! | G12: match ext | H12: 137 | I12: 224 | J12: -87 | L12: La Rochelle | M12: Lyon
B13: La rochelle | C13: =VLOOKUP($B13,INDIRECT($A13),COLUMN('resulta '!C8),FALSE) -> #REF! | D13: =VLOOKUP($B13,INDIRECT($A13),COLUMN('resulta '!D8),FALSE) -> #REF! | G13: par match | H13: 15.222222 | I13: 24.888889 | L13: La Rochelle | M13: Montpellier
B14: La rochelle | C14: =VLOOKUP($B14,INDIRECT($A14),COLUMN('resulta '!C9),FALSE) -> #REF! | D14: =VLOOKUP($B14,INDIRECT($A14),COLUMN('resulta '!D9),FALSE) -> #REF! | G14: match | H14: 360 | I14: 349 | J14: 11 | L14: La Rochelle | M14: Paris
B15: La rochelle | C15: =VLOOKUP($B15,INDIRECT($A15),COLUMN('resulta '!C10),FALSE) -> #REF! | D15: =VLOOKUP($B15,INDIRECT($A15),COLUMN('resulta '!D10),FALSE) -> #REF! | G15: par match | H15: 21.176471 | I15: 20.529412 | L15: La Rochelle | M15: Pau
B16: La rochelle | C16: =VLOOKUP($B16,INDIRECT($A16),COLUMN('resulta '!C11),FALSE) -> #REF! | D16: =VLOOKUP($B16,INDIRECT($A16),COLUMN('resulta '!D11),FALSE) -> #REF! | L16: La Rochelle | M16: Racing 92
B17: La rochelle | C17: =VLOOKUP($B17,INDIRECT($A17),COLUMN('resulta '!C12),FALSE) -> #REF! | D17: =VLOOKUP($B17,INDIRECT($A17),COLUMN('resulta '!D12),FALSE) -> #REF! | G17: point marquer | L17: La Rochelle | M17: Toulon
B18: La rochelle | C18: =VLOOKUP($B18,INDIRECT($A18),COLUMN('resulta '!C13),FALSE) -> #REF! | D18: =VLOOKUP($B18,INDIRECT($A18),COLUMN('resulta '!D13),FALSE) -> #REF! | G18: match dom | L18: La Rochelle | M18: Toulouse
B19: La rochelle | C19: =VLOOKUP($B19,INDIRECT($A19),COLUMN('resulta '!C14),FALSE) -> #REF! | D19: =VLOOKUP($B19,INDIRECT($A19),COLUMN('resulta '!D14),FALSE) -> #REF! | G19: par match
B20: La rochelle | C20: =VLOOKUP($B20,INDIRECT($A20),COLUMN('resulta '!C15),FALSE) -> #REF! | D20: =VLOOKUP($B20,INDIRECT($A20),COLUMN('resulta '!D15),FALSE) -> #REF! | G20: match ext
G21: par match
A22: match ext | G22: match
C23: =VLOOKUP($E23,INDIRECT($A23),COLUMN('resulta '!D3),FALSE) -> #REF! | D23: =VLOOKUP($E23,INDIRECT($A23),COLUMN('resulta '!C3),FALSE) -> #REF! | E23: La rochelle | G23: par match
C24: =VLOOKUP($E24,INDIRECT($A24),COLUMN('resulta '!D4),FALSE) -> #REF! | D24: =VLOOKUP($E24,INDIRECT($A24),COLUMN('resulta '!C4),FALSE) -> #REF! | E24: La rochelle
C25: =VLOOKUP($E25,INDIRECT($A25),COLUMN('resulta '!D5),FALSE) -> #REF! | D25: =VLOOKUP($E25,INDIRECT($A25),COLUMN('resulta '!C5),FALSE) -> #REF! | E25: La rochelle | G25: point marquer
C26: =VLOOKUP($E26,INDIRECT($A26),COLUMN('resulta '!D6),FALSE) -> #REF! | D26: =VLOOKUP($E26,INDIRECT($A26),COLUMN('resulta '!C6),FALSE) -> #REF! | E26: La rochelle | G26: match dom
C27: =VLOOKUP($E27,INDIRECT($A27),COLUMN('resulta '!D7),FALSE) -> #REF! | D27: =VLOOKUP($E27,INDIRECT($A27),COLUMN('resulta '!C7),FALSE) -> #REF! | E27: La rochelle | G27: par match
C28: =VLOOKUP($E28,INDIRECT($A28),COLUMN('resulta '!D8),FALSE) -> #REF! | D28: =VLOOKUP($E28,INDIRECT($A28),COLUMN('resulta '!C8),FALSE) -> #REF! | E28: La rochelle | G28: match ext
C29: =VLOOKUP($E29,INDIRECT($A29),COLUMN('resulta '!D9),FALSE) -> #REF! | D29: =VLOOKUP($E29,INDIRECT($A29),COLUMN('resulta '!C9),FALSE) -> #REF! | E29: La rochelle | G29: par match
C30: =VLOOKUP($E30,INDIRECT($A30),COLUMN('resulta '!D10),FALSE) -> #REF! | D30: =VLOOKUP($E30,INDIRECT($A30),COLUMN('resulta '!C10),FALSE) -> #REF! | E30: La rochelle | G30: match
C31: =VLOOKUP($E31,INDIRECT($A31),COLUMN('resulta '!D11),FALSE) -> #REF! | D31: =VLOOKUP($E31,INDIRECT($A31),COLUMN('resulta '!C11),FALSE) -> #REF! | E31: La rochelle | G31: par match
C32: =VLOOKUP($E32,INDIRECT($A32),COLUMN('resulta '!D12),FALSE) -> #REF! | D32: =VLOOKUP($E32,INDIRECT($A32),COLUMN('resulta '!C12),FALSE) -> #REF! | E32: La rochelle
C33: =VLOOKUP($E33,INDIRECT($A33),COLUMN('resulta '!D13),FALSE) -> #REF! | D33: =VLOOKUP($E33,INDIRECT($A33),COLUMN('resulta '!C13),FALSE) -> #REF! | E33: La rochelle
C34: =VLOOKUP($E34,INDIRECT($A34),COLUMN('resulta '!D14),FALSE) -> #REF! | D34: =VLOOKUP($E34,INDIRECT($A34),COLUMN('resulta '!C14),FALSE) -> #REF! | E34: La rochelle
C35: =VLOOKUP($E35,INDIRECT($A35),COLUMN('resulta '!D15),FALSE) -> #REF! | D35: =VLOOKUP($E35,INDIRECT($A35),COLUMN('resulta '!C15),FALSE) -> #REF! | E35: La rochelle
A37: club | C37: face a face | D37: nbr de match | E37: victoire D | F37: victoire E | G37: % | H37: defaite D | I37: defaite E | J37: % | K37: nul | L37: %
A38: LA ROCHELLE | B38: AGEN | C38: 12 | D38: 4 | E38: 2 | F38: =(D38+E38)/C38 -> 0.5 | G38: 2 | H38: 4 | I38: =(G38+H38)/C38 -> 0.5 | K38: =100%-(F38+I38) -> 0 | L38: =SUM(F38+I38+K38) -> 1
A39: LA ROCHELLE | B39: BAYONNE | C39: 7 | D39: 1 | E39: 1 | F39: =(D39+E39)/C39 -> 0.28571429 | G39: 1 | H39: 3 | I39: =(G39+H39)/C39 -> 0.57142857 | J39: 1 | K39: =100%-(F39+I39) -> 0.14285714 | L39: =SUM(F39+I39+K39) -> 1
A40: LA ROCHELLE | B40: BORDEAUX | C40: 11 | D40: 4 | E40: 1 | F40: =(D40+E40)/C40 -> 0.45454545 | G40: 1 | H40: 5 | I40: =(G40+H40)/C40 -> 0.54545455 | K40: =100%-(F40+I40) -> 0 | L40: =SUM(F40+I40+K40) -> 1
A41: LA ROCHELLE | B41: BRIVE | C41: 11 | D41: 6 | E41: 1 | F41: =(D41+E41)/C41 -> 0.63636364 | G41: 0 | H41: 4 | I41: =(G41+H41)/C41 -> 0.36363636 | K41: =100%-(F41+I41) -> 0 | L41: =SUM(F41+I41+K41) -> 1
...

Sheet Lyon 
A1: Lyon | B1: saison 2019/2020 | G1: point marquer | H1: saison 2020/2021 | L1: match du jour
B2: nbre match | C2: nbre vitoire | D2: nbre nul | E2: nbre defaite | G2: match dom | H2: =SUM(C8:C20) -> #REF! | I2: =SUM(D8:D20) -> #REF! | J2: =H2-I2 -> #REF! | L2: domicile | M2: exertieur
A3: nbre match D | B3: 9 | C3: 9 | D3: 0 | E3: 0 | G3: par match | H3: =H2/B3 -> #REF! | I3: =I2/B3 -> #REF! | L3: Lyon | M3: Agen
A4: nbre match E | B4: 8 | C4: 3 | D4: 0 | E4: 5 | G4: match ext | H4: =SUM(D23:D35) -> #REF! | I4: =SUM(C23:C35) -> #REF! | J4: =H4-I4 -> #REF! | L4: {=INDEX($C$38:$L$50,MATCH(1,($A$38:$A$50=$A$1)*($B$38:$B$50=$M$3),0),4)} -> 0.71428571 | M4: {=INDEX($C$38:$L$50,MATCH(1,($A$38:$A$50=$L$3)*($B$38:$B$50=$M$3),0),7)} -> 0.28571429
A5: nbre match T | B5: =B3+B4 -> 17 | C5: =C3+C4 -> 12 | D5: =D3+D4 -> 0 | E5: =E3+E4 -> 5 | G5: par match | H5: =H4/B4 -> #REF! | I5: =I4/B4 -> #REF! | L5: =100/L4/100 -> 1.4 | M5: =100/M4/100 -> 3.5
G6: match | H6: =H2+H4 -> #REF! | I6: =I2+I4 -> #REF! | J6: =H6-I6 -> #REF!
A7: match dom | G7: par match | H7: =H6/B5 -> #REF! | I7: =I6/B5 -> #REF! | L7: Lyon | M7: Agen
B8: Lyon | C8: =VLOOKUP($B8,INDIRECT($A8),COLUMN('resulta '!C3),FALSE) -> #REF! | D8: =VLOOKUP($B8,INDIRECT($A8),COLUMN('resulta '!D3),FALSE) -> #REF! | L8: Lyon | M8: Bayonne
B9: Lyon | C9: =VLOOKUP($B9,INDIRECT($A9),COLUMN('resulta '!C4),FALSE) -> #REF! | D9: =VLOOKUP($B9,INDIRECT($A9),COLUMN('resulta '!D4),FALSE) -> #REF! | G9: point marquer | H9: saison 2019/2020 | L9: Lyon | M9: Bordeaux
B10: Lyon | C10: =VLOOKUP($B10,INDIRECT($A10),COLUMN('resulta '!C5),FALSE) -> #REF! | D10: =VLOOKUP($B10,INDIRECT($A10),COLUMN('resulta '!D5),FALSE) -> #REF! | G10: match dom | H10: 286 | I10: 104 | J10: 182 | L10: Lyon | M10: Brive
B11: Lyon | C11: =VLOOKUP($B11,INDIRECT($A11),COLUMN('resulta '!C6),FALSE) -> #REF! | D11: =VLOOKUP($B11,INDIRECT($A11),COLUMN('resulta '!D6),FALSE) -> #REF! | G11: par match | H11: 31.777778 | I11: 11.555556 | L11: Lyon | M11: Castres
B12: Lyon | C12: =VLOOKUP($B12,INDIRECT($A12),COLUMN('resulta '!C7),FALSE) -> #REF! | D12: =VLOOKUP($B12,INDIRECT($A12),COLUMN('resulta '!D7),FALSE) -> #REF! | G12: match ext | H12: 134 | I12: 187 | J12: -53 | L12: Lyon | M12: Clermont
B13: Lyon | C13: =VLOOKUP($B13,INDIRECT($A13),COLUMN('resulta '!C8),FALSE) -> #REF! | D13: =VLOOKUP($B13,INDIRECT($A13),COLUMN('resulta '!D8),FALSE) -> #REF! | G13: par match | H13: 16.75 | I13: 23.375 | L13: Lyon | M13: La Rochelle
B14: Lyon | C14: =VLOOKUP($B14,INDIRECT($A14),COLUMN('resulta '!C9),FALSE) -> #REF! | D14: =VLOOKUP($B14,INDIRECT($A14),COLUMN('resulta '!D9),FALSE) -> #REF! | G14: match | H14: 420 | I14: 291 | J14: 129 | L14: Lyon | M14: Montpellier
B15: Lyon | C15: =VLOOKUP($B15,INDIRECT($A15),COLUMN('resulta '!C10),FALSE) -> #REF! | D15: =VLOOKUP($B15,INDIRECT($A15),COLUMN('resulta '!D10),FALSE) -> #REF! | G15: par match | H15: 24.705882 | I15: 17.117647 | L15: Lyon | M15: Paris
B16: Lyon | C16: =VLOOKUP($B16,INDIRECT($A16),COLUMN('resulta '!C11),FALSE) -> #REF! | D16: =VLOOKUP($B16,INDIRECT($A16),COLUMN('resulta '!D11),FALSE) -> #REF! | L16: Lyon | M16: Pau
B17: Lyon | C17: =VLOOKUP($B17,INDIRECT($A17),COLUMN('resulta '!C12),FALSE) -> #REF! | D17: =VLOOKUP($B17,INDIRECT($A17),COLUMN('resulta '!D12),FALSE) -> #REF! | G17: point marquer | L17: Lyon | M17: Racing 92
B18: Lyon | C18: =VLOOKUP($B18,INDIRECT($A18),COLUMN('resulta '!C13),FALSE) -> #REF! | D18: =VLOOKUP($B18,INDIRECT($A18),COLUMN('resulta '!D13),FALSE) -> #REF! | G18: match dom | L18: Lyon | M18: Toulon
B19: Lyon | C19: =VLOOKUP($B19,INDIRECT($A19),COLUMN('resulta '!C14),FALSE) -> #REF! | D19: =VLOOKUP($B19,INDIRECT($A19),COLUMN('resulta '!D14),FALSE) -> #REF! | G19: par match | L19: Lyon | M19: Toulouse
B20: Lyon | C20: =VLOOKUP($B20,INDIRECT($A20),COLUMN('resulta '!C15),FALSE) -> #REF! | D20: =VLOOKUP($B20,INDIRECT($A20),COLUMN('resulta '!D15),FALSE) -> #REF! | G20: match ext
G21: par match
A22: match ext | G22: match
C23: =VLOOKUP($E23,INDIRECT($A23),COLUMN('resulta '!D3),FALSE) -> #REF! | D23: =VLOOKUP($E23,INDIRECT($A23),COLUMN('resulta '!C3),FALSE) -> #REF! | E23: Lyon | G23: par match
C24: =VLOOKUP($E24,INDIRECT($A24),COLUMN('resulta '!D4),FALSE) -> #REF! | D24: =VLOOKUP($E24,INDIRECT($A24),COLUMN('resulta '!C4),FALSE) -> #REF! | E24: Lyon
C25: =VLOOKUP($E25,INDIRECT($A25),COLUMN('resulta '!D5),FALSE) -> #REF! | D25: =VLOOKUP($E25,INDIRECT($A25),COLUMN('resulta '!C5),FALSE) -> #REF! | E25: Lyon | G25: point marquer
C26: =VLOOKUP($E26,INDIRECT($A26),COLUMN('resulta '!D6),FALSE) -> #REF! | D26: =VLOOKUP($E26,INDIRECT($A26),COLUMN('resulta '!C6),FALSE) -> #REF! | E26: Lyon | G26: match dom
C27: =VLOOKUP($E27,INDIRECT($A27),COLUMN('resulta '!D7),FALSE) -> #REF! | D27: =VLOOKUP($E27,INDIRECT($A27),COLUMN('resulta '!C7),FALSE) -> #REF! | E27: Lyon | G27: par match
C28: =VLOOKUP($E28,INDIRECT($A28),COLUMN('resulta '!D8),FALSE) -> #REF! | D28: =VLOOKUP($E28,INDIRECT($A28),COLUMN('resulta '!C8),FALSE) -> #REF! | E28: Lyon | G28: match ext
C29: =VLOOKUP($E29,INDIRECT($A29),COLUMN('resulta '!D9),FALSE) -> #REF! | D29: =VLOOKUP($E29,INDIRECT($A29),COLUMN('resulta '!C9),FALSE) -> #REF! | E29: Lyon | G29: par match
C30: =VLOOKUP($E30,INDIRECT($A30),COLUMN('resulta '!D10),FALSE) -> #REF! | D30: =VLOOKUP($E30,INDIRECT($A30),COLUMN('resulta '!C10),FALSE) -> #REF! | E30: Lyon | G30: match
C31: =VLOOKUP($E31,INDIRECT($A31),COLUMN('resulta '!D11),FALSE) -> #REF! | D31: =VLOOKUP($E31,INDIRECT($A31),COLUMN('resulta '!C11),FALSE) -> #REF! | E31: Lyon | G31: par match
C32: =VLOOKUP($E32,INDIRECT($A32),COLUMN('resulta '!D12),FALSE) -> #REF! | D32: =VLOOKUP($E32,INDIRECT($A32),COLUMN('resulta '!C12),FALSE) -> #REF! | E32: Lyon
C33: =VLOOKUP($E33,INDIRECT($A33),COLUMN('resulta '!D13),FALSE) -> #REF! | D33: =VLOOKUP($E33,INDIRECT($A33),COLUMN('resulta '!C13),FALSE) -> #REF! | E33: Lyon
C34: =VLOOKUP($E34,INDIRECT($A34),COLUMN('resulta '!D14),FALSE) -> #REF! | D34: =VLOOKUP($E34,INDIRECT($A34),COLUMN('resulta '!C14),FALSE) -> #REF! | E34: Lyon
C35: =VLOOKUP($E35,INDIRECT($A35),COLUMN('resulta '!D15),FALSE) -> #REF! | D35: =VLOOKUP($E35,INDIRECT($A35),COLUMN('resulta '!C15),FALSE) -> #REF! | E35: Lyon
A37: club | C37: face a face | D37: nbr de match | E37: victoire D | F37: victoire E | G37: % | H37: defaite D | I37: defaite E | J37: % | K37: nul | L37: %
A38: LYON | B38: AGEN | C38: 7 | D38: 3 | E38: 2 | F38: =(D38+E38)/C38 -> 0.71428571 | G38: 0 | H38: 2 | I38: =(G38+H38)/C38 -> 0.28571429 | K38: =100%-(F38+I38) -> 0 | L38: =SUM(F38+I38+K38) -> 1
A39: LYON | B39: BAYONNE | C39: 7 | D39: 3 | E39: 0 | F39: =(D39+E39)/C39 -> 0.42857143 | G39: 1 | H39: 2 | I39: =(G39+H39)/C39 -> 0.42857143 | J39: 1 | K39: =100%-(F39+I39) -> 0.14285714 | L39: =SUM(F39+I39+K39) -> 1
A40: LYON | B40: BORDEAUX | C40: 12 | D40: 5 | E40: 0 | F40: =(D40+E40)/C40 -> 0.41666667 | G40: 1 | H40: 6 | I40: =(G40+H40)/C40 -> 0.58333333 | K40: =100%-(F40+I40) -> 0 | L40: =SUM(F40+I40+K40) -> 1
A41: LYON | B41: BRIVE | C41: 13 | D41: 3 | E41: 2 | F41: =(D41+E41)/C41 -> 0.38461538 | G41: 1 | H41: 3 | I41: =(G41+H41)/C41 -> 0.30769231 | J41: 3 | K41: =100%-(F41+I41) -> 0.30769231 | L41: =SUM(F41+I41+K41) -> 1
...

Sheet Montpellier
A1: Montpellier | B1: saison 2019/2020 | G1: point marquer | H1: saison 2020/2021 | L1: match du jour
