Workbook
Name journee: 'Agen '!$O$5:$P$30
Name journee1: 'resulta '!$B$3:$E$9
Name journee10: 'resulta '!$B$75:$E$81
Name journee11: 'resulta '!$B$83:$E$89
Name journee12: 'resulta '!$B$91:$E$97
Name journee13: 'resulta '!$B$99:$E$105
Name journee14: 'resulta '!$H$3:$K$9
Name journee15: 'resulta '!$H$11:$K$17
Name journee16: 'resulta '!$H$19:$K$25
Name journee17: 'resulta '!$H$27:$K$33
Name journee18: 'resulta '!$H$35:$K$41
Name journee19: 'resulta '!$H$43:$K$49
Name journee2: 'resulta '!$B$11:$E$17
Name journee20: 'resulta '!$H$51:$K$57
Name journee21: 'resulta '!$H$59:$K$65
Name journee22: 'resulta '!$H$67:$K$73
Name journee23: 'resulta '!$H$75:$K$81
Name journee24: 'resulta '!$H$83:$K$89
Name journee25: 'resulta '!$H$83:$K$89
Name journee26: 'resulta '!$H$99:$K$105
Name journee3: 'resulta '!$B$19:$E$25
Name journee4: 'resulta '!$B$27:$E$33
Name journee5: 'resulta '!$B$35:$E$41
Name journee6: 'resulta '!$B$43:$E$49
Name journee7: 'resulta '!$B$51:$E$57
Name journee8: 'resulta '!$B$59:$E$65
Name journee9: 'resulta '!$B$67:$E$73

Sheet Agen 
A1: Agen | B1: saison 2019/2020 | G1: point marquer | H1: saison 2020/2021 | L1: match du jour
B2: nbre match | C2: nbre vitoire | D2: nbre nul | E2: nbre defaite | G2: match dom | H2: =SUM(C8:C20) -> #REF! | I2: =SUM(D8:D20) -> #REF! | J2: =H2-I2 -> #REF! | L2: domicile | M2: exertieur
A3: nbre match D | B3: 9 | C3: 3 | D3: 0 | E3: 6 | G3: par match | H3: =H2/B3 -> #REF! | I3: =I2/B3 -> #REF! | L3: Agen | M3: paris
A4: nbre match E | B4: 8 | C4: 2 | D4: 1 | E4: 5 | G4: match ext | H4: =SUM(D23:D35) -> #N/A | I4: =SUM(C23:C35) -> #N/A | J4: =H4-I4 -> #N/A | L4: {=INDEX($C$38:$L$50,MATCH(1,($A$38:$A$50=$A$1)*($B$38:$B$50=$M$3),0),4)} -> 0.38461538 | M4: {=INDEX($C$38:$L$50,MATCH(1,($A$38:$A$50=$L$3)*($B$38:$B$50=$M$3),0),7)} -> 0.61538462
A5: nbre match T | B5: =B3+B4 -> 17 | C5: =C3+C4 -> 5 | D5: =D3+D4 -> 1 | E5: =E3+E4 -> 11 | G5: par match | H5: =H4/B4 -> #N/A | I5: =I4/B4 -> #N/A | L5: =100/L4/100 -> 2.6 | M5: =100/M4/100 -> 1.625
G6: match | H6: =H2+H4 -> #REF! | I6: =I2+I4 -> #REF! | J6: =H6-I6 -> #REF!
A7: match dom | G7: par match | H7: =H6/B5 -> #REF! | I7: =I6/B5 -> #REF! | L7: Agen | M7: Bayonne
A8: journee1 | B8: Agen | C8: =VLOOKUP($B8,INDIRECT($A8),COLUMN('resulta '!B3),FALSE) -> 0 | D8: =VLOOKUP($B8,INDIRECT($A8),COLUMN('resulta '!C3),FALSE) -> 0 | E8: Castres | L8: Agen | M8: Bordeaux
A9: journee4 | B9: Agen | C9: =VLOOKUP($B9,INDIRECT($A9),COLUMN('resulta '!C4),FALSE) -> 0 | D9: =VLOOKUP($B9,INDIRECT($A9),COLUMN('resulta '!D4),FALSE) -> Pau | E9: Paris | G9: point marquer | H9: saison 2019/2020 | L9: Agen | M9: Brive
A10: journee6 | B10: Agen | C10: =VLOOKUP($B10,INDIRECT($A10),COLUMN('resulta '!C5),FALSE) -> 0 | D10: =VLOOKUP($B10,INDIRECT($A10),COLUMN('resulta '!D5),FALSE) -> Bayonne | E10: Bayonne | G10: match dom | H10: 158 | I10: 164 | J10: -6 | L10: Agen | M10: Castres
A11: journee8 | B11: Agen | C11: =VLOOKUP($B11,INDIRECT($A11),COLUMN('resulta '!C6),FALSE) -> 0 | D11: =VLOOKUP($B11,INDIRECT($A11),COLUMN('resulta '!D6),FALSE) -> Lyon | E11: Lyon | G11: par match | H11: 17.555556 | I11: 18.222222 | L11: Agen | M11: Clermont
A12: journee9 | B12: Agen | C12: =VLOOKUP($B12,INDIRECT($A12),COLUMN('resulta '!C7),FALSE) -> 0 | D12: =VLOOKUP($B12,INDIRECT($A12),COLUMN('resulta '!D7),FALSE) -> Toulon | E12: Toulon | G12: match ext | H12: 140 | I12: 206 | J12: -66 | L12: Agen | M12: La Rochelle
A13: journee11 | B13: Agen | C13: =VLOOKUP($B13,INDIRECT($A13),COLUMN('resulta '!C8),FALSE) -> 0 | D13: =VLOOKUP($B13,INDIRECT($A13),COLUMN('resulta '!D8),FALSE) -> Brive | E13: Brive | G13: par match | H13: 17.5 | I13: 25.75 | L13: Agen | M13: Lyon
A14: journee13 | B14: Agen | C14: =VLOOKUP($B14,INDIRECT($A14),COLUMN('resulta '!C9),FALSE) -> 0 | D14: =VLOOKUP($B14,INDIRECT($A14),COLUMN('resulta '!D9),FALSE) -> La Rochelle | E14: La Rochelle | G14: match | H14: 298 | I14: 370 | J14: -72 | L14: Agen | M14: Montpellier
B15: Agen | C15: =VLOOKUP($B15,INDIRECT($A15),COLUMN('resulta '!C10),FALSE) -> #REF! | D15: =VLOOKUP($B15,INDIRECT($A15),COLUMN('resulta '!D10),FALSE) -> #REF! | G15: par match | H15: 17.529412 | I15: 21.764706 | L15: Agen | M15: Paris
B16: Agen | C16: =VLOOKUP($B16,INDIRECT($A16),COLUMN('resulta '!C11),FALSE) -> #REF! | D16: =VLOOKUP($B16,INDIRECT($A16),COLUMN('resulta '!D11),FALSE) -> #REF! | L16: Agen | M16: Pau
B17: Agen | C17: =VLOOKUP($B17,INDIRECT($A17),COLUMN('resulta '!C12),FALSE) -> #REF! | D17: =VLOOKUP($B17,INDIRECT($A17),COLUMN('resulta '!D12),FALSE) -> #REF! | G17: point marquer | L17: Agen | M17: Racing 92
B18: Agen | C18: =VLOOKUP($B18,INDIRECT($A18),COLUMN('resulta '!C13),FALSE) -> #REF! | D18: =VLOOKUP($B18,INDIRECT($A18),COLUMN('resulta '!D13),FALSE) -> #REF! | G18: match dom | L18: Agen | M18: Toulon
B19: Agen | C19: =VLOOKUP($B19,INDIRECT($A19),COLUMN('resulta '!C14),FALSE) -> #REF! | D19: =VLOOKUP($B19,INDIRECT($A19),COLUMN('resulta '!D14),FALSE) -> #REF! | G19: par match | L19: Agen | M19: Toulouse
B20: Agen | C20: =VLOOKUP($B20,INDIRECT($A20),COLUMN('resulta '!C15),FALSE) -> #REF! | D20: =VLOOKUP($B20,INDIRECT($A20),COLUMN('resulta '!D15),FALSE) -> #REF! | G20: match ext
G21: par match
A22: match ext | G22: match
A23: journee2 | B23: Pau | C23: =VLOOKUP($E23,INDIRECT($A23),COLUMN('resulta '!D3),FALSE) -> #N/A | D23: =VLOOKUP($E23,INDIRECT($A23),COLUMN('resulta '!C3),FALSE) -> #N/A | E23: Agen | G23: par match
A24: journee3 | B24: Clermont | C24: =VLOOKUP($E24,INDIRECT($A24),COLUMN('resulta '!D4),FALSE) -> #N/A | D24: =VLOOKUP($E24,INDIRECT($A24),COLUMN('resulta '!C4),FALSE) -> #N/A | E24: Agen
A25: journee5 | B25: Montpellier | C25: =VLOOKUP($E25,INDIRECT($A25),COLUMN('resulta '!D5),FALSE) -> #N/A | D25: =VLOOKUP($E25,INDIRECT($A25),COLUMN('resulta '!C5),FALSE) -> #N/A | E25: Agen | G25: point marquer
A26: journee7 | B26: Bordeaux | C26: =VLOOKUP($E26,INDIRECT($A26),COLUMN('resulta '!D6),FALSE) -> #N/A | D26: =VLOOKUP($E26,INDIRECT($A26),COLUMN('resulta '!C6),FALSE) -> #N/A | E26: Agen | G26: match dom
A27: journee10 | B27: Toulouse | C27: =VLOOKUP($E27,INDIRECT($A27),COLUMN('resulta '!D7),FALSE) -> #N/A | D27: =VLOOKUP($E27,INDIRECT($A27),COLUMN('resulta '!C7),FALSE) -> #N/A | E27: Agen | G27: par match
A28: journee12 | B28: Racing 92 | C28: =VLOOKUP($E28,INDIRECT($A28),COLUMN('resulta '!D8),FALSE) -> #N/A | D28: =VLOOKUP($E28,INDIRECT($A28),COLUMN('resulta '!C8),FALSE) -> #N/A | E28: Agen | G28: match ext
C29: =VLOOKUP($E29,INDIRECT($A29),COLUMN('resulta '!D9),FALSE) -> #REF! | D29: =VLOOKUP($E29,INDIRECT($A29),COLUMN('resulta '!C9),FALSE) -> #REF! | E29: Agen | G29: par match
C30: =VLOOKUP($E30,INDIRECT($A30),COLUMN('resulta '!D10),FALSE) -> #REF! | D30: =VLOOKUP($E30,INDIRECT($A30),COLUMN('resulta '!C10),FALSE) -> #REF! | E30: Agen | G30: match
C31: =VLOOKUP($E31,INDIRECT($A31),COLUMN('resulta '!D11),FALSE) -> #REF! | D31: =VLOOKUP($E31,INDIRECT($A31),COLUMN('resulta '!C11),FALSE) -> #REF! | E31: Agen | G31: par match
C32: =VLOOKUP($E32,INDIRECT($A32),COLUMN('resulta '!D12),FALSE) -> #REF! | D32: =VLOOKUP($E32,INDIRECT($A32),COLUMN('resulta '!C12),FALSE) -> #REF! | E32: Agen
C33: =VLOOKUP($E33,INDIRECT($A33),COLUMN('resulta '!D13),FALSE) -> #REF! | D33: =VLOOKUP($E33,INDIRECT($A33),COLUMN('resulta '!C13),FALSE) -> #REF! | E33: Agen
C34: =VLOOKUP($E34,INDIRECT($A34),COLUMN('resulta '!D14),FALSE) -> #REF! | D34: =VLOOKUP($E34,INDIRECT($A34),COLUMN('resulta '!C14),FALSE) -> #REF! | E34: Agen
C35: =VLOOKUP($E35,INDIRECT($A35),COLUMN('resulta '!D15),FALSE) -> #REF! | D35: =VLOOKUP($E35,INDIRECT($A35),COLUMN('resulta '!C15),FALSE) -> #REF! | E35: Agen
A37: club | C37: nbr de match | D37: victoire D | E37: victoire E | F37: % | G37: defaite D | H37: defaite E | I37: % | J37: nul | K37: %
A38: AGEN | B38: BAYONNE | C38: 8 | D38: 2 | E38: 1 | F38: =(D38+E38)/C38 -> 0.375 | G38: 2 | H38: 3 | I38: =(G38+H38)/C38 -> 0.625 | K38: =100%-(F38+I38) -> 0 | L38: =SUM(F38+I38+K38) -> 1
A39: AGEN | B39: BORDEAUX | C39: 11 | D39: 3 | E39: 0 | F39: =(D39+E39)/C39 -> 0.27272727 | G39: 2 | H39: 6 | I39: =(G39+H39)/C39 -> 0.72727273 | K39: =100%-(F39+I39) -> 0 | L39: =SUM(F39+I39+K39) -> 1
A40: AGEN | B40: BRIVE | C40: 10 | D40: 5 | E40: 3 | F40: =(D40+E40)/C40 -> 0.8 | G40: 0 | H40: 2 | I40: =(G40+H40)/C40 -> 0.2 | K40: =100%-(F40+I40) -> 0 | L40: =SUM(F40+I40+K40) -> 1
A41: AGEN | B41: CASTRE | C41: 14 | D41: 3 | E41: 1 | F41: =(D41+E41)/C41 -> 0.28571429 | G41: 4 | H41: 6 | I41: =(G41+H41)/C41 -> 0.71428571 | K41: =100%-(F41+I41) -> 0 | L41: =SUM(F41+I41+K41) -> 1
A42: AGEN | B42: CLERMONT | C42: 14 | D42: 2 | E42: 0 | F42: =(D42+E42)/C42 -> 0.14285714 | G42: 5 | H42: 7 | I42: =(G42+H42)/C42 -> 0.85714286 | K42: =100%-(F42+I42) -> 0 | L42: =SUM(F42+I42+K42) -> 1
A43: AGEN | B43: LA ROCHELLE | C43: 12 | D43: 4 | E43: 2 | F43: =(D43+E43)/C43 -> 0.5 | G43: 2 | H43: 4 | I43: =(G43+H43)/C43 -> 0.5 | K43: =100%-(F43+I43) -> 0 | L43: =SUM(F43+I43+K43) -> 1
A44: AGEN | B44: LYON | C44: 7 | D44: 2 | E44: 0 | F44: =(D44+E44)/C44 -> 0.28571429 | G44: 2 | H44: 3 | I44: =(G44+H44)/C44 -> 0.71428571 | K44: =100%-(F44+I44) -> 0 | L44: =SUM(F44+I44+K44) -> 1
A45: AGEN | B45: MONTPELLIER | C45: 13 | D45: 3 | E45: 0 | F45: =(D45+E45)/C45 -> 0.23076923 | G45: 4 | H45: 6 | I45: =(G45+H45)/C45 -> 0.76923077 | K45: =100%-(F45+I45) -> 0 | L45: =SUM(F45+I45+K45) -> 1
A46: AGEN | B46: PARIS | C46: 13 | D46: 4 | E46: 1 | F46: =(D46+E46)/C46 -> 0.38461538 | G46: 3 | H46: 5 | I46: =(G46+H46)/C46 -> 0.61538462 | K46: =100%-(F46+I46) -> 0 | L46: =SUM(F46+I46+K46) -> 1
A47: AGEN | B47: PAU | C47: 11 | D47: 2 | E47: 1 | F47: =(D47+E47)/C47 -> 0.27272727 | G47: 3 | H47: 5 | I47: =(G47+H47)/C47 -> 0.72727273 | K47: =100%-(F47+I47) -> 0 | L47: =SUM(F47+I47+K47) -> 1
A48: AGEN | B48: RACING 92 | C48: 13 | D48: 4 | E48: 0 | F48: =(D48+E48)/C48 -> 0.30769231 | G48: 2 | H48: 6 | I48: =(G48+H48)/C48 -> 0.61538462 | J48: 1 | K48: =100%-(F48+I48) -> 0.076923077 | L48: =SUM(F48+I48+K48) -> 1
A49: AGEN | B49: TOULON | C49: 13 | D49: 4 | E49: 0 | F49: =(D49+E49)/C49 -> 0.30769231 | G49: 3 | H49: 6 | I49: =(G49+H49)/C49 -> 0.69230769 | K49: =100%-(F49+I49) -> 0 | L49: =SUM(F49+I49+K49) -> 1
A50: AGEN | B50: TOULOUSE | C50: 13 | D50: 1 | E50: 0 | F50: =(D50+E50)/C50 -> 0.076923077 | G50: 6 | H50: 6 | I50: =(G50+H50)/C50 -> 0.92307692 | K50: =100%-(F50+I50) -> 0 | L50: =SUM(F50+I50+K50) -> 1

Sheet Bayonne
A1: Bayonne | B1: saison 2019/2020 | G1: point marquer | H1: saison 2020/2021 | L1: match du jour
B2: nbre match | C2: nbre vitoire | D2: nbre nul | E2: nbre defaite | G2: match dom | H2: =SUM(C8:C20) -> #REF! | I2: =SUM(D8:D20) -> #REF! | J2: =H2-I2 -> #REF! | L2: domicile | M2: exertieur
A3: nbre match D | B3: 9 | C3: 5 | D3: 1 | E3: 3 | G3: par match | H3: =H2/B3 -> #REF! | I3: =I2/B3 -> #REF! | L3: Bayonne | M3: pau
A4: nbre match E | B4: 8 | C4: 2 | D4: 0 | E4: 6 | G4: match ext | H4: =SUM(D23:D35) -> #REF! | I4: =SUM(C23:C35) -> #REF! | J4: =H4-I4 -> #REF! | L4: {=INDEX($C$38:$L$50,MATCH(1,($A$38:$A$50=$A$1)*($B$38:$B$50=$M$3),0),4)} -> 0 | M4: {=INDEX($C$38:$L$50,MATCH(1,($A$38:$A$50=$L$3)*($B$38:$B$50=$M$3),0),7)} -> 0.66666667
A5: nbre match T | B5: =B3+B4 -> 17 | C5: =C3+C4 -> 7 | D5: =D3+D4 -> 1 | E5: =E3+E4 -> 9 | G5: par match | H5: =H4/B4 -> #REF! | I5: =I4/B4 -> #REF! | L5: =100/L4/100 -> #DIV/0! | M5: =100/M4/100 -> 1.5
G6: match | H6: =H2+H4 -> #REF! | I6: =I2+I4 -> #REF! | J6: =H6-I6 -> #REF!
A7: match dom | G7: par match | H7: =H6/B5 -> #REF! | I7: =I6/B5 -> #REF! | L7: Bayonne | M7: Agen
B8: Bayonne | C8: =VLOOKUP($B8,INDIRECT($A8),COLUMN('resulta '!C3),FALSE) -> #REF! | D8: =VLOOKUP($B8,INDIRECT($A8),COLUMN('resulta '!D3),FALSE) -> #REF! | L8: Bayonne | M8: Bordeaux
B9: Bayonne | C9: =VLOOKUP($B9,INDIRECT($A9),COLUMN('resulta '!C4),FALSE) -> #REF! | D9: =VLOOKUP($B9,INDIRECT($A9),COLUMN('resulta '!D4),FALSE) -> #REF! | G9: point marquer | H9: saison 2019/2020 | L9: Bayonne | M9: Brive
B10: Bayonne | C10: =VLOOKUP($B10,INDIRECT($A10),COLUMN('resulta '!C5),FALSE) -> #REF! | D10: =VLOOKUP($B10,INDIRECT($A10),COLUMN('resulta '!D5),FALSE) -> #REF! | G10: match dom | H10: 187 | I10: 162 | J10: 25 | L10: Bayonne | M10: Castres
B11: Bayonne | C11: =VLOOKUP($B11,INDIRECT($A11),COLUMN('resulta '!C6),FALSE) -> #REF! | D11: =VLOOKUP($B11,INDIRECT($A11),COLUMN('resulta '!D6),FALSE) -> #REF! | G11: par match | H11: 20.777778 | I11: 18 | L11: Bayonne | M11: Clermont
B12: Bayonne | C12: =VLOOKUP($B12,INDIRECT($A12),COLUMN('resulta '!C7),FALSE) -> #REF! | D12: =VLOOKUP($B12,INDIRECT($A12),COLUMN('resulta '!D7),FALSE) -> #REF! | G12: match ext | H12: 116 | I12: 230 | J12: -114 | L12: Bayonne | M12: La Rochelle
B13: Bayonne | C13: =VLOOKUP($B13,INDIRECT($A13),COLUMN('resulta '!C8),FALSE) -> #REF! | D13: =VLOOKUP($B13,INDIRECT($A13),COLUMN('resulta '!D8),FALSE) -> #REF! | G13: par match | H13: 14.5 | I13: 28.75 | L13: Bayonne | M13: Lyon
B14: Bayonne | C14: =VLOOKUP($B14,INDIRECT($A14),COLUMN('resulta '!C9),FALSE) -> #REF! | D14: =VLOOKUP($B14,INDIRECT($A14),COLUMN('resulta '!D9),FALSE) -> #REF! | G14: match | H14: 303 | I14: 392 | J14: -89 | L14: Bayonne | M14: Montpellier
B15: Bayonne | C15: =VLOOKUP($B15,INDIRECT($A15),COLUMN('resulta '!C10),FALSE) -> #REF! | D15: =VLOOKUP($B15,INDIRECT($A15),COLUMN('resulta '!D10),FALSE) -> #REF! | G15: par match | H15: 17.823529 | I15: 23.058824 | L15: Bayonne | M15: Paris
B16: Bayonne | C16: =VLOOKUP($B16,INDIRECT($A16),COLUMN('resulta '!C11),FALSE) -> #REF! | D16: =VLOOKUP($B16,INDIRECT($A16),COLUMN('resulta '!D11),FALSE) -> #REF! | L16: Bayonne | M16: Pau
B17: Bayonne | C17: =VLOOKUP($B17,INDIRECT($A17),COLUMN('resulta '!C12),FALSE) -> #REF! | D17: =VLOOKUP($B17,INDIRECT($A17),COLUMN('resulta '!D12),FALSE) -> #REF! | G17: point marquer | L17: Bayonne | M17: Racing 92
B18: Bayonne | C18: =VLOOKUP($B18,INDIRECT($A18),COLUMN('resulta '!C13),FALSE) -> #REF! | D18: =VLOOKUP($B18,INDIRECT($A18),COLUMN('resulta '!D13),FALSE) -> #REF! | G18: match dom | L18: Bayonne | M18: Toulon
B19: Bayonne | C19: =VLOOKUP($B19,INDIRECT($A19),COLUMN('resulta '!C14),FALSE) -> #REF! | D19: =VLOOKUP($B19,INDIRECT($A19),COLUMN('resulta '!D14),FALSE) -> #REF! | G19: par match | L19: Bayonne | M19: Toulouse
B20: Bayonne | C20: =VLOOKUP($B20,INDIRECT($A20),COLUMN('resulta '!C15),FALSE) -> #REF! | D20: =VLOOKUP($B20,INDIRECT($A20),COLUMN('resulta '!D15),FALSE) -> #REF! | G20: match ext
G21: par match
A22: match ext | G22: match
C23: =VLOOKUP($E23,INDIRECT($A23),COLUMN('resulta '!D3),FALSE) -> #REF! | D23: =VLOOKUP($E23,INDIRECT($A23),COLUMN('resulta '!C3),FALSE) -> #REF! | E23: Bayonne | G23: par match
C24: =VLOOKUP($E24,INDIRECT($A24),COLUMN('resulta '!D4),FALSE) -> #REF! | D24: =VLOOKUP($E24,INDIRECT($A24),COLUMN('resulta '!C4),FALSE) -> #REF! | E24: Bayonne
C25: =VLOOKUP($E25,INDIRECT($A25),COLUMN('resulta '!D5),FALSE) -> #REF! | D25: =VLOOKUP($E25,INDIRECT($A25),COLUMN('resulta '!C5),FALSE) -> #REF! | E25: Bayonne | G25: point marquer
C26: =VLOOKUP($E26,INDIRECT($A26),COLUMN('resulta '!D6),FALSE) -> #REF! | D26: =VLOOKUP($E26,INDIRECT($A26),COLUMN('resulta '!C6),FALSE) -> #REF! | E26: Bayonne | G26: match dom
C27: =VLOOKUP($E27,INDIRECT($A27),COLUMN('resulta '!D7),FALSE) -> #REF! | D27: =VLOOKUP($E27,INDIRECT($A27),COLUMN('resulta '!C7),FALSE) -> #REF! | E27: Bayonne | G27: par match
C28: =VLOOKUP($E28,INDIRECT($A28),COLUMN('resulta '!D8),FALSE) -> #REF! | D28: =VLOOKUP($E28,INDIRECT($A28),COLUMN('resulta '!C8),FALSE) -> #REF! | E28: Bayonne | G28: match ext
C29: =VLOOKUP($E29,INDIRECT($A29),COLUMN('resulta '!D9),FALSE) -> #REF! | D29: =VLOOKUP($E29,INDIRECT($A29),COLUMN('resulta '!C9),FALSE) -> #REF! | E29: Bayonne | G29: par match
C30: =VLOOKUP($E30,INDIRECT($A30),COLUMN('resulta '!D10),FALSE) -> #REF! | D30: =VLOOKUP($E30,INDIRECT($A30),COLUMN('resulta '!C10),FALSE) -> #REF! | E30: Bayonne | G30: match
C31: =VLOOKUP($E31,INDIRECT($A31),COLUMN('resulta '!D11),FALSE) -> #REF! | D31: =VLOOKUP($E31,INDIRECT($A31),COLUMN('resulta '!C11),FALSE) -> #REF! | E31: Bayonne | G31: par match
C32: =VLOOKUP($E32,INDIRECT($A32),COLUMN('resulta '!D12),FALSE) -> #REF! | D32: =VLOOKUP($E32,INDIRECT($A32),COLUMN('resulta '!C12),FALSE) -> #REF! | E32: Bayonne
C33: =VLOOKUP($E33,INDIRECT($A33),COLUMN('resulta '!D13),FALSE) -> #REF! | D33: =VLOOKUP($E33,INDIRECT($A33),COLUMN('resulta '!C13),FALSE) -> #REF! | E33: Bayonne
C34: =VLOOKUP($E34,INDIRECT($A34),COLUMN('resulta '!D14),FALSE) -> #REF! | D34: =VLOOKUP($E34,INDIRECT($A34),COLUMN('resulta '!C14),FALSE) -> #REF! | E34: Bayonne
C35: =VLOOKUP($E35,INDIRECT($A35),COLUMN('resulta '!D15),FALSE) -> #REF! | D35: =VLOOKUP($E35,INDIRECT($A35),COLUMN('resulta '!C15),FALSE) -> #REF! | E35: Bayonne
A37: club | C37: face a face | D37: nbr de match | E37: victoire D | F37: victoire E | G37: % | H37: defaite D | I37: defaite E | J37: % | K37: nul | L37: %
A38: BAYONNE | B38: AGEN | C38: 8 | D38: 3 | E38: 2 | F38: =(D38+E38)/C38 -> 0.625 | G38: 0 | H38: 3 | I38: =(G38+H38)/C38 -> 0.375 | K38: =100%-(F38+I38) -> 0 | L38: =SUM(F38+I38+K38) -> 1
A39: BAYONNE | B39: BORDEAUX | C39: 11 | D39: 3 | E39: 0 | F39: =(D39+E39)/C39 -> 0.27272727 | G39: 2 | H39: 6 | I39: =(G39+H39)/C39 -> 0.72727273 | K39: =100%-(F39+I39) -> 0 | L39: =SUM(F39+I39+K39) -> 1
A40: BAYONNE | B40: BRIVE | C40: 15 | D40: 7 | E40: 1 | F40: =(D40+E40)/C40 -> 0.53333333 | G40: 0 | H40: 6 | I40: =(G40+H40)/C40 -> 0.4 | J40: 1 | K40: =100%-(F40+I40) -> 0.066666667 | L40: =SUM(F40+I40+K40) -> 1
A41: BAYONNE | B41: CASTRE | C41: 17 | D41: 5 | E41: 1 | F41: =(D41+E41)/C41 -> 0.35294118 | G41: 1 | H41: 7 | I41: =(G41+H41)/C41 -> 0.47058824 | J41: 3 | K41: =100%-(F41+I41) -> 0.17647059 | L41: =SUM(F41+I41+K41) -> 1
A42: BAYONNE | B42: CLERMONT | C42: 17 | D42: 6 | E42: 0 | F42: =(D42+E42)/C42 -> 0.35294118 | G42: 2 | H42: 8 | I42: =(G42+H42)/C42 -> 0.58823529 | J42: 1 | K42: =100%-(F42+I42) -> 0.058823529 | L42: =SUM(F42+I42+K42) -> 1
A43: BAYONNE | B43: LA ROCHELLE | C43: 7 | D43: 3 | E43: 1 | F43: =(D43+E43)/C43 -> 0.57142857 | G43: 1 | H43: 1 | I43: =(G43+H43)/C43 -> 0.28571429 | J43: 1 | K43: =100%-(F43+I43) -> 0.14285714 | L43: =SUM(F43+I43+K43) -> 1
A44: BAYONNE | B44: LYON | C44: 7 | D44: 2 | E44: 1 | F44: =(D44+E44)/C44 -> 0.42857143 | G44: 0 | H44: 3 | I44: =(G44+H44)/C44 -> 0.42857143 | J44: 1 | K44: =100%-(F44+I44) -> 0.14285714 | L44: =SUM(F44+I44+K44) -> 1
A45: BAYONNE | B45: MONTPELLIER | C45: 18 | D45: 5 | E45: 2 | F45: =(D45+E45)/C45 -> 0.38888889 | G45: 4 | H45: 7 | I45: =(G45+H45)/C45 -> 0.61111111 | K45: =100%-(F45+I45) -> 0 | L45: =SUM(F45+I45+K45) -> 1
A46: BAYONNE | B46: PARIS | C46: 18 | D46: 8 | E46: 1 | F46: =(D46+E46)/C46 -> 0.5 | G46: 1 | H46: 8 | I46: =(G46+H46)/C46 -> 0.5 | K46: =100%-(F46+I46) -> 0 | L46: =SUM(F46+I46+K46) -> 1
A47: BAYONNE | B47: PAU | C47: 3 | D47: 0 | E47: 0 | F47: =(D47+E47)/C47 -> 0 | G47: 1 | H47: 1 | I47: =(G47+H47)/C47 -> 0.66666667 | J47: 1 | K47: =100%-(F47+I47) -> 0.33333333 | L47: =SUM(F47+I47+K47) -> 1
A48: BAYONNE | B48: RACING 92 | C48: 15 | D48: 2 | E48: 1 | F48: =(D48+E48)/C48 -> 0.2 | G48: 5 | H48: 7 | I48: =(G48+H48)/C48 -> 0.8 | K48: =100%-(F48+I48) -> 0 | L48: =SUM(F48+I48+K48) -> 1
A49: BAYONNE | B49: TOULON | C49: 17 | D49: 4 | E49: 1 | F49: =(D49+E49)/C49 -> 0.29411765 | G49: 3 | H49: 7 | I49: =(G49+H49)/C49 -> 0.58823529 | J49: 2 | K49: =100%-(F49+I49) -> 0.11764706 | L49: =SUM(F49+I49+K49) -> 1
A50: BAYONNE | B50: TOULOUSE | C50: 18 | D50: 6 | E50: 0 | F50: =(D50+E50)/C50 -> 0.33333333 | G50: 3 | H50: 9 | I50: =(G50+H50)/C50 -> 0.66666667 | K50: =100%-(F50+I50) -> 0 | L50: =SUM(F50+I50+K50) -> 1

Sheet Bordeaux
A1: Bordeaux | B1: saison 2019/2020 | G1: point marquer | H1: saison 2020/2021 | L1: match du jour
B2: nbre match | C2: nbre vitoire | D2: nbre nul | E2: nbre defaite | G2: match dom | H2: =SUM(C8:C20) -> #REF! | I2: =SUM(D8:D20) -> #REF! | J2: =H2-I2 -> #REF! | L2: domicile | M2: exertieur
A3: nbre match D | B3: 9 | C3: 9 | D3: 0 | E3: 0 | G3: par match | H3: =H2/B3 -> #REF! | I3: =I2/B3 -> #REF! | L3: Bordeaux | M3: pau
A4: nbre match E | B4: 8 | C4: 4 | D4: 1 | E4: 3 | G4: match ext | H4: =SUM(D23:D35) -> #REF! | I4: =SUM(C23:C35) -> #REF! | J4: =H4-I4 -> #REF! | L4: {=INDEX($C$38:$L$50,MATCH(1,($A$38:$A$50=$A$1)*($B$38:$B$50=$M$3),0),4)} -> 0.66666667 | M4: {=INDEX($C$38:$L$50,MATCH(1,($A$38:$A$50=$L$3)*($B$38:$B$50=$M$3),0),7)} -> 0.33333333
A5: nbre match T | B5: =B3+B4 -> 17 | C5: =C3+C4 -> 13 | D5: =D3+D4 -> 1 | E5: =E3+E4 -> 3 | G5: par match | H5: =H4/B4 -> #REF! | I5: =I4/B4 -> #REF! | L5: =100/L4/100 -> 1.5 | M5: =100/M4/100 -> 3
G6: match | H6: =H2+H4 -> #REF! | I6: =I2+I4 -> #REF! | J6: =H6-I6 -> #REF!
A7: match dom | G7: par match | H7: =H6/B5 -> #REF! | I7: =I6/B5 -> #REF! | L7: Bordeaux | M7: Agen
B8: Bordeaux | C8: =VLOOKUP($B8,INDIRECT($A8),COLUMN('resulta '!C3),FALSE) -> #REF! | D8: =VLOOKUP($B8,INDIRECT($A8),COLUMN('resulta '!D3),FALSE) -> #REF! | L8: Bordeaux | M8: Bayonne
B9: Bordeaux | C9: =VLOOKUP($B9,INDIRECT($A9),COLUMN('resulta '!C4),FALSE) -> #REF! | D9: =VLOOKUP($B9,INDIRECT($A9),COLUMN('resulta '!D4),FALSE) -> #REF! | G9: point marquer | H9: saison 2019/2020 | L9: Bordeaux | M9: Brive
B10: Bordeaux | C10: =VLOOKUP($B10,INDIRECT($A10),COLUMN('resulta '!C5),FALSE) -> #REF! | D10: =VLOOKUP($B10,INDIRECT($A10),COLUMN('resulta '!D5),FALSE) -> #REF! | G10: match dom | H10: 256 | I10: 91 | J10: 165 | L10: Bordeaux | M10: Castres
B11: Bordeaux | C11: =VLOOKUP($B11,INDIRECT($A11),COLUMN('resulta '!C6),FALSE) -> #REF! | D11: =VLOOKUP($B11,INDIRECT($A11),COLUMN('resulta '!D6),FALSE) -> #REF! | G11: par match | H11: 28.444444 | I11: 10.111111 | L11: Bordeaux | M11: Clermont
B12: Bordeaux | C12: =VLOOKUP($B12,INDIRECT($A12),COLUMN('resulta '!C7),FALSE) -> #REF! | D12: =VLOOKUP($B12,INDIRECT($A12),COLUMN('resulta '!D7),FALSE) -> #REF! | G12: match ext | H12: 189 | I12: 201 | J12: -12 | L12: Bordeaux | M12: La Rochelle
B13: Bordeaux | C13: =VLOOKUP($B13,INDIRECT($A13),COLUMN('resulta '!C8),FALSE) -> #REF! | D13: =VLOOKUP($B13,INDIRECT($A13),COLUMN('resulta '!D8),FALSE) -> #REF! | G13: par match | H13: 23.625 | I13: 25.125 | L13: Bordeaux | M13: Lyon
B14: Bordeaux | C14: =VLOOKUP($B14,INDIRECT($A14),COLUMN('resulta '!C9),FALSE) -> #REF! | D14: =VLOOKUP($B14,INDIRECT($A14),COLUMN('resulta '!D9),FALSE) -> #REF! | G14: match | H14: 445 | I14: 292 | J14: 153 | L14: Bordeaux | M14: Montpellier
B15: Bordeaux | C15: =VLOOKUP($B15,INDIRECT($A15),COLUMN('resulta '!C10),FALSE) -> #REF! | D15: =VLOOKUP($B15,INDIRECT($A15),COLUMN('resulta '!D10),FALSE) -> #REF! | G15: par match | H15: 26.176471 | I15: 17.176471 | L15: Bordeaux | M15: Paris
B16: Bordeaux | C16: =VLOOKUP($B16,INDIRECT($A16),COLUMN('resulta '!C11),FALSE) -> #REF! | D16: =VLOOKUP($B16,INDIRECT($A16),COLUMN('resulta '!D11),FALSE) -> #REF! | L16: Bordeaux | M16: Pau
B17: Bordeaux | C17: =VLOOKUP($B17,INDIRECT($A17),COLUMN('resulta '!C12),FALSE) -> #REF! | D17: =VLOOKUP($B17,INDIRECT($A17),COLUMN('resulta '!D12),FALSE) -> #REF! | G17: point marquer | L17: Bordeaux | M17: Racing 92
B18: Bordeaux | C18: =VLOOKUP($B18,INDIRECT($A18),COLUMN('resulta '!C13),FALSE) -> #REF! | D18: =VLOOKUP($B18,INDIRECT($A18),COLUMN('resulta '!D13),FALSE) -> #REF! | G18: match dom | L18: Bordeaux | M18: Toulon
B19: Bordeaux | C19: =VLOOKUP($B19,INDIRECT($A19),COLUMN('resulta '!C14),FALSE) -> #REF! | D19: =VLOOKUP($B19,INDIRECT($A19),COLUMN('resulta '!D14),FALSE) -> #REF! | G19: par match | L19: Bordeaux | M19: Toulouse
B20: Bordeaux | C20: =VLOOKUP($B20,INDIRECT($A20),COLUMN('resulta '!C15),FALSE) -> #REF! | D20: =VLOOKUP($B20,INDIRECT($A20),COLUMN('resulta '!D15),FALSE) -> #REF! | G20: match ext
G21: par match
A22: match ext | G22: match
C23: =VLOOKUP($E23,INDIRECT($A23),COLUMN('resulta '!D3),FALSE) -> #REF! | D23: =VLOOKUP($E23,INDIRECT($A23),COLUMN('resulta '!C3),FALSE) -> #REF! | E23: Bordeaux | G23: par match
C24: =VLOOKUP($E24,INDIRECT($A24),COLUMN('resulta '!D4),FALSE) -> #REF! | D24: =VLOOKUP($E24,INDIRECT($A24),COLUMN('resulta '!C4),FALSE) -> #REF! | E24: Bordeaux
C25: =VLOOKUP($E25,INDIRECT($A25),COLUMN('resulta '!D5),FALSE) -> #REF! | D25: =VLOOKUP($E25,INDIRECT($A25),COLUMN('resulta '!C5),FALSE) -> #REF! | E25: Bordeaux | G25: point marquer
C26: =VLOOKUP($E26,INDIRECT($A26),COLUMN('resulta '!D6),FALSE) -> #REF! | D26: =VLOOKUP($E26,INDIRECT($A26),COLUMN('resulta '!C6),FALSE) -> #REF! | E26: Bordeaux | G26: match dom
C27: =VLOOKUP($E27,INDIRECT($A27),COLUMN('resulta '!D7),FALSE) -> #REF! | D27: =VLOOKUP($E27,INDIRECT($A27),COLUMN('resulta '!C7),FALSE) -> #REF! | E27: Bordeaux | G27: par match
C28: =VLOOKUP($E28,INDIRECT($A28),COLUMN('resulta '!D8),FALSE) -> #REF! | D28: =VLOOKUP($E28,INDIRECT($A28),COLUMN('resulta '!C8),FALSE) -> #REF! | E28: Bordeaux | G28: match ext
C29: =VLOOKUP($E29,INDIRECT($A29),COLUMN('resulta '!D9),FALSE) -> #REF! | D29: =VLOOKUP($E29,INDIRECT($A29),COLUMN('resulta '!C9),FALSE) -> #REF! | E29: Bordeaux | G29: par match
C30: =VLOOKUP($E30,INDIRECT($A30),COLUMN('resulta '!D10),FALSE) -> #REF! | D30: =VLOOKUP($E30,INDIRECT($A30),COLUMN('resulta '!C10),FALSE) -> #REF! | E30: Bordeaux | G30: match
C31: =VLOOKUP($E31,INDIRECT($A31),COLUMN('resulta '!D11),FALSE) -> #REF! | D31: =VLOOKUP($E31,INDIRECT($A31),COLUMN('resulta '!C11),FALSE) -> #REF! | E31: Bordeaux | G31: par match
C32: =VLOOKUP($E32,INDIRECT($A32),COLUMN('resulta '!D12),FALSE) -> #REF! | D32: =VLOOKUP($E32,INDIRECT($A32),COLUMN('resulta '!C12),FALSE) -> #REF! | E32: Bordeaux
C33: =VLOOKUP($E33,INDIRECT($A33),COLUMN('resulta '!D13),FALSE) -> #REF! | D33: =VLOOKUP($E33,INDIRECT($A33),COLUMN('resulta '!C13),FALSE) -> #REF! | E33: Bordeaux
C34: =VLOOKUP($E34,INDIRECT($A34),COLUMN('resulta '!D14),FALSE) -> #REF! | D34: =VLOOKUP($E34,INDIRECT($A34),COLUMN('resulta '!C14),FALSE) -> #REF! | E34: Bordeaux
C35: =VLOOKUP($E35,INDIRECT($A35),COLUMN('resulta '!D15),FALSE) -> #REF! | D35: =VLOOKUP($E35,INDIRECT($A35),COLUMN('resulta '!C15),FALSE) -> #REF! | E35: Bordeaux
A37: club | C37: face a face | D37: nbr de match | E37: victoire D | F37: victoire E | G37: % | H37: defaite D | I37: defaite E | J37: % | K37: nul | L37: %
A38: BORDEAUX | B38: AGEN | C38: 11 | D38: 6 | E38: 2 | F38: =(D38+E38)/C38 -> 0.72727273 | G38: 0 | H38: 3 | I38: =(G38+H38)/C38 -> 0.27272727 | K38: =100%-(F38+I38) -> 0 | L38: =SUM(F38+I38+K38) -> 1
A39: BORDEAUX | B39: BAYONNE | C39: 11 | D39: 6 | E39: 2 | F39: =(D39+E39)/C39 -> 0.72727273 | G39: 0 | H39: 3 | I39: =(G39+H39)/C39 -> 0.27272727 | K39: =100%-(F39+I39) -> 0 | L39: =SUM(F39+I39+K39) -> 1
A40: BORDEAUX | B40: BRIVE | C40: 13 | D40: 5 | E40: 2 | F40: =(D40+E40)/C40 -> 0.53846154 | G40: 0 | H40: 5 | I40: =(G40+H40)/C40 -> 0.38461538 | J40: 1 | K40: =100%-(F40+I40) -> 0.076923077 | L40: =SUM(F40+I40+K40) -> 1
A41: BORDEAUX | B41: CASTRES | C41: 18 | D41: 5 | E41: 2 | F41: =(D41+E41)/C41 -> 0.38888889 | G41: 4 | H41: 6 | I41: =(G41+H41)/C41 -> 0.55555556 | J41: 1 | K41: =100%-(F41+I41) -> 0.055555556 | L41: =SUM(F41+I41+K41) -> 1
A42: BORDEAUX | B42: CLERMONT | C42: 18 | D42: 5 | E42: 1 | F42: =(D42+E42)/C42 -> 0.33333333 | G42: 3 | H42: 7 | I42: =(G42+H42)/C42 -> 0.55555556 | J42: 2 | K42: =100%-(F42+I42) -> 0.11111111 | L42: =SUM(F42+I42+K42) -> 1
A43: BORDEAUX | B43: LA ROCHELLE | C43: 11 | D43: 5 | E43: 1 | F43: =(D43+E43)/C43 -> 0.54545455 | G43: 1 | H43: 4 | I43: =(G43+H43)/C43 -> 0.45454545 | K43: =100%-(F43+I43) -> 0 | L43: =SUM(F43+I43+K43) -> 1
A44: BORDEAUX | B44: LYON | C44: 12 | D44: 6 | E44: 1 | F44: =(D44+E44)/C44 -> 0.58333333 | G44: 0 | H44: 5 | I44: =(G44+H44)/C44 -> 0.41666667 | K44: =100%-(F44+I44) -> 0 | L44: =SUM(F44+I44+K44) -> 1
A45: BORDEAUX | B45: MONTPELLIER | C45: 17 | D45: 2 | E45: 1 | F45: =(D45+E45)/C45 -> 0.17647059 | G45: 5 | H45: 7 | I45: =(G45+H45)/C45 -> 0.70588235 | J45: 2 | K45: =100%-(F45+I45) -> 0.11764706 | L45: =SUM(F45+I45+K45) -> 1
A46: BORDEAUX | B46: PARIS | C46: 17 | D46: 8 | E46: 1 | F46: =(D46+E46)/C46 -> 0.52941176 | G46: 1 | H46: 7 | I46: =(G46+H46)/C46 -> 0.47058824 | K46: =100%-(F46+I46) -> 0 | L46: =SUM(F46+I46+K46) -> 1
A47: BORDEAUX | B47: PAU | C47: 9 | D47: 3 | E47: 3 | F47: =(D47+E47)/C47 -> 0.66666667 | G47: 1 | H47: 2 | I47: =(G47+H47)/C47 -> 0.33333333 | K47: =100%-(F47+I47) -> 0 | L47: =SUM(F47+I47+K47) -> 1
A48: BORDEAUX | B48: RACING 92 | C48: 17 | D48: 5 | E48: 1 | F48: =(D48+E48)/C48 -> 0.35294118 | G48: 3 | H48: 8 | I48: =(G48+H48)/C48 -> 0.64705882 | K48: =100%-(F48+I48) -> 0 | L48: =SUM(F48+I48+K48) -> 1
A49: BORDEAUX | B49: TOULON | C49: 17 | D49: 6 | E49: 0 | F49: =(D49+E49)/C49 -> 0.35294118 | G49: 3 | H49: 8 | I49: =(G49+H49)/C49 -> 0.64705882 | K49: =100%-(F49+I49) -> 0 | L49: =SUM(F49+I49+K49) -> 1
A50: BORDEAUX | B50: TOULOUSE | C50: 18 | D50: 5 | E50: 0 | F50: =(D50+E50)/C50 -> 0.27777778 | G50: 4 | H50: 8 | I50: =(G50+H50)/C50 -> 0.66666667 | J50: 1 | K50: =100%-(F50+I50) -> 0.055555556 | L50: =SUM(F50+I50+K50) -> 1

Sheet Brive
A1: Brive | B1: saison 2019/2020 | G1: point marquer | H1: saison 2020/2021 | L1: match du jour
B2: nbre match | C2: nbre vitoire | D2: nbre nul | E2: nbre defaite | G2: match dom | H2: =SUM(C8:C20) -> #REF! | I2: =SUM(D8:D20) -> #REF! | J2: =H2-I2 -> #REF! | L2: domicile | M2: exertieur
A3: nbre match D | B3: 9 | C3: 7 | D3: 0 | E3: 2 | G3: par match | H3: =H2/B3 -> #REF! | I3: =I2/B3 -> #REF! | L3: Brive | M3: bordeaux
A4: nbre match E | B4: 8 | C4: 0 | D4: 1 | E4: 7 | G4: match ext | H4: =SUM(D23:D35) -> #REF! | I4: =SUM(C23:C35) -> #REF! | J4: =H4-I4 -> #REF! | L4: {=INDEX($C$38:$L$50,MATCH(1,($A$38:$A$50=$A$1)*($B$38:$B$50=$M$3),0),4)} -> 0.38461538 | M4: {=INDEX($C$38:$L$50,MATCH(1,($A$38:$A$50=$L$3)*($B$38:$B$50=$M$3),0),7)} -> 0.53846154
A5: nbre match T | B5: =B3+B4 -> 17 | C5: =C3+C4 -> 7 | D5: =D3+D4 -> 1 | E5: =E3+E4 -> 9 | G5: par match | H5: =H4/B4 -> #REF! | I5: =I4/B4 -> #REF! | L5: =100/L4/100 -> 2.6 | M5: =100/M4/100 -> 1.8571429
G6: match | H6: =H2+H4 -> #REF! | I6: =I2+I4 -> #REF! | J6: =H6-I6 -> #REF!
A7: match dom | G7: par match | H7: =H6/B5 -> #REF! | I7: =I6/B5 -> #REF! | L7: Brive | M7: Agen
B8: Brive | C8: =VLOOKUP($B8,INDIRECT($A8),COLUMN('resulta '!C3),FALSE) -> #REF! | D8: =VLOOKUP($B8,INDIRECT($A8),COLUMN('resulta '!D3),FALSE) -> #REF! | L8: Brive | M8: Bayonne
B9: Brive | C9: =VLOOKUP($B9,INDIRECT($A9),COLUMN('resulta '!C4),FALSE) -> #REF! | D9: =VLOOKUP($B9,INDIRECT($A9),COLUMN('resulta '!D4),FALSE) -> #REF! | G9: point marquer | H9: saison 2019/2020 | L9: Brive | M9: bordeaux
B10: Brive | C10: =VLOOKUP($B10,INDIRECT($A10),COLUMN('resulta '!C5),FALSE) -> #REF! | D10: =VLOOKUP($B10,INDIRECT($A10),COLUMN('resulta '!D5),FALSE) -> #REF! | G10: match dom | H10: 245 | I10: 193 | J10: 52 | L10: Brive | M10: Castres
B11: Brive | C11: =VLOOKUP($B11,INDIRECT($A11),COLUMN('resulta '!C6),FALSE) -> #REF! | D11: =VLOOKUP($B11,INDIRECT($A11),COLUMN('resulta '!D6),FALSE) -> #REF! | G11: par match | H11: 27.222222 | I11: 21.444444 | L11: Brive | M11: Clermont
B12: Brive | C12: =VLOOKUP($B12,INDIRECT($A12),COLUMN('resulta '!C7),FALSE) -> #REF! | D12: =VLOOKUP($B12,INDIRECT($A12),COLUMN('resulta '!D7),FALSE) -> #REF! | G12: match ext | H12: 105 | I12: 213 | J12: -108 | L12: Brive | M12: La Rochelle
B13: Brive | C13: =VLOOKUP($B13,INDIRECT($A13),COLUMN('resulta '!C8),FALSE) -> #REF! | D13: =VLOOKUP($B13,INDIRECT($A13),COLUMN('resulta '!D8),FALSE) -> #REF! | G13: par match | H13: 13.125 | I13: 26.625 | L13: Brive | M13: Lyon
B14: Brive | C14: =VLOOKUP($B14,INDIRECT($A14),COLUMN('resulta '!C9),FALSE) -> #REF! | D14: =VLOOKUP($B14,INDIRECT($A14),COLUMN('resulta '!D9),FALSE) -> #REF! | G14: match | H14: 350 | I14: 406 | J14: -56 | L14: Brive | M14: Montpellier
B15: Brive | C15: =VLOOKUP($B15,INDIRECT($A15),COLUMN('resulta '!C10),FALSE) -> #REF! | D15: =VLOOKUP($B15,INDIRECT($A15),COLUMN('resulta '!D10),FALSE) -> #REF! | G15: par match | H15: 20.588235 | I15: 23.882353 | L15: Brive | M15: Paris
B16: Brive | C16: =VLOOKUP($B16,INDIRECT($A16),COLUMN('resulta '!C11),FALSE) -> #REF! | D16: =VLOOKUP($B16,INDIRECT($A16),COLUMN('resulta '!D11),FALSE) -> #REF! | L16: Brive | M16: Pau
B17: Brive | C17: =VLOOKUP($B17,INDIRECT($A17),COLUMN('resulta '!C12),FALSE) -> #REF! | D17: =VLOOKUP($B17,INDIRECT($A17),COLUMN('resulta '!D12),FALSE) -> #REF! | G17: point marquer | L17: Brive | M17: Racing 92
B18: Brive | C18: =VLOOKUP($B18,INDIRECT($A18),COLUMN('resulta '!C13),FALSE) -> #REF! | D18: =VLOOKUP($B18,INDIRECT($A18),COLUMN('resulta '!D13),FALSE) -> #REF! | G18: match dom | L18: Brive | M18: Toulon
B19: Brive | C19: =VLOOKUP($B19,INDIRECT($A19),COLUMN('resulta '!C14),FALSE) -> #REF! | D19: =VLOOKUP($B19,INDIRECT($A19),COLUMN('resulta '!D14),FALSE) -> #REF! | G19: par match | L19: Brive | M19: Toulouse
B20: Brive | C20: =VLOOKUP($B20,INDIRECT($A20),COLUMN('resulta '!C15),FALSE) -> #REF! | D20: =VLOOKUP($B20,INDIRECT($A20),COLUMN('resulta '!D15),FALSE) -> #REF! | G20: match ext
G21: par match
A22: match ext | G22: match
C23: =VLOOKUP($E23,INDIRECT($A23),COLUMN('resulta '!D3),FALSE) -> #REF! | D23: =VLOOKUP($E23,INDIRECT($A23),COLUMN('resulta '!C3),FALSE) -> #REF! | E23: Brive | G23: par match
C24: =VLOOKUP($E24,INDIRECT($A24),COLUMN('resulta '!D4),FALSE) -> #REF! | D24: =VLOOKUP($E24,INDIRECT($A24),COLUMN('resulta '!C4),FALSE) -> #REF! | E24: Brive
C25: =VLOOKUP($E25,INDIRECT($A25),COLUMN('resulta '!D5),FALSE) -> #REF! | D25: =VLOOKUP($E25,INDIRECT($A25),COLUMN('resulta '!C5),FALSE) -> #REF! | E25: Brive | G25: point marquer
C26: =VLOOKUP($E26,INDIRECT($A26),COLUMN('resulta '!D6),FALSE) -> #REF! | D26: =VLOOKUP($E26,INDIRECT($A26),COLUMN('resulta '!C6),FALSE) -> #REF! | E26: Brive | G26: match dom
C27: =VLOOKUP($E27,INDIRECT($A27),COLUMN('resulta '!D7),FALSE) -> #REF! | D27: =VLOOKUP($E27,INDIRECT($A27),COLUMN('resulta '!C7),FALSE) -> #REF! | E27: Brive | G27: par match
C28: =VLOOKUP($E28,INDIRECT($A28),COLUMN('resulta '!D8),FALSE) -> #REF! | D28: =VLOOKUP($E28,INDIRECT($A28),COLUMN('resulta '!C8),FALSE) -> #REF! | E28: Brive | G28: match ext
C29: =VLOOKUP($E29,INDIRECT($A29),COLUMN('resulta '!D9),FALSE) -> #REF! | D29: =VLOOKUP($E29,INDIRECT($A29),COLUMN('resulta '!C9),FALSE) -> #REF! | E29: Brive | G29: par match
C30: =VLOOKUP($E30,INDIRECT($A30),COLUMN('resulta '!D10),FALSE) -> #REF! | D30: =VLOOKUP($E30,INDIRECT($A30),COLUMN('resulta '!C10),FALSE) -> #REF! | E30: Brive | G30: match
C31: =VLOOKUP($E31,INDIRECT($A31),COLUMN('resulta '!D11),FALSE) -> #REF! | D31: =VLOOKUP($E31,INDIRECT($A31),COLUMN('resulta '!C11),FALSE) -> #REF! | E31: Brive | G31: par match
C32: =VLOOKUP($E32,INDIRECT($A32),COLUMN('resulta '!D12),FALSE) -> #REF! | D32: =VLOOKUP($E32,INDIRECT($A32),COLUMN('resulta '!C12),FALSE) -> #REF! | E32: Brive
C33: =VLOOKUP($E33,INDIRECT($A33),COLUMN('resulta '!D13),FALSE) -> #REF! | D33: =VLOOKUP($E33,INDIRECT($A33),COLUMN('resulta '!C13),FALSE) -> #REF! | E33: Brive
C34: =VLOOKUP($E34,INDIRECT($A34),COLUMN('resulta '!D14),FALSE) -> #REF! | D34: =VLOOKUP($E34,INDIRECT($A34),COLUMN('resulta '!C14),FALSE) -> #REF! | E34: Brive
C35: =VLOOKUP($E35,INDIRECT($A35),COLUMN('resulta '!D15),FALSE) -> #REF! | D35: =VLOOKUP($E35,INDIRECT($A35),COLUMN('resulta '!C15),FALSE) -> #REF! | E35: Brive
A37: club | C37: face a face | D37: nbr de match | E37: victoire D | F37: victoire E | G37: % | H37: defaite D | I37: defaite E | J37: % | K37: nul | L37: %
A38: BRIVE | B38: AGEN | C38: 10 | D38: 2 | E38: 0 | F38: =(D38+E38)/C38 -> 0.2 | G38: 3 | H38: 5 | I38: =(G38+H38)/C38 -> 0.8 | K38: =100%-(F38+I38) -> 0 | L38: =SUM(F38+I38+K38) -> 1
A39: BRIVE | B39: BAYONNE | C39: 15 | D39: 6 | E39: 0 | F39: =(D39+E39)/C39 -> 0.4 | G39: 1 | H39: 7 | I39: =(G39+H39)/C39 -> 0.53333333 | J39: 1 | K39: =100%-(F39+I39) -> 0.066666667 | L39: =SUM(F39+I39+K39) -> 1
A40: BRIVE | B40: BORDEAUX | C40: 13 | D40: 5 | E40: 0 | F40: =(D40+E40)/C40 -> 0.38461538 | G40: 2 | H40: 5 | I40: =(G40+H40)/C40 -> 0.53846154 | J40: 1 | K40: =100%-(F40+I40) -> 0.076923077 | L40: =SUM(F40+I40+K40) -> 1
A41: BRIVE | B41: CASTRES | C41: 19 | D41: 6 | E41: 0 | F41: =(D41+E41)/C41 -> 0.31578947 | G41: 2 | H41: 9 | I41: =(G41+H41)/C41 -> 0.57894737 | J41: 2 | K41: =100%-(F41+I41) -> 0.10526316 | L41: =SUM(F41+I41+K41) -> 1
A42: BRIVE | B42: CLERMONT | C42: 19 | D42: 4 | E42: 1 | F42: =(D42+E42)/C42 -> 0.26315789 | G42: 5 | H42: 8 | I42: =(G42+H42)/C42 -> 0.68421053 | J42: 1 | K42: =100%-(F42+I42) -> 0.052631579 | L42: =SUM(F42+I42+K42) -> 1
A43: BRIVE | B43: LA ROCHELLE | C43: 11 | D43: 4 | E43: 0 | F43: =(D43+E43)/C43 -> 0.36363636 | G43: 1 | H43: 6 | I43: =(G43+H43)/C43 -> 0.63636364 | K43: =100%-(F43+I43) -> 0 | L43: =SUM(F43+I43+K43) -> 1
A44: BRIVE | B44: LYON | C44: 12 | D44: 3 | E44: 1 | F44: =(D44+E44)/C44 -> 0.33333333 | G44: 2 | H44: 3 | I44: =(G44+H44)/C44 -> 0.41666667 | J44: 3 | K44: =100%-(F44+I44) -> 0.25 | L44: =SUM(F44+I44+K44) -> 1
A45: BRIVE | B45: MONTPELLIER | C45: 19 | D45: 8 | E45: 4 | F45: =(D45+E45)/C45 -> 0.63157895 | G45: 1 | H45: 6 | I45: =(G45+H45)/C45 -> 0.36842105 | K45: =100%-(F45+I45) -> 0 | L45: =SUM(F45+I45+K45) -> 1
A46: BRIVE | B46: PARIS | C46: 19 | D46: 10 | E46: 1 | F46: =(D46+E46)/C46 -> 0.57894737 | G46: 0 | H46: 8 | I46: =(G46+H46)/C46 -> 0.42105263 | K46: =100%-(F46+I46) -> 0 | L46: =SUM(F46+I46+K46) -> 1
A47: BRIVE | B47: PAU | C47: 11 | D47: 5 | E47: 1 | F47: =(D47+E47)/C47 -> 0.54545455 | G47: 1 | H47: 4 | I47: =(G47+H47)/C47 -> 0.45454545 | K47: =100%-(F47+I47) -> 0 | L47: =SUM(F47+I47+K47) -> 1
A48: BRIVE | B48: RACING 92 | C48: 17 | D48: 3 | E48: 0 | F48: =(D48+E48)/C48 -> 0.17647059 | G48: 5 | H48: 7 | I48: =(G48+H48)/C48 -> 0.70588235 | J48: 2 | K48: =100%-(F48+I48) -> 0.11764706 | L48: =SUM(F48+I48+K48) -> 1
A49: BRIVE | B49: TOULON | C49: 20 | D49: 8 | E49: 1 | F49: =(D49+E49)/C49 -> 0.45 | G49: 2 | H49: 8 | I49: =(G49+H49)/C49 -> 0.5 | J49: 1 | K49: =100%-(F49+I49) -> 0.05 | L49: =SUM(F49+I49+K49) -> 1
A50: BRIVE | B50: TOULOUSE | C50: 19 | D50: 5 | E50: 0 | F50: =(D50+E50)/C50 -> 0.26315789 | G50: 2 | H50: 9 | I50: =(G50+H50)/C50 -> 0.57894737 | J50: 3 | K50: =100%-(F50+I50) -> 0.15789474 | L50: =SUM(F50+I50+K50) -> 1

Sheet Castres
A1: Castres | B1: saison 2019/2020 | G1: point marquer | H1: saison 2020/2021 | L1: match du jour
B2: nbre match | C2: nbre vitoire | D2: nbre nul | E2: nbre defaite | G2: match dom | H2: =SUM(C8:C20) -> #REF! | I2: =SUM(D8:D20) -> #REF! | J2: =H2-I2 -> #REF! | L2: domicile | M2: exertieur
A3: nbre match D | B3: 8 | C3: 6 | D3: 0 | E3: 2 | G3: par match | H3: =H2/B3 -> #REF! | I3: =I2/B3 -> #REF! | L3: Castres | M3: brive
A4: nbre match E | B4: 9 | C4: 1 | D4: 0 | E4: 8 | G4: match ext | H4: =SUM(D23:D35) -> #REF! | I4: =SUM(C23:C35) -> #REF! | J4: =H4-I4 -> #REF! | L4: {=INDEX($C$39:$L$50,MATCH(1,($A$39:$A$50=$A$1)*($B$39:$B$50=$M$3),0),4)} -> 0.57894737 | M4: {=INDEX($C$39:$L$50,MATCH(1,($A$39:$A$50=$L$3)*($B$39:$B$50=$M$3),0),7)} -> 0.31578947
A5: nbre match T | B5: =B3+B4 -> 17 | C5: =C3+C4 -> 7 | D5: =D3+D4 -> 0 | E5: =E3+E4 -> 10 | G5: par match | H5: =H4/B4 -> #REF! | I5: =I4/B4 -> #REF! | L5: =100/L4/100 -> 1.7272727 | M5: =100/M4/100 -> 3.1666667
G6: match | H6: =H2+H4 -> #REF! | I6: =I2+I4 -> #REF! | J6: =H6-I6 -> #REF!
A7: match dom | G7: par match | H7: =H6/B5 -> #REF! | I7: =I6/B5 -> #REF! | L7: Castres | M7: Agen
B8: Castres | C8: =VLOOKUP($B8,INDIRECT($A8),COLUMN('resulta '!C3),FALSE) -> #REF! | D8: =VLOOKUP($B8,INDIRECT($A8),COLUMN('resulta '!D3),FALSE) -> #REF! | L8: Castres | M8: Bayonne
B9: Castres | C9: =VLOOKUP($B9,INDIRECT($A9),COLUMN('resulta '!C4),FALSE) -> #REF! | D9: =VLOOKUP($B9,INDIRECT($A9),COLUMN('resulta '!D4),FALSE) -> #REF! | G9: point marquer | H9: saison 2019/2020 | L9: Castres | M9: bordeaux
B10: Castres | C10: =VLOOKUP($B10,INDIRECT($A10),COLUMN('resulta '!C5),FALSE) -> #REF! | D10: =VLOOKUP($B10,INDIRECT($A10),COLUMN('resulta '!D5),FALSE) -> #REF! | G10: match dom | H10: 191 | I10: 158 | J10: 33 | L10: Castres | M10: brive
B11: Castres | C11: =VLOOKUP($B11,INDIRECT($A11),COLUMN('resulta '!C6),FALSE) -> #REF! | D11: =VLOOKUP($B11,INDIRECT($A11),COLUMN('resulta '!D6),FALSE) -> #REF! | G11: par match | H11: 23.875 | I11: 19.75 | L11: Castres | M11: Clermont
B12: Castres | C12: =VLOOKUP($B12,INDIRECT($A12),COLUMN('resulta '!C7),FALSE) -> #REF! | D12: =VLOOKUP($B12,INDIRECT($A12),COLUMN('resulta '!D7),FALSE) -> #REF! | G12: match ext | H12: 175 | I12: 267 | J12: -92 | L12: Castres | M12: La Rochelle
B13: Castres | C13: =VLOOKUP($B13,INDIRECT($A13),COLUMN('resulta '!C8),FALSE) -> #REF! | D13: =VLOOKUP($B13,INDIRECT($A13),COLUMN('resulta '!D8),FALSE) -> #REF! | G13: par match | H13: 19.444444 | I13: 29.666667 | L13: Castres | M13: Lyon
B14: Castres | C14: =VLOOKUP($B14,INDIRECT($A14),COLUMN('resulta '!C9),FALSE) -> #REF! | D14: =VLOOKUP($B14,INDIRECT($A14),COLUMN('resulta '!D9),FALSE) -> #REF! | G14: match | H14: 366 | I14: 425 | J14: -59 | L14: Castres | M14: Montpellier
B15: Castres | C15: =VLOOKUP($B15,INDIRECT($A15),COLUMN('resulta '!C10),FALSE) -> #REF! | D15: =VLOOKUP($B15,INDIRECT($A15),COLUMN('resulta '!D10),FALSE) -> #REF! | G15: par match | H15: 21.529412 | I15: 25 | L15: Castres | M15: Paris
B16: Castres | C16: =VLOOKUP($B16,INDIRECT($A16),COLUMN('resulta '!C11),FALSE) -> #REF! | D16: =VLOOKUP($B16,INDIRECT($A16),COLUMN('resulta '!D11),FALSE) -> #REF! | L16: Castres | M16: Pau
B17: Castres | C17: =VLOOKUP($B17,INDIRECT($A17),COLUMN('resulta '!C12),FALSE) -> #REF! | D17: =VLOOKUP($B17,INDIRECT($A17),COLUMN('resulta '!D12),FALSE) -> #REF! | G17: point marquer | L17: Castres | M17: Racing 92
B18: Castres | C18: =VLOOKUP($B18,INDIRECT($A18),COLUMN('resulta '!C13),FALSE) -> #REF! | D18: =VLOOKUP($B18,INDIRECT($A18),COLUMN('resulta '!D13),FALSE) -> #REF! | G18: match dom | L18: Castres | M18: Toulon
B19: Castres | C19: =VLOOKUP($B19,INDIRECT($A19),COLUMN('resulta '!C14),FALSE) -> #REF! | D19: =VLOOKUP($B19,INDIRECT($A19),COLUMN('resulta '!D14),FALSE) -> #REF! | G19: par match | L19: Castres | M19: Toulouse
B20: Castres | C20: =VLOOKUP($B20,INDIRECT($A20),COLUMN('resulta '!C15),FALSE) -> #REF! | D20: =VLOOKUP($B20,INDIRECT($A20),COLUMN('resulta '!D15),FALSE) -> #REF! | G20: match ext
G21: par match
A22: match ext | G22: match
C23: =VLOOKUP($E23,INDIRECT($A23),COLUMN('resulta '!D3),FALSE) -> #REF! | D23: =VLOOKUP($E23,INDIRECT($A23),COLUMN('resulta '!C3),FALSE) -> #REF! | E23: Castres | G23: par match
C24: =VLOOKUP($E24,INDIRECT($A24),COLUMN('resulta '!D4),FALSE) -> #REF! | D24: =VLOOKUP($E24,INDIRECT($A24),COLUMN('resulta '!C4),FALSE) -> #REF! | E24: Castres
C25: =VLOOKUP($E25,INDIRECT($A25),COLUMN('resulta '!D5),FALSE) -> #REF! | D25: =VLOOKUP($E25,INDIRECT($A25),COLUMN('resulta '!C5),FALSE) -> #REF! | E25: Castres | G25: point marquer
C26: =VLOOKUP($E26,INDIRECT($A26),COLUMN('resulta '!D6),FALSE) -> #REF! | D26: =VLOOKUP($E26,INDIRECT($A26),COLUMN('resulta '!C6),FALSE) -> #REF! | E26: Castres | G26: match dom
C27: =VLOOKUP($E27,INDIRECT($A27),COLUMN('resulta '!D7),FALSE) -> #REF! | D27: =VLOOKUP($E27,INDIRECT($A27),COLUMN('resulta '!C7),FALSE) -> #REF! | E27: Castres | G27: par match
C28: =VLOOKUP($E28,INDIRECT($A28),COLUMN('resulta '!D8),FALSE) -> #REF! | D28: =VLOOKUP($E28,INDIRECT($A28),COLUMN('resulta '!C8),FALSE) -> #REF! | E28: Castres | G28: match ext
C29: =VLOOKUP($E29,INDIRECT($A29),COLUMN('resulta '!D9),FALSE) -> #REF! | D29: =VLOOKUP($E29,INDIRECT($A29),COLUMN('resulta '!C9),FALSE) -> #REF! | E29: Castres | G29: par match
C30: =VLOOKUP($E30,INDIRECT($A30),COLUMN('resulta '!D10),FALSE) -> #REF! | D30: =VLOOKUP($E30,INDIRECT($A30),COLUMN('resulta '!C10),FALSE) -> #REF! | E30: Castres | G30: match
C31: =VLOOKUP($E31,INDIRECT($A31),COLUMN('resulta '!D11),FALSE) -> #REF! | D31: =VLOOKUP($E31,INDIRECT($A31),COLUMN('resulta '!C11),FALSE) -> #REF! | E31: Castres | G31: par match
C32: =VLOOKUP($E32,INDIRECT($A32),COLUMN('resulta '!D12),FALSE) -> #REF! | D32: =VLOOKUP($E32,INDIRECT($A32),COLUMN('resulta '!C12),FALSE) -> #REF! | E32: Castres
C33: =VLOOKUP($E33,INDIRECT($A33),COLUMN('resulta '!D13),FALSE) -> #REF! | D33: =VLOOKUP($E33,INDIRECT($A33),COLUMN('resulta '!C13),FALSE) -> #REF! | E33: Castres
C34: =VLOOKUP($E34,INDIRECT($A34),COLUMN('resulta '!D14),FALSE) -> #REF! | D34: =VLOOKUP($E34,INDIRECT($A34),COLUMN('resulta '!C14),FALSE) -> #REF! | E34: Castres
C35: =VLOOKUP($E35,INDIRECT($A35),COLUMN('resulta '!D15),FALSE) -> #REF! | D35: =VLOOKUP($E35,INDIRECT($A35),COLUMN('resulta '!C15),FALSE) -> #REF! | E35: Castres
A37: ='Agen '!A37 -> club | C37: ='Agen '!C37 -> nbr de match | D37: ='Agen '!D37 -> victoire D | E37: ='Agen '!E37 -> victoire E | F37: ='Agen '!F37 -> % | G37: ='Agen '!G37 -> defaite D | H37: ='Agen '!H37 -> defaite E | I37: ='Agen '!I37 -> % | J37: ='Agen '!J37 -> nul | ... L37: ='Agen '!L37 -> 0
A38: CASTRES | B38: AGEN | C38: 14 | D38: 6 | E38: 4 | F38: =(D38+E38)/C38 -> 0.71428571 | G38: 1 | H38: 3 | I38: =(G38+H38)/C38 -> 0.28571429 | K38: =100%-(F38+I38) -> 0 | L38: =SUM(F38+I38+K38) -> 1
A39: CASTRES | B39: BAYONNE | C39: 17 | D39: 7 | E39: 1 | F39: =(D39+E39)/C39 -> 0.47058824 | G39: 1 | H39: 5 | I39: =(G39+H39)/C39 -> 0.35294118 | J39: 3 | K39: =100%-(F39+I39) -> 0.17647059 | L39: =SUM(F39+I39+K39) -> 1
A40: CASTRES | B40: BORDEAUX | C40: 18 | D40: 6 | E40: 4 | F40: =(D40+E40)/C40 -> 0.55555556 | G40: 2 | H40: 5 | I40: =(G40+H40)/C40 -> 0.38888889 | J40: 1 | K40: =100%-(F40+I40) -> 0.055555556 | L40: =SUM(F40+I40+K40) -> 1
A41: CASTRES | B41: BRIVE | C41: 19 | D41: 9 | E41: 2 | F41: =(D41+E41)/C41 -> 0.57894737 | G41: 0 | H41: 6 | I41: =(G41+H41)/C41 -> 0.31578947 | J41: 2 | K41: =100%-(F41+I41) -> 0.10526316 | L41: =SUM(F41+I41+K41) -> 1
A42: CASTRES | B42: CLERMONT | C42: 25 | D42: 8 | E42: 3 | F42: =(D42+E42)/C42 -> 0.44 | G42: 1 | H42: 11 | I42: =(G42+H42)/C42 -> 0.48 | J42: 2 | K42: =100%-(F42+I42) -> 0.08 | L42: =SUM(F42+I42+K42) -> 1
A43: CASTRES | B43: LA ROCHELLE | C43: 13 | D43: 5 | E43: 1 | F43: =(D43+E43)/C43 -> 0.46153846 | G43: 1 | H43: 6 | I43: =(G43+H43)/C43 -> 0.53846154 | K43: =100%-(F43+I43) -> 0 | L43: =SUM(F43+I43+K43) -> 1
A44: CASTRES | B44: LYON | C44: 11 | D44: 4 | E44: 3 | F44: =(D44+E44)/C44 -> 0.63636364 | G44: 1 | H44: 2 | I44: =(G44+H44)/C44 -> 0.27272727 | J44: 1 | K44: =100%-(F44+I44) -> 0.090909091 | L44: =SUM(F44+I44+K44) -> 1
A45: CASTRES | B45: MONTPELLIER | C45: 29 | D45: 11 | E45: 5 | F45: =(D45+E45)/C45 -> 0.55172414 | G45: 4 | H45: 8 | I45: =(G45+H45)/C45 -> 0.4137931 | J45: 1 | K45: =100%-(F45+I45) -> 0.034482759 | L45: =SUM(F45+I45+K45) -> 1
A46: CASTRES | B46: PARIS | C46: 23 | D46: 9 | E46: 0 | F46: =(D46+E46)/C46 -> 0.39130435 | G46: 3 | H46: 10 | I46: =(G46+H46)/C46 -> 0.56521739 | J46: 1 | K46: =100%-(F46+I46) -> 0.043478261 | L46: =SUM(F46+I46+K46) -> 1
A47: CASTRES | B47: PAU | C47: 10 | D47: 4 | E47: 1 | F47: =(D47+E47)/C47 -> 0.5 | G47: 1 | H47: 4 | I47: =(G47+H47)/C47 -> 0.5 | K47: =100%-(F47+I47) -> 0 | L47: =SUM(F47+I47+K47) -> 1
A48: CASTRES | B48: RACING 92 | C48: 23 | D48: 7 | E48: 2 | F48: =(D48+E48)/C48 -> 0.39130435 | G48: 4 | H48: 9 | I48: =(G48+H48)/C48 -> 0.56521739 | J48: 1 | K48: =100%-(F48+I48) -> 0.043478261 | L48: =SUM(F48+I48+K48) -> 1
A49: CASTRES | B49: TOULON | C49: 26 | D49: 9 | E49: 2 | F49: =(D49+E49)/C49 -> 0.42307692 | G49: 1 | H49: 12 | I49: =(G49+H49)/C49 -> 0.5 | J49: 2 | K49: =100%-(F49+I49) -> 0.076923077 | L49: =SUM(F49+I49+K49) -> 1
A50: CASTRES | B50: TOULOUSE | C50: 26 | D50: 7 | E50: 3 | F50: =(D50+E50)/C50 -> 0.38461538 | G50: 4 | H50: 12 | I50: =(G50+H50)/C50 -> 0.61538462 | K50: =100%-(F50+I50) -> 0 | L50: =SUM(F50+I50+K50) -> 1

Sheet Clermont
A1: Clermont | B1: saison 2019/2020 | G1: point marquer | H1: saison 2020/2021 | L1: match du jour
B2: nbre match | C2: nbre vitoire | D2: nbre nul | E2: nbre defaite | G2: match dom | H2: =SUM(C8:C20) -> #REF! | I2: =SUM(D8:D20) -> #REF! | J2: =H2-I2 -> #REF! | L2: domicile | M2: exertieur
A3: nbre match D | B3: 8 | C3: 6 | D3: 0 | E3: 2 | G3: par match | H3: =H2/B3 -> #REF! | I3: =I2/B3 -> #REF! | L3: Clermont | M3: Agen
A4: nbre match E | B4: 9 | C4: 4 | D4: 0 | E4: 5 | G4: match ext | H4: =SUM(D23:D35) -> #REF! | I4: =SUM(C23:C35) -> #REF! | J4: =H4-I4 -> #REF! | L4: {=INDEX($C$38:$L$50,MATCH(1,($A$38:$A$50=$A$1)*($B$38:$B$50=$M$3),0),4)} -> 0.85714286 | M4: {=INDEX($C$38:$L$50,MATCH(1,($A$38:$A$50=$L$3)*($B$38:$B$50=$M$3),0),7)} -> 0.14285714
A5: nbre match T | B5: =B3+B4 -> 17 | C5: =C3+C4 -> 10 | D5: =D3+D4 -> 0 | E5: =E3+E4 -> 7 | G5: par match | H5: =H4/B4 -> #REF! | I5: =I4/B4 -> #REF! | L5: =100/L4/100 -> 1.1666667 | M5: =100/M4/100 -> 7
G6: match | H6: =H2+H4 -> #REF! | I6: =I2+I4 -> #REF! | J6: =H6-I6 -> #REF!
A7: match dom | G7: par match | H7: =H6/B5 -> #REF! | I7: =I6/B5 -> #REF! | L7: Clermont | M7: Agen
B8: Clermont | C8: =VLOOKUP($B8,INDIRECT($A8),COLUMN('resulta '!C3),FALSE) -> #REF! | D8: =VLOOKUP($B8,INDIRECT($A8),COLUMN('resulta '!D3),FALSE) -> #REF! | L8: Clermont | M8: Bayonne
B9: Clermont | C9: =VLOOKUP($B9,INDIRECT($A9),COLUMN('resulta '!C4),FALSE) -> #REF! | D9: =VLOOKUP($B9,INDIRECT($A9),COLUMN('resulta '!D4),FALSE) -> #REF! | G9: point marquer | H9: saison 2019/2020 | L9: Clermont | M9: Bordeaux
B10: Clermont | C10: =VLOOKUP($B10,INDIRECT($A10),COLUMN('resulta '!C5),FALSE) -> #REF! | D10: =VLOOKUP($B10,INDIRECT($A10),COLUMN('resulta '!D5),FALSE) -> #REF! | G10: match dom | H10: 182 | I10: 150 | J10: 32 | L10: Clermont | M10: Brive
B11: Clermont | C11: =VLOOKUP($B11,INDIRECT($A11),COLUMN('resulta '!C6),FALSE) -> #REF! | D11: =VLOOKUP($B11,INDIRECT($A11),COLUMN('resulta '!D6),FALSE) -> #REF! | G11: par match | H11: 22.75 | I11: 18.75 | L11: Clermont | M11: Castres
B12: Clermont | C12: =VLOOKUP($B12,INDIRECT($A12),COLUMN('resulta '!C7),FALSE) -> #REF! | D12: =VLOOKUP($B12,INDIRECT($A12),COLUMN('resulta '!D7),FALSE) -> #REF! | G12: match ext | H12: 203 | I12: 255 | J12: -52 | L12: Clermont | M12: La Rochelle
B13: Clermont | C13: =VLOOKUP($B13,INDIRECT($A13),COLUMN('resulta '!C8),FALSE) -> #REF! | D13: =VLOOKUP($B13,INDIRECT($A13),COLUMN('resulta '!D8),FALSE) -> #REF! | G13: par match | H13: 22.555556 | I13: 28.333333 | L13: Clermont | M13: Lyon
B14: Clermont | C14: =VLOOKUP($B14,INDIRECT($A14),COLUMN('resulta '!C9),FALSE) -> #REF! | D14: =VLOOKUP($B14,INDIRECT($A14),COLUMN('resulta '!D9),FALSE) -> #REF! | G14: match | H14: 385 | I14: 405 | J14: -20 | L14: Clermont | M14: Montpellier
B15: Clermont | C15: =VLOOKUP($B15,INDIRECT($A15),COLUMN('resulta '!C10),FALSE) -> #REF! | D15: =VLOOKUP($B15,INDIRECT($A15),COLUMN('resulta '!D10),FALSE) -> #REF! | G15: par match | H15: 22.647059 | I15: 23.823529 | L15: Clermont | M15: Paris
B16: Clermont | C16: =VLOOKUP($B16,INDIRECT($A16),COLUMN('resulta '!C11),FALSE) -> #REF! | D16: =VLOOKUP($B16,INDIRECT($A16),COLUMN('resulta '!D11),FALSE) -> #REF! | L16: Clermont | M16: Pau
B17: Clermont | C17: =VLOOKUP($B17,INDIRECT($A17),COLUMN('resulta '!C12),FALSE) -> #REF! | D17: =VLOOKUP($B17,INDIRECT($A17),COLUMN('resulta '!D12),FALSE) -> #REF! | G17: point marquer | L17: Clermont | M17: Racing 92
B18: Clermont | C18: =VLOOKUP($B18,INDIRECT($A18),COLUMN('resulta '!C13),FALSE) -> #REF! | D18: =VLOOKUP($B18,INDIRECT($A18),COLUMN('resulta '!D13),FALSE) -> #REF! | G18: match dom | L18: Clermont | M18: Toulon
B19: Clermont | C19: =VLOOKUP($B19,INDIRECT($A19),COLUMN('resulta '!C14),FALSE) -> #REF! | D19: =VLOOKUP($B19,INDIRECT($A19),COLUMN('resulta '!D14),FALSE) -> #REF! | G19: par match | L19: Clermont | M19: Toulouse
B20: Clermont | C20: =VLOOKUP($B20,INDIRECT($A20),COLUMN('resulta '!C15),FALSE) -> #REF! | D20: =VLOOKUP($B20,INDIRECT($A20),COLUMN('resulta '!D15),FALSE) -> #REF! | G20: match ext
G21: par match
A22: match ext | G22: match
C23: =VLOOKUP($E23,INDIRECT($A23),COLUMN('resulta '!D3),FALSE) -> #REF! | D23: =VLOOKUP($E23,INDIRECT($A23),COLUMN('resulta '!C3),FALSE) -> #REF! | E23: Clermont | G23: par match
C24: =VLOOKUP($E24,INDIRECT($A24),COLUMN('resulta '!D4),FALSE) -> #REF! | D24: =VLOOKUP($E24,INDIRECT($A24),COLUMN('resulta '!C4),FALSE) -> #REF! | E24: Clermont
C25: =VLOOKUP($E25,INDIRECT($A25),COLUMN('resulta '!D5),FALSE) -> #REF! | D25: =VLOOKUP($E25,INDIRECT($A25),COLUMN('resulta '!C5),FALSE) -> #REF! | E25: Clermont | G25: point marquer
C26: =VLOOKUP($E26,INDIRECT($A26),COLUMN('resulta '!D6),FALSE) -> #REF! | D26: =VLOOKUP($E26,INDIRECT($A26),COLUMN('resulta '!C6),FALSE) -> #REF! | E26: Clermont | G26: match dom
C27: =VLOOKUP($E27,INDIRECT($A27),COLUMN('resulta '!D7),FALSE) -> #REF! | D27: =VLOOKUP($E27,INDIRECT($A27),COLUMN('resulta '!C7),FALSE) -> #REF! | E27: Clermont | G27: par match
C28: =VLOOKUP($E28,INDIRECT($A28),COLUMN('resulta '!D8),FALSE) -> #REF! | D28: =VLOOKUP($E28,INDIRECT($A28),COLUMN('resulta '!C8),FALSE) -> #REF! | E28: Clermont | G28: match ext
C29: =VLOOKUP($E29,INDIRECT($A29),COLUMN('resulta '!D9),FALSE) -> #REF! | D29: =VLOOKUP($E29,INDIRECT($A29),COLUMN('resulta '!C9),FALSE) -> #REF! | E29: Clermont | G29: par match
C30: =VLOOKUP($E30,INDIRECT($A30),COLUMN('resulta '!D10),FALSE) -> #REF! | D30: =VLOOKUP($E30,INDIRECT($A30),COLUMN('resulta '!C10),FALSE) -> #REF! | E30: Clermont | G30: match
C31: =VLOOKUP($E31,INDIRECT($A31),COLUMN('resulta '!D11),FALSE) -> #REF! | D31: =VLOOKUP($E31,INDIRECT($A31),COLUMN('resulta '!C11),FALSE) -> #REF! | E31: Clermont | G31: par match
C32: =VLOOKUP($E32,INDIRECT($A32),COLUMN('resulta '!D12),FALSE) -> #REF! | D32: =VLOOKUP($E32,INDIRECT($A32),COLUMN('resulta '!C12),FALSE) -> #REF! | E32: Clermont
C33: =VLOOKUP($E33,INDIRECT($A33),COLUMN('resulta '!D13),FALSE) -> #REF! | D33: =VLOOKUP($E33,INDIRECT($A33),COLUMN('resulta '!C13),FALSE) -> #REF! | E33: Clermont
C34: =VLOOKUP($E34,INDIRECT($A34),COLUMN('resulta '!D14),FALSE) -> #REF! | D34: =VLOOKUP($E34,INDIRECT($A34),COLUMN('resulta '!C14),FALSE) -> #REF! | E34: Clermont
C35: =VLOOKUP($E35,INDIRECT($A35),COLUMN('resulta '!D15),FALSE) -> #REF! | D35: =VLOOKUP($E35,INDIRECT($A35),COLUMN('resulta '!C15),FALSE) -> #REF! | E35: Clermont
A37: club | C37: face a face | D37: nbr de match | E37: victoire D | F37: victoire E | G37: % | H37: defaite D | I37: defaite E | J37: % | K37: nul | L37: %
A38: CLERMONT | B38: AGEN | C38: 14 | D38: 7 | E38: 5 | F38: =(D38+E38)/C38 -> 0.85714286 | G38: 0 | H38: 2 | I38: =(G38+H38)/C38 -> 0.14285714 | K38: =100%-(F38+I38) -> 0 | L38: =SUM(F38+I38+K38) -> 1
A39: CLERMONT | B39: BAYONNE | C39: 17 | D39: 8 | E39: 2 | F39: =(D39+E39)/C39 -> 0.58823529 | G39: 0 | H39: 6 | I39: =(G39+H39)/C39 -> 0.35294118 | J39: 1 | K39: =100%-(F39+I39) -> 0.058823529 | L39: =SUM(F39+I39+K39) -> 1
A40: CLERMONT | B40: BORDEAUX | C40: 18 | D40: 7 | E40: 3 | F40: =(D40+E40)/C40 -> 0.55555556 | G40: 1 | H40: 5 | I40: =(G40+H40)/C40 -> 0.33333333 | J40: 2 | K40: =100%-(F40+I40) -> 0.11111111 | L40: =SUM(F40+I40+K40) -> 1
A41: CLERMONT | B41: BRIVE | C41: 19 | D41: 8 | E41: 5 | F41: =(D41+E41)/C41 -> 0.68421053 | G41: 1 | H41: 4 | I41: =(G41+H41)/C41 -> 0.26315789 | K41: =100%-(F41+I41) -> 0.052631579 | L41: =SUM(F41+I41+K41) -> 1
A42: CLERMONT | B42: CASTRES | C42: 25 | D42: 11 | E42: 1 | F42: =(D42+E42)/C42 -> 0.48 | G42: 3 | H42: 8 | I42: =(G42+H42)/C42 -> 0.44 | J42: 2 | K42: =100%-(F42+I42) -> 0.08 | L42: =SUM(F42+I42+K42) -> 1
A43: CLERMONT | B43: LA ROCHELLE | C43: 13 | D43: 7 | E43: 1 | F43: =(D43+E43)/C43 -> 0.61538462 | G43: 0 | H43: 4 | I43: =(G43+H43)/C43 -> 0.30769231 | J43: 1 | K43: =100%-(F43+I43) -> 0.076923077 | L43: =SUM(F43+I43+K43) -> 1
A44: CLERMONT | B44: LYON | C44: 12 | D44: 7 | E44: 1 | F44: =(D44+E44)/C44 -> 0.66666667 | G44: 0 | H44: 3 | I44: =(G44+H44)/C44 -> 0.25 | J44: 1 | K44: =100%-(F44+I44) -> 0.083333333 | L44: =SUM(F44+I44+K44) -> 1
A45: CLERMONT | B45: MONTPELLIER | C45: 23 | D45: 7 | E45: 4 | F45: =(D45+E45)/C45 -> 0.47826087 | G45: 5 | H45: 7 | I45: =(G45+H45)/C45 -> 0.52173913 | K45: =100%-(F45+I45) -> 0 | L45: =SUM(F45+I45+K45) -> 1
A46: CLERMONT | B46: PARIS | C46: 25 | D46: 11 | E46: 5 | F46: =(D46+E46)/C46 -> 0.64 | G46: 1 | H46: 6 | I46: =(G46+H46)/C46 -> 0.28 | J46: 2 | K46: =100%-(F46+I46) -> 0.08 | L46: =SUM(F46+I46+K46) -> 1
A47: CLERMONT | B47: PAU | C47: 10 | D47: 4 | E47: 3 | F47: =(D47+E47)/C47 -> 0.7 | G47: 1 | H47: 2 | I47: =(G47+H47)/C47 -> 0.3 | K47: =100%-(F47+I47) -> 0 | L47: =SUM(F47+I47+K47) -> 1
A48: CLERMONT | B48: RACING 92 | C48: 24 | D48: 10 | E48: 2 | F48: =(D48+E48)/C48 -> 0.5 | G48: 1 | H48: 8 | I48: =(G48+H48)/C48 -> 0.375 | J48: 3 | K48: =100%-(F48+I48) -> 0.125 | L48: =SUM(F48+I48+K48) -> 1
A49: CLERMONT | B49: TOULON | C49: 26 | D49: 11 | E49: 2 | F49: =(D49+E49)/C49 -> 0.5 | G49: 2 | H49: 9 | I49: =(G49+H49)/C49 -> 0.42307692 | J49: 2 | K49: =100%-(F49+I49) -> 0.076923077 | L49: =SUM(F49+I49+K49) -> 1
A50: CLERMONT | B50: TOULOUSE | C50: 27 | D50: 11 | E50: 3 | F50: =(D50+E50)/C50 -> 0.51851852 | G50: 0 | H50: 12 | I50: =(G50+H50)/C50 -> 0.44444444 | J50: 1 | K50: =100%-(F50+I50) -> 0.037037037 | L50: =SUM(F50+I50+K50) -> 1

Sheet La Rochelle
A1: La Rochelle | B1: saison 2019/2020 | G1: point marquer | H1: saison 2020/2021 | L1: match du jour
B2: nbre match | C2: nbre vitoire | D2: nbre nul | E2: nbre defaite | G2: match dom | H2: =SUM(C8:C19) -> #REF! | I2: =SUM(D8:D19) -> #REF! | J2: =H2-I2 -> #REF! | L2: domicile | M2: exertieur
A3: nbre match D | B3: 8 | C3: 8 | D3: 0 | E3: 0 | G3: par match | H3: =H2/B3 -> #REF! | I3: =I2/B3 -> #REF! | L3: La Rochelle | M3: lyon
A4: nbre match E | B4: 9 | C4: 1 | D4: 0 | E4: 8 | G4: match ext | H4: =SUM(D23:D35) -> #REF! | I4: =SUM(C23:C35) -> #REF! | J4: =H4-I4 -> #REF! | L4: {=INDEX($C$38:$L$50,MATCH(1,($A$38:$A$50=$A$1)*($B$38:$B$50=$M$3),0),4)} -> 0.46153846 | M4: {=INDEX($C$38:$L$50,MATCH(1,($A$38:$A$50=$L$3)*($B$38:$B$50=$M$3),0),7)} -> 0.46153846
A5: nbre match T | B5: =B3+B4 -> 17 | C5: =C3+C4 -> 9 | D5: =D3+D4 -> 0 | E5: =E3+E4 -> 8 | G5: par match | H5: =H4/B4 -> #REF! | I5: =I4/B4 -> #REF! | L5: =100/L4/100 -> 2.1666667 | M5: =100/M4/100 -> 2.1666667
G6: match | H6: =H2+H4 -> #REF! | I6: =I2+I4 -> #REF! | J6: =H6-I6 -> #REF!
A7: match dom | G7: par match | H7: =H6/B5 -> #REF! | I7: =I6/B5 -> #REF! | L7: La Rochelle | M7: Agen
B8: La rochelle | C8: =VLOOKUP($B8,INDIRECT($A8),COLUMN('resulta '!C3),FALSE) -> #REF! | D8: =VLOOKUP($B8,INDIRECT($A8),COLUMN('resulta '!D3),FALSE) -> #REF! | L8: La Rochelle | M8: Bordeaux
B9: La rochelle | C9: =VLOOKUP($B9,INDIRECT($A9),COLUMN('resulta '!C4),FALSE) -> #REF! | D9: =VLOOKUP($B9,INDIRECT($A9),COLUMN('resulta '!D4),FALSE) -> #REF! | G9: point marquer | H9: saison 2019/2020 | L9: La Rochelle | M9: Brive
B10: La rochelle | C10: =VLOOKUP($B10,INDIRECT($A10),COLUMN('resulta '!C5),FALSE) -> #REF! | D10: =VLOOKUP($B10,INDIRECT($A10),COLUMN('resulta '!D5),FALSE) -> #REF! | G10: match dom | H10: 223 | I10: 125 | J10: 98 | L10: La Rochelle | M10: Castres
B11: La rochelle | C11: =VLOOKUP($B11,INDIRECT($A11),COLUMN('resulta '!C6),FALSE) -> #REF! | D11: =VLOOKUP($B11,INDIRECT($A11),COLUMN('resulta '!D6),FALSE) -> #REF! | G11: par match | H11: 27.875 | I11: 15.625 | L11: La Rochelle | M11: Clermont
B12: La rochelle | C12: =VLOOKUP($B12,INDIRECT($A12),COLUMN('resulta '!C7),FALSE) -> #REF! | D12: =VLOOKUP($B12,INDIRECT($A12),COLUMN('resulta '!D7),FALSE) -> #REF! | G12: match ext | H12: 137 | I12: 224 | J12: -87 | L12: La Rochelle | M12: Lyon
B13: La rochelle | C13: =VLOOKUP($B13,INDIRECT($A13),COLUMN('resulta '!C8),FALSE) -> #REF! | D13: =VLOOKUP($B13,INDIRECT($A13),COLUMN('resulta '!D8),FALSE) -> #REF! | G13: par match | H13: 15.222222 | I13: 24.888889 | L13: La Rochelle | M13: Montpellier
B14: La rochelle | C14: =VLOOKUP($B14,INDIRECT($A14),COLUMN('resulta '!C9),FALSE) -> #REF! | D14: =VLOOKUP($B14,INDIRECT($A14),COLUMN('resulta '!D9),FALSE) -> #REF! | G14: match | H14: 360 | I14: 349 | J14: 11 | L14: La Rochelle | M14: Paris
B15: La rochelle | C15: =VLOOKUP($B15,INDIRECT($A15),COLUMN('resulta '!C10),FALSE) -> #REF! | D15: =VLOOKUP($B15,INDIRECT($A15),COLUMN('resulta '!D10),FALSE) -> #REF! | G15: par match | H15: 21.176471 | I15: 20.529412 | L15: La Rochelle | M15: Pau
B16: La rochelle | C16: =VLOOKUP($B16,INDIRECT($A16),COLUMN('resulta '!C11),FALSE) -> #REF! | D16: =VLOOKUP($B16,INDIRECT($A16),COLUMN('resulta '!D11),FALSE) -> #REF! | L16: La Rochelle | M16: Racing 92
B17: La rochelle | C17: =VLOOKUP($B17,INDIRECT($A17),COLUMN('resulta '!C12),FALSE) -> #REF! | D17: =VLOOKUP($B17,INDIRECT($A17),COLUMN('resulta '!D12),FALSE) -> #REF! | G17: point marquer | L17: La Rochelle | M17: Toulon
B18: La rochelle | C18: =VLOOKUP($B18,INDIRECT($A18),COLUMN('resulta '!C13),FALSE) -> #REF! | D18: =VLOOKUP($B18,INDIRECT($A18),COLUMN('resulta '!D13),FALSE) -> #REF! | G18: match dom | L18: La Rochelle | M18: Toulouse
B19: La rochelle | C19: =VLOOKUP($B19,INDIRECT($A19),COLUMN('resulta '!C14),FALSE) -> #REF! | D19: =VLOOKUP($B19,INDIRECT($A19),COLUMN('resulta '!D14),FALSE) -> #REF! | G19: par match
B20: La rochelle | C20: =VLOOKUP($B20,INDIRECT($A20),COLUMN('resulta '!C15),FALSE) -> #REF! | D20: =VLOOKUP($B20,INDIRECT($A20),COLUMN('resulta '!D15),FALSE) -> #REF! | G20: match ext
G21: par match
A22: match ext | G22: match
C23: =VLOOKUP($E23,INDIRECT($A23),COLUMN('resulta '!D3),FALSE) -> #REF! | D23: =VLOOKUP($E23,INDIRECT($A23),COLUMN('resulta '!C3),FALSE) -> #REF! | E23: La rochelle | G23: par match
C24: =VLOOKUP($E24,INDIRECT($A24),COLUMN('resulta '!D4),FALSE) -> #REF! | D24: =VLOOKUP($E24,INDIRECT($A24),COLUMN('resulta '!C4),FALSE) -> #REF! | E24: La rochelle
C25: =VLOOKUP($E25,INDIRECT($A25),COLUMN('resulta '!D5),FALSE) -> #REF! | D25: =VLOOKUP($E25,INDIRECT($A25),COLUMN('resulta '!C5),FALSE) -> #REF! | E25: La rochelle | G25: point marquer
C26: =VLOOKUP($E26,INDIRECT($A26),COLUMN('resulta '!D6),FALSE) -> #REF! | D26: =VLOOKUP($E26,INDIRECT($A26),COLUMN('resulta '!C6),FALSE) -> #REF! | E26: La rochelle | G26: match dom
C27: =VLOOKUP($E27,INDIRECT($A27),COLUMN('resulta '!D7),FALSE) -> #REF! | D27: =VLOOKUP($E27,INDIRECT($A27),COLUMN('resulta '!C7),FALSE) -> #REF! | E27: La rochelle | G27: par match
C28: =VLOOKUP($E28,INDIRECT($A28),COLUMN('resulta '!D8),FALSE) -> #REF! | D28: =VLOOKUP($E28,INDIRECT($A28),COLUMN('resulta '!C8),FALSE) -> #REF! | E28: La rochelle | G28: match ext
C29: =VLOOKUP($E29,INDIRECT($A29),COLUMN('resulta '!D9),FALSE) -> #REF! | D29: =VLOOKUP($E29,INDIRECT($A29),COLUMN('resulta '!C9),FALSE) -> #REF! | E29: La rochelle | G29: par match
C30: =VLOOKUP($E30,INDIRECT($A30),COLUMN('resulta '!D10),FALSE) -> #REF! | D30: =VLOOKUP($E30,INDIRECT($A30),COLUMN('resulta '!C10),FALSE) -> #REF! | E30: La rochelle | G30: match
C31: =VLOOKUP($E31,INDIRECT($A31),COLUMN('resulta '!D11),FALSE) -> #REF! | D31: =VLOOKUP($E31,INDIRECT($A31),COLUMN('resulta '!C11),FALSE) -> #REF! | E31: La rochelle | G31: par match
C32: =VLOOKUP($E32,INDIRECT($A32),COLUMN('resulta '!D12),FALSE) -> #REF! | D32: =VLOOKUP($E32,INDIRECT($A32),COLUMN('resulta '!C12),FALSE) -> #REF! | E32: La rochelle
C33: =VLOOKUP($E33,INDIRECT($A33),COLUMN('resulta '!D13),FALSE) -> #REF! | D33: =VLOOKUP($E33,INDIRECT($A33),COLUMN('resulta '!C13),FALSE) -> #REF! | E33: La rochelle
C34: =VLOOKUP($E34,INDIRECT($A34),COLUMN('resulta '!D14),FALSE) -> #REF! | D34: =VLOOKUP($E34,INDIRECT($A34),COLUMN('resulta '!C14),FALSE) -> #REF! | E34: La rochelle
C35: =VLOOKUP($E35,INDIRECT($A35),COLUMN('resulta '!D15),FALSE) -> #REF! | D35: =VLOOKUP($E35,INDIRECT($A35),COLUMN('resulta '!C15),FALSE) -> #REF! | E35: La rochelle
A37: club | C37: face a face | D37: nbr de match | E37: victoire D | F37: victoire E | G37: % | H37: defaite D | I37: defaite E | J37: % | K37: nul | L37: %
A38: LA ROCHELLE | B38: AGEN | C38: 12 | D38: 4 | E38: 2 | F38: =(D38+E38)/C38 -> 0.5 | G38: 2 | H38: 4 | I38: =(G38+H38)/C38 -> 0.5 | K38: =100%-(F38+I38) -> 0 | L38: =SUM(F38+I38+K38) -> 1
A39: LA ROCHELLE | B39: BAYONNE | C39: 7 | D39: 1 | E39: 1 | F39: =(D39+E39)/C39 -> 0.28571429 | G39: 1 | H39: 3 | I39: =(G39+H39)/C39 -> 0.57142857 | J39: 1 | K39: =100%-(F39+I39) -> 0.14285714 | L39: =SUM(F39+I39+K39) -> 1
A40: LA ROCHELLE | B40: BORDEAUX | C40: 11 | D40: 4 | E40: 1 | F40: =(D40+E40)/C40 -> 0.45454545 | G40: 1 | H40: 5 | I40: =(G40+H40)/C40 -> 0.54545455 | K40: =100%-(F40+I40) -> 0 | L40: =SUM(F40+I40+K40) -> 1
A41: LA ROCHELLE | B41: BRIVE | C41: 11 | D41: 6 | E41: 1 | F41: =(D41+E41)/C41 -> 0.63636364 | G41: 0 | H41: 4 | I41: =(G41+H41)/C41 -> 0.36363636 | K41: =100%-(F41+I41) -> 0 | L41: =SUM(F41+I41+K41) -> 1
A42: LA ROCHELLE | B42: CASTRES | C42: 13 | D42: 6 | E42: 1 | F42: =(D42+E42)/C42 -> 0.53846154 | G42: 1 | H42: 5 | I42: =(G42+H42)/C42 -> 0.46153846 | K42: =100%-(F42+I42) -> 0 | L42: =SUM(F42+I42+K42) -> 1
A43: LA ROCHELLE | B43: CLERMONT | C43: 13 | D43: 4 | E43: 0 | F43: =(D43+E43)/C43 -> 0.30769231 | G43: 1 | H43: 7 | I43: =(G43+H43)/C43 -> 0.61538462 | J43: 1 | K43: =100%-(F43+I43) -> 0.076923077 | L43: =SUM(F43+I43+K43) -> 1
A44: LA ROCHELLE | B44: LYON | C44: 13 | D44: 5 | E44: 1 | F44: =(D44+E44)/C44 -> 0.46153846 | G44: 1 | H44: 5 | I44: =(G44+H44)/C44 -> 0.46153846 | J44: 1 | K44: =100%-(F44+I44) -> 0.076923077 | L44: =SUM(F44+I44+K44) -> 1
A45: LA ROCHELLE | B45: MONTPELLIER | C45: 14 | D45: 7 | E45: 0 | F45: =(D45+E45)/C45 -> 0.5 | G45: 0 | H45: 6 | I45: =(G45+H45)/C45 -> 0.42857143 | J45: 1 | K45: =100%-(F45+I45) -> 0.071428571 | L45: =SUM(F45+I45+K45) -> 1
A46: LA ROCHELLE | B46: PARIS | C46: 14 | D46: 4 | E46: 1 | F46: =(D46+E46)/C46 -> 0.35714286 | G46: 1 | H46: 6 | I46: =(G46+H46)/C46 -> 0.5 | J46: 2 | K46: =100%-(F46+I46) -> 0.14285714 | L46: =SUM(F46+I46+K46) -> 1
A47: LA ROCHELLE | B47: PAU | C47: 15 | D47: 7 | E47: 4 | F47: =(D47+E47)/C47 -> 0.73333333 | G47: 0 | H47: 4 | I47: =(G47+H47)/C47 -> 0.26666667 | K47: =100%-(F47+I47) -> 0 | L47: =SUM(F47+I47+K47) -> 1
A48: LA ROCHELLE | B48: RACING 92 | C48: 15 | D48: 3 | E48: 2 | F48: =(D48+E48)/C48 -> 0.33333333 | G48: 2 | H48: 6 | I48: =(G48+H48)/C48 -> 0.53333333 | J48: 2 | K48: =100%-(F48+I48) -> 0.13333333 | L48: =SUM(F48+I48+K48) -> 1
A49: LA ROCHELLE | B49: TOULON | C49: 15 | D49: 4 | E49: 2 | F49: =(D49+E49)/C49 -> 0.4 | G49: 3 | H49: 5 | I49: =(G49+H49)/C49 -> 0.53333333 | J49: 1 | K49: =100%-(F49+I49) -> 0.066666667 | L49: =SUM(F49+I49+K49) -> 1
A50: LA ROCHELLE | B50: TOULOUSE | C50: 14 | D50: 5 | E50: 1 | F50: =(D50+E50)/C50 -> 0.42857143 | G50: 2 | H50: 6 | I50: =(G50+H50)/C50 -> 0.57142857 | K50: =100%-(F50+I50) -> 0 | L50: =SUM(F50+I50+K50) -> 1

Sheet Lyon 
A1: Lyon | B1: saison 2019/2020 | G1: point marquer | H1: saison 2020/2021 | L1: match du jour
B2: nbre match | C2: nbre vitoire | D2: nbre nul | E2: nbre defaite | G2: match dom | H2: =SUM(C8:C20) -> #REF! | I2: =SUM(D8:D20) -> #REF! | J2: =H2-I2 -> #REF! | L2: domicile | M2: exertieur
A3: nbre match D | B3: 9 | C3: 9 | D3: 0 | E3: 0 | G3: par match | H3: =H2/B3 -> #REF! | I3: =I2/B3 -> #REF! | L3: Lyon | M3: Agen
A4: nbre match E | B4: 8 | C4: 3 | D4: 0 | E4: 5 | G4: match ext | H4: =SUM(D23:D35) -> #REF! | I4: =SUM(C23:C35) -> #REF! | J4: =H4-I4 -> #REF! | L4: {=INDEX($C$38:$L$50,MATCH(1,($A$38:$A$50=$A$1)*($B$38:$B$50=$M$3),0),4)} -> 0.71428571 | M4: {=INDEX($C$38:$L$50,MATCH(1,($A$38:$A$50=$L$3)*($B$38:$B$50=$M$3),0),7)} -> 0.28571429
A5: nbre match T | B5: =B3+B4 -> 17 | C5: =C3+C4 -> 12 | D5: =D3+D4 -> 0 | E5: =E3+E4 -> 5 | G5: par match | H5: =H4/B4 -> #REF! | I5: =I4/B4 -> #REF! | L5: =100/L4/100 -> 1.4 | M5: =100/M4/100 -> 3.5
G6: match | H6: =H2+H4 -> #REF! | I6: =I2+I4 -> #REF! | J6: =H6-I6 -> #REF!
A7: match dom | G7: par match | H7: =H6/B5 -> #REF! | I7: =I6/B5 -> #REF! | L7: Lyon | M7: Agen
B8: Lyon | C8: =VLOOKUP($B8,INDIRECT($A8),COLUMN('resulta '!C3),FALSE) -> #REF! | D8: =VLOOKUP($B8,INDIRECT($A8),COLUMN('resulta '!D3),FALSE) -> #REF! | L8: Lyon | M8: Bayonne
B9: Lyon | C9: =VLOOKUP($B9,INDIRECT($A9),COLUMN('resulta '!C4),FALSE) -> #REF! | D9: =VLOOKUP($B9,INDIRECT($A9),COLUMN('resulta '!D4),FALSE) -> #REF! | G9: point marquer | H9: saison 2019/2020 | L9: Lyon | M9: Bordeaux
B10: Lyon | C10: =VLOOKUP($B10,INDIRECT($A10),COLUMN('resulta '!C5),FALSE) -> #REF! | D10: =VLOOKUP($B10,INDIRECT($A10),COLUMN('resulta '!D5),FALSE) -> #REF! | G10: match dom | H10: 286 | I10: 104 | J10: 182 | L10: Lyon | M10: Brive
B11: Lyon | C11: =VLOOKUP($B11,INDIRECT($A11),COLUMN('resulta '!C6),FALSE) -> #REF! | D11: =VLOOKUP($B11,INDIRECT($A11),COLUMN('resulta '!D6),FALSE) -> #REF! | G11: par match | H11: 31.777778 | I11: 11.555556 | L11: Lyon | M11: Castres
B12: Lyon | C12: =VLOOKUP($B12,INDIRECT($A12),COLUMN('resulta '!C7),FALSE) -> #REF! | D12: =VLOOKUP($B12,INDIRECT($A12),COLUMN('resulta '!D7),FALSE) -> #REF! | G12: match ext | H12: 134 | I12: 187 | J12: -53 | L12: Lyon | M12: Clermont
B13: Lyon | C13: =VLOOKUP($B13,INDIRECT($A13),COLUMN('resulta '!C8),FALSE) -> #REF! | D13: =VLOOKUP($B13,INDIRECT($A13),COLUMN('resulta '!D8),FALSE) -> #REF! | G13: par match | H13: 16.75 | I13: 23.375 | L13: Lyon | M13: La Rochelle
B14: Lyon | C14: =VLOOKUP($B14,INDIRECT($A14),COLUMN('resulta '!C9),FALSE) -> #REF! | D14: =VLOOKUP($B14,INDIRECT($A14),COLUMN('resulta '!D9),FALSE) -> #REF! | G14: match | H14: 420 | I14: 291 | J14: 129 | L14: Lyon | M14: Montpellier
B15: Lyon | C15: =VLOOKUP($B15,INDIRECT($A15),COLUMN('resulta '!C10),FALSE) -> #REF! | D15: =VLOOKUP($B15,INDIRECT($A15),COLUMN('resulta '!D10),FALSE) -> #REF! | G15: par match | H15: 24.705882 | I15: 17.117647 | L15: Lyon | M15: Paris
B16: Lyon | C16: =VLOOKUP($B16,INDIRECT($A16),COLUMN('resulta '!C11),FALSE) -> #REF! | D16: =VLOOKUP($B16,INDIRECT($A16),COLUMN('resulta '!D11),FALSE) -> #REF! | L16: Lyon | M16: Pau
B17: Lyon | C17: =VLOOKUP($B17,INDIRECT($A17),COLUMN('resulta '!C12),FALSE) -> #REF! | D17: =VLOOKUP($B17,INDIRECT($A17),COLUMN('resulta '!D12),FALSE) -> #REF! | G17: point marquer | L17: Lyon | M17: Racing 92
B18: Lyon | C18: =VLOOKUP($B18,INDIRECT($A18),COLUMN('resulta '!C13),FALSE) -> #REF! | D18: =VLOOKUP($B18,INDIRECT($A18),COLUMN('resulta '!D13),FALSE) -> #REF! | G18: match dom | L18: Lyon | M18: Toulon
B19: Lyon | C19: =VLOOKUP($B19,INDIRECT($A19),COLUMN('resulta '!C14),FALSE) -> #REF! | D19: =VLOOKUP($B19,INDIRECT($A19),COLUMN('resulta '!D14),FALSE) -> #REF! | G19: par match | L19: Lyon | M19: Toulouse
B20: Lyon | C20: =VLOOKUP($B20,INDIRECT($A20),COLUMN('resulta '!C15),FALSE) -> #REF! | D20: =VLOOKUP($B20,INDIRECT($A20),COLUMN('resulta '!D15),FALSE) -> #REF! | G20: match ext
G21: par match
A22: match ext | G22: match
C23: =VLOOKUP($E23,INDIRECT($A23),COLUMN('resulta '!D3),FALSE) -> #REF! | D23: =VLOOKUP($E23,INDIRECT($A23),COLUMN('resulta '!C3),FALSE) -> #REF! | E23: Lyon | G23: par match
C24: =VLOOKUP($E24,INDIRECT($A24),COLUMN('resulta '!D4),FALSE) -> #REF! | D24: =VLOOKUP($E24,INDIRECT($A24),COLUMN('resulta '!C4),FALSE) -> #REF! | E24: Lyon
C25: =VLOOKUP($E25,INDIRECT($A25),COLUMN('resulta '!D5),FALSE) -> #REF! | D25: =VLOOKUP($E25,INDIRECT($A25),COLUMN('resulta '!C5),FALSE) -> #REF! | E25: Lyon | G25: point marquer
C26: =VLOOKUP($E26,INDIRECT($A26),COLUMN('resulta '!D6),FALSE) -> #REF! | D26: =VLOOKUP($E26,INDIRECT($A26),COLUMN('resulta '!C6),FALSE) -> #REF! | E26: Lyon | G26: match dom
C27: =VLOOKUP($E27,INDIRECT($A27),COLUMN('resulta '!D7),FALSE) -> #REF! | D27: =VLOOKUP($E27,INDIRECT($A27),COLUMN('resulta '!C7),FALSE) -> #REF! | E27: Lyon | G27: par match
C28: =VLOOKUP($E28,INDIRECT($A28),COLUMN('resulta '!D8),FALSE) -> #REF! | D28: =VLOOKUP($E28,INDIRECT($A28),COLUMN('resulta '!C8),FALSE) -> #REF! | E28: Lyon | G28: match ext
C29: =VLOOKUP($E29,INDIRECT($A29),COLUMN('resulta '!D9),FALSE) -> #REF! | D29: =VLOOKUP($E29,INDIRECT($A29),COLUMN('resulta '!C9),FALSE) -> #REF! | E29: Lyon | G29: par match
C30: =VLOOKUP($E30,INDIRECT($A30),COLUMN('resulta '!D10),FALSE) -> #REF! | D30: =VLOOKUP($E30,INDIRECT($A30),COLUMN('resulta '!C10),FALSE) -> #REF! | E30: Lyon | G30: match
C31: =VLOOKUP($E31,INDIRECT($A31),COLUMN('resulta '!D11),FALSE) -> #REF! | D31: =VLOOKUP($E31,INDIRECT($A31),COLUMN('resulta '!C11),FALSE) -> #REF! | E31: Lyon | G31: par match
C32: =VLOOKUP($E32,INDIRECT($A32),COLUMN('resulta '!D12),FALSE) -> #REF! | D32: =VLOOKUP($E32,INDIRECT($A32),COLUMN('resulta '!C12),FALSE) -> #REF! | E32: Lyon
C33: =VLOOKUP($E33,INDIRECT($A33),COLUMN('resulta '!D13),FALSE) -> #REF! | D33: =VLOOKUP($E33,INDIRECT($A33),COLUMN('resulta '!C13),FALSE) -> #REF! | E33: Lyon
C34: =VLOOKUP($E34,INDIRECT($A34),COLUMN('resulta '!D14),FALSE) -> #REF! | D34: =VLOOKUP($E34,INDIRECT($A34),COLUMN('resulta '!C14),FALSE) -> #REF! | E34: Lyon
C35: =VLOOKUP($E35,INDIRECT($A35),COLUMN('resulta '!D15),FALSE) -> #REF! | D35: =VLOOKUP($E35,INDIRECT($A35),COLUMN('resulta '!C15),FALSE) -> #REF! | E35: Lyon
A37: club | C37: face a face | D37: nbr de match | E37: victoire D | F37: victoire E | G37: % | H37: defaite D | I37: defaite E | J37: % | K37: nul | L37: %
A38: LYON | B38: AGEN | C38: 7 | D38: 3 | E38: 2 | F38: =(D38+E38)/C38 -> 0.71428571 | G38: 0 | H38: 2 | I38: =(G38+H38)/C38 -> 0.28571429 | K38: =100%-(F38+I38) -> 0 | L38: =SUM(F38+I38+K38) -> 1
A39: LYON | B39: BAYONNE | C39: 7 | D39: 3 | E39: 0 | F39: =(D39+E39)/C39 -> 0.42857143 | G39: 1 | H39: 2 | I39: =(G39+H39)/C39 -> 0.42857143 | J39: 1 | K39: =100%-(F39+I39) -> 0.14285714 | L39: =SUM(F39+I39+K39) -> 1
A40: LYON | B40: BORDEAUX | C40: 12 | D40: 5 | E40: 0 | F40: =(D40+E40)/C40 -> 0.41666667 | G40: 1 | H40: 6 | I40: =(G40+H40)/C40 -> 0.58333333 | K40: =100%-(F40+I40) -> 0 | L40: =SUM(F40+I40+K40) -> 1
A41: LYON | B41: BRIVE | C41: 13 | D41: 3 | E41: 2 | F41: =(D41+E41)/C41 -> 0.38461538 | G41: 1 | H41: 3 | I41: =(G41+H41)/C41 -> 0.30769231 | J41: 3 | K41: =100%-(F41+I41) -> 0.30769231 | L41: =SUM(F41+I41+K41) -> 1
A42: LYON | B42: CASTRES | C42: 11 | D42: 2 | E42: 1 | F42: =(D42+E42)/C42 -> 0.27272727 | G42: 3 | H42: 4 | I42: =(G42+H42)/C42 -> 0.63636364 | J42: 1 | K42: =100%-(F42+I42) -> 0.090909091 | L42: =SUM(F42+I42+K42) -> 1
A43: LYON | B43: CLERMONT | C43: 12 | D43: 3 | E43: 0 | F43: =(D43+E43)/C43 -> 0.25 | G43: 1 | H43: 7 | I43: =(G43+H43)/C43 -> 0.66666667 | J43: 1 | K43: =100%-(F43+I43) -> 0.083333333 | L43: =SUM(F43+I43+K43) -> 1
A44: LYON | B44: LA ROCHELLE | C44: 13 | D44: 5 | E44: 1 | F44: =(D44+E44)/C44 -> 0.46153846 | G44: 1 | H44: 5 | I44: =(G44+H44)/C44 -> 0.46153846 | J44: 1 | K44: =100%-(F44+I44) -> 0.076923077 | L44: =SUM(F44+I44+K44) -> 1
A45: LYON | B45: MONTPELLIER | C45: 13 | D45: 5 | E45: 1 | F45: =(D45+E45)/C45 -> 0.46153846 | G45: 1 | H45: 6 | I45: =(G45+H45)/C45 -> 0.53846154 | K45: =100%-(F45+I45) -> 0 | L45: =SUM(F45+I45+K45) -> 1
A46: LYON | B46: PARIS | C46: 11 | D46: 6 | E46: 2 | F46: =(D46+E46)/C46 -> 0.72727273 | G46: 0 | H46: 3 | I46: =(G46+H46)/C46 -> 0.27272727 | K46: =100%-(F46+I46) -> 0 | L46: =SUM(F46+I46+K46) -> 1
A47: LYON | B47: PAU | C47: 11 | D47: 5 | E47: 2 | F47: =(D47+E47)/C47 -> 0.63636364 | G47: 1 | H47: 3 | I47: =(G47+H47)/C47 -> 0.36363636 | K47: =100%-(F47+I47) -> 0 | L47: =SUM(F47+I47+K47) -> 1
A48: LYON | B48: RACING 92 | C48: 12 | D48: 3 | E48: 3 | F48: =(D48+E48)/C48 -> 0.5 | G48: 3 | H48: 3 | I48: =(G48+H48)/C48 -> 0.5 | K48: =100%-(F48+I48) -> 0 | L48: =SUM(F48+I48+K48) -> 1
A49: LYON | B49: TOULON | C49: 13 | D49: 4 | E49: 1 | F49: =(D49+E49)/C49 -> 0.38461538 | G49: 2 | H49: 5 | I49: =(G49+H49)/C49 -> 0.53846154 | J49: 1 | K49: =100%-(F49+I49) -> 0.076923077 | L49: =SUM(F49+I49+K49) -> 1
A50: LYON | B50: TOULOUSE | C50: 11 | D50: 2 | E50: 1 | F50: =(D50+E50)/C50 -> 0.27272727 | G50: 3 | H50: 4 | I50: =(G50+H50)/C50 -> 0.63636364 | J50: 1 | K50: =100%-(F50+I50) -> 0.090909091 | L50: =SUM(F50+I50+K50) -> 1

Sheet Montpellier
A1: Montpellier | B1: saison 2019/2020 | G1: point marquer | H1: saison 2020/2021 | L1: match du jour
B2: nbre match | C2: nbre vitoire | D2: nbre nul | E2: nbre defaite | G2: match dom | H2: =SUM(C8:C20) -> #REF! | I2: =SUM(D8:D20) -> #REF! | J2: =H2-I2 -> #REF! | L2: domicile | M2: exertieur
A3: nbre match D | B3: 8 | C3: 6 | D3: 2 | E3: 0 | G3: par match | H3: =H2/B3 -> #REF! | I3: =I2/B3 -> #REF! | L3: Montpellier | M3: Agen
A4: nbre match E | B4: 9 | C4: 0 | D4: 1 | E4: 8 | G4: match ext | H4: =SUM(D23:D35) -> #REF! | I4: =SUM(C23:C35) -> #REF! | J4: =H4-I4 -> #REF! | L4: {=INDEX($C$38:$L$50,MATCH(1,($A$38:$A$50=$A$1)*($B$38:$B$50=$M$3),0),4)} -> 0.76923077 | M4: {=INDEX($C$38:$L$50,MATCH(1,($A$38:$A$50=$L$3)*($B$38:$B$50=$M$3),0),7)} -> 0.23076923
A5: nbre match T | B5: =B3+B4 -> 17 | C5: =C3+C4 -> 6 | D5: =D3+D4 -> 3 | E5: =E3+E4 -> 8 | G5: par match | H5: =H4/B4 -> #REF! | I5: =I4/B4 -> #REF! | L5: =100/L4/100 -> 1.3 | M5: =100/M4/100 -> 4.3333333
G6: match | H6: =H2+H4 -> #REF! | I6: =I2+I4 -> #REF! | J6: =H6-I6 -> #REF!
A7: match dom | G7: par match | H7: =H6/B5 -> #REF! | I7: =I6/B5 -> #REF! | L7: Montpellier | M7: Agen
B8: Montpellier | C8: =VLOOKUP($B8,INDIRECT($A8),COLUMN('resulta '!C3),FALSE) -> #REF! | D8: =VLOOKUP($B8,INDIRECT($A8),COLUMN('resulta '!D3),FALSE) -> #REF! | L8: Montpellier | M8: Bayonne
B9: Montpellier | C9: =VLOOKUP($B9,INDIRECT($A9),COLUMN('resulta '!C4),FALSE) -> #REF! | D9: =VLOOKUP($B9,INDIRECT($A9),COLUMN('resulta '!D4),FALSE) -> #REF! | G9: point marquer | H9: saison 2019/2020 | L9: Montpellier | M9: Bordeaux
B10: Montpellier | C10: =VLOOKUP($B10,INDIRECT($A10),COLUMN('resulta '!C5),FALSE) -> #REF! | D10: =VLOOKUP($B10,INDIRECT($A10),COLUMN('resulta '!D5),FALSE) -> #REF! | G10: match dom | H10: 236 | I10: 160 | J10: 76 | L10: Montpellier | M10: Brive
B11: Montpellier | C11: =VLOOKUP($B11,INDIRECT($A11),COLUMN('resulta '!C6),FALSE) -> #REF! | D11: =VLOOKUP($B11,INDIRECT($A11),COLUMN('resulta '!D6),FALSE) -> #REF! | G11: par match | H11: 29.5 | I11: 20 | L11: Montpellier | M11: Castres
B12: Montpellier | C12: =VLOOKUP($B12,INDIRECT($A12),COLUMN('resulta '!C7),FALSE) -> #REF! | D12: =VLOOKUP($B12,INDIRECT($A12),COLUMN('resulta '!D7),FALSE) -> #REF! | G12: match ext | H12: 143 | I12: 203 | J12: -60 | L12: Montpellier | M12: Clermont
B13: Montpellier | C13: =VLOOKUP($B13,INDIRECT($A13),COLUMN('resulta '!C8),FALSE) -> #REF! | D13: =VLOOKUP($B13,INDIRECT($A13),COLUMN('resulta '!D8),FALSE) -> #REF! | G13: par match | H13: 15.888889 | I13: 22.555556 | L13: Montpellier | M13: La Rochelle
B14: Montpellier | C14: =VLOOKUP($B14,INDIRECT($A14),COLUMN('resulta '!C9),FALSE) -> #REF! | D14: =VLOOKUP($B14,INDIRECT($A14),COLUMN('resulta '!D9),FALSE) -> #REF! | G14: match | H14: 379 | I14: 363 | J14: 16 | L14: Montpellier | M14: Lyon
B15: Montpellier | C15: =VLOOKUP($B15,INDIRECT($A15),COLUMN('resulta '!C10),FALSE) -> #REF! | D15: =VLOOKUP($B15,INDIRECT($A15),COLUMN('resulta '!D10),FALSE) -> #REF! | G15: par match | H15: 22.294118 | I15: 21.352941 | L15: Montpellier | M15: Paris
B16: Montpellier | C16: =VLOOKUP($B16,INDIRECT($A16),COLUMN('resulta '!C11),FALSE) -> #REF! | D16: =VLOOKUP($B16,INDIRECT($A16),COLUMN('resulta '!D11),FALSE) -> #REF! | L16: Montpellier | M16: Pau
B17: Montpellier | C17: =VLOOKUP($B17,INDIRECT($A17),COLUMN('resulta '!C12),FALSE) -> #REF! | D17: =VLOOKUP($B17,INDIRECT($A17),COLUMN('resulta '!D12),FALSE) -> #REF! | G17: point marquer | L17: Montpellier | M17: Racing 92
B18: Montpellier | C18: =VLOOKUP($B18,INDIRECT($A18),COLUMN('resulta '!C13),FALSE) -> #REF! | D18: =VLOOKUP($B18,INDIRECT($A18),COLUMN('resulta '!D13),FALSE) -> #REF! | G18: match dom | L18: Montpellier | M18: Toulon
B19: Montpellier | C19: =VLOOKUP($B19,INDIRECT($A19),COLUMN('resulta '!C14),FALSE) -> #REF! | D19: =VLOOKUP($B19,INDIRECT($A19),COLUMN('resulta '!D14),FALSE) -> #REF! | G19: par match | L19: Montpellier | M19: Toulouse
B20: Montpellier | C20: =VLOOKUP($B20,INDIRECT($A20),COLUMN('resulta '!C15),FALSE) -> #REF! | D20: =VLOOKUP($B20,INDIRECT($A20),COLUMN('resulta '!D15),FALSE) -> #REF! | G20: match ext
G21: par match
A22: match ext | G22: match
C23: =VLOOKUP($E23,INDIRECT($A23),COLUMN('resulta '!D3),FALSE) -> #REF! | D23: =VLOOKUP($E23,INDIRECT($A23),COLUMN('resulta '!C3),FALSE) -> #REF! | E23: Montpellier | G23: par match
C24: =VLOOKUP($E24,INDIRECT($A24),COLUMN('resulta '!D4),FALSE) -> #REF! | D24: =VLOOKUP($E24,INDIRECT($A24),COLUMN('resulta '!C4),FALSE) -> #REF! | E24: Montpellier
C25: =VLOOKUP($E25,INDIRECT($A25),COLUMN('resulta '!D5),FALSE) -> #REF! | D25: =VLOOKUP($E25,INDIRECT($A25),COLUMN('resulta '!C5),FALSE) -> #REF! | E25: Montpellier | G25: point marquer
C26: =VLOOKUP($E26,INDIRECT($A26),COLUMN('resulta '!D6),FALSE) -> #REF! | D26: =VLOOKUP($E26,INDIRECT($A26),COLUMN('resulta '!C6),FALSE) -> #REF! | E26: Montpellier | G26: match dom
C27: =VLOOKUP($E27,INDIRECT($A27),COLUMN('resulta '!D7),FALSE) -> #REF! | D27: =VLOOKUP($E27,INDIRECT($A27),COLUMN('resulta '!C7),FALSE) -> #REF! | E27: Montpellier | G27: par match
C28: =VLOOKUP($E28,INDIRECT($A28),COLUMN('resulta '!D8),FALSE) -> #REF! | D28: =VLOOKUP($E28,INDIRECT($A28),COLUMN('resulta '!C8),FALSE) -> #REF! | E28: Montpellier | G28: match ext
C29: =VLOOKUP($E29,INDIRECT($A29),COLUMN('resulta '!D9),FALSE) -> #REF! | D29: =VLOOKUP($E29,INDIRECT($A29),COLUMN('resulta '!C9),FALSE) -> #REF! | E29: Montpellier | G29: par match
C30: =VLOOKUP($E30,INDIRECT($A30),COLUMN('resulta '!D10),FALSE) -> #REF! | D30: =VLOOKUP($E30,INDIRECT($A30),COLUMN('resulta '!C10),FALSE) -> #REF! | E30: Montpellier | G30: match
C31: =VLOOKUP($E31,INDIRECT($A31),COLUMN('resulta '!D11),FALSE) -> #REF! | D31: =VLOOKUP($E31,INDIRECT($A31),COLUMN('resulta '!C11),FALSE) -> #REF! | E31: Montpellier | G31: par match
C32: =VLOOKUP($E32,INDIRECT($A32),COLUMN('resulta '!D12),FALSE) -> #REF! | D32: =VLOOKUP($E32,INDIRECT($A32),COLUMN('resulta '!C12),FALSE) -> #REF! | E32: Montpellier
C33: =VLOOKUP($E33,INDIRECT($A33),COLUMN('resulta '!D13),FALSE) -> #REF! | D33: =VLOOKUP($E33,INDIRECT($A33),COLUMN('resulta '!C13),FALSE) -> #REF! | E33: Montpellier
C34: =VLOOKUP($E34,INDIRECT($A34),COLUMN('resulta '!D14),FALSE) -> #REF! | D34: =VLOOKUP($E34,INDIRECT($A34),COLUMN('resulta '!C14),FALSE) -> #REF! | E34: Montpellier
C35: =VLOOKUP($E35,INDIRECT($A35),COLUMN('resulta '!D15),FALSE) -> #REF! | D35: =VLOOKUP($E35,INDIRECT($A35),COLUMN('resulta '!C15),FALSE) -> #REF! | E35: Montpellier
A37: club | C37: face a face | D37: nbr de match | E37: victoire D | F37: victoire E | G37: % | H37: defaite D | I37: defaite E | J37: % | K37: nul | L37: %
A38: MONTPELLIER | B38: AGEN | C38: 13 | D38: 6 | E38: 4 | F38: =(D38+E38)/C38 -> 0.76923077 | G38: 0 | H38: 3 | I38: =(G38+H38)/C38 -> 0.23076923 | K38: =100%-(F38+I38) -> 0 | L38: =SUM(F38+I38+K38) -> 1
A39: MONTPELLIER | B39: BAYONNE | C39: 18 | D39: 7 | E39: 4 | F39: =(D39+E39)/C39 -> 0.61111111 | G39: 2 | H39: 5 | I39: =(G39+H39)/C39 -> 0.38888889 | K39: =100%-(F39+I39) -> 0 | L39: =SUM(F39+I39+K39) -> 1
A40: MONTPELLIER | B40: BORDEAUX | C40: 17 | D40: 7 | E40: 5 | F40: =(D40+E40)/C40 -> 0.70588235 | G40: 1 | H40: 2 | I40: =(G40+H40)/C40 -> 0.17647059 | J40: 2 | K40: =100%-(F40+I40) -> 0.11764706 | L40: =SUM(F40+I40+K40) -> 1
A41: MONTPELLIER | B41: BRIVE | C41: 19 | D41: 6 | E41: 1 | F41: =(D41+E41)/C41 -> 0.36842105 | G41: 4 | H41: 8 | I41: =(G41+H41)/C41 -> 0.63157895 | K41: =100%-(F41+I41) -> 0 | L41: =SUM(F41+I41+K41) -> 1
A42: MONTPELLIER | B42: CASTRES | C42: 29 | D42: 8 | E42: 4 | F42: =(D42+E42)/C42 -> 0.4137931 | G42: 5 | H42: 11 | I42: =(G42+H42)/C42 -> 0.55172414 | J42: 1 | K42: =100%-(F42+I42) -> 0.034482759 | L42: =SUM(F42+I42+K42) -> 1
A43: MONTPELLIER | B43: CLERMONT | C43: 23 | D43: 7 | E43: 5 | F43: =(D43+E43)/C43 -> 0.52173913 | G43: 4 | H43: 7 | I43: =(G43+H43)/C43 -> 0.47826087 | K43: =100%-(F43+I43) -> 0 | L43: =SUM(F43+I43+K43) -> 1
A44: MONTPELLIER | B44: LA ROCHELLE | C44: 14 | D44: 6 | E44: 0 | F44: =(D44+E44)/C44 -> 0.42857143 | G44: 0 | H44: 7 | I44: =(G44+H44)/C44 -> 0.5 | J44: 1 | K44: =100%-(F44+I44) -> 0.071428571 | L44: =SUM(F44+I44+K44) -> 1
A45: MONTPELLIER | B45: LYON | C45: 13 | D45: 6 | E45: 1 | F45: =(D45+E45)/C45 -> 0.53846154 | G45: 1 | H45: 5 | I45: =(G45+H45)/C45 -> 0.46153846 | K45: =100%-(F45+I45) -> 0 | L45: =SUM(F45+I45+K45) -> 1
A46: MONTPELLIER | B46: PARIS | C46: 23 | D46: 11 | E46: 1 | F46: =(D46+E46)/C46 -> 0.52173913 | G46: 0 | H46: 9 | I46: =(G46+H46)/C46 -> 0.39130435 | J46: 2 | K46: =100%-(F46+I46) -> 0.086956522 | L46: =SUM(F46+I46+K46) -> 1
A47: MONTPELLIER | B47: PAU | C47: 10 | D47: 4 | E47: 2 | F47: =(D47+E47)/C47 -> 0.6 | G47: 1 | H47: 3 | I47: =(G47+H47)/C47 -> 0.4 | K47: =100%-(F47+I47) -> 0 | L47: =SUM(F47+I47+K47) -> 1
A48: MONTPELLIER | B48: RACING 92 | C48: 23 | D48: 7 | E48: 2 | F48: =(D48+E48)/C48 -> 0.39130435 | G48: 4 | H48: 9 | I48: =(G48+H48)/C48 -> 0.56521739 | J48: 1 | K48: =100%-(F48+I48) -> 0.043478261 | L48: =SUM(F48+I48+K48) -> 1
A49: MONTPELLIER | B49: TOULON | C49: 24 | D49: 9 | E49: 1 | F49: =(D49+E49)/C49 -> 0.41666667 | G49: 1 | H49: 11 | I49: =(G49+H49)/C49 -> 0.5 | J49: 2 | K49: =100%-(F49+I49) -> 0.083333333 | L49: =SUM(F49+I49+K49) -> 1
A50: MONTPELLIER | B50: TOULOUSE | C50: 25 | D50: 9 | E50: 2 | F50: =(D50+E50)/C50 -> 0.44 | G50: 3 | H50: 11 | I50: =(G50+H50)/C50 -> 0.56 | K50: =100%-(F50+I50) -> 0 | L50: =SUM(F50+I50+K50) -> 1

Sheet Paris
A1: Paris | B1: saison 2019/2020 | G1: point marquer | H1: saison 2020/2021 | L1: match du jour
B2: nbre match | C2: nbre vitoire | D2: nbre nul | E2: nbre defaite | G2: match dom | H2: =SUM(C8:C20) -> #REF! | I2: =SUM(D8:D20) -> #REF! | J2: =H2-I2 -> #REF! | L2: domicile | M2: exertieur
A3: nbre match D | B3: 7 | C3: 5 | D3: 0 | E3: 2 | G3: par match | H3: =H2/B3 -> #REF! | I3: =I2/B3 -> #REF! | L3: Paris | M3: Agen
A4: nbre match E | B4: 10 | C4: 0 | D4: 1 | E4: 9 | G4: match ext | H4: =SUM(D23:D35) -> #REF! | I4: =SUM(C23:C35) -> #REF! | J4: =H4-I4 -> #REF! | L4: {=INDEX($C$38:$L$50,MATCH(1,($A$38:$A$50=$A$1)*($B$38:$B$50=$M$3),0),4)} -> 0.61538462 | M4: {=INDEX($C$38:$L$50,MATCH(1,($A$38:$A$50=$L$3)*($B$38:$B$50=$M$3),0),7)} -> 0.38461538
A5: nbre match T | B5: =B3+B4 -> 17 | C5: =C3+C4 -> 5 | D5: =D3+D4 -> 1 | E5: =E3+E4 -> 11 | G5: par match | H5: =H4/B4 -> #REF! | I5: =I4/B4 -> #REF! | L5: =100/L4/100 -> 1.625 | M5: =100/M4/100 -> 2.6
G6: match | H6: =H2+H4 -> #REF! | I6: =I2+I4 -> #REF! | J6: =H6-I6 -> #REF!
A7: match dom | G7: par match | H7: =H6/B5 -> #REF! | I7: =I6/B5 -> #REF! | L7: Paris | M7: Agen
B8: Paris | C8: =VLOOKUP($B8,INDIRECT($A8),COLUMN('resulta '!C3),FALSE) -> #REF! | D8: =VLOOKUP($B8,INDIRECT($A8),COLUMN('resulta '!D3),FALSE) -> #REF! | L8: Paris | M8: Bayonne
B9: Paris | C9: =VLOOKUP($B9,INDIRECT($A9),COLUMN('resulta '!C4),FALSE) -> #REF! | D9: =VLOOKUP($B9,INDIRECT($A9),COLUMN('resulta '!D4),FALSE) -> #REF! | G9: point marquer | H9: saison 2019/2020 | L9: Paris | M9: Bordeaux
B10: Paris | C10: =VLOOKUP($B10,INDIRECT($A10),COLUMN('resulta '!C5),FALSE) -> #REF! | D10: =VLOOKUP($B10,INDIRECT($A10),COLUMN('resulta '!D5),FALSE) -> #REF! | G10: match dom | H10: 165 | I10: 170 | J10: -5 | L10: Paris | M10: Brive
B11: Paris | C11: =VLOOKUP($B11,INDIRECT($A11),COLUMN('resulta '!C6),FALSE) -> #REF! | D11: =VLOOKUP($B11,INDIRECT($A11),COLUMN('resulta '!D6),FALSE) -> #REF! | G11: par match | H11: 23.571429 | I11: 24.285714 | L11: Paris | M11: Castres
B12: Paris | C12: =VLOOKUP($B12,INDIRECT($A12),COLUMN('resulta '!C7),FALSE) -> #REF! | D12: =VLOOKUP($B12,INDIRECT($A12),COLUMN('resulta '!D7),FALSE) -> #REF! | G12: match ext | H12: 154 | I12: 275 | J12: -121 | L12: Paris | M12: Clermont
B13: Paris | C13: =VLOOKUP($B13,INDIRECT($A13),COLUMN('resulta '!C8),FALSE) -> #REF! | D13: =VLOOKUP($B13,INDIRECT($A13),COLUMN('resulta '!D8),FALSE) -> #REF! | G13: par match | H13: 15.4 | I13: 27.5 | L13: Paris | M13: La Rochelle
B14: Paris | C14: =VLOOKUP($B14,INDIRECT($A14),COLUMN('resulta '!C9),FALSE) -> #REF! | D14: =VLOOKUP($B14,INDIRECT($A14),COLUMN('resulta '!D9),FALSE) -> #REF! | G14: match | H14: 319 | I14: 445 | J14: -126 | L14: Paris | M14: Lyon
B15: Paris | C15: =VLOOKUP($B15,INDIRECT($A15),COLUMN('resulta '!C10),FALSE) -> #REF! | D15: =VLOOKUP($B15,INDIRECT($A15),COLUMN('resulta '!D10),FALSE) -> #REF! | G15: par match | H15: 18.764706 | I15: 26.176471 | L15: Paris | M15: Montpellier
B16: Paris | C16: =VLOOKUP($B16,INDIRECT($A16),COLUMN('resulta '!C11),FALSE) -> #REF! | D16: =VLOOKUP($B16,INDIRECT($A16),COLUMN('resulta '!D11),FALSE) -> #REF! | L16: Paris | M16: Pau
B17: Paris | C17: =VLOOKUP($B17,INDIRECT($A17),COLUMN('resulta '!C12),FALSE) -> #REF! | D17: =VLOOKUP($B17,INDIRECT($A17),COLUMN('resulta '!D12),FALSE) -> #REF! | G17: point marquer | L17: Paris | M17: Racing 92
B18: Paris | C18: =VLOOKUP($B18,INDIRECT($A18),COLUMN('resulta '!C13),FALSE) -> #REF! | D18: =VLOOKUP($B18,INDIRECT($A18),COLUMN('resulta '!D13),FALSE) -> #REF! | G18: match dom | L18: Paris | M18: Toulon
B19: Paris | C19: =VLOOKUP($B19,INDIRECT($A19),COLUMN('resulta '!C14),FALSE) -> #REF! | D19: =VLOOKUP($B19,INDIRECT($A19),COLUMN('resulta '!D14),FALSE) -> #REF! | G19: par match | L19: Paris | M19: Toulouse
B20: Paris | C20: =VLOOKUP($B20,INDIRECT($A20),COLUMN('resulta '!C15),FALSE) -> #REF! | D20: =VLOOKUP($B20,INDIRECT($A20),COLUMN('resulta '!D15),FALSE) -> #REF! | G20: match ext
G21: par match
A22: match ext | G22: match
C23: =VLOOKUP($E23,INDIRECT($A23),COLUMN('resulta '!D3),FALSE) -> #REF! | D23: =VLOOKUP($E23,INDIRECT($A23),COLUMN('resulta '!C3),FALSE) -> #REF! | E23: Paris | G23: par match
C24: =VLOOKUP($E24,INDIRECT($A24),COLUMN('resulta '!D4),FALSE) -> #REF! | D24: =VLOOKUP($E24,INDIRECT($A24),COLUMN('resulta '!C4),FALSE) -> #REF! | E24: Paris
C25: =VLOOKUP($E25,INDIRECT($A25),COLUMN('resulta '!D5),FALSE) -> #REF! | D25: =VLOOKUP($E25,INDIRECT($A25),COLUMN('resulta '!C5),FALSE) -> #REF! | E25: Paris | G25: point marquer
C26: =VLOOKUP($E26,INDIRECT($A26),COLUMN('resulta '!D6),FALSE) -> #REF! | D26: =VLOOKUP($E26,INDIRECT($A26),COLUMN('resulta '!C6),FALSE) -> #REF! | E26: Paris | G26: match dom
C27: =VLOOKUP($E27,INDIRECT($A27),COLUMN('resulta '!D7),FALSE) -> #REF! | D27: =VLOOKUP($E27,INDIRECT($A27),COLUMN('resulta '!C7),FALSE) -> #REF! | E27: Paris | G27: par match
C28: =VLOOKUP($E28,INDIRECT($A28),COLUMN('resulta '!D8),FALSE) -> #REF! | D28: =VLOOKUP($E28,INDIRECT($A28),COLUMN('resulta '!C8),FALSE) -> #REF! | E28: Paris | G28: match ext
C29: =VLOOKUP($E29,INDIRECT($A29),COLUMN('resulta '!D9),FALSE) -> #REF! | D29: =VLOOKUP($E29,INDIRECT($A29),COLUMN('resulta '!C9),FALSE) -> #REF! | E29: Paris | G29: par match
C30: =VLOOKUP($E30,INDIRECT($A30),COLUMN('resulta '!D10),FALSE) -> #REF! | D30: =VLOOKUP($E30,INDIRECT($A30),COLUMN('resulta '!C10),FALSE) -> #REF! | E30: Paris | G30: match
C31: =VLOOKUP($E31,INDIRECT($A31),COLUMN('resulta '!D11),FALSE) -> #REF! | D31: =VLOOKUP($E31,INDIRECT($A31),COLUMN('resulta '!C11),FALSE) -> #REF! | E31: Paris | G31: par match
C32: =VLOOKUP($E32,INDIRECT($A32),COLUMN('resulta '!D12),FALSE) -> #REF! | D32: =VLOOKUP($E32,INDIRECT($A32),COLUMN('resulta '!C12),FALSE) -> #REF! | E32: Paris
C33: =VLOOKUP($E33,INDIRECT($A33),COLUMN('resulta '!D13),FALSE) -> #REF! | D33: =VLOOKUP($E33,INDIRECT($A33),COLUMN('resulta '!C13),FALSE) -> #REF! | E33: Paris
C34: =VLOOKUP($E34,INDIRECT($A34),COLUMN('resulta '!D14),FALSE) -> #REF! | D34: =VLOOKUP($E34,INDIRECT($A34),COLUMN('resulta '!C14),FALSE) -> #REF! | E34: Paris
C35: =VLOOKUP($E35,INDIRECT($A35),COLUMN('resulta '!D15),FALSE) -> #REF! | D35: =VLOOKUP($E35,INDIRECT($A35),COLUMN('resulta '!C15),FALSE) -> #REF! | E35: Paris
A37: club | C37: face a face | D37: nbr de match | E37: victoire D | F37: victoire E | G37: % | H37: defaite D | I37: defaite E | J37: % | K37: nul | L37: %
A38: PARIS | B38: AGEN | C38: 13 | D38: 5 | E38: 3 | F38: =(D38+E38)/C38 -> 0.61538462 | G38: 1 | H38: 4 | I38: =(G38+H38)/C38 -> 0.38461538 | K38: =100%-(F38+I38) -> 0 | L38: =SUM(F38+I38+K38) -> 1
A39: PARIS | B39: BAYONNE | C39: 18 | D39: 8 | E39: 1 | F39: =(D39+E39)/C39 -> 0.5 | G39: 1 | H39: 8 | I39: =(G39+H39)/C39 -> 0.5 | K39: =100%-(F39+I39) -> 0 | L39: =SUM(F39+I39+K39) -> 1
A40: PARIS | B40: BORDEAUX | C40: 17 | D40: 7 | E40: 1 | F40: =(D40+E40)/C40 -> 0.47058824 | G40: 1 | H40: 8 | I40: =(G40+H40)/C40 -> 0.52941176 | J40: 1 | K40: =100%-(F40+I40) -> 0 | L40: =SUM(F40+I40+K40) -> 1
A41: PARIS | B41: BRIVE | C41: 19 | D41: 8 | E41: 0 | F41: =(D41+E41)/C41 -> 0.42105263 | G41: 1 | H41: 10 | I41: =(G41+H41)/C41 -> 0.57894737 | K41: =100%-(F41+I41) -> 0 | L41: =SUM(F41+I41+K41) -> 1
A42: PARIS | B42: CASTRES | C42: 23 | D42: 10 | E42: 3 | F42: =(D42+E42)/C42 -> 0.56521739 | G42: 0 | H42: 9 | I42: =(G42+H42)/C42 -> 0.39130435 | J42: 1 | K42: =100%-(F42+I42) -> 0.043478261 | L42: =SUM(F42+I42+K42) -> 1
A43: PARIS | B43: CLERMONT | C43: 25 | D43: 6 | E43: 1 | F43: =(D43+E43)/C43 -> 0.28 | G43: 5 | H43: 11 | I43: =(G43+H43)/C43 -> 0.64 | J43: 2 | K43: =100%-(F43+I43) -> 0.08 | L43: =SUM(F43+I43+K43) -> 1
A44: PARIS | B44: LA ROCHELLE | C44: 14 | D44: 6 | E44: 1 | F44: =(D44+E44)/C44 -> 0.5 | G44: 1 | H44: 4 | I44: =(G44+H44)/C44 -> 0.35714286 | J44: 2 | K44: =100%-(F44+I44) -> 0.14285714 | L44: =SUM(F44+I44+K44) -> 1
A45: PARIS | B45: LYON | C45: 11 | D45: 3 | E45: 0 | F45: =(D45+E45)/C45 -> 0.27272727 | G45: 2 | H45: 6 | I45: =(G45+H45)/C45 -> 0.72727273 | K45: =100%-(F45+I45) -> 0 | L45: =SUM(F45+I45+K45) -> 1
A46: PARIS | B46: MONTPELLIER | C46: 23 | D46: 9 | E46: 0 | F46: =(D46+E46)/C46 -> 0.39130435 | G46: 1 | H46: 11 | I46: =(G46+H46)/C46 -> 0.52173913 | J46: 2 | K46: =100%-(F46+I46) -> 0.086956522 | L46: =SUM(F46+I46+K46) -> 1
A47: PARIS | B47: PAU | C47: 9 | D47: 4 | E47: 2 | F47: =(D47+E47)/C47 -> 0.66666667 | G47: 1 | H47: 2 | I47: =(G47+H47)/C47 -> 0.33333333 | K47: =100%-(F47+I47) -> 0 | L47: =SUM(F47+I47+K47) -> 1
A48: PARIS | B48: RACING 92 | C48: 22 | D48: 7 | E48: 2 | F48: =(D48+E48)/C48 -> 0.40909091 | G48: 5 | H48: 8 | I48: =(G48+H48)/C48 -> 0.59090909 | K48: =100%-(F48+I48) -> 0 | L48: =SUM(F48+I48+K48) -> 1
A49: PARIS | B49: TOULON | C49: 25 | D49: 9 | E49: 4 | F49: =(D49+E49)/C49 -> 0.52 | G49: 3 | H49: 7 | I49: =(G49+H49)/C49 -> 0.4 | J49: 2 | K49: =100%-(F49+I49) -> 0.08 | L49: =SUM(F49+I49+K49) -> 1
A50: PARIS | B50: TOULOUSE | C50: 23 | D50: 4 | E50: 0 | F50: =(D50+E50)/C50 -> 0.17391304 | G50: 7 | H50: 10 | I50: =(G50+H50)/C50 -> 0.73913043 | J50: 2 | K50: =100%-(F50+I50) -> 0.086956522 | L50: =SUM(F50+I50+K50) -> 1

Sheet Pau
A1: Pau | B1: saison 2019/2020 | G1: point marquer | H1: saison 2020/2021 | L1: match du jour
B2: nbre match | C2: nbre vitoire | D2: nbre nul | E2: nbre defaite | G2: match dom | H2: =SUM(C8:C20) -> #REF! | I2: =SUM(D8:D20) -> #REF! | J2: =H2-I2 -> #REF! | L2: domicile | M2: exertieur
A3: nbre match D | B3: 9 | C3: 4 | D3: 0 | E3: 5 | G3: par match | H3: =H2/B3 -> #REF! | I3: =I2/B3 -> #REF! | L3: Pau | M3: Agen
A4: nbre match E | B4: 8 | C4: 2 | D4: 0 | E4: 6 | G4: match ext | H4: =SUM(D23:D35) -> #REF! | I4: =SUM(C23:C35) -> #REF! | J4: =H4-I4 -> #REF! | L4: {=INDEX($C$38:$L$50,MATCH(1,($A$38:$A$50=$A$1)*($B$38:$B$50=$M$3),0),4)} -> 0.72727273 | M4: {=INDEX($C$38:$L$50,MATCH(1,($A$38:$A$50=$L$3)*($B$38:$B$50=$M$3),0),7)} -> 0.27272727
A5: nbre match T | B5: =B3+B4 -> 17 | C5: =C3+C4 -> 6 | D5: =D3+D4 -> 0 | E5: =E3+E4 -> 11 | G5: par match | H5: =H4/B4 -> #REF! | I5: =I4/B4 -> #REF! | L5: =100/L4/100 -> 1.375 | M5: =100/M4/100 -> 3.6666667
G6: match | H6: =H2+H4 -> #REF! | I6: =I2+I4 -> #REF! | J6: =H6-I6 -> #REF!
A7: match dom | G7: par match | H7: =H6/B5 -> #REF! | I7: =I6/B5 -> #REF! | L7: Pau | M7: Agen
B8: Pau | C8: =VLOOKUP($B8,INDIRECT($A8),COLUMN('resulta '!C3),FALSE) -> #REF! | D8: =VLOOKUP($B8,INDIRECT($A8),COLUMN('resulta '!D3),FALSE) -> #REF! | L8: Pau | M8: Bayonne
B9: Pau | C9: =VLOOKUP($B9,INDIRECT($A9),COLUMN('resulta '!C4),FALSE) -> #REF! | D9: =VLOOKUP($B9,INDIRECT($A9),COLUMN('resulta '!D4),FALSE) -> #REF! | G9: point marquer | H9: saison 2019/2020 | L9: Pau | M9: Bordeaux
B10: Pau | C10: =VLOOKUP($B10,INDIRECT($A10),COLUMN('resulta '!C5),FALSE) -> #REF! | D10: =VLOOKUP($B10,INDIRECT($A10),COLUMN('resulta '!D5),FALSE) -> #REF! | G10: match dom | H10: 142 | I10: 195 | J10: -53 | L10: Pau | M10: Brive
B11: Pau | C11: =VLOOKUP($B11,INDIRECT($A11),COLUMN('resulta '!C6),FALSE) -> #REF! | D11: =VLOOKUP($B11,INDIRECT($A11),COLUMN('resulta '!D6),FALSE) -> #REF! | G11: par match | H11: 15.777778 | I11: 21.666667 | L11: Pau | M11: Castres
B12: Pau | C12: =VLOOKUP($B12,INDIRECT($A12),COLUMN('resulta '!C7),FALSE) -> #REF! | D12: =VLOOKUP($B12,INDIRECT($A12),COLUMN('resulta '!D7),FALSE) -> #REF! | G12: match ext | H12: 159 | I12: 205 | J12: -46 | L12: Pau | M12: Clermont
B13: Pau | C13: =VLOOKUP($B13,INDIRECT($A13),COLUMN('resulta '!C8),FALSE) -> #REF! | D13: =VLOOKUP($B13,INDIRECT($A13),COLUMN('resulta '!D8),FALSE) -> #REF! | G13: par match | H13: 19.875 | I13: 25.625 | L13: Pau | M13: La Rochelle
B14: Pau | C14: =VLOOKUP($B14,INDIRECT($A14),COLUMN('resulta '!C9),FALSE) -> #REF! | D14: =VLOOKUP($B14,INDIRECT($A14),COLUMN('resulta '!D9),FALSE) -> #REF! | G14: match | H14: 301 | I14: 400 | J14: -99 | L14: Pau | M14: Lyon
B15: Pau | C15: =VLOOKUP($B15,INDIRECT($A15),COLUMN('resulta '!C10),FALSE) -> #REF! | D15: =VLOOKUP($B15,INDIRECT($A15),COLUMN('resulta '!D10),FALSE) -> #REF! | G15: par match | H15: 17.705882 | I15: 23.529412 | L15: Pau | M15: Montpellier
B16: Pau | C16: =VLOOKUP($B16,INDIRECT($A16),COLUMN('resulta '!C11),FALSE) -> #REF! | D16: =VLOOKUP($B16,INDIRECT($A16),COLUMN('resulta '!D11),FALSE) -> #REF! | L16: Pau | M16: Paris
B17: Pau | C17: =VLOOKUP($B17,INDIRECT($A17),COLUMN('resulta '!C12),FALSE) -> #REF! | D17: =VLOOKUP($B17,INDIRECT($A17),COLUMN('resulta '!D12),FALSE) -> #REF! | G17: point marquer | L17: Pau | M17: Racing 92
B18: Pau | C18: =VLOOKUP($B18,INDIRECT($A18),COLUMN('resulta '!C13),FALSE) -> #REF! | D18: =VLOOKUP($B18,INDIRECT($A18),COLUMN('resulta '!D13),FALSE) -> #REF! | G18: match dom | L18: Pau | M18: Toulon
B19: Pau | C19: =VLOOKUP($B19,INDIRECT($A19),COLUMN('resulta '!C14),FALSE) -> #REF! | D19: =VLOOKUP($B19,INDIRECT($A19),COLUMN('resulta '!D14),FALSE) -> #REF! | G19: par match | L19: Pau | M19: Toulouse
B20: Pau | C20: =VLOOKUP($B20,INDIRECT($A20),COLUMN('resulta '!C15),FALSE) -> #REF! | D20: =VLOOKUP($B20,INDIRECT($A20),COLUMN('resulta '!D15),FALSE) -> #REF! | G20: match ext
G21: par match
A22: match ext | G22: match
C23: =VLOOKUP($E23,INDIRECT($A23),COLUMN('resulta '!D3),FALSE) -> #REF! | D23: =VLOOKUP($E23,INDIRECT($A23),COLUMN('resulta '!C3),FALSE) -> #REF! | E23: Pau | G23: par match
C24: =VLOOKUP($E24,INDIRECT($A24),COLUMN('resulta '!D4),FALSE) -> #REF! | D24: =VLOOKUP($E24,INDIRECT($A24),COLUMN('resulta '!C4),FALSE) -> #REF! | E24: Pau
C25: =VLOOKUP($E25,INDIRECT($A25),COLUMN('resulta '!D5),FALSE) -> #REF! | D25: =VLOOKUP($E25,INDIRECT($A25),COLUMN('resulta '!C5),FALSE) -> #REF! | E25: Pau | G25: point marquer
C26: =VLOOKUP($E26,INDIRECT($A26),COLUMN('resulta '!D6),FALSE) -> #REF! | D26: =VLOOKUP($E26,INDIRECT($A26),COLUMN('resulta '!C6),FALSE) -> #REF! | E26: Pau | G26: match dom
C27: =VLOOKUP($E27,INDIRECT($A27),COLUMN('resulta '!D7),FALSE) -> #REF! | D27: =VLOOKUP($E27,INDIRECT($A27),COLUMN('resulta '!C7),FALSE) -> #REF! | E27: Pau | G27: par match
C28: =VLOOKUP($E28,INDIRECT($A28),COLUMN('resulta '!D8),FALSE) -> #REF! | D28: =VLOOKUP($E28,INDIRECT($A28),COLUMN('resulta '!C8),FALSE) -> #REF! | E28: Pau | G28: match ext
C29: =VLOOKUP($E29,INDIRECT($A29),COLUMN('resulta '!D9),FALSE) -> #REF! | D29: =VLOOKUP($E29,INDIRECT($A29),COLUMN('resulta '!C9),FALSE) -> #REF! | E29: Pau | G29: par match
C30: =VLOOKUP($E30,INDIRECT($A30),COLUMN('resulta '!D10),FALSE) -> #REF! | D30: =VLOOKUP($E30,INDIRECT($A30),COLUMN('resulta '!C10),FALSE) -> #REF! | E30: Pau | G30: match
C31: =VLOOKUP($E31,INDIRECT($A31),COLUMN('resulta '!D11),FALSE) -> #REF! | D31: =VLOOKUP($E31,INDIRECT($A31),COLUMN('resulta '!C11),FALSE) -> #REF! | E31: Pau | G31: par match
C32: =VLOOKUP($E32,INDIRECT($A32),COLUMN('resulta '!D12),FALSE) -> #REF! | D32: =VLOOKUP($E32,INDIRECT($A32),COLUMN('resulta '!C12),FALSE) -> #REF! | E32: Pau
C33: =VLOOKUP($E33,INDIRECT($A33),COLUMN('resulta '!D13),FALSE) -> #REF! | D33: =VLOOKUP($E33,INDIRECT($A33),COLUMN('resulta '!C13),FALSE) -> #REF! | E33: Pau
C34: =VLOOKUP($E34,INDIRECT($A34),COLUMN('resulta '!D14),FALSE) -> #REF! | D34: =VLOOKUP($E34,INDIRECT($A34),COLUMN('resulta '!C14),FALSE) -> #REF! | E34: Pau
C35: =VLOOKUP($E35,INDIRECT($A35),COLUMN('resulta '!D15),FALSE) -> #REF! | D35: =VLOOKUP($E35,INDIRECT($A35),COLUMN('resulta '!C15),FALSE) -> #REF! | E35: Pau
A37: club | C37: face a face | D37: nbr de match | E37: victoire D | F37: victoire E | G37: % | H37: defaite D | I37: defaite E | J37: % | K37: nul | L37: %
A38: PAU | B38: AGEN | C38: 11 | D38: 5 | E38: 3 | F38: =(D38+E38)/C38 -> 0.72727273 | G38: 1 | H38: 2 | I38: =(G38+H38)/C38 -> 0.27272727 | K38: =100%-(F38+I38) -> 0 | L38: =SUM(F38+I38+K38) -> 1
A39: PAU | B39: BAYONNE | C39: 3 | D39: 1 | E39: 1 | F39: =(D39+E39)/C39 -> 0.66666667 | G39: 0 | H39: 0 | I39: =(G39+H39)/C39 -> 0 | J39: 1 | K39: =100%-(F39+I39) -> 0.33333333 | L39: =SUM(F39+I39+K39) -> 1
A40: PAU | B40: BORDEAUX | C40: 9 | D40: 2 | E40: 1 | F40: =(D40+E40)/C40 -> 0.33333333 | G40: 3 | H40: 3 | I40: =(G40+H40)/C40 -> 0.66666667 | K40: =100%-(F40+I40) -> 0 | L40: =SUM(F40+I40+K40) -> 1
A41: PAU | B41: BRIVE | C41: 11 | D41: 4 | E41: 1 | F41: =(D41+E41)/C41 -> 0.45454545 | G41: 1 | H41: 5 | I41: =(G41+H41)/C41 -> 0.54545455 | K41: =100%-(F41+I41) -> 0 | L41: =SUM(F41+I41+K41) -> 1
A42: PAU | B42: CASTRES | C42: 10 | D42: 4 | E42: 1 | F42: =(D42+E42)/C42 -> 0.5 | G42: 1 | H42: 4 | I42: =(G42+H42)/C42 -> 0.5 | K42: =100%-(F42+I42) -> 0 | L42: =SUM(F42+I42+K42) -> 1
A43: PAU | B43: CLERMONT | C43: 10 | D43: 2 | E43: 1 | F43: =(D43+E43)/C43 -> 0.3 | G43: 3 | H43: 4 | I43: =(G43+H43)/C43 -> 0.7 | K43: =100%-(F43+I43) -> 0 | L43: =SUM(F43+I43+K43) -> 1
A44: PAU | B44: LA ROCHELLE | C44: 15 | D44: 4 | E44: 0 | F44: =(D44+E44)/C44 -> 0.26666667 | G44: 4 | H44: 7 | I44: =(G44+H44)/C44 -> 0.73333333 | K44: =100%-(F44+I44) -> 0 | L44: =SUM(F44+I44+K44) -> 1
A45: PAU | B45: LYON | C45: 11 | D45: 3 | E45: 1 | F45: =(D45+E45)/C45 -> 0.36363636 | G45: 2 | H45: 5 | I45: =(G45+H45)/C45 -> 0.63636364 | K45: =100%-(F45+I45) -> 0 | L45: =SUM(F45+I45+K45) -> 1
A46: PAU | B46: MONTPELLIER | C46: 10 | D46: 3 | E46: 1 | F46: =(D46+E46)/C46 -> 0.4 | G46: 2 | H46: 4 | I46: =(G46+H46)/C46 -> 0.6 | K46: =100%-(F46+I46) -> 0 | L46: =SUM(F46+I46+K46) -> 1
A47: PAU | B47: PARIS | C47: 9 | D47: 2 | E47: 1 | F47: =(D47+E47)/C47 -> 0.33333333 | G47: 2 | H47: 4 | I47: =(G47+H47)/C47 -> 0.66666667 | K47: =100%-(F47+I47) -> 0 | L47: =SUM(F47+I47+K47) -> 1
A48: PAU | B48: RACING 92 | C48: 9 | D48: 3 | E48: 0 | F48: =(D48+E48)/C48 -> 0.33333333 | G48: 1 | H48: 4 | I48: =(G48+H48)/C48 -> 0.55555556 | J48: 1 | K48: =100%-(F48+I48) -> 0.11111111 | L48: =SUM(F48+I48+K48) -> 1
A49: PAU | B49: TOULON | C49: 9 | D49: 2 | E49: 0 | F49: =(D49+E49)/C49 -> 0.22222222 | G49: 3 | H49: 4 | I49: =(G49+H49)/C49 -> 0.77777778 | K49: =100%-(F49+I49) -> 0 | L49: =SUM(F49+I49+K49) -> 1
A50: PAU | B50: TOULOUSE | C50: 9 | D50: 2 | E50: 1 | F50: =(D50+E50)/C50 -> 0.33333333 | G50: 2 | H50: 4 | I50: =(G50+H50)/C50 -> 0.66666667 | K50: =100%-(F50+I50) -> 0 | L50: =SUM(F50+I50+K50) -> 1

Sheet Racing 92
A1: Racing 92 | B1: saison 2019/2020 | G1: point marquer | H1: saison 2020/2021 | L1: match du jour
B2: nbre match | C2: nbre vitoire | D2: nbre nul | E2: nbre defaite | G2: match dom | H2: =SUM(C8:C20) -> #REF! | I2: =SUM(D8:D20) -> #REF! | J2: =H2-I2 -> #REF! | L2: domicile | M2: exertieur
A3: nbre match D | B3: 9 | C3: 5 | D3: 1 | E3: 3 | G3: par match | H3: =H2/B3 -> #REF! | I3: =I2/B3 -> #REF! | L3: Racing 92 | M3: Agen
A4: nbre match E | B4: 8 | C4: 4 | D4: 0 | E4: 4 | G4: match ext | H4: =SUM(D23:D35) -> #REF! | I4: =SUM(C23:C35) -> #REF! | J4: =H4-I4 -> #REF! | L4: {=INDEX($C$38:$L$50,MATCH(1,($A$38:$A$50=$A$1)*($B$38:$B$50=$M$3),0),4)} -> 0.61538462 | M4: {=INDEX($C$38:$L$50,MATCH(1,($A$38:$A$50=$L$3)*($B$38:$B$50=$M$3),0),7)} -> 0.30769231
A5: nbre match T | B5: =B3+B4 -> 17 | C5: =C3+C4 -> 9 | D5: =D3+D4 -> 1 | E5: =E3+E4 -> 7 | G5: par match | H5: =H4/B4 -> #REF! | I5: =I4/B4 -> #REF! | L5: =100/L4/100 -> 1.625 | M5: =100/M4/100 -> 3.25
G6: match | H6: =H2+H4 -> #REF! | I6: =I2+I4 -> #REF! | J6: =H6-I6 -> #REF!
A7: match dom | G7: par match | H7: =H6/B5 -> #REF! | I7: =I6/B5 -> #REF! | L7: racing 92 | M7: Agen
B8: Racing 92 | C8: =VLOOKUP($B8,INDIRECT($A8),COLUMN('resulta '!C3),FALSE) -> #REF! | D8: =VLOOKUP($B8,INDIRECT($A8),COLUMN('resulta '!D3),FALSE) -> #REF! | L8: racing 92 | M8: Bayonne
B9: Racing 92 | C9: =VLOOKUP($B9,INDIRECT($A9),COLUMN('resulta '!C4),FALSE) -> #REF! | D9: =VLOOKUP($B9,INDIRECT($A9),COLUMN('resulta '!D4),FALSE) -> #REF! | G9: point marquer | H9: saison 2019/2020 | L9: racing 92 | M9: Bordeaux
B10: Racing 92 | C10: =VLOOKUP($B10,INDIRECT($A10),COLUMN('resulta '!C5),FALSE) -> #REF! | D10: =VLOOKUP($B10,INDIRECT($A10),COLUMN('resulta '!D5),FALSE) -> #REF! | G10: match dom | H10: 235 | I10: 177 | J10: 58 | L10: racing 92 | M10: Brive
B11: Racing 92 | C11: =VLOOKUP($B11,INDIRECT($A11),COLUMN('resulta '!C6),FALSE) -> #REF! | D11: =VLOOKUP($B11,INDIRECT($A11),COLUMN('resulta '!D6),FALSE) -> #REF! | G11: par match | H11: 26.111111 | I11: 19.666667 | L11: racing 92 | M11: Castres
B12: Racing 92 | C12: =VLOOKUP($B12,INDIRECT($A12),COLUMN('resulta '!C7),FALSE) -> #REF! | D12: =VLOOKUP($B12,INDIRECT($A12),COLUMN('resulta '!D7),FALSE) -> #REF! | G12: match ext | H12: 199 | I12: 125 | J12: 74 | L12: racing 92 | M12: Clermont
B13: Racing 92 | C13: =VLOOKUP($B13,INDIRECT($A13),COLUMN('resulta '!C8),FALSE) -> #REF! | D13: =VLOOKUP($B13,INDIRECT($A13),COLUMN('resulta '!D8),FALSE) -> #REF! | G13: par match | H13: 24.875 | I13: 15.625 | L13: racing 92 | M13: La Rochelle
B14: Racing 92 | C14: =VLOOKUP($B14,INDIRECT($A14),COLUMN('resulta '!C9),FALSE) -> #REF! | D14: =VLOOKUP($B14,INDIRECT($A14),COLUMN('resulta '!D9),FALSE) -> #REF! | G14: match | H14: 434 | I14: 302 | J14: 132 | L14: racing 92 | M14: Lyon
B15: Racing 92 | C15: =VLOOKUP($B15,INDIRECT($A15),COLUMN('resulta '!C10),FALSE) -> #REF! | D15: =VLOOKUP($B15,INDIRECT($A15),COLUMN('resulta '!D10),FALSE) -> #REF! | G15: par match | H15: 25.529412 | I15: 17.764706 | L15: racing 92 | M15: Montpellier
B16: Racing 92 | C16: =VLOOKUP($B16,INDIRECT($A16),COLUMN('resulta '!C11),FALSE) -> #REF! | D16: =VLOOKUP($B16,INDIRECT($A16),COLUMN('resulta '!D11),FALSE) -> #REF! | L16: racing 92 | M16: Paris
B17: Racing 92 | C17: =VLOOKUP($B17,INDIRECT($A17),COLUMN('resulta '!C12),FALSE) -> #REF! | D17: =VLOOKUP($B17,INDIRECT($A17),COLUMN('resulta '!D12),FALSE) -> #REF! | G17: point marquer | L17: racing 92 | M17: Pau
B18: Racing 92 | C18: =VLOOKUP($B18,INDIRECT($A18),COLUMN('resulta '!C13),FALSE) -> #REF! | D18: =VLOOKUP($B18,INDIRECT($A18),COLUMN('resulta '!D13),FALSE) -> #REF! | G18: match dom | L18: racing 92 | M18: Toulon
B19: Racing 92 | C19: =VLOOKUP($B19,INDIRECT($A19),COLUMN('resulta '!C14),FALSE) -> #REF! | D19: =VLOOKUP($B19,INDIRECT($A19),COLUMN('resulta '!D14),FALSE) -> #REF! | G19: par match | L19: racing 92 | M19: Toulouse
B20: Racing 92 | C20: =VLOOKUP($B20,INDIRECT($A20),COLUMN('resulta '!C15),FALSE) -> #REF! | D20: =VLOOKUP($B20,INDIRECT($A20),COLUMN('resulta '!D15),FALSE) -> #REF! | G20: match ext
G21: par match
A22: match ext | G22: match
C23: =VLOOKUP($E23,INDIRECT($A23),COLUMN('resulta '!D3),FALSE) -> #REF! | D23: =VLOOKUP($E23,INDIRECT($A23),COLUMN('resulta '!C3),FALSE) -> #REF! | E23: Racing 92 | G23: par match
C24: =VLOOKUP($E24,INDIRECT($A24),COLUMN('resulta '!D4),FALSE) -> #REF! | D24: =VLOOKUP($E24,INDIRECT($A24),COLUMN('resulta '!C4),FALSE) -> #REF! | E24: Racing 92
C25: =VLOOKUP($E25,INDIRECT($A25),COLUMN('resulta '!D5),FALSE) -> #REF! | D25: =VLOOKUP($E25,INDIRECT($A25),COLUMN('resulta '!C5),FALSE) -> #REF! | E25: Racing 92 | G25: point marquer
C26: =VLOOKUP($E26,INDIRECT($A26),COLUMN('resulta '!D6),FALSE) -> #REF! | D26: =VLOOKUP($E26,INDIRECT($A26),COLUMN('resulta '!C6),FALSE) -> #REF! | E26: Racing 92 | G26: match dom
C27: =VLOOKUP($E27,INDIRECT($A27),COLUMN('resulta '!D7),FALSE) -> #REF! | D27: =VLOOKUP($E27,INDIRECT($A27),COLUMN('resulta '!C7),FALSE) -> #REF! | E27: Racing 92 | G27: par match
C28: =VLOOKUP($E28,INDIRECT($A28),COLUMN('resulta '!D8),FALSE) -> #REF! | D28: =VLOOKUP($E28,INDIRECT($A28),COLUMN('resulta '!C8),FALSE) -> #REF! | E28: Racing 92 | G28: match ext
C29: =VLOOKUP($E29,INDIRECT($A29),COLUMN('resulta '!D9),FALSE) -> #REF! | D29: =VLOOKUP($E29,INDIRECT($A29),COLUMN('resulta '!C9),FALSE) -> #REF! | E29: Racing 92 | G29: par match
C30: =VLOOKUP($E30,INDIRECT($A30),COLUMN('resulta '!D10),FALSE) -> #REF! | D30: =VLOOKUP($E30,INDIRECT($A30),COLUMN('resulta '!C10),FALSE) -> #REF! | E30: Racing 92 | G30: match
C31: =VLOOKUP($E31,INDIRECT($A31),COLUMN('resulta '!D11),FALSE) -> #REF! | D31: =VLOOKUP($E31,INDIRECT($A31),COLUMN('resulta '!C11),FALSE) -> #REF! | E31: Racing 92 | G31: par match
C32: =VLOOKUP($E32,INDIRECT($A32),COLUMN('resulta '!D12),FALSE) -> #REF! | D32: =VLOOKUP($E32,INDIRECT($A32),COLUMN('resulta '!C12),FALSE) -> #REF! | E32: Racing 92
C33: =VLOOKUP($E33,INDIRECT($A33),COLUMN('resulta '!D13),FALSE) -> #REF! | D33: =VLOOKUP($E33,INDIRECT($A33),COLUMN('resulta '!C13),FALSE) -> #REF! | E33: Racing 92
C34: =VLOOKUP($E34,INDIRECT($A34),COLUMN('resulta '!D14),FALSE) -> #REF! | D34: =VLOOKUP($E34,INDIRECT($A34),COLUMN('resulta '!C14),FALSE) -> #REF! | E34: Racing 92
C35: =VLOOKUP($E35,INDIRECT($A35),COLUMN('resulta '!D15),FALSE) -> #REF! | D35: =VLOOKUP($E35,INDIRECT($A35),COLUMN('resulta '!C15),FALSE) -> #REF! | E35: Racing 92
A37: club | C37: face a face | D37: nbr de match | E37: victoire D | F37: victoire E | G37: % | H37: defaite D | I37: defaite E | J37: % | K37: nul | L37: %
A38: RACING 92 | B38: AGEN | C38: 13 | D38: 6 | E38: 2 | F38: =(D38+E38)/C38 -> 0.61538462 | G38: 0 | H38: 4 | I38: =(G38+H38)/C38 -> 0.30769231 | J38: 1 | K38: =100%-(F38+I38) -> 0.076923077 | L38: =SUM(F38+I38+K38) -> 1
A39: RACING 92 | B39: BAYONNE | C39: 15 | D39: 7 | E39: 5 | F39: =(D39+E39)/C39 -> 0.8 | G39: 1 | H39: 2 | I39: =(G39+H39)/C39 -> 0.2 | K39: =100%-(F39+I39) -> 0 | L39: =SUM(F39+I39+K39) -> 1
A40: RACING 92 | B40: BORDEAUX | C40: 17 | D40: 8 | E40: 3 | F40: =(D40+E40)/C40 -> 0.64705882 | G40: 1 | H40: 5 | I40: =(G40+H40)/C40 -> 0.35294118 | K40: =100%-(F40+I40) -> 0 | L40: =SUM(F40+I40+K40) -> 1
A41: RACING 92 | B41: BRIVE | C41: 17 | D41: 7 | E41: 5 | F41: =(D41+E41)/C41 -> 0.70588235 | G41: 0 | H41: 3 | I41: =(G41+H41)/C41 -> 0.17647059 | J41: 2 | K41: =100%-(F41+I41) -> 0.11764706 | L41: =SUM(F41+I41+K41) -> 1
A42: RACING 92 | B42: CASTRES | C42: 23 | D42: 9 | E42: 4 | F42: =(D42+E42)/C42 -> 0.56521739 | G42: 2 | H42: 7 | I42: =(G42+H42)/C42 -> 0.39130435 | J42: 1 | K42: =100%-(F42+I42) -> 0.043478261 | L42: =SUM(F42+I42+K42) -> 1
A43: RACING 92 | B43: CLERMONT | C43: 24 | D43: 8 | E43: 1 | F43: =(D43+E43)/C43 -> 0.375 | G43: 2 | H43: 10 | I43: =(G43+H43)/C43 -> 0.5 | J43: 3 | K43: =100%-(F43+I43) -> 0.125 | L43: =SUM(F43+I43+K43) -> 1
A44: RACING 92 | B44: LA ROCHELLE | C44: 15 | D44: 6 | E44: 2 | F44: =(D44+E44)/C44 -> 0.53333333 | G44: 2 | H44: 3 | I44: =(G44+H44)/C44 -> 0.33333333 | J44: 2 | K44: =100%-(F44+I44) -> 0.13333333 | L44: =SUM(F44+I44+K44) -> 1
A45: RACING 92 | B45: LYON | C45: 12 | D45: 3 | E45: 3 | F45: =(D45+E45)/C45 -> 0.5 | G45: 3 | H45: 3 | I45: =(G45+H45)/C45 -> 0.5 | K45: =100%-(F45+I45) -> 0 | L45: =SUM(F45+I45+K45) -> 1
A46: RACING 92 | B46: MONTPELLIER | C46: 23 | D46: 9 | E46: 4 | F46: =(D46+E46)/C46 -> 0.56521739 | G46: 2 | H46: 7 | I46: =(G46+H46)/C46 -> 0.39130435 | J46: 1 | K46: =100%-(F46+I46) -> 0.043478261 | L46: =SUM(F46+I46+K46) -> 1
A47: RACING 92 | B47: PARIS | C47: 22 | D47: 8 | E47: 5 | F47: =(D47+E47)/C47 -> 0.59090909 | G47: 2 | H47: 7 | I47: =(G47+H47)/C47 -> 0.40909091 | K47: =100%-(F47+I47) -> 0 | L47: =SUM(F47+I47+K47) -> 1
A48: RACING 92 | B48: PAU | C48: 9 | D48: 4 | E48: 1 | F48: =(D48+E48)/C48 -> 0.55555556 | G48: 0 | H48: 3 | I48: =(G48+H48)/C48 -> 0.33333333 | J48: 1 | K48: =100%-(F48+I48) -> 0.11111111 | L48: =SUM(F48+I48+K48) -> 1
A49: RACING 92 | B49: TOULON | C49: 24 | D49: 7 | E49: 6 | F49: =(D49+E49)/C49 -> 0.54166667 | G49: 3 | H49: 8 | I49: =(G49+H49)/C49 -> 0.45833333 | K49: =100%-(F49+I49) -> 0 | L49: =SUM(F49+I49+K49) -> 1
A50: RACING 92 | B50: TOULOUSE | C50: 25 | D50: 9 | E50: 2 | F50: =(D50+E50)/C50 -> 0.44 | G50: 3 | H50: 11 | I50: =(G50+H50)/C50 -> 0.56 | K50: =100%-(F50+I50) -> 0 | L50: =SUM(F50+I50+K50) -> 1

Sheet toulon
A1: Toulon | B1: saison 2019/2020 | G1: point marquer | H1: saison 2020/2021 | L1: match du jour
B2: nbre match | C2: nbre vitoire | D2: nbre nul | E2: nbre defaite | G2: match dom | H2: =SUM(C8:C20) -> #REF! | I2: =SUM(D8:D20) -> #REF! | J2: =H2-I2 -> #REF! | L2: domicile | M2: exertieur
A3: nbre match D | B3: 9 | C3: 7 | D3: 1 | E3: 1 | G3: par match | H3: =H2/B3 -> #REF! | I3: =I2/B3 -> #REF! | L3: Toulon | M3: Agen
A4: nbre match E | B4: 8 | C4: 2 | D4: 1 | E4: 5 | G4: match ext | H4: =SUM(D23:D35) -> #REF! | I4: =SUM(C23:C35) -> #REF! | J4: =H4-I4 -> #REF! | L4: {=INDEX($C$38:$L$50,MATCH(1,($A$38:$A$50=$A$1)*($B$38:$B$50=$M$3),0),4)} -> 0.69230769 | M4: {=INDEX($C$38:$L$50,MATCH(1,($A$38:$A$50=$L$3)*($B$38:$B$50=$M$3),0),7)} -> 0.30769231
A5: nbre match T | B5: =B3+B4 -> 17 | C5: =C3+C4 -> 9 | D5: =D3+D4 -> 2 | E5: =E3+E4 -> 6 | G5: par match | H5: =H4/B4 -> #REF! | I5: =I4/B4 -> #REF! | L5: =100/L4/100 -> 1.4444444 | M5: =100/M4/100 -> 3.25
G6: match | H6: =H2+H4 -> #REF! | I6: =I2+I4 -> #REF! | J6: =H6-I6 -> #REF!
A7: match dom | G7: par match | H7: =H6/B5 -> #REF! | I7: =I6/B5 -> #REF! | L7: Toulon | M7: Agen
B8: Toulon | C8: =VLOOKUP($B8,INDIRECT($A8),COLUMN('resulta '!C3),FALSE) -> #REF! | D8: =VLOOKUP($B8,INDIRECT($A8),COLUMN('resulta '!D3),FALSE) -> #REF! | L8: Toulon | M8: Bayonne
B9: Toulon | C9: =VLOOKUP($B9,INDIRECT($A9),COLUMN('resulta '!C4),FALSE) -> #REF! | D9: =VLOOKUP($B9,INDIRECT($A9),COLUMN('resulta '!D4),FALSE) -> #REF! | G9: point marquer | H9: saison 2019/2020 | L9: Toulon | M9: Bordeaux
B10: Toulon | C10: =VLOOKUP($B10,INDIRECT($A10),COLUMN('resulta '!C5),FALSE) -> #REF! | D10: =VLOOKUP($B10,INDIRECT($A10),COLUMN('resulta '!D5),FALSE) -> #REF! | G10: match dom | H10: 233 | I10: 137 | J10: 96 | L10: Toulon | M10: Brive
B11: Toulon | C11: =VLOOKUP($B11,INDIRECT($A11),COLUMN('resulta '!C6),FALSE) -> #REF! | D11: =VLOOKUP($B11,INDIRECT($A11),COLUMN('resulta '!D6),FALSE) -> #REF! | G11: par match | H11: 25.888889 | I11: 15.222222 | L11: Toulon | M11: Castres
B12: Toulon | C12: =VLOOKUP($B12,INDIRECT($A12),COLUMN('resulta '!C7),FALSE) -> #REF! | D12: =VLOOKUP($B12,INDIRECT($A12),COLUMN('resulta '!D7),FALSE) -> #REF! | G12: match ext | H12: 115 | I12: 172 | J12: -57 | L12: Toulon | M12: Clermont
B13: Toulon | C13: =VLOOKUP($B13,INDIRECT($A13),COLUMN('resulta '!C8),FALSE) -> #REF! | D13: =VLOOKUP($B13,INDIRECT($A13),COLUMN('resulta '!D8),FALSE) -> #REF! | G13: par match | H13: 14.375 | I13: 21.5 | L13: Toulon | M13: La Rochelle
B14: Toulon | C14: =VLOOKUP($B14,INDIRECT($A14),COLUMN('resulta '!C9),FALSE) -> #REF! | D14: =VLOOKUP($B14,INDIRECT($A14),COLUMN('resulta '!D9),FALSE) -> #REF! | G14: match | H14: 348 | I14: 309 | J14: 39 | L14: Toulon | M14: Lyon
B15: Toulon | C15: =VLOOKUP($B15,INDIRECT($A15),COLUMN('resulta '!C10),FALSE) -> #REF! | D15: =VLOOKUP($B15,INDIRECT($A15),COLUMN('resulta '!D10),FALSE) -> #REF! | G15: par match | H15: 20.470588 | I15: 18.176471 | L15: Toulon | M15: Montpellier
B16: Toulon | C16: =VLOOKUP($B16,INDIRECT($A16),COLUMN('resulta '!C11),FALSE) -> #REF! | D16: =VLOOKUP($B16,INDIRECT($A16),COLUMN('resulta '!D11),FALSE) -> #REF! | L16: Toulon | M16: Paris
B17: Toulon | C17: =VLOOKUP($B17,INDIRECT($A17),COLUMN('resulta '!C12),FALSE) -> #REF! | D17: =VLOOKUP($B17,INDIRECT($A17),COLUMN('resulta '!D12),FALSE) -> #REF! | G17: point marquer | L17: Toulon | M17: Pau
B18: Toulon | C18: =VLOOKUP($B18,INDIRECT($A18),COLUMN('resulta '!C13),FALSE) -> #REF! | D18: =VLOOKUP($B18,INDIRECT($A18),COLUMN('resulta '!D13),FALSE) -> #REF! | G18: match dom | L18: Toulon | M18: Racing 92
B19: Toulon | C19: =VLOOKUP($B19,INDIRECT($A19),COLUMN('resulta '!C14),FALSE) -> #REF! | D19: =VLOOKUP($B19,INDIRECT($A19),COLUMN('resulta '!D14),FALSE) -> #REF! | G19: par match | L19: Toulon | M19: Toulouse
B20: Toulon | C20: =VLOOKUP($B20,INDIRECT($A20),COLUMN('resulta '!C15),FALSE) -> #REF! | D20: =VLOOKUP($B20,INDIRECT($A20),COLUMN('resulta '!D15),FALSE) -> #REF! | G20: match ext
G21: par match
A22: match ext | G22: match
C23: =VLOOKUP($E23,INDIRECT($A23),COLUMN('resulta '!D3),FALSE) -> #REF! | D23: =VLOOKUP($E23,INDIRECT($A23),COLUMN('resulta '!C3),FALSE) -> #REF! | E23: Toulon | G23: par match
C24: =VLOOKUP($E24,INDIRECT($A24),COLUMN('resulta '!D4),FALSE) -> #REF! | D24: =VLOOKUP($E24,INDIRECT($A24),COLUMN('resulta '!C4),FALSE) -> #REF! | E24: Toulon
C25: =VLOOKUP($E25,INDIRECT($A25),COLUMN('resulta '!D5),FALSE) -> #REF! | D25: =VLOOKUP($E25,INDIRECT($A25),COLUMN('resulta '!C5),FALSE) -> #REF! | E25: Toulon | G25: point marquer
C26: =VLOOKUP($E26,INDIRECT($A26),COLUMN('resulta '!D6),FALSE) -> #REF! | D26: =VLOOKUP($E26,INDIRECT($A26),COLUMN('resulta '!C6),FALSE) -> #REF! | E26: Toulon | G26: match dom
C27: =VLOOKUP($E27,INDIRECT($A27),COLUMN('resulta '!D7),FALSE) -> #REF! | D27: =VLOOKUP($E27,INDIRECT($A27),COLUMN('resulta '!C7),FALSE) -> #REF! | E27: Toulon | G27: par match
C28: =VLOOKUP($E28,INDIRECT($A28),COLUMN('resulta '!D8),FALSE) -> #REF! | D28: =VLOOKUP($E28,INDIRECT($A28),COLUMN('resulta '!C8),FALSE) -> #REF! | E28: Toulon | G28: match ext
C29: =VLOOKUP($E29,INDIRECT($A29),COLUMN('resulta '!D9),FALSE) -> #REF! | D29: =VLOOKUP($E29,INDIRECT($A29),COLUMN('resulta '!C9),FALSE) -> #REF! | E29: Toulon | G29: par match
C30: =VLOOKUP($E30,INDIRECT($A30),COLUMN('resulta '!D10),FALSE) -> #REF! | D30: =VLOOKUP($E30,INDIRECT($A30),COLUMN('resulta '!C10),FALSE) -> #REF! | E30: Toulon | G30: match
C31: =VLOOKUP($E31,INDIRECT($A31),COLUMN('resulta '!D11),FALSE) -> #REF! | D31: =VLOOKUP($E31,INDIRECT($A31),COLUMN('resulta '!C11),FALSE) -> #REF! | E31: Toulon | G31: par match
C32: =VLOOKUP($E32,INDIRECT($A32),COLUMN('resulta '!D12),FALSE) -> #REF! | D32: =VLOOKUP($E32,INDIRECT($A32),COLUMN('resulta '!C12),FALSE) -> #REF! | E32: Toulon
C33: =VLOOKUP($E33,INDIRECT($A33),COLUMN('resulta '!D13),FALSE) -> #REF! | D33: =VLOOKUP($E33,INDIRECT($A33),COLUMN('resulta '!C13),FALSE) -> #REF! | E33: Toulon
C34: =VLOOKUP($E34,INDIRECT($A34),COLUMN('resulta '!D14),FALSE) -> #REF! | D34: =VLOOKUP($E34,INDIRECT($A34),COLUMN('resulta '!C14),FALSE) -> #REF! | E34: Toulon
C35: =VLOOKUP($E35,INDIRECT($A35),COLUMN('resulta '!D15),FALSE) -> #REF! | D35: =VLOOKUP($E35,INDIRECT($A35),COLUMN('resulta '!C15),FALSE) -> #REF! | E35: Toulon
A37: club | C37: face a face | D37: nbr de match | E37: victoire D | F37: victoire E | G37: % | H37: defaite D | I37: defaite E | J37: % | K37: nul | L37: %
A38: TOULON | B38: AGEN | C38: 13 | D38: 6 | E38: 3 | F38: =(D38+E38)/C38 -> 0.69230769 | G38: 0 | H38: 4 | I38: =(G38+H38)/C38 -> 0.30769231 | K38: =100%-(F38+I38) -> 0 | L38: =SUM(F38+I38+K38) -> 1
A39: TOULON | B39: BAYONNE | C39: 17 | D39: 7 | E39: 3 | F39: =(D39+E39)/C39 -> 0.58823529 | G39: 1 | H39: 4 | I39: =(G39+H39)/C39 -> 0.29411765 | J39: 2 | K39: =100%-(F39+I39) -> 0.11764706 | L39: =SUM(F39+I39+K39) -> 1
A40: TOULON | B40: BORDEAUX | C40: 17 | D40: 8 | E40: 3 | F40: =(D40+E40)/C40 -> 0.64705882 | G40: 0 | H40: 6 | I40: =(G40+H40)/C40 -> 0.35294118 | K40: =100%-(F40+I40) -> 0 | L40: =SUM(F40+I40+K40) -> 1
A41: TOULON | B41: BRIVE | C41: 20 | D41: 9 | E41: 2 | F41: =(D41+E41)/C41 -> 0.55 | G41: 1 | H41: 8 | I41: =(G41+H41)/C41 -> 0.45 | K41: =100%-(F41+I41) -> 0 | L41: =SUM(F41+I41+K41) -> 1
A42: TOULON | B42: CASTRES | C42: 26 | D42: 12 | E42: 1 | F42: =(D42+E42)/C42 -> 0.5 | G42: 2 | H42: 9 | I42: =(G42+H42)/C42 -> 0.42307692 | J42: 2 | K42: =100%-(F42+I42) -> 0.076923077 | L42: =SUM(F42+I42+K42) -> 1
A43: TOULON | B43: CLERMONT | C43: 26 | D43: 9 | E43: 2 | F43: =(D43+E43)/C43 -> 0.42307692 | G43: 2 | H43: 11 | I43: =(G43+H43)/C43 -> 0.5 | J43: 2 | K43: =100%-(F43+I43) -> 0.076923077 | L43: =SUM(F43+I43+K43) -> 1
A44: TOULON | B44: LA ROCHELLE | C44: 15 | D44: 5 | E44: 3 | F44: =(D44+E44)/C44 -> 0.53333333 | G44: 2 | H44: 4 | I44: =(G44+H44)/C44 -> 0.4 | J44: 1 | K44: =100%-(F44+I44) -> 0.066666667 | L44: =SUM(F44+I44+K44) -> 1
A45: TOULON | B45: LYON | C45: 13 | D45: 5 | E45: 2 | F45: =(D45+E45)/C45 -> 0.53846154 | G45: 1 | H45: 4 | I45: =(G45+H45)/C45 -> 0.38461538 | J45: 1 | K45: =100%-(F45+I45) -> 0.076923077 | L45: =SUM(F45+I45+K45) -> 1
A46: TOULON | B46: MONTPELLIER | C46: 24 | D46: 11 | E46: 1 | F46: =(D46+E46)/C46 -> 0.5 | G46: 1 | H46: 9 | I46: =(G46+H46)/C46 -> 0.41666667 | J46: 2 | K46: =100%-(F46+I46) -> 0.083333333 | L46: =SUM(F46+I46+K46) -> 1
A47: TOULON | B47: PARIS | C47: 25 | D47: 7 | E47: 3 | F47: =(D47+E47)/C47 -> 0.4 | G47: 4 | H47: 9 | I47: =(G47+H47)/C47 -> 0.52 | J47: 2 | K47: =100%-(F47+I47) -> 0.08 | L47: =SUM(F47+I47+K47) -> 1
A48: TOULON | B48: PAU | C48: 9 | D48: 4 | E48: 3 | F48: =(D48+E48)/C48 -> 0.77777778 | G48: 0 | H48: 2 | I48: =(G48+H48)/C48 -> 0.22222222 | J48: 1 | K48: =100%-(F48+I48) -> 0 | L48: =SUM(F48+I48+K48) -> 1
A49: TOULON | B49: RACING 92 | C49: 24 | D49: 8 | E49: 3 | F49: =(D49+E49)/C49 -> 0.45833333 | G49: 6 | H49: 7 | I49: =(G49+H49)/C49 -> 0.54166667 | K49: =100%-(F49+I49) -> 0 | L49: =SUM(F49+I49+K49) -> 1
A50: TOULON | B50: TOULOUSE | C50: 25 | D50: 10 | E50: 2 | F50: =(D50+E50)/C50 -> 0.48 | G50: 2 | H50: 10 | I50: =(G50+H50)/C50 -> 0.48 | J50: 1 | K50: =100%-(F50+I50) -> 0.04 | L50: =SUM(F50+I50+K50) -> 1

Sheet toulouse
A1: Toulouse | B1: saison 2019/2020 | G1: point marquer | H1: saison 2020/2021 | L1: match du jour
B2: nbre match | C2: nbre vitoire | D2: nbre nul | E2: nbre defaite | G2: match dom | H2: =SUM(C8:C20) -> #N/A | I2: =SUM(D8:D20) -> #N/A | J2: =H2-I2 -> #N/A | L2: domicile | M2: exertieur
A3: nbre match D | B3: 8 | C3: 7 | D3: 1 | E3: 0 | G3: par match | H3: =H2/B3 -> #N/A | I3: =I2/B3 -> #N/A | L3: Toulouse | M3: Agen
A4: nbre match E | B4: 9 | C4: 1 | D4: 0 | E4: 8 | G4: match ext | H4: =SUM(D23:D35) -> #N/A | I4: =SUM(C23:C35) -> #N/A | J4: =H4-I4 -> #N/A | L4: {=INDEX($C$38:$L$50,MATCH(1,($A$38:$A$50=$A$1)*($B$38:$B$50=$M$3),0),4)} -> 0.92307692 | M4: {=INDEX($C$38:$L$50,MATCH(1,($A$38:$A$50=$L$3)*($B$38:$B$50=$M$3),0),7)} -> 0.076923077
A5: nbre match T | B5: =B3+B4 -> 17 | C5: =C3+C4 -> 8 | D5: =D3+D4 -> 1 | E5: =E3+E4 -> 8 | G5: par match | H5: =H4/B4 -> #N/A | I5: =I4/B4 -> #N/A | L5: =100/L4/100 -> 1.0833333 | M5: =100/M4/100 -> 13
G6: match | H6: =H2+H4 -> #N/A | I6: =I2+I4 -> #N/A | J6: =H6-I6 -> #N/A
A7: match dom | G7: par match | H7: =H6/B5 -> #N/A | I7: =I6/B5 -> #N/A | L7: Toulouse | M7: Agen
A8: journee1 | B8: Toulouse | C8: =VLOOKUP($B8,INDIRECT($A8),COLUMN('resulta '!C3),FALSE) -> #N/A | D8: =VLOOKUP($B8,INDIRECT($A8),COLUMN('resulta '!D3),FALSE) -> #N/A | L8: Toulouse | M8: Bayonne
B9: Toulouse | C9: =VLOOKUP($B9,INDIRECT($A9),COLUMN('resulta '!C4),FALSE) -> #REF! | D9: =VLOOKUP($B9,INDIRECT($A9),COLUMN('resulta '!D4),FALSE) -> #REF! | G9: point marquer | H9: saison 2019/2020 | L9: Toulouse | M9: Bordeaux
B10: Toulouse | C10: =VLOOKUP($B10,INDIRECT($A10),COLUMN('resulta '!C5),FALSE) -> #REF! | D10: =VLOOKUP($B10,INDIRECT($A10),COLUMN('resulta '!D5),FALSE) -> #REF! | G10: match dom | H10: 218 | I10: 107 | J10: 111 | L10: Toulouse | M10: Brive
B11: Toulouse | C11: =VLOOKUP($B11,INDIRECT($A11),COLUMN('resulta '!C6),FALSE) -> #REF! | D11: =VLOOKUP($B11,INDIRECT($A11),COLUMN('resulta '!D6),FALSE) -> #REF! | G11: par match | H11: 27.25 | I11: 13.375 | L11: Toulouse | M11: Castres
B12: Toulouse | C12: =VLOOKUP($B12,INDIRECT($A12),COLUMN('resulta '!C7),FALSE) -> #REF! | D12: =VLOOKUP($B12,INDIRECT($A12),COLUMN('resulta '!D7),FALSE) -> #REF! | G12: match ext | H12: 149 | I12: 224 | J12: -75 | L12: Toulouse | M12: Clermont
B13: Toulouse | C13: =VLOOKUP($B13,INDIRECT($A13),COLUMN('resulta '!C8),FALSE) -> #REF! | D13: =VLOOKUP($B13,INDIRECT($A13),COLUMN('resulta '!D8),FALSE) -> #REF! | G13: par match | H13: 16.555556 | I13: 24.888889 | L13: Toulouse | M13: La Rochelle
B14: Toulouse | C14: =VLOOKUP($B14,INDIRECT($A14),COLUMN('resulta '!C9),FALSE) -> #REF! | D14: =VLOOKUP($B14,INDIRECT($A14),COLUMN('resulta '!D9),FALSE) -> #REF! | G14: match | H14: 367 | I14: 331 | J14: 36 | L14: Toulouse | M14: Lyon
B15: Toulouse | C15: =VLOOKUP($B15,INDIRECT($A15),COLUMN('resulta '!C10),FALSE) -> #REF! | D15: =VLOOKUP($B15,INDIRECT($A15),COLUMN('resulta '!D10),FALSE) -> #REF! | G15: par match | H15: 21.588235 | I15: 19.470588 | L15: Toulouse | M15: Montpellier
B16: Toulouse | C16: =VLOOKUP($B16,INDIRECT($A16),COLUMN('resulta '!C11),FALSE) -> #REF! | D16: =VLOOKUP($B16,INDIRECT($A16),COLUMN('resulta '!D11),FALSE) -> #REF! | L16: Toulouse | M16: Paris
B17: Toulouse | C17: =VLOOKUP($B17,INDIRECT($A17),COLUMN('resulta '!C12),FALSE) -> #REF! | D17: =VLOOKUP($B17,INDIRECT($A17),COLUMN('resulta '!D12),FALSE) -> #REF! | G17: point marquer | L17: Toulouse | M17: Pau
B18: Toulouse | C18: =VLOOKUP($B18,INDIRECT($A18),COLUMN('resulta '!C13),FALSE) -> #REF! | D18: =VLOOKUP($B18,INDIRECT($A18),COLUMN('resulta '!D13),FALSE) -> #REF! | G18: match dom | L18: Toulouse | M18: Racing 92
B19: Toulouse | C19: =VLOOKUP($B19,INDIRECT($A19),COLUMN('resulta '!C14),FALSE) -> #REF! | D19: =VLOOKUP($B19,INDIRECT($A19),COLUMN('resulta '!D14),FALSE) -> #REF! | G19: par match | L19: Toulouse | M19: Toulon
B20: Toulouse | C20: =VLOOKUP($B20,INDIRECT($A20),COLUMN('resulta '!C15),FALSE) -> #REF! | D20: =VLOOKUP($B20,INDIRECT($A20),COLUMN('resulta '!D15),FALSE) -> #REF! | G20: match ext
G21: par match
A22: match ext | G22: match
A23: journee1 | C23: =VLOOKUP($E23,INDIRECT($A23),COLUMN('resulta '!D3),FALSE) -> #N/A | D23: =VLOOKUP($E23,INDIRECT($A23),COLUMN('resulta '!C3),FALSE) -> #N/A | E23: Toulouse | G23: par match
C24: =VLOOKUP($E24,INDIRECT($A24),COLUMN('resulta '!D4),FALSE) -> #REF! | D24: =VLOOKUP($E24,INDIRECT($A24),COLUMN('resulta '!C4),FALSE) -> #REF! | E24: Toulouse
C25: =VLOOKUP($E25,INDIRECT($A25),COLUMN('resulta '!D5),FALSE) -> #REF! | D25: =VLOOKUP($E25,INDIRECT($A25),COLUMN('resulta '!C5),FALSE) -> #REF! | E25: Toulouse | G25: point marquer
C26: =VLOOKUP($E26,INDIRECT($A26),COLUMN('resulta '!D6),FALSE) -> #REF! | D26: =VLOOKUP($E26,INDIRECT($A26),COLUMN('resulta '!C6),FALSE) -> #REF! | E26: Toulouse | G26: match dom
C27: =VLOOKUP($E27,INDIRECT($A27),COLUMN('resulta '!D7),FALSE) -> #REF! | D27: =VLOOKUP($E27,INDIRECT($A27),COLUMN('resulta '!C7),FALSE) -> #REF! | E27: Toulouse | G27: par match
C28: =VLOOKUP($E28,INDIRECT($A28),COLUMN('resulta '!D8),FALSE) -> #REF! | D28: =VLOOKUP($E28,INDIRECT($A28),COLUMN('resulta '!C8),FALSE) -> #REF! | E28: Toulouse | G28: match ext
C29: =VLOOKUP($E29,INDIRECT($A29),COLUMN('resulta '!D9),FALSE) -> #REF! | D29: =VLOOKUP($E29,INDIRECT($A29),COLUMN('resulta '!C9),FALSE) -> #REF! | E29: Toulouse | G29: par match
C30: =VLOOKUP($E30,INDIRECT($A30),COLUMN('resulta '!D10),FALSE) -> #REF! | D30: =VLOOKUP($E30,INDIRECT($A30),COLUMN('resulta '!C10),FALSE) -> #REF! | E30: Toulouse | G30: match
C31: =VLOOKUP($E31,INDIRECT($A31),COLUMN('resulta '!D11),FALSE) -> #REF! | D31: =VLOOKUP($E31,INDIRECT($A31),COLUMN('resulta '!C11),FALSE) -> #REF! | E31: Toulouse | G31: par match
C32: =VLOOKUP($E32,INDIRECT($A32),COLUMN('resulta '!D12),FALSE) -> #REF! | D32: =VLOOKUP($E32,INDIRECT($A32),COLUMN('resulta '!C12),FALSE) -> #REF! | E32: Toulouse
C33: =VLOOKUP($E33,INDIRECT($A33),COLUMN('resulta '!D13),FALSE) -> #REF! | D33: =VLOOKUP($E33,INDIRECT($A33),COLUMN('resulta '!C13),FALSE) -> #REF! | E33: Toulouse
C34: =VLOOKUP($E34,INDIRECT($A34),COLUMN('resulta '!D14),FALSE) -> #REF! | D34: =VLOOKUP($E34,INDIRECT($A34),COLUMN('resulta '!C14),FALSE) -> #REF! | E34: Toulouse
C35: =VLOOKUP($E35,INDIRECT($A35),COLUMN('resulta '!D15),FALSE) -> #REF! | D35: =VLOOKUP($E35,INDIRECT($A35),COLUMN('resulta '!C15),FALSE) -> #REF! | E35: Toulouse
A37: club | C37: face a face | D37: nbr de match | E37: victoire D | F37: victoire E | G37: % | H37: defaite D | I37: defaite E | J37: % | K37: nul | L37: %
A38: TOULOUSE | B38: AGEN | C38: 13 | D38: 6 | E38: 6 | F38: =(D38+E38)/C38 -> 0.92307692 | G38: 0 | H38: 1 | I38: =(G38+H38)/C38 -> 0.076923077 | K38: =100%-(F38+I38) -> 0 | L38: =SUM(F38+I38+K38) -> 1
A39: TOULOUSE | B39: BAYONNE | C39: 18 | D39: 9 | E39: 3 | F39: =(D39+E39)/C39 -> 0.66666667 | G39: 0 | H39: 6 | I39: =(G39+H39)/C39 -> 0.33333333 | K39: =100%-(F39+I39) -> 0 | L39: =SUM(F39+I39+K39) -> 1
A40: TOULOUSE | B40: BORDEAUX | C40: 18 | D40: 8 | E40: 4 | F40: =(D40+E40)/C40 -> 0.66666667 | G40: 0 | H40: 5 | I40: =(G40+H40)/C40 -> 0.27777778 | J40: 1 | K40: =100%-(F40+I40) -> 0.055555556 | L40: =SUM(F40+I40+K40) -> 1
A41: TOULOUSE | B41: BRIVE | C41: 19 | D41: 9 | E41: 2 | F41: =(D41+E41)/C41 -> 0.57894737 | G41: 0 | H41: 5 | I41: =(G41+H41)/C41 -> 0.26315789 | J41: 3 | K41: =100%-(F41+I41) -> 0.15789474 | L41: =SUM(F41+I41+K41) -> 1
A42: TOULOUSE | B42: CASTRES | C42: 26 | D42: 12 | E42: 4 | F42: =(D42+E42)/C42 -> 0.61538462 | G42: 3 | H42: 7 | I42: =(G42+H42)/C42 -> 0.38461538 | K42: =100%-(F42+I42) -> 0 | L42: =SUM(F42+I42+K42) -> 1
A43: TOULOUSE | B43: CLERMONT | C43: 27 | D43: 12 | E43: 0 | F43: =(D43+E43)/C43 -> 0.44444444 | G43: 3 | H43: 11 | I43: =(G43+H43)/C43 -> 0.51851852 | J43: 1 | K43: =100%-(F43+I43) -> 0.037037037 | L43: =SUM(F43+I43+K43) -> 1
A44: TOULOUSE | B44: LA ROCHELLE | C44: 14 | D44: 6 | E44: 2 | F44: =(D44+E44)/C44 -> 0.57142857 | G44: 1 | H44: 5 | I44: =(G44+H44)/C44 -> 0.42857143 | K44: =100%-(F44+I44) -> 0 | L44: =SUM(F44+I44+K44) -> 1
A45: TOULOUSE | B45: LYON | C45: 11 | D45: 4 | E45: 3 | F45: =(D45+E45)/C45 -> 0.63636364 | G45: 1 | H45: 2 | I45: =(G45+H45)/C45 -> 0.27272727 | J45: 1 | K45: =100%-(F45+I45) -> 0.090909091 | L45: =SUM(F45+I45+K45) -> 1
A46: TOULOUSE | B46: MONTPELLIER | C46: 25 | D46: 11 | E46: 3 | F46: =(D46+E46)/C46 -> 0.56 | G46: 2 | H46: 9 | I46: =(G46+H46)/C46 -> 0.44 | K46: =100%-(F46+I46) -> 0 | L46: =SUM(F46+I46+K46) -> 1
A47: TOULOUSE | B47: PARIS | C47: 23 | D47: 10 | E47: 7 | F47: =(D47+E47)/C47 -> 0.73913043 | G47: 0 | H47: 4 | I47: =(G47+H47)/C47 -> 0.17391304 | J47: 2 | K47: =100%-(F47+I47) -> 0.086956522 | L47: =SUM(F47+I47+K47) -> 1
A48: TOULOUSE | B48: PAU | C48: 9 | D48: 4 | E48: 2 | F48: =(D48+E48)/C48 -> 0.66666667 | G48: 1 | H48: 2 | I48: =(G48+H48)/C48 -> 0.33333333 | K48: =100%-(F48+I48) -> 0 | L48: =SUM(F48+I48+K48) -> 1
A49: TOULOUSE | B49: RACING 92 | C49: 25 | D49: 11 | E49: 3 | F49: =(D49+E49)/C49 -> 0.56 | G49: 2 | H49: 9 | I49: =(G49+H49)/C49 -> 0.44 | K49: =100%-(F49+I49) -> 0 | L49: =SUM(F49+I49+K49) -> 1
A50: TOULOUSE | B50: TOULON | C50: 25 | D50: 10 | E50: 2 | F50: =(D50+E50)/C50 -> 0.48 | G50: 2 | H50: 10 | I50: =(G50+H50)/C50 -> 0.48 | J50: 1 | K50: =100%-(F50+I50) -> 0.04 | L50: =SUM(F50+I50+K50) -> 1

Sheet resulta 
A1: Journée 1 | H1: Journée 14 | M1: =RIGHT($A$1,0)&1 -> 1 | N1: Agen
B2: domicle | C2: score | D2: score | E2: exterieur | H2: domicle | I2: score | J2: score | K2: exterieur | M2: =RIGHT($A$1,0)&2 -> 2 | N2: Bayonne
A3: 7 | B3: =IFERROR(INDEX(N:N,MATCH(A3,M:M,0)),"") -> La Rochelle | E3: =IFERROR(INDEX(N:N,MATCH(F3,M:M,0)),"") -> Toulon | F3: 13 | M3: =RIGHT($A$1,0)&3 -> 3 | N3: Bordeaux
A4: 1 | B4: =IFERROR(INDEX(N:N,MATCH(A4,M:M,0)),"") -> Agen | E4: =IFERROR(INDEX(N:N,MATCH(F4,M:M,0)),"") -> Castres | F4: 5 | M4: =RIGHT($A$1,0)&4 -> 4 | N4: Brive
A5: 4 | B5: =IFERROR(INDEX(N:N,MATCH(A5,M:M,0)),"") -> Brive | E5: =IFERROR(INDEX(N:N,MATCH(F5,M:M,0)),"") -> Bayonne | F5: 2 | M5: =RIGHT($A$1,0)&5 -> 5 | N5: Castres
A6: 8 | B6: =IFERROR(INDEX(N:N,MATCH(A6,M:M,0)),"") -> Lyon | E6: =IFERROR(INDEX(N:N,MATCH(F6,M:M,0)),"") -> Racing 92 | F6: 12 | M6: =RIGHT($A$1,0)&6 -> 6 | N6: Clermont
A7: 9 | B7: =IFERROR(INDEX(N:N,MATCH(A7,M:M,0)),"") -> Montpellier | E7: =IFERROR(INDEX(N:N,MATCH(F7,M:M,0)),"") -> Pau | F7: 11 | M7: =RIGHT($A$1,0)&7 -> 7 | N7: La Rochelle
A8: 10 | B8: =IFERROR(INDEX(N:N,MATCH(A8,M:M,0)),"") -> Paris | E8: =IFERROR(INDEX(N:N,MATCH(F8,M:M,0)),"") -> Bordeaux | F8: 3 | M8: =RIGHT($A$1,0)&8 -> 8 | N8: Lyon
A9: 6 | B9: =IFERROR(INDEX(N:N,MATCH(A9,M:M,0)),"") -> Clermont | E9: =IFERROR(INDEX(N:N,MATCH(F9,M:M,0)),"") -> Toulouse | F9: 14 | M9: =RIGHT($A$1,0)&9 -> 9 | N9: Montpellier
A10: Journée 2 | H10: Journée 15 | M10: =RIGHT($A$1,0)&10 -> 10 | N10: Paris
A11: 13 | B11: =IFERROR(INDEX(N:N,MATCH(A11,M:M,0)),"") -> Toulon | E11: =IFERROR(INDEX(N:N,MATCH(F11,M:M,0)),"") -> Lyon | F11: 8 | M11: =RIGHT($A$1,0)&11 -> 11 | N11: Pau
A12: 2 | B12: =IFERROR(INDEX(N:N,MATCH(A12,M:M,0)),"") -> Bayonne | E12: =IFERROR(INDEX(N:N,MATCH(F12,M:M,0)),"") -> Clermont | F12: 6 | M12: =RIGHT($A$1,0)&12 -> 12 | N12: Racing 92
A13: 3 | B13: =IFERROR(INDEX(N:N,MATCH(A13,M:M,0)),"") -> Bordeaux | E13: =IFERROR(INDEX(N:N,MATCH(F13,M:M,0)),"") -> Brive | F13: 4 | M13: =RIGHT($A$1,0)&13 -> 13 | N13: Toulon
A14: 5 | B14: =IFERROR(INDEX(N:N,MATCH(A14,M:M,0)),"") -> Castres | E14: =IFERROR(INDEX(N:N,MATCH(F14,M:M,0)),"") -> Paris | F14: 10 | M14: =RIGHT($A$1,0)&14 -> 14 | N14: Toulouse
A15: 11 | B15: =IFERROR(INDEX(N:N,MATCH(A15,M:M,0)),"") -> Pau | E15: =IFERROR(INDEX(N:N,MATCH(F15,M:M,0)),"") -> Agen | F15: 1
A16: 12 | B16: =IFERROR(INDEX(N:N,MATCH(A16,M:M,0)),"") -> Racing 92 | E16: =IFERROR(INDEX(N:N,MATCH(F16,M:M,0)),"") -> Montpellier | F16: 9
A17: 13 | B17: =IFERROR(INDEX(N:N,MATCH(A17,M:M,0)),"") -> Toulon | E17: =IFERROR(INDEX(N:N,MATCH(F17,M:M,0)),"") -> La Rochelle | F17: 7
A18: Journée 3 | H18: Journée 16
A19: 4 | B19: =IFERROR(INDEX(N:N,MATCH(A19,M:M,0)),"") -> Brive | E19: =IFERROR(INDEX(N:N,MATCH(F19,M:M,0)),"") -> Pau | F19: 11
A20: 6 | B20: =IFERROR(INDEX(N:N,MATCH(A20,M:M,0)),"") -> Clermont | E20: =IFERROR(INDEX(N:N,MATCH(F20,M:M,0)),"") -> Agen | F20: 1
A21: 7 | B21: =IFERROR(INDEX(N:N,MATCH(A21,M:M,0)),"") -> La Rochelle | E21: =IFERROR(INDEX(N:N,MATCH(F21,M:M,0)),"") -> Racing 92 | F21: 12
A22: 7 | B22: =IFERROR(INDEX(N:N,MATCH(A22,M:M,0)),"") -> La Rochelle | E22: =IFERROR(INDEX(N:N,MATCH(F22,M:M,0)),"") -> Bordeaux | F22: 3
A23: 9 | B23: =IFERROR(INDEX(N:N,MATCH(A23,M:M,0)),"") -> Montpellier | E23: =IFERROR(INDEX(N:N,MATCH(F23,M:M,0)),"") -> Castres | F23: 5
A24: 10 | B24: =IFERROR(INDEX(N:N,MATCH(A24,M:M,0)),"") -> Paris | E24: =IFERROR(INDEX(N:N,MATCH(F24,M:M,0)),"") -> Bayonne | F24: 2
A25: 14 | B25: =IFERROR(INDEX(N:N,MATCH(A25,M:M,0)),"") -> Toulouse | E25: =IFERROR(INDEX(N:N,MATCH(F25,M:M,0)),"") -> Toulon | F25: 13
A26: Journée 4 | H26: Journée 17
A27: 3 | B27: =IFERROR(INDEX(N:N,MATCH(A27,M:M,0)),"") -> Bordeaux | E27: =IFERROR(INDEX(N:N,MATCH(F27,M:M,0)),"") -> Clermont | F27: 6
A28: 12 | B28: =IFERROR(INDEX(N:N,MATCH(A28,M:M,0)),"") -> Racing 92 | E28: =IFERROR(INDEX(N:N,MATCH(F28,M:M,0)),"") -> Toulouse | F28: 14
A29: 1 | B29: =IFERROR(INDEX(N:N,MATCH(A29,M:M,0)),"") -> Agen | E29: =IFERROR(INDEX(N:N,MATCH(F29,M:M,0)),"") -> Pau | F29: 11
A30: 2 | B30: =IFERROR(INDEX(N:N,MATCH(A30,M:M,0)),"") -> Bayonne | E30: =IFERROR(INDEX(N:N,MATCH(F30,M:M,0)),"") -> La Rochelle | F30: 7
A31: 5 | B31: =IFERROR(INDEX(N:N,MATCH(A31,M:M,0)),"") -> Castres | E31: =IFERROR(INDEX(N:N,MATCH(F31,M:M,0)),"") -> Brive | F31: 4
A32: 11 | B32: =IFERROR(INDEX(N:N,MATCH(A32,M:M,0)),"") -> Pau | E32: =IFERROR(INDEX(N:N,MATCH(F32,M:M,0)),"") -> Lyon | F32: 8
A33: 13 | B33: =IFERROR(INDEX(N:N,MATCH(A33,M:M,0)),"") -> Toulon | E33: =IFERROR(INDEX(N:N,MATCH(F33,M:M,0)),"") -> Montpellier | F33: 9
A34: Journée 5 | H34: Journée 18
A35: 12 | B35: =IFERROR(INDEX(N:N,MATCH(A35,M:M,0)),"") -> Racing 92 | E35: =IFERROR(INDEX(N:N,MATCH(F35,M:M,0)),"") -> Toulon | F35: 13
A36: 6 | B36: =IFERROR(INDEX(N:N,MATCH(A36,M:M,0)),"") -> Clermont | E36: =IFERROR(INDEX(N:N,MATCH(F36,M:M,0)),"") -> Pau | F36: 11
A37: 4 | B37: =IFERROR(INDEX(N:N,MATCH(A37,M:M,0)),"") -> Brive | E37: =IFERROR(INDEX(N:N,MATCH(F37,M:M,0)),"") -> Toulouse | F37: 14
A38: 6 | B38: =IFERROR(INDEX(N:N,MATCH(A38,M:M,0)),"") -> Clermont | E38: =IFERROR(INDEX(N:N,MATCH(F38,M:M,0)),"") -> Castres | F38: 5
A39: 8 | B39: =IFERROR(INDEX(N:N,MATCH(A39,M:M,0)),"") -> Lyon | E39: =IFERROR(INDEX(N:N,MATCH(F39,M:M,0)),"") -> Bayonne | F39: 2
A40: 9 | B40: =IFERROR(INDEX(N:N,MATCH(A40,M:M,0)),"") -> Montpellier | E40: =IFERROR(INDEX(N:N,MATCH(F40,M:M,0)),"") -> Agen | F40: 1
A41: 11 | B41: =IFERROR(INDEX(N:N,MATCH(A41,M:M,0)),"") -> Pau | E41: =IFERROR(INDEX(N:N,MATCH(F41,M:M,0)),"") -> Bordeaux | F41: 3
A42: Journée 6 | H42: Journée 19
A43: 10 | B43: =IFERROR(INDEX(N:N,MATCH(A43,M:M,0)),"") -> Paris | E43: =IFERROR(INDEX(N:N,MATCH(F43,M:M,0)),"") -> Racing 92 | F43: 12
A44: 1 | B44: =IFERROR(INDEX(N:N,MATCH(A44,M:M,0)),"") -> Agen | E44: =IFERROR(INDEX(N:N,MATCH(F44,M:M,0)),"") -> Bayonne | F44: 2
A45: 6 | B45: =IFERROR(INDEX(N:N,MATCH(A45,M:M,0)),"") -> Clermont | E45: =IFERROR(INDEX(N:N,MATCH(F45,M:M,0)),"") -> Pau | F45: 11
A46: 7 | B46: =IFERROR(INDEX(N:N,MATCH(A46,M:M,0)),"") -> La Rochelle | E46: =IFERROR(INDEX(N:N,MATCH(F46,M:M,0)),"") -> Bordeaux | F46: 3
A47: 9 | B47: =IFERROR(INDEX(N:N,MATCH(A47,M:M,0)),"") -> Montpellier | E47: =IFERROR(INDEX(N:N,MATCH(F47,M:M,0)),"") -> Brive | F47: 4
A48: 13 | B48: =IFERROR(INDEX(N:N,MATCH(A48,M:M,0)),"") -> Toulon | E48: =IFERROR(INDEX(N:N,MATCH(F48,M:M,0)),"") -> Castres | F48: 5
A49: 14 | B49: =IFERROR(INDEX(N:N,MATCH(A49,M:M,0)),"") -> Toulouse | E49: =IFERROR(INDEX(N:N,MATCH(F49,M:M,0)),"") -> Lyon | F49: 8
A50: Journée 7 | H50: Journée 20
A51: 10 | B51: =IFERROR(INDEX(N:N,MATCH(A51,M:M,0)),"") -> Paris | E51: =IFERROR(INDEX(N:N,MATCH(F51,M:M,0)),"") -> Toulouse | F51: 14
A52: 2 | B52: =IFERROR(INDEX(N:N,MATCH(A52,M:M,0)),"") -> Bayonne | E52: =IFERROR(INDEX(N:N,MATCH(F52,M:M,0)),"") -> Toulon | F52: 13
A53: 3 | B53: =IFERROR(INDEX(N:N,MATCH(A53,M:M,0)),"") -> Bordeaux | E53: =IFERROR(INDEX(N:N,MATCH(F53,M:M,0)),"") -> Agen | F53: 1
A54: 4 | B54: =IFERROR(INDEX(N:N,MATCH(A54,M:M,0)),"") -> Brive | E54: =IFERROR(INDEX(N:N,MATCH(F54,M:M,0)),"") -> Clermont | F54: 6
A55: 5 | B55: =IFERROR(INDEX(N:N,MATCH(A55,M:M,0)),"") -> Castres | E55: =IFERROR(INDEX(N:N,MATCH(F55,M:M,0)),"") -> Racing 92 | F55: 12
A56: 8 | B56: =IFERROR(INDEX(N:N,MATCH(A56,M:M,0)),"") -> Lyon | E56: =IFERROR(INDEX(N:N,MATCH(F56,M:M,0)),"") -> Montpellier | F56: 9
A57: 11 | B57: =IFERROR(INDEX(N:N,MATCH(A57,M:M,0)),"") -> Pau | E57: =IFERROR(INDEX(N:N,MATCH(F57,M:M,0)),"") -> La Rochelle | F57: 7
A58: Journée 8 | H58: Journée 21
A59: 7 | B59: =IFERROR(INDEX(N:N,MATCH(A59,M:M,0)),"") -> La Rochelle | E59: =IFERROR(INDEX(N:N,MATCH(F59,M:M,0)),"") -> Clermont | F59: 6
A60: 1 | B60: =IFERROR(INDEX(N:N,MATCH(A60,M:M,0)),"") -> Agen | E60: =IFERROR(INDEX(N:N,MATCH(F60,M:M,0)),"") -> Lyon | F60: 8
A61: 3 | B61: =IFERROR(INDEX(N:N,MATCH(A61,M:M,0)),"") -> Bordeaux | E61: =IFERROR(INDEX(N:N,MATCH(F61,M:M,0)),"") -> Bayonne | F61: 2
A62: 9 | B62: =IFERROR(INDEX(N:N,MATCH(A62,M:M,0)),"") -> Montpellier | E62: =IFERROR(INDEX(N:N,MATCH(F62,M:M,0)),"") -> Paris | F62: 10
A63: 12 | B63: =IFERROR(INDEX(N:N,MATCH(A63,M:M,0)),"") -> Racing 92 | E63: =IFERROR(INDEX(N:N,MATCH(F63,M:M,0)),"") -> Pau | F63: 11
A64: 13 | B64: =IFERROR(INDEX(N:N,MATCH(A64,M:M,0)),"") -> Toulon | E64: =IFERROR(INDEX(N:N,MATCH(F64,M:M,0)),"") -> Brive | F64: 4
A65: 14 | B65: =IFERROR(INDEX(N:N,MATCH(A65,M:M,0)),"") -> Toulouse | E65: =IFERROR(INDEX(N:N,MATCH(F65,M:M,0)),"") -> Castres | F65: 5
A66: Journée 9 | H66: Journée 22
A67: 6 | B67: =IFERROR(INDEX(N:N,MATCH(A67,M:M,0)),"") -> Clermont | E67: =IFERROR(INDEX(N:N,MATCH(F67,M:M,0)),"") -> La Rochelle | F67: 7
A68: 1 | B68: =IFERROR(INDEX(N:N,MATCH(A68,M:M,0)),"") -> Agen | E68: =IFERROR(INDEX(N:N,MATCH(F68,M:M,0)),"") -> Toulon | F68: 13
A69: 2 | B69: =IFERROR(INDEX(N:N,MATCH(A69,M:M,0)),"") -> Bayonne | E69: =IFERROR(INDEX(N:N,MATCH(F69,M:M,0)),"") -> Lyon | F69: 8
A70: 3 | B70: =IFERROR(INDEX(N:N,MATCH(A70,M:M,0)),"") -> Bordeaux | E70: =IFERROR(INDEX(N:N,MATCH(F70,M:M,0)),"") -> Racing 92 | F70: 12
A71: 5 | B71: =IFERROR(INDEX(N:N,MATCH(A71,M:M,0)),"") -> Castres | E71: =IFERROR(INDEX(N:N,MATCH(F71,M:M,0)),"") -> Bordeaux | F71: 3
A72: 10 | B72: =IFERROR(INDEX(N:N,MATCH(A72,M:M,0)),"") -> Paris | E72: =IFERROR(INDEX(N:N,MATCH(F72,M:M,0)),"") -> La Rochelle | F72: 7
A73: 11 | B73: =IFERROR(INDEX(N:N,MATCH(A73,M:M,0)),"") -> Pau | E73: =IFERROR(INDEX(N:N,MATCH(F73,M:M,0)),"") -> Toulouse | F73: 14
A74: Journée 10 | H74: Journée 23
A75: 7 | B75: =IFERROR(INDEX(N:N,MATCH(A75,M:M,0)),"") -> La Rochelle | E75: =IFERROR(INDEX(N:N,MATCH(F75,M:M,0)),"") -> Paris | F75: 10
A76: 5 | B76: =IFERROR(INDEX(N:N,MATCH(A76,M:M,0)),"") -> Castres | E76: =IFERROR(INDEX(N:N,MATCH(F76,M:M,0)),"") -> Clermont | F76: 6
A77: 7 | B77: =IFERROR(INDEX(N:N,MATCH(A77,M:M,0)),"") -> La Rochelle | E77: =IFERROR(INDEX(N:N,MATCH(F77,M:M,0)),"") -> Brive | F77: 4
A78: 9 | B78: =IFERROR(INDEX(N:N,MATCH(A78,M:M,0)),"") -> Montpellier | E78: =IFERROR(INDEX(N:N,MATCH(F78,M:M,0)),"") -> Bordeaux | F78: 3
A79: 12 | B79: =IFERROR(INDEX(N:N,MATCH(A79,M:M,0)),"") -> Racing 92 | E79: =IFERROR(INDEX(N:N,MATCH(F79,M:M,0)),"") -> Bayonne | F79: 2
A80: 13 | B80: =IFERROR(INDEX(N:N,MATCH(A80,M:M,0)),"") -> Toulon | E80: =IFERROR(INDEX(N:N,MATCH(F80,M:M,0)),"") -> Pau | F80: 11
A81: 14 | B81: =IFERROR(INDEX(N:N,MATCH(A81,M:M,0)),"") -> Toulouse | E81: =IFERROR(INDEX(N:N,MATCH(F81,M:M,0)),"") -> Agen | F81: 1
A82: Journée 11 | H82: Journée 24
A83: 10 | B83: =IFERROR(INDEX(N:N,MATCH(A83,M:M,0)),"") -> Paris | E83: =IFERROR(INDEX(N:N,MATCH(F83,M:M,0)),"") -> Toulon | F83: 13
A84: 3 | B84: =IFERROR(INDEX(N:N,MATCH(A84,M:M,0)),"") -> Bordeaux | E84: =IFERROR(INDEX(N:N,MATCH(F84,M:M,0)),"") -> Racing 92 | F84: 12
A85: 1 | B85: =IFERROR(INDEX(N:N,MATCH(A85,M:M,0)),"") -> Agen | E85: =IFERROR(INDEX(N:N,MATCH(F85,M:M,0)),"") -> Brive | F85: 4
A86: 2 | B86: =IFERROR(INDEX(N:N,MATCH(A86,M:M,0)),"") -> Bayonne | E86: =IFERROR(INDEX(N:N,MATCH(F86,M:M,0)),"") -> Toulouse | F86: 14
A87: 6 | B87: =IFERROR(INDEX(N:N,MATCH(A87,M:M,0)),"") -> Clermont | E87: =IFERROR(INDEX(N:N,MATCH(F87,M:M,0)),"") -> Montpellier | F87: 9
A88: 8 | B88: =IFERROR(INDEX(N:N,MATCH(A88,M:M,0)),"") -> Lyon | E88: =IFERROR(INDEX(N:N,MATCH(F88,M:M,0)),"") -> La Rochelle | F88: 7
A89: 11 | B89: =IFERROR(INDEX(N:N,MATCH(A89,M:M,0)),"") -> Pau | E89: =IFERROR(INDEX(N:N,MATCH(F89,M:M,0)),"") -> Castres | F89: 5
A90: Journée 12 | H90: Journée 25
A91: 4 | B91: =IFERROR(INDEX(N:N,MATCH(A91,M:M,0)),"") -> Brive | E91: =IFERROR(INDEX(N:N,MATCH(F91,M:M,0)),"") -> Lyon | F91: 8
A92: 5 | B92: =IFERROR(INDEX(N:N,MATCH(A92,M:M,0)),"") -> Castres | E92: =IFERROR(INDEX(N:N,MATCH(F92,M:M,0)),"") -> Bayonne | F92: 2
A93: 7 | B93: =IFERROR(INDEX(N:N,MATCH(A93,M:M,0)),"") -> La Rochelle | E93: =IFERROR(INDEX(N:N,MATCH(F93,M:M,0)),"") -> Montpellier | F93: 9
A94: 11 | B94: =IFERROR(INDEX(N:N,MATCH(A94,M:M,0)),"") -> Pau | E94: =IFERROR(INDEX(N:N,MATCH(F94,M:M,0)),"") -> Paris | F94: 10
A95: 12 | B95: =IFERROR(INDEX(N:N,MATCH(A95,M:M,0)),"") -> Racing 92 | E95: =IFERROR(INDEX(N:N,MATCH(F95,M:M,0)),"") -> Agen | F95: 1
A96: 13 | B96: =IFERROR(INDEX(N:N,MATCH(A96,M:M,0)),"") -> Toulon | E96: =IFERROR(INDEX(N:N,MATCH(F96,M:M,0)),"") -> Clermont | F96: 6
A97: 14 | B97: =IFERROR(INDEX(N:N,MATCH(A97,M:M,0)),"") -> Toulouse | E97: =IFERROR(INDEX(N:N,MATCH(F97,M:M,0)),"") -> Bordeaux | F97: 3
A98: Journée 13 | H98: Journée 26
A99: 3 | B99: =IFERROR(INDEX(N:N,MATCH(A99,M:M,0)),"") -> Bordeaux | E99: =IFERROR(INDEX(N:N,MATCH(F99,M:M,0)),"") -> Toulon | F99: 13
A100: 6 | B100: =IFERROR(INDEX(N:N,MATCH(A100,M:M,0)),"") -> Clermont | E100: =IFERROR(INDEX(N:N,MATCH(F100,M:M,0)),"") -> Racing 92 | F100: 12
...

Sheet resulta 2019 
A1: J1 | B1: domicle | C1: score | D1: score | E1: exterieur | F1: equipe | H1: J14 | I1: domicle | J1: score | K1: score | L1: exterieur
A2: equipe 1 | B2: agen | C2: 25 | D2: 44 | E2: toulon | F2: equipe 13 | H2: equipe 8 | I2: lyon | J2: 27 | K2: 12 | L2: toulon | M2: equipe 13
A3: equipe 3 | B3: bordeaux | C3: 30 | D3: 25 | E3: toulouse | F3: equipe 14 | H3: equipe 4 | I3: brive | J3: 33 | K3: 26 | L3: pau | M3: equipe 10
A4: equipe 5 | B4: castres | C4: 26 | D4: 25 | E4: montpellier | F4: equipe 9 | H4: equipe 5 | I4: castres | J4: 0 | K4: 27 | L4: racing 92 | M4: equipe 11
A5: equipe 6 | B5: clermont | C5: 28 | D5: 10 | E5: la rochelle | F5: equipe 7 | H5: equipe 7 | I5: la rochelle | J5: 35 | K5: 30 | L5: montpellier | M5: equipe 9
A6: equipe 8 | B6: lyon | C6: 43 | D6: 9 | E6: stade francais | F6: equipe 12 | H6: equipe 6 | I6: clermont | J6: 29 | K6: 19 | L6: stade francais | M6: equipe 12
A7: equipe 10 | B7: pau | C7: 33 | D7: 14 | E7: brive | F7: equipe 4 | H7: equipe 2 | I7: bayonne | J7: 22 | K7: 23 | L7: agen | M7: equipe 1
A8: equipe 11 | B8: racing 92 | C8: 17 | D8: 24 | E8: bayonne | F8: equipe 2 | H8: equipe 14 | I8: toulouse | J8: 22 | K8: 14 | L8: bordeaux | M8: equipe 3
A9: J2 | H9: J15
A10: equipe 1 | B10: agen | C10: 16 | D10: 10 | E10: brive | F10: equipe 4 | H10: equipe 3 | I10: bordeaux | J10: 37 | K10: 19 | L10: lyon | M10: equipe 8
A11: equipe 2 | B11: bayonne | C11: 30 | D11: 34 | E11: clermont | F11: equipe 6 | H11: equipe 13 | I11: toulon | J11: 34 | K11: 17 | L11: brive | M11: equipe 4
A12: equipe 3 | B12: bordeaux | C12: 34 | D12: 12 | E12: toulon | F12: equipe 13 | H12: equipe 10 | I12: pau | J12: 20 | K12: 23 | L12: clermont | M12: equipe 6
A13: equipe 7 | B13: la rochelle | C13: 28 | D13: 26 | E13: stade francais | F13: equipe 12 | H13: equipe 9 | I13: montpellier | J13: 31 | K13: 29 | L13: bayonne | M13: equipe 2
A14: equipe 8 | B14: lyon | C14: 22 | D14: 12 | E14: toulouse | F14: equipe 14 | H14: equipe 12 | I14: stade francais | J14: 21 | K14: 20 | L14: la rochelle | M14: equipe 7
A15: equipe 9 | B15: montpellier | C15: 43 | D15: 22 | E15: pau | F15: equipe 10 | H15: equipe 1 | I15: agen | J15: 24 | K15: 43 | L15: castres | M15: equipe 5
A16: equipe 11 | B16: racing 92 | C16: 23 | D16: 14 | E16: castres | F16: equipe 5 | H16: equipe 11 | I16: racing 92 | J16: 30 | K16: 27 | L16: toulouse | M16: equipe 14
A17: J3 | H17: J16
A18: equipe 4 | B18: brive | C18: 28 | D18: 21 | E18: clermont | F18: equipe 6 | H18: equipe 7 | I18: la rochelle | J18: 17 | K18: 12 | L18: toulon | M18: equipe 13
A19: equipe 5 | B19: castres | C19: 32 | D19: 34 | E19: bordeaux | F19: equipe 3 | H19: equipe 4 | I19: brive | J19: 16 | K19: 30 | L19: agen | M19: equipe 1
A20: equipe 9 | B20: montpellier | C20: 30 | D20: 16 | E20: la rochelle | F20: equipe 7 | H20: equipe 5 | I20: castres | J20: 26 | K20: 16 | L20: pau | M20: equipe 10
A21: equipe 12 | B21: stade francais | C21: 33 | D21: 27 | E21: bayonne | F21: equipe 2 | H21: equipe 2 | I21: bayonne | J21: 28 | K21: 17 | L21: stade francais | M21: equipe 12
A22: equipe 10 | B22: pau | C22: 18 | D22: 12 | E22: agen | F22: equipe 1 | H22: equipe 6 | I22: clermont | J22: 22 | K22: 31 | L22: bordeaux | M22: equipe 3
A23: equipe 13 | B23: toulon | C23: 2 | D23: 20 | E23: lyon | F23: equipe 8 | H23: equipe 8 | I23: lyon | J23: 29 | K23: 20 | L23: racing 92 | M23: equipe 11
A24: equipe 14 | B24: toulouse | C24: 20 | D24: 17 | E24: racing 92 | F24: equipe 11 | H24: equipe 14 | I24: toulouse | J24: 24 | K24: 7 | L24: montpellier | M24: equipe 9
A25: J4 | H25: J17
A26: equipe 1 | B26: agen | C26: 29 | D26: 10 | E26: montpellier | F26: equipe 9 | H26: equipe 11 | I26: racing 92 | J26: 49 | K26: 0 | L26: la rochelle | M26: equipe 7
A27: equipe 2 | B27: bayonne | C27: 27 | D27: 17 | E27: castres | F27: equipe 5 | H27: equipe 1 | I27: agen | J27: 15 | K27: 32 | L27: clermont | M27: equipe 6
A28: equipe 3 | B28: bordeaux | C28: 52 | D28: 3 | E28: stade francais | F28: equipe 12 | H28: equipe 2 | I28: bayonne | J28: 20 | K28: 10 | L28: toulouse | M28: equipe 14
A29: equipe 6 | B29: clermont | C29: 28 | D29: 37 | E29: pau | F29: equipe 10 | H29: equipe 10 | I29: pau | J29: 19 | K29: 15 | L29: montpellier | M29: equipe 9
A30: equipe 7 | B30: la rochelle | C30: 28 | D30: 13 | E30: toulouse | F30: equipe 14 | H30: equipe 4 | I30: brive | J30: 30 | K30: 16 | L30: lyon | M30: equipe 8
A31: equipe 8 | B31: lyon | C31: 59 | D31: 3 | E31: brive | F31: equipe 4 | H31: equipe 3 | I31: bordeaux | J31: 26 | K31: 24 | L31: castres | M31: equipe 5
A32: equipe 13 | B32: toulon | C32: 32 | D32: 29 | E32: racing 92 | F32: equipe 11 | H32: equipe 13 | I32: toulon | J32: 19 | K32: 18 | L32: stade francais | M32: equipe 12
A33: J5
A34: equipe 2 | B34: bayonne | C34: 23 | D34: 22 | E34: la rochelle | F34: equipe 7
A35: equipe 4 | B35: brive | C35: 39 | D35: 17 | E35: toulon | F35: equipe 13
A36: equipe 5 | B36: castres | C36: 30 | D36: 27 | E36: agen | F36: equipe 1
A37: equipe 9 | B37: montpellier | C37: 17 | D37: 17 | E37: bordeaux | F37: equipe 3
A38: equipe 12 | B38: stade francais | C38: 18 | D38: 32 | E38: clermont | F38: equipe 6
A39: equipe 11 | B39: racing 92 | C39: 20 | D39: 31 | E39: lyon | F39: equipe 8
A40: equipe 14 | B40: toulouse | C40: 24 | D40: 23 | E40: pau | F40: equipe 10
A41: J6
A42: equipe 13 | B42: toulon | C42: 23 | D42: 3 | E42: la rochelle | F42: equipe 7
A43: equipe 10 | B43: pau | C43: 3 | D43: 31 | E43: racing 92 | F43: equipe 11
A44: equipe 8 | B44: lyon | C44: 25 | D44: 23 | E44: bordeaux | F44: equipe 3
A45: equipe 4 | B45: brive | C45: 23 | D45: 9 | E45: toulouse | F45: equipe 14
A46: equipe 5 | B46: castres | C46: 46 | D46: 16 | E46: stade francais | F46: equipe 12
A47: equipe 1 | B47: agen | C47: 27 | D47: 29 | E47: bayonne | F47: equipe 2
A48: equipe 6 | B48: clermont | C48: 20 | D48: 13 | E48: montpellier | F48: equipe 9
A49: J7
A50: equipe 2 | B50: bayonne | C50: 28 | D50: 24 | E50: montpellier | F50: equipe 9
A51: equipe 14 | B51: toulouse | C51: 36 | D51: 15 | E51: castres | F51: equipe 5
A52: equipe 11 | B52: racing 92 | C52: 27 | D52: 27 | E52: agen | F52: equipe 1
A53: equipe 7 | B53: la rochelle | C53: 41 | D53: 17 | E53: brive | F53: equipe 4
A54: equipe 8 | B54: lyon | C54: 27 | D54: 8 | E54: pau | F54: equipe 10
A55: equipe 12 | B55: stade francais | C55: 33 | D55: 30 | E55: toulon | F55: equipe 13
A56: equipe 3 | B56: bordeaux | C56: 42 | D56: 15 | E56: clermont | F56: equipe 6
A57: J8
A58: equipe 9 | B58: montpellier | C58: 33 | D58: 22 | E58: toulouse | F58: equipe 14
A59: equipe 10 | B59: pau | C59: 37 | D59: 24 | E59: castres | F59: equipe 5
A60: equipe 1 | B60: agen | C60: 27 | D60: 14 | E60: stade francais | F60: equipe 12
A61: equipe 13 | B61: toulon | C61: 20 | D61: 9 | E61: bayonne | F61: equipe 2
A62: equipe 4 | B62: brive | C62: 30 | D62: 9 | E62: bordeaux | F62: equipe 3
A63: equipe 7 | B63: la rochelle | C63: 12 | D63: 6 | E63: racing 92 | F63: equipe 11
A64: equipe 6 | B64: clermont | C64: 24 | D64: 15 | E64: lyon | F64: equipe 8
A65: J9
A66: equipe 13 | B66: toulon | C66: 19 | D66: 19 | E66: montpellier | F66: equipe 9
A67: equipe 3 | B67: bordeaux | C67: 23 | D67: 0 | E67: agen | F67: equipe 1
A68: equipe 5 | B68: castres | C68: 28 | D68: 26 | E68: brive | F68: equipe 4
A69: equipe 2 | B69: bayonne | C69: 3 | D69: 9 | E69: pau | F69: equipe 10
A70: equipe 14 | B70: toulouse | C70: 34 | D70: 8 | E70: clermont | F70: equipe 6
A71: equipe 8 | B71: lyon | C71: 45 | D71: 17 | E71: la rochelle | F71: equipe 7
A72: equipe 12 | B72: stade francais | C72: 9 | D72: 25 | E72: racing 92 | F72: equipe 11
A73: J10
A74: equipe 11 | B74: racing 92 | C74: 30 | D74: 34 | E74: bordeaux | F74: equipe 3
A75: equipe 6 | B75: clermont | C75: 30 | D75: 13 | E75: agen | F75: equipe 1
A76: equipe 7 | B76: la rochelle | C76: 22 | D76: 13 | E76: castres | F76: equipe 5
A77: equipe 10 | B77: pau | C77: 9 | D77: 19 | E77: toulon | F77: equipe 13
A78: equipe 9 | B78: montpellier | C78: 33 | D78: 8 | E78: lyon | F78: equipe 8
A79: equipe 4 | B79: brive | C79: 26 | D79: 21 | E79: stade francais | F79: equipe 12
A80: equipe 14 | B80: toulouse | C80: 45 | D80: 10 | E80: bayonne | F80: equipe 2
A81: J11
A82: equipe 2 | B82: bayonne | C82: 6 | D82: 6 | E82: brive | F82: equipe 4
A83: equipe 11 | B83: racing 92 | C83: 29 | D83: 25 | E83: montpellier | F83: equipe 9
A84: equipe 5 | B84: castres | C84: 29 | D84: 12 | E84: lyon | F84: equipe 8
A85: equipe 1 | B85: agen | C85: 8 | D85: 13 | E85: toulouse | F85: equipe 14
A86: equipe 12 | B86: stade francais | C86: 21 | D86: 18 | E86: pau | F86: equipe 10
A87: equipe 3 | B87: bordeaux | C87: 20 | D87: 15 | E87: la rochelle | F87: equipe 7
A88: equipe 13 | B88: toulon | C88: 41 | D88: 19 | E88: clermont | F88: equipe 6
A89: J12
A90: equipe 8 | B90: lyon | C90: 52 | D90: 9 | E90: bayonne | F90: equipe 2
A91: equipe 4 | B91: brive | C91: 20 | D91: 44 | E91: racing 92 | F91: equipe 11
A92: equipe 9 | B92: montpellier | C92: 20 | D92: 20 | E92: stade francais | F92: equipe 12
A93: equipe 7 | B93: la rochelle | C93: 40 | D93: 8 | E93: agen | F93: equipe 1
A94: equipe 10 | B94: pau | C94: 23 | D94: 27 | E94: bordeaux | F94: equipe 3
A95: equipe 6 | B95: clermont | C95: 29 | D95: 22 | E95: castres | F95: equipe 5
A96: equipe 14 | B96: toulouse | C96: 13 | D96: 13 | E96: toulon | F96: equipe 13
A97: J13
A98: equipe 1 | B98: agen | C98: 12 | D98: 13 | E98: lyon | F98: equipe 8
A99: equipe 11 | B99: racing 92 | C99: 27 | D99: 19 | E99: clermont | F99: equipe 6
A100: equipe 9 | B100: montpellier | C100: 29 | D100: 26 | E100: brive | F100: equipe 4
...

Sheet Feuil1
A1: journee1
A2: journee2
A3: journee3
A4: journee4
A5: journee5
A6: journee6
A7: journee7
A8: journee8
A9: journee9
A10: journee10
A11: journee11
A12: journee12
... A26: journee26
