Workbook

Sheet resultat
A1: equipe | B1: AGEN | F1: UBB | J1: CASTRE | N1: CLERMONT | R1: GRENOBLE | V1: LA ROCHELLE | Z1: LYON
B2: VD | C2: VE | D2: DD | E2: DE | F2: VD | G2: VE | H2: DD | I2: DE | J2: VD | K2: VE | L2: DD | M2: DE | N2: VD | O2: VE | P2: DD | Q2: DE | R2: VD | S2: VE | T2: DD | U2: DE | V2: VD | W2: VE | X2: DD | Y2: DE | Z2: VD | AA2: VE | AB2: DD | AC2: DE
A3: AGEN | F3: 4 | G3: 2 | H3: 0 | I3: 3 | J3: 5 | K3: 2 | L3: =resultat!I5 -> 6 | M3: =resultat!H5 -> 3 | N3: 6 | O3: 3 | P3: 0 | Q3: 2 | R3: 2 | S3: 1 | T3: 0 | U3: 1 | V3: 3 | W3: 2 | X3: 2 | Y3: 3 | Z3: 3 | AA3: 1 | AB3: 0 | AC3: 2
A4: UBB | B4: 3 | C4: 0 | D4: 2 | E4: 4 | J4: =resultat!Q4 -> 2 | K4: =resultat!R4 -> 4 | L4: 1 | M4: 4 | N4: 1 | O4: 0 | P4: 0 | Q4: 2 | R4: 4 | S4: 1 | T4: 2 | U4: 4 | V4: 3 | W4: 1 | X4: 1 | Y4: 4 | Z4: 3 | AA4: 0 | AB4: 1 | AC4: 5
A5: CASTRE | B5: 3 | C5: 1 | D5: 2 | E5: 5 | F5: 4 | G5: 1 | H5: 3 | I5: 6 | N5: 10 | O5: 1 | P5: 3 | Q5: 7 | R5: 3 | S5: 1 | T5: 2 | U5: 5 | V5: 4 | W5: 1 | X5: 1 | Y5: 4 | Z5: 2 | AA5: 1 | AB5: 2 | AC5: 3
A6: CLERMONT | B6: 2 | C6: 0 | D6: 3 | E6: 6 | F6: 2 | G6: 0 | H6: 0 | I6: 1 | J6: 7 | K6: 3 | L6: 1 | M6: 10 | R6: 1 | S6: 0 | T6: 4 | U6: 5 | V6: 4 | W6: 0 | X6: 1 | Y6: 5 | Z6: 1 | AA6: 2 | AB6: 1 | AC6: 5
A7: GRENOBLE | B7: 1 | C7: 0 | D7: 1 | E7: 2 | F7: 4 | G7: 2 | H7: 1 | I7: 4 | J7: 5 | K7: 2 | L7: 1 | M7: 3 | N7: 5 | O7: 4 | P7: 0 | Q7: 1 | V7: 3 | W7: 1 | X7: 1 | Y7: 0 | Z7: 3 | AA7: 0 | AB7: 0 | AC7: 2
A8: LA ROCHELLE | B8: 3 | C8: 2 | D8: 2 | E8: 3 | F8: 4 | G8: 1 | H8: 1 | I8: 3 | J8: 4 | K8: 1 | L8: 1 | M8: 4 | N8: 5 | O8: 1 | P8: 0 | Q8: 4 | R8: 1 | S8: 0 | T8: 1 | U8: 3 | Z8: 3 | AA8: 1 | AB8: 1 | AC8: 5
A9: LYON | B9: 2 | C9: 0 | D9: 1 | E9: 3 | F9: 5 | G9: 1 | H9: 0 | I9: 3 | J9: 3 | K9: 2 | L9: 1 | M9: 2 | N9: 5 | O9: 1 | P9: 2 | Q9: 1 | R9: 2 | S9: 0 | T9: 0 | U9: 3 | V9: 5 | W9: 1 | X9: 1 | Y9: 3
A10: MONTPELLIER | B10: 1 | C10: 0 | D10: 2 | E10: 2 | F10: 2 | G10: 1 | H10: 5 | I10: 6 | J10: 10 | K10: 5 | L10: 3 | M10: 8 | N10: 6 | O10: 4 | P10: 4 | Q10: 7 | R10: 2 | S10: 0 | T10: 4 | U10: 5 | V10: 5 | W10: 0 | X10: 0 | Y10: 5 | Z10: 4 | AA10: 0 | AB10: 1 | AC10: 5
A11: PARIS | B11: 3 | C11: 1 | D11: 3 | E11: 4 | F11: 6 | G11: 1 | H11: 1 | I11: 7 | J11: 8 | K11: 0 | L11: 3 | M11: 9 | N11: 10 | O11: 3 | P11: 1 | Q11: 6 | R11: 3 | S11: 2 | T11: 2 | U11: 4 | V11: 3 | W11: 1 | X11: 0 | Y11: 5 | Z11: 5 | AA11: 1 | AB11: 0 | AC11: 3
A12: PAU | B12: 2 | C12: 1 | D12: 3 | E12: 3 | F12: 3 | G12: 2 | H12: 1 | I12: 1 | J12: 3 | K12: 0 | L12: 1 | M12: 3 | N12: 3 | O12: 2 | P12: 0 | Q12: 2 | R12: 1 | S12: 0 | T12: 2 | U12: 2 | V12: 6 | W12: 3 | X12: 0 | Y12: 4 | Z12: 4 | AA12: 1 | AB12: 1 | AC12: 3
A13: PERPIGNAN | B13: 4 | C13: 1 | D13: 1 | E13: 4 | F13: 3 | G13: 1 | H13: 0 | I13: 3 | J13: 4 | K13: 3 | L13: 2 | M13: 4 | N13: 6 | O13: 4 | P13: 1 | Q13: 4 | R13: 3 | S13: 0 | T13: 1 | U13: 4 | V13: 1 | W13: 0 | X13: 1 | Y13: 1 | Z13: 2 | AA13: 1 | AB13: 0 | AC13: 2
A14: RACING 92 | B14: 4 | C14: 0 | D14: 1 | E14: 6 | F14: 5 | G14: 0 | H14: 3 | I14: 7 | J14: 6 | K14: 2 | L14: 3 | M14: 9 | N14: 10 | O14: 2 | P14: 1 | Q14: 7 | R14: 3 | S14: 1 | T14: 2 | U14: 5 | V14: 2 | W14: 1 | X14: 2 | Y14: 4 | Z14: 1 | AA14: 2 | AB14: 3 | AC14: 3
A15: TOULON | B15: 3 | C15: 0 | D15: 2 | E15: 6 | F15: 5 | G15: 0 | H15: 3 | I15: 7 | J15: 9 | K15: 2 | L15: 0 | M15: 11 | N15: 11 | O15: 2 | P15: 3 | Q15: 7 | R15: 3 | S15: 1 | T15: 1 | U15: 5 | V15: 2 | W15: 2 | X15: 3 | Y15: 4 | Z15: 2 | AA15: 0 | AB15: 2 | AC15: 5
A16: TOULOUSE | B16: 1 | C16: 0 | D16: 4 | E16: 8 | F16: 4 | G16: 0 | H16: 3 | I16: 7 | J16: 7 | K16: 3 | L16: 3 | M16: 11 | N16: 11 | O16: 3 | P16: 0 | Q16: 9 | R16: 4 | S16: 1 | T16: 2 | U16: 4 | V16: 4 | W16: 1 | X16: 1 | Y16: 5 | Z16: 1 | AA16: 1 | AB16: 3 | AC16: 3
A18: MONTPELLIER | E18: PARIS | I18: PAU | M18: PERIGNAN | Q18: RACING 92 | U18: TOULON | Y18: TOULOUSE
A19: VD | B19: VE | C19: DD | D19: DE | E19: VD | F19: VE | G19: DD | H19: DE | I19: VD | J19: VE | K19: DD | L19: DE | M19: VD | N19: VE | O19: DD | P19: DE | Q19: VD | R19: VE | S19: DD | T19: DE | U19: VD | V19: VE | W19: DD | X19: DE | Y19: VD | Z19: VE | AA19: DD | AB19: DE
A20: 2 | B20: 2 | C20: 0 | D20: 1 | E20: 4 | F20: 3 | G20: 1 | H20: 3 | I20: 3 | J20: 3 | K20: 1 | L20: 2 | M20: 4 | N20: 1 | O20: 1 | P20: 4 | Q20: 6 | R20: 1 | S20: 0 | T20: 4 | U20: 6 | V20: 2 | W20: 0 | X20: 3 | Y20: 6 | Z20: 4 | AA20: 0 | AB20: 1
A21: 6 | B21: 5 | C21: 1 | D21: 2 | E21: 7 | F21: 1 | G21: 1 | H21: 6 | I21: 1 | J21: 1 | K21: 2 | L21: 3 | M21: 3 | N21: 0 | O21: 1 | P21: 3 | Q21: 7 | R21: 3 | S21: 0 | T21: 4 | U21: 7 | V21: 3 | W21: 0 | X21: 5 | Y21: 7 | Z21: 3 | AA21: 0 | AB21: 4
A22: 8 | B22: 3 | C22: 5 | D22: 10 | E22: 9 | F22: 3 | G22: 0 | H22: 8 | I22: 3 | J22: 1 | K22: 0 | L22: 3 | M22: 4 | N22: 2 | O22: 3 | P22: 4 | Q22: 9 | R22: 3 | S22: 2 | T22: 6 | U22: 11 | V22: 0 | W22: 2 | X22: 9 | Y22: 11 | Z22: 3 | AA22: 3 | AB22: 7
A23: 7 | B23: 4 | C23: 4 | D23: 6 | E23: 6 | F23: 1 | G23: 3 | H23: 10 | I23: 2 | J23: 0 | K23: 2 | L23: 3 | M23: 4 | N23: 1 | O23: 4 | P23: 6 | Q23: 7 | R23: 1 | S23: 2 | T23: 10 | U23: 7 | V23: 3 | W23: 2 | X23: 11 | Y23: 9 | Z23: 0 | AA23: 3 | AB23: 11
A24: 5 | B24: 4 | C24: 0 | D24: 2 | E24: 4 | F24: 2 | G24: 2 | H24: 3 | I24: 2 | J24: 2 | K24: 0 | L24: 1 | M24: 4 | N24: 1 | O24: 0 | P24: 3 | Q24: 5 | R24: 2 | S24: 1 | T24: 3 | U24: 5 | V24: 1 | W24: 1 | X24: 3 | Y24: 4 | Z24: 2 | AA24: 1 | AB24: 4
A25: 5 | B25: 0 | C25: 0 | D25: 5 | E25: 5 | F25: 0 | G25: 1 | H25: 2 | I25: 4 | J25: 0 | K25: 3 | L25: 6 | M25: 1 | N25: 1 | O25: 0 | P25: 1 | Q25: 4 | R25: 2 | S25: 1 | T25: 2 | U25: 4 | V25: 3 | W25: 2 | X25: 2 | Y25: 5 | Z25: 1 | AA25: 1 | AB25: 4
A26: 5 | B26: 1 | C26: 0 | D26: 4 | E26: 3 | F26: 0 | G26: 1 | H26: 5 | I26: 3 | J26: 1 | K26: 1 | L26: 4 | M26: 2 | N26: 0 | O26: 1 | P26: 2 | Q26: 3 | R26: 3 | S26: 2 | T26: 1 | U26: 5 | V26: 2 | W26: 0 | X26: 2 | Y26: 3 | Z26: 3 | AA26: 1 | AB26: 1
E27: 9 | F27: 0 | G27: 1 | H27: 10 | I27: 2 | J27: 1 | K27: 1 | L27: 3 | M27: 5 | N27: 1 | O27: 2 | P27: 4 | Q27: 7 | R27: 4 | S27: 2 | T27: 7 | U27: 11 | V27: 1 | W27: 0 | X27: 9 | Y27: 9 | Z27: 3 | AA27: 2 | AB27: 8
A28: 10 | B28: 1 | C28: 0 | D28: 9 | I28: 2 | J28: 1 | K28: 2 | L28: 2 | M28: 4 | N28: 2 | O28: 5 | P28: 3 | Q28: 8 | R28: 4 | S28: 1 | T28: 7 | U28: 7 | V28: 4 | W28: 3 | X28: 6 | Y28: 11 | Z28: 6 | AA28: 0 | AB28: 2
A29: 3 | B29: 1 | C29: 1 | D29: 2 | E29: 2 | F29: 2 | G29: 1 | H29: 2 | M29: 1 | N29: 0 | O29: 0 | P29: 2 | Q29: 4 | R29: 0 | S29: 0 | T29: 2 | U29: 3 | V29: 2 | W29: 0 | X29: 2 | Y29: 2 | Z29: 2 | AA29: 1 | AB29: 2
A30: 4 | B30: 2 | C30: 1 | D30: 5 | E30: 3 | F30: 5 | G30: 2 | H30: 4 | I30: 2 | J30: 0 | K30: 0 | L30: 1 | Q30: 4 | R30: 0 | S30: 1 | T30: 3 | U30: 6 | V30: 3 | W30: 1 | X30: 2 | Y30: 5 | Z30: 2 | AA30: 1 | AB30: 6
A31: 7 | B31: 2 | C31: 4 | D31: 7 | E31: 7 | F31: 1 | G31: 4 | H31: 8 | I31: 2 | J31: 0 | K31: 0 | L31: 4 | M31: 3 | N31: 1 | O31: 0 | P31: 4 | U31: 7 | V31: 3 | W31: 6 | X31: 6 | Y31: 10 | Z31: 2 | AA31: 2 | AB31: 8
A32: 9 | B32: 0 | C32: 1 | D32: 11 | E32: 6 | F32: 3 | G32: 4 | H32: 7 | I32: 2 | J32: 0 | K32: 2 | L32: 3 | M32: 2 | N32: 1 | O32: 3 | P32: 6 | Q32: 6 | R32: 6 | S32: 3 | T32: 7 | Y32: 10 | Z32: 2 | AA32: 2 | AB32: 9
A33: 8 | B33: 2 | C33: 3 | D33: 9 | E33: 2 | F33: 0 | G33: 6 | H33: 11 | I33: 2 | J33: 1 | K33: 2 | L33: 2 | M33: 6 | N33: 1 | O33: 2 | P33: 5 | Q33: 8 | R33: 2 | S33: 2 | T33: 10 | U33: 9 | V33: 2 | W33: 2 | X33: 11
A36: 1/px100
A37: P=1/cx100

Sheet agen
A1: stat face a fac top 14 AGEN
A2: face a face | B2: nbr de match | C2: victoire D | D2: victoire E | E2: % | F2: defaite D | G2: defaite E | H2: % | I2: nul | J2: %
A3: UBB | B3: 10 | C3: =resultat!B4 -> 3 | D3: =resultat!C4 -> 0 | E3: =(C3+D3)/B3 -> 0.3 | F3: =resultat!D4 -> 2 | G3: 5 | H3: =(F3+G3)/B3 -> 0.7 | J3: =100%-(E3+H3) -> 0
A4: CASTRE | B4: =C4+D4+F4+G4+I4 -> 11 | C4: =resultat!B5 -> 3 | D4: =resultat!C5 -> 1 | E4: =(C4+D4)/B4 -> 0.36363636 | F4: =resultat!D5 -> 2 | G4: =resultat!E5 -> 5 | H4: =(F4+G4)/B4 -> 0.63636364 | J4: =100%-(E4+H4) -> 0
A5: ASM | B5: =C5+D5+F5+G5+I5 -> 12 | C5: 2 | D5: =resultat!C6 -> 0 | E5: =(C5+D5)/B5 -> 0.16666667 | F5: 4 | G5: =resultat!E6 -> 6 | H5: =(F5+G5)/B5 -> 0.83333333 | J5: =100%-(E5+H5) -> 0
A6: GRENOBLE | B6: =C6+D6+F6+G6+I6 -> 5 | C6: =resultat!B7 -> 1 | D6: =resultat!C7 -> 0 | E6: =(C6+D6)/B6 -> 0.2 | F6: =resultat!D7 -> 1 | G6: =resultat!E7 -> 2 | H6: =(F6+G6)/B6 -> 0.6 | I6: 1 | J6: =100%-(E6+H6) -> 0.2
A7: S ROCHELAIS | B7: =C7+D7+F7+G7+I7 -> 11 | C7: 4 | D7: =resultat!C8 -> 2 | E7: =(C7+D7)/B7 -> 0.54545455 | F7: =resultat!D8 -> 2 | G7: =resultat!E8 -> 3 | H7: =(F7+G7)/B7 -> 0.45454545 | J7: =100%-(E7+H7) -> 0
A8: LOU | B8: =C8+D8+F8+G8+I8 -> 7 | C8: 2 | D8: =resultat!C9 -> 0 | E8: =(C8+D8)/B8 -> 0.28571429 | F8: =resultat!D9 -> 1 | G8: 4 | H8: =(F8+G8)/B8 -> 0.71428571 | J8: =100%-(E8+H8) -> 0
A9: MHR | B9: =C9+D9+F9+G9+I9 -> 12 | C9: 2 | D9: =resultat!C10 -> 0 | E9: =(C9+D9)/B9 -> 0.16666667 | F9: 4 | G9: 6 | H9: =(F9+G9)/B9 -> 0.83333333 | J9: =100%-(E9+H9) -> 0
A10: SF PARIS | B10: 12 | C10: =resultat!B11 -> 3 | D10: =resultat!C11 -> 1 | E10: =(C10+D10)/B10 -> 0.33333333 | F10: =resultat!D11 -> 3 | G10: 5 | H10: =(F10+G10)/B10 -> 0.66666667 | J10: =100%-(E10+H10) -> 0
A11: S PALOISE | B11: =C11+D11+F11+G11+I11 -> 10 | C11: =resultat!B12 -> 2 | D11: =resultat!C12 -> 1 | E11: =(C11+D11)/B11 -> 0.3 | F11: =resultat!D12 -> 3 | G11: 4 | H11: =(F11+G11)/B11 -> 0.7 | J11: =100%-(E11+H11) -> 0
A12: USAP | B12: =C12+D12+F12+G12+I12 -> 13 | C12: =resultat!B13 -> 4 | D12: 2 | E12: =(C12+D12)/B12 -> 0.46153846 | F12: =resultat!D13 -> 1 | G12: =resultat!E13 -> 4 | H12: =(F12+G12)/B12 -> 0.38461538 | I12: 2 | J12: =100%-(E12+H12) -> 0.15384615
A13: RACING 92 | B13: =C13+D13+F13+G13+I13 -> 11 | C13: =resultat!B14 -> 4 | D13: =resultat!C14 -> 0 | E13: =(C13+D13)/B13 -> 0.36363636 | F13: =resultat!D14 -> 1 | G13: =resultat!E14 -> 6 | H13: =(F13+G13)/B13 -> 0.63636364 | J13: =100%-(E13+H13) -> 0
A14: RCT | B14: =C14+D14+F14+G14+I14 -> 12 | C14: 4 | D14: =resultat!C15 -> 0 | E14: =(C14+D14)/B14 -> 0.33333333 | F14: =resultat!D15 -> 2 | G14: =resultat!E15 -> 6 | H14: =(F14+G14)/B14 -> 0.66666667 | J14: =100%-(E14+H14) -> 0
A15: S TOULOUSAIN | B15: =C15+D15+F15+G15+I15 -> 12 | C15: =resultat!B16 -> 1 | D15: =resultat!C16 -> 0 | E15: =(C15+D15)/B15 -> 0.083333333 | F15: 5 | G15: 6 | H15: =(F15+G15)/B15 -> 0.91666667 | J15: =100%-(E15+H15) -> 0

Sheet UBB
A1: stat face a fac top 14 UBB
A2: face a face | B2: nbr de match | C2: victoire D | D2: victoire E | E2: % | F2: defaite D | G2: defaite E | H2: % | I2: nul | J2: %
A3: AGEN | B3: 10 | C3: 5 | D3: 2 | E3: =(C3+D3)/B3 -> 0.7 | F3: 0 | G3: 3 | H3: =(F3+G3)/B3 -> 0.3 | I3: 0 | J3: =100%-(E3+H3) -> 0
A4: CASTRE | B4: =C4+D4+F4+G4+I4 -> 15 | C4: =resultat!F5 -> 4 | D4: =resultat!G5 -> 1 | E4: =(C4+D4)/B4 -> 0.33333333 | F4: =resultat!H5 -> 3 | G4: =resultat!I5 -> 6 | H4: =(F4+G4)/B4 -> 0.6 | I4: 1 | J4: =100%-(E4+H4) -> 0.066666667
A5: ASM | B5: =C5+D5+F5+G5+I5 -> 4 | C5: =resultat!F6 -> 2 | D5: =resultat!G6 -> 0 | E5: =(C5+D5)/B5 -> 0.5 | F5: =resultat!H6 -> 0 | G5: =resultat!I6 -> 1 | H5: =(F5+G5)/B5 -> 0.25 | I5: 1 | J5: =100%-(E5+H5) -> 0.25
A6: GRENOBLE | B6: =C6+D6+F6+G6+I6 -> 11 | C6: =resultat!F7 -> 4 | D6: =resultat!G7 -> 2 | E6: =(C6+D6)/B6 -> 0.54545455 | F6: =resultat!H7 -> 1 | G6: =resultat!I7 -> 4 | H6: =(F6+G6)/B6 -> 0.45454545 | I6: 0 | J6: =100%-(E6+H6) -> 0
A7: S ROCHELAIS | B7: =C7+D7+F7+G7+I7 -> 9 | C7: =resultat!F8 -> 4 | D7: =resultat!G8 -> 1 | E7: =(C7+D7)/B7 -> 0.55555556 | F7: =resultat!H8 -> 1 | G7: =resultat!I8 -> 3 | H7: =(F7+G7)/B7 -> 0.44444444 | I7: 0 | J7: =100%-(E7+H7) -> 0
A8: LOU | B8: =C8+D8+F8+G8+I8 -> 9 | C8: =resultat!F9 -> 5 | D8: =resultat!G9 -> 1 | E8: =(C8+D8)/B8 -> 0.66666667 | F8: =resultat!H9 -> 0 | G8: =resultat!I9 -> 3 | H8: =(F8+G8)/B8 -> 0.33333333 | I8: 0 | J8: =100%-(E8+H8) -> 0
A9: MHR | B9: =C9+D9+F9+G9+I9 -> 15 | C9: =resultat!F10 -> 2 | D9: =resultat!G10 -> 1 | E9: =(C9+D9)/B9 -> 0.2 | F9: =resultat!H10 -> 5 | G9: =resultat!I10 -> 6 | H9: =(F9+G9)/B9 -> 0.73333333 | I9: 1 | J9: =100%-(E9+H9) -> 0.066666667
A10: SF PARIS | B10: =C10+D10+F10+G10+I10 -> 15 | C10: =resultat!F11 -> 6 | D10: =resultat!G11 -> 1 | E10: =(C10+D10)/B10 -> 0.46666667 | F10: =resultat!H11 -> 1 | G10: =resultat!I11 -> 7 | H10: =(F10+G10)/B10 -> 0.53333333 | I10: 0 | J10: =100%-(E10+H10) -> 0
A11: S PALOISE | B11: =C11+D11+F11+G11+I11 -> 7 | C11: =resultat!F12 -> 3 | D11: =resultat!G12 -> 2 | E11: =(C11+D11)/B11 -> 0.71428571 | F11: =resultat!H12 -> 1 | G11: =resultat!I12 -> 1 | H11: =(F11+G11)/B11 -> 0.28571429 | I11: 0 | J11: =100%-(E11+H11) -> 0
A12: USAP | B12: =C12+D12+F12+G12+I12 -> 7 | C12: =resultat!F13 -> 3 | D12: =resultat!G13 -> 1 | E12: =(C12+D12)/B12 -> 0.57142857 | F12: =resultat!H13 -> 0 | G12: =resultat!I13 -> 3 | H12: =(F12+G12)/B12 -> 0.42857143 | I12: 0 | J12: =100%-(E12+H12) -> 0
A13: RACING 92 | B13: =C13+D13+F13+G13+I13 -> 15 | C13: =resultat!F14 -> 5 | D13: =resultat!G14 -> 0 | E13: =(C13+D13)/B13 -> 0.33333333 | F13: =resultat!H14 -> 3 | G13: =resultat!I14 -> 7 | H13: =(F13+G13)/B13 -> 0.66666667 | I13: 0 | J13: =100%-(E13+H13) -> 0
A14: RCT | B14: =C14+D14+F14+G14+I14 -> 15 | C14: =resultat!F15 -> 5 | D14: =resultat!G15 -> 0 | E14: =(C14+D14)/B14 -> 0.33333333 | F14: =resultat!H15 -> 3 | G14: =resultat!I15 -> 7 | H14: =(F14+G14)/B14 -> 0.66666667 | I14: 0 | J14: =100%-(E14+H14) -> 0
A15: S TOULOUSAIN | B15: =C15+D15+F15+G15+I15 -> 15 | C15: =resultat!F16 -> 4 | D15: =resultat!G16 -> 0 | E15: =(C15+D15)/B15 -> 0.26666667 | F15: =resultat!H16 -> 3 | G15: =resultat!I16 -> 7 | H15: =(F15+G15)/B15 -> 0.66666667 | I15: 1 | J15: =100%-(E15+H15) -> 0.066666667

Sheet castre
A1: stat face a fac top 14 CASTRE
A2: face a face | B2: nbr de match | C2: victoire D | D2: victoire E | E2: % | F2: defaite D | G2: defaite E | H2: % | I2: nul
A3: AGEN | B3: =C3+D3+F3+G3+I3 -> 16 | C3: =resultat!J3 -> 5 | D3: =resultat!K3 -> 2 | E3: =(C3+D3)/B3 -> 0.4375 | F3: =resultat!L3 -> 6 | G3: =resultat!M3 -> 3 | H3: =(F3+G3)/B3 -> 0.5625
A4: UBB | B4: =C4+D4+F4+G4+I4 -> 12 | C4: =resultat!J4 -> 2 | D4: =resultat!K4 -> 4 | E4: =(C4+D4)/B4 -> 0.5 | F4: =resultat!L4 -> 1 | G4: =resultat!M4 -> 4 | H4: =(F4+G4)/B4 -> 0.41666667 | I4: 1 | J4: =100%-(E4+H4) -> 0.083333333
A5: ASM | B5: =C5+D5+F5+G5+I5 -> 23 | C5: =resultat!J6 -> 7 | D5: =resultat!K6 -> 3 | E5: =(C5+D5)/B5 -> 0.43478261 | F5: =resultat!L6 -> 1 | G5: =resultat!M6 -> 10 | H5: =(F5+G5)/B5 -> 0.47826087 | I5: 2 | J5: =100%-(E3+H3) -> 0
A6: GRENOBLE | B6: =C6+D6+F6+G6+I6 -> 11 | C6: =resultat!J7 -> 5 | D6: 2 | E6: =(C6+D6)/B6 -> 0.63636364 | F6: =resultat!L7 -> 1 | G6: =resultat!M7 -> 3 | H6: =(F6+G6)/B6 -> 0.36363636 | J6: =100%-(E5+H5) -> 0.086956522
A7: S ROCHELAIS | B7: =C7+D7+F7+G7+I7 -> 10 | C7: =resultat!J8 -> 4 | D7: 1 | E7: =(C7+D7)/B7 -> 0.5 | F7: =resultat!L8 -> 1 | G7: =resultat!M8 -> 4 | H7: =(F7+G7)/B7 -> 0.5 | J7: =100%-(E6+H6) -> 0
A8: LOU | B8: =C8+D8+F8+G8+I8 -> 9 | C8: =resultat!J9 -> 3 | D8: 2 | E8: =(C8+D8)/B8 -> 0.55555556 | F8: =resultat!L9 -> 1 | G8: =resultat!M9 -> 2 | H8: =(F8+G8)/B8 -> 0.33333333 | I8: 1 | J8: =100%-(E7+H7) -> 0
A9: MHR | B9: =C9+D9+F9+G9+I9 -> 27 | C9: =resultat!J10 -> 10 | D9: 5 | E9: =(C9+D9)/B9 -> 0.55555556 | F9: =resultat!L10 -> 3 | G9: =resultat!M10 -> 8 | H9: =(F9+G9)/B9 -> 0.40740741 | I9: 1 | J9: =100%-(E8+H8) -> 0.11111111
A10: SF PARIS | B10: =C10+D10+F10+G10+I10 -> 21 | C10: =resultat!J11 -> 8 | D10: 0 | E10: =(C10+D10)/B10 -> 0.38095238 | F10: =resultat!L11 -> 3 | G10: =resultat!M11 -> 9 | H10: =(F10+G10)/B10 -> 0.57142857 | I10: 1 | J10: =100%-(E9+H9) -> 0.037037037
A11: S PALOISE | B11: =C11+D11+F11+G11+I11 -> 7 | C11: =resultat!J12 -> 3 | D11: 0 | E11: =(C11+D11)/B11 -> 0.42857143 | F11: =resultat!L12 -> 1 | G11: =resultat!M12 -> 3 | H11: =(F11+G11)/B11 -> 0.57142857 | J11: =100%-(E10+H10) -> 0.047619048
A12: USAP | B12: =C12+D12+F12+G12+I12 -> 13 | C12: =resultat!J13 -> 4 | D12: 3 | E12: =(C12+D12)/B12 -> 0.53846154 | F12: =resultat!L13 -> 2 | G12: =resultat!M13 -> 4 | H12: =(F12+G12)/B12 -> 0.46153846 | J12: =100%-(E11+H11) -> 0
A13: RACING 92 | B13: =C13+D13+F13+G13+I13 -> 20 | C13: =resultat!J14 -> 6 | D13: 2 | E13: =(C13+D13)/B13 -> 0.4 | F13: =resultat!L14 -> 3 | G13: =resultat!M14 -> 9 | H13: =(F13+G13)/B13 -> 0.6 | J13: =100%-(E12+H12) -> 0
A14: RCT | B14: =C14+D14+F14+G14+I14 -> 24 | C14: =resultat!J15 -> 9 | D14: 2 | E14: =(C14+D14)/B14 -> 0.45833333 | F14: =resultat!L15 -> 0 | G14: =resultat!M15 -> 11 | H14: =(F14+G14)/B14 -> 0.45833333 | I14: 2 | J14: =100%-(E13+H13) -> 0
A15: S TOULOUSAIN | B15: =C15+D15+F15+G15+I15 -> 24 | C15: =resultat!J16 -> 7 | D15: 3 | E15: =(C15+D15)/B15 -> 0.41666667 | F15: =resultat!L16 -> 3 | G15: =resultat!M16 -> 11 | H15: =(F15+G15)/B15 -> 0.58333333 | J15: =100%-(E14+H14) -> 0.083333333
J16: =100%-(E15+H15) -> 0

Sheet clermont
A1: stat face a fac top 14 ASM CLERMONT
A2: face a face | B2: nbr de match | C2: victoire D | D2: victoire E | E2: % | F2: defaite D | G2: defaite E | H2: %
A3: AGEN | B3: =C3+D3+F3+G3+I3 -> 11 | C3: =resultat!N3 -> 6 | D3: =resultat!O3 -> 3 | E3: =(C3+D3)/B3 -> 0.81818182 | F3: =resultat!P3 -> 0 | G3: =resultat!Q3 -> 2 | H3: =(F3+G3)/B3 -> 0.18181818 | J3: =100%-(E3+H3) -> 0
A4: UBB | B4: =C4+D4+F4+G4+I4 -> 4 | C4: =resultat!N4 -> 1 | D4: =resultat!O4 -> 0 | E4: =(C4+D4)/B4 -> 0.25 | F4: =resultat!P4 -> 0 | G4: =resultat!Q4 -> 2 | H4: =(F4+G4)/B4 -> 0.5 | I4: 1 | J4: =100%-(E4+H4) -> 0.25
A5: CASTRE | B5: =C5+D5+F5+G5+I5 -> 23 | C5: =resultat!N5 -> 10 | D5: =resultat!O5 -> 1 | E5: =(C5+D5)/B5 -> 0.47826087 | F5: =resultat!P5 -> 3 | G5: =resultat!Q5 -> 7 | H5: =(F5+G5)/B5 -> 0.43478261 | I5: 2 | J5: =100%-(E5+H5) -> 0.086956522
A6: GRENOBLE | B6: =C6+D6+F6+G6+I6 -> 11 | C6: =resultat!N7 -> 5 | D6: =resultat!O7 -> 4 | E6: =(C6+D6)/B6 -> 0.81818182 | F6: =resultat!P7 -> 0 | G6: =resultat!Q7 -> 1 | H6: =(F6+G6)/B6 -> 0.090909091 | I6: 1 | J6: =100%-(E6+H6) -> 0.090909091
A7: S ROCHELAIS | B7: =C7+D7+F7+G7+I7 -> 11 | C7: =resultat!N8 -> 5 | D7: =resultat!O8 -> 1 | E7: =(C7+D7)/B7 -> 0.54545455 | F7: =resultat!P8 -> 0 | G7: =resultat!Q8 -> 4 | H7: =(F7+G7)/B7 -> 0.36363636 | I7: 1 | J7: =100%-(E7+H7) -> 0.090909091
A8: LOU | B8: =C8+D8+F8+G8+I8 -> 9 | C8: =resultat!N9 -> 5 | D8: =resultat!O9 -> 1 | E8: =(C8+D8)/B8 -> 0.66666667 | F8: =resultat!P9 -> 2 | G8: =resultat!Q9 -> 1 | H8: =(F8+G8)/B8 -> 0.33333333 | J8: =100%-(E8+H8) -> 0
A9: MHR | B9: =C9+D9+F9+G9+I9 -> 21 | C9: =resultat!N10 -> 6 | D9: =resultat!O10 -> 4 | E9: =(C9+D9)/B9 -> 0.47619048 | F9: =resultat!P10 -> 4 | G9: =resultat!Q10 -> 7 | H9: =(F9+G9)/B9 -> 0.52380952 | J9: =100%-(E9+H9) -> 0
A10: SF PARIS | B10: =C10+D10+F10+G10+I10 -> 22 | C10: =resultat!N11 -> 10 | D10: =resultat!O11 -> 3 | E10: =(C10+D10)/B10 -> 0.59090909 | F10: =resultat!P11 -> 1 | G10: =resultat!Q11 -> 6 | H10: =(F10+G10)/B10 -> 0.31818182 | I10: 2 | J10: =100%-(E10+H10) -> 0.090909091
A11: S PALOISE | B11: =C11+D11+F11+G11+I11 -> 7 | C11: =resultat!N12 -> 3 | D11: =resultat!O12 -> 2 | E11: =(C11+D11)/B11 -> 0.71428571 | F11: =resultat!P12 -> 0 | G11: =resultat!Q12 -> 2 | H11: =(F11+G11)/B11 -> 0.28571429 | J11: =100%-(E11+H11) -> 0
A12: USAP | B12: =C12+D12+F12+G12+I12 -> 15 | C12: =resultat!N13 -> 6 | D12: =resultat!O13 -> 4 | E12: =(C12+D12)/B12 -> 0.66666667 | F12: =resultat!P13 -> 1 | G12: =resultat!Q13 -> 4 | H12: =(F12+G12)/B12 -> 0.33333333 | J12: =100%-(E12+H12) -> 0
A13: RACING 92 | B13: =C13+D13+F13+G13+I13 -> 22 | C13: =resultat!N14 -> 10 | D13: =resultat!O14 -> 2 | E13: =(C13+D13)/B13 -> 0.54545455 | F13: =resultat!P14 -> 1 | G13: =resultat!Q14 -> 7 | H13: =(F13+G13)/B13 -> 0.36363636 | I13: 2 | J13: =100%-(E13+H13) -> 0.090909091
A14: RCT | B14: =C14+D14+F14+G14+I14 -> 24 | C14: =resultat!N15 -> 11 | D14: =resultat!O15 -> 2 | E14: =(C14+D14)/B14 -> 0.54166667 | F14: =resultat!P15 -> 3 | G14: =resultat!Q15 -> 7 | H14: =(F14+G14)/B14 -> 0.41666667 | I14: 1 | J14: =100%-(E14+H14) -> 0.041666667
A15: S TOULOUSAIN | B15: =C15+D15+F15+G15+I15 -> 24 | C15: =resultat!N16 -> 11 | D15: =resultat!O16 -> 3 | E15: =(C15+D15)/B15 -> 0.58333333 | F15: =resultat!P16 -> 0 | G15: =resultat!Q16 -> 9 | H15: =(F15+G15)/B15 -> 0.375 | I15: 1 | J15: =100%-(E15+H15) -> 0.041666667

Sheet gronoble
A1: stat face a fac top 14 GRENOBLE
A2: face a face | B2: nbr de match | C2: victoire D | D2: victoire E | E2: % | F2: defaite D | G2: defaite E | H2: %
A3: AGEN | B3: =C3+D3+F3+G3+I3 -> 4 | C3: =resultat!R3 -> 2 | D3: =resultat!S3 -> 1 | E3: =(C3+D3)/B3 -> 0.75 | F3: =resultat!T3 -> 0 | G3: =resultat!U3 -> 1 | H3: =(F3+G3)/B3 -> 0.25
A4: UBB | B4: =C4+D4+F4+G4+I4 -> 11 | C4: =resultat!R4 -> 4 | D4: =resultat!S4 -> 1 | E4: =(C4+D4)/B4 -> 0.45454545 | F4: =resultat!T4 -> 2 | G4: =resultat!U4 -> 4 | H4: =(F4+G4)/B4 -> 0.54545455 | J4: =100%-(E4+H4) -> 0
A5: CASTRE | B5: =C5+D5+F5+G5+I5 -> 11 | C5: =resultat!R5 -> 3 | D5: =resultat!S5 -> 1 | E5: =(C5+D5)/B5 -> 0.36363636 | F5: =resultat!T5 -> 2 | G5: =resultat!U5 -> 5 | H5: =(F5+G5)/B5 -> 0.63636364 | J5: =100%-(E5+H5) -> 0
A6: ASM | B6: =C6+D6+F6+G6+I6 -> 11 | C6: =resultat!R6 -> 1 | D6: =resultat!S6 -> 0 | E6: =(C6+D6)/B6 -> 0.090909091 | F6: =resultat!T6 -> 4 | G6: =resultat!U6 -> 5 | H6: =(F6+G6)/B6 -> 0.81818182 | I6: 1 | J6: =100%-(E6+H6) -> 0.090909091
A7: S ROCHELAIS | B7: =C7+D7+F7+G7+I7 -> 5 | C7: =resultat!R8 -> 1 | D7: =resultat!S8 -> 0 | E7: =(C7+D7)/B7 -> 0.2 | F7: =resultat!T8 -> 1 | G7: =resultat!U8 -> 3 | H7: =(F7+G7)/B7 -> 0.8 | J7: =100%-(E3+H3) -> 0
A8: LOU | B8: =C8+D8+F8+G8+I8 -> 5 | C8: =resultat!R9 -> 2 | D8: =resultat!S9 -> 0 | E8: =(C8+D8)/B8 -> 0.4 | F8: =resultat!T9 -> 0 | G8: =resultat!U9 -> 3 | H8: =(F8+G8)/B8 -> 0.6 | J8: =100%-(E7+H7) -> 0
A9: MHR | B9: =C9+D9+F9+G9+I9 -> 11 | C9: =resultat!R10 -> 2 | D9: =resultat!S10 -> 0 | E9: =(C9+D9)/B9 -> 0.18181818 | F9: =resultat!T10 -> 4 | G9: =resultat!U10 -> 5 | H9: =(F9+G9)/B9 -> 0.81818182 | J9: =100%-(E8+H8) -> 0
A10: SF PARIS | B10: =C10+D10+F10+G10+I10 -> 11 | C10: =resultat!R11 -> 3 | D10: =resultat!S11 -> 2 | E10: =(C10+D10)/B10 -> 0.45454545 | F10: =resultat!T11 -> 2 | G10: =resultat!U11 -> 4 | H10: =(F10+G10)/B10 -> 0.54545455 | J10: =100%-(E9+H9) -> 0
A11: S PALOISE | B11: =C11+D11+F11+G11+I11 -> 5 | C11: =resultat!R12 -> 1 | D11: =resultat!S12 -> 0 | E11: =(C11+D11)/B11 -> 0.2 | F11: =resultat!T12 -> 2 | G11: =resultat!U12 -> 2 | H11: =(F11+G11)/B11 -> 0.8 | J11: =100%-(E10+H10) -> 0
A12: USAP | B12: =C12+D12+F12+G12+I12 -> 8 | C12: =resultat!R13 -> 3 | D12: =resultat!S13 -> 0 | E12: =(C12+D12)/B12 -> 0.375 | F12: =resultat!T13 -> 1 | G12: =resultat!U13 -> 4 | H12: =(F12+G12)/B12 -> 0.625 | J12: =100%-(E11+H11) -> 0
A13: RACING 92 | B13: =C13+D13+F13+G13+I13 -> 11 | C13: =resultat!R14 -> 3 | D13: =resultat!S14 -> 1 | E13: =(C13+D13)/B13 -> 0.36363636 | F13: =resultat!T14 -> 2 | G13: =resultat!U14 -> 5 | H13: =(F13+G13)/B13 -> 0.63636364 | J13: =100%-(E12+H12) -> 0
A14: RCT | B14: =C14+D14+F14+G14+I14 -> 11 | C14: =resultat!R15 -> 3 | D14: =resultat!S15 -> 1 | E14: =(C14+D14)/B14 -> 0.36363636 | F14: =resultat!T15 -> 1 | G14: =resultat!U15 -> 5 | H14: =(F14+G14)/B14 -> 0.54545455 | I14: 1 | J14: =100%-(E13+H13) -> 0
A15: S TOULOUSAIN | B15: =C15+D15+F15+G15+I15 -> 11 | C15: =resultat!R16 -> 4 | D15: =resultat!S16 -> 1 | E15: =(C15+D15)/B15 -> 0.45454545 | F15: =resultat!T16 -> 2 | G15: =resultat!U16 -> 4 | H15: =(F15+G15)/B15 -> 0.54545455 | J15: =100%-(E14+H14) -> 0.090909091
J16: =100%-(E15+H15) -> 0

Sheet la rochelle
A1: stat face a fac top 14 LA ROCHELLE
A2: face a face | B2: nbr de match | C2: victoire D | D2: victoire E | E2: % | F2: defaite D | G2: defaite E | H2: %
A3: AGEN | B3: =C3+D3+F3+G3+I3 -> 10 | C3: =resultat!V3 -> 3 | D3: =resultat!W3 -> 2 | E3: =(C3+D3)/B3 -> 0.5 | F3: =resultat!X3 -> 2 | G3: =resultat!Y3 -> 3 | H3: =(F3+G3)/B3 -> 0.5
A4: UBB | B4: =C4+D4+F4+G4+I4 -> 9 | C4: 3 | D4: 1 | E4: =(C4+D4)/B4 -> 0.44444444 | F4: =resultat!X4 -> 1 | G4: =resultat!Y4 -> 4 | H4: =(F4+G4)/B4 -> 0.55555556 | J4: =100%-(E4+H4) -> 0
A5: CASTRE | B5: =C5+D5+F5+G5+I5 -> 10 | C5: 4 | D5: 1 | E5: =(C5+D5)/B5 -> 0.5 | F5: =resultat!X5 -> 1 | G5: =resultat!Y5 -> 4 | H5: =(F5+G5)/B5 -> 0.5 | J5: =100%-(E5+H5) -> 0
A6: ASM | B6: =C6+D6+F6+G6+I6 -> 11 | C6: 4 | D6: 0 | E6: =(C6+D6)/B6 -> 0.36363636 | F6: =resultat!X6 -> 1 | G6: =resultat!Y6 -> 5 | H6: =(F6+G6)/B6 -> 0.54545455 | I6: 1 | J6: =100%-(E6+H6) -> 0.090909091
A7: GRENOBLE | B7: =C7+D7+F7+G7+I7 -> 5 | C7: 3 | D7: 1 | E7: =(C7+D7)/B7 -> 0.8 | F7: =resultat!X7 -> 1 | G7: =resultat!Y7 -> 0 | H7: =(F7+G7)/B7 -> 0.2 | J7: =100%-(E7+H7) -> 0
A8: LOU | B8: =C8+D8+F8+G8+I8 -> 11 | C8: =resultat!V9 -> 5 | D8: =resultat!W9 -> 1 | E8: =(C8+D8)/B8 -> 0.54545455 | F8: =resultat!X9 -> 1 | G8: =resultat!Y9 -> 3 | H8: =(F8+G8)/B8 -> 0.36363636 | I8: 1 | J8: =100%-(E3+H3) -> 0
A9: MHR | B9: =C9+D9+F9+G9+I9 -> 11 | C9: =resultat!V10 -> 5 | D9: =resultat!W10 -> 0 | E9: =(C9+D9)/B9 -> 0.45454545 | F9: =resultat!X10 -> 0 | G9: =resultat!Y10 -> 5 | H9: =(F9+G9)/B9 -> 0.45454545 | I9: 1 | J9: =100%-(E8+H8) -> 0.090909091
A10: SF PARIS | B10: =C10+D10+F10+G10+I10 -> 11 | C10: =resultat!V11 -> 3 | D10: =resultat!W11 -> 1 | E10: =(C10+D10)/B10 -> 0.36363636 | F10: =resultat!X11 -> 0 | G10: =resultat!Y11 -> 5 | H10: =(F10+G10)/B10 -> 0.45454545 | I10: 2 | J10: =100%-(E9+H9) -> 0.090909091
A11: S PALOISE | B11: =C11+D11+F11+G11+I11 -> 13 | C11: =resultat!V12 -> 6 | D11: =resultat!W12 -> 3 | E11: =(C11+D11)/B11 -> 0.69230769 | F11: =resultat!X12 -> 0 | G11: =resultat!Y12 -> 4 | H11: =(F11+G11)/B11 -> 0.30769231 | J11: =100%-(E10+H10) -> 0.18181818
A12: USAP | B12: =C12+D12+F12+G12+I12 -> 3 | C12: =resultat!V13 -> 1 | D12: =resultat!W13 -> 0 | E12: =(C12+D12)/B12 -> 0.33333333 | F12: =resultat!X13 -> 1 | G12: =resultat!Y13 -> 1 | H12: =(F12+G12)/B12 -> 0.66666667 | J12: =100%-(E11+H11) -> 0
A13: RACING 92 | B13: =C13+D13+F13+G13+I13 -> 11 | C13: =resultat!V14 -> 2 | D13: =resultat!W14 -> 1 | E13: =(C13+D13)/B13 -> 0.27272727 | F13: =resultat!X14 -> 2 | G13: =resultat!Y14 -> 4 | H13: =(F13+G13)/B13 -> 0.54545455 | I13: 2 | J13: =100%-(E12+H12) -> 0
A14: RCT | B14: =C14+D14+F14+G14+I14 -> 12 | C14: =resultat!V15 -> 2 | D14: =resultat!W15 -> 2 | E14: =(C14+D14)/B14 -> 0.33333333 | F14: =resultat!X15 -> 3 | G14: =resultat!Y15 -> 4 | H14: =(F14+G14)/B14 -> 0.58333333 | I14: 1 | J14: =100%-(E13+H13) -> 0.18181818
A15: S TOULOUSAIN | B15: =C15+D15+F15+G15+I15 -> 11 | C15: =resultat!V16 -> 4 | D15: =resultat!W16 -> 1 | E15: =(C15+D15)/B15 -> 0.45454545 | F15: =resultat!X16 -> 1 | G15: =resultat!Y16 -> 5 | H15: =(F15+G15)/B15 -> 0.54545455 | J15: =100%-(E14+H14) -> 0.083333333
J16: =100%-(E15+H15) -> 0

Sheet lyon
A1: stat face a fac top 14 LYON
A2: face a face | B2: nbr de match | C2: victoire D | D2: victoire E | E2: % | F2: defaite D | G2: defaite E | H2: %
A3: AGEN | B3: =C3+D3+F3+G3+I3 -> 6 | C3: =resultat!Z3 -> 3 | D3: =resultat!AA3 -> 1 | E3: =(C3+D3)/B3 -> 0.66666667 | F3: =resultat!AB3 -> 0 | G3: =resultat!AC3 -> 2 | H3: =(F3+G3)/B3 -> 0.33333333
A4: UBB | B4: =C4+D4+F4+G4+I4 -> 9 | C4: =resultat!Z4 -> 3 | D4: =resultat!AA4 -> 0 | E4: =(C4+D4)/B4 -> 0.33333333 | F4: =resultat!AB4 -> 1 | G4: =resultat!AC4 -> 5 | H4: =(F4+G4)/B4 -> 0.66666667 | J4: =100%-(E4+H4) -> 0
A5: CASTRE | B5: =C5+D5+F5+G5+I5 -> 9 | C5: =resultat!Z5 -> 2 | D5: =resultat!AA5 -> 1 | E5: =(C5+D5)/B5 -> 0.33333333 | F5: =resultat!AB5 -> 2 | G5: =resultat!AC5 -> 3 | H5: =(F5+G5)/B5 -> 0.55555556 | I5: 1 | J5: =100%-(E5+H5) -> 0.11111111
A6: ASM | B6: =C6+D6+F6+G6+I6 -> 9 | C6: =resultat!Z6 -> 1 | D6: =resultat!AA6 -> 2 | E6: =(C6+D6)/B6 -> 0.33333333 | F6: =resultat!AB6 -> 1 | G6: =resultat!AC6 -> 5 | H6: =(F6+G6)/B6 -> 0.66666667 | J6: =100%-(E6+H6) -> 0
A7: GRENOBLE | B7: =C7+D7+F7+G7+I7 -> 5 | C7: =resultat!Z7 -> 3 | D7: =resultat!AA7 -> 0 | E7: =(C7+D7)/B7 -> 0.6 | F7: =resultat!AB7 -> 0 | G7: =resultat!AC7 -> 2 | H7: =(F7+G7)/B7 -> 0.4 | J7: =100%-(E7+H7) -> 0
A8: S ROCHELAIS | B8: =C8+D8+F8+G8+I8 -> 11 | C8: =resultat!Z8 -> 3 | D8: =resultat!AA8 -> 1 | E8: =(C8+D8)/B8 -> 0.36363636 | F8: =resultat!AB8 -> 1 | G8: =resultat!AC8 -> 5 | H8: =(F8+G8)/B8 -> 0.54545455 | I8: 1 | J8: =100%-(E8+H8) -> 0.090909091
A9: MHR | B9: =C9+D9+F9+G9+I9 -> 10 | C9: =resultat!Z10 -> 4 | D9: =resultat!AA10 -> 0 | E9: =(C9+D9)/B9 -> 0.4 | F9: =resultat!AB10 -> 1 | G9: =resultat!AC10 -> 5 | H9: =(F9+G9)/B9 -> 0.6 | J9: =100%-(E3+H3) -> 0
A10: SF PARIS | B10: =C10+D10+F10+G10+I10 -> 9 | C10: =resultat!Z11 -> 5 | D10: =resultat!AA11 -> 1 | E10: =(C10+D10)/B10 -> 0.66666667 | F10: =resultat!AB11 -> 0 | G10: =resultat!AC11 -> 3 | H10: =(F10+G10)/B10 -> 0.33333333 | J10: =100%-(E9+H9) -> 0
A11: S PALOISE | B11: =C11+D11+F11+G11+I11 -> 9 | C11: =resultat!Z12 -> 4 | D11: =resultat!AA12 -> 1 | E11: =(C11+D11)/B11 -> 0.55555556 | F11: =resultat!AB12 -> 1 | G11: =resultat!AC12 -> 3 | H11: =(F11+G11)/B11 -> 0.44444444 | J11: =100%-(E10+H10) -> 0
A12: USAP | B12: =C12+D12+F12+G12+I12 -> 5 | C12: =resultat!Z13 -> 2 | D12: =resultat!AA13 -> 1 | E12: =(C12+D12)/B12 -> 0.6 | F12: =resultat!AB13 -> 0 | G12: =resultat!AC13 -> 2 | H12: =(F12+G12)/B12 -> 0.4 | J12: =100%-(E11+H11) -> 0
A13: RACING 92 | B13: =C13+D13+F13+G13+I13 -> 9 | C13: =resultat!Z14 -> 1 | D13: =resultat!AA14 -> 2 | E13: =(C13+D13)/B13 -> 0.33333333 | F13: =resultat!AB14 -> 3 | G13: =resultat!AC14 -> 3 | H13: =(F13+G13)/B13 -> 0.66666667 | J13: =100%-(E12+H12) -> 0
A14: RCT | B14: =C14+D14+F14+G14+I14 -> 10 | C14: =resultat!Z15 -> 2 | D14: =resultat!AA15 -> 0 | E14: =(C14+D14)/B14 -> 0.2 | F14: =resultat!AB15 -> 2 | G14: =resultat!AC15 -> 5 | H14: =(F14+G14)/B14 -> 0.7 | I14: 1 | J14: =100%-(E13+H13) -> 0
A15: S TOULOUSAIN | B15: =C15+D15+F15+G15+I15 -> 9 | C15: =resultat!Z16 -> 1 | D15: =resultat!AA16 -> 1 | E15: =(C15+D15)/B15 -> 0.22222222 | F15: =resultat!AB16 -> 3 | G15: =resultat!AC16 -> 3 | H15: =(F15+G15)/B15 -> 0.66666667 | I15: 1 | J15: =100%-(E14+H14) -> 0.1
J16: =100%-(E15+H15) -> 0.11111111

Sheet montpellier
A1: stat face a fac top 14 MONTPELLIER
A2: face a face | B2: nbr de match | C2: victoire D | D2: victoire E | E2: % | F2: defaite D | G2: defaite E | H2: %
A3: AGEN | B3: =C3+D3+F3+G3+I3 -> 5 | C3: =resultat!A20 -> 2 | D3: =resultat!B20 -> 2 | E3: =(C3+D3)/B3 -> 0.8 | F3: =resultat!C20 -> 0 | G3: =resultat!D20 -> 1 | H3: =(F3+G3)/B3 -> 0.2
A4: UBB | B4: =C4+D4+F4+G4+I4 -> 15 | C4: =resultat!A21 -> 6 | D4: =resultat!B21 -> 5 | E4: =(C4+D4)/B4 -> 0.73333333 | F4: =resultat!C21 -> 1 | G4: =resultat!D21 -> 2 | H4: =(F4+G4)/B4 -> 0.2 | I4: 1 | J4: =100%-(E4+H4) -> 0.066666667
A5: CASTRE | B5: =C5+D5+F5+G5+I5 -> 27 | C5: =resultat!A22 -> 8 | D5: =resultat!B22 -> 3 | E5: =(C5+D5)/B5 -> 0.40740741 | F5: =resultat!C22 -> 5 | G5: =resultat!D22 -> 10 | H5: =(F5+G5)/B5 -> 0.55555556 | I5: 1 | J5: =100%-(E5+H5) -> 0.037037037
A6: ASM | B6: =C6+D6+F6+G6+I6 -> 21 | C6: =resultat!A23 -> 7 | D6: =resultat!B23 -> 4 | E6: =(C6+D6)/B6 -> 0.52380952 | F6: =resultat!C23 -> 4 | G6: =resultat!D23 -> 6 | H6: =(F6+G6)/B6 -> 0.47619048 | J6: =100%-(E6+H6) -> 0
A7: GRENOBLE | B7: =C7+D7+F7+G7+I7 -> 11 | C7: =resultat!A24 -> 5 | D7: =resultat!B24 -> 4 | E7: =(C7+D7)/B7 -> 0.81818182 | F7: =resultat!C24 -> 0 | G7: =resultat!D24 -> 2 | H7: =(F7+G7)/B7 -> 0.18181818 | J7: =100%-(E7+H7) -> 0
A8: S ROCHELAIS | B8: =C8+D8+F8+G8+I8 -> 11 | C8: =resultat!A25 -> 5 | D8: =resultat!B25 -> 0 | E8: =(C8+D8)/B8 -> 0.45454545 | F8: =resultat!C25 -> 0 | G8: =resultat!D25 -> 5 | H8: =(F8+G8)/B8 -> 0.45454545 | I8: 1 | J8: =100%-(E8+H8) -> 0.090909091
A9: LOU | B9: =C9+D9+F9+G9+I9 -> 10 | C9: =resultat!A26 -> 5 | D9: =resultat!B26 -> 1 | E9: =(C9+D9)/B9 -> 0.6 | F9: =resultat!C26 -> 0 | G9: =resultat!D26 -> 4 | H9: =(F9+G9)/B9 -> 0.4 | J9: =100%-(E9+H9) -> 0
A10: SF PARIS | B10: =C10+D10+F10+G10+I10 -> 21 | C10: =resultat!A28 -> 10 | D10: =resultat!B28 -> 1 | E10: =(C10+D10)/B10 -> 0.52380952 | F10: =resultat!C28 -> 0 | G10: =resultat!D28 -> 9 | H10: =(F10+G10)/B10 -> 0.42857143 | I10: 1 | J10: =100%-(E3+H3) -> 0
A11: S PALOISE | B11: =C11+D11+F11+G11+I11 -> 7 | C11: =resultat!A29 -> 3 | D11: =resultat!B29 -> 1 | E11: =(C11+D11)/B11 -> 0.57142857 | F11: =resultat!C29 -> 1 | G11: =resultat!D29 -> 2 | H11: =(F11+G11)/B11 -> 0.42857143 | J11: =100%-(E10+H10) -> 0.047619048
A12: USAP | B12: =C12+D12+F12+G12+I12 -> 13 | C12: =resultat!A30 -> 4 | D12: =resultat!B30 -> 2 | E12: =(C12+D12)/B12 -> 0.46153846 | F12: =resultat!C30 -> 1 | G12: =resultat!D30 -> 5 | H12: =(F12+G12)/B12 -> 0.46153846 | I12: 1 | J12: =100%-(E11+H11) -> 0
A13: RACING 92 | B13: =C13+D13+F13+G13+I13 -> 21 | C13: =resultat!A31 -> 7 | D13: =resultat!B31 -> 2 | E13: =(C13+D13)/B13 -> 0.42857143 | F13: =resultat!C31 -> 4 | G13: =resultat!D31 -> 7 | H13: =(F13+G13)/B13 -> 0.52380952 | I13: 1 | J13: =100%-(E12+H12) -> 0.076923077
A14: RCT | B14: =C14+D14+F14+G14+I14 -> 22 | C14: =resultat!A32 -> 9 | D14: =resultat!B32 -> 0 | E14: =(C14+D14)/B14 -> 0.40909091 | F14: =resultat!C32 -> 1 | G14: =resultat!D32 -> 11 | H14: =(F14+G14)/B14 -> 0.54545455 | I14: 1 | J14: =100%-(E13+H13) -> 0.047619048
A15: S TOULOUSAIN | B15: =C15+D15+F15+G15+I15 -> 22 | C15: =resultat!A33 -> 8 | D15: =resultat!B33 -> 2 | E15: =(C15+D15)/B15 -> 0.45454545 | F15: =resultat!C33 -> 3 | G15: =resultat!D33 -> 9 | H15: =(F15+G15)/B15 -> 0.54545455 | J15: =100%-(E14+H14) -> 0.045454545
J16: =100%-(E15+H15) -> 0

Sheet paris
A1: stat face a fac top 14 PARIS
A2: face a face | B2: nbr de match | C2: victoire D | D2: victoire E | E2: % | F2: defaite D | G2: defaite E | H2: %
A3: AGEN | B3: =C3+D3+F3+G3+I3 -> 11 | C3: =resultat!E20 -> 4 | D3: =resultat!F20 -> 3 | E3: =(C3+D3)/B3 -> 0.63636364 | F3: =resultat!G20 -> 1 | G3: =resultat!H20 -> 3 | H3: =(F3+G3)/B3 -> 0.36363636
A4: UBB | B4: =C4+D4+F4+G4+I4 -> 15 | C4: =resultat!E21 -> 7 | D4: =resultat!F21 -> 1 | E4: =(C4+D4)/B4 -> 0.53333333 | F4: =resultat!G21 -> 1 | G4: =resultat!H21 -> 6 | H4: =(F4+G4)/B4 -> 0.46666667 | J4: =100%-(E4+H4) -> 0
A5: CASTRE | B5: =C5+D5+F5+G5+I5 -> 21 | C5: =resultat!E22 -> 9 | D5: =resultat!F22 -> 3 | E5: =(C5+D5)/B5 -> 0.57142857 | F5: =resultat!G22 -> 0 | G5: =resultat!H22 -> 8 | H5: =(F5+G5)/B5 -> 0.38095238 | I5: 1 | J5: =100%-(E5+H5) -> 0.047619048
A6: ASM | B6: =C6+D6+F6+G6+I6 -> 22 | C6: =resultat!E23 -> 6 | D6: =resultat!F23 -> 1 | E6: =(C6+D6)/B6 -> 0.31818182 | F6: =resultat!G23 -> 3 | G6: =resultat!H23 -> 10 | H6: =(F6+G6)/B6 -> 0.59090909 | I6: 2 | J6: =100%-(E6+H6) -> 0.090909091
A7: GRENOBLE | B7: =C7+D7+F7+G7+I7 -> 11 | C7: =resultat!E24 -> 4 | D7: =resultat!F24 -> 2 | E7: =(C7+D7)/B7 -> 0.54545455 | F7: =resultat!G24 -> 2 | G7: =resultat!H24 -> 3 | H7: =(F7+G7)/B7 -> 0.45454545 | J7: =100%-(E7+H7) -> 0
A8: S ROCHELAIS | B8: =C8+D8+F8+G8+I8 -> 10 | C8: =resultat!E25 -> 5 | D8: =resultat!F25 -> 0 | E8: =(C8+D8)/B8 -> 0.5 | F8: =resultat!G25 -> 1 | G8: =resultat!H25 -> 2 | H8: =(F8+G8)/B8 -> 0.3 | I8: 2 | J8: =100%-(E8+H8) -> 0.2
A9: LOU | B9: =C9+D9+F9+G9+I9 -> 9 | C9: =resultat!E26 -> 3 | D9: =resultat!F26 -> 0 | E9: =(C9+D9)/B9 -> 0.33333333 | F9: =resultat!G26 -> 1 | G9: =resultat!H26 -> 5 | H9: =(F9+G9)/B9 -> 0.66666667 | J9: =100%-(E9+H9) -> 0
A10: MHR | B10: =C10+D10+F10+G10+I10 -> 21 | C10: =resultat!E27 -> 9 | D10: =resultat!F27 -> 0 | E10: =(C10+D10)/B10 -> 0.42857143 | F10: =resultat!G27 -> 1 | G10: =resultat!H27 -> 10 | H10: =(F10+G10)/B10 -> 0.52380952 | I10: 1 | J10: =100%-(E10+H10) -> 0.047619048
A11: S PALOISE | B11: =C11+D11+F11+G11+I11 -> 7 | C11: =resultat!E29 -> 2 | D11: =resultat!F29 -> 2 | E11: =(C11+D11)/B11 -> 0.57142857 | F11: =resultat!G29 -> 1 | G11: =resultat!H29 -> 2 | H11: =(F11+G11)/B11 -> 0.42857143 | J11: =100%-(E3+H3) -> 0
A12: USAP | B12: =C12+D12+F12+G12+I12 -> 14 | C12: =resultat!E30 -> 3 | D12: =resultat!F30 -> 5 | E12: =(C12+D12)/B12 -> 0.57142857 | F12: =resultat!G30 -> 2 | G12: =resultat!H30 -> 4 | H12: =(F12+G12)/B12 -> 0.42857143 | J12: =100%-(E11+H11) -> 0
A13: RACING 92 | B13: =C13+D13+F13+G13+I13 -> 20 | C13: =resultat!E31 -> 7 | D13: =resultat!F31 -> 1 | E13: =(C13+D13)/B13 -> 0.4 | F13: =resultat!G31 -> 4 | G13: =resultat!H31 -> 8 | H13: =(F13+G13)/B13 -> 0.6 | J13: =100%-(E12+H12) -> 0
A14: RCT | B14: =C14+D14+F14+G14+I14 -> 22 | C14: =resultat!E32 -> 6 | D14: =resultat!F32 -> 3 | E14: =(C14+D14)/B14 -> 0.40909091 | F14: =resultat!G32 -> 4 | G14: =resultat!H32 -> 7 | H14: =(F14+G14)/B14 -> 0.5 | I14: 2 | J14: =100%-(E13+H13) -> 0
A15: S TOULOUSAIN | B15: =C15+D15+F15+G15+I15 -> 21 | C15: =resultat!E33 -> 2 | D15: =resultat!F33 -> 0 | E15: =(C15+D15)/B15 -> 0.095238095 | F15: =resultat!G33 -> 6 | G15: =resultat!H33 -> 11 | H15: =(F15+G15)/B15 -> 0.80952381 | I15: 2 | J15: =100%-(E14+H14) -> 0.090909091
J16: =100%-(E15+H15) -> 0.095238095

Sheet pau
A1: stat face a fac top 14 PAU
A2: face a face | B2: nbr de match | C2: victoire D | D2: victoire E | E2: % | F2: defaite D | G2: defaite E | H2: %
A3: AGEN | B3: =C3+D3+F3+G3+I3 -> 9 | C3: =resultat!I20 -> 3 | D3: =resultat!J20 -> 3 | E3: =(C3+D3)/B3 -> 0.66666667 | F3: =resultat!K20 -> 1 | G3: =resultat!L20 -> 2 | H3: =(F3+G3)/B3 -> 0.33333333
A4: UBB | B4: =C4+D4+F4+G4+I4 -> 7 | C4: =resultat!I21 -> 1 | D4: =resultat!J21 -> 1 | E4: =(C4+D4)/B4 -> 0.28571429 | F4: =resultat!K21 -> 2 | G4: =resultat!L21 -> 3 | H4: =(F4+G4)/B4 -> 0.71428571 | J4: =100%-(E4+H4) -> 0
A5: CASTRE | B5: =C5+D5+F5+G5+I5 -> 7 | C5: =resultat!I22 -> 3 | D5: =resultat!J22 -> 1 | E5: =(C5+D5)/B5 -> 0.57142857 | F5: =resultat!K22 -> 0 | G5: =resultat!L22 -> 3 | H5: =(F5+G5)/B5 -> 0.42857143 | J5: =100%-(E5+H5) -> 0
A6: ASM | B6: =C6+D6+F6+G6+I6 -> 7 | C6: =resultat!I23 -> 2 | D6: =resultat!J23 -> 0 | E6: =(C6+D6)/B6 -> 0.28571429 | F6: =resultat!K23 -> 2 | G6: =resultat!L23 -> 3 | H6: =(F6+G6)/B6 -> 0.71428571 | J6: =100%-(E6+H6) -> 0
A7: GRENOBLE | B7: =C7+D7+F7+G7+I7 -> 5 | C7: =resultat!I24 -> 2 | D7: =resultat!J24 -> 2 | E7: =(C7+D7)/B7 -> 0.8 | F7: =resultat!K24 -> 0 | G7: =resultat!L24 -> 1 | H7: =(F7+G7)/B7 -> 0.2 | J7: =100%-(E7+H7) -> 0
A8: S ROCHELAIS | B8: =C8+D8+F8+G8+I8 -> 13 | C8: =resultat!I25 -> 4 | D8: =resultat!J25 -> 0 | E8: =(C8+D8)/B8 -> 0.30769231 | F8: =resultat!K25 -> 3 | G8: =resultat!L25 -> 6 | H8: =(F8+G8)/B8 -> 0.69230769 | J8: =100%-(E8+H8) -> 0
A9: LOU | B9: =C9+D9+F9+G9+I9 -> 9 | C9: =resultat!I26 -> 3 | D9: =resultat!J26 -> 1 | E9: =(C9+D9)/B9 -> 0.44444444 | F9: =resultat!K26 -> 1 | G9: =resultat!L26 -> 4 | H9: =(F9+G9)/B9 -> 0.55555556 | J9: =100%-(E9+H9) -> 0
A10: MHR | B10: =C10+D10+F10+G10+I10 -> 7 | C10: =resultat!I27 -> 2 | D10: =resultat!J27 -> 1 | E10: =(C10+D10)/B10 -> 0.42857143 | F10: =resultat!K27 -> 1 | G10: =resultat!L27 -> 3 | H10: =(F10+G10)/B10 -> 0.57142857 | J10: =100%-(E10+H10) -> 0
A11: SF PARIS | B11: =C11+D11+F11+G11+I11 -> 7 | C11: =resultat!I28 -> 2 | D11: =resultat!J28 -> 1 | E11: =(C11+D11)/B11 -> 0.42857143 | F11: =resultat!K28 -> 2 | G11: =resultat!L28 -> 2 | H11: =(F11+G11)/B11 -> 0.57142857 | J11: =100%-(E11+H11) -> 0
A12: USAP | B12: =C12+D12+F12+G12+I12 -> 3 | C12: =resultat!I30 -> 2 | D12: =resultat!J30 -> 0 | E12: =(C12+D12)/B12 -> 0.66666667 | F12: =resultat!K30 -> 0 | G12: =resultat!L30 -> 1 | H12: =(F12+G12)/B12 -> 0.33333333 | J12: =100%-(E3+H3) -> 0
A13: RACING 92 | B13: =C13+D13+F13+G13+I13 -> 7 | C13: =resultat!I31 -> 2 | D13: =resultat!J31 -> 0 | E13: =(C13+D13)/B13 -> 0.28571429 | F13: =resultat!K31 -> 0 | G13: =resultat!L31 -> 4 | H13: =(F13+G13)/B13 -> 0.57142857 | I13: 1 | J13: =100%-(E12+H12) -> 0
A14: RCT | B14: =C14+D14+F14+G14+I14 -> 7 | C14: =resultat!I32 -> 2 | D14: =resultat!J32 -> 0 | E14: =(C14+D14)/B14 -> 0.28571429 | F14: =resultat!K32 -> 2 | G14: =resultat!L32 -> 3 | H14: =(F14+G14)/B14 -> 0.71428571 | J14: =100%-(E13+H13) -> 0.14285714
A15: S TOULOUSAIN | B15: =C15+D15+F15+G15+I15 -> 7 | C15: =resultat!I33 -> 2 | D15: =resultat!J33 -> 1 | E15: =(C15+D15)/B15 -> 0.42857143 | F15: =resultat!K33 -> 2 | G15: =resultat!L33 -> 2 | H15: =(F15+G15)/B15 -> 0.57142857 | J15: =100%-(E14+H14) -> 0
J16: =100%-(E15+H15) -> 0

Sheet perpignan
A1: stat face a fac top 14 PERPIGNAN
A2: face a face | B2: nbr de match | C2: victoire D | D2: victoire E | E2: % | F2: defaite D | G2: defaite E | H2: % | I2: nul
A3: AGEN | B3: =C3+D3+F3+G3+I3 -> 12 | C3: =resultat!M20 -> 4 | D3: =resultat!N20 -> 1 | E3: =(C3+D3)/B3 -> 0.41666667 | F3: =resultat!O20 -> 1 | G3: =resultat!P20 -> 4 | H3: =(F3+G3)/B3 -> 0.41666667 | I3: 2
A4: UBB | B4: =C4+D4+F4+G4+I4 -> 7 | C4: =resultat!M21 -> 3 | D4: =resultat!N21 -> 0 | E4: =(C4+D4)/B4 -> 0.42857143 | F4: =resultat!O21 -> 1 | G4: =resultat!P21 -> 3 | H4: =(F4+G4)/B4 -> 0.57142857 | J4: =100%-(E4+H4) -> 0
A5: CASTRE | B5: =C5+D5+F5+G5+I5 -> 13 | C5: =resultat!M22 -> 4 | D5: =resultat!N22 -> 2 | E5: =(C5+D5)/B5 -> 0.46153846 | F5: =resultat!O22 -> 3 | G5: =resultat!P22 -> 4 | H5: =(F5+G5)/B5 -> 0.53846154 | J5: =100%-(E5+H5) -> 0
A6: ASM | B6: =C6+D6+F6+G6+I6 -> 15 | C6: =resultat!M23 -> 4 | D6: =resultat!N23 -> 1 | E6: =(C6+D6)/B6 -> 0.33333333 | F6: =resultat!O23 -> 4 | G6: =resultat!P23 -> 6 | H6: =(F6+G6)/B6 -> 0.66666667 | J6: =100%-(E6+H6) -> 0
A7: GRENOBLE | B7: =C7+D7+F7+G7+I7 -> 8 | C7: =resultat!M24 -> 4 | D7: =resultat!N24 -> 1 | E7: =(C7+D7)/B7 -> 0.625 | F7: =resultat!O24 -> 0 | G7: =resultat!P24 -> 3 | H7: =(F7+G7)/B7 -> 0.375 | J7: =100%-(E7+H7) -> 0
A8: S ROCHELAIS | B8: =C8+D8+F8+G8+I8 -> 3 | C8: =resultat!M25 -> 1 | D8: =resultat!N25 -> 1 | E8: =(C8+D8)/B8 -> 0.66666667 | F8: =resultat!O25 -> 0 | G8: =resultat!P25 -> 1 | H8: =(F8+G8)/B8 -> 0.33333333 | J8: =100%-(E8+H8) -> 0
A9: LOU | B9: =C9+D9+F9+G9+I9 -> 5 | C9: =resultat!M26 -> 2 | D9: =resultat!N26 -> 0 | E9: =(C9+D9)/B9 -> 0.4 | F9: =resultat!O26 -> 1 | G9: =resultat!P26 -> 2 | H9: =(F9+G9)/B9 -> 0.6 | J9: =100%-(E9+H9) -> 0
A10: MHR | B10: =C10+D10+F10+G10+I10 -> 13 | C10: =resultat!M27 -> 5 | D10: =resultat!N27 -> 1 | E10: =(C10+D10)/B10 -> 0.46153846 | F10: =resultat!O27 -> 2 | G10: =resultat!P27 -> 4 | H10: =(F10+G10)/B10 -> 0.46153846 | I10: 1 | J10: =100%-(E10+H10) -> 0.076923077
A11: SF PARIS | B11: =C11+D11+F11+G11+I11 -> 14 | C11: =resultat!M28 -> 4 | D11: =resultat!N28 -> 2 | E11: =(C11+D11)/B11 -> 0.42857143 | F11: =resultat!O28 -> 5 | G11: =resultat!P28 -> 3 | H11: =(F11+G11)/B11 -> 0.57142857 | J11: =100%-(E11+H11) -> 0
A12: S PALOISE | B12: =C12+D12+F12+G12+I12 -> 3 | C12: =resultat!M29 -> 1 | D12: =resultat!N29 -> 0 | E12: =(C12+D12)/B12 -> 0.33333333 | F12: =resultat!O29 -> 0 | G12: =resultat!P29 -> 2 | H12: =(F12+G12)/B12 -> 0.66666667 | J12: =100%-(E12+H12) -> 0
A13: RACING 92 | B13: =C13+D13+F13+G13+I13 -> 11 | C13: =resultat!M31 -> 3 | D13: =resultat!N31 -> 1 | E13: =(C13+D13)/B13 -> 0.36363636 | F13: =resultat!O31 -> 0 | G13: =resultat!P31 -> 4 | H13: =(F13+G13)/B13 -> 0.36363636 | I13: 3 | J13: =100%-(E3+H3) -> 0.16666667
A14: RCT | B14: =C14+D14+F14+G14+I14 -> 13 | C14: =resultat!M32 -> 2 | D14: =resultat!N32 -> 1 | E14: =(C14+D14)/B14 -> 0.23076923 | F14: =resultat!O32 -> 3 | G14: =resultat!P32 -> 6 | H14: =(F14+G14)/B14 -> 0.69230769 | I14: 1 | J14: =100%-(E13+H13) -> 0.27272727
A15: S TOULOUSAIN | B15: =C15+D15+F15+G15+I15 -> 14 | C15: =resultat!M33 -> 6 | D15: =resultat!N33 -> 1 | E15: =(C15+D15)/B15 -> 0.5 | F15: =resultat!O33 -> 2 | G15: =resultat!P33 -> 5 | H15: =(F15+G15)/B15 -> 0.5 | J15: =100%-(E14+H14) -> 0.076923077
J16: =100%-(E15+H15) -> 0

Sheet racing 92
A1: stat face a fac top 14 RACING 92
A2: face a face | B2: nbr de match | C2: victoire D | D2: victoire E | E2: % | F2: defaite D | G2: defaite E | H2: %
A3: AGEN | B3: 11 | C3: =resultat!Q20 -> 6 | D3: =resultat!R20 -> 1 | E3: =(C3+D3)/B3 -> 0.63636364 | F3: =resultat!S20 -> 0 | G3: =resultat!T20 -> 4 | H3: =(F3+G3)/B3 -> 0.36363636
A4: UBB | B4: 14 | C4: =resultat!Q21 -> 7 | D4: =resultat!R21 -> 3 | E4: =(C4+D4)/B4 -> 0.71428571 | F4: =resultat!S21 -> 0 | G4: =resultat!T21 -> 4 | H4: =(F4+G4)/B4 -> 0.28571429 | J4: =100%-(E4+H4) -> 0
A5: CASTRE | B5: 20 | C5: =resultat!Q22 -> 9 | D5: =resultat!R22 -> 3 | E5: =(C5+D5)/B5 -> 0.6 | F5: =resultat!S22 -> 2 | G5: =resultat!T22 -> 6 | H5: =(F5+G5)/B5 -> 0.4 | J5: =100%-(E5+H5) -> 0
A6: ASM | B6: 22 | C6: =resultat!Q23 -> 7 | D6: =resultat!R23 -> 1 | E6: =(C6+D6)/B6 -> 0.36363636 | F6: =resultat!S23 -> 2 | G6: =resultat!T23 -> 10 | H6: =(F6+G6)/B6 -> 0.54545455 | I6: 2 | J6: =100%-(E6+H6) -> 0.090909091
A7: GRENOBLE | B7: 11 | C7: =resultat!Q24 -> 5 | D7: =resultat!R24 -> 2 | E7: =(C7+D7)/B7 -> 0.63636364 | F7: =resultat!S24 -> 1 | G7: =resultat!T24 -> 3 | H7: =(F7+G7)/B7 -> 0.36363636 | J7: =100%-(E7+H7) -> 0
A8: S ROCHELAIS | B8: 11 | C8: =resultat!Q25 -> 4 | D8: =resultat!R25 -> 2 | E8: =(C8+D8)/B8 -> 0.54545455 | F8: =resultat!S25 -> 1 | G8: =resultat!T25 -> 2 | H8: =(F8+G8)/B8 -> 0.27272727 | I8: 2 | J8: =100%-(E8+H8) -> 0.18181818
A9: LOU | B9: 9 | C9: =resultat!Q26 -> 3 | D9: =resultat!R26 -> 3 | E9: =(C9+D9)/B9 -> 0.66666667 | F9: =resultat!S26 -> 2 | G9: =resultat!T26 -> 1 | H9: =(F9+G9)/B9 -> 0.33333333 | J9: =100%-(E9+H9) -> 0
A10: MHR | B10: 21 | C10: =resultat!Q27 -> 7 | D10: =resultat!R27 -> 4 | E10: =(C10+D10)/B10 -> 0.52380952 | F10: =resultat!S27 -> 2 | G10: =resultat!T27 -> 7 | H10: =(F10+G10)/B10 -> 0.42857143 | I10: 1 | J10: =100%-(E10+H10) -> 0.047619048
A11: SF PARIS | B11: 20 | C11: =resultat!Q28 -> 8 | D11: =resultat!R28 -> 4 | E11: =(C11+D11)/B11 -> 0.6 | F11: =resultat!S28 -> 1 | G11: =resultat!T28 -> 7 | H11: =(F11+G11)/B11 -> 0.4 | J11: =100%-(E11+H11) -> 0
A12: S PALOISE | B12: 7 | C12: =resultat!Q29 -> 4 | D12: =resultat!R29 -> 0 | E12: =(C12+D12)/B12 -> 0.57142857 | F12: =resultat!S29 -> 0 | G12: =resultat!T29 -> 2 | H12: =(F12+G12)/B12 -> 0.28571429 | I12: 1 | J12: =100%-(E12+H12) -> 0.14285714
A13: USAP | B13: 11 | C13: =resultat!Q30 -> 4 | D13: =resultat!R30 -> 0 | E13: =(C13+D13)/B13 -> 0.36363636 | F13: =resultat!S30 -> 1 | G13: =resultat!T30 -> 3 | H13: =(F13+G13)/B13 -> 0.36363636 | I13: 3 | J13: =100%-(E13+H13) -> 0.27272727
A14: RCT | B14: 22 | C14: =resultat!Q32 -> 6 | D14: =resultat!R32 -> 6 | E14: =(C14+D14)/B14 -> 0.54545455 | F14: =resultat!S32 -> 3 | G14: =resultat!T32 -> 7 | H14: =(F14+G14)/B14 -> 0.45454545 | J14: =100%-(E3+H3) -> 0
A15: S TOULOUSAIN | B15: 22 | C15: =resultat!Q33 -> 8 | D15: =resultat!R33 -> 2 | E15: =(C15+D15)/B15 -> 0.45454545 | F15: =resultat!S33 -> 2 | G15: =resultat!T33 -> 10 | H15: =(F15+G15)/B15 -> 0.54545455 | J15: =100%-(E14+H14) -> 0
J16: =100%-(E15+H15) -> 0

Sheet toulon
A1: stat face a fac top 14 TOULON
A2: face a face | B2: nbr de match | C2: victoire D | D2: victoire E | E2: % | F2: defaite D | G2: defaite E | H2: %
A3: AGEN | B3: 11 | C3: =resultat!U20 -> 6 | D3: =resultat!V20 -> 2 | E3: =(C3+D3)/B3 -> 0.72727273 | F3: =resultat!W20 -> 0 | G3: =resultat!X20 -> 3 | H3: =(F3+G3)/B3 -> 0.27272727
A4: UBB | B4: 15 | C4: =resultat!U21 -> 7 | D4: =resultat!V21 -> 3 | E4: =(C4+D4)/B4 -> 0.66666667 | F4: =resultat!W21 -> 0 | G4: =resultat!X21 -> 5 | H4: =(F4+G4)/B4 -> 0.33333333 | J4: =100%-(E4+H4) -> 0
A5: CASTRE | B5: 24 | C5: =resultat!U22 -> 11 | D5: =resultat!V22 -> 0 | E5: =(C5+D5)/B5 -> 0.45833333 | F5: =resultat!W22 -> 2 | G5: =resultat!X22 -> 9 | H5: =(F5+G5)/B5 -> 0.45833333 | I5: 2 | J5: =100%-(E5+H5) -> 0.083333333
A6: ASM | B6: 24 | C6: =resultat!U23 -> 7 | D6: =resultat!V23 -> 3 | E6: =(C6+D6)/B6 -> 0.41666667 | F6: =resultat!W23 -> 2 | G6: =resultat!X23 -> 11 | H6: =(F6+G6)/B6 -> 0.54166667 | I6: 1 | J6: =100%-(E6+H6) -> 0.041666667
A7: GRENOBLE | B7: 11 | C7: =resultat!U24 -> 5 | D7: =resultat!V24 -> 1 | E7: =(C7+D7)/B7 -> 0.54545455 | F7: =resultat!W24 -> 1 | G7: =resultat!X24 -> 3 | H7: =(F7+G7)/B7 -> 0.36363636 | I7: 1 | J7: =100%-(E7+H7) -> 0.090909091
A8: S ROCHELAIS | B8: 12 | C8: =resultat!U25 -> 4 | D8: =resultat!V25 -> 3 | E8: =(C8+D8)/B8 -> 0.58333333 | F8: =resultat!W25 -> 2 | G8: =resultat!X25 -> 2 | H8: =(F8+G8)/B8 -> 0.33333333 | I8: 1 | J8: =100%-(E8+H8) -> 0.083333333
A9: LOU | B9: 10 | C9: =resultat!U26 -> 5 | D9: =resultat!V26 -> 2 | E9: =(C9+D9)/B9 -> 0.7 | F9: =resultat!W26 -> 0 | G9: =resultat!X26 -> 2 | H9: =(F9+G9)/B9 -> 0.2 | I9: 1 | J9: =100%-(E9+H9) -> 0.1
A10: MHR | B10: 22 | C10: =resultat!U27 -> 11 | D10: =resultat!V27 -> 1 | E10: =(C10+D10)/B10 -> 0.54545455 | F10: =resultat!W27 -> 0 | G10: =resultat!X27 -> 9 | H10: =(F10+G10)/B10 -> 0.40909091 | I10: 1 | J10: =100%-(E10+H10) -> 0.045454545
A11: SF PARIS | B11: 22 | C11: =resultat!U28 -> 7 | D11: =resultat!V28 -> 4 | E11: =(C11+D11)/B11 -> 0.5 | F11: =resultat!W28 -> 3 | G11: =resultat!X28 -> 6 | H11: =(F11+G11)/B11 -> 0.40909091 | I11: 2 | J11: =100%-(E11+H11) -> 0.090909091
A12: S PALOISE | B12: 7 | C12: =resultat!U29 -> 3 | D12: =resultat!V29 -> 2 | E12: =(C12+D12)/B12 -> 0.71428571 | F12: =resultat!W29 -> 0 | G12: =resultat!X29 -> 2 | H12: =(F12+G12)/B12 -> 0.28571429 | J12: =100%-(E12+H12) -> 0
A13: USAP | B13: 13 | C13: =resultat!U30 -> 6 | D13: =resultat!V30 -> 3 | E13: =(C13+D13)/B13 -> 0.69230769 | F13: =resultat!W30 -> 1 | G13: =resultat!X30 -> 2 | H13: =(F13+G13)/B13 -> 0.23076923 | I13: 1 | J13: =100%-(E13+H13) -> 0.076923077
A14: RACING 92 | B14: 22 | C14: =resultat!U31 -> 7 | D14: =resultat!V31 -> 3 | E14: =(C14+D14)/B14 -> 0.45454545 | F14: =resultat!W31 -> 6 | G14: =resultat!X31 -> 6 | H14: =(F14+G14)/B14 -> 0.54545455 | J14: =100%-(E14+H14) -> 0
A15: S TOULOUSAIN | B15: 23 | C15: =resultat!U33 -> 9 | D15: =resultat!V33 -> 2 | E15: =(C15+D15)/B15 -> 0.47826087 | F15: =resultat!W33 -> 2 | G15: =resultat!X33 -> 11 | H15: =(F15+G15)/B15 -> 0.56521739 | J15: =100%-(E3+H3) -> 0
J16: =100%-(E15+H15) -> -0.043478261

Sheet toulouse
A1: stat face a fac top 14TOULOUSE
A2: face a face | B2: nbr de match | C2: victoire D | D2: victoire E | E2: % | F2: defaite D | G2: defaite E | H2: % | J2: %
A3: AGEN | B3: =C3+D3+F3+G3+I3 -> 11 | C3: =resultat!Y20 -> 6 | D3: =resultat!Z20 -> 4 | E3: =(C3+D3)/B3 -> 0.90909091 | F3: =resultat!AA20 -> 0 | G3: =resultat!AB20 -> 1 | H3: =(F3+G3)/B3 -> 0.090909091
A4: UBB | B4: =C4+D4+F4+G4+I4 -> 15 | C4: =resultat!Y21 -> 7 | D4: =resultat!Z21 -> 3 | E4: =(C4+D4)/B4 -> 0.66666667 | F4: =resultat!AA21 -> 0 | G4: =resultat!AB21 -> 4 | H4: =(F4+G4)/B4 -> 0.26666667 | I4: 1 | J4: =100%-(E4+H4) -> 0.066666667
A5: CASTRE | B5: =C5+D5+F5+G5+I5 -> 24 | C5: =resultat!Y22 -> 11 | D5: =resultat!Z22 -> 3 | E5: =(C5+D5)/B5 -> 0.58333333 | F5: =resultat!AA22 -> 3 | G5: =resultat!AB22 -> 7 | H5: =(F5+G5)/B5 -> 0.41666667 | J5: =100%-(E5+H5) -> 0
A6: ASM | B6: =C6+D6+F6+G6+I6 -> 24 | C6: =resultat!Y23 -> 9 | D6: =resultat!Z23 -> 0 | E6: =(C6+D6)/B6 -> 0.375 | F6: =resultat!AA23 -> 3 | G6: =resultat!AB23 -> 11 | H6: =(F6+G6)/B6 -> 0.58333333 | I6: 1 | J6: =100%-(E6+H6) -> 0.041666667
A7: GRENOBLE | B7: =C7+D7+F7+G7+I7 -> 11 | C7: =resultat!Y24 -> 4 | D7: =resultat!Z24 -> 2 | E7: =(C7+D7)/B7 -> 0.54545455 | F7: =resultat!AA24 -> 1 | G7: =resultat!AB24 -> 4 | H7: =(F7+G7)/B7 -> 0.45454545 | J7: =100%-(E7+H7) -> 0
A8: S ROCHELAIS | B8: =C8+D8+F8+G8+I8 -> 11 | C8: =resultat!Y25 -> 5 | D8: =resultat!Z25 -> 1 | E8: =(C8+D8)/B8 -> 0.54545455 | F8: =resultat!AA25 -> 1 | G8: =resultat!AB25 -> 4 | H8: =(F8+G8)/B8 -> 0.45454545 | J8: =100%-(E8+H8) -> 0
A9: LOU | B9: =C9+D9+F9+G9+I9 -> 8 | C9: =resultat!Y26 -> 3 | D9: =resultat!Z26 -> 3 | E9: =(C9+D9)/B9 -> 0.75 | F9: =resultat!AA26 -> 1 | G9: =resultat!AB26 -> 1 | H9: =(F9+G9)/B9 -> 0.25 | J9: =100%-(E9+H9) -> 0
A10: MHR | B10: =C10+D10+F10+G10+I10 -> 22 | C10: =resultat!Y27 -> 9 | D10: =resultat!Z27 -> 3 | E10: =(C10+D10)/B10 -> 0.54545455 | F10: =resultat!AA27 -> 2 | G10: =resultat!AB27 -> 8 | H10: =(F10+G10)/B10 -> 0.45454545 | J10: =100%-(E10+H10) -> 0
A11: SF PARIS | B11: =C11+D11+F11+G11+I11 -> 21 | C11: =resultat!Y28 -> 11 | D11: =resultat!Z28 -> 6 | E11: =(C11+D11)/B11 -> 0.80952381 | F11: =resultat!AA28 -> 0 | G11: =resultat!AB28 -> 2 | H11: =(F11+G11)/B11 -> 0.095238095 | I11: 2 | J11: =100%-(E11+H11) -> 0.095238095
A12: S PALOISE | B12: =C12+D12+F12+G12+I12 -> 7 | C12: =resultat!Y29 -> 2 | D12: =resultat!Z29 -> 2 | E12: =(C12+D12)/B12 -> 0.57142857 | F12: =resultat!AA29 -> 1 | G12: =resultat!AB29 -> 2 | H12: =(F12+G12)/B12 -> 0.42857143 | J12: =100%-(E12+H12) -> 0
A13: USAP | B13: =C13+D13+F13+G13+I13 -> 14 | C13: =resultat!Y30 -> 5 | D13: =resultat!Z30 -> 2 | E13: =(C13+D13)/B13 -> 0.5 | F13: =resultat!AA30 -> 1 | G13: =resultat!AB30 -> 6 | H13: =(F13+G13)/B13 -> 0.5 | J13: =100%-(E13+H13) -> 0
A14: RACING 92 | B14: =C14+D14+F14+G14+I14 -> 22 | C14: =resultat!Y31 -> 10 | D14: =resultat!Z31 -> 2 | E14: =(C14+D14)/B14 -> 0.54545455 | F14: =resultat!AA31 -> 2 | G14: =resultat!AB31 -> 8 | H14: =(F14+G14)/B14 -> 0.45454545 | J14: =100%-(E14+H14) -> 0
A15: RCT | B15: =C15+D15+F15+G15+I15 -> 23 | C15: =resultat!Y32 -> 10 | D15: =resultat!Z32 -> 2 | E15: =(C15+D15)/B15 -> 0.52173913 | F15: =resultat!AA32 -> 2 | G15: =resultat!AB32 -> 9 | H15: =(F15+G15)/B15 -> 0.47826087 | J15: =100%-(E15+H15) -> 0
J16: =100%-(E3+H3) -> 0
