Workbook
Name affaire: OFFSET(Feuil1!$E$1,1,,COUNTA(Feuil1!$E:$E)-1)
Name x: OFFSET(Feuil1!$G$1,1,,COUNTA(Feuil1!$E:$E)-1)

Sheet Feuil1
A1: MOIS | B1: JOUR | C1: EQUIPE | D1: SECTEUR | E1: AFFAIRE | F1: ASSISTANCE: n°Demande papier | G1: AFFAIRE TERMINEE | H1: SPECIALITE | I1: TEMPS
A2: juin | B2: 40497 | C2: 1.204 | D2: 3 | E2: 2 | G2: x | H2: Electricque | I2: 13 h
A3: juillet | B3: 40497 | C3: 1.204 | D3: 3 | E3: 2 | H3: Electricque | I3: 14 h
A4: août | B4: 40497 | C4: 1.204 | D4: 3 | E4: 3 | H4: Electricque | I4: 15 h
A5: septembre | B5: 40497 | C5: 1.203 | D5: 3 | E5: 3 | H5: Electricque | I5: 16 h
A6: octobre | B6: 40497 | C6: 1.204 | D6: 3 | E6: 2 | H6: Electricque | I6: 17 h
A7: novembre | B7: 40498 | C7: 1.205 | D7: 3 | E7: 3 | H7: Electricque | I7: 18 h
A8: décembre | B8: 40498 | C8: 1.205 | D8: 3 | E8: 4 | G8: x | H8: Electricque | I8: 19 h
A9: janvier | B9: 40498 | C9: 1.205 | D9: 3 | E9: 4 | H9: Electricque | I9: 20 h
A10: février | B10: 40498 | C10: 1.205 | D10: 3 | E10: 4 | H10: Electricque | I10: 21 h
A11: mars | B11: 40498 | C11: 1.204 | D11: 3 | E11: 5 | H11: Electricque | I11: 22 h
A12: avril | B12: 40499 | C12: 1.206 | D12: 3 | E12: 5 | H12: Electricque | I12: 23 h
A13: mai | B13: 40499 | C13: 1.204 | D13: 3 | E13: 5 | H13: Electricque | I13: 24 h
A14: juin | B14: 40499 | C14: 1.205 | D14: 3 | E14: 6 | G14: x | H14: Electricque | I14: 25 h
A15: juillet | B15: 40499 | C15: 1.205 | D15: 3 | E15: 6 | H15: Electricque | I15: 26 h
A16: août | B16: 40500 | C16: 1.204 | D16: 3 | E16: 7 | H16: Electricque | I16: 27 h
A17: septembre | B17: 40500 | C17: 1.206 | D17: 3 | E17: 7 | H17: Electricque | I17: 28 h
A18: octobre | B18: 40500 | C18: 1.204 | D18: 3 | E18: 7 | H18: Electricque | I18: 29 h

Sheet Feuil2
A1: MOIS | B1: JOUR | C1: EQUIPE | D1: SECTEUR | E1: AFFAIRE | F1: ASSISTANCE: n°Demande papier | G1: AFFAIRE TERMINEE | H1: SPECIALITE | I1: TEMPS
A2: {=IFERROR(INDEX(Feuil1!A:A,SMALL(IF(affaire=$E2,ROW(x)),COUNTIF($E$2:$E2,$E2))),"")} -> juin | B2: {=IFERROR(INDEX(Feuil1!B:B,SMALL(IF(affaire=$E2,ROW(x)),COUNTIF($E$2:$E2,$E2))),"")} -> 40497 | C2: {=IFERROR(INDEX(Feuil1!C:C,SMALL(IF(affaire=$E2,ROW(x)),COUNTIF($E$2:$E2,$E2))),"")} -> 1.204 | D2: {=IFERROR(INDEX(Feuil1!D:D,SMALL(IF(affaire=$E2,ROW(x)),COUNTIF($E$2:$E2,$E2))),"")} -> 3 | E2: {=IFERROR(INDEX(affaire,SMALL(IFERROR(MATCH(affaire,IF(x="x",affaire),0),""),ROW(A1))),"")} -> 2 | F2: {=IFERROR(INDEX(Feuil1!F:F,SMALL(IF(affaire=$E2,ROW(x)),COUNTIF($E$2:$E2,$E2))),"")} -> 0 | G2: {=IFERROR(INDEX(Feuil1!G:G,SMALL(IF(affaire=$E2,ROW(x)),COUNTIF($E$2:$E2,$E2))),"")} -> x | H2: {=IFERROR(INDEX(Feuil1!H:H,SMALL(IF(affaire=$E2,ROW(x)),COUNTIF($E$2:$E2,$E2))),"")} -> Electricque | I2: {=IFERROR(INDEX(Feuil1!I:I,SMALL(IF(affaire=$E2,ROW(x)),COUNTIF($E$2:$E2,$E2))),"")} -> 13 h
A3: {=IFERROR(INDEX(Feuil1!A:A,SMALL(IF(affaire=$E3,ROW(x)),COUNTIF($E$2:$E3,$E3))),"")} -> juillet | B3: {=IFERROR(INDEX(Feuil1!B:B,SMALL(IF(affaire=$E3,ROW(x)),COUNTIF($E$2:$E3,$E3))),"")} -> 40497 | C3: {=IFERROR(INDEX(Feuil1!C:C,SMALL(IF(affaire=$E3,ROW(x)),COUNTIF($E$2:$E3,$E3))),"")} -> 1.204 | D3: {=IFERROR(INDEX(Feuil1!D:D,SMALL(IF(affaire=$E3,ROW(x)),COUNTIF($E$2:$E3,$E3))),"")} -> 3 | E3: {=IFERROR(INDEX(affaire,SMALL(IFERROR(MATCH(affaire,IF(x="x",affaire),0),""),ROW(A2))),"")} -> 2 | F3: {=IFERROR(INDEX(Feuil1!F:F,SMALL(IF(affaire=$E3,ROW(x)),COUNTIF($E$2:$E3,$E3))),"")} -> 0 | G3: {=IFERROR(INDEX(Feuil1!G:G,SMALL(IF(affaire=$E3,ROW(x)),COUNTIF($E$2:$E3,$E3))),"")} -> 0 | H3: {=IFERROR(INDEX(Feuil1!H:H,SMALL(IF(affaire=$E3,ROW(x)),COUNTIF($E$2:$E3,$E3))),"")} -> Electricque | I3: {=IFERROR(INDEX(Feuil1!I:I,SMALL(IF(affaire=$E3,ROW(x)),COUNTIF($E$2:$E3,$E3))),"")} -> 14 h
A4: {=IFERROR(INDEX(Feuil1!A:A,SMALL(IF(affaire=$E4,ROW(x)),COUNTIF($E$2:$E4,$E4))),"")} -> octobre | B4: {=IFERROR(INDEX(Feuil1!B:B,SMALL(IF(affaire=$E4,ROW(x)),COUNTIF($E$2:$E4,$E4))),"")} -> 40497 | C4: {=IFERROR(INDEX(Feuil1!C:C,SMALL(IF(affaire=$E4,ROW(x)),COUNTIF($E$2:$E4,$E4))),"")} -> 1.204 | D4: {=IFERROR(INDEX(Feuil1!D:D,SMALL(IF(affaire=$E4,ROW(x)),COUNTIF($E$2:$E4,$E4))),"")} -> 3 | E4: {=IFERROR(INDEX(affaire,SMALL(IFERROR(MATCH(affaire,IF(x="x",affaire),0),""),ROW(A3))),"")} -> 2 | F4: {=IFERROR(INDEX(Feuil1!F:F,SMALL(IF(affaire=$E4,ROW(x)),COUNTIF($E$2:$E4,$E4))),"")} -> 0 | G4: {=IFERROR(INDEX(Feuil1!G:G,SMALL(IF(affaire=$E4,ROW(x)),COUNTIF($E$2:$E4,$E4))),"")} -> 0 | H4: {=IFERROR(INDEX(Feuil1!H:H,SMALL(IF(affaire=$E4,ROW(x)),COUNTIF($E$2:$E4,$E4))),"")} -> Electricque | I4: {=IFERROR(INDEX(Feuil1!I:I,SMALL(IF(affaire=$E4,ROW(x)),COUNTIF($E$2:$E4,$E4))),"")} -> 17 h
A5: {=IFERROR(INDEX(Feuil1!A:A,SMALL(IF(affaire=$E5,ROW(x)),COUNTIF($E$2:$E5,$E5))),"")} -> décembre | B5: {=IFERROR(INDEX(Feuil1!B:B,SMALL(IF(affaire=$E5,ROW(x)),COUNTIF($E$2:$E5,$E5))),"")} -> 40498 | C5: {=IFERROR(INDEX(Feuil1!C:C,SMALL(IF(affaire=$E5,ROW(x)),COUNTIF($E$2:$E5,$E5))),"")} -> 1.205 | D5: {=IFERROR(INDEX(Feuil1!D:D,SMALL(IF(affaire=$E5,ROW(x)),COUNTIF($E$2:$E5,$E5))),"")} -> 3 | E5: {=IFERROR(INDEX(affaire,SMALL(IFERROR(MATCH(affaire,IF(x="x",affaire),0),""),ROW(A4))),"")} -> 4 | F5: {=IFERROR(INDEX(Feuil1!F:F,SMALL(IF(affaire=$E5,ROW(x)),COUNTIF($E$2:$E5,$E5))),"")} -> 0 | G5: {=IFERROR(INDEX(Feuil1!G:G,SMALL(IF(affaire=$E5,ROW(x)),COUNTIF($E$2:$E5,$E5))),"")} -> x | H5: {=IFERROR(INDEX(Feuil1!H:H,SMALL(IF(affaire=$E5,ROW(x)),COUNTIF($E$2:$E5,$E5))),"")} -> Electricque | I5: {=IFERROR(INDEX(Feuil1!I:I,SMALL(IF(affaire=$E5,ROW(x)),COUNTIF($E$2:$E5,$E5))),"")} -> 19 h
A6: {=IFERROR(INDEX(Feuil1!A:A,SMALL(IF(affaire=$E6,ROW(x)),COUNTIF($E$2:$E6,$E6))),"")} -> janvier | B6: {=IFERROR(INDEX(Feuil1!B:B,SMALL(IF(affaire=$E6,ROW(x)),COUNTIF($E$2:$E6,$E6))),"")} -> 40498 | C6: {=IFERROR(INDEX(Feuil1!C:C,SMALL(IF(affaire=$E6,ROW(x)),COUNTIF($E$2:$E6,$E6))),"")} -> 1.205 | D6: {=IFERROR(INDEX(Feuil1!D:D,SMALL(IF(affaire=$E6,ROW(x)),COUNTIF($E$2:$E6,$E6))),"")} -> 3 | E6: {=IFERROR(INDEX(affaire,SMALL(IFERROR(MATCH(affaire,IF(x="x",affaire),0),""),ROW(A5))),"")} -> 4 | F6: {=IFERROR(INDEX(Feuil1!F:F,SMALL(IF(affaire=$E6,ROW(x)),COUNTIF($E$2:$E6,$E6))),"")} -> 0 | G6: {=IFERROR(INDEX(Feuil1!G:G,SMALL(IF(affaire=$E6,ROW(x)),COUNTIF($E$2:$E6,$E6))),"")} -> 0 | H6: {=IFERROR(INDEX(Feuil1!H:H,SMALL(IF(affaire=$E6,ROW(x)),COUNTIF($E$2:$E6,$E6))),"")} -> Electricque | I6: {=IFERROR(INDEX(Feuil1!I:I,SMALL(IF(affaire=$E6,ROW(x)),COUNTIF($E$2:$E6,$E6))),"")} -> 20 h
A7: {=IFERROR(INDEX(Feuil1!A:A,SMALL(IF(affaire=$E7,ROW(x)),COUNTIF($E$2:$E7,$E7))),"")} -> février | B7: {=IFERROR(INDEX(Feuil1!B:B,SMALL(IF(affaire=$E7,ROW(x)),COUNTIF($E$2:$E7,$E7))),"")} -> 40498 | C7: {=IFERROR(INDEX(Feuil1!C:C,SMALL(IF(affaire=$E7,ROW(x)),COUNTIF($E$2:$E7,$E7))),"")} -> 1.205 | D7: {=IFERROR(INDEX(Feuil1!D:D,SMALL(IF(affaire=$E7,ROW(x)),COUNTIF($E$2:$E7,$E7))),"")} -> 3 | E7: {=IFERROR(INDEX(affaire,SMALL(IFERROR(MATCH(affaire,IF(x="x",affaire),0),""),ROW(A6))),"")} -> 4 | F7: {=IFERROR(INDEX(Feuil1!F:F,SMALL(IF(affaire=$E7,ROW(x)),COUNTIF($E$2:$E7,$E7))),"")} -> 0 | G7: {=IFERROR(INDEX(Feuil1!G:G,SMALL(IF(affaire=$E7,ROW(x)),COUNTIF($E$2:$E7,$E7))),"")} -> 0 | H7: {=IFERROR(INDEX(Feuil1!H:H,SMALL(IF(affaire=$E7,ROW(x)),COUNTIF($E$2:$E7,$E7))),"")} -> Electricque | I7: {=IFERROR(INDEX(Feuil1!I:I,SMALL(IF(affaire=$E7,ROW(x)),COUNTIF($E$2:$E7,$E7))),"")} -> 21 h
A8: {=IFERROR(INDEX(Feuil1!A:A,SMALL(IF(affaire=$E8,ROW(x)),COUNTIF($E$2:$E8,$E8))),"")} -> juin | B8: {=IFERROR(INDEX(Feuil1!B:B,SMALL(IF(affaire=$E8,ROW(x)),COUNTIF($E$2:$E8,$E8))),"")} -> 40499 | C8: {=IFERROR(INDEX(Feuil1!C:C,SMALL(IF(affaire=$E8,ROW(x)),COUNTIF($E$2:$E8,$E8))),"")} -> 1.205 | D8: {=IFERROR(INDEX(Feuil1!D:D,SMALL(IF(affaire=$E8,ROW(x)),COUNTIF($E$2:$E8,$E8))),"")} -> 3 | E8: {=IFERROR(INDEX(affaire,SMALL(IFERROR(MATCH(affaire,IF(x="x",affaire),0),""),ROW(A7))),"")} -> 6 | F8: {=IFERROR(INDEX(Feuil1!F:F,SMALL(IF(affaire=$E8,ROW(x)),COUNTIF($E$2:$E8,$E8))),"")} -> 0 | G8: {=IFERROR(INDEX(Feuil1!G:G,SMALL(IF(affaire=$E8,ROW(x)),COUNTIF($E$2:$E8,$E8))),"")} -> x | H8: {=IFERROR(INDEX(Feuil1!H:H,SMALL(IF(affaire=$E8,ROW(x)),COUNTIF($E$2:$E8,$E8))),"")} -> Electricque | I8: {=IFERROR(INDEX(Feuil1!I:I,SMALL(IF(affaire=$E8,ROW(x)),COUNTIF($E$2:$E8,$E8))),"")} -> 25 h
A9: {=IFERROR(INDEX(Feuil1!A:A,SMALL(IF(affaire=$E9,ROW(x)),COUNTIF($E$2:$E9,$E9))),"")} -> juillet | B9: {=IFERROR(INDEX(Feuil1!B:B,SMALL(IF(affaire=$E9,ROW(x)),COUNTIF($E$2:$E9,$E9))),"")} -> 40499 | C9: {=IFERROR(INDEX(Feuil1!C:C,SMALL(IF(affaire=$E9,ROW(x)),COUNTIF($E$2:$E9,$E9))),"")} -> 1.205 | D9: {=IFERROR(INDEX(Feuil1!D:D,SMALL(IF(affaire=$E9,ROW(x)),COUNTIF($E$2:$E9,$E9))),"")} -> 3 | E9: {=IFERROR(INDEX(affaire,SMALL(IFERROR(MATCH(affaire,IF(x="x",affaire),0),""),ROW(A8))),"")} -> 6 | F9: {=IFERROR(INDEX(Feuil1!F:F,SMALL(IF(affaire=$E9,ROW(x)),COUNTIF($E$2:$E9,$E9))),"")} -> 0 | G9: {=IFERROR(INDEX(Feuil1!G:G,SMALL(IF(affaire=$E9,ROW(x)),COUNTIF($E$2:$E9,$E9))),"")} -> 0 | H9: {=IFERROR(INDEX(Feuil1!H:H,SMALL(IF(affaire=$E9,ROW(x)),COUNTIF($E$2:$E9,$E9))),"")} -> Electricque | I9: {=IFERROR(INDEX(Feuil1!I:I,SMALL(IF(affaire=$E9,ROW(x)),COUNTIF($E$2:$E9,$E9))),"")} -> 26 h
A10: {=IFERROR(INDEX(Feuil1!A:A,SMALL(IF(affaire=$E10,ROW(x)),COUNTIF($E$2:$E10,$E10))),"")} | B10: {=IFERROR(INDEX(Feuil1!B:B,SMALL(IF(affaire=$E10,ROW(x)),COUNTIF($E$2:$E10,$E10))),"")} | C10: {=IFERROR(INDEX(Feuil1!C:C,SMALL(IF(affaire=$E10,ROW(x)),COUNTIF($E$2:$E10,$E10))),"")} | D10: {=IFERROR(INDEX(Feuil1!D:D,SMALL(IF(affaire=$E10,ROW(x)),COUNTIF($E$2:$E10,$E10))),"")} | E10: {=IFERROR(INDEX(affaire,SMALL(IFERROR(MATCH(affaire,IF(x="x",affaire),0),""),ROW(A9))),"")} | F10: {=IFERROR(INDEX(Feuil1!F:F,SMALL(IF(affaire=$E10,ROW(x)),COUNTIF($E$2:$E10,$E10))),"")} | G10: {=IFERROR(INDEX(Feuil1!G:G,SMALL(IF(affaire=$E10,ROW(x)),COUNTIF($E$2:$E10,$E10))),"")} | H10: {=IFERROR(INDEX(Feuil1!H:H,SMALL(IF(affaire=$E10,ROW(x)),COUNTIF($E$2:$E10,$E10))),"")} | I10: {=IFERROR(INDEX(Feuil1!I:I,SMALL(IF(affaire=$E10,ROW(x)),COUNTIF($E$2:$E10,$E10))),"")}
A11: {=IFERROR(INDEX(Feuil1!A:A,SMALL(IF(affaire=$E11,ROW(x)),COUNTIF($E$2:$E11,$E11))),"")} | B11: {=IFERROR(INDEX(Feuil1!B:B,SMALL(IF(affaire=$E11,ROW(x)),COUNTIF($E$2:$E11,$E11))),"")} | C11: {=IFERROR(INDEX(Feuil1!C:C,SMALL(IF(affaire=$E11,ROW(x)),COUNTIF($E$2:$E11,$E11))),"")} | D11: {=IFERROR(INDEX(Feuil1!D:D,SMALL(IF(affaire=$E11,ROW(x)),COUNTIF($E$2:$E11,$E11))),"")} | E11: {=IFERROR(INDEX(affaire,SMALL(IFERROR(MATCH(affaire,IF(x="x",affaire),0),""),ROW(A10))),"")} | F11: {=IFERROR(INDEX(Feuil1!F:F,SMALL(IF(affaire=$E11,ROW(x)),COUNTIF($E$2:$E11,$E11))),"")} | G11: {=IFERROR(INDEX(Feuil1!G:G,SMALL(IF(affaire=$E11,ROW(x)),COUNTIF($E$2:$E11,$E11))),"")} | H11: {=IFERROR(INDEX(Feuil1!H:H,SMALL(IF(affaire=$E11,ROW(x)),COUNTIF($E$2:$E11,$E11))),"")} | I11: {=IFERROR(INDEX(Feuil1!I:I,SMALL(IF(affaire=$E11,ROW(x)),COUNTIF($E$2:$E11,$E11))),"")}
A12: {=IFERROR(INDEX(Feuil1!A:A,SMALL(IF(affaire=$E12,ROW(x)),COUNTIF($E$2:$E12,$E12))),"")} | B12: {=IFERROR(INDEX(Feuil1!B:B,SMALL(IF(affaire=$E12,ROW(x)),COUNTIF($E$2:$E12,$E12))),"")} | C12: {=IFERROR(INDEX(Feuil1!C:C,SMALL(IF(affaire=$E12,ROW(x)),COUNTIF($E$2:$E12,$E12))),"")} | D12: {=IFERROR(INDEX(Feuil1!D:D,SMALL(IF(affaire=$E12,ROW(x)),COUNTIF($E$2:$E12,$E12))),"")} | E12: {=IFERROR(INDEX(affaire,SMALL(IFERROR(MATCH(affaire,IF(x="x",affaire),0),""),ROW(A11))),"")} | F12: {=IFERROR(INDEX(Feuil1!F:F,SMALL(IF(affaire=$E12,ROW(x)),COUNTIF($E$2:$E12,$E12))),"")} | G12: {=IFERROR(INDEX(Feuil1!G:G,SMALL(IF(affaire=$E12,ROW(x)),COUNTIF($E$2:$E12,$E12))),"")} | H12: {=IFERROR(INDEX(Feuil1!H:H,SMALL(IF(affaire=$E12,ROW(x)),COUNTIF($E$2:$E12,$E12))),"")} | I12: {=IFERROR(INDEX(Feuil1!I:I,SMALL(IF(affaire=$E12,ROW(x)),COUNTIF($E$2:$E12,$E12))),"")}
A13: {=IFERROR(INDEX(Feuil1!A:A,SMALL(IF(affaire=$E13,ROW(x)),COUNTIF($E$2:$E13,$E13))),"")} | B13: {=IFERROR(INDEX(Feuil1!B:B,SMALL(IF(affaire=$E13,ROW(x)),COUNTIF($E$2:$E13,$E13))),"")} | C13: {=IFERROR(INDEX(Feuil1!C:C,SMALL(IF(affaire=$E13,ROW(x)),COUNTIF($E$2:$E13,$E13))),"")} | D13: {=IFERROR(INDEX(Feuil1!D:D,SMALL(IF(affaire=$E13,ROW(x)),COUNTIF($E$2:$E13,$E13))),"")} | E13: {=IFERROR(INDEX(affaire,SMALL(IFERROR(MATCH(affaire,IF(x="x",affaire),0),""),ROW(A12))),"")} | F13: {=IFERROR(INDEX(Feuil1!F:F,SMALL(IF(affaire=$E13,ROW(x)),COUNTIF($E$2:$E13,$E13))),"")} | G13: {=IFERROR(INDEX(Feuil1!G:G,SMALL(IF(affaire=$E13,ROW(x)),COUNTIF($E$2:$E13,$E13))),"")} | H13: {=IFERROR(INDEX(Feuil1!H:H,SMALL(IF(affaire=$E13,ROW(x)),COUNTIF($E$2:$E13,$E13))),"")} | I13: {=IFERROR(INDEX(Feuil1!I:I,SMALL(IF(affaire=$E13,ROW(x)),COUNTIF($E$2:$E13,$E13))),"")}
... A19: {=IFERROR(INDEX(Feuil1!A:A,SMALL(IF(affaire=$E19,ROW(x)),COUNTIF($E$2:$E19,$E19))),"")} | B19: {=IFERROR(INDEX(Feuil1!B:B,SMALL(IF(affaire=$E19,ROW(x)),COUNTIF($E$2:$E19,$E19))),"")} | C19: {=IFERROR(INDEX(Feuil1!C:C,SMALL(IF(affaire=$E19,ROW(x)),COUNTIF($E$2:$E19,$E19))),"")} | D19: {=IFERROR(INDEX(Feuil1!D:D,SMALL(IF(affaire=$E19,ROW(x)),COUNTIF($E$2:$E19,$E19))),"")} | E19: {=IFERROR(INDEX(affaire,SMALL(IFERROR(MATCH(affaire,IF(x="x",affaire),0),""),ROW(A18))),"")} | F19: {=IFERROR(INDEX(Feuil1!F:F,SMALL(IF(affaire=$E19,ROW(x)),COUNTIF($E$2:$E19,$E19))),"")} | G19: {=IFERROR(INDEX(Feuil1!G:G,SMALL(IF(affaire=$E19,ROW(x)),COUNTIF($E$2:$E19,$E19))),"")} | H19: {=IFERROR(INDEX(Feuil1!H:H,SMALL(IF(affaire=$E19,ROW(x)),COUNTIF($E$2:$E19,$E19))),"")} | I19: {=IFERROR(INDEX(Feuil1!I:I,SMALL(IF(affaire=$E19,ROW(x)),COUNTIF($E$2:$E19,$E19))),"")}

Sheet Feuil3
