Workbook

Sheet RECAP DES AGENTS formation 2021
A1: NOM | B1: Recyclage secourisme (2ans) AERDFT907 | D1: Recyclage descensur (1an) AAKRTXHAUT | F1: Manœuvre de secours PEMP (1an) AEDPEMP T:Santé Sécurité prévent. | H1: Recyclage T aérien emergence ADNTSTRAET T:Distribution élect. | J1: Recyclage T terminal ADNTSTRTI T:Distribution élect. | L1: Recyclage T encadrement (5 ans) ADNTSTENC T:Distribution élect. | N1: Recyclage caces PEMP B1 (5ans) AERDFPEMPR T:Santé Sécurité prévent. | P1: Recyclage GE (5 ans) AAKT409 T:Distribution élect. | R1: Recyclage CACES GRUE (5 ans) AERDFGRUR1 T:Santé Sécurité prévent. | T1: RECYCLAGE PDM reseau HTA ( 5 ans) ADNT489 T:Distribution élect. | V1: RECYCLAGE PDM PS ( 5 ans) | X1: Recyclage chargé de consignation (4 ans) ADNT459 T:Distribution élect. | Z1: Chargés de travaux AI rôle et responsabilité ADNT908 T:Distribution élect. | AB1: Conduire juste Beltoise PL (5ans) AEDCJPL T:CP Compet.tous salaries | AD1: ADR conducteur transport PCB (3ans) AEDTRNSPCB T:Santé Sécurité prévent. | AF1: Recyclage ADR conducteur transport PCB (3ans) ? T:Santé Sécurité prévent. | AH1: Racct GE mobile (initial) ADN6323 T:Distribution élect. | AJ1: L'amiante : recyclage des opérateurs de chantier ADN2997 T:Santé Sécurité prévent. | AL1: L'amiante : recyclage des opérateurs de chantier ADN2994 T:Santé Sécurité prévent. | AN1: Localisation défauts BT ADN6313 T:Distribution élect. | AP1: Mise en œuvre et mesure prise de terre ADN6336 T:Distribution élect. | AR1: Mesure qualité fourniture réseau BT ADNT555 T:Distribution élect. | AT1: Préparation accès ouvrages HTA et BTA (RIP) PDN6347 T: | AV1: Personnel de manoeuvres en poste source ADN6305 T:Distribution élect. | AX1: Raccordement de transformateur mobile TAPIR, PIRATE ADN6324 T:Distribution élect. | AZ1: Formation opérateurs utilisant outils à chaine AERDFELAG T:Services Internes | BB1: Recyclage opérateurs utilisant outils à chaine (5ans) AERDFELAGR T:Services Internes | BD1: Devenir TIP PDNTIP00 | BF1: TIP PDM HTA et BT PDNTIP01 | BH1: Travaux en hauteur TST BT term. Brancht aérien PDNTIP02 | BJ1: Travaux HT sur réseau HTA aérien PDNTIP03 | BL1: Intervention zone urbaine, emerg. Tableau BT PDNTIP04 | BN1: TIP Réaliser accessoires sout. BT HT isol synthetique PDNTIP07 | BP1: TIP Réaliser accessoires sout. HTA isol synthetique PDNTIP08 | BR1: Chargé de consignation BT aérien et emergence PDNTIP10 | BT1: Chargé de consignation HTA/BT aérien et aéro-sout. PDNTIP11 | BV1: Chargé de consignation HTA/BT réseau sout et postes PDNTIP12 | BX1: REMORQUE | BZ1: PRAP (2ans)
B2: Dernier R | C2: Prochain R | D2: Dernier R | E2: Prochain R | F2: Dernier R | G2: Prochain R | H2: Dernier R | I2: Prochain R | J2: Dernier R | K2: Prochain R | L2: Dernier R | M2: Prochain R | N2: Dernier R | O2: Prochain R | P2: Dernier R | Q2: Prochain R | R2: Dernier R | S2: Prochain R | T2: Dernier R | U2: Prochain R | V2: Dernier R | W2: Prochain R | X2: Dernier R | Y2: Prochain R | Z2: Dernier R | AA2: Prochain R | AB2: Dernier R | AC2: Prochain R | AD2: Dernier R | AE2: Prochain R | AF2: Dernier R | AG2: Prochain R | AH2: Dernier R | AI2: Prochain R | AJ2: Dernier R | AK2: Prochain R | AL2: Dernier R | AM2: Prochain R | AN2: Dernier R | AO2: Prochain R | AP2: Dernier R | AQ2: Prochain R | AR2: Dernier R | AS2: Prochain R | AT2: Dernier R | AU2: Prochain R | AV2: Dernier R | AW2: Prochain R | AX2: Dernier R | AY2: Prochain R | AZ2: Dernier R | BA2: Prochain R | BB2: Dernier R | BC2: Prochain R | BD2: Dernier R | BE2: Prochain R | BF2: Dernier R | BG2: Prochain R | BH2: Dernier R | BI2: Prochain R | BJ2: Dernier R | BK2: Prochain R | BL2: Dernier R | BM2: Prochain R | BN2: Dernier R | BO2: Prochain R | BP2: Dernier R | BQ2: Prochain R | BR2: Dernier R | BS2: Prochain R | BT2: Dernier R | BU2: Prochain R | BV2: Dernier R | BW2: Prochain R | BX2: Dernier R | BY2: Prochain R | BZ2: Dernier R | CA2: Prochain R
A3: ALMARCHA | B3: 2021 | C3: =B3+2 -> 2023 | D3: 2021 | E3: =D3+1 -> 2022 | F3: 2021 | G3: =F3+1 -> 2022 | T3: 2021 | U3: =T3+5 -> 2026 | AD3: 44256 | AE3: =DATE(YEAR(AD3)+3,MONTH(AD3),DAY(AD3)) -> 45352 | BB3: 2021 | BC3: =BB3+5 -> 2026
A4: BARREAU | B4: 2021 | C4: =B4+2 -> 2023
A5: BORDELOUP | B5: 2021 | C5: =B5+2 -> 2023 | D5: 2021 | E5: =D5+1 -> 2022 | F5: 2021 | G5: =F5+1 -> 2022 | H5: 2021
A6: BRASSAMIN | L6: 2021 | M6: =L6+5 -> 2026 | AJ6: 2021
A7: CALLONI
A8: CEYRAL
A9: CHAMPION | B9: 2021 | C9: =B9+2 -> 2023 | D9: 2021 | E9: =D9+1 -> 2022 | F9: 2021 | G9: =F9+1 -> 2022 | H9: 2021 | T9: 2021 | U9: =T9+5 -> 2026 | X9: 2021 | Y9: =X9+4 -> 2025 | AD9: 44256 | AE9: =DATE(YEAR(AD9)+3,MONTH(AD9),DAY(AD9)) -> 45352 | BB9: 2021 | BC9: =BB9+5 -> 2026
A10: DELLIAUX | D10: 2021 | E10: =D10+1 -> 2022 | F10: 2021 | G10: =F10+1 -> 2022 | P10: 2021 | Q10: =P10+5 -> 2026
A11: DE PIETRI | D11: 2021 | E11: =D11+1 -> 2022 | F11: 2021 | G11: =F11+1 -> 2022
A12: DREFFIER | D12: 2021 | E12: =D12+1 -> 2022 | F12: 2021 | G12: =F12+1 -> 2022
A13: FAGNOUX | B13: 2021 | C13: =B13+2 -> 2023 | D13: 2021 | E13: =D13+1 -> 2022 | F13: 2021 | G13: =F13+1 -> 2022 | H13: 2021 | T13: 2021 | U13: =T13+5 -> 2026 | X13: 2021 | Y13: =X13+4 -> 2025 | AL13: 4e T 2021 | BB13: 2021 | BC13: =BB13+5 -> 2026
A14: GARCIA | B14: 2021 | C14: =B14+2 -> 2023 | D14: 2021 | E14: =D14+1 -> 2022 | F14: 2021 | G14: =F14+1 -> 2022 | P14: 2021 | Q14: =P14+5 -> 2026 | R14: 2021 | S14: =R14+5 -> 2026 | T14: 2021 | U14: =T14+5 -> 2026 | AN14: 2021 | AP14: 2021 | BB14: 2021 | BC14: =BB14+5 -> 2026
A15: GOUET | B15: 2021 | C15: =B15+2 -> 2023 | D15: 2021 | E15: =D15+1 -> 2022 | F15: 2021 | G15: =F15+1 -> 2022 | H15: 2021 | L15: 2021 | M15: =L15+5 -> 2026
A16: GOURRIER | D16: 2021 | E16: =D16+1 -> 2022 | F16: 2021 | G16: =F16+1 -> 2022 | H16: 2021 | X16: 2021 | Y16: =X16+4 -> 2025 | BB16: 2021 | BC16: =BB16+5 -> 2026
A17: HAROUNA | B17: 2021 | C17: =B17+2 -> 2023 | AL17: 2021
A18: LEBRUN | B18: 2021 | C18: =B18+2 -> 2023 | D18: 2021 | E18: =D18+1 -> 2022 | F18: 2021 | G18: =F18+1 -> 2022 | AD18: 44256 | AE18: =DATE(YEAR(AD18)+3,MONTH(AD18),DAY(AD18)) -> 45352 | BB18: 2021 | BC18: =BB18+5 -> 2026
A19: LEMAIRE | AJ19: 2021
A20: LIGER | B20: 2021 | C20: =B20+2 -> 2023 | J20: 2021 | AL20: 4e T 2021
A21: MASSET | B21: 2021 | C21: =B21+2 -> 2023 | D21: 2021 | E21: =D21+1 -> 2022 | F21: 2021 | G21: =F21+1 -> 2022
A22: MATHIAS | B22: 2021 | C22: =B22+2 -> 2023 | T22: 2021 | U22: =T22+5 -> 2026
A23: MICALLEF
A24: OVYN
A25: PERIER | B25: 2021 | C25: =B25+2 -> 2023 | D25: 2021 | E25: =D25+1 -> 2022 | F25: 2021 | G25: =F25+1 -> 2022 | H25: 2021
A26: QUESNEL | D26: 2021 | E26: =D26+1 -> 2022 | F26: 2021 | G26: =F26+1 -> 2022 | T26: 2021 | U26: =T26+5 -> 2026 | V26: 2021 | W26: =V26+5 -> 2026 | X26: 2021 | Y26: =X26+4 -> 2025
A27: RAGU | B27: 2021 | C27: =B27+2 -> 2023 | D27: 2021 | E27: =D27+1 -> 2022 | F27: 2021 | G27: =F27+1 -> 2022
A28: ROCHETEAU | B28: 2021 | C28: =B28+2 -> 2023 | X28: 2021 | Y28: =X28+4 -> 2025 | AB28: 2021 | AC28: =AB28+5 -> 2026 | AJ28: 2021
A29: ROINARD | B29: 2021 | C29: =B29+2 -> 2023 | D29: 2021 | E29: =D29+1 -> 2022 | F29: 2021 | G29: =F29+1 -> 2022 | R29: 2021 | S29: =R29+5 -> 2026 | T29: 2021 | U29: =T29+5 -> 2026 | BB29: 2021 | BC29: =BB29+5 -> 2026
A30: ROUX
A31: SAYPHARATH | B31: 2021 | C31: =B31+2 -> 2023 | D31: 2021 | E31: =D31+1 -> 2022 | F31: 2021 | G31: =F31+1 -> 2022
A32: THOREL | D32: 2021 | E32: =D32+1 -> 2022 | F32: 2021 | G32: =F32+1 -> 2022 | AL32: 2021

Sheet ALMARCHA Cyril
C2: ALMARCHA Cyril
C3: Formations | D3: Dernier recyclage effectué | E3: Prochain recyclage à faire
C5: Recyclage secourisme (2 ans) AERDFT907 | D5: ='RECAP DES AGENTS formation 2021'!B3 -> 2021 | E5: ='RECAP DES AGENTS formation 2021'!C3 -> 2023
C6: Recyclage descensur (1 an) AAKRTXHAUT | D6: ='RECAP DES AGENTS formation 2021'!D3 -> 2021 | E6: ='RECAP DES AGENTS formation 2021'!E3 -> 2022
C7: Manœuvre de secours PEMP (1 an) AEDPEMP T : Santé Sécurité Prévent. | D7: ='RECAP DES AGENTS formation 2021'!F3 -> 2021 | E7: ='RECAP DES AGENTS formation 2021'!G3 -> 2022
C8: RECYCLAGE PDM reseau HTA( 5 ans) ADNT489 T:Distribution élect. | D8: ='RECAP DES AGENTS formation 2021'!T3 -> 2021 | E8: ='RECAP DES AGENTS formation 2021'!U3 -> 2026
C9: ADR conducteur transport PCB (3ans) AEDTRNSPCB T:Santé Sécurité prévent. | D9: ='RECAP DES AGENTS formation 2021'!AD3 -> 44256 | E9: ='RECAP DES AGENTS formation 2021'!AE3 -> 45352
C10: Recyclage ADR conducteur transport PCB (3ans) ? T:Santé Sécurité prévent. | D10: ='RECAP DES AGENTS formation 2021'!AD3 -> 44256 | E10: ='RECAP DES AGENTS formation 2021'!AE3 -> 45352
C11: Recyclage opérateurs utilisant outils à chaine (5ans) AERDFELAGR T:Services Internes | D11: ='RECAP DES AGENTS formation 2021'!BB3 -> 2021 | E11: ='RECAP DES AGENTS formation 2021'!BC3 -> 2026

Sheet BARREAU Maxime
C1: BARREAU Maxime
C3: Formations | D3: Année en cours | E3: Prochain recyclage à faire
C4: Recyclage secourisme (2 ans) AERDFT907 | D4: ='RECAP DES AGENTS formation 2021'!B4 -> 2021 | E4: ='RECAP DES AGENTS formation 2021'!C4 -> 2023
C5: Recyclage descensur (1 an) AAKRTXHAUT | D5: ='RECAP DES AGENTS formation 2021'!D4 -> 0 | E5: ='RECAP DES AGENTS formation 2021'!E4 -> 0
C6: Manœuvre de secours PEMP (1 an) AEDPEMP T : Santé Sécurité Prévent. | D6: ='RECAP DES AGENTS formation 2021'!F4 -> 0 | E6: ='RECAP DES AGENTS formation 2021'!G4 -> 0
C7: Recyclage T aérien emergence ADNTSTRAET T:Distribution élect. | D7: ='RECAP DES AGENTS formation 2021'!H4 -> 0 | E7: ='RECAP DES AGENTS formation 2021'!I4 -> 0
C8: Recyclage T terminal ADNTSTRTI T:Distribution élect. | D8: ='RECAP DES AGENTS formation 2021'!J4 -> 0 | E8: ='RECAP DES AGENTS formation 2021'!K4 -> 0
C9: Recyclage T encadrement (5 ans) ADNTSTENC T:Distribution élect. | D9: ='RECAP DES AGENTS formation 2021'!L4 -> 0 | E9: ='RECAP DES AGENTS formation 2021'!M4 -> 0
C10: Recyclage caces PEMP B1 (5ans) AERDFPEMPR T:Santé Sécurité prévent. | D10: ='RECAP DES AGENTS formation 2021'!N4 -> 0 | E10: ='RECAP DES AGENTS formation 2021'!O4 -> 0
C11: Recyclage GE (5 ans) AAKT409 T:Distribution élect. | D11: ='RECAP DES AGENTS formation 2021'!P4 -> 0 | E11: ='RECAP DES AGENTS formation 2021'!Q4 -> 0
C12: recyclage CACES GRUE (5 ans) AERDFGRUR1 T:Santé Sécurité prévent. | D12: ='RECAP DES AGENTS formation 2021'!R4 -> 0 | E12: ='RECAP DES AGENTS formation 2021'!S4 -> 0
C13: RECYCLAGE PDM reseau HTA( 5 ans) ADNT489 T:Distribution élect. | D13: ='RECAP DES AGENTS formation 2021'!T4 -> 0 | E13: ='RECAP DES AGENTS formation 2021'!U4 -> 0
C14: RECYCLAGE PDM PS( 5 ans) | D14: ='RECAP DES AGENTS formation 2021'!V4 -> 0 | E14: ='RECAP DES AGENTS formation 2021'!W4 -> 0
C15: Recyclage chargé de consignation (4 ans) ADNT459 T:Distribution élect. | D15: ='RECAP DES AGENTS formation 2021'!X4 -> 0 | E15: ='RECAP DES AGENTS formation 2021'!Y4 -> 0
C16: Chargés de travaux AI rôle et responsabilité ADNT908 T:Distribution élect. | D16: ='RECAP DES AGENTS formation 2021'!Z4 -> 0 | E16: ='RECAP DES AGENTS formation 2021'!AA4 -> 0
C17: Conduire juste Beltoise PL (5ans) AEDCJPL T:CP Compet.tous salaries | D17: ='RECAP DES AGENTS formation 2021'!AB4 -> 0 | E17: ='RECAP DES AGENTS formation 2021'!AC4 -> 0
C18: ADR conducteur transport PCB (3ans) AEDTRNSPCB T:Santé Sécurité prévent. | D18: ='RECAP DES AGENTS formation 2021'!AD4 -> 0 | E18: ='RECAP DES AGENTS formation 2021'!AE4 -> 0
C19: Recyclage ADR conducteur transport PCB (3ans) ? T:Santé Sécurité prévent. | D19: ='RECAP DES AGENTS formation 2021'!AF4 -> 0 | E19: ='RECAP DES AGENTS formation 2021'!AG4 -> 0
C20: Racct GE mobile (initial) ADN6323 T:Distribution élect. | D20: ='RECAP DES AGENTS formation 2021'!AH4 -> 0 | E20: ='RECAP DES AGENTS formation 2021'!AI4 -> 0
C21: L'amiante : recyclage des opérateurs de chantier ADN2997 T:Santé Sécurité prévent. | D21: ='RECAP DES AGENTS formation 2021'!AJ4 -> 0 | E21: ='RECAP DES AGENTS formation 2021'!AK4 -> 0
C22: L'amiante : recyclage des opérateurs de chantier ADN2994 T:Santé Sécurité prévent. | D22: ='RECAP DES AGENTS formation 2021'!AL4 -> 0 | E22: ='RECAP DES AGENTS formation 2021'!AM4 -> 0
C23: Localisation défauts BT ADN6313 T:Distribution élect. | D23: ='RECAP DES AGENTS formation 2021'!AN4 -> 0 | E23: ='RECAP DES AGENTS formation 2021'!AO4 -> 0
C24: Mise en œuvre et mesure prise de terre ADN6336 T:Distribution élect. | D24: ='RECAP DES AGENTS formation 2021'!AP4 -> 0 | E24: ='RECAP DES AGENTS formation 2021'!AQ4 -> 0
C25: Mesure qualité fourniture réseau BT ADNT555 T:Distribution élect. | D25: ='RECAP DES AGENTS formation 2021'!AR4 -> 0 | E25: ='RECAP DES AGENTS formation 2021'!AS4 -> 0
C26: Préparation accès ouvrages HTA et BTA (RIP) PDN6347 T: | D26: ='RECAP DES AGENTS formation 2021'!AT4 -> 0 | E26: ='RECAP DES AGENTS formation 2021'!AU4 -> 0
C27: Personnel de manoeuvres en poste source ADN6305 T:Distribution élect. | D27: ='RECAP DES AGENTS formation 2021'!AV4 -> 0 | E27: ='RECAP DES AGENTS formation 2021'!AW4 -> 0
C28: Raccordement de transformateur mobile TAPIR, PIRATE ADN6324 T:Distribution élect. | D28: ='RECAP DES AGENTS formation 2021'!AX4 -> 0 | E28: ='RECAP DES AGENTS formation 2021'!AY4 -> 0
C29: Formation opérateurs utilisant outils à chaine AERDFELAG T:Services Internes | D29: ='RECAP DES AGENTS formation 2021'!AZ4 -> 0 | E29: ='RECAP DES AGENTS formation 2021'!BA4 -> 0
C30: Recyclage opérateurs utilisant outils à chaine (5ans) AERDFELAGR T:Services Internes | D30: ='RECAP DES AGENTS formation 2021'!BB4 -> 0 | E30: ='RECAP DES AGENTS formation 2021'!BC4 -> 0
C31: Devenir TIP PDNTIP00 | D31: ='RECAP DES AGENTS formation 2021'!BD4 -> 0 | E31: ='RECAP DES AGENTS formation 2021'!BE4 -> 0
C32: TIP PDM HTA et BT PDNTIP01 | D32: ='RECAP DES AGENTS formation 2021'!BF4 -> 0 | E32: ='RECAP DES AGENTS formation 2021'!BG4 -> 0
C33: Travaux en hauteur TST BT term. Brancht aérien PDNTIP02 | D33: ='RECAP DES AGENTS formation 2021'!BH4 -> 0 | E33: ='RECAP DES AGENTS formation 2021'!BI4 -> 0
C34: Travaux HT sur réseau HTA aérien PDNTIP03 | D34: ='RECAP DES AGENTS formation 2021'!BJ4 -> 0 | E34: ='RECAP DES AGENTS formation 2021'!BK4 -> 0
C35: Intervention zone urbaine, emerg. Tableau BT PDNTIP04 | D35: ='RECAP DES AGENTS formation 2021'!BL4 -> 0 | E35: ='RECAP DES AGENTS formation 2021'!BM4 -> 0
C36: TIP Réaliser accessoires sout. BT HT isol synthetique PDNTIP07 | D36: ='RECAP DES AGENTS formation 2021'!BN4 -> 0 | E36: ='RECAP DES AGENTS formation 2021'!BO4 -> 0
C37: TIP Réaliser accessoires sout. HTA isol synthetique PDNTIP08 | D37: ='RECAP DES AGENTS formation 2021'!BP4 -> 0 | E37: ='RECAP DES AGENTS formation 2021'!BQ4 -> 0
C38: Chargé de consignation BT aérien et emergence PDNTIP10 | D38: ='RECAP DES AGENTS formation 2021'!BR4 -> 0 | E38: ='RECAP DES AGENTS formation 2021'!BS4 -> 0
C39: Chargé de consignation HTA/BT aérien et aéro-sout. PDNTIP11 | D39: ='RECAP DES AGENTS formation 2021'!BT4 -> 0 | E39: ='RECAP DES AGENTS formation 2021'!BU4 -> 0
C40: Chargé de consignation HTA/BT réseau sout et postes PDNTIP12 | D40: ='RECAP DES AGENTS formation 2021'!BV4 -> 0 | E40: ='RECAP DES AGENTS formation 2021'!BW4 -> 0
C41: REMORQUE | D41: ='RECAP DES AGENTS formation 2021'!BX4 -> 0 | E41: ='RECAP DES AGENTS formation 2021'!BY4 -> 0
...
