Workbook
Name AnnéeCalendrier: Janvier!$AG$4
Name CléCongé: [1]Janvier!$B$2
Name CléMaladie: [1]Janvier!$I$2
Name CléPersonnalisée1: [1]Janvier!$L$2
Name CléPersonnalisée2: [1]Janvier!$Q$2
Name CléPersonnel: [1]Janvier!$E$2
Name Congé: Janvier!$B$2
Name Deduire: Janvier!$Q$2
Name Maladie: Janvier!$I$2
Name Maternité: Janvier!$E$2
Name NomMois: Août!$A$4
Name NomMois: Avril!$A$4
Name NomMois: Décembre!$A$4
Name NomMois: Février!#REF!
Name NomMois: Janvier!$A$4
Name NomMois: Juillet!$A$4
Name NomMois: Juin!$A$4
Name NomMois: Mai!$A$4
Name NomMois: Mars!$A$4
Name NomMois: Novembre!$A$4
Name NomMois: Octobre!$A$4
Name NomMois: Septembre!$A$4
Name Permission: Janvier!$L$2
Name Titre_Absence_Employé: [1]Janvier!$A$1

Sheet Janvier
A1: Calendrier des absences des employés
A2: Clé de motif d’absence | B2: C | C2: Congé An | E2: B | F2: Maternité | I2: M | J2: Maladie | L2: P | M2: Permission conv | Q2: D | R2: A deduire des congés
AG3: Entrez l’année :
A4: Janvier | B4: Dates d’absence | AG4: 2019
B5: =TEXT(WEEKDAY(DATE(AnnéeCalendrier,1,1),1),"jjj") -> mar | C5: =TEXT(WEEKDAY(DATE(AnnéeCalendrier,1,2),1),"jjj") -> mer | D5: =TEXT(WEEKDAY(DATE(AnnéeCalendrier,1,3),1),"jjj") -> jeu | E5: =TEXT(WEEKDAY(DATE(AnnéeCalendrier,1,4),1),"jjj") -> ven | F5: =TEXT(WEEKDAY(DATE(AnnéeCalendrier,1,5),1),"jjj") -> sam | G5: =TEXT(WEEKDAY(DATE(AnnéeCalendrier,1,6),1),"jjj") -> dim | H5: =TEXT(WEEKDAY(DATE(AnnéeCalendrier,1,7),1),"jjj") -> lun | I5: =TEXT(WEEKDAY(DATE(AnnéeCalendrier,1,8),1),"jjj") -> mar | J5: =TEXT(WEEKDAY(DATE(AnnéeCalendrier,1,9),1),"jjj") -> mer | K5: =TEXT(WEEKDAY(DATE(AnnéeCalendrier,1,10),1),"jjj") -> jeu | L5: =TEXT(WEEKDAY(DATE(AnnéeCalendrier,1,11),1),"jjj") -> ven | M5: =TEXT(WEEKDAY(DATE(AnnéeCalendrier,1,12),1),"jjj") -> sam | N5: =TEXT(WEEKDAY(DATE(AnnéeCalendrier,1,13),1),"jjj") -> dim | O5: =TEXT(WEEKDAY(DATE(AnnéeCalendrier,1,14),1),"jjj") -> lun | P5: =TEXT(WEEKDAY(DATE(AnnéeCalendrier,1,15),1),"jjj") -> mar | Q5: =TEXT(WEEKDAY(DATE(AnnéeCalendrier,1,16),1),"jjj") -> mer | R5: =TEXT(WEEKDAY(DATE(AnnéeCalendrier,1,17),1),"jjj") -> jeu | S5: =TEXT(WEEKDAY(DATE(AnnéeCalendrier,1,18),1),"jjj") -> ven | T5: =TEXT(WEEKDAY(DATE(AnnéeCalendrier,1,19),1),"jjj") -> sam | U5: =TEXT(WEEKDAY(DATE(AnnéeCalendrier,1,20),1),"jjj") -> dim | V5: =TEXT(WEEKDAY(DATE(AnnéeCalendrier,1,21),1),"jjj") -> lun | W5: =TEXT(WEEKDAY(DATE(AnnéeCalendrier,1,22),1),"jjj") -> mar | X5: =TEXT(WEEKDAY(DATE(AnnéeCalendrier,1,23),1),"jjj") -> mer | Y5: =TEXT(WEEKDAY(DATE(AnnéeCalendrier,1,24),1),"jjj") -> jeu | Z5: =TEXT(WEEKDAY(DATE(AnnéeCalendrier,1,25),1),"jjj") -> ven | AA5: =TEXT(WEEKDAY(DATE(AnnéeCalendrier,1,26),1),"jjj") -> sam | AB5: =TEXT(WEEKDAY(DATE(AnnéeCalendrier,1,27),1),"jjj") -> dim | AC5: =TEXT(WEEKDAY(DATE(AnnéeCalendrier,1,28),1),"jjj") -> lun | AD5: =TEXT(WEEKDAY(DATE(AnnéeCalendrier,1,29),1),"jjj") -> mar | AE5: =TEXT(WEEKDAY(DATE(AnnéeCalendrier,1,30),1),"jjj") -> mer | AF5: =TEXT(WEEKDAY(DATE(AnnéeCalendrier,1,31),1),"jjj") -> jeu | AH5: Totaux détailés
A6: Nom de l’employé | B6: 1 | C6: 2 | D6: 3 | E6: 4 | F6: 5 | G6: 6 | H6: 7 | I6: 8 | J6: 9 | K6: 10 | L6: 11 | M6: 12 | N6: 13 | O6: 14 | P6: 15 | Q6: 16 | R6: 17 | S6: 18 | T6: 19 | U6: 20 | V6: 21 | W6: 22 | X6: 23 | Y6: 24 | Z6: 25 | AA6: 26 | AB6: 27 | AC6: 28 | AD6: 29 | AE6: 30 | AF6: 31 | AG6: Total des jours | AH6: C | AI6: B | AJ6: M | AK6: P | AL6: D
A7: EMPLOYE 1 | AG7: =COUNTA(Janvier!$B7:$AF7) -> 0 | AH7: =COUNTIF(B7:AF7,Congé) -> 0 | AI7: =COUNTIF(B7:AF7,Maternité) -> 0 | AJ7: =COUNTIF(B7:AF7,Maladie) -> 0 | AK7: =COUNTIF(B7:AF7,Permission) -> 0 | AL7: =COUNTIF(B7:AF7,Deduire) -> 0
A8: EMPLOYE 2 | AG8: =COUNTA(Janvier!$B8:$AF8) -> 0 | AH8: =COUNTIF(B8:AF8,Congé) -> 0 | AI8: =COUNTIF(B8:AF8,Maternité) -> 0 | AJ8: =COUNTIF(B8:AF8,Maladie) -> 0 | AK8: =COUNTIF(B8:AF8,Permission) -> 0 | AL8: =COUNTIF(B8:AF8,Deduire) -> 0
A9: EMPLOYE 3 | AG9: =COUNTA(Janvier!$B9:$AF9) -> 0 | AH9: =COUNTIF(B9:AF9,Congé) -> 0 | AI9: =COUNTIF(B9:AF9,Maternité) -> 0 | AJ9: =COUNTIF(B9:AF9,Maladie) -> 0 | AK9: =COUNTIF(B9:AF9,Permission) -> 0 | AL9: =COUNTIF(B9:AF9,Deduire) -> 0
A10: EMPLOYE 4 | AG10: =COUNTA(Janvier!$B10:$AF10) -> 0 | AH10: =COUNTIF(B10:AF10,Congé) -> 0 | AI10: =COUNTIF(B10:AF10,Maternité) -> 0 | AJ10: =COUNTIF(B10:AF10,Maladie) -> 0 | AK10: =COUNTIF(B10:AF10,Permission) -> 0 | AL10: =COUNTIF(B10:AF10,Deduire) -> 0
A11: EMPLOYE 5 | AG11: =COUNTA(Janvier!$B11:$AF11) -> 0 | AH11: =COUNTIF(B11:AF11,Congé) -> 0 | AI11: =COUNTIF(B11:AF11,Maternité) -> 0 | AJ11: =COUNTIF(B11:AF11,Maladie) -> 0 | AK11: =COUNTIF(B11:AF11,Permission) -> 0 | AL11: =COUNTIF(B11:AF11,Deduire) -> 0
A12: =NomMois&" Total" -> Janvier Total | B12: =SUBTOTAL(103,Janvier!$B$7:$B$11) -> 0 | C12: =SUBTOTAL(103,Janvier!$B$7:$B$11) -> 0 | D12: =SUBTOTAL(103,Janvier!$B$7:$B$11) -> 0 | E12: =SUBTOTAL(103,Janvier!$B$7:$B$11) -> 0 | F12: =SUBTOTAL(103,Janvier!$B$7:$B$11) -> 0 | G12: =SUBTOTAL(103,Janvier!$B$7:$B$11) -> 0 | H12: =SUBTOTAL(103,Janvier!$B$7:$B$11) -> 0 | I12: =SUBTOTAL(103,Janvier!$B$7:$B$11) -> 0 | ... AF12: =SUBTOTAL(103,Janvier!$B$7:$B$11) -> 0 | AG12: =SUBTOTAL(109,Janvier[Total des jours]) -> 0

Sheet Février
A1: =Titre_Absence_Employé -> Calendrier des absences des employés
A2: Clé de motif d’absence | B2: C | C2: Congé | E2: B | F2: Maternité | I2: M | J2: Maladie | L2: P | M2: Permission conv | Q2: D | R2: A deduire des congés
A4: Février | B4: Dates d’absence | AG4: =AnnéeCalendrier -> 2019
B5: =TEXT(WEEKDAY(DATE(AnnéeCalendrier,2,1),1),"jjj") -> ven | C5: =TEXT(WEEKDAY(DATE(AnnéeCalendrier,2,2),1),"jjj") -> sam | D5: =TEXT(WEEKDAY(DATE(AnnéeCalendrier,2,3),1),"jjj") -> dim | E5: =TEXT(WEEKDAY(DATE(AnnéeCalendrier,2,4),1),"jjj") -> lun | F5: =TEXT(WEEKDAY(DATE(AnnéeCalendrier,2,5),1),"jjj") -> mar | G5: =TEXT(WEEKDAY(DATE(AnnéeCalendrier,2,6),1),"jjj") -> mer | H5: =TEXT(WEEKDAY(DATE(AnnéeCalendrier,2,7),1),"jjj") -> jeu | I5: =TEXT(WEEKDAY(DATE(AnnéeCalendrier,2,8),1),"jjj") -> ven | J5: =TEXT(WEEKDAY(DATE(AnnéeCalendrier,2,9),1),"jjj") -> sam | K5: =TEXT(WEEKDAY(DATE(AnnéeCalendrier,2,10),1),"jjj") -> dim | L5: =TEXT(WEEKDAY(DATE(AnnéeCalendrier,2,11),1),"jjj") -> lun | M5: =TEXT(WEEKDAY(DATE(AnnéeCalendrier,2,12),1),"jjj") -> mar | N5: =TEXT(WEEKDAY(DATE(AnnéeCalendrier,2,13),1),"jjj") -> mer | O5: =TEXT(WEEKDAY(DATE(AnnéeCalendrier,2,14),1),"jjj") -> jeu | P5: =TEXT(WEEKDAY(DATE(AnnéeCalendrier,2,15),1),"jjj") -> ven | Q5: =TEXT(WEEKDAY(DATE(AnnéeCalendrier,2,16),1),"jjj") -> sam | R5: =TEXT(WEEKDAY(DATE(AnnéeCalendrier,2,17),1),"jjj") -> dim | S5: =TEXT(WEEKDAY(DATE(AnnéeCalendrier,2,18),1),"jjj") -> lun | T5: =TEXT(WEEKDAY(DATE(AnnéeCalendrier,2,19),1),"jjj") -> mar | U5: =TEXT(WEEKDAY(DATE(AnnéeCalendrier,2,20),1),"jjj") -> mer | V5: =TEXT(WEEKDAY(DATE(AnnéeCalendrier,2,21),1),"jjj") -> jeu | W5: =TEXT(WEEKDAY(DATE(AnnéeCalendrier,2,22),1),"jjj") -> ven | X5: =TEXT(WEEKDAY(DATE(AnnéeCalendrier,2,23),1),"jjj") -> sam | Y5: =TEXT(WEEKDAY(DATE(AnnéeCalendrier,2,24),1),"jjj") -> dim | Z5: =TEXT(WEEKDAY(DATE(AnnéeCalendrier,2,25),1),"jjj") -> lun | AA5: =TEXT(WEEKDAY(DATE(AnnéeCalendrier,2,26),1),"jjj") -> mar | AB5: =TEXT(WEEKDAY(DATE(AnnéeCalendrier,2,27),1),"jjj") -> mer | AC5: =TEXT(WEEKDAY(DATE(AnnéeCalendrier,2,28),1),"jjj") -> jeu | AD5: =TEXT(WEEKDAY(DATE(AnnéeCalendrier,2,29),1),"jjj") -> ven | AH5: Totaux détailés
A6: Nom de l’employé | B6: 1 | C6: 2 | D6: 3 | E6: 4 | F6: 5 | G6: 6 | H6: 7 | I6: 8 | J6: 9 | K6: 10 | L6: 11 | M6: 12 | N6: 13 | O6: 14 | P6: 15 | Q6: 16 | R6: 17 | S6: 18 | T6: 19 | U6: 20 | V6: 21 | W6: 22 | X6: 23 | Y6: 24 | Z6: 25 | AA6: 26 | AB6: 27 | AC6: 28 | AD6: 29 | AG6: Total des jours | AH6: C | AI6: B | AJ6: M | AK6: P | AL6: D
A7: EMPLOYE 1 | AG7: =COUNTA(Février!$B7:$AF7) -> 0 | AH7: =COUNTIF(B7:AF7,Congé) -> 0 | AI7: =COUNTIF(B7:AF7,Maternité) -> 0 | AJ7: =COUNTIF(B7:AF7,Maladie) -> 0 | AK7: =COUNTIF(B7:AF7,Permission) -> 0 | AL7: =COUNTIF(B7:AF7,Deduire) -> 0
A8: EMPLOYE 2 | AG8: =COUNTA(Février!$B8:$AF8) -> 0 | AH8: =COUNTIF(B8:AF8,Congé) -> 0 | AI8: =COUNTIF(B8:AF8,Maternité) -> 0 | AJ8: =COUNTIF(B8:AF8,Maladie) -> 0 | AK8: =COUNTIF(B8:AF8,Permission) -> 0 | AL8: =COUNTIF(B8:AF8,Deduire) -> 0
A9: EMPLOYE 3 | AG9: =COUNTA(Février!$B9:$AF9) -> 0 | AH9: =COUNTIF(B9:AF9,Congé) -> 0 | AI9: =COUNTIF(B9:AF9,Maternité) -> 0 | AJ9: =COUNTIF(B9:AF9,Maladie) -> 0 | AK9: =COUNTIF(B9:AF9,Permission) -> 0 | AL9: =COUNTIF(B9:AF9,Deduire) -> 0
A10: EMPLOYE 4 | AG10: =COUNTA(Février!$B10:$AF10) -> 0 | AH10: =COUNTIF(B10:AF10,Congé) -> 0 | AI10: =COUNTIF(B10:AF10,Maternité) -> 0 | AJ10: =COUNTIF(B10:AF10,Maladie) -> 0 | AK10: =COUNTIF(B10:AF10,Permission) -> 0 | AL10: =COUNTIF(B10:AF10,Deduire) -> 0
A11: EMPLOYE 5 | AG11: =COUNTA(Février!$B11:$AF11) -> 0 | AH11: =COUNTIF(B11:AF11,Congé) -> 0 | AI11: =COUNTIF(B11:AF11,Maternité) -> 0 | AJ11: =COUNTIF(B11:AF11,Maladie) -> 0 | AK11: =COUNTIF(B11:AF11,Permission) -> 0 | AL11: =COUNTIF(B11:AF11,Deduire) -> 0
A12: =A4&" Total" -> Février Total | B12: =SUBTOTAL(103,Février!$B$7:$B$11) -> 0 | C12: =SUBTOTAL(103,Février!$B$7:$B$11) -> 0 | D12: =SUBTOTAL(103,Février!$B$7:$B$11) -> 0 | E12: =SUBTOTAL(103,Février!$B$7:$B$11) -> 0 | F12: =SUBTOTAL(103,Février!$B$7:$B$11) -> 0 | G12: =SUBTOTAL(103,Février!$B$7:$B$11) -> 0 | H12: =SUBTOTAL(103,Février!$B$7:$B$11) -> 0 | I12: =SUBTOTAL(103,Février!$B$7:$B$11) -> 0 | ... AF12: =SUBTOTAL(103,Février!$B$7:$B$11) -> 0 | AG12: =SUBTOTAL(109,Février[Total des jours]) -> 0
V13: ,

Sheet Mars
A1: =Titre_Absence_Employé -> Calendrier des absences des employés
A2: Clé de motif d’absence | B2: C | C2: Congé | E2: B | F2: Maternité | I2: M | J2: Maladie | L2: P | M2: Permission conv | Q2: D | R2: A déduire des congés
A4: Mars | B4: Dates d’absence | AG4: =AnnéeCalendrier -> 2019
B5: =TEXT(WEEKDAY(DATE(AnnéeCalendrier,3,1),1),"jjj") -> ven | C5: =TEXT(WEEKDAY(DATE(AnnéeCalendrier,3,2),1),"jjj") -> sam | D5: =TEXT(WEEKDAY(DATE(AnnéeCalendrier,3,3),1),"jjj") -> dim | E5: =TEXT(WEEKDAY(DATE(AnnéeCalendrier,3,4),1),"jjj") -> lun | F5: =TEXT(WEEKDAY(DATE(AnnéeCalendrier,3,5),1),"jjj") -> mar | G5: =TEXT(WEEKDAY(DATE(AnnéeCalendrier,3,6),1),"jjj") -> mer | H5: =TEXT(WEEKDAY(DATE(AnnéeCalendrier,3,7),1),"jjj") -> jeu | I5: =TEXT(WEEKDAY(DATE(AnnéeCalendrier,3,8),1),"jjj") -> ven | J5: =TEXT(WEEKDAY(DATE(AnnéeCalendrier,3,9),1),"jjj") -> sam | K5: =TEXT(WEEKDAY(DATE(AnnéeCalendrier,3,10),1),"jjj") -> dim | L5: =TEXT(WEEKDAY(DATE(AnnéeCalendrier,3,11),1),"jjj") -> lun | M5: =TEXT(WEEKDAY(DATE(AnnéeCalendrier,3,12),1),"jjj") -> mar | N5: =TEXT(WEEKDAY(DATE(AnnéeCalendrier,3,13),1),"jjj") -> mer | O5: =TEXT(WEEKDAY(DATE(AnnéeCalendrier,3,14),1),"jjj") -> jeu | P5: =TEXT(WEEKDAY(DATE(AnnéeCalendrier,3,15),1),"jjj") -> ven | Q5: =TEXT(WEEKDAY(DATE(AnnéeCalendrier,3,16),1),"jjj") -> sam | R5: =TEXT(WEEKDAY(DATE(AnnéeCalendrier,3,17),1),"jjj") -> dim | S5: =TEXT(WEEKDAY(DATE(AnnéeCalendrier,3,18),1),"jjj") -> lun | T5: =TEXT(WEEKDAY(DATE(AnnéeCalendrier,3,19),1),"jjj") -> mar | U5: =TEXT(WEEKDAY(DATE(AnnéeCalendrier,3,20),1),"jjj") -> mer | V5: =TEXT(WEEKDAY(DATE(AnnéeCalendrier,3,21),1),"jjj") -> jeu | W5: =TEXT(WEEKDAY(DATE(AnnéeCalendrier,3,22),1),"jjj") -> ven | X5: =TEXT(WEEKDAY(DATE(AnnéeCalendrier,3,23),1),"jjj") -> sam | Y5: =TEXT(WEEKDAY(DATE(AnnéeCalendrier,3,24),1),"jjj") -> dim | Z5: =TEXT(WEEKDAY(DATE(AnnéeCalendrier,3,25),1),"jjj") -> lun | AA5: =TEXT(WEEKDAY(DATE(AnnéeCalendrier,3,26),1),"jjj") -> mar | AB5: =TEXT(WEEKDAY(DATE(AnnéeCalendrier,3,27),1),"jjj") -> mer | AC5: =TEXT(WEEKDAY(DATE(AnnéeCalendrier,3,28),1),"jjj") -> jeu | AD5: =TEXT(WEEKDAY(DATE(AnnéeCalendrier,3,29),1),"jjj") -> ven | AH5: Totaux détailés
A6: Nom de l’employé | B6: 1 | C6: 2 | D6: 3 | E6: 4 | F6: 5 | G6: 6 | H6: 7 | I6: 8 | J6: 9 | K6: 10 | L6: 11 | M6: 12 | N6: 13 | O6: 14 | P6: 15 | Q6: 16 | R6: 17 | S6: 18 | T6: 19 | U6: 20 | V6: 21 | W6: 22 | X6: 23 | Y6: 24 | Z6: 25 | AA6: 26 | AB6: 27 | AC6: 28 | AD6: 29 | AE6: 30 | AF6: 31 | AG6: Total des jours | AH6: C | AI6: B | AJ6: M | AK6: P | AL6: D
A7: EMPLOYE 1 | AG7: =COUNTA(Mars!$B7:$AF7) -> 0 | AH7: =COUNTIF(B7:AF7,Congé) -> 0 | AI7: =COUNTIF(B7:AF7,Maternité) -> 0 | AJ7: =COUNTIF(B7:AF7,Maladie) -> 0 | AK7: =COUNTIF(B7:AF7,Permission) -> 0 | AL7: =COUNTIF(B7:AF7,Deduire) -> 0
A8: EMPLOYE 2 | AG8: =COUNTA(Mars!$B8:$AF8) -> 0 | AH8: =COUNTIF(B8:AF8,Congé) -> 0 | AI8: =COUNTIF(B8:AF8,Maternité) -> 0 | AJ8: =COUNTIF(B8:AF8,Maladie) -> 0 | AK8: =COUNTIF(B8:AF8,Permission) -> 0 | AL8: =COUNTIF(B8:AF8,Deduire) -> 0
A9: EMPLOYE 3 | AG9: =COUNTA(Mars!$B9:$AF9) -> 0 | AH9: =COUNTIF(B9:AF9,Congé) -> 0 | AI9: =COUNTIF(B9:AF9,Maternité) -> 0 | AJ9: =COUNTIF(B9:AF9,Maladie) -> 0 | AK9: =COUNTIF(B9:AF9,Permission) -> 0 | AL9: =COUNTIF(B9:AF9,Deduire) -> 0
A10: EMPLOYE 4 | AG10: =COUNTA(Mars!$B10:$AF10) -> 0 | AH10: =COUNTIF(B10:AF10,Congé) -> 0 | AI10: =COUNTIF(B10:AF10,Maternité) -> 0 | AJ10: =COUNTIF(B10:AF10,Maladie) -> 0 | AK10: =COUNTIF(B10:AF10,Permission) -> 0 | AL10: =COUNTIF(B10:AF10,Deduire) -> 0
A11: EMPLOYE 5 | AG11: =COUNTA(Mars!$B11:$AF11) -> 0 | AH11: =COUNTIF(B11:AF11,Congé) -> 0 | AI11: =COUNTIF(B11:AF11,Maternité) -> 0 | AJ11: =COUNTIF(B11:AF11,Maladie) -> 0 | AK11: =COUNTIF(B11:AF11,Permission) -> 0 | AL11: =COUNTIF(B11:AF11,Deduire) -> 0
A12: =NomMois&" Total" -> Mars Total | B12: =SUBTOTAL(103,Mars!$B$7:$B$11) -> 0 | C12: =SUBTOTAL(103,Mars!$B$7:$B$11) -> 0 | D12: =SUBTOTAL(103,Mars!$B$7:$B$11) -> 0 | E12: =SUBTOTAL(103,Mars!$B$7:$B$11) -> 0 | F12: =SUBTOTAL(103,Mars!$B$7:$B$11) -> 0 | G12: =SUBTOTAL(103,Mars!$B$7:$B$11) -> 0 | H12: =SUBTOTAL(103,Mars!$B$7:$B$11) -> 0 | I12: =SUBTOTAL(103,Mars!$B$7:$B$11) -> 0 | ... AF12: =SUBTOTAL(103,Mars!$B$7:$B$11) -> 0 | AG12: =SUBTOTAL(109,Mars[Total des jours]) -> 0

Sheet Avril
A1: =Titre_Absence_Employé -> Calendrier des absences des employés
A2: Clé de motif d’absence | B2: C | C2: Congé | E2: B | F2: Maternité | I2: M | J2: Maladie | L2: P | M2: Permission conv | Q2: D | R2: A déduire des congés
A4: Avril | B4: Dates d’absence | AG4: =AnnéeCalendrier -> 2019
B5: =TEXT(WEEKDAY(DATE(AnnéeCalendrier,4,1),1),"jjj") -> lun | C5: =TEXT(WEEKDAY(DATE(AnnéeCalendrier,4,2),1),"jjj") -> mar | D5: =TEXT(WEEKDAY(DATE(AnnéeCalendrier,4,3),1),"jjj") -> mer | E5: =TEXT(WEEKDAY(DATE(AnnéeCalendrier,4,4),1),"jjj") -> jeu | F5: =TEXT(WEEKDAY(DATE(AnnéeCalendrier,4,5),1),"jjj") -> ven | G5: =TEXT(WEEKDAY(DATE(AnnéeCalendrier,4,6),1),"jjj") -> sam | H5: =TEXT(WEEKDAY(DATE(AnnéeCalendrier,4,7),1),"jjj") -> dim | I5: =TEXT(WEEKDAY(DATE(AnnéeCalendrier,4,8),1),"jjj") -> lun | J5: =TEXT(WEEKDAY(DATE(AnnéeCalendrier,4,9),1),"jjj") -> mar | K5: =TEXT(WEEKDAY(DATE(AnnéeCalendrier,4,10),1),"jjj") -> mer | L5: =TEXT(WEEKDAY(DATE(AnnéeCalendrier,4,11),1),"jjj") -> jeu | M5: =TEXT(WEEKDAY(DATE(AnnéeCalendrier,4,12),1),"jjj") -> ven | N5: =TEXT(WEEKDAY(DATE(AnnéeCalendrier,4,13),1),"jjj") -> sam | O5: =TEXT(WEEKDAY(DATE(AnnéeCalendrier,4,14),1),"jjj") -> dim | P5: =TEXT(WEEKDAY(DATE(AnnéeCalendrier,4,15),1),"jjj") -> lun | Q5: =TEXT(WEEKDAY(DATE(AnnéeCalendrier,4,16),1),"jjj") -> mar | R5: =TEXT(WEEKDAY(DATE(AnnéeCalendrier,4,17),1),"jjj") -> mer | S5: =TEXT(WEEKDAY(DATE(AnnéeCalendrier,4,18),1),"jjj") -> jeu | T5: =TEXT(WEEKDAY(DATE(AnnéeCalendrier,4,19),1),"jjj") -> ven | U5: =TEXT(WEEKDAY(DATE(AnnéeCalendrier,4,20),1),"jjj") -> sam | V5: =TEXT(WEEKDAY(DATE(AnnéeCalendrier,4,21),1),"jjj") -> dim | W5: =TEXT(WEEKDAY(DATE(AnnéeCalendrier,4,22),1),"jjj") -> lun | X5: =TEXT(WEEKDAY(DATE(AnnéeCalendrier,4,23),1),"jjj") -> mar | Y5: =TEXT(WEEKDAY(DATE(AnnéeCalendrier,4,24),1),"jjj") -> mer | Z5: =TEXT(WEEKDAY(DATE(AnnéeCalendrier,4,25),1),"jjj") -> jeu | AA5: =TEXT(WEEKDAY(DATE(AnnéeCalendrier,4,26),1),"jjj") -> ven | AB5: =TEXT(WEEKDAY(DATE(AnnéeCalendrier,4,27),1),"jjj") -> sam | AC5: =TEXT(WEEKDAY(DATE(AnnéeCalendrier,4,28),1),"jjj") -> dim | AD5: =TEXT(WEEKDAY(DATE(AnnéeCalendrier,4,29),1),"jjj") -> lun | AE5: =TEXT(WEEKDAY(DATE(AnnéeCalendrier,4,30),1),"jjj") -> mar | AH5: Totaux détailés
A6: Nom de l’employé | B6: 1 | C6: 2 | D6: 3 | E6: 4 | F6: 5 | G6: 6 | H6: 7 | I6: 8 | J6: 9 | K6: 10 | L6: 11 | M6: 12 | N6: 13 | O6: 14 | P6: 15 | Q6: 16 | R6: 17 | S6: 18 | T6: 19 | U6: 20 | V6: 21 | W6: 22 | X6: 23 | Y6: 24 | Z6: 25 | AA6: 26 | AB6: 27 | AC6: 28 | AD6: 29 | AE6: 30 | AF6: 31 | AG6: Total des jours | AH6: C | AI6: B | AJ6: M | AK6: P | AL6: D
A7: EMPLOYE 1 | AG7: =COUNTA(Avril!$B7:$AF7) -> 0 | AH7: =COUNTIF(B7:AF7,Congé) -> 0 | AI7: =COUNTIF(B7:AF7,Maternité) -> 0 | AJ7: =COUNTIF(B7:AF7,Maladie) -> 0 | AK7: =COUNTIF(B7:AF7,Permission) -> 0 | AL7: =COUNTIF(B7:AF7,Deduire) -> 0
A8: EMPLOYE 2 | AG8: =COUNTA(Avril!$B8:$AF8) -> 0 | AH8: =COUNTIF(B8:AF8,Congé) -> 0 | AI8: =COUNTIF(B8:AF8,Maternité) -> 0 | AJ8: =COUNTIF(B8:AF8,Maladie) -> 0 | AK8: =COUNTIF(B8:AF8,Permission) -> 0 | AL8: =COUNTIF(B8:AF8,Deduire) -> 0
A9: EMPLOYE 3 | AG9: =COUNTA(Avril!$B9:$AF9) -> 0 | AH9: =COUNTIF(B9:AF9,Congé) -> 0 | AI9: =COUNTIF(B9:AF9,Maternité) -> 0 | AJ9: =COUNTIF(B9:AF9,Maladie) -> 0 | AK9: =COUNTIF(B9:AF9,Permission) -> 0 | AL9: =COUNTIF(B9:AF9,Deduire) -> 0
A10: EMPLOYE 4 | AG10: =COUNTA(Avril!$B10:$AF10) -> 0 | AH10: =COUNTIF(B10:AF10,Congé) -> 0 | AI10: =COUNTIF(B10:AF10,Maternité) -> 0 | AJ10: =COUNTIF(B10:AF10,Maladie) -> 0 | AK10: =COUNTIF(B10:AF10,Permission) -> 0 | AL10: =COUNTIF(B10:AF10,Deduire) -> 0
A11: EMPLOYE 5 | AG11: =COUNTA(Avril!$B11:$AF11) -> 0 | AH11: =COUNTIF(B11:AF11,Congé) -> 0 | AI11: =COUNTIF(B11:AF11,Maternité) -> 0 | AJ11: =COUNTIF(B11:AF11,Maladie) -> 0 | AK11: =COUNTIF(B11:AF11,Permission) -> 0 | AL11: =COUNTIF(B11:AF11,Deduire) -> 0
A12: =NomMois&" Total" -> Avril Total | B12: =SUBTOTAL(103,Avril!$B$7:$B$11) -> 0 | C12: =SUBTOTAL(103,Avril!$B$7:$B$11) -> 0 | D12: =SUBTOTAL(103,Avril!$B$7:$B$11) -> 0 | E12: =SUBTOTAL(103,Avril!$B$7:$B$11) -> 0 | F12: =SUBTOTAL(103,Avril!$B$7:$B$11) -> 0 | G12: =SUBTOTAL(103,Avril!$B$7:$B$11) -> 0 | H12: =SUBTOTAL(103,Avril!$B$7:$B$11) -> 0 | I12: =SUBTOTAL(103,Avril!$B$7:$B$11) -> 0 | ... AF12: =SUBTOTAL(103,Avril!$B$7:$B$11) -> 0 | AG12: =SUBTOTAL(109,Avril[Total des jours]) -> 0

Sheet Mai
A1: =Titre_Absence_Employé -> Calendrier des absences des employés
A2: Clé de motif d’absence | B2: C | C2: Congé | E2: B | F2: Maternité | I2: M | J2: Maladie | L2: P | M2: Permission conv | Q2: D | R2: A déduire des congés
A4: Mai | B4: Dates d’absence | AG4: =AnnéeCalendrier -> 2019
B5: =TEXT(WEEKDAY(DATE(AnnéeCalendrier,5,1),1),"jjj") -> mer | C5: =TEXT(WEEKDAY(DATE(AnnéeCalendrier,5,2),1),"jjj") -> jeu | D5: =TEXT(WEEKDAY(DATE(AnnéeCalendrier,5,3),1),"jjj") -> ven | E5: =TEXT(WEEKDAY(DATE(AnnéeCalendrier,5,4),1),"jjj") -> sam | F5: =TEXT(WEEKDAY(DATE(AnnéeCalendrier,5,5),1),"jjj") -> dim | G5: =TEXT(WEEKDAY(DATE(AnnéeCalendrier,5,6),1),"jjj") -> lun | H5: =TEXT(WEEKDAY(DATE(AnnéeCalendrier,5,7),1),"jjj") -> mar | I5: =TEXT(WEEKDAY(DATE(AnnéeCalendrier,5,8),1),"jjj") -> mer | J5: =TEXT(WEEKDAY(DATE(AnnéeCalendrier,5,9),1),"jjj") -> jeu | K5: =TEXT(WEEKDAY(DATE(AnnéeCalendrier,5,10),1),"jjj") -> ven | L5: =TEXT(WEEKDAY(DATE(AnnéeCalendrier,5,11),1),"jjj") -> sam | M5: =TEXT(WEEKDAY(DATE(AnnéeCalendrier,5,12),1),"jjj") -> dim | N5: =TEXT(WEEKDAY(DATE(AnnéeCalendrier,5,13),1),"jjj") -> lun | O5: =TEXT(WEEKDAY(DATE(AnnéeCalendrier,5,14),1),"jjj") -> mar | P5: =TEXT(WEEKDAY(DATE(AnnéeCalendrier,5,15),1),"jjj") -> mer | Q5: =TEXT(WEEKDAY(DATE(AnnéeCalendrier,5,16),1),"jjj") -> jeu | R5: =TEXT(WEEKDAY(DATE(AnnéeCalendrier,5,17),1),"jjj") -> ven | S5: =TEXT(WEEKDAY(DATE(AnnéeCalendrier,5,18),1),"jjj") -> sam | T5: =TEXT(WEEKDAY(DATE(AnnéeCalendrier,5,19),1),"jjj") -> dim | U5: =TEXT(WEEKDAY(DATE(AnnéeCalendrier,5,20),1),"jjj") -> lun | V5: =TEXT(WEEKDAY(DATE(AnnéeCalendrier,5,21),1),"jjj") -> mar | W5: =TEXT(WEEKDAY(DATE(AnnéeCalendrier,5,22),1),"jjj") -> mer | X5: =TEXT(WEEKDAY(DATE(AnnéeCalendrier,5,23),1),"jjj") -> jeu | Y5: =TEXT(WEEKDAY(DATE(AnnéeCalendrier,5,24),1),"jjj") -> ven | Z5: =TEXT(WEEKDAY(DATE(AnnéeCalendrier,5,25),1),"jjj") -> sam | AA5: =TEXT(WEEKDAY(DATE(AnnéeCalendrier,5,26),1),"jjj") -> dim | AB5: =TEXT(WEEKDAY(DATE(AnnéeCalendrier,5,27),1),"jjj") -> lun | AC5: =TEXT(WEEKDAY(DATE(AnnéeCalendrier,5,28),1),"jjj") -> mar | AD5: =TEXT(WEEKDAY(DATE(AnnéeCalendrier,5,29),1),"jjj") -> mer | AE5: =TEXT(WEEKDAY(DATE(AnnéeCalendrier,5,30),1),"jjj") -> jeu | AF5: =TEXT(WEEKDAY(DATE(AnnéeCalendrier,5,31),1),"jjj") -> ven | AH5: Totaux détailés
A6: Nom de l’employé | B6: 1 | C6: 2 | D6: 3 | E6: 4 | F6: 5 | G6: 6 | H6: 7 | I6: 8 | J6: 9 | K6: 10 | L6: 11 | M6: 12 | N6: 13 | O6: 14 | P6: 15 | Q6: 16 | R6: 17 | S6: 18 | T6: 19 | U6: 20 | V6: 21 | W6: 22 | X6: 23 | Y6: 24 | Z6: 25 | AA6: 26 | AB6: 27 | AC6: 28 | AD6: 29 | AE6: 30 | AF6: 31 | AG6: Total des jours | AH6: C | AI6: B | AJ6: M | AK6: P | AL6: D
A7: EMPLOYE 1 | AG7: =COUNTA(Mai!$B7:$AF7) -> 0 | AH7: =COUNTIF(B7:AF7,Congé) -> 0 | AI7: =COUNTIF(B7:AF7,Maternité) -> 0 | AJ7: =COUNTIF(B7:AF7,Maladie) -> 0 | AK7: =COUNTIF(B7:AF7,Permission) -> 0 | AL7: =COUNTIF(B7:AF7,Deduire) -> 0
A8: EMPLOYE 2 | AG8: =COUNTA(Mai!$B8:$AF8) -> 0 | AH8: =COUNTIF(B8:AF8,Congé) -> 0 | AI8: =COUNTIF(B8:AF8,Maternité) -> 0 | AJ8: =COUNTIF(B8:AF8,Maladie) -> 0 | AK8: =COUNTIF(B8:AF8,Permission) -> 0 | AL8: =COUNTIF(B8:AF8,Deduire) -> 0
A9: EMPLOYE 3 | AG9: =COUNTA(Mai!$B9:$AF9) -> 0 | AH9: =COUNTIF(B9:AF9,Congé) -> 0 | AI9: =COUNTIF(B9:AF9,Maternité) -> 0 | AJ9: =COUNTIF(B9:AF9,Maladie) -> 0 | AK9: =COUNTIF(B9:AF9,Permission) -> 0 | AL9: =COUNTIF(B9:AF9,Deduire) -> 0
A10: EMPLOYE 4 | AG10: =COUNTA(Mai!$B10:$AF10) -> 0 | AH10: =COUNTIF(B10:AF10,Congé) -> 0 | AI10: =COUNTIF(B10:AF10,Maternité) -> 0 | AJ10: =COUNTIF(B10:AF10,Maladie) -> 0 | AK10: =COUNTIF(B10:AF10,Permission) -> 0 | AL10: =COUNTIF(B10:AF10,Deduire) -> 0
A11: EMPLOYE 5 | AG11: =COUNTA(Mai!$B11:$AF11) -> 0 | AH11: =COUNTIF(B11:AF11,Congé) -> 0 | AI11: =COUNTIF(B11:AF11,Maternité) -> 0 | AJ11: =COUNTIF(B11:AF11,Maladie) -> 0 | AK11: =COUNTIF(B11:AF11,Permission) -> 0 | AL11: =COUNTIF(B11:AF11,Deduire) -> 0
A12: =NomMois&" Total" -> Mai Total | B12: =SUBTOTAL(103,Mai!$B$7:$B$11) -> 0 | C12: =SUBTOTAL(103,Mai!$B$7:$B$11) -> 0 | D12: =SUBTOTAL(103,Mai!$B$7:$B$11) -> 0 | E12: =SUBTOTAL(103,Mai!$B$7:$B$11) -> 0 | F12: =SUBTOTAL(103,Mai!$B$7:$B$11) -> 0 | G12: =SUBTOTAL(103,Mai!$B$7:$B$11) -> 0 | H12: =SUBTOTAL(103,Mai!$B$7:$B$11) -> 0 | I12: =SUBTOTAL(103,Mai!$B$7:$B$11) -> 0 | ... AF12: =SUBTOTAL(103,Mai!$B$7:$B$11) -> 0 | AG12: =SUBTOTAL(109,Avril7[Total des jours]) -> 0

Sheet Juin
A1: =Titre_Absence_Employé -> Calendrier des absences des employés
A2: Clé de motif d’absence | B2: C | C2: Congé | E2: B | F2: Maternité | I2: M | J2: Maladie | L2: P | M2: Permission conv | Q2: D | R2: A déduire des congés
A4: Juin | B4: Dates d’absence | AG4: =AnnéeCalendrier -> 2019
B5: =TEXT(WEEKDAY(DATE(AnnéeCalendrier,6,1),1),"jjj") -> sam | C5: =TEXT(WEEKDAY(DATE(AnnéeCalendrier,6,2),1),"jjj") -> dim | D5: =TEXT(WEEKDAY(DATE(AnnéeCalendrier,6,3),1),"jjj") -> lun | E5: =TEXT(WEEKDAY(DATE(AnnéeCalendrier,6,4),1),"jjj") -> mar | F5: =TEXT(WEEKDAY(DATE(AnnéeCalendrier,6,5),1),"jjj") -> mer | G5: =TEXT(WEEKDAY(DATE(AnnéeCalendrier,6,6),1),"jjj") -> jeu | H5: =TEXT(WEEKDAY(DATE(AnnéeCalendrier,6,7),1),"jjj") -> ven | I5: =TEXT(WEEKDAY(DATE(AnnéeCalendrier,6,8),1),"jjj") -> sam | J5: =TEXT(WEEKDAY(DATE(AnnéeCalendrier,6,9),1),"jjj") -> dim | K5: =TEXT(WEEKDAY(DATE(AnnéeCalendrier,6,10),1),"jjj") -> lun | L5: =TEXT(WEEKDAY(DATE(AnnéeCalendrier,6,11),1),"jjj") -> mar | M5: =TEXT(WEEKDAY(DATE(AnnéeCalendrier,6,12),1),"jjj") -> mer | N5: =TEXT(WEEKDAY(DATE(AnnéeCalendrier,6,13),1),"jjj") -> jeu | O5: =TEXT(WEEKDAY(DATE(AnnéeCalendrier,6,14),1),"jjj") -> ven | P5: =TEXT(WEEKDAY(DATE(AnnéeCalendrier,6,15),1),"jjj") -> sam | Q5: =TEXT(WEEKDAY(DATE(AnnéeCalendrier,6,16),1),"jjj") -> dim | R5: =TEXT(WEEKDAY(DATE(AnnéeCalendrier,6,17),1),"jjj") -> lun | S5: =TEXT(WEEKDAY(DATE(AnnéeCalendrier,6,18),1),"jjj") -> mar | T5: =TEXT(WEEKDAY(DATE(AnnéeCalendrier,6,19),1),"jjj") -> mer | U5: =TEXT(WEEKDAY(DATE(AnnéeCalendrier,6,20),1),"jjj") -> jeu | V5: =TEXT(WEEKDAY(DATE(AnnéeCalendrier,6,21),1),"jjj") -> ven | W5: =TEXT(WEEKDAY(DATE(AnnéeCalendrier,6,22),1),"jjj") -> sam | X5: =TEXT(WEEKDAY(DATE(AnnéeCalendrier,6,23),1),"jjj") -> dim | Y5: =TEXT(WEEKDAY(DATE(AnnéeCalendrier,6,24),1),"jjj") -> lun | Z5: =TEXT(WEEKDAY(DATE(AnnéeCalendrier,6,25),1),"jjj") -> mar | AA5: =TEXT(WEEKDAY(DATE(AnnéeCalendrier,6,26),1),"jjj") -> mer | AB5: =TEXT(WEEKDAY(DATE(AnnéeCalendrier,6,27),1),"jjj") -> jeu | AC5: =TEXT(WEEKDAY(DATE(AnnéeCalendrier,6,28),1),"jjj") -> ven | AD5: =TEXT(WEEKDAY(DATE(AnnéeCalendrier,6,29),1),"jjj") -> sam | AE5: =TEXT(WEEKDAY(DATE(AnnéeCalendrier,6,30),1),"jjj") -> dim | AH5: Totaux détailés
A6: Nom de l’employé | B6: 1 | C6: 2 | D6: 3 | E6: 4 | F6: 5 | G6: 6 | H6: 7 | I6: 8 | J6: 9 | K6: 10 | L6: 11 | M6: 12 | N6: 13 | O6: 14 | P6: 15 | Q6: 16 | R6: 17 | S6: 18 | T6: 19 | U6: 20 | V6: 21 | W6: 22 | X6: 23 | Y6: 24 | Z6: 25 | AA6: 26 | AB6: 27 | AC6: 28 | AD6: 29 | AE6: 30 | AF6: 31 | AG6: Total des jours | AH6: C | AI6: B | AJ6: M | AK6: P | AL6: D
A7: EMPLOYE 1 | AG7: =COUNTA(Juin!$B7:$AF7) -> 0 | AH7: =COUNTIF(B7:AF7,Congé) -> 0 | AI7: =COUNTIF(B7:AF7,Maternité) -> 0 | AJ7: =COUNTIF(B7:AF7,Maladie) -> 0 | AK7: =COUNTIF(B7:AF7,Permission) -> 0 | AL7: =COUNTIF(B7:AF7,Deduire) -> 0
A8: EMPLOYE 2 | AG8: =COUNTA(Juin!$B8:$AF8) -> 0 | AH8: =COUNTIF(B8:AF8,Congé) -> 0 | AI8: =COUNTIF(B8:AF8,Maternité) -> 0 | AJ8: =COUNTIF(B8:AF8,Maladie) -> 0 | AK8: =COUNTIF(B8:AF8,Permission) -> 0 | AL8: =COUNTIF(B8:AF8,Deduire) -> 0
A9: EMPLOYE 3 | AG9: =COUNTA(Juin!$B9:$AF9) -> 0 | AH9: =COUNTIF(B9:AF9,Congé) -> 0 | AI9: =COUNTIF(B9:AF9,Maternité) -> 0 | AJ9: =COUNTIF(B9:AF9,Maladie) -> 0 | AK9: =COUNTIF(B9:AF9,Permission) -> 0 | AL9: =COUNTIF(B9:AF9,Deduire) -> 0
A10: EMPLOYE 4 | AG10: =COUNTA(Juin!$B10:$AF10) -> 0 | AH10: =COUNTIF(B10:AF10,Congé) -> 0 | AI10: =COUNTIF(B10:AF10,Maternité) -> 0 | AJ10: =COUNTIF(B10:AF10,Maladie) -> 0 | AK10: =COUNTIF(B10:AF10,Permission) -> 0 | AL10: =COUNTIF(B10:AF10,Deduire) -> 0
A11: EMPLOYE 5 | AG11: =COUNTA(Juin!$B11:$AF11) -> 0 | AH11: =COUNTIF(B11:AF11,Congé) -> 0 | AI11: =COUNTIF(B11:AF11,Maternité) -> 0 | AJ11: =COUNTIF(B11:AF11,Maladie) -> 0 | AK11: =COUNTIF(B11:AF11,Permission) -> 0 | AL11: =COUNTIF(B11:AF11,Deduire) -> 0
A12: =NomMois&" Total" -> Juin Total | B12: =SUBTOTAL(103,Juin!$B$7:$B$11) -> 0 | C12: =SUBTOTAL(103,Juin!$B$7:$B$11) -> 0 | D12: =SUBTOTAL(103,Juin!$B$7:$B$11) -> 0 | E12: =SUBTOTAL(103,Juin!$B$7:$B$11) -> 0 | F12: =SUBTOTAL(103,Juin!$B$7:$B$11) -> 0 | G12: =SUBTOTAL(103,Juin!$B$7:$B$11) -> 0 | H12: =SUBTOTAL(103,Juin!$B$7:$B$11) -> 0 | I12: =SUBTOTAL(103,Juin!$B$7:$B$11) -> 0 | ... AF12: =SUBTOTAL(103,Juin!$B$7:$B$11) -> 0 | AG12: =SUBTOTAL(109,Juin[Total des jours]) -> 0

Sheet Juillet
A1: =Titre_Absence_Employé -> Calendrier des absences des employés
A2: Clé de motif d’absence | B2: C | C2: Congé | E2: B | F2: Personnel | I2: M | J2: Maladie | L2: P | M2: Permission conv | Q2: D | R2: A déduire des congés
A4: Juillet | B4: Dates d’absence | AG4: =AnnéeCalendrier -> 2019
B5: =TEXT(WEEKDAY(DATE(AnnéeCalendrier,7,1),1),"jjj") -> lun | C5: =TEXT(WEEKDAY(DATE(AnnéeCalendrier,7,2),1),"jjj") -> mar | D5: =TEXT(WEEKDAY(DATE(AnnéeCalendrier,7,3),1),"jjj") -> mer | E5: =TEXT(WEEKDAY(DATE(AnnéeCalendrier,7,4),1),"jjj") -> jeu | F5: =TEXT(WEEKDAY(DATE(AnnéeCalendrier,7,5),1),"jjj") -> ven | G5: =TEXT(WEEKDAY(DATE(AnnéeCalendrier,7,6),1),"jjj") -> sam | H5: =TEXT(WEEKDAY(DATE(AnnéeCalendrier,7,7),1),"jjj") -> dim | I5: =TEXT(WEEKDAY(DATE(AnnéeCalendrier,7,8),1),"jjj") -> lun | J5: =TEXT(WEEKDAY(DATE(AnnéeCalendrier,7,9),1),"jjj") -> mar | K5: =TEXT(WEEKDAY(DATE(AnnéeCalendrier,7,10),1),"jjj") -> mer | L5: =TEXT(WEEKDAY(DATE(AnnéeCalendrier,7,11),1),"jjj") -> jeu | M5: =TEXT(WEEKDAY(DATE(AnnéeCalendrier,7,12),1),"jjj") -> ven | N5: =TEXT(WEEKDAY(DATE(AnnéeCalendrier,7,13),1),"jjj") -> sam | O5: =TEXT(WEEKDAY(DATE(AnnéeCalendrier,7,14),1),"jjj") -> dim | P5: =TEXT(WEEKDAY(DATE(AnnéeCalendrier,7,15),1),"jjj") -> lun | Q5: =TEXT(WEEKDAY(DATE(AnnéeCalendrier,7,16),1),"jjj") -> mar | R5: =TEXT(WEEKDAY(DATE(AnnéeCalendrier,7,17),1),"jjj") -> mer | S5: =TEXT(WEEKDAY(DATE(AnnéeCalendrier,7,18),1),"jjj") -> jeu | T5: =TEXT(WEEKDAY(DATE(AnnéeCalendrier,7,19),1),"jjj") -> ven | U5: =TEXT(WEEKDAY(DATE(AnnéeCalendrier,7,20),1),"jjj") -> sam | V5: =TEXT(WEEKDAY(DATE(AnnéeCalendrier,7,21),1),"jjj") -> dim | W5: =TEXT(WEEKDAY(DATE(AnnéeCalendrier,7,22),1),"jjj") -> lun | X5: =TEXT(WEEKDAY(DATE(AnnéeCalendrier,7,23),1),"jjj") -> mar | Y5: =TEXT(WEEKDAY(DATE(AnnéeCalendrier,7,24),1),"jjj") -> mer | Z5: =TEXT(WEEKDAY(DATE(AnnéeCalendrier,7,25),1),"jjj") -> jeu | AA5: =TEXT(WEEKDAY(DATE(AnnéeCalendrier,7,26),1),"jjj") -> ven | AB5: =TEXT(WEEKDAY(DATE(AnnéeCalendrier,7,27),1),"jjj") -> sam | AC5: =TEXT(WEEKDAY(DATE(AnnéeCalendrier,7,28),1),"jjj") -> dim | AD5: =TEXT(WEEKDAY(DATE(AnnéeCalendrier,7,29),1),"jjj") -> lun | AE5: =TEXT(WEEKDAY(DATE(AnnéeCalendrier,7,30),1),"jjj") -> mar | AF5: =TEXT(WEEKDAY(DATE(AnnéeCalendrier,7,31),1),"jjj") -> mer | AH5: Totaux détailés
A6: Nom de l’employé | B6: 1 | C6: 2 | D6: 3 | E6: 4 | F6: 5 | G6: 6 | H6: 7 | I6: 8 | J6: 9 | K6: 10 | L6: 11 | M6: 12 | N6: 13 | O6: 14 | P6: 15 | Q6: 16 | R6: 17 | S6: 18 | T6: 19 | U6: 20 | V6: 21 | W6: 22 | X6: 23 | Y6: 24 | Z6: 25 | AA6: 26 | AB6: 27 | AC6: 28 | AD6: 29 | AE6: 30 | AF6: 31 | AG6: Total des jours | AH6: C | AI6: B | AJ6: M | AK6: P | AL6: D
A7: EMPLOYE 1 | AG7: =COUNTA(Juillet!$B7:$AF7) -> 0 | AH7: =COUNTIF(B7:AF7,Congé) -> 0 | AI7: =COUNTIF(B7:AF7,Maternité) -> 0 | AJ7: =COUNTIF(B7:AF7,Maladie) -> 0 | AK7: =COUNTIF(B7:AF7,Permission) -> 0 | AL7: =COUNTIF(B7:AF7,Deduire) -> 0
A8: EMPLOYE 2 | AG8: =COUNTA(Juillet!$B8:$AF8) -> 0 | AH8: =COUNTIF(B8:AF8,Congé) -> 0 | AI8: =COUNTIF(B8:AF8,Maternité) -> 0 | AJ8: =COUNTIF(B8:AF8,Maladie) -> 0 | AK8: =COUNTIF(B8:AF8,Permission) -> 0 | AL8: =COUNTIF(B8:AF8,Deduire) -> 0
A9: EMPLOYE 3 | AG9: =COUNTA(Juillet!$B9:$AF9) -> 0 | AH9: =COUNTIF(B9:AF9,Congé) -> 0 | AI9: =COUNTIF(B9:AF9,Maternité) -> 0 | AJ9: =COUNTIF(B9:AF9,Maladie) -> 0 | AK9: =COUNTIF(B9:AF9,Permission) -> 0 | AL9: =COUNTIF(B9:AF9,Deduire) -> 0
A10: EMPLOYE 4 | AG10: =COUNTA(Juillet!$B10:$AF10) -> 0 | AH10: =COUNTIF(B10:AF10,Congé) -> 0 | AI10: =COUNTIF(B10:AF10,Maternité) -> 0 | AJ10: =COUNTIF(B10:AF10,Maladie) -> 0 | AK10: =COUNTIF(B10:AF10,Permission) -> 0 | AL10: =COUNTIF(B10:AF10,Deduire) -> 0
A11: EMPLOYE 5 | AG11: =COUNTA(Juillet!$B11:$AF11) -> 0 | AH11: =COUNTIF(B11:AF11,Congé) -> 0 | AI11: =COUNTIF(B11:AF11,Maternité) -> 0 | AJ11: =COUNTIF(B11:AF11,Maladie) -> 0 | AK11: =COUNTIF(B11:AF11,Permission) -> 0 | AL11: =COUNTIF(B11:AF11,Deduire) -> 0
A12: =NomMois&" Total" -> Juillet Total | B12: =SUBTOTAL(103,Juillet!$B$7:$B$11) -> 0 | C12: =SUBTOTAL(103,Juillet!$B$7:$B$11) -> 0 | D12: =SUBTOTAL(103,Juillet!$B$7:$B$11) -> 0 | E12: =SUBTOTAL(103,Juillet!$B$7:$B$11) -> 0 | F12: =SUBTOTAL(103,Juillet!$B$7:$B$11) -> 0 | G12: =SUBTOTAL(103,Juillet!$B$7:$B$11) -> 0 | H12: =SUBTOTAL(103,Juillet!$B$7:$B$11) -> 0 | I12: =SUBTOTAL(103,Juillet!$B$7:$B$11) -> 0 | ... AF12: =SUBTOTAL(103,Juillet!$B$7:$B$11) -> 0 | AG12: =SUBTOTAL(109,Juillet[Total des jours]) -> 0

Sheet Août
A1: =Titre_Absence_Employé -> Calendrier des absences des employés
A2: Clé de motif d’absence | B2: C | C2: Congé | E2: B | F2: Personnel | I2: M | J2: Maladie | L2: P | M2: Permission conv | Q2: D | R2: A déduire des congés
A4: Août | B4: Dates d’absence | AG4: =AnnéeCalendrier -> 2019
B5: =TEXT(WEEKDAY(DATE(AnnéeCalendrier,8,1),1),"jjj") -> jeu | C5: =TEXT(WEEKDAY(DATE(AnnéeCalendrier,8,2),1),"jjj") -> ven | D5: =TEXT(WEEKDAY(DATE(AnnéeCalendrier,8,3),1),"jjj") -> sam | E5: =TEXT(WEEKDAY(DATE(AnnéeCalendrier,8,4),1),"jjj") -> dim | F5: =TEXT(WEEKDAY(DATE(AnnéeCalendrier,8,5),1),"jjj") -> lun | G5: =TEXT(WEEKDAY(DATE(AnnéeCalendrier,8,6),1),"jjj") -> mar | H5: =TEXT(WEEKDAY(DATE(AnnéeCalendrier,8,7),1),"jjj") -> mer | I5: =TEXT(WEEKDAY(DATE(AnnéeCalendrier,8,8),1),"jjj") -> jeu | J5: =TEXT(WEEKDAY(DATE(AnnéeCalendrier,8,9),1),"jjj") -> ven | K5: =TEXT(WEEKDAY(DATE(AnnéeCalendrier,8,10),1),"jjj") -> sam | L5: =TEXT(WEEKDAY(DATE(AnnéeCalendrier,8,11),1),"jjj") -> dim | M5: =TEXT(WEEKDAY(DATE(AnnéeCalendrier,8,12),1),"jjj") -> lun | N5: =TEXT(WEEKDAY(DATE(AnnéeCalendrier,8,13),1),"jjj") -> mar | O5: =TEXT(WEEKDAY(DATE(AnnéeCalendrier,8,14),1),"jjj") -> mer | P5: =TEXT(WEEKDAY(DATE(AnnéeCalendrier,8,15),1),"jjj") -> jeu | Q5: =TEXT(WEEKDAY(DATE(AnnéeCalendrier,8,16),1),"jjj") -> ven | R5: =TEXT(WEEKDAY(DATE(AnnéeCalendrier,8,17),1),"jjj") -> sam | S5: =TEXT(WEEKDAY(DATE(AnnéeCalendrier,8,18),1),"jjj") -> dim | T5: =TEXT(WEEKDAY(DATE(AnnéeCalendrier,8,19),1),"jjj") -> lun | U5: =TEXT(WEEKDAY(DATE(AnnéeCalendrier,8,20),1),"jjj") -> mar | V5: =TEXT(WEEKDAY(DATE(AnnéeCalendrier,8,21),1),"jjj") -> mer | W5: =TEXT(WEEKDAY(DATE(AnnéeCalendrier,8,22),1),"jjj") -> jeu | X5: =TEXT(WEEKDAY(DATE(AnnéeCalendrier,8,23),1),"jjj") -> ven | Y5: =TEXT(WEEKDAY(DATE(AnnéeCalendrier,8,24),1),"jjj") -> sam | Z5: =TEXT(WEEKDAY(DATE(AnnéeCalendrier,8,25),1),"jjj") -> dim | AA5: =TEXT(WEEKDAY(DATE(AnnéeCalendrier,8,26),1),"jjj") -> lun | AB5: =TEXT(WEEKDAY(DATE(AnnéeCalendrier,8,27),1),"jjj") -> mar | AC5: =TEXT(WEEKDAY(DATE(AnnéeCalendrier,8,28),1),"jjj") -> mer | AD5: =TEXT(WEEKDAY(DATE(AnnéeCalendrier,8,29),1),"jjj") -> jeu | AE5: =TEXT(WEEKDAY(DATE(AnnéeCalendrier,8,30),1),"jjj") -> ven | AF5: =TEXT(WEEKDAY(DATE(AnnéeCalendrier,8,31),1),"jjj") -> sam | AH5: Totaux détailés
A6: Nom de l’employé | B6: 1 | C6: 2 | D6: 3 | E6: 4 | F6: 5 | G6: 6 | H6: 7 | I6: 8 | J6: 9 | K6: 10 | L6: 11 | M6: 12 | N6: 13 | O6: 14 | P6: 15 | Q6: 16 | R6: 17 | S6: 18 | T6: 19 | U6: 20 | V6: 21 | W6: 22 | X6: 23 | Y6: 24 | Z6: 25 | AA6: 26 | AB6: 27 | AC6: 28 | AD6: 29 | AE6: 30 | AF6: 31 | AG6: Total des jours | AH6: C | AI6: B | AJ6: M | AK6: P | AL6: D
A7: EMPLOYE 1 | AG7: =COUNTA(Août[[#This Row],[1]:[31]]) -> 0 | AH7: =COUNTIF(B7:AF7,CléCongé) -> 0 | AI7: =COUNTIF(B7:AF7,CléPersonnel) -> 0 | AJ7: =COUNTIF(B7:AF7,CléMaladie) -> 0 | AK7: =COUNTIF(B7:AF7,CléPersonnalisée1) -> 0 | AL7: =COUNTIF(B7:AF7,CléPersonnalisée2) -> 0
A8: EMPLOYE 2 | AG8: =COUNTA(Août[[#This Row],[1]:[31]]) -> 0 | AH8: =COUNTIF(B8:AF8,CléCongé) -> 0 | AI8: =COUNTIF(B8:AF8,CléPersonnel) -> 0 | AJ8: =COUNTIF(B8:AF8,CléMaladie) -> 0 | AK8: =COUNTIF(B8:AF8,CléPersonnalisée1) -> 0 | AL8: =COUNTIF(B8:AF8,CléPersonnalisée2) -> 0
A9: EMPLOYE 3 | AG9: =COUNTA(Août[[#This Row],[1]:[31]]) -> 0 | AH9: =COUNTIF(B9:AF9,CléCongé) -> 0 | AI9: =COUNTIF(B9:AF9,CléPersonnel) -> 0 | AJ9: =COUNTIF(B9:AF9,CléMaladie) -> 0 | AK9: =COUNTIF(B9:AF9,CléPersonnalisée1) -> 0 | AL9: =COUNTIF(B9:AF9,CléPersonnalisée2) -> 0
A10: EMPLOYE 4 | AG10: =COUNTA(Août[[#This Row],[1]:[31]]) -> 0 | AH10: =COUNTIF(B10:AF10,CléCongé) -> 0 | AI10: =COUNTIF(B10:AF10,CléPersonnel) -> 0 | AJ10: =COUNTIF(B10:AF10,CléMaladie) -> 0 | AK10: =COUNTIF(B10:AF10,CléPersonnalisée1) -> 0 | AL10: =COUNTIF(B10:AF10,CléPersonnalisée2) -> 0
A11: EMPLOYE 5 | AG11: =COUNTA(Août[[#This Row],[1]:[31]]) -> 0 | AH11: =COUNTIF(B11:AF11,CléCongé) -> 0 | AI11: =COUNTIF(B11:AF11,CléPersonnel) -> 0 | AJ11: =COUNTIF(B11:AF11,CléMaladie) -> 0 | AK11: =COUNTIF(B11:AF11,CléPersonnalisée1) -> 0 | AL11: =COUNTIF(B11:AF11,CléPersonnalisée2) -> 0
A12: =NomMois&" Total" -> Août Total | B12: =SUBTOTAL(103,Août[1]) -> 0 | C12: =SUBTOTAL(103,Août[2]) -> 0 | D12: =SUBTOTAL(103,Août[3]) -> 0 | E12: =SUBTOTAL(103,Août[4]) -> 0 | F12: =SUBTOTAL(103,Août[5]) -> 0 | G12: =SUBTOTAL(103,Août[6]) -> 0 | H12: =SUBTOTAL(103,Août[7]) -> 0 | I12: =SUBTOTAL(103,Août[8]) -> 0 | J12: =SUBTOTAL(103,Août[9]) -> 0 | K12: =SUBTOTAL(103,Août[10]) -> 0 | L12: =SUBTOTAL(103,Août[11]) -> 0 | M12: =SUBTOTAL(103,Août[12]) -> 0 | N12: =SUBTOTAL(103,Août[13]) -> 0 | O12: =SUBTOTAL(103,Août[14]) -> 0 | P12: =SUBTOTAL(103,Août[15]) -> 0 | Q12: =SUBTOTAL(103,Août[16]) -> 0 | R12: =SUBTOTAL(103,Août[17]) -> 0 | S12: =SUBTOTAL(103,Août[18]) -> 0 | T12: =SUBTOTAL(103,Août[19]) -> 0 | U12: =SUBTOTAL(103,Août[20]) -> 0 | V12: =SUBTOTAL(103,Août[21]) -> 0 | W12: =SUBTOTAL(103,Août[22]) -> 0 | X12: =SUBTOTAL(103,Août[23]) -> 0 | Y12: =SUBTOTAL(103,Août[24]) -> 0 | Z12: =SUBTOTAL(103,Août[25]) -> 0 | AA12: =SUBTOTAL(103,Août[26]) -> 0 | AB12: =SUBTOTAL(103,Août[27]) -> 0 | AC12: =SUBTOTAL(103,Août[28]) -> 0 | AD12: =SUBTOTAL(103,Août[29]) -> 0 | AE12: =SUBTOTAL(109,Août[30]) -> 0 | AF12: =SUBTOTAL(109,Août[31]) -> 0 | AG12: =SUBTOTAL(109,Août[Total des jours]) -> 0

Sheet Septembre
A1: =Titre_Absence_Employé -> Calendrier des absences des employés
A2: Clé de motif d’absence | B2: C | C2: Congé | E2: B | F2: Maternité | I2: M | J2: Maladie | L2: P | M2: Permission conv | Q2: D | R2: A déduire des congés
A4: Septembre | B4: Dates d’absence | AG4: =AnnéeCalendrier -> 2019
B5: =TEXT(WEEKDAY(DATE(AnnéeCalendrier,9,1),1),"jjj") -> dim | C5: =TEXT(WEEKDAY(DATE(AnnéeCalendrier,9,2),1),"jjj") -> lun | D5: =TEXT(WEEKDAY(DATE(AnnéeCalendrier,9,3),1),"jjj") -> mar | E5: =TEXT(WEEKDAY(DATE(AnnéeCalendrier,9,4),1),"jjj") -> mer | F5: =TEXT(WEEKDAY(DATE(AnnéeCalendrier,9,5),1),"jjj") -> jeu | G5: =TEXT(WEEKDAY(DATE(AnnéeCalendrier,9,6),1),"jjj") -> ven | H5: =TEXT(WEEKDAY(DATE(AnnéeCalendrier,9,7),1),"jjj") -> sam | I5: =TEXT(WEEKDAY(DATE(AnnéeCalendrier,9,8),1),"jjj") -> dim | J5: =TEXT(WEEKDAY(DATE(AnnéeCalendrier,9,9),1),"jjj") -> lun | K5: =TEXT(WEEKDAY(DATE(AnnéeCalendrier,9,10),1),"jjj") -> mar | L5: =TEXT(WEEKDAY(DATE(AnnéeCalendrier,9,11),1),"jjj") -> mer | M5: =TEXT(WEEKDAY(DATE(AnnéeCalendrier,9,12),1),"jjj") -> jeu | N5: =TEXT(WEEKDAY(DATE(AnnéeCalendrier,9,13),1),"jjj") -> ven | O5: =TEXT(WEEKDAY(DATE(AnnéeCalendrier,9,14),1),"jjj") -> sam | P5: =TEXT(WEEKDAY(DATE(AnnéeCalendrier,9,15),1),"jjj") -> dim | Q5: =TEXT(WEEKDAY(DATE(AnnéeCalendrier,9,16),1),"jjj") -> lun | R5: =TEXT(WEEKDAY(DATE(AnnéeCalendrier,9,17),1),"jjj") -> mar | S5: =TEXT(WEEKDAY(DATE(AnnéeCalendrier,9,18),1),"jjj") -> mer | T5: =TEXT(WEEKDAY(DATE(AnnéeCalendrier,9,19),1),"jjj") -> jeu | U5: =TEXT(WEEKDAY(DATE(AnnéeCalendrier,9,20),1),"jjj") -> ven | V5: =TEXT(WEEKDAY(DATE(AnnéeCalendrier,9,21),1),"jjj") -> sam | W5: =TEXT(WEEKDAY(DATE(AnnéeCalendrier,9,22),1),"jjj") -> dim | X5: =TEXT(WEEKDAY(DATE(AnnéeCalendrier,9,23),1),"jjj") -> lun | Y5: =TEXT(WEEKDAY(DATE(AnnéeCalendrier,9,24),1),"jjj") -> mar | Z5: =TEXT(WEEKDAY(DATE(AnnéeCalendrier,9,25),1),"jjj") -> mer | AA5: =TEXT(WEEKDAY(DATE(AnnéeCalendrier,9,26),1),"jjj") -> jeu | AB5: =TEXT(WEEKDAY(DATE(AnnéeCalendrier,9,27),1),"jjj") -> ven | AC5: =TEXT(WEEKDAY(DATE(AnnéeCalendrier,9,28),1),"jjj") -> sam | AD5: =TEXT(WEEKDAY(DATE(AnnéeCalendrier,9,29),1),"jjj") -> dim | AE5: =TEXT(WEEKDAY(DATE(AnnéeCalendrier,9,30),1),"jjj") -> lun | AH5: Totaux détailés
A6: Nom de l’employé | B6: 1 | C6: 2 | D6: 3 | E6: 4 | F6: 5 | G6: 6 | H6: 7 | I6: 8 | J6: 9 | K6: 10 | L6: 11 | M6: 12 | N6: 13 | O6: 14 | P6: 15 | Q6: 16 | R6: 17 | S6: 18 | T6: 19 | U6: 20 | V6: 21 | W6: 22 | X6: 23 | Y6: 24 | Z6: 25 | AA6: 26 | AB6: 27 | AC6: 28 | AD6: 29 | AE6: 30 | AF6: 31 | AG6: Total des jours | AH6: C | AI6: B | AJ6: M | AK6: P | AL6: D
A7: EMPLOYE 1 | AG7: =COUNTA(Juin!$B7:$AF7) -> 0 | AH7: =COUNTIF(B7:AF7,Congé) -> 0 | AI7: =COUNTIF(B7:AF7,Maternité) -> 0 | AJ7: =COUNTIF(B7:AF7,Maladie) -> 0 | AK7: =COUNTIF(B7:AF7,Permission) -> 0 | AL7: =COUNTIF(B7:AF7,Deduire) -> 0
A8: EMPLOYE 2 | AG8: =COUNTA(Juin!$B8:$AF8) -> 0 | AH8: =COUNTIF(B8:AF8,Congé) -> 0 | AI8: =COUNTIF(B8:AF8,Maternité) -> 0 | AJ8: =COUNTIF(B8:AF8,Maladie) -> 0 | AK8: =COUNTIF(B8:AF8,Permission) -> 0 | AL8: =COUNTIF(B8:AF8,Deduire) -> 0
A9: EMPLOYE 3 | AG9: =COUNTA(Juin!$B9:$AF9) -> 0 | AH9: =COUNTIF(B9:AF9,Congé) -> 0 | AI9: =COUNTIF(B9:AF9,Maternité) -> 0 | AJ9: =COUNTIF(B9:AF9,Maladie) -> 0 | AK9: =COUNTIF(B9:AF9,Permission) -> 0 | AL9: =COUNTIF(B9:AF9,Deduire) -> 0
A10: EMPLOYE 4 | AG10: =COUNTA(Juin!$B10:$AF10) -> 0 | AH10: =COUNTIF(B10:AF10,Congé) -> 0 | AI10: =COUNTIF(B10:AF10,Maternité) -> 0 | AJ10: =COUNTIF(B10:AF10,Maladie) -> 0 | AK10: =COUNTIF(B10:AF10,Permission) -> 0 | AL10: =COUNTIF(B10:AF10,Deduire) -> 0
A11: EMPLOYE 5 | AG11: =COUNTA(Juin!$B11:$AF11) -> 0 | AH11: =COUNTIF(B11:AF11,Congé) -> 0 | AI11: =COUNTIF(B11:AF11,Maternité) -> 0 | AJ11: =COUNTIF(B11:AF11,Maladie) -> 0 | AK11: =COUNTIF(B11:AF11,Permission) -> 0 | AL11: =COUNTIF(B11:AF11,Deduire) -> 0
A12: =NomMois&" Total" -> Septembre Total | B12: =SUBTOTAL(103,Juin!$B$7:$B$11) -> 0 | C12: =SUBTOTAL(103,Juin!$B$7:$B$11) -> 0 | D12: =SUBTOTAL(103,Juin!$B$7:$B$11) -> 0 | E12: =SUBTOTAL(103,Juin!$B$7:$B$11) -> 0 | F12: =SUBTOTAL(103,Juin!$B$7:$B$11) -> 0 | G12: =SUBTOTAL(103,Juin!$B$7:$B$11) -> 0 | H12: =SUBTOTAL(103,Juin!$B$7:$B$11) -> 0 | I12: =SUBTOTAL(103,Juin!$B$7:$B$11) -> 0 | ... AF12: =SUBTOTAL(103,Juin!$B$7:$B$11) -> 0 | AG12: =SUBTOTAL(109,Juin10[Total des jours]) -> 0

Sheet Octobre
A1: =Titre_Absence_Employé -> Calendrier des absences des employés
A2: Clé de motif d’absence | B2: C | C2: Congé | E2: B | F2: Personnel | I2: M | J2: Maladie | L2: P | M2: Permission conv | Q2: D | R2: A déduire des congés
A4: Octobre | B4: Dates d’absence | AG4: =AnnéeCalendrier -> 2019
B5: =TEXT(WEEKDAY(DATE(AnnéeCalendrier,10,1),1),"jjj") -> mar | C5: =TEXT(WEEKDAY(DATE(AnnéeCalendrier,10,2),1),"jjj") -> mer | D5: =TEXT(WEEKDAY(DATE(AnnéeCalendrier,10,3),1),"jjj") -> jeu | E5: =TEXT(WEEKDAY(DATE(AnnéeCalendrier,10,4),1),"jjj") -> ven | F5: =TEXT(WEEKDAY(DATE(AnnéeCalendrier,10,5),1),"jjj") -> sam | G5: =TEXT(WEEKDAY(DATE(AnnéeCalendrier,10,6),1),"jjj") -> dim | H5: =TEXT(WEEKDAY(DATE(AnnéeCalendrier,10,7),1),"jjj") -> lun | I5: =TEXT(WEEKDAY(DATE(AnnéeCalendrier,10,8),1),"jjj") -> mar | J5: =TEXT(WEEKDAY(DATE(AnnéeCalendrier,10,9),1),"jjj") -> mer | K5: =TEXT(WEEKDAY(DATE(AnnéeCalendrier,10,10),1),"jjj") -> jeu | L5: =TEXT(WEEKDAY(DATE(AnnéeCalendrier,10,11),1),"jjj") -> ven | M5: =TEXT(WEEKDAY(DATE(AnnéeCalendrier,10,12),1),"jjj") -> sam | N5: =TEXT(WEEKDAY(DATE(AnnéeCalendrier,10,13),1),"jjj") -> dim | O5: =TEXT(WEEKDAY(DATE(AnnéeCalendrier,10,14),1),"jjj") -> lun | P5: =TEXT(WEEKDAY(DATE(AnnéeCalendrier,10,15),1),"jjj") -> mar | Q5: =TEXT(WEEKDAY(DATE(AnnéeCalendrier,10,16),1),"jjj") -> mer | R5: =TEXT(WEEKDAY(DATE(AnnéeCalendrier,10,17),1),"jjj") -> jeu | S5: =TEXT(WEEKDAY(DATE(AnnéeCalendrier,10,18),1),"jjj") -> ven | T5: =TEXT(WEEKDAY(DATE(AnnéeCalendrier,10,19),1),"jjj") -> sam | U5: =TEXT(WEEKDAY(DATE(AnnéeCalendrier,10,20),1),"jjj") -> dim | V5: =TEXT(WEEKDAY(DATE(AnnéeCalendrier,10,21),1),"jjj") -> lun | W5: =TEXT(WEEKDAY(DATE(AnnéeCalendrier,10,22),1),"jjj") -> mar | X5: =TEXT(WEEKDAY(DATE(AnnéeCalendrier,10,23),1),"jjj") -> mer | Y5: =TEXT(WEEKDAY(DATE(AnnéeCalendrier,10,24),1),"jjj") -> jeu | Z5: =TEXT(WEEKDAY(DATE(AnnéeCalendrier,10,25),1),"jjj") -> ven | AA5: =TEXT(WEEKDAY(DATE(AnnéeCalendrier,10,26),1),"jjj") -> sam | AB5: =TEXT(WEEKDAY(DATE(AnnéeCalendrier,10,27),1),"jjj") -> dim | AC5: =TEXT(WEEKDAY(DATE(AnnéeCalendrier,10,28),1),"jjj") -> lun | AD5: =TEXT(WEEKDAY(DATE(AnnéeCalendrier,10,29),1),"jjj") -> mar | AE5: =TEXT(WEEKDAY(DATE(AnnéeCalendrier,10,30),1),"jjj") -> mer | AF5: =TEXT(WEEKDAY(DATE(AnnéeCalendrier,10,31),1),"jjj") -> jeu | AH5: Totaux détailés
A6: Nom de l’employé | B6: 1 | C6: 2 | D6: 3 | E6: 4 | F6: 5 | G6: 6 | H6: 7 | I6: 8 | J6: 9 | K6: 10 | L6: 11 | M6: 12 | N6: 13 | O6: 14 | P6: 15 | Q6: 16 | R6: 17 | S6: 18 | T6: 19 | U6: 20 | V6: 21 | W6: 22 | X6: 23 | Y6: 24 | Z6: 25 | AA6: 26 | AB6: 27 | AC6: 28 | AD6: 29 | AE6: 30 | AF6: 31 | AG6: Total des jours | AH6: C | AI6: B | AJ6: M | AK6: P | AL6: D
A7: EMPLOYE 1 | AG7: =COUNTA(Juillet!$B7:$AF7) -> 0 | AH7: =COUNTIF(B7:AF7,Congé) -> 0 | AI7: =COUNTIF(B7:AF7,Maternité) -> 0 | AJ7: =COUNTIF(B7:AF7,Maladie) -> 0 | AK7: =COUNTIF(B7:AF7,Permission) -> 0 | AL7: =COUNTIF(B7:AF7,Deduire) -> 0
A8: EMPLOYE 2 | AG8: =COUNTA(Juillet!$B8:$AF8) -> 0 | AH8: =COUNTIF(B8:AF8,Congé) -> 0 | AI8: =COUNTIF(B8:AF8,Maternité) -> 0 | AJ8: =COUNTIF(B8:AF8,Maladie) -> 0 | AK8: =COUNTIF(B8:AF8,Permission) -> 0 | AL8: =COUNTIF(B8:AF8,Deduire) -> 0
A9: EMPLOYE 3 | AG9: =COUNTA(Juillet!$B9:$AF9) -> 0 | AH9: =COUNTIF(B9:AF9,Congé) -> 0 | AI9: =COUNTIF(B9:AF9,Maternité) -> 0 | AJ9: =COUNTIF(B9:AF9,Maladie) -> 0 | AK9: =COUNTIF(B9:AF9,Permission) -> 0 | AL9: =COUNTIF(B9:AF9,Deduire) -> 0
A10: EMPLOYE 4 | AG10: =COUNTA(Juillet!$B10:$AF10) -> 0 | AH10: =COUNTIF(B10:AF10,Congé) -> 0 | AI10: =COUNTIF(B10:AF10,Maternité) -> 0 | AJ10: =COUNTIF(B10:AF10,Maladie) -> 0 | AK10: =COUNTIF(B10:AF10,Permission) -> 0 | AL10: =COUNTIF(B10:AF10,Deduire) -> 0
A11: EMPLOYE 5 | AG11: =COUNTA(Juillet!$B11:$AF11) -> 0 | AH11: =COUNTIF(B11:AF11,Congé) -> 0 | AI11: =COUNTIF(B11:AF11,Maternité) -> 0 | AJ11: =COUNTIF(B11:AF11,Maladie) -> 0 | AK11: =COUNTIF(B11:AF11,Permission) -> 0 | AL11: =COUNTIF(B11:AF11,Deduire) -> 0
A12: =NomMois&" Total" -> Octobre Total | B12: =SUBTOTAL(103,Juillet!$B$7:$B$11) -> 0 | C12: =SUBTOTAL(103,Juillet!$B$7:$B$11) -> 0 | D12: =SUBTOTAL(103,Juillet!$B$7:$B$11) -> 0 | E12: =SUBTOTAL(103,Juillet!$B$7:$B$11) -> 0 | F12: =SUBTOTAL(103,Juillet!$B$7:$B$11) -> 0 | G12: =SUBTOTAL(103,Juillet!$B$7:$B$11) -> 0 | H12: =SUBTOTAL(103,Juillet!$B$7:$B$11) -> 0 | I12: =SUBTOTAL(103,Juillet!$B$7:$B$11) -> 0 | ... AF12: =SUBTOTAL(103,Juillet!$B$7:$B$11) -> 0 | AG12: =SUBTOTAL(109,Juillet11[Total des jours]) -> 0

Sheet Novembre
A1: =Titre_Absence_Employé -> Calendrier des absences des employés
A2: Clé de motif d’absence | B2: C | C2: Congé | E2: B | F2: Maternité | I2: M | J2: Maladie | L2: P | M2: Permission conv | Q2: D | R2: A déduire des congés
A4: Novembre | B4: Dates d’absence | AG4: =AnnéeCalendrier -> 2019
B5: =TEXT(WEEKDAY(DATE(AnnéeCalendrier,11,1),1),"jjj") -> ven | C5: =TEXT(WEEKDAY(DATE(AnnéeCalendrier,11,2),1),"jjj") -> sam | D5: =TEXT(WEEKDAY(DATE(AnnéeCalendrier,11,3),1),"jjj") -> dim | E5: =TEXT(WEEKDAY(DATE(AnnéeCalendrier,11,4),1),"jjj") -> lun | F5: =TEXT(WEEKDAY(DATE(AnnéeCalendrier,11,5),1),"jjj") -> mar | G5: =TEXT(WEEKDAY(DATE(AnnéeCalendrier,11,6),1),"jjj") -> mer | H5: =TEXT(WEEKDAY(DATE(AnnéeCalendrier,11,7),1),"jjj") -> jeu | I5: =TEXT(WEEKDAY(DATE(AnnéeCalendrier,11,8),1),"jjj") -> ven | J5: =TEXT(WEEKDAY(DATE(AnnéeCalendrier,11,9),1),"jjj") -> sam | K5: =TEXT(WEEKDAY(DATE(AnnéeCalendrier,11,10),1),"jjj") -> dim | L5: =TEXT(WEEKDAY(DATE(AnnéeCalendrier,11,11),1),"jjj") -> lun | M5: =TEXT(WEEKDAY(DATE(AnnéeCalendrier,11,12),1),"jjj") -> mar | N5: =TEXT(WEEKDAY(DATE(AnnéeCalendrier,11,13),1),"jjj") -> mer | O5: =TEXT(WEEKDAY(DATE(AnnéeCalendrier,11,14),1),"jjj") -> jeu | P5: =TEXT(WEEKDAY(DATE(AnnéeCalendrier,11,15),1),"jjj") -> ven | Q5: =TEXT(WEEKDAY(DATE(AnnéeCalendrier,11,16),1),"jjj") -> sam | R5: =TEXT(WEEKDAY(DATE(AnnéeCalendrier,11,17),1),"jjj") -> dim | S5: =TEXT(WEEKDAY(DATE(AnnéeCalendrier,11,18),1),"jjj") -> lun | T5: =TEXT(WEEKDAY(DATE(AnnéeCalendrier,11,19),1),"jjj") -> mar | U5: =TEXT(WEEKDAY(DATE(AnnéeCalendrier,11,20),1),"jjj") -> mer | V5: =TEXT(WEEKDAY(DATE(AnnéeCalendrier,11,21),1),"jjj") -> jeu | W5: =TEXT(WEEKDAY(DATE(AnnéeCalendrier,11,22),1),"jjj") -> ven | X5: =TEXT(WEEKDAY(DATE(AnnéeCalendrier,11,23),1),"jjj") -> sam | Y5: =TEXT(WEEKDAY(DATE(AnnéeCalendrier,11,24),1),"jjj") -> dim | Z5: =TEXT(WEEKDAY(DATE(AnnéeCalendrier,11,25),1),"jjj") -> lun | AA5: =TEXT(WEEKDAY(DATE(AnnéeCalendrier,11,26),1),"jjj") -> mar | AB5: =TEXT(WEEKDAY(DATE(AnnéeCalendrier,11,27),1),"jjj") -> mer | AC5: =TEXT(WEEKDAY(DATE(AnnéeCalendrier,11,28),1),"jjj") -> jeu | AD5: =TEXT(WEEKDAY(DATE(AnnéeCalendrier,11,29),1),"jjj") -> ven | AE5: =TEXT(WEEKDAY(DATE(AnnéeCalendrier,11,30),1),"jjj") -> sam | AH5: Totaux détailés
A6: Nom de l’employé | B6: 1 | C6: 2 | D6: 3 | E6: 4 | F6: 5 | G6: 6 | H6: 7 | I6: 8 | J6: 9 | K6: 10 | L6: 11 | M6: 12 | N6: 13 | O6: 14 | P6: 15 | Q6: 16 | R6: 17 | S6: 18 | T6: 19 | U6: 20 | V6: 21 | W6: 22 | X6: 23 | Y6: 24 | Z6: 25 | AA6: 26 | AB6: 27 | AC6: 28 | AD6: 29 | AE6: 30 | AF6: 31 | AG6: Total des jours | AH6: C | AI6: B | AJ6: M | AK6: P | AL6: D
A7: EMPLOYE 1 | AG7: =COUNTA(Juin!$B7:$AF7) -> 0 | AH7: =COUNTIF(B7:AF7,Congé) -> 0 | AI7: =COUNTIF(B7:AF7,Maternité) -> 0 | AJ7: =COUNTIF(B7:AF7,Maladie) -> 0 | AK7: =COUNTIF(B7:AF7,Permission) -> 0 | AL7: =COUNTIF(B7:AF7,Deduire) -> 0
A8: EMPLOYE 2 | AG8: =COUNTA(Juin!$B8:$AF8) -> 0 | AH8: =COUNTIF(B8:AF8,Congé) -> 0 | AI8: =COUNTIF(B8:AF8,Maternité) -> 0 | AJ8: =COUNTIF(B8:AF8,Maladie) -> 0 | AK8: =COUNTIF(B8:AF8,Permission) -> 0 | AL8: =COUNTIF(B8:AF8,Deduire) -> 0
A9: EMPLOYE 3 | AG9: =COUNTA(Juin!$B9:$AF9) -> 0 | AH9: =COUNTIF(B9:AF9,Congé) -> 0 | AI9: =COUNTIF(B9:AF9,Maternité) -> 0 | AJ9: =COUNTIF(B9:AF9,Maladie) -> 0 | AK9: =COUNTIF(B9:AF9,Permission) -> 0 | AL9: =COUNTIF(B9:AF9,Deduire) -> 0
A10: EMPLOYE 4 | AG10: =COUNTA(Juin!$B10:$AF10) -> 0 | AH10: =COUNTIF(B10:AF10,Congé) -> 0 | AI10: =COUNTIF(B10:AF10,Maternité) -> 0 | AJ10: =COUNTIF(B10:AF10,Maladie) -> 0 | AK10: =COUNTIF(B10:AF10,Permission) -> 0 | AL10: =COUNTIF(B10:AF10,Deduire) -> 0
A11: EMPLOYE 5 | AG11: =COUNTA(Juin!$B11:$AF11) -> 0 | AH11: =COUNTIF(B11:AF11,Congé) -> 0 | AI11: =COUNTIF(B11:AF11,Maternité) -> 0 | AJ11: =COUNTIF(B11:AF11,Maladie) -> 0 | AK11: =COUNTIF(B11:AF11,Permission) -> 0 | AL11: =COUNTIF(B11:AF11,Deduire) -> 0
A12: =NomMois&" Total" -> Novembre Total | B12: =SUBTOTAL(103,Juin!$B$7:$B$11) -> 0 | C12: =SUBTOTAL(103,Juin!$B$7:$B$11) -> 0 | D12: =SUBTOTAL(103,Juin!$B$7:$B$11) -> 0 | E12: =SUBTOTAL(103,Juin!$B$7:$B$11) -> 0 | F12: =SUBTOTAL(103,Juin!$B$7:$B$11) -> 0 | G12: =SUBTOTAL(103,Juin!$B$7:$B$11) -> 0 | H12: =SUBTOTAL(103,Juin!$B$7:$B$11) -> 0 | I12: =SUBTOTAL(103,Juin!$B$7:$B$11) -> 0 | ... AF12: =SUBTOTAL(103,Juin!$B$7:$B$11) -> 0 | AG12: =SUBTOTAL(109,Juin1012[Total des jours]) -> 0

Sheet Décembre
A1: =Titre_Absence_Employé -> Calendrier des absences des employés
A2: Clé de motif d’absence | B2: C | C2: Congé | E2: B | F2: Personnel | I2: M | J2: Maladie | L2: P | M2: Permission conv | Q2: D | R2: A déduire des congés
A4: Décembre | B4: Dates d’absence | AG4: =AnnéeCalendrier -> 2019
B5: =TEXT(WEEKDAY(DATE(AnnéeCalendrier,12,1),1),"jjj") -> dim | C5: =TEXT(WEEKDAY(DATE(AnnéeCalendrier,12,2),1),"jjj") -> lun | D5: =TEXT(WEEKDAY(DATE(AnnéeCalendrier,12,3),1),"jjj") -> mar | E5: =TEXT(WEEKDAY(DATE(AnnéeCalendrier,12,4),1),"jjj") -> mer | F5: =TEXT(WEEKDAY(DATE(AnnéeCalendrier,12,5),1),"jjj") -> jeu | G5: =TEXT(WEEKDAY(DATE(AnnéeCalendrier,12,6),1),"jjj") -> ven | H5: =TEXT(WEEKDAY(DATE(AnnéeCalendrier,12,7),1),"jjj") -> sam | I5: =TEXT(WEEKDAY(DATE(AnnéeCalendrier,12,8),1),"jjj") -> dim | J5: =TEXT(WEEKDAY(DATE(AnnéeCalendrier,12,9),1),"jjj") -> lun | K5: =TEXT(WEEKDAY(DATE(AnnéeCalendrier,12,10),1),"jjj") -> mar | L5: =TEXT(WEEKDAY(DATE(AnnéeCalendrier,12,11),1),"jjj") -> mer | M5: =TEXT(WEEKDAY(DATE(AnnéeCalendrier,12,12),1),"jjj") -> jeu | N5: =TEXT(WEEKDAY(DATE(AnnéeCalendrier,12,13),1),"jjj") -> ven | O5: =TEXT(WEEKDAY(DATE(AnnéeCalendrier,12,14),1),"jjj") -> sam | P5: =TEXT(WEEKDAY(DATE(AnnéeCalendrier,12,15),1),"jjj") -> dim | Q5: =TEXT(WEEKDAY(DATE(AnnéeCalendrier,12,16),1),"jjj") -> lun | R5: =TEXT(WEEKDAY(DATE(AnnéeCalendrier,12,17),1),"jjj") -> mar | S5: =TEXT(WEEKDAY(DATE(AnnéeCalendrier,12,18),1),"jjj") -> mer | T5: =TEXT(WEEKDAY(DATE(AnnéeCalendrier,12,19),1),"jjj") -> jeu | U5: =TEXT(WEEKDAY(DATE(AnnéeCalendrier,12,20),1),"jjj") -> ven | V5: =TEXT(WEEKDAY(DATE(AnnéeCalendrier,12,21),1),"jjj") -> sam | W5: =TEXT(WEEKDAY(DATE(AnnéeCalendrier,12,22),1),"jjj") -> dim | X5: =TEXT(WEEKDAY(DATE(AnnéeCalendrier,12,23),1),"jjj") -> lun | Y5: =TEXT(WEEKDAY(DATE(AnnéeCalendrier,12,24),1),"jjj") -> mar | Z5: =TEXT(WEEKDAY(DATE(AnnéeCalendrier,12,25),1),"jjj") -> mer | AA5: =TEXT(WEEKDAY(DATE(AnnéeCalendrier,12,26),1),"jjj") -> jeu | AB5: =TEXT(WEEKDAY(DATE(AnnéeCalendrier,12,27),1),"jjj") -> ven | AC5: =TEXT(WEEKDAY(DATE(AnnéeCalendrier,12,28),1),"jjj") -> sam | AD5: =TEXT(WEEKDAY(DATE(AnnéeCalendrier,12,29),1),"jjj") -> dim | AE5: =TEXT(WEEKDAY(DATE(AnnéeCalendrier,12,30),1),"jjj") -> lun | AF5: =TEXT(WEEKDAY(DATE(AnnéeCalendrier,12,31),1),"jjj") -> mar | AH5: Totaux détailés
A6: Nom de l’employé | B6: 1 | C6: 2 | D6: 3 | E6: 4 | F6: 5 | G6: 6 | H6: 7 | I6: 8 | J6: 9 | K6: 10 | L6: 11 | M6: 12 | N6: 13 | O6: 14 | P6: 15 | Q6: 16 | R6: 17 | S6: 18 | T6: 19 | U6: 20 | V6: 21 | W6: 22 | X6: 23 | Y6: 24 | Z6: 25 | AA6: 26 | AB6: 27 | AC6: 28 | AD6: 29 | AE6: 30 | AF6: 31 | AG6: Total des jours | AH6: C | AI6: B | AJ6: M | AK6: P | AL6: D
A7: EMPLOYE 1 | AG7: =COUNTA(Juillet!$B7:$AF7) -> 0 | AH7: =COUNTIF(B7:AF7,Congé) -> 0 | AI7: =COUNTIF(B7:AF7,Maternité) -> 0 | AJ7: =COUNTIF(B7:AF7,Maladie) -> 0 | AK7: =COUNTIF(B7:AF7,Permission) -> 0 | AL7: =COUNTIF(B7:AF7,Deduire) -> 0
A8: EMPLOYE 2 | AG8: =COUNTA(Juillet!$B8:$AF8) -> 0 | AH8: =COUNTIF(B8:AF8,Congé) -> 0 | AI8: =COUNTIF(B8:AF8,Maternité) -> 0 | AJ8: =COUNTIF(B8:AF8,Maladie) -> 0 | AK8: =COUNTIF(B8:AF8,Permission) -> 0 | AL8: =COUNTIF(B8:AF8,Deduire) -> 0
A9: EMPLOYE 3 | AG9: =COUNTA(Juillet!$B9:$AF9) -> 0 | AH9: =COUNTIF(B9:AF9,Congé) -> 0 | AI9: =COUNTIF(B9:AF9,Maternité) -> 0 | AJ9: =COUNTIF(B9:AF9,Maladie) -> 0 | AK9: =COUNTIF(B9:AF9,Permission) -> 0 | AL9: =COUNTIF(B9:AF9,Deduire) -> 0
A10: EMPLOYE 4 | AG10: =COUNTA(Juillet!$B10:$AF10) -> 0 | AH10: =COUNTIF(B10:AF10,Congé) -> 0 | AI10: =COUNTIF(B10:AF10,Maternité) -> 0 | AJ10: =COUNTIF(B10:AF10,Maladie) -> 0 | AK10: =COUNTIF(B10:AF10,Permission) -> 0 | AL10: =COUNTIF(B10:AF10,Deduire) -> 0
A11: EMPLOYE 5 | AG11: =COUNTA(Juillet!$B11:$AF11) -> 0 | AH11: =COUNTIF(B11:AF11,Congé) -> 0 | AI11: =COUNTIF(B11:AF11,Maternité) -> 0 | AJ11: =COUNTIF(B11:AF11,Maladie) -> 0 | AK11: =COUNTIF(B11:AF11,Permission) -> 0 | AL11: =COUNTIF(B11:AF11,Deduire) -> 0
A12: =NomMois&" Total" -> Décembre Total | B12: =SUBTOTAL(103,Juillet!$B$7:$B$11) -> 0 | C12: =SUBTOTAL(103,Juillet!$B$7:$B$11) -> 0 | D12: =SUBTOTAL(103,Juillet!$B$7:$B$11) -> 0 | E12: =SUBTOTAL(103,Juillet!$B$7:$B$11) -> 0 | F12: =SUBTOTAL(103,Juillet!$B$7:$B$11) -> 0 | G12: =SUBTOTAL(103,Juillet!$B$7:$B$11) -> 0 | H12: =SUBTOTAL(103,Juillet!$B$7:$B$11) -> 0 | I12: =SUBTOTAL(103,Juillet!$B$7:$B$11) -> 0 | ... AF12: =SUBTOTAL(103,Juillet!$B$7:$B$11) -> 0 | AG12: =SUBTOTAL(109,Juillet1113[Total des jours]) -> 0

Sheet EMPLOYES
A6: NOM ET PRENOMS | B6: AGENCE | C6: MATRICULE | D6: FONCTION | E6: CONGE | F6: MATERNITE | G6: MALADIE | H6: PERMISSION CONV | I6: A DEDUIRE DES CONGES | J6: TOTAUX | K6: OBSERVATION
A7: EMPLOYE 1 | E7: =SUM(Janvier!AH7,Février!AH7,Mars!AH7,Avril!AH7,Mai!AH7,Juin!AH7,Juillet!AH7,Août!AH7,Septembre!AH7,Octobre!AH7,Novembre!AH7,Décembre!AH7) -> 0 | F7: =SUM(Janvier!AI7,Février!AI7,Mars!AI7,Avril!AI7,Mai!AI7,Juin!AI7,Juillet!AI7,Août!AI7,Septembre!AI7,Octobre!AI7,Novembre!AI7,Décembre!AI7) -> 0 | G7: =SUM(Janvier!AJ7,Février!AJ7,Mars!AJ7,Avril!AJ7,Mai!AJ7,Juin!AJ7,Juillet!AJ7,Août!AJ7,Septembre!AJ7,Octobre!AJ7,Novembre!AJ7,Décembre!AJ7) -> 0 | H7: =SUM(Janvier!AK7,Février!AK7,Mars!AK7,Avril!AK7,Mai!AK7,Juin!AK7,Juillet!AK7,Août!AK7,Septembre!AK7,Octobre!AK7,Novembre!AK7,Décembre!AK7) -> 0 | I7: =SUM(Janvier!AL7,Février!AL7,Mars!AL7,Avril!AL7,Mai!AL7,Juin!AL7,Juillet!AL7,Août!AL7,Septembre!AL7,Octobre!AL7,Novembre!AL7,Décembre!AL7) -> 0 | J7: =SUM(E7:I7) -> 0
A8: EMPLOYE 2 | E8: =SUM(Janvier!AH8,Février!AH8,Mars!AH8,Avril!AH8,Mai!AH8,Juin!AH8,Juillet!AH8,Août!AH8,Septembre!AH8,Octobre!AH8,Novembre!AH8,Décembre!AH8) -> 0 | F8: =SUM(Janvier!AI8,Février!AI8,Mars!AI8,Avril!AI8,Mai!AI8,Juin!AI8,Juillet!AI8,Août!AI8,Septembre!AI8,Octobre!AI8,Novembre!AI8,Décembre!AI8) -> 0 | G8: =SUM(Janvier!AJ8,Février!AJ8,Mars!AJ8,Avril!AJ8,Mai!AJ8,Juin!AJ8,Juillet!AJ8,Août!AJ8,Septembre!AJ8,Octobre!AJ8,Novembre!AJ8,Décembre!AJ8) -> 0 | H8: =SUM(Janvier!AK8,Février!AK8,Mars!AK8,Avril!AK8,Mai!AK8,Juin!AK8,Juillet!AK8,Août!AK8,Septembre!AK8,Octobre!AK8,Novembre!AK8,Décembre!AK8) -> 0 | I8: =SUM(Janvier!AL8,Février!AL8,Mars!AL8,Avril!AL8,Mai!AL8,Juin!AL8,Juillet!AL8,Août!AL8,Septembre!AL8,Octobre!AL8,Novembre!AL8,Décembre!AL8) -> 0 | J8: =SUM(E8:I8) -> 0
A9: EMPLOYE 3 | E9: =SUM(Janvier!AH9,Février!AH9,Mars!AH9,Avril!AH9,Mai!AH9,Juin!AH9,Juillet!AH9,Août!AH9,Septembre!AH9,Octobre!AH9,Novembre!AH9,Décembre!AH9) -> 0 | F9: =SUM(Janvier!AI9,Février!AI9,Mars!AI9,Avril!AI9,Mai!AI9,Juin!AI9,Juillet!AI9,Août!AI9,Septembre!AI9,Octobre!AI9,Novembre!AI9,Décembre!AI9) -> 0 | G9: =SUM(Janvier!AJ9,Février!AJ9,Mars!AJ9,Avril!AJ9,Mai!AJ9,Juin!AJ9,Juillet!AJ9,Août!AJ9,Septembre!AJ9,Octobre!AJ9,Novembre!AJ9,Décembre!AJ9) -> 0 | H9: =SUM(Janvier!AK9,Février!AK9,Mars!AK9,Avril!AK9,Mai!AK9,Juin!AK9,Juillet!AK9,Août!AK9,Septembre!AK9,Octobre!AK9,Novembre!AK9,Décembre!AK9) -> 0 | I9: =SUM(Janvier!AL9,Février!AL9,Mars!AL9,Avril!AL9,Mai!AL9,Juin!AL9,Juillet!AL9,Août!AL9,Septembre!AL9,Octobre!AL9,Novembre!AL9,Décembre!AL9) -> 0 | J9: =SUM(E9:I9) -> 0
A10: EMPLOYE 4 | E10: =SUM(Janvier!AH10,Février!AH10,Mars!AH10,Avril!AH10,Mai!AH10,Juin!AH10,Juillet!AH10,Août!AH10,Septembre!AH10,Octobre!AH10,Novembre!AH10,Décembre!AH10) -> 0 | F10: =SUM(Janvier!AI10,Février!AI10,Mars!AI10,Avril!AI10,Mai!AI10,Juin!AI10,Juillet!AI10,Août!AI10,Septembre!AI10,Octobre!AI10,Novembre!AI10,Décembre!AI10) -> 0 | G10: =SUM(Janvier!AJ10,Février!AJ10,Mars!AJ10,Avril!AJ10,Mai!AJ10,Juin!AJ10,Juillet!AJ10,Août!AJ10,Septembre!AJ10,Octobre!AJ10,Novembre!AJ10,Décembre!AJ10) -> 0 | H10: =SUM(Janvier!AK10,Février!AK10,Mars!AK10,Avril!AK10,Mai!AK10,Juin!AK10,Juillet!AK10,Août!AK10,Septembre!AK10,Octobre!AK10,Novembre!AK10,Décembre!AK10) -> 0 | I10: =SUM(Janvier!AL10,Février!AL10,Mars!AL10,Avril!AL10,Mai!AL10,Juin!AL10,Juillet!AL10,Août!AL10,Septembre!AL10,Octobre!AL10,Novembre!AL10,Décembre!AL10) -> 0 | J10: =SUM(E10:I10) -> 0
A11: EMPLOYE 5 | E11: =SUM(Janvier!AH11,Février!AH11,Mars!AH11,Avril!AH11,Mai!AH11,Juin!AH11,Juillet!AH11,Août!AH11,Septembre!AH11,Octobre!AH11,Novembre!AH11,Décembre!AH11) -> 0 | F11: =SUM(Janvier!AI11,Février!AI11,Mars!AI11,Avril!AI11,Mai!AI11,Juin!AI11,Juillet!AI11,Août!AI11,Septembre!AI11,Octobre!AI11,Novembre!AI11,Décembre!AI11) -> 0 | G11: =SUM(Janvier!AJ11,Février!AJ11,Mars!AJ11,Avril!AJ11,Mai!AJ11,Juin!AJ11,Juillet!AJ11,Août!AJ11,Septembre!AJ11,Octobre!AJ11,Novembre!AJ11,Décembre!AJ11) -> 0 | H11: =SUM(Janvier!AK11,Février!AK11,Mars!AK11,Avril!AK11,Mai!AK11,Juin!AK11,Juillet!AK11,Août!AK11,Septembre!AK11,Octobre!AK11,Novembre!AK11,Décembre!AK11) -> 0 | I11: =SUM(Janvier!AL11,Février!AL11,Mars!AL11,Avril!AL11,Mai!AL11,Juin!AL11,Juillet!AL11,Août!AL11,Septembre!AL11,Octobre!AL11,Novembre!AL11,Décembre!AL11) -> 0 | J11: =SUM(E11:I11) -> 0
