Workbook
Name ColumnTitle1: #REF!
Name NomDeL’entreprise: '202304'!$B$1
Name NomDeL’entreprise: '202305'!$B$1
Name NomDeL’entreprise: '202306'!$B$1
Name NomDeL’entreprise: #REF!
Name RowTitleRegion1..E4: '202304'!#REF!
Name RowTitleRegion1..E4: '202305'!#REF!
Name RowTitleRegion1..E4: '202306'!#REF!
Name RowTitleRegion1..E4: #REF!
Name RowTitleRegion2..E23: '202304'!#REF!
Name RowTitleRegion2..E23: '202305'!#REF!
Name RowTitleRegion2..E23: '202306'!#REF!
Name RowTitleRegion2..E23: #REF!

Sheet REVENUS
E1: 2023 | F1: =SUM(C3:C21) -> 1517.25
A2: NO FACTURE | B2: CLIENT | C2: REVENUS | D2: PAIEMENT | E2: DATE | F2: NO CONFIRMATION
A6: ='202304'!F2 -> 202304 | B6: ='202304'!C7 -> entreprise 4 | C6: ='202304'!F21 -> 635.25
A7: ='202305'!F2 -> 202305 | B7: ='202305'!C7 -> entreprise 5 | C7: ='202305'!F21 -> 882

Sheet 202304
E1: FACTURE
E2: N° de facture : | F2: 202304
E3: Date : | F3: 45096 | O3: TOTAL HEURES
E4: Échéance : | F4: 45126
B6: FACTURÉ À | C6: nom client 4
B7: Entreprise | C7: entreprise 4
B8: Courriel :
B9: Téléphone : | O9: =SUM(O12:O20) -> 18.15
B10: PROJET : | O10: HEURES
B11: DESCRIPTION | D11: HEURES | E11: TAUX HORAIRE | F11: MONTANT
B12: 45076 | D12: =O12 -> 3.45 | E12: 35 | F12: =E12*D12 -> 120.75 | L12: 13.25 | M12: 16.7 | O12: =M12-L12-K12 -> 3.45
B13: 45084 | D13: =O13 -> 5.25 | E13: 35 | F13: =E13*D13 -> 183.75 | L13: 9 | M13: 16 | N13: 1.75 | O13: =M13-L13-N13 -> 5.25
B14: 45091 | D14: =O14 -> 5.5 | E14: 35 | F14: =E14*D14 -> 192.5 | L14: 8.25 | M14: 13.75 | O14: =M14-L14-K14 -> 5.5
B15: 45092 | D15: =O15 -> 3.95 | E15: 35 | F15: =E15*D15 -> 138.25 | L15: 10 | M15: 14.25 | N15: 0.3 | O15: =M15-L15-N15 -> 3.95
C19: TOTAL D'HEURES | D19: =SUM(D12:D17) -> 18.15 | E19: SOUS-TOTAL | F19: =SUM(F12:F17) -> 635.25
B20: Réduction 1,75 heure sur la révision faite avec commentaires, non nécessaire | E20: Réduction
E21: TOTAL | F21: =F19-F20 -> 635.25

Sheet 202305
E1: FACTURE
E2: N° de facture : | F2: 202305
E3: Date : | F3: 45096 | O3: TOTAL HEURES
E4: Échéance : | F4: 45126
B6: FACTURÉ À | C6: nom client 5
B7: Entreprise | C7: entreprise 5
B8: Courriel :
B9: Téléphone : | O9: =SUM(O12:O20) -> 25.2
B10: PROJET : | O10: HEURES
B11: DESCRIPTION | D11: HEURES | E11: TAUX HORAIRE | F11: MONTANT
B12: 45076 | D12: =O12 -> 2 | E12: 35 | F12: =E12*D12 -> 70 | L12: 20 | M12: 22 | O12: =M12-L12-K12 -> 2
B13: 45084 | D13: =O13 -> 7.25 | E13: 35 | F13: =E13*D13 -> 253.75 | L13: 10 | M13: 19 | N13: 1.75 | O13: =M13-L13-N13 -> 7.25
B14: 45091 | D14: =O14 -> 10 | E14: 35 | F14: =E14*D14 -> 350 | L14: 10 | M14: 20 | O14: =M14-L14-K14 -> 10
B15: 45092 | D15: =O15 -> 5.95 | E15: 35 | F15: =E15*D15 -> 208.25 | L15: 8 | M15: 14.25 | N15: 0.3 | O15: =M15-L15-N15 -> 5.95
C19: TOTAL D'HEURES | D19: =SUM(D12:D17) -> 25.2 | E19: SOUS-TOTAL | F19: =SUM(F12:F17) -> 882
B20: Réduction 1,75 heure sur la révision faite avec commentaires, non nécessaire | E20: Réduction
E21: TOTAL | F21: =F19-F20 -> 882

Sheet 202306
E1: FACTURE
E2: N° de facture : | F2: 202306
E3: Date : | F3: 45096 | O3: TOTAL HEURES
E4: Échéance : | F4: 45126
B6: FACTURÉ À | C6: nom client 6
B7: Entreprise | C7: entreprise 6
B8: Courriel :
B9: Téléphone : | O9: =SUM(O12:O20) -> 27
B10: PROJET : | O10: HEURES
B11: DESCRIPTION | D11: HEURES | E11: TAUX HORAIRE | F11: MONTANT
B12: 45076 | D12: =O12 -> 2 | E12: 35 | F12: =E12*D12 -> 70 | L12: 20 | M12: 22 | O12: =M12-L12-K12 -> 2
B13: 45084 | D13: =O13 -> 9 | E13: 35 | F13: =E13*D13 -> 315 | L13: 10 | M13: 19 | O13: =M13-L13-N13 -> 9
B14: 45091 | D14: =O14 -> 10 | E14: 35 | F14: =E14*D14 -> 350 | L14: 10 | M14: 20 | O14: =M14-L14-K14 -> 10
B15: 45092 | D15: =O15 -> 6 | E15: 35 | F15: =E15*D15 -> 210 | L15: 8 | M15: 14 | O15: =M15-L15-N15 -> 6
C19: TOTAL D'HEURES | D19: =SUM(D12:D17) -> 27 | E19: SOUS-TOTAL | F19: =SUM(F12:F17) -> 945
B20: Réduction 1,75 heure sur la révision faite avec commentaires, non nécessaire | E20: Réduction
E21: TOTAL | F21: =F19-F20 -> 945
