Workbook
Name Abreviations: Index!$A$7:$B$19
Name Calendar_2019: Index!$E$2:$J$371
Name Gua_Shen: Index!$A$21:$C$27
Name Liu_Shou: Index!$L$3:$R$12
Name Na_Yin: Index!$L$42:$Z$71
Name Yin_Yang: Index!$A$2:$C$5

Sheet Calculateur
D2: Question : | P2: QIAN | Q2: GEN | R2: KAN | S2: ZHEN | T2: KUN | U2: DUI | V2: LI | W2: XUN
D3: Date | H3: Mois | I3: Jour | K3: Kong Wang | L3: Gua | M3: Shen | P3: Père | Q3: 3ème fils | R3: 2ème fils | S3: 1er fils | T3: Mère | U3: 3ème fille | V3: 2ème fille | W3: 1ère fille
D4: =TODAY() -> 43802 | H4: =VLOOKUP(Calculateur!D4,Calendar_2019,2,TRUE) -> h | I4: =VLOOKUP(D4,Calendar_2019,3,TRUE) -> sh | J4: =VLOOKUP(D4,Calendar_2019,5,TRUE) -> I | K4: =VLOOKUP(D4,Calendar_2019,6,TRUE) -> s, yo | L4: {=IF(M4<>"",IF(ISNA(LEFT(INDIRECT("D"&ROW(INDEX($D$8:$D$13,MATCH("*" &M4,$D$8:$D$13,0)))),FIND(" ",INDIRECT("D"&ROW(INDEX($D$8:$D$13,MATCH("*"&M4,$D$8:$D$13,0)))))-1)),IF(ISNA(INDIRECT("F"&ROW(INDEX($F$8:$F$13,MATCH(M4,$F$8:$F$13,0))))),IF(M4="y",IF(ISNA(INDIRECT("E"&ROW(INDEX($F$8:$F$13,MATCH("m",$F$8:$F$13,0))))),LEFT(INDIRECT("D"&ROW(INDEX($D$8:$D$13,MATCH("*m",$D$8:$D$13,0)))),FIND(" ",INDIRECT("D"&ROW(INDEX($D$8:$D$13,MATCH("*m",$D$8:$D$13,0)))))-1),INDIRECT("E"&ROW(INDEX($F$8:$F$13,MATCH("m",$F$8:$F$13,0))))),IF(M4="m",IF(ISNA(INDIRECT("E"&ROW(INDEX($F$8:$F$13,MATCH("y",$F$8:$F$13,0))))),LEFT(INDIRECT("D"&ROW(INDEX($D$8:$D$13,MATCH("*y",$D$8:$D$13,0)))),FIND(" ",INDIRECT("D"&ROW(INDEX($D$8:$D$13,MATCH("*y",$D$8:$D$13,0)))))-1),INDIRECT("E"&ROW(INDEX($F$8:$F$13,MATCH("y",$F$8:$F$13,0))))),IF(M4="s",IF(ISNA(INDIRECT("E"&ROW(INDEX($F$8:$F$13,MATCH("yo",$F$8:$F$13,0))))),LEFT(INDIRECT("D"&ROW(INDEX($D$8:$D$13,MATCH("*yo",$D$8:$D$13,0)))),FIND(" ",INDIRECT("D"&ROW(INDEX($D$8:$D$13,MATCH("*yo",$D$8:$D$13,0)))))-1),INDIRECT("E"&ROW(INDEX($F$8:$F$13,MATCH("yo",$F$8:$F$13,0))))),IF(M4="yo",IF(ISNA(INDIRECT("E"&ROW(INDEX($F$8:$F$13,MATCH("s",$F$8:$F$13,0))))),LEFT(INDIRECT("D"&ROW(INDEX($D$8:$D$13,MATCH("*s",$D$8:$D$13,0)))),FIND(" ",INDIRECT("D"&ROW(INDEX($D$8:$D$13,MATCH("*s",$D$8:$D$13,0)))))-1),INDIRECT("E"&ROW(INDEX($F$8:$F$13,MATCH("s",$F$8:$F$13,0))))),IF(M4="e",IF(ISNA(INDIRECT("E"&ROW(INDEX($F$8:$F$13,MATCH("w",$F$8:$F$13,0))))),LEFT(INDIRECT("D"&ROW(INDEX($D$8:$D$13,MATCH("*w",$D$8:$D$13,0)))),FIND(" ",INDIRECT("D"&ROW(INDEX($D$8:$D$13,MATCH("*w",$D$8:$D$13,0)))))-1),INDIRECT("E"&ROW(INDEX($F$8:$F$13,MATCH("w",$F$8:$F$13,0))))),IF(M4="w",IF(ISNA(INDIRECT("E"&ROW(INDEX($F$8:$F$13,MATCH("e",$F$8:$F$13,0))))),LEFT(INDIRECT("D"&ROW(INDEX($D$8:$D$13,MATCH("*e",$D$8:$D$13,0)))),FIND(" ",INDIRECT("D"&ROW(INDEX($D$8:$D$13,MATCH("*e",$D$8:$D$13,0)))))-1),INDIRECT("E"&ROW(INDEX($F$8:$F$13,MATCH("e",$F$8:$F$13,0))))),IF(M4="h",IF(ISNA(INDIRECT("E"&ROW(INDEX($F$8:$F$13,MATCH("t",$F$8:$F$13,0))))),LEFT(INDIRECT("D"&ROW(INDEX($D$8:$D$13,MATCH("*t",$D$8:$D$13,0)))),FIND(" ",INDIRECT("D"&ROW(INDEX($D$8:$D$13,MATCH("*t",$D$8:$D$13,0)))))-1),INDIRECT("E"&ROW(INDEX($F$8:$F$13,MATCH("t",$F$8:$F$13,0))))),IF(M4="t",IF(ISNA(INDIRECT("E"&ROW(INDEX($F$8:$F$13,MATCH("h",$F$8:$F$13,0))))),LEFT(INDIRECT("D"&ROW(INDEX($D$8:$D$13,MATCH("*h",$D$8:$D$13,0)))),FIND(" ",INDIRECT("D"&ROW(INDEX($D$8:$D$13,MATCH("*h",$D$8:$D$13,0)))))-1),INDIRECT("E"&ROW(INDEX($F$8:$F$13,MATCH("h",$F$8:$F$13,0))))),IF(M4="sh",IF(ISNA(INDIRECT("E"&ROW(INDEX($F$8:$F$13,MATCH("cn",$F$8:$F$13,0))))),IF(ISNA(INDIRECT("E"&ROW(INDEX($F$8:$F$13,MATCH("c",$F$8:$F$13,0))))),IF(ISNA(INDIRECT("E"&ROW(INDEX($F$8:$F$13,MATCH("wa",$F$8:$F$13,0))))),"",INDIRECT("E"&ROW(INDEX($F$8:$F$13,MATCH("wa",$F$8:$F$13,0))))),INDIRECT("E"&ROW(INDEX($F$8:$F$13,MATCH("c",$F$8:$F$13,0))))),INDIRECT("E"&ROW(INDEX($F$8:$F$13,MATCH("cn",$F$8:$F$13,0))))),IF(M4="cn",IF(ISNA(INDIRECT("E"&ROW(INDEX($F$8:$F$13,MATCH("sh",$F$8:$F$13,0))))),IF(ISNA(INDIRECT("E"&ROW(INDEX($F$8:$F$13,MATCH("c",$F$8:$F$13,0))))),IF(ISNA(INDIRECT("E"&ROW(INDEX($F$8:$F$13,MATCH("wa",$F$8:$F$13,0))))),"",INDIRECT("E"&ROW(INDEX($F$8:$F$13,MATCH("wa",$F$8:$F$13,0))))),INDIRECT("E"&ROW(INDEX($F$8:$F$13,MATCH("c",$F$8:$F$13,0))))),INDIRECT("E"&ROW(INDEX($F$8:$F$13,MATCH("sh",$F$8:$F$13,0))))),IF(M4="c",IF(ISNA(INDIRECT("E"&ROW(INDEX($F$8:$F$13,MATCH("sh",$F$8:$F$13,0))))),IF(ISNA(INDIRECT("E"&ROW(INDEX($F$8:$F$13,MATCH("cn",$F$8:$F$13,0))))),IF(ISNA(INDIRECT("E"&ROW(INDEX($F$8:$F$13,MATCH("wa",$F$8:$F$13,0))))),"",INDIRECT("E"&ROW(INDEX($F$8:$F$13,MATCH("wa",$F$8:$F$13,0))))),INDIRECT("E"&ROW(INDEX($F$8:$F$13,MATCH("cn",$F$8:$F$13,0))))),INDIRECT("E"&ROW(INDEX($F$8:$F$13,MATCH("sh",$F$8:$F$13,0))))),IF(M4="wa",IF(ISNA(INDIRECT("E"&ROW(INDEX($F$8:$F$13,MATCH("sh",$F$8:$F$13,0))))),IF(ISNA(INDIRECT("E"&ROW(INDEX($F$8:$F$13,MATCH("cn",$F$8:$F$13,0))))),IF(ISNA(INDIRECT("E"&ROW(INDEX($F$8:$F$13,MATCH("c",$F$8:$F$13,0))))),"",INDIRECT("E"&ROW(INDEX($F$8:$F$13,MATCH("c",$F$8:$F$13,0))))),INDIRECT("E"&ROW(INDEX($F$8:$F$13,MATCH("cn",$F$8:$F$13,0))))),INDIRECT("E"&ROW(INDEX($F$8:$F$13,MATCH("sh",$F$8:$F$13,0))))),"")))))))))))),INDIRECT("E"&ROW(INDEX($F$8:$F$13,MATCH(M4,$F$8:$F$13,0))))),LEFT(INDIRECT("D"&ROW(INDEX($D$8:$D$13,MATCH("*"&M4,$D$8:$D$13,0)))),FIND(" ",INDIRECT("D"&ROW(INDEX($D$8:$D$13,MATCH("*"&M4,$D$8:$D$13,0)))))-1)),"")} -> R | M4: =$O$8&$O$9&$O$10&$O$11&$O$12&$O$13 -> s | P4: Métal + | Q4: Terre + | R4: Eau + | S4: Bois + | T4: Terre - | U4: Métal - | V4: Feu - | W4: Bois -
P5: Nord-Ouest | Q5: Nord-Est | R5: Nord | S5: Est | T5: Sud-Ouest | U5: Ouest | V5: Sud | W5: Sud-Est
D6: {=IF(F6<>"",INDIRECT("Hexagrammes!A"&ROW(INDEX(Hexagrammes!$B$2:$B$450,MATCH($F$6,Hexagrammes!$B$2:$B$450,0)))),"")} -> 17 | F6: =IF(AND(G8<>"",G13<>""),INDIRECT("Hexagrammes!B"&ROW(INDEX(Hexagrammes!$I$2:$I$450,MATCH(IF(G8="_o_",REPLACE(G8,1,3,"___"),IF(G8="_x_",REPLACE(G8,1,3,"_ _"),G8))&IF(G9="_o_",REPLACE(G9,1,3,"___"),IF(G9="_x_",REPLACE(G9,1,3,"_ _"),G9))&IF(G10="_o_",REPLACE(G10,1,3,"___"),IF(G10="_x_",REPLACE(G10,1,3,"_ _"),G10))&IF(G11="_o_",REPLACE(G11,1,3,"___"),IF(G11="_x_",REPLACE(G11,1,3,"_ _"),G11))&IF(G12="_o_",REPLACE(G12,1,3,"___"),IF(G12="_x_",REPLACE(G12,1,3,"_ _"),G12))&IF(G13="_o_",REPLACE(G13,1,3,"___"),IF(G13="_x_",REPLACE(G13,1,3,"_ _"),G13)),Hexagrammes!$I$2:$I$450,0)))),"") -> LA CHASSE | I6: {=IF(K6<>"",INDIRECT("Hexagrammes!A"&ROW(INDEX(Hexagrammes!$B$2:$B$450,MATCH($K$6,Hexagrammes!$B$2:$B$450,0)))),"")} -> 5 | K6: {=IF(AND(AND(G8<>"",G13<>""),AND(K8<>"",K13<>"")),INDIRECT("Hexagrammes!B"&ROW(INDEX(Hexagrammes!$I$2:$I$450,MATCH(K8&K9&K10&K11&K12&K13,Hexagrammes!$I$2:$I$450,0)))),"")} -> SE MOUILLER | P6: ___ | Q6: ___ | R6: _ _ | S6: _ _ | T6: _ _ | U6: _ _ | V6: ___ | W6: ___
A7: Nb | B7: Na | C7: Yin | D7: Invisible | E7: Aspects / | F7: Branches | G7: Lignes | H7: Sujet / Objet | I7: Aspects / | J7: Branches | K7: Lignes | L7: Génies | N7: Déités | P7: ___ | Q7: _ _ | R7: ___ | S7: _ _ | T7: _ _ | U7: ___ | V7: _ _ | W7: ___
A8: 2 | B8: =IF(AND(G8<>"",G10<>""),INDEX(Index!L77:S77,1,MATCH(IF(G8="_o_",REPLACE(G8,1,3,"___"),IF(G8="_x_",REPLACE(G8,1,3,"_ _"),G8))&IF(G9="_o_",REPLACE(G9,1,3,"___"),IF(G9="_x_",REPLACE(G9,1,3,"_ _"),G9))&IF(G10="_o_",REPLACE(G10,1,3,"___"),IF(G10="_x_",REPLACE(G10,1,3,"_ _"),G10)),Index!$L$76:$S$76,0)),"") -> Ding | C8: =VLOOKUP(F8,Abreviations,2,FALSE) -> Wei | D8: =IF(INDIRECT("Hexagrammes!D"&ROW(INDEX(Hexagrammes!$B$2:$B$450,MATCH($F$6,Hexagrammes!$B$2:$B$450,0))))="","",INDIRECT("Hexagrammes!D"&ROW(INDEX(Hexagrammes!$B$2:$B$450,MATCH($F$6,Hexagrammes!$B$2:$B$450,0))))) | E8: {=IF($F$6<>"",INDIRECT("Hexagrammes!E"&ROW(INDEX(Hexagrammes!$B$2:$B$450,MATCH($F$6,Hexagrammes!$B$2:$B$450,0)))),"")} -> G | F8: {=IF($F$6<>"",INDIRECT("Hexagrammes!F"&ROW(INDEX(Hexagrammes!$B$2:$B$450,MATCH($F$6,Hexagrammes!$B$2:$B$450,0)))),"")} -> wa | G8: =IFERROR(IF($A8<>"",VLOOKUP(A8,Yin_Yang,2,FALSE),""),"") -> _ _ | H8: =IF($F$6<>"",IF(INDIRECT("Hexagrammes!H"&ROW(INDEX(Hexagrammes!$B$2:$B$450,MATCH($F$6,Hexagrammes!$B$2:$B$450,0))))="","",INDIRECT("Hexagrammes!H"&ROW(INDEX(Hexagrammes!$B$2:$B$450,MATCH($F$6,Hexagrammes!$B$2:$B$450,0))))),IF(INDIRECT("Hexagrammes!H"&ROW(INDEX(Hexagrammes!$B$2:$B$450,MATCH($K$6,Hexagrammes!$B$2:$B$450,0))))="","",INDIRECT("Hexagrammes!H"&ROW(INDEX(Hexagrammes!$B$2:$B$450,MATCH($K$6,Hexagrammes!$B$2:$B$450,0)))))) -> Objet | I8: =IF(J8<>"",IF(ISNA(LEFT(INDIRECT("D"&ROW(INDEX($D$8:$D$13,MATCH("*" &J8,$D$8:$D$13,0)))),FIND(" ",INDIRECT("D"&ROW(INDEX($D$8:$D$13,MATCH("*"&J8,$D$8:$D$13,0)))))-1)),IF(ISNA(INDIRECT("F"&ROW(INDEX($F$8:$F$13,MATCH(J8,$F$8:$F$13,0))))),IF(J8="y",IF(ISNA(INDIRECT("E"&ROW(INDEX($F$8:$F$13,MATCH("m",$F$8:$F$13,0))))),LEFT(INDIRECT("D"&ROW(INDEX($D$8:$D$13,MATCH("*m",$D$8:$D$13,0)))),FIND(" ",INDIRECT("D"&ROW(INDEX($D$8:$D$13,MATCH("*m",$D$8:$D$13,0)))))-1),INDIRECT("E"&ROW(INDEX($F$8:$F$13,MATCH("m",$F$8:$F$13,0))))),IF(J8="m",IF(ISNA(INDIRECT("E"&ROW(INDEX($F$8:$F$13,MATCH("y",$F$8:$F$13,0))))),LEFT(INDIRECT("D"&ROW(INDEX($D$8:$D$13,MATCH("*y",$D$8:$D$13,0)))),FIND(" ",INDIRECT("D"&ROW(INDEX($D$8:$D$13,MATCH("*y",$D$8:$D$13,0)))))-1),INDIRECT("E"&ROW(INDEX($F$8:$F$13,MATCH("y",$F$8:$F$13,0))))),IF(J8="s",IF(ISNA(INDIRECT("E"&ROW(INDEX($F$8:$F$13,MATCH("yo",$F$8:$F$13,0))))),LEFT(INDIRECT("D"&ROW(INDEX($D$8:$D$13,MATCH("*yo",$D$8:$D$13,0)))),FIND(" ",INDIRECT("D"&ROW(INDEX($D$8:$D$13,MATCH("*yo",$D$8:$D$13,0)))))-1),INDIRECT("E"&ROW(INDEX($F$8:$F$13,MATCH("yo",$F$8:$F$13,0))))),IF(J8="yo",IF(ISNA(INDIRECT("E"&ROW(INDEX($F$8:$F$13,MATCH("s",$F$8:$F$13,0))))),LEFT(INDIRECT("D"&ROW(INDEX($D$8:$D$13,MATCH("*s",$D$8:$D$13,0)))),FIND(" ",INDIRECT("D"&ROW(INDEX($D$8:$D$13,MATCH("*s",$D$8:$D$13,0)))))-1),INDIRECT("E"&ROW(INDEX($F$8:$F$13,MATCH("s",$F$8:$F$13,0))))),IF(J8="e",IF(ISNA(INDIRECT("E"&ROW(INDEX($F$8:$F$13,MATCH("w",$F$8:$F$13,0))))),LEFT(INDIRECT("D"&ROW(INDEX($D$8:$D$13,MATCH("*w",$D$8:$D$13,0)))),FIND(" ",INDIRECT("D"&ROW(INDEX($D$8:$D$13,MATCH("*w",$D$8:$D$13,0)))))-1),INDIRECT("E"&ROW(INDEX($F$8:$F$13,MATCH("w",$F$8:$F$13,0))))),IF(J8="w",IF(ISNA(INDIRECT("E"&ROW(INDEX($F$8:$F$13,MATCH("e",$F$8:$F$13,0))))),LEFT(INDIRECT("D"&ROW(INDEX($D$8:$D$13,MATCH("*e",$D$8:$D$13,0)))),FIND(" ",INDIRECT("D"&ROW(INDEX($D$8:$D$13,MATCH("*e",$D$8:$D$13,0)))))-1),INDIRECT("E"&ROW(INDEX($F$8:$F$13,MATCH("e",$F$8:$F$13,0))))),IF(J8="h",IF(ISNA(INDIRECT("E"&ROW(INDEX($F$8:$F$13,MATCH("t",$F$8:$F$13,0))))),LEFT(INDIRECT("D"&ROW(INDEX($D$8:$D$13,MATCH("*t",$D$8:$D$13,0)))),FIND(" ",INDIRECT("D"&ROW(INDEX($D$8:$D$13,MATCH("*t",$D$8:$D$13,0)))))-1),INDIRECT("E"&ROW(INDEX($F$8:$F$13,MATCH("t",$F$8:$F$13,0))))),IF(J8="t",IF(ISNA(INDIRECT("E"&ROW(INDEX($F$8:$F$13,MATCH("h",$F$8:$F$13,0))))),LEFT(INDIRECT("D"&ROW(INDEX($D$8:$D$13,MATCH("*h",$D$8:$D$13,0)))),FIND(" ",INDIRECT("D"&ROW(INDEX($D$8:$D$13,MATCH("*h",$D$8:$D$13,0)))))-1),INDIRECT("E"&ROW(INDEX($F$8:$F$13,MATCH("h",$F$8:$F$13,0))))),IF(J8="sh",IF(ISNA(INDIRECT("E"&ROW(INDEX($F$8:$F$13,MATCH("cn",$F$8:$F$13,0))))),IF(ISNA(INDIRECT("E"&ROW(INDEX($F$8:$F$13,MATCH("c",$F$8:$F$13,0))))),IF(ISNA(INDIRECT("E"&ROW(INDEX($F$8:$F$13,MATCH("wa",$F$8:$F$13,0))))),"",INDIRECT("E"&ROW(INDEX($F$8:$F$13,MATCH("wa",$F$8:$F$13,0))))),INDIRECT("E"&ROW(INDEX($F$8:$F$13,MATCH("c",$F$8:$F$13,0))))),INDIRECT("E"&ROW(INDEX($F$8:$F$13,MATCH("cn",$F$8:$F$13,0))))),IF(J8="cn",IF(ISNA(INDIRECT("E"&ROW(INDEX($F$8:$F$13,MATCH("sh",$F$8:$F$13,0))))),IF(ISNA(INDIRECT("E"&ROW(INDEX($F$8:$F$13,MATCH("c",$F$8:$F$13,0))))),IF(ISNA(INDIRECT("E"&ROW(INDEX($F$8:$F$13,MATCH("wa",$F$8:$F$13,0))))),"",INDIRECT("E"&ROW(INDEX($F$8:$F$13,MATCH("wa",$F$8:$F$13,0))))),INDIRECT("E"&ROW(INDEX($F$8:$F$13,MATCH("c",$F$8:$F$13,0))))),INDIRECT("E"&ROW(INDEX($F$8:$F$13,MATCH("sh",$F$8:$F$13,0))))),IF(J8="c",IF(ISNA(INDIRECT("E"&ROW(INDEX($F$8:$F$13,MATCH("sh",$F$8:$F$13,0))))),IF(ISNA(INDIRECT("E"&ROW(INDEX($F$8:$F$13,MATCH("cn",$F$8:$F$13,0))))),IF(ISNA(INDIRECT("E"&ROW(INDEX($F$8:$F$13,MATCH("wa",$F$8:$F$13,0))))),"",INDIRECT("E"&ROW(INDEX($F$8:$F$13,MATCH("wa",$F$8:$F$13,0))))),INDIRECT("E"&ROW(INDEX($F$8:$F$13,MATCH("cn",$F$8:$F$13,0))))),INDIRECT("E"&ROW(INDEX($F$8:$F$13,MATCH("sh",$F$8:$F$13,0))))),IF(J8="wa",IF(ISNA(INDIRECT("E"&ROW(INDEX($F$8:$F$13,MATCH("sh",$F$8:$F$13,0))))),IF(ISNA(INDIRECT("E"&ROW(INDEX($F$8:$F$13,MATCH("cn",$F$8:$F$13,0))))),IF(ISNA(INDIRECT("E"&ROW(INDEX($F$8:$F$13,MATCH("c",$F$8:$F$13,0))))),"",INDIRECT("E"&ROW(INDEX($F$8:$F$13,MATCH("c",$F$8:$F$13,0))))),INDIRECT("E"&ROW(INDEX($F$8:$F$13,MATCH("cn",$F$8:$F$13,0))))),INDIRECT("E"&ROW(INDEX($F$8:$F$13,MATCH("sh",$F$8:$F$13,0))))),"")))))))))))),INDIRECT("E"&ROW(INDEX($F$8:$F$13,MATCH(J8,$F$8:$F$13,0))))),LEFT(INDIRECT("D"&ROW(INDEX($D$8:$D$13,MATCH("*"&J8,$D$8:$D$13,0)))),FIND(" ",INDIRECT("D"&ROW(INDEX($D$8:$D$13,MATCH("*"&J8,$D$8:$D$13,0)))))-1)),"") -> P | J8: {=IF($K$6<>"",INDIRECT("Hexagrammes!F"&ROW(INDEX(Hexagrammes!$B$2:$B$450,MATCH($K$6,Hexagrammes!$B$2:$B$450,0)))),"")} -> t | K8: =IF(AND(ISNA(INDEX($G$8:$G$13,MATCH("_o_",$G$8:$G$13,0))),ISNA(INDEX($G$8:$G$13,MATCH("_x_",$G$8:$G$13,0)))),"",VLOOKUP(A8,Yin_Yang,3,FALSE)) -> _ _ | L8: =VLOOKUP(J4,Liu_Shou,7,TRUE) -> Guerrier noir | N8: =INDEX(Index!$M$15:$V$26,MATCH(F8,Index!$L$15:$L$26,0),MATCH($J$4,Index!$M$14:$V$14,0)) -> Petite déception | O8: =IF(AND($H8="Sujet",OR($G8="___",$G8="_o_")),Index!B22,IF(AND($H8="Sujet",OR($G8="_ _",$G8="_x_")),Index!C22,"")) | P8: ___ | Q8: _ _ | R8: _ _ | S8: ___ | T8: _ _ | U8: ___ | V8: ___ | W8: _ _
A9: 1 | B9: =IF(AND(G8<>"",G10<>""),INDEX(Index!L77:S77,1,MATCH(IF(G8="_o_",REPLACE(G8,1,3,"___"),IF(G8="_x_",REPLACE(G8,1,3,"_ _"),G8))&IF(G9="_o_",REPLACE(G9,1,3,"___"),IF(G9="_x_",REPLACE(G9,1,3,"_ _"),G9))&IF(G10="_o_",REPLACE(G10,1,3,"___"),IF(G10="_x_",REPLACE(G10,1,3,"_ _"),G10)),Index!$L$76:$S$76,0)),"") -> Ding | C9: =VLOOKUP(F9,Abreviations,2,FALSE) -> You | D9: =IF(INDIRECT("Hexagrammes!D"&SUM(ROW(INDEX(Hexagrammes!$B$2:$B$450,MATCH($F$6,Hexagrammes!$B$2:$B$450,0))),1))="","",INDIRECT("Hexagrammes!D"&SUM(ROW(INDEX(Hexagrammes!$B$2:$B$450,MATCH($F$6,Hexagrammes!$B$2:$B$450,0))),1))) | E9: {=IF($F$6<>"",INDIRECT("Hexagrammes!E"&SUM(ROW(INDEX(Hexagrammes!$B$2:$B$450,MATCH($F$6,Hexagrammes!$B$2:$B$450,0))),1)),"")} -> R | F9: {=IF($F$6<>"",INDIRECT("Hexagrammes!F"&SUM(ROW(INDEX(Hexagrammes!$B$2:$B$450,MATCH($F$6,Hexagrammes!$B$2:$B$450,0))),1)),"")} -> yo | G9: =IFERROR(IF($A9<>"",VLOOKUP(A9,Yin_Yang,2,FALSE),""),"") -> ___ | H9: {=IF($F$6<>"",IF(INDIRECT("Hexagrammes!H"&SUM(ROW(INDEX(Hexagrammes!$B$2:$B$450,MATCH($F$6,Hexagrammes!$B$2:$B$450,0))),1))="","",INDIRECT("Hexagrammes!H"&SUM(ROW(INDEX(Hexagrammes!$B$2:$B$450,MATCH($F$6,Hexagrammes!$B$2:$B$450,0))),1))),IF(INDIRECT("Hexagrammes!H"&SUM(ROW(INDEX(Hexagrammes!$B$2:$B$450,MATCH($K$6,Hexagrammes!$B$2:$B$450,0))),1))="","",INDIRECT("Hexagrammes!H"&SUM(ROW(INDEX(Hexagrammes!$B$2:$B$450,MATCH($K$6,Hexagrammes!$B$2:$B$450,0))),1))))} | I9: =IF(J9<>"",IF(ISNA(LEFT(INDIRECT("D"&ROW(INDEX($D$8:$D$13,MATCH("*" &J9,$D$8:$D$13,0)))),FIND(" ",INDIRECT("D"&ROW(INDEX($D$8:$D$13,MATCH("*"&J9,$D$8:$D$13,0)))))-1)),IF(ISNA(INDIRECT("F"&ROW(INDEX($F$8:$F$13,MATCH(J9,$F$8:$F$13,0))))),IF(J9="y",IF(ISNA(INDIRECT("E"&ROW(INDEX($F$8:$F$13,MATCH("m",$F$8:$F$13,0))))),LEFT(INDIRECT("D"&ROW(INDEX($D$8:$D$13,MATCH("*m",$D$8:$D$13,0)))),FIND(" ",INDIRECT("D"&ROW(INDEX($D$8:$D$13,MATCH("*m",$D$8:$D$13,0)))))-1),INDIRECT("E"&ROW(INDEX($F$8:$F$13,MATCH("m",$F$8:$F$13,0))))),IF(J9="m",IF(ISNA(INDIRECT("E"&ROW(INDEX($F$8:$F$13,MATCH("y",$F$8:$F$13,0))))),LEFT(INDIRECT("D"&ROW(INDEX($D$8:$D$13,MATCH("*y",$D$8:$D$13,0)))),FIND(" ",INDIRECT("D"&ROW(INDEX($D$8:$D$13,MATCH("*y",$D$8:$D$13,0)))))-1),INDIRECT("E"&ROW(INDEX($F$8:$F$13,MATCH("y",$F$8:$F$13,0))))),IF(J9="s",IF(ISNA(INDIRECT("E"&ROW(INDEX($F$8:$F$13,MATCH("yo",$F$8:$F$13,0))))),LEFT(INDIRECT("D"&ROW(INDEX($D$8:$D$13,MATCH("*yo",$D$8:$D$13,0)))),FIND(" ",INDIRECT("D"&ROW(INDEX($D$8:$D$13,MATCH("*yo",$D$8:$D$13,0)))))-1),INDIRECT("E"&ROW(INDEX($F$8:$F$13,MATCH("yo",$F$8:$F$13,0))))),IF(J9="yo",IF(ISNA(INDIRECT("E"&ROW(INDEX($F$8:$F$13,MATCH("s",$F$8:$F$13,0))))),LEFT(INDIRECT("D"&ROW(INDEX($D$8:$D$13,MATCH("*s",$D$8:$D$13,0)))),FIND(" ",INDIRECT("D"&ROW(INDEX($D$8:$D$13,MATCH("*s",$D$8:$D$13,0)))))-1),INDIRECT("E"&ROW(INDEX($F$8:$F$13,MATCH("s",$F$8:$F$13,0))))),IF(J9="e",IF(ISNA(INDIRECT("E"&ROW(INDEX($F$8:$F$13,MATCH("w",$F$8:$F$13,0))))),LEFT(INDIRECT("D"&ROW(INDEX($D$8:$D$13,MATCH("*w",$D$8:$D$13,0)))),FIND(" ",INDIRECT("D"&ROW(INDEX($D$8:$D$13,MATCH("*w",$D$8:$D$13,0)))))-1),INDIRECT("E"&ROW(INDEX($F$8:$F$13,MATCH("w",$F$8:$F$13,0))))),IF(J9="w",IF(ISNA(INDIRECT("E"&ROW(INDEX($F$8:$F$13,MATCH("e",$F$8:$F$13,0))))),LEFT(INDIRECT("D"&ROW(INDEX($D$8:$D$13,MATCH("*e",$D$8:$D$13,0)))),FIND(" ",INDIRECT("D"&ROW(INDEX($D$8:$D$13,MATCH("*e",$D$8:$D$13,0)))))-1),INDIRECT("E"&ROW(INDEX($F$8:$F$13,MATCH("e",$F$8:$F$13,0))))),IF(J9="h",IF(ISNA(INDIRECT("E"&ROW(INDEX($F$8:$F$13,MATCH("t",$F$8:$F$13,0))))),LEFT(INDIRECT("D"&ROW(INDEX($D$8:$D$13,MATCH("*t",$D$8:$D$13,0)))),FIND(" ",INDIRECT("D"&ROW(INDEX($D$8:$D$13,MATCH("*t",$D$8:$D$13,0)))))-1),INDIRECT("E"&ROW(INDEX($F$8:$F$13,MATCH("t",$F$8:$F$13,0))))),IF(J9="t",IF(ISNA(INDIRECT("E"&ROW(INDEX($F$8:$F$13,MATCH("h",$F$8:$F$13,0))))),LEFT(INDIRECT("D"&ROW(INDEX($D$8:$D$13,MATCH("*h",$D$8:$D$13,0)))),FIND(" ",INDIRECT("D"&ROW(INDEX($D$8:$D$13,MATCH("*h",$D$8:$D$13,0)))))-1),INDIRECT("E"&ROW(INDEX($F$8:$F$13,MATCH("h",$F$8:$F$13,0))))),IF(J9="sh",IF(ISNA(INDIRECT("E"&ROW(INDEX($F$8:$F$13,MATCH("cn",$F$8:$F$13,0))))),IF(ISNA(INDIRECT("E"&ROW(INDEX($F$8:$F$13,MATCH("c",$F$8:$F$13,0))))),IF(ISNA(INDIRECT("E"&ROW(INDEX($F$8:$F$13,MATCH("wa",$F$8:$F$13,0))))),"",INDIRECT("E"&ROW(INDEX($F$8:$F$13,MATCH("wa",$F$8:$F$13,0))))),INDIRECT("E"&ROW(INDEX($F$8:$F$13,MATCH("c",$F$8:$F$13,0))))),INDIRECT("E"&ROW(INDEX($F$8:$F$13,MATCH("cn",$F$8:$F$13,0))))),IF(J9="cn",IF(ISNA(INDIRECT("E"&ROW(INDEX($F$8:$F$13,MATCH("sh",$F$8:$F$13,0))))),IF(ISNA(INDIRECT("E"&ROW(INDEX($F$8:$F$13,MATCH("c",$F$8:$F$13,0))))),IF(ISNA(INDIRECT("E"&ROW(INDEX($F$8:$F$13,MATCH("wa",$F$8:$F$13,0))))),"",INDIRECT("E"&ROW(INDEX($F$8:$F$13,MATCH("wa",$F$8:$F$13,0))))),INDIRECT("E"&ROW(INDEX($F$8:$F$13,MATCH("c",$F$8:$F$13,0))))),INDIRECT("E"&ROW(INDEX($F$8:$F$13,MATCH("sh",$F$8:$F$13,0))))),IF(J9="c",IF(ISNA(INDIRECT("E"&ROW(INDEX($F$8:$F$13,MATCH("sh",$F$8:$F$13,0))))),IF(ISNA(INDIRECT("E"&ROW(INDEX($F$8:$F$13,MATCH("cn",$F$8:$F$13,0))))),IF(ISNA(INDIRECT("E"&ROW(INDEX($F$8:$F$13,MATCH("wa",$F$8:$F$13,0))))),"",INDIRECT("E"&ROW(INDEX($F$8:$F$13,MATCH("wa",$F$8:$F$13,0))))),INDIRECT("E"&ROW(INDEX($F$8:$F$13,MATCH("cn",$F$8:$F$13,0))))),INDIRECT("E"&ROW(INDEX($F$8:$F$13,MATCH("sh",$F$8:$F$13,0))))),IF(J9="wa",IF(ISNA(INDIRECT("E"&ROW(INDEX($F$8:$F$13,MATCH("sh",$F$8:$F$13,0))))),IF(ISNA(INDIRECT("E"&ROW(INDEX($F$8:$F$13,MATCH("cn",$F$8:$F$13,0))))),IF(ISNA(INDIRECT("E"&ROW(INDEX($F$8:$F$13,MATCH("c",$F$8:$F$13,0))))),"",INDIRECT("E"&ROW(INDEX($F$8:$F$13,MATCH("c",$F$8:$F$13,0))))),INDIRECT("E"&ROW(INDEX($F$8:$F$13,MATCH("cn",$F$8:$F$13,0))))),INDIRECT("E"&ROW(INDEX($F$8:$F$13,MATCH("sh",$F$8:$F$13,0))))),"")))))))))))),INDIRECT("E"&ROW(INDEX($F$8:$F$13,MATCH(J9,$F$8:$F$13,0))))),LEFT(INDIRECT("D"&ROW(INDEX($D$8:$D$13,MATCH("*"&J9,$D$8:$D$13,0)))),FIND(" ",INDIRECT("D"&ROW(INDEX($D$8:$D$13,MATCH("*"&J9,$D$8:$D$13,0)))))-1)),"") -> G | J9: {=IF($K$6<>"",INDIRECT("Hexagrammes!F"&SUM(ROW(INDEX(Hexagrammes!$B$2:$B$450,MATCH($K$6,Hexagrammes!$B$2:$B$450,0))),1)),"")} -> sh | K9: =IF(AND(ISNA(INDEX($G$8:$G$13,MATCH("_o_",$G$8:$G$13,0))),ISNA(INDEX($G$8:$G$13,MATCH("_x_",$G$8:$G$13,0)))),"",VLOOKUP(A9,Yin_Yang,3,FALSE)) -> ___ | L9: =VLOOKUP(J4,Liu_Shou,6,TRUE) -> Tigre blanc | N9: =INDEX(Index!$M$15:$V$26,MATCH(F9,Index!$L$15:$L$26,0),MATCH($J$4,Index!$M$14:$V$14,0)) -> Oiseau Rouge | O9: =IF(AND($H9="Sujet",OR($G9="___",$G9="_o_")),Index!B23,IF(AND($H9="Sujet",OR($G9="_ _",$G9="_x_")),Index!C23,"")) | P9: Ren Xu | Q9: Bing Yin | R9: Wu Zi | S9: Geng Xu | T9: Gui You | U9: Ding Wei | V9: Ji Si | W9: Xin Mao
A10: 3 | B10: =IF(AND(G8<>"",G10<>""),INDEX(Index!L77:S77,1,MATCH(IF(G8="_o_",REPLACE(G8,1,3,"___"),IF(G8="_x_",REPLACE(G8,1,3,"_ _"),G8))&IF(G9="_o_",REPLACE(G9,1,3,"___"),IF(G9="_x_",REPLACE(G9,1,3,"_ _"),G9))&IF(G10="_o_",REPLACE(G10,1,3,"___"),IF(G10="_x_",REPLACE(G10,1,3,"_ _"),G10)),Index!$L$76:$S$76,0)),"") -> Ding | C10: =VLOOKUP(F10,Abreviations,2,FALSE) -> Hai | D10: =IF(INDIRECT("Hexagrammes!D"&SUM(ROW(INDEX(Hexagrammes!$B$2:$B$450,MATCH($F$6,Hexagrammes!$B$2:$B$450,0))),2))="","",INDIRECT("Hexagrammes!D"&SUM(ROW(INDEX(Hexagrammes!$B$2:$B$450,MATCH($F$6,Hexagrammes!$B$2:$B$450,0))),2))) -> C w | E10: {=IF($F$6<>"",INDIRECT("Hexagrammes!E"&SUM(ROW(INDEX(Hexagrammes!$B$2:$B$450,MATCH($F$6,Hexagrammes!$B$2:$B$450,0))),2)),"")} -> P | F10: {=IF($F$6<>"",INDIRECT("Hexagrammes!F"&SUM(ROW(INDEX(Hexagrammes!$B$2:$B$450,MATCH($F$6,Hexagrammes!$B$2:$B$450,0))),2)),"")} -> h | G10: =IFERROR(IF($A10<>"",VLOOKUP(A10,Yin_Yang,2,FALSE),""),"") -> _o_ | H10: {=IF($F$6<>"",IF(INDIRECT("Hexagrammes!H"&SUM(ROW(INDEX(Hexagrammes!$B$2:$B$450,MATCH($F$6,Hexagrammes!$B$2:$B$450,0))),2))="","",INDIRECT("Hexagrammes!H"&SUM(ROW(INDEX(Hexagrammes!$B$2:$B$450,MATCH($F$6,Hexagrammes!$B$2:$B$450,0))),2))),IF(INDIRECT("Hexagrammes!H"&SUM(ROW(INDEX(Hexagrammes!$B$2:$B$450,MATCH($K$6,Hexagrammes!$B$2:$B$450,0))),2))="","",INDIRECT("Hexagrammes!H"&SUM(ROW(INDEX(Hexagrammes!$B$2:$B$450,MATCH($K$6,Hexagrammes!$B$2:$B$450,0))),2))))} | I10: {=IF(J10<>"",IF(ISNA(LEFT(INDIRECT("D"&ROW(INDEX($D$8:$D$13,MATCH("*" &J10,$D$8:$D$13,0)))),FIND(" ",INDIRECT("D"&ROW(INDEX($D$8:$D$13,MATCH("*"&J10,$D$8:$D$13,0)))))-1)),IF(ISNA(INDIRECT("F"&ROW(INDEX($F$8:$F$13,MATCH(J10,$F$8:$F$13,0))))),IF(J10="y",IF(ISNA(INDIRECT("E"&ROW(INDEX($F$8:$F$13,MATCH("m",$F$8:$F$13,0))))),LEFT(INDIRECT("D"&ROW(INDEX($D$8:$D$13,MATCH("*m",$D$8:$D$13,0)))),FIND(" ",INDIRECT("D"&ROW(INDEX($D$8:$D$13,MATCH("*m",$D$8:$D$13,0)))))-1),INDIRECT("E"&ROW(INDEX($F$8:$F$13,MATCH("m",$F$8:$F$13,0))))),IF(J10="m",IF(ISNA(INDIRECT("E"&ROW(INDEX($F$8:$F$13,MATCH("y",$F$8:$F$13,0))))),LEFT(INDIRECT("D"&ROW(INDEX($D$8:$D$13,MATCH("*y",$D$8:$D$13,0)))),FIND(" ",INDIRECT("D"&ROW(INDEX($D$8:$D$13,MATCH("*y",$D$8:$D$13,0)))))-1),INDIRECT("E"&ROW(INDEX($F$8:$F$13,MATCH("y",$F$8:$F$13,0))))),IF(J10="s",IF(ISNA(INDIRECT("E"&ROW(INDEX($F$8:$F$13,MATCH("yo",$F$8:$F$13,0))))),LEFT(INDIRECT("D"&ROW(INDEX($D$8:$D$13,MATCH("*yo",$D$8:$D$13,0)))),FIND(" ",INDIRECT("D"&ROW(INDEX($D$8:$D$13,MATCH("*yo",$D$8:$D$13,0)))))-1),INDIRECT("E"&ROW(INDEX($F$8:$F$13,MATCH("yo",$F$8:$F$13,0))))),IF(J10="yo",IF(ISNA(INDIRECT("E"&ROW(INDEX($F$8:$F$13,MATCH("s",$F$8:$F$13,0))))),LEFT(INDIRECT("D"&ROW(INDEX($D$8:$D$13,MATCH("*s",$D$8:$D$13,0)))),FIND(" ",INDIRECT("D"&ROW(INDEX($D$8:$D$13,MATCH("*s",$D$8:$D$13,0)))))-1),INDIRECT("E"&ROW(INDEX($F$8:$F$13,MATCH("s",$F$8:$F$13,0))))),IF(J10="e",IF(ISNA(INDIRECT("E"&ROW(INDEX($F$8:$F$13,MATCH("w",$F$8:$F$13,0))))),LEFT(INDIRECT("D"&ROW(INDEX($D$8:$D$13,MATCH("*w",$D$8:$D$13,0)))),FIND(" ",INDIRECT("D"&ROW(INDEX($D$8:$D$13,MATCH("*w",$D$8:$D$13,0)))))-1),INDIRECT("E"&ROW(INDEX($F$8:$F$13,MATCH("w",$F$8:$F$13,0))))),IF(J10="w",IF(ISNA(INDIRECT("E"&ROW(INDEX($F$8:$F$13,MATCH("e",$F$8:$F$13,0))))),LEFT(INDIRECT("D"&ROW(INDEX($D$8:$D$13,MATCH("*e",$D$8:$D$13,0)))),FIND(" ",INDIRECT("D"&ROW(INDEX($D$8:$D$13,MATCH("*e",$D$8:$D$13,0)))))-1),INDIRECT("E"&ROW(INDEX($F$8:$F$13,MATCH("e",$F$8:$F$13,0))))),IF(J10="h",IF(ISNA(INDIRECT("E"&ROW(INDEX($F$8:$F$13,MATCH("t",$F$8:$F$13,0))))),LEFT(INDIRECT("D"&ROW(INDEX($D$8:$D$13,MATCH("*t",$D$8:$D$13,0)))),FIND(" ",INDIRECT("D"&ROW(INDEX($D$8:$D$13,MATCH("*t",$D$8:$D$13,0)))))-1),INDIRECT("E"&ROW(INDEX($F$8:$F$13,MATCH("t",$F$8:$F$13,0))))),IF(J10="t",IF(ISNA(INDIRECT("E"&ROW(INDEX($F$8:$F$13,MATCH("h",$F$8:$F$13,0))))),LEFT(INDIRECT("D"&ROW(INDEX($D$8:$D$13,MATCH("*h",$D$8:$D$13,0)))),FIND(" ",INDIRECT("D"&ROW(INDEX($D$8:$D$13,MATCH("*h",$D$8:$D$13,0)))))-1),INDIRECT("E"&ROW(INDEX($F$8:$F$13,MATCH("h",$F$8:$F$13,0))))),IF(J10="sh",IF(ISNA(INDIRECT("E"&ROW(INDEX($F$8:$F$13,MATCH("cn",$F$8:$F$13,0))))),IF(ISNA(INDIRECT("E"&ROW(INDEX($F$8:$F$13,MATCH("c",$F$8:$F$13,0))))),IF(ISNA(INDIRECT("E"&ROW(INDEX($F$8:$F$13,MATCH("wa",$F$8:$F$13,0))))),"",INDIRECT("E"&ROW(INDEX($F$8:$F$13,MATCH("wa",$F$8:$F$13,0))))),INDIRECT("E"&ROW(INDEX($F$8:$F$13,MATCH("c",$F$8:$F$13,0))))),INDIRECT("E"&ROW(INDEX($F$8:$F$13,MATCH("cn",$F$8:$F$13,0))))),IF(J10="cn",IF(ISNA(INDIRECT("E"&ROW(INDEX($F$8:$F$13,MATCH("sh",$F$8:$F$13,0))))),IF(ISNA(INDIRECT("E"&ROW(INDEX($F$8:$F$13,MATCH("c",$F$8:$F$13,0))))),IF(ISNA(INDIRECT("E"&ROW(INDEX($F$8:$F$13,MATCH("wa",$F$8:$F$13,0))))),"",INDIRECT("E"&ROW(INDEX($F$8:$F$13,MATCH("wa",$F$8:$F$13,0))))),INDIRECT("E"&ROW(INDEX($F$8:$F$13,MATCH("c",$F$8:$F$13,0))))),INDIRECT("E"&ROW(INDEX($F$8:$F$13,MATCH("sh",$F$8:$F$13,0))))),IF(J10="c",IF(ISNA(INDIRECT("E"&ROW(INDEX($F$8:$F$13,MATCH("sh",$F$8:$F$13,0))))),IF(ISNA(INDIRECT("E"&ROW(INDEX($F$8:$F$13,MATCH("cn",$F$8:$F$13,0))))),IF(ISNA(INDIRECT("E"&ROW(INDEX($F$8:$F$13,MATCH("wa",$F$8:$F$13,0))))),"",INDIRECT("E"&ROW(INDEX($F$8:$F$13,MATCH("wa",$F$8:$F$13,0))))),INDIRECT("E"&ROW(INDEX($F$8:$F$13,MATCH("cn",$F$8:$F$13,0))))),INDIRECT("E"&ROW(INDEX($F$8:$F$13,MATCH("sh",$F$8:$F$13,0))))),IF(J10="wa",IF(ISNA(INDIRECT("E"&ROW(INDEX($F$8:$F$13,MATCH("sh",$F$8:$F$13,0))))),IF(ISNA(INDIRECT("E"&ROW(INDEX($F$8:$F$13,MATCH("cn",$F$8:$F$13,0))))),IF(ISNA(INDIRECT("E"&ROW(INDEX($F$8:$F$13,MATCH("c",$F$8:$F$13,0))))),"",INDIRECT("E"&ROW(INDEX($F$8:$F$13,MATCH("c",$F$8:$F$13,0))))),INDIRECT("E"&ROW(INDEX($F$8:$F$13,MATCH("cn",$F$8:$F$13,0))))),INDIRECT("E"&ROW(INDEX($F$8:$F$13,MATCH("sh",$F$8:$F$13,0))))),"")))))))))))),INDIRECT("E"&ROW(INDEX($F$8:$F$13,MATCH(J10,$F$8:$F$13,0))))),LEFT(INDIRECT("D"&ROW(INDEX($D$8:$D$13,MATCH("*"&J10,$D$8:$D$13,0)))),FIND(" ",INDIRECT("D"&ROW(INDEX($D$8:$D$13,MATCH("*"&J10,$D$8:$D$13,0)))))-1)),"")} -> R | J10: {=IF($K$6<>"",INDIRECT("Hexagrammes!F"&SUM(ROW(INDEX(Hexagrammes!$B$2:$B$450,MATCH($K$6,Hexagrammes!$B$2:$B$450,0))),2)),"")} -> s | K10: =IF(AND(ISNA(INDEX($G$8:$G$13,MATCH("_o_",$G$8:$G$13,0))),ISNA(INDEX($G$8:$G$13,MATCH("_x_",$G$8:$G$13,0)))),"",VLOOKUP(A10,Yin_Yang,3,FALSE)) -> _ _ | L10: =VLOOKUP(J4,Liu_Shou,5,TRUE) -> Serpent gris | N10: =INDEX(Index!$M$15:$V$26,MATCH(F10,Index!$L$15:$L$26,0),MATCH($J$4,Index!$M$14:$V$14,0)) -> Déité Noble | O10: =IF(AND($H10="Sujet",OR($G10="___",$G10="_o_")),Index!B24,IF(AND($H10="Sujet",OR($G10="_ _",$G10="_x_")),Index!C24,"")) | P10: Ren Shen | Q10: Bing Zi | R10: Wu Xu | S10: Geng Shen | T10: Gui Hai | U10: Ding You | V10: Ji Wei | W10: Xin Si
A11: 0 | B11: =IF(AND(G11<>"",G13<>""),INDEX(Index!L77:S77,1,MATCH(IF(G11="_o_",REPLACE(G11,1,3,"___"),IF(G11="_x_",REPLACE(G11,1,3,"_ _"),G11))&IF(G12="_o_",REPLACE(G12,1,3,"___"),IF(G12="_x_",REPLACE(G12,1,3,"_ _"),G12))&IF(G13="_o_",REPLACE(G13,1,3,"___"),IF(G13="_x_",REPLACE(G13,1,3,"_ _"),G13)),Index!$L$76:$S$76,0)),"") -> Geng | C11: =VLOOKUP(F11,Abreviations,2,FALSE) -> Chen | D11: =IF(INDIRECT("Hexagrammes!D"&SUM(ROW(INDEX(Hexagrammes!$B$2:$B$450,MATCH($F$6,Hexagrammes!$B$2:$B$450,0))),3))="","",INDIRECT("Hexagrammes!D"&SUM(ROW(INDEX(Hexagrammes!$B$2:$B$450,MATCH($F$6,Hexagrammes!$B$2:$B$450,0))),3))) | E11: {=IF($F$6<>"",INDIRECT("Hexagrammes!E"&SUM(ROW(INDEX(Hexagrammes!$B$2:$B$450,MATCH($F$6,Hexagrammes!$B$2:$B$450,0))),3)),"")} -> G | F11: {=IF($F$6<>"",INDIRECT("Hexagrammes!F"&SUM(ROW(INDEX(Hexagrammes!$B$2:$B$450,MATCH($F$6,Hexagrammes!$B$2:$B$450,0))),3)),"")} -> cn | G11: =IFERROR(IF($A11<>"",VLOOKUP(A11,Yin_Yang,2,FALSE),""),"") -> _x_ | H11: {=IF($F$6<>"",IF(INDIRECT("Hexagrammes!H"&SUM(ROW(INDEX(Hexagrammes!$B$2:$B$450,MATCH($F$6,Hexagrammes!$B$2:$B$450,0))),3))="","",INDIRECT("Hexagrammes!H"&SUM(ROW(INDEX(Hexagrammes!$B$2:$B$450,MATCH($F$6,Hexagrammes!$B$2:$B$450,0))),3))),IF(INDIRECT("Hexagrammes!H"&SUM(ROW(INDEX(Hexagrammes!$B$2:$B$450,MATCH($K$6,Hexagrammes!$B$2:$B$450,0))),3))="","",INDIRECT("Hexagrammes!H"&SUM(ROW(INDEX(Hexagrammes!$B$2:$B$450,MATCH($K$6,Hexagrammes!$B$2:$B$450,0))),3))))} -> Sujet | I11: {=IF(J11<>"",IF(ISNA(LEFT(INDIRECT("D"&ROW(INDEX($D$8:$D$13,MATCH("*" &J11,$D$8:$D$13,0)))),FIND(" ",INDIRECT("D"&ROW(INDEX($D$8:$D$13,MATCH("*"&J11,$D$8:$D$13,0)))))-1)),IF(ISNA(INDIRECT("F"&ROW(INDEX($F$8:$F$13,MATCH(J11,$F$8:$F$13,0))))),IF(J11="y",IF(ISNA(INDIRECT("E"&ROW(INDEX($F$8:$F$13,MATCH("m",$F$8:$F$13,0))))),LEFT(INDIRECT("D"&ROW(INDEX($D$8:$D$13,MATCH("*m",$D$8:$D$13,0)))),FIND(" ",INDIRECT("D"&ROW(INDEX($D$8:$D$13,MATCH("*m",$D$8:$D$13,0)))))-1),INDIRECT("E"&ROW(INDEX($F$8:$F$13,MATCH("m",$F$8:$F$13,0))))),IF(J11="m",IF(ISNA(INDIRECT("E"&ROW(INDEX($F$8:$F$13,MATCH("y",$F$8:$F$13,0))))),LEFT(INDIRECT("D"&ROW(INDEX($D$8:$D$13,MATCH("*y",$D$8:$D$13,0)))),FIND(" ",INDIRECT("D"&ROW(INDEX($D$8:$D$13,MATCH("*y",$D$8:$D$13,0)))))-1),INDIRECT("E"&ROW(INDEX($F$8:$F$13,MATCH("y",$F$8:$F$13,0))))),IF(J11="s",IF(ISNA(INDIRECT("E"&ROW(INDEX($F$8:$F$13,MATCH("yo",$F$8:$F$13,0))))),LEFT(INDIRECT("D"&ROW(INDEX($D$8:$D$13,MATCH("*yo",$D$8:$D$13,0)))),FIND(" ",INDIRECT("D"&ROW(INDEX($D$8:$D$13,MATCH("*yo",$D$8:$D$13,0)))))-1),INDIRECT("E"&ROW(INDEX($F$8:$F$13,MATCH("yo",$F$8:$F$13,0))))),IF(J11="yo",IF(ISNA(INDIRECT("E"&ROW(INDEX($F$8:$F$13,MATCH("s",$F$8:$F$13,0))))),LEFT(INDIRECT("D"&ROW(INDEX($D$8:$D$13,MATCH("*s",$D$8:$D$13,0)))),FIND(" ",INDIRECT("D"&ROW(INDEX($D$8:$D$13,MATCH("*s",$D$8:$D$13,0)))))-1),INDIRECT("E"&ROW(INDEX($F$8:$F$13,MATCH("s",$F$8:$F$13,0))))),IF(J11="e",IF(ISNA(INDIRECT("E"&ROW(INDEX($F$8:$F$13,MATCH("w",$F$8:$F$13,0))))),LEFT(INDIRECT("D"&ROW(INDEX($D$8:$D$13,MATCH("*w",$D$8:$D$13,0)))),FIND(" ",INDIRECT("D"&ROW(INDEX($D$8:$D$13,MATCH("*w",$D$8:$D$13,0)))))-1),INDIRECT("E"&ROW(INDEX($F$8:$F$13,MATCH("w",$F$8:$F$13,0))))),IF(J11="w",IF(ISNA(INDIRECT("E"&ROW(INDEX($F$8:$F$13,MATCH("e",$F$8:$F$13,0))))),LEFT(INDIRECT("D"&ROW(INDEX($D$8:$D$13,MATCH("*e",$D$8:$D$13,0)))),FIND(" ",INDIRECT("D"&ROW(INDEX($D$8:$D$13,MATCH("*e",$D$8:$D$13,0)))))-1),INDIRECT("E"&ROW(INDEX($F$8:$F$13,MATCH("e",$F$8:$F$13,0))))),IF(J11="h",IF(ISNA(INDIRECT("E"&ROW(INDEX($F$8:$F$13,MATCH("t",$F$8:$F$13,0))))),LEFT(INDIRECT("D"&ROW(INDEX($D$8:$D$13,MATCH("*t",$D$8:$D$13,0)))),FIND(" ",INDIRECT("D"&ROW(INDEX($D$8:$D$13,MATCH("*t",$D$8:$D$13,0)))))-1),INDIRECT("E"&ROW(INDEX($F$8:$F$13,MATCH("t",$F$8:$F$13,0))))),IF(J11="t",IF(ISNA(INDIRECT("E"&ROW(INDEX($F$8:$F$13,MATCH("h",$F$8:$F$13,0))))),LEFT(INDIRECT("D"&ROW(INDEX($D$8:$D$13,MATCH("*h",$D$8:$D$13,0)))),FIND(" ",INDIRECT("D"&ROW(INDEX($D$8:$D$13,MATCH("*h",$D$8:$D$13,0)))))-1),INDIRECT("E"&ROW(INDEX($F$8:$F$13,MATCH("h",$F$8:$F$13,0))))),IF(J11="sh",IF(ISNA(INDIRECT("E"&ROW(INDEX($F$8:$F$13,MATCH("cn",$F$8:$F$13,0))))),IF(ISNA(INDIRECT("E"&ROW(INDEX($F$8:$F$13,MATCH("c",$F$8:$F$13,0))))),IF(ISNA(INDIRECT("E"&ROW(INDEX($F$8:$F$13,MATCH("wa",$F$8:$F$13,0))))),"",INDIRECT("E"&ROW(INDEX($F$8:$F$13,MATCH("wa",$F$8:$F$13,0))))),INDIRECT("E"&ROW(INDEX($F$8:$F$13,MATCH("c",$F$8:$F$13,0))))),INDIRECT("E"&ROW(INDEX($F$8:$F$13,MATCH("cn",$F$8:$F$13,0))))),IF(J11="cn",IF(ISNA(INDIRECT("E"&ROW(INDEX($F$8:$F$13,MATCH("sh",$F$8:$F$13,0))))),IF(ISNA(INDIRECT("E"&ROW(INDEX($F$8:$F$13,MATCH("c",$F$8:$F$13,0))))),IF(ISNA(INDIRECT("E"&ROW(INDEX($F$8:$F$13,MATCH("wa",$F$8:$F$13,0))))),"",INDIRECT("E"&ROW(INDEX($F$8:$F$13,MATCH("wa",$F$8:$F$13,0))))),INDIRECT("E"&ROW(INDEX($F$8:$F$13,MATCH("c",$F$8:$F$13,0))))),INDIRECT("E"&ROW(INDEX($F$8:$F$13,MATCH("sh",$F$8:$F$13,0))))),IF(J11="c",IF(ISNA(INDIRECT("E"&ROW(INDEX($F$8:$F$13,MATCH("sh",$F$8:$F$13,0))))),IF(ISNA(INDIRECT("E"&ROW(INDEX($F$8:$F$13,MATCH("cn",$F$8:$F$13,0))))),IF(ISNA(INDIRECT("E"&ROW(INDEX($F$8:$F$13,MATCH("wa",$F$8:$F$13,0))))),"",INDIRECT("E"&ROW(INDEX($F$8:$F$13,MATCH("wa",$F$8:$F$13,0))))),INDIRECT("E"&ROW(INDEX($F$8:$F$13,MATCH("cn",$F$8:$F$13,0))))),INDIRECT("E"&ROW(INDEX($F$8:$F$13,MATCH("sh",$F$8:$F$13,0))))),IF(J11="wa",IF(ISNA(INDIRECT("E"&ROW(INDEX($F$8:$F$13,MATCH("sh",$F$8:$F$13,0))))),IF(ISNA(INDIRECT("E"&ROW(INDEX($F$8:$F$13,MATCH("cn",$F$8:$F$13,0))))),IF(ISNA(INDIRECT("E"&ROW(INDEX($F$8:$F$13,MATCH("c",$F$8:$F$13,0))))),"",INDIRECT("E"&ROW(INDEX($F$8:$F$13,MATCH("c",$F$8:$F$13,0))))),INDIRECT("E"&ROW(INDEX($F$8:$F$13,MATCH("cn",$F$8:$F$13,0))))),INDIRECT("E"&ROW(INDEX($F$8:$F$13,MATCH("sh",$F$8:$F$13,0))))),"")))))))))))),INDIRECT("E"&ROW(INDEX($F$8:$F$13,MATCH(J11,$F$8:$F$13,0))))),LEFT(INDIRECT("D"&ROW(INDEX($D$8:$D$13,MATCH("*"&J11,$D$8:$D$13,0)))),FIND(" ",INDIRECT("D"&ROW(INDEX($D$8:$D$13,MATCH("*"&J11,$D$8:$D$13,0)))))-1)),"")} -> G | J11: {=IF($K$6<>"",INDIRECT("Hexagrammes!F"&SUM(ROW(INDEX(Hexagrammes!$B$2:$B$450,MATCH($K$6,Hexagrammes!$B$2:$B$450,0))),3)),"")} -> cn | K11: =IF(AND(ISNA(INDEX($G$8:$G$13,MATCH("_o_",$G$8:$G$13,0))),ISNA(INDEX($G$8:$G$13,MATCH("_x_",$G$8:$G$13,0)))),"",VLOOKUP(A11,Yin_Yang,3,FALSE)) -> ___ | L11: =VLOOKUP(J4,Liu_Shou,4,TRUE) -> Scorpion jaune | N11: =INDEX(Index!$M$15:$V$26,MATCH(F11,Index!$L$15:$L$26,0),MATCH($J$4,Index!$M$14:$V$14,0)) -> Porte Funeste | O11: =IF(AND($H11="Sujet",OR($G11="___",$G11="_o_")),Index!B25,IF(AND($H11="Sujet",OR($G11="_ _",$G11="_x_")),Index!C25,"")) -> s | P11: Ren Wu | Q11: Bing Xu | R11: Wu Shen | S11: Geng Wu | T11: Gui Chou | U11: Ding Hai | V11: Ji You | W11: Xin Wei
A12: 0 | B12: =IF(AND(G11<>"",G13<>""),INDEX(Index!L77:S77,1,MATCH(IF(G11="_o_",REPLACE(G11,1,3,"___"),IF(G11="_x_",REPLACE(G11,1,3,"_ _"),G11))&IF(G12="_o_",REPLACE(G12,1,3,"___"),IF(G12="_x_",REPLACE(G12,1,3,"_ _"),G12))&IF(G13="_o_",REPLACE(G13,1,3,"___"),IF(G13="_x_",REPLACE(G13,1,3,"_ _"),G13)),Index!$L$76:$S$76,0)),"") -> Geng | C12: =VLOOKUP(F12,Abreviations,2,FALSE) -> Yin | D12: =IF(INDIRECT("Hexagrammes!D"&SUM(ROW(INDEX(Hexagrammes!$B$2:$B$450,MATCH($F$6,Hexagrammes!$B$2:$B$450,0))),4))="","",INDIRECT("Hexagrammes!D"&SUM(ROW(INDEX(Hexagrammes!$B$2:$B$450,MATCH($F$6,Hexagrammes!$B$2:$B$450,0))),4))) | E12: {=IF($F$6<>"",INDIRECT("Hexagrammes!E"&SUM(ROW(INDEX(Hexagrammes!$B$2:$B$450,MATCH($F$6,Hexagrammes!$B$2:$B$450,0))),4)),"")} -> B | F12: {=IF($F$6<>"",INDIRECT("Hexagrammes!F"&SUM(ROW(INDEX(Hexagrammes!$B$2:$B$450,MATCH($F$6,Hexagrammes!$B$2:$B$450,0))),4)),"")} -> y | G12: =IFERROR(IF($A12<>"",VLOOKUP(A12,Yin_Yang,2,FALSE),""),"") -> _x_ | H12: {=IF($F$6<>"",IF(INDIRECT("Hexagrammes!H"&SUM(ROW(INDEX(Hexagrammes!$B$2:$B$450,MATCH($F$6,Hexagrammes!$B$2:$B$450,0))),4))="","",INDIRECT("Hexagrammes!H"&SUM(ROW(INDEX(Hexagrammes!$B$2:$B$450,MATCH($F$6,Hexagrammes!$B$2:$B$450,0))),4))),IF(INDIRECT("Hexagrammes!H"&SUM(ROW(INDEX(Hexagrammes!$B$2:$B$450,MATCH($K$6,Hexagrammes!$B$2:$B$450,0))),4))="","",INDIRECT("Hexagrammes!H"&SUM(ROW(INDEX(Hexagrammes!$B$2:$B$450,MATCH($K$6,Hexagrammes!$B$2:$B$450,0))),4))))} | I12: {=IF(J12<>"",IF(ISNA(LEFT(INDIRECT("D"&ROW(INDEX($D$8:$D$13,MATCH("*" &J12,$D$8:$D$13,0)))),FIND(" ",INDIRECT("D"&ROW(INDEX($D$8:$D$13,MATCH("*"&J12,$D$8:$D$13,0)))))-1)),IF(ISNA(INDIRECT("F"&ROW(INDEX($F$8:$F$13,MATCH(J12,$F$8:$F$13,0))))),IF(J12="y",IF(ISNA(INDIRECT("E"&ROW(INDEX($F$8:$F$13,MATCH("m",$F$8:$F$13,0))))),LEFT(INDIRECT("D"&ROW(INDEX($D$8:$D$13,MATCH("*m",$D$8:$D$13,0)))),FIND(" ",INDIRECT("D"&ROW(INDEX($D$8:$D$13,MATCH("*m",$D$8:$D$13,0)))))-1),INDIRECT("E"&ROW(INDEX($F$8:$F$13,MATCH("m",$F$8:$F$13,0))))),IF(J12="m",IF(ISNA(INDIRECT("E"&ROW(INDEX($F$8:$F$13,MATCH("y",$F$8:$F$13,0))))),LEFT(INDIRECT("D"&ROW(INDEX($D$8:$D$13,MATCH("*y",$D$8:$D$13,0)))),FIND(" ",INDIRECT("D"&ROW(INDEX($D$8:$D$13,MATCH("*y",$D$8:$D$13,0)))))-1),INDIRECT("E"&ROW(INDEX($F$8:$F$13,MATCH("y",$F$8:$F$13,0))))),IF(J12="s",IF(ISNA(INDIRECT("E"&ROW(INDEX($F$8:$F$13,MATCH("yo",$F$8:$F$13,0))))),LEFT(INDIRECT("D"&ROW(INDEX($D$8:$D$13,MATCH("*yo",$D$8:$D$13,0)))),FIND(" ",INDIRECT("D"&ROW(INDEX($D$8:$D$13,MATCH("*yo",$D$8:$D$13,0)))))-1),INDIRECT("E"&ROW(INDEX($F$8:$F$13,MATCH("yo",$F$8:$F$13,0))))),IF(J12="yo",IF(ISNA(INDIRECT("E"&ROW(INDEX($F$8:$F$13,MATCH("s",$F$8:$F$13,0))))),LEFT(INDIRECT("D"&ROW(INDEX($D$8:$D$13,MATCH("*s",$D$8:$D$13,0)))),FIND(" ",INDIRECT("D"&ROW(INDEX($D$8:$D$13,MATCH("*s",$D$8:$D$13,0)))))-1),INDIRECT("E"&ROW(INDEX($F$8:$F$13,MATCH("s",$F$8:$F$13,0))))),IF(J12="e",IF(ISNA(INDIRECT("E"&ROW(INDEX($F$8:$F$13,MATCH("w",$F$8:$F$13,0))))),LEFT(INDIRECT("D"&ROW(INDEX($D$8:$D$13,MATCH("*w",$D$8:$D$13,0)))),FIND(" ",INDIRECT("D"&ROW(INDEX($D$8:$D$13,MATCH("*w",$D$8:$D$13,0)))))-1),INDIRECT("E"&ROW(INDEX($F$8:$F$13,MATCH("w",$F$8:$F$13,0))))),IF(J12="w",IF(ISNA(INDIRECT("E"&ROW(INDEX($F$8:$F$13,MATCH("e",$F$8:$F$13,0))))),LEFT(INDIRECT("D"&ROW(INDEX($D$8:$D$13,MATCH("*e",$D$8:$D$13,0)))),FIND(" ",INDIRECT("D"&ROW(INDEX($D$8:$D$13,MATCH("*e",$D$8:$D$13,0)))))-1),INDIRECT("E"&ROW(INDEX($F$8:$F$13,MATCH("e",$F$8:$F$13,0))))),IF(J12="h",IF(ISNA(INDIRECT("E"&ROW(INDEX($F$8:$F$13,MATCH("t",$F$8:$F$13,0))))),LEFT(INDIRECT("D"&ROW(INDEX($D$8:$D$13,MATCH("*t",$D$8:$D$13,0)))),FIND(" ",INDIRECT("D"&ROW(INDEX($D$8:$D$13,MATCH("*t",$D$8:$D$13,0)))))-1),INDIRECT("E"&ROW(INDEX($F$8:$F$13,MATCH("t",$F$8:$F$13,0))))),IF(J12="t",IF(ISNA(INDIRECT("E"&ROW(INDEX($F$8:$F$13,MATCH("h",$F$8:$F$13,0))))),LEFT(INDIRECT("D"&ROW(INDEX($D$8:$D$13,MATCH("*h",$D$8:$D$13,0)))),FIND(" ",INDIRECT("D"&ROW(INDEX($D$8:$D$13,MATCH("*h",$D$8:$D$13,0)))))-1),INDIRECT("E"&ROW(INDEX($F$8:$F$13,MATCH("h",$F$8:$F$13,0))))),IF(J12="sh",IF(ISNA(INDIRECT("E"&ROW(INDEX($F$8:$F$13,MATCH("cn",$F$8:$F$13,0))))),IF(ISNA(INDIRECT("E"&ROW(INDEX($F$8:$F$13,MATCH("c",$F$8:$F$13,0))))),IF(ISNA(INDIRECT("E"&ROW(INDEX($F$8:$F$13,MATCH("wa",$F$8:$F$13,0))))),"",INDIRECT("E"&ROW(INDEX($F$8:$F$13,MATCH("wa",$F$8:$F$13,0))))),INDIRECT("E"&ROW(INDEX($F$8:$F$13,MATCH("c",$F$8:$F$13,0))))),INDIRECT("E"&ROW(INDEX($F$8:$F$13,MATCH("cn",$F$8:$F$13,0))))),IF(J12="cn",IF(ISNA(INDIRECT("E"&ROW(INDEX($F$8:$F$13,MATCH("sh",$F$8:$F$13,0))))),IF(ISNA(INDIRECT("E"&ROW(INDEX($F$8:$F$13,MATCH("c",$F$8:$F$13,0))))),IF(ISNA(INDIRECT("E"&ROW(INDEX($F$8:$F$13,MATCH("wa",$F$8:$F$13,0))))),"",INDIRECT("E"&ROW(INDEX($F$8:$F$13,MATCH("wa",$F$8:$F$13,0))))),INDIRECT("E"&ROW(INDEX($F$8:$F$13,MATCH("c",$F$8:$F$13,0))))),INDIRECT("E"&ROW(INDEX($F$8:$F$13,MATCH("sh",$F$8:$F$13,0))))),IF(J12="c",IF(ISNA(INDIRECT("E"&ROW(INDEX($F$8:$F$13,MATCH("sh",$F$8:$F$13,0))))),IF(ISNA(INDIRECT("E"&ROW(INDEX($F$8:$F$13,MATCH("cn",$F$8:$F$13,0))))),IF(ISNA(INDIRECT("E"&ROW(INDEX($F$8:$F$13,MATCH("wa",$F$8:$F$13,0))))),"",INDIRECT("E"&ROW(INDEX($F$8:$F$13,MATCH("wa",$F$8:$F$13,0))))),INDIRECT("E"&ROW(INDEX($F$8:$F$13,MATCH("cn",$F$8:$F$13,0))))),INDIRECT("E"&ROW(INDEX($F$8:$F$13,MATCH("sh",$F$8:$F$13,0))))),IF(J12="wa",IF(ISNA(INDIRECT("E"&ROW(INDEX($F$8:$F$13,MATCH("sh",$F$8:$F$13,0))))),IF(ISNA(INDIRECT("E"&ROW(INDEX($F$8:$F$13,MATCH("cn",$F$8:$F$13,0))))),IF(ISNA(INDIRECT("E"&ROW(INDEX($F$8:$F$13,MATCH("c",$F$8:$F$13,0))))),"",INDIRECT("E"&ROW(INDEX($F$8:$F$13,MATCH("c",$F$8:$F$13,0))))),INDIRECT("E"&ROW(INDEX($F$8:$F$13,MATCH("cn",$F$8:$F$13,0))))),INDIRECT("E"&ROW(INDEX($F$8:$F$13,MATCH("sh",$F$8:$F$13,0))))),"")))))))))))),INDIRECT("E"&ROW(INDEX($F$8:$F$13,MATCH(J12,$F$8:$F$13,0))))),LEFT(INDIRECT("D"&ROW(INDEX($D$8:$D$13,MATCH("*"&J12,$D$8:$D$13,0)))),FIND(" ",INDIRECT("D"&ROW(INDEX($D$8:$D$13,MATCH("*"&J12,$D$8:$D$13,0)))))-1)),"")} -> B | J12: {=IF($K$6<>"",INDIRECT("Hexagrammes!F"&SUM(ROW(INDEX(Hexagrammes!$B$2:$B$450,MATCH($K$6,Hexagrammes!$B$2:$B$450,0))),4)),"")} -> y | K12: =IF(AND(ISNA(INDEX($G$8:$G$13,MATCH("_o_",$G$8:$G$13,0))),ISNA(INDEX($G$8:$G$13,MATCH("_x_",$G$8:$G$13,0)))),"",VLOOKUP(A12,Yin_Yang,3,FALSE)) -> ___ | L12: =VLOOKUP(J4,Liu_Shou,3,TRUE) -> Phénix rouge | N12: =INDEX(Index!$M$15:$V$26,MATCH(F12,Index!$L$15:$L$26,0),MATCH($J$4,Index!$M$14:$V$14,0)) -> Grand Duc | O12: =IF(AND($H12="Sujet",OR($G12="___",$G12="_o_")),Index!B26,IF(AND($H12="Sujet",OR($G12="_ _",$G12="_x_")),Index!C26,"")) | P12: Jia Chen | Q12: Bing Shen | R12: Wu Wu | S12: Geng Chen | T12: Yi Mao | U12: Ding Chou | V12: Ji Hai | W12: Xin You
A13: 1 | B13: =IF(AND(G11<>"",G13<>""),INDEX(Index!L77:S77,1,MATCH(IF(G11="_o_",REPLACE(G11,1,3,"___"),IF(G11="_x_",REPLACE(G11,1,3,"_ _"),G11))&IF(G12="_o_",REPLACE(G12,1,3,"___"),IF(G12="_x_",REPLACE(G12,1,3,"_ _"),G12))&IF(G13="_o_",REPLACE(G13,1,3,"___"),IF(G13="_x_",REPLACE(G13,1,3,"_ _"),G13)),Index!$L$76:$S$76,0)),"") -> Geng | C13: =VLOOKUP(F13,Abreviations,2,FALSE) -> Zi | D13: =IF(INDIRECT("Hexagrammes!D"&SUM(ROW(INDEX(Hexagrammes!$B$2:$B$450,MATCH($F$6,Hexagrammes!$B$2:$B$450,0))),5))="","",INDIRECT("Hexagrammes!D"&SUM(ROW(INDEX(Hexagrammes!$B$2:$B$450,MATCH($F$6,Hexagrammes!$B$2:$B$450,0))),5))) | E13: {=IF($F$6<>"",INDIRECT("Hexagrammes!E"&SUM(ROW(INDEX(Hexagrammes!$B$2:$B$450,MATCH($F$6,Hexagrammes!$B$2:$B$450,0))),5)),"")} -> P | F13: {=IF($F$6<>"",INDIRECT("Hexagrammes!F"&SUM(ROW(INDEX(Hexagrammes!$B$2:$B$450,MATCH($F$6,Hexagrammes!$B$2:$B$450,0))),5)),"")} -> t | G13: =IFERROR(IF($A13<>"",VLOOKUP(A13,Yin_Yang,2,FALSE),""),"") -> ___ | H13: {=IF($F$6<>"",IF(INDIRECT("Hexagrammes!H"&SUM(ROW(INDEX(Hexagrammes!$B$2:$B$450,MATCH($F$6,Hexagrammes!$B$2:$B$450,0))),5))="","",INDIRECT("Hexagrammes!H"&SUM(ROW(INDEX(Hexagrammes!$B$2:$B$450,MATCH($F$6,Hexagrammes!$B$2:$B$450,0))),5))),IF(INDIRECT("Hexagrammes!H"&SUM(ROW(INDEX(Hexagrammes!$B$2:$B$450,MATCH($K$6,Hexagrammes!$B$2:$B$450,0))),5))="","",INDIRECT("Hexagrammes!H"&SUM(ROW(INDEX(Hexagrammes!$B$2:$B$450,MATCH($K$6,Hexagrammes!$B$2:$B$450,0))),5))))} | I13: =IF(J13<>"",IF(ISNA(LEFT(INDIRECT("D"&ROW(INDEX($D$8:$D$13,MATCH("*" &J13,$D$8:$D$13,0)))),FIND(" ",INDIRECT("D"&ROW(INDEX($D$8:$D$13,MATCH("*"&J13,$D$8:$D$13,0)))))-1)),IF(ISNA(INDIRECT("F"&ROW(INDEX($F$8:$F$13,MATCH(J13,$F$8:$F$13,0))))),IF(J13="y",IF(ISNA(INDIRECT("E"&ROW(INDEX($F$8:$F$13,MATCH("m",$F$8:$F$13,0))))),LEFT(INDIRECT("D"&ROW(INDEX($D$8:$D$13,MATCH("*m",$D$8:$D$13,0)))),FIND(" ",INDIRECT("D"&ROW(INDEX($D$8:$D$13,MATCH("*m",$D$8:$D$13,0)))))-1),INDIRECT("E"&ROW(INDEX($F$8:$F$13,MATCH("m",$F$8:$F$13,0))))),IF(J13="m",IF(ISNA(INDIRECT("E"&ROW(INDEX($F$8:$F$13,MATCH("y",$F$8:$F$13,0))))),LEFT(INDIRECT("D"&ROW(INDEX($D$8:$D$13,MATCH("*y",$D$8:$D$13,0)))),FIND(" ",INDIRECT("D"&ROW(INDEX($D$8:$D$13,MATCH("*y",$D$8:$D$13,0)))))-1),INDIRECT("E"&ROW(INDEX($F$8:$F$13,MATCH("y",$F$8:$F$13,0))))),IF(J13="s",IF(ISNA(INDIRECT("E"&ROW(INDEX($F$8:$F$13,MATCH("yo",$F$8:$F$13,0))))),LEFT(INDIRECT("D"&ROW(INDEX($D$8:$D$13,MATCH("*yo",$D$8:$D$13,0)))),FIND(" ",INDIRECT("D"&ROW(INDEX($D$8:$D$13,MATCH("*yo",$D$8:$D$13,0)))))-1),INDIRECT("E"&ROW(INDEX($F$8:$F$13,MATCH("yo",$F$8:$F$13,0))))),IF(J13="yo",IF(ISNA(INDIRECT("E"&ROW(INDEX($F$8:$F$13,MATCH("s",$F$8:$F$13,0))))),LEFT(INDIRECT("D"&ROW(INDEX($D$8:$D$13,MATCH("*s",$D$8:$D$13,0)))),FIND(" ",INDIRECT("D"&ROW(INDEX($D$8:$D$13,MATCH("*s",$D$8:$D$13,0)))))-1),INDIRECT("E"&ROW(INDEX($F$8:$F$13,MATCH("s",$F$8:$F$13,0))))),IF(J13="e",IF(ISNA(INDIRECT("E"&ROW(INDEX($F$8:$F$13,MATCH("w",$F$8:$F$13,0))))),LEFT(INDIRECT("D"&ROW(INDEX($D$8:$D$13,MATCH("*w",$D$8:$D$13,0)))),FIND(" ",INDIRECT("D"&ROW(INDEX($D$8:$D$13,MATCH("*w",$D$8:$D$13,0)))))-1),INDIRECT("E"&ROW(INDEX($F$8:$F$13,MATCH("w",$F$8:$F$13,0))))),IF(J13="w",IF(ISNA(INDIRECT("E"&ROW(INDEX($F$8:$F$13,MATCH("e",$F$8:$F$13,0))))),LEFT(INDIRECT("D"&ROW(INDEX($D$8:$D$13,MATCH("*e",$D$8:$D$13,0)))),FIND(" ",INDIRECT("D"&ROW(INDEX($D$8:$D$13,MATCH("*e",$D$8:$D$13,0)))))-1),INDIRECT("E"&ROW(INDEX($F$8:$F$13,MATCH("e",$F$8:$F$13,0))))),IF(J13="h",IF(ISNA(INDIRECT("E"&ROW(INDEX($F$8:$F$13,MATCH("t",$F$8:$F$13,0))))),LEFT(INDIRECT("D"&ROW(INDEX($D$8:$D$13,MATCH("*t",$D$8:$D$13,0)))),FIND(" ",INDIRECT("D"&ROW(INDEX($D$8:$D$13,MATCH("*t",$D$8:$D$13,0)))))-1),INDIRECT("E"&ROW(INDEX($F$8:$F$13,MATCH("t",$F$8:$F$13,0))))),IF(J13="t",IF(ISNA(INDIRECT("E"&ROW(INDEX($F$8:$F$13,MATCH("h",$F$8:$F$13,0))))),LEFT(INDIRECT("D"&ROW(INDEX($D$8:$D$13,MATCH("*h",$D$8:$D$13,0)))),FIND(" ",INDIRECT("D"&ROW(INDEX($D$8:$D$13,MATCH("*h",$D$8:$D$13,0)))))-1),INDIRECT("E"&ROW(INDEX($F$8:$F$13,MATCH("h",$F$8:$F$13,0))))),IF(J13="sh",IF(ISNA(INDIRECT("E"&ROW(INDEX($F$8:$F$13,MATCH("cn",$F$8:$F$13,0))))),IF(ISNA(INDIRECT("E"&ROW(INDEX($F$8:$F$13,MATCH("c",$F$8:$F$13,0))))),IF(ISNA(INDIRECT("E"&ROW(INDEX($F$8:$F$13,MATCH("wa",$F$8:$F$13,0))))),"",INDIRECT("E"&ROW(INDEX($F$8:$F$13,MATCH("wa",$F$8:$F$13,0))))),INDIRECT("E"&ROW(INDEX($F$8:$F$13,MATCH("c",$F$8:$F$13,0))))),INDIRECT("E"&ROW(INDEX($F$8:$F$13,MATCH("cn",$F$8:$F$13,0))))),IF(J13="cn",IF(ISNA(INDIRECT("E"&ROW(INDEX($F$8:$F$13,MATCH("sh",$F$8:$F$13,0))))),IF(ISNA(INDIRECT("E"&ROW(INDEX($F$8:$F$13,MATCH("c",$F$8:$F$13,0))))),IF(ISNA(INDIRECT("E"&ROW(INDEX($F$8:$F$13,MATCH("wa",$F$8:$F$13,0))))),"",INDIRECT("E"&ROW(INDEX($F$8:$F$13,MATCH("wa",$F$8:$F$13,0))))),INDIRECT("E"&ROW(INDEX($F$8:$F$13,MATCH("c",$F$8:$F$13,0))))),INDIRECT("E"&ROW(INDEX($F$8:$F$13,MATCH("sh",$F$8:$F$13,0))))),IF(J13="c",IF(ISNA(INDIRECT("E"&ROW(INDEX($F$8:$F$13,MATCH("sh",$F$8:$F$13,0))))),IF(ISNA(INDIRECT("E"&ROW(INDEX($F$8:$F$13,MATCH("cn",$F$8:$F$13,0))))),IF(ISNA(INDIRECT("E"&ROW(INDEX($F$8:$F$13,MATCH("wa",$F$8:$F$13,0))))),"",INDIRECT("E"&ROW(INDEX($F$8:$F$13,MATCH("wa",$F$8:$F$13,0))))),INDIRECT("E"&ROW(INDEX($F$8:$F$13,MATCH("cn",$F$8:$F$13,0))))),INDIRECT("E"&ROW(INDEX($F$8:$F$13,MATCH("sh",$F$8:$F$13,0))))),IF(J13="wa",IF(ISNA(INDIRECT("E"&ROW(INDEX($F$8:$F$13,MATCH("sh",$F$8:$F$13,0))))),IF(ISNA(INDIRECT("E"&ROW(INDEX($F$8:$F$13,MATCH("cn",$F$8:$F$13,0))))),IF(ISNA(INDIRECT("E"&ROW(INDEX($F$8:$F$13,MATCH("c",$F$8:$F$13,0))))),"",INDIRECT("E"&ROW(INDEX($F$8:$F$13,MATCH("c",$F$8:$F$13,0))))),INDIRECT("E"&ROW(INDEX($F$8:$F$13,MATCH("cn",$F$8:$F$13,0))))),INDIRECT("E"&ROW(INDEX($F$8:$F$13,MATCH("sh",$F$8:$F$13,0))))),"")))))))))))),INDIRECT("E"&ROW(INDEX($F$8:$F$13,MATCH(J13,$F$8:$F$13,0))))),LEFT(INDIRECT("D"&ROW(INDEX($D$8:$D$13,MATCH("*"&J13,$D$8:$D$13,0)))),FIND(" ",INDIRECT("D"&ROW(INDEX($D$8:$D$13,MATCH("*"&J13,$D$8:$D$13,0)))))-1)),"") -> P | J13: {=IF($K$6<>"",INDIRECT("Hexagrammes!F"&SUM(ROW(INDEX(Hexagrammes!$B$2:$B$450,MATCH($K$6,Hexagrammes!$B$2:$B$450,0))),5)),"")} -> t | K13: =IF(AND(ISNA(INDEX($G$8:$G$13,MATCH("_o_",$G$8:$G$13,0))),ISNA(INDEX($G$8:$G$13,MATCH("_x_",$G$8:$G$13,0)))),"",VLOOKUP(A13,Yin_Yang,3,FALSE)) -> ___ | L13: =VLOOKUP(J4,Liu_Shou,2,TRUE) -> Dragon vert | N13: =INDEX(Index!$M$15:$V$26,MATCH(F13,Index!$L$15:$L$26,0),MATCH($J$4,Index!$M$14:$V$14,0)) -> Visiteur Funeste | O13: =IF(AND($H13="Sujet",OR($G13="___",$G13="_o_")),Index!B27,IF(AND($H13="Sujet",OR($G13="_ _",$G13="_x_")),Index!C27,"")) | P13: Jia Yin | Q13: Bing Wu | R13: Wu Chen | S13: Geng Yin | T13: Yi Si | U13: Ding Mao | V13: Ji Chou | W13: Xin Hai
E14: =IF($F$6<>"",IF(INDIRECT("Hexagrammes!C"&ROW(INDEX(Hexagrammes!$B$2:$B$450,MATCH($F$6,Hexagrammes!$B$2:$B$450,0))))="","",INDIRECT("Hexagrammes!C"&ROW(INDEX(Hexagrammes!$B$2:$B$450,MATCH($F$6,Hexagrammes!$B$2:$B$450,0))))),"") -> RETOUR | J14: =IF(K6<>"",IF(INDIRECT("Hexagrammes!C"&ROW(INDEX(Hexagrammes!$B$2:$B$450,MATCH($K$6,Hexagrammes!$B$2:$B$450,0))))="","",INDIRECT("Hexagrammes!C"&ROW(INDEX(Hexagrammes!$B$2:$B$450,MATCH($K$6,Hexagrammes!$B$2:$B$450,0))))),"") -> DEPART | P14: Jia Zi | Q14: Bing Chen | R14: Wu Yin | S14: Geng Zi | T14: Yi Wei | U14: Ding Si | V14: Ji Mao | W14: Xin Chou
A16: NA YIN
A17: L6 | B17: =INDEX(Index!M29:V40,MATCH(C8,Index!L29:L40,0),MATCH(B8,Index!M28:V28,0)) -> 22 | C17: =VLOOKUP(B17,Na_Yin,2,FALSE) -> L'eau du Fleuve Céleste | F17: =VLOOKUP(B17,Na_Yin,4,FALSE) -> Pleine lune, pluie, scintillement à la surface de l’eau, chute d’eau, château d’eau
A18: L5 | B18: =INDEX(Index!M29:V40,MATCH(C9,Index!L29:L40,0),MATCH(B9,Index!M28:V28,0)) -> 17 | C18: =VLOOKUP(B18,Na_Yin,2,FALSE) -> Le feu sous la montagne | F18: =VLOOKUP(B18,Na_Yin,4,FALSE) -> Incendie, éclairage public, feu de camp, chandelle allumée, torche, centrale thermique, four
A19: L4 | B19: =INDEX(Index!M29:V40,MATCH(C10,Index!L29:L40,0),MATCH(B10,Index!M28:V28,0)) -> 12 | C19: =VLOOKUP(B19,Na_Yin,2,FALSE) -> La terre sur les toits | F19: =VLOOKUP(B19,Na_Yin,4,FALSE) -> Monticule, poterie, plaines, carreau de céramique, maison, décorations, publicités, tombe ou mausolée, gros oeuvre
A20: L3 | B20: =INDEX(Index!M29:V40,MATCH(C11,Index!L29:L40,0),MATCH(B11,Index!M28:V28,0)) -> 9 | C20: =VLOOKUP(B20,Na_Yin,2,FALSE) -> L'or des chandeliers blancs | F20: =VLOOKUP(B20,Na_Yin,4,FALSE) -> Étain, cire, jade, minerai, scalpel, sécurité, fausse monnaie, produits cosmétiques, arme factice, produits chimiques
A21: L2 | B21: =INDEX(Index!M29:V40,MATCH(C12,Index!L29:L40,0),MATCH(B12,Index!M28:V28,0)) -> 14 | C21: =VLOOKUP(B21,Na_Yin,2,FALSE) -> Le bois des conifères | F21: =VLOOKUP(B21,Na_Yin,4,FALSE) -> Conifère, pylône, tour métallique, cimetière militaire, longévité, force, rigueur, au bureau
A22: L1 | B22: =INDEX(Index!M29:V40,MATCH(C13,Index!L29:L40,0),MATCH(B13,Index!M28:V28,0)) -> 19 | C22: =VLOOKUP(B22,Na_Yin,2,FALSE) -> Terre sur les murs | F22: =VLOOKUP(B22,Na_Yin,4,FALSE) -> Maison, mur, tombeau, rénovation, peinture suspendue au mur, bandit, ne rien faire, s’occuper de ses affaires, publicité extérieure, fenêtre (si vide ou dans le trigramme supérieur)

Sheet Index
A1: Nombre | B1: Type 1 | C1: Type 2 | E1: Date | F1: Mois | G1: Jour | H1: Tronc Céleste | I1: N° TC | J1: Kong Wang | L1: Tronc Céleste | M1: I - II | N1: III - IV | O1: V | P1: VI | Q1: VII - VIII | R1: IX - X
A2: 0 | B2: _x_ | C2: ___ | E2: 43466 | F2: t | G2: sh | H2: wu | I2: V | J2: cn, e | M2: Ligne 1 | N2: Ligne 2 | O2: Ligne 3 | P2: Ligne 4 | Q2: Ligne 5 | R2: Ligne 6
A3: 1 | B3: ___ | C3: ___ | E3: 43467 | F3: t | G3: h | H3: ji | I3: VI | J3: cn, e | L3: I | M3: Dragon vert | N3: Phénix rouge | O3: Scorpion jaune | P3: Serpent gris | Q3: Tigre blanc | R3: Guerrier noir
A4: 2 | B4: _ _ | C4: _ _ | E4: 43468 | F4: t | G4: t | H4: geng | I4: VII | J4: cn, e | L4: II | M4: Dragon vert | N4: Phénix rouge | O4: Scorpion jaune | P4: Serpent gris | Q4: Tigre blanc | R4: Guerrier noir
A5: 3 | B5: _o_ | C5: _ _ | E5: 43469 | F5: t | G5: c | H5: xin | I5: VIII | J5: cn, e | L5: III | M5: Phénix rouge | N5: Scorpion jaune | O5: Serpent gris | P5: Tigre blanc | Q5: Guerrier noir | R5: Dragon vert
E6: 43470 | F6: t | G6: y | H6: ren | I6: IX | J6: cn, e | L6: IV | M6: Phénix rouge | N6: Scorpion jaune | O6: Serpent gris | P6: Tigre blanc | Q6: Guerrier noir | R6: Dragon vert
A7: Abréviations | B7: Animaux | E7: 43471 | F7: c | G7: m | H7: gui | I7: X | J7: cn, e | L7: V | M7: Scorpion jaune | N7: Serpent gris | O7: Tigre blanc | P7: Guerrier noir | Q7: Dragon vert | R7: Phénix rouge
A8: c | B8: Chou | E8: 43472 | F8: c | G8: cn | H8: jia | I8: I | J8: y, m | L8: VI | M8: Serpent gris | N8: Tigre blanc | O8: Guerrier noir | P8: Dragon vert | Q8: Phénix rouge | R8: Scorpion jaune
A9: y | B9: Yin | E9: 43473 | F9: c | G9: e | H9: yi | I9: II | J9: y, m | L9: VII | M9: Tigre blanc | N9: Guerrier noir | O9: Dragon vert | P9: Phénix rouge | Q9: Scorpion jaune | R9: Serpent gris
A10: m | B10: Mao | E10: 43474 | F10: c | G10: w | H10: bing | I10: III | J10: y, m | L10: VIII | M10: Tigre blanc | N10: Guerrier noir | O10: Dragon vert | P10: Phénix rouge | Q10: Scorpion jaune | R10: Serpent gris
A11: cn | B11: Chen | E11: 43475 | F11: c | G11: wa | H11: ding | I11: IV | J11: y, m | L11: IX | M11: Guerrier noir | N11: Dragon vert | O11: Phénix rouge | P11: Scorpion jaune | Q11: Serpent gris | R11: Tigre blanc
A12: e | B12: Si | E12: 43476 | F12: c | G12: s | H12: wu | I12: V | J12: y, m | L12: X | M12: Guerrier noir | N12: Dragon vert | O12: Phénix rouge | P12: Scorpion jaune | Q12: Serpent gris | R12: Tigre blanc
A13: w | B13: Wu | E13: 43477 | F13: c | G13: yo | H13: ji | I13: VI | J13: y, m
A14: wa | B14: Wei | E14: 43478 | F14: c | G14: sh | H14: geng | I14: VII | J14: y, m | L14: Tronc Céleste | M14: I | N14: II | O14: III | P14: IV | Q14: V | R14: VI | S14: VII | T14: VIII | U14: IX | V14: X
A15: s | B15: Shen | E15: 43479 | F15: c | G15: h | H15: xin | I15: VIII | J15: y, m | L15: c | M15: Maléfice | N15: Visiteur Funeste | O15: Tigre Blanc | P15: Oiseau Rouge | Q15: Liu He | R15: Grand Duc | S15: Petite Déception | T15: Amulette | U15: Porte Funeste | V15: Dragon de Jade
A16: yo | B16: You | E16: 43480 | F16: c | G16: t | H16: ren | I16: IX | J16: y, m | L16: y | M16: Grand Duc | N16: Maléfice | O16: Déité Noble | P16: Tigre Blanc | Q16: Amulette | R16: Dragon de Jade | S16: Grande Déception | T16: Petite Déception | U16: Liu He | V16: Porte Funeste
A17: sh | B17: Xu | E17: 43481 | F17: c | G17: c | H17: gui | I17: X | J17: y, m | L17: m | M17: Dragon de Jade | N17: Grand Duc | O17: Visiteur Funeste | P17: Déité Noble | Q17: Petite Déception | R17: Porte Funeste | S17: Oiseau Rouge | T17: Grande Déception | U17: Amulette | V17: Liu He
A18: h | B18: Hai | E18: 43482 | F18: c | G18: y | H18: jia | I18: I | J18: t, c | L18: cn | M18: Porte Funeste | N18: Dragon de Jade | O18: Maléfice | P18: Visiteur Funeste | Q18: Grande Déception | R18: Liu He | S18: Tigre Blanc | T18: Oiseau Rouge | U18: Petite Déception | V18: Amulette
A19: t | B19: Zi | E19: 43483 | F19: c | G19: m | H19: yi | I19: II | J19: t, c | L19: e | M19: Liu He | N19: Porte Funeste | O19: Grand Duc | P19: Maléfice | Q19: Oiseau Rouge | R19: Amulette | S19: Déité Noble | T19: Tigre Blanc | U19: Grande Déception | V19: Petite Déception
E20: 43484 | F20: c | G20: cn | H20: bing | I20: III | J20: t, c | L20: w | M20: Amulette | N20: Liu He | O20: Dragon de Jade | P20: Grand Duc | Q20: Tigre Blanc | R20: Petite Déception | S20: Visiteur Funeste | T20: Déité Noble | U20: Oiseau Rouge | V20: Grande Déception
A21: Ligne Sujet | B21: ___ | C21: _ _ | E21: 43485 | F21: c | G21: e | H21: ding | I21: IV | J21: t, c | L21: wa | M21: Petite déception | N21: Amulette | O21: Porte Funeste | P21: Dragon de Jade | Q21: Déité Noble | R21: Grande Déception | S21: Maléfice | T21: Visiteur Funeste | U21: Tigre Blanc | V21: Oiseau Rouge
A22: 6 | B22: e | C22: h | E22: 43486 | F22: c | G22: w | H22: wu | I22: V | J22: t, c | L22: s | M22: Grande Déception | N22: Petite déception | O22: Liu He | P22: Porte Funeste | Q22: Visiteur Funeste | R22: Oiseau Rouge | S22: Grand Duc | T22: Maléfice | U22: Déité Noble | V22: Tigre Blanc
A23: 5 | B23: cn | C23: sh | E23: 43487 | F23: c | G23: wa | H23: ji | I23: VI | J23: t, c | L23: yo | M23: Oiseau Rouge | N23: Grande Déception | O23: Amulette | P23: Liu He | Q23: Maléfice | R23: Tigre Blanc | S23: Dragon de Jade | T23: Grand Duc | U23: Visiteur Funeste | V23: Déité Noble
A24: 4 | B24: m | C24: yo | E24: 43488 | F24: c | G24: s | H24: geng | I24: VII | J24: t, c | L24: sh | M24: Tigre Blanc | N24: Oiseau Rouge | O24: Petite Déception | P24: Amulette | Q24: Grand Duc | R24: Déité Noble | S24: Porte Funeste | T24: Dragon de Jade | U24: Maléfice | V24: Visiteur Funeste
A25: 3 | B25: y | C25: s | E25: 43489 | F25: c | G25: yo | H25: xin | I25: VIII | J25: t, c | L25: h | M25: Déité Noble | N25: Tigre Blanc | O25: Grande Déception | P25: Petite Déception | Q25: Dragon de Jade | R25: Visiteur Funeste | S25: Liu He | T25: Porte Funeste | U25: Grand Duc | V25: Maléfice
A26: 2 | B26: c | C26: wa | E26: 43490 | F26: c | G26: sh | H26: ren | I26: IX | J26: t, c | L26: t | M26: Visiteur Funeste | N26: Déité Noble | O26: Oiseau Rouge | P26: Grande Déception | Q26: Porte Funeste | R26: Maléfice | S26: Amulette | T26: Liu He | U26: Dragon de Jade | V26: Grand Duc
A27: 1 | B27: t | C27: w | E27: 43491 | F27: c | G27: h | H27: gui | I27: X | J27: t, c
E28: 43492 | F28: c | G28: t | H28: jia | I28: I | J28: sh, h | M28: Jia | N28: Yi | O28: Bing | P28: Ding | Q28: Wu | R28: Ji | S28: Geng | T28: Xin | U28: Ren | V28: Gui
E29: 43493 | F29: c | G29: c | H29: yi | I29: II | J29: sh, h | L29: Zi | M29: 1 | O29: 7 | Q29: 13 | S29: 19 | U29: 25
E30: 43494 | F30: c | G30: y | H30: bing | I30: III | J30: sh, h | L30: Chou | N30: 1 | P30: 7 | R30: 13 | T30: 19 | V30: 25
E31: 43495 | F31: c | G31: m | H31: ding | I31: IV | J31: sh, h | L31: Yin | M31: 26 | O31: 2 | Q31: 8 | S31: 14 | U31: 20
E32: 43496 | F32: c | G32: cn | H32: wu | I32: V | J32: sh, h | L32: Mao | N32: 26 | P32: 2 | R32: 8 | T32: 14 | V32: 20
E33: 43497 | F33: c | G33: e | H33: ji | I33: VI | J33: sh, h | L33: Chen | M33: 21 | O33: 27 | Q33: 3 | S33: 9 | U33: 15
E34: 43498 | F34: c | G34: w | H34: geng | I34: VII | J34: sh, h | L34: Si | N34: 21 | P34: 27 | R34: 3 | T34: 9 | V34: 15
E35: 43499 | F35: c | G35: wa | H35: xin | I35: VIII | J35: sh, h | L35: Wu | M35: 16 | O35: 22 | Q35: 28 | S35: 4 | U35: 10
E36: 43500 | F36: y | G36: s | H36: ren | I36: IX | J36: sh, h | L36: Wei | N36: 16 | P36: 22 | R36: 28 | T36: 4 | V36: 10
E37: 43501 | F37: y | G37: yo | H37: gui | I37: X | J37: sh, h | L37: Shen | M37: 11 | O37: 17 | Q37: 23 | S37: 29 | U37: 5
E38: 43502 | F38: y | G38: sh | H38: jia | I38: I | J38: s, yo | L38: You | N38: 11 | P38: 17 | R38: 23 | T38: 29 | V38: 5
E39: 43503 | F39: y | G39: h | H39: yi | I39: II | J39: s, yo | L39: Xu | M39: 6 | O39: 12 | Q39: 18 | S39: 24 | U39: 30
E40: 43504 | F40: y | G40: t | H40: bing | I40: III | J40: s, yo | L40: Hai | N40: 6 | P40: 12 | R40: 18 | T40: 24 | V40: 30
E41: 43505 | F41: y | G41: c | H41: ding | I41: IV | J41: s, yo
E42: 43506 | F42: y | G42: y | H42: wu | I42: V | J42: s, yo | L42: 1 | M42: Métal au fond de la mer | O42: Perles, minerai, coffre aux trésors, bateau, produits pétroliers, objets sous la mer
E43: 43507 | F43: y | G43: m | H43: ji | I43: VI | J43: s, yo | L43: 2 | M43: Le feu du fourneau | O43: Charbon, poêle, fumée, cuisine, arbre mort, brasier, ustensile de cuisine, restaurant, cuisine de rue
E44: 43508 | F44: y | G44: cn | H44: geng | I44: VII | J44: s, yo | L44: 3 | M44: Le bois des grands arbres | O44: Forêt dans les montagnes, fleurs des montagnes, pylône, pilier, pépinière
E45: 43509 | F45: y | G45: e | H45: xin | I45: VIII | J45: s, yo | L45: 4 | M45: La terre des chemins | O45: Rizière en terrasse, sol sec, terre fertile, fruit, chemin, route, ouvrier du bâtiment, déchets, bandit, site de construction
E46: 43510 | F46: y | G46: w | H46: ren | I46: IX | J46: s, yo | L46: 5 | M46: Le métal tranchant de l'épée | O46: Épée précieuse, armes, disque vertébral, magasin d’antiquités, armée
E47: 43511 | F47: y | G47: wa | H47: gui | I47: X | J47: s, yo | L47: 6 | M47: Le feu au sommet du volcan | O47: Lever de soleil, feu de forêt, air chaud, phare, espionnage, volcan, enseignes au néon, centrale thermique, cheminée
E48: 43512 | F48: y | G48: s | H48: jia | I48: I | J48: w, wa | L48: 7 | M48: L'eau des petits ruisseaux | O48: Lac, bassin, nuage, eaux claires et profondes, lampe à huile, tuyau d’eau, centrale hydraulique, fontaine, hôtel, petit pont au-dessus d’un ruisseau, petite villa, banlieue, source, boissons froides
E49: 43513 | F49: y | G49: yo | H49: yi | I49: II | J49: w, wa | L49: 8 | M49: La terre des remparts | O49: Digue, cité, montagne, ruines, mur, hôtel (immeuble), zone résidentielle, publicité, bunker
E50: 43514 | F50: y | G50: sh | H50: bing | I50: III | J50: w, wa | L50: 9 | M50: L'or des chandeliers blancs | O50: Étain, cire, jade, minerai, scalpel, sécurité, fausse monnaie, produits cosmétiques, arme factice, produits chimiques
E51: 43515 | F51: y | G51: h | H51: ding | I51: IV | J51: w, wa | L51: 10 | M51: Le bois du peuplier | O51: Saule pleureur, fleurs, herbe, buisson, femme coquette, cure-dents, printemps, parc
E52: 43516 | F52: y | G52: t | H52: wu | I52: V | J52: w, wa | L52: 11 | M52: L'eau des puits et des sources | O52: Puits, fontaine, humidité, eau minérale, mine, lieux avec des sources et des fontaines
E53: 43517 | F53: y | G53: c | H53: ji | I53: VI | J53: w, wa | L53: 12 | M53: La terre sur les toits | O53: Monticule, poterie, plaines, carreau de céramique, maison, décorations, publicités, tombe ou mausolée, gros oeuvre
... E71: 43535 | F71: m | G71: wa | H71: ding | I71: IV | J71: y, m | L71: 30 | M71: L'eau de la grande mer | O71: Océan, mer, lac, rivière, eau claire, piscine, paquebot, voyage maritime, libération d’animaux captifs, personne résistante à l’alcool
E72: 43536 | F72: m | G72: s | H72: wu | I72: V | J72: y, m
E73: 43537 | F73: m | G73: yo | H73: ji | I73: VI | J73: y, m | L73: ___ | M73: ___ | N73: _ _ | O73: _ _ | P73: _ _ | Q73: _ _ | R73: ___ | S73: ___
E74: 43538 | F74: m | G74: sh | H74: geng | I74: VII | J74: y, m | L74: ___ | M74: _ _ | N74: ___ | O74: _ _ | P74: _ _ | Q74: ___ | R74: _ _ | S74: ___
E75: 43539 | F75: m | G75: h | H75: xin | I75: VIII | J75: y, m | L75: ___ | M75: _ _ | N75: _ _ | O75: ___ | P75: _ _ | Q75: ___ | R75: ___ | S75: _ _
E76: 43540 | F76: m | G76: t | H76: ren | I76: IX | J76: y, m | L76: =CONCATENATE(L73,L74,L75) -> _________ | M76: =CONCATENATE(M73,M74,M75) -> ____ __ _ | N76: =CONCATENATE(N73,N74,N75) -> _ _____ _ | O76: =CONCATENATE(O73,O74,O75) -> _ __ ____ | P76: =CONCATENATE(P73,P74,P75) -> _ __ __ _ | Q76: =CONCATENATE(Q73,Q74,Q75) -> _ _______ | R76: =CONCATENATE(R73,R74,R75) -> ____ ____ | S76: =CONCATENATE(S73,S74,S75) -> _______ _
E77: 43541 | F77: m | G77: c | H77: gui | I77: X | J77: y, m | L77: Jia | M77: Bing | N77: Wu | O77: Geng | P77: Yi | Q77: Ding | R77: Ji | S77: Xin
E78: 43542 | F78: m | G78: y | H78: jia | I78: I | J78: t, c
E79: 43543 | F79: m | G79: m | H79: yi | I79: II | J79: t, c
E80: 43544 | F80: m | G80: cn | H80: bing | I80: III | J80: t, c
E81: 43545 | F81: m | G81: e | H81: ding | I81: IV | J81: t, c
E82: 43546 | F82: m | G82: w | H82: wu | I82: V | J82: t, c
E83: 43547 | F83: m | G83: wa | H83: ji | I83: VI | J83: t, c
E84: 43548 | F84: m | G84: s | H84: geng | I84: VII | J84: t, c
E85: 43549 | F85: m | G85: yo | H85: xin | I85: VIII | J85: t, c
E86: 43550 | F86: m | G86: sh | H86: ren | I86: IX | J86: t, c
E87: 43551 | F87: m | G87: h | H87: gui | I87: X | J87: t, c
E88: 43552 | F88: m | G88: t | H88: jia | I88: I | J88: sh, h
E89: 43553 | F89: m | G89: c | H89: yi | I89: II | J89: sh, h
... E371: 43835 | F371: t | G371: wa | H371: ding | I371: IV | J371: y, m

Sheet Hexagrammes
A1: Numéro | B1: Nom | C1: Type | D1: Invisibles | E1: Aspects | F1: Branches | G1: Lignes | H1: Sujet/Objet | I1: Résultat concaténé
A2: 1 | B2: DYNAMISME | C2: CONFLIT | E2: P | F2: sh | G2: ___ | H2: Sujet | I2: =CONCATENATE(G2,G3,G4,G5,G6,G7) -> __________________
E3: B | F3: s | G3: ___
E4: R | F4: w | G4: ___
E5: P | F5: cn | G5: ___ | H5: Objet
E6: G | F6: y | G6: ___
E7: C | F7: t | G7: ___
A9: 2 | B9: ACCEPTATION | C9: CONFLIT | E9: C | F9: yo | G9: _ _ | H9: Sujet | I9: =CONCATENATE(G9,G10,G11,G12,G13,G14) -> _ __ __ __ __ __ _
E10: G | F10: h | G10: _ _
E11: B | F11: c | G11: _ _
E12: R | F12: m | G12: _ _ | H12: Objet
E13: P | F13: e | G13: _ _
E14: B | F14: wa | G14: _ _
A16: 3 | B16: DES APPUIS | E16: B | F16: t | G16: _ _ | I16: =CONCATENATE(G16,G17,G18,G19,G20,G21) -> _ _____ __ __ ____
E17: R | F17: sh | G17: ___ | H17: Objet
E18: P | F18: s | G18: _ _
D19: G w | E19: R | F19: cn | G19: _ _
E20: C | F20: y | G20: _ _ | H20: Sujet
E21: B | F21: t | G21: ___
A23: 4 | B23: JEUNE POUSSE | E23: P | F23: y | G23: ___ | I23: =CONCATENATE(G23,G24,G25,G26,G27,G28) -> ____ __ __ _____ _
E24: R | F24: t | G24: _ _
D25: G yo | E25: C | F25: sh | G25: _ _ | H25: Sujet
E26: B | F26: w | G26: _ _
E27: C | F27: cn | G27: ___
E28: P | F28: y | G28: _ _ | H28: Objet
A30: 5 | B30: SE MOUILLER | C30: DEPART | E30: G | F30: t | G30: _ _ | I30: =CONCATENATE(G30,G31,G32,G33,G34,G35) -> _ _____ __________
E31: B | F31: sh | G31: ___
E32: C | F32: s | G32: _ _ | H32: Sujet
E33: B | F33: cn | G33: ___
D34: P e | E34: R | F34: y | G34: ___
E35: G | F35: t | G35: ___ | H35: Objet
A37: 6 | B37: DOLEANCES | C37: DEPART | E37: C | F37: sh | G37: ___ | I37: =CONCATENATE(G37,G38,G39,G40,G41,G42) -> __________ _____ _
E38: G | F38: s | G38: ___
E39: B | F39: w | G39: ___ | H39: Sujet
D40: R h | E40: B | F40: w | G40: _ _
E41: C | F41: cn | G41: ___
E42: P | F42: y | G42: _ _ | H42: Objet
A44: 7 | B44: UNE ARMEE | C44: RETOUR | E44: P | F44: yo | G44: _ _ | H44: Objet | I44: =CONCATENATE(G44,G45,G46,G47,G48,G49) -> _ __ __ __ _____ _
E45: B | F45: h | G45: _ _
E46: R | F46: c | G46: _ _
E47: G | F47: w | G47: _ _ | H47: Sujet
E48: R | F48: cn | G48: ___
E49: C | F49: y | G49: _ _
A51: 8 | B51: ALLIANCE | C51: RETOUR | E51: G | F51: t | G51: _ _ | H51: Objet | I51: =CONCATENATE(G51,G52,G53,G54,G55,G56) -> _ _____ __ __ __ _
E52: B | F52: sh | G52: ___
E53: C | F53: s | G53: _ _
E54: R | F54: m | G54: _ _ | H54: Sujet
E55: P | F55: e | G55: _ _
E56: B | F56: wa | G56: _ _
A58: 9 | B58: UN PETIT | E58: B | F58: m | G58: ___ | I58: =CONCATENATE(G58,G59,G60,G61,G62,G63) -> _______ __________
E59: C | F59: e | G59: ___
E60: G | F60: wa | G60: _ _ | H60: Objet
D61: R yo | E61: G | F61: cn | G61: ___
E62: B | F62: y | G62: ___
E63: P | F63: t | G63: ___ | H63: Sujet
A65: 10 | B65: MARCHER | E65: B | F65: sh | G65: ___ | I65: =CONCATENATE(G65,G66,G67,G68,G69,G70) -> __________ _______
D66: G t | E66: C | F66: s | G66: ___ | H66: Sujet
E67: P | F67: w | G67: ___
E68: B | F68: c | G68: _ _
E69: R | F69: m | G69: ___ | H69: Objet
E70: P | F70: e | G70: ___
A72: 11 | B72: FLUIDITE | C72: HARMONIE | E72: C | F72: yo | G72: _ _ | H72: Objet | I72: =CONCATENATE(G72,G73,G74,G75,G76,G77) -> _ __ __ __________
E73: G | F73: h | G73: _ _
E74: B | F74: c | G74: _ _
E75: B | F75: cn | G75: ___ | H75: Sujet
D76: P e | E76: R | F76: y | G76: ___
E77: G | F77: t | G77: ___
A79: 12 | B79: STOP | C79: HARMONIE | E79: P | F79: sh | G79: ___ | H79: Objet | I79: =CONCATENATE(G79,G80,G81,G82,G83,G84) -> __________ __ __ _
E80: B | F80: s | G80: ___
E81: R | F81: w | G81: ___
E82: G | F82: m | G82: _ _ | H82: Sujet
E83: R | F83: e | G83: _ _
D84: C t | E84: P | F84: wa | G84: _ _
A86: 13 | B86: ENSEMBLE | C86: RETOUR | E86: C | F86: sh | G86: ___ | H86: Objet | I86: =CONCATENATE(G86,G87,G88,G89,G90,G91) -> _____________ ____
E87: G | F87: s | G87: ___
E88: B | F88: w | G88: ___
E89: R | F89: h | G89: ___ | H89: Sujet
E90: C | F90: c | G90: _ _
E91: P | F91: m | G91: ___
A93: 14 | B93: OPULENCE | C93: RETOUR | E93: R | F93: e | G93: ___ | H93: Objet | I93: =CONCATENATE(G93,G94,G95,G96,G97,G98) -> ____ _____________
E94: P | F94: wa | G94: _ _
E95: B | F95: yo | G95: ___
E96: P | F96: cn | G96: ___ | H96: Sujet
E97: G | F97: y | G97: ___
E98: C | F98: t | G98: ___
A100: 15 | B100: HUMBLE | E100: B | F100: yo | G100: _ _ | I100: =CONCATENATE(G100,G101,G102,G103,G104,G105) -> _ __ __ _____ __ _
E101: C | F101: h | G101: _ _ | H101: Sujet
E102: P | F102: c | G102: _ _
E103: B | F103: s | G103: ___
D104: G m | E104: R | F104: w | G104: _ _ | H104: Objet
E105: P | F105: cn | G105: _ _
A107: 16 | B107: JOIE | E107: G | F107: sh | G107: _ _ | I107: =CONCATENATE(G107,G108,G109,G110,G111,G112) -> _ __ _____ __ __ _
E108: R | F108: s | G108: _ _
E109: C | F109: w | G109: ___ | H109: Objet
E110: B | F110: m | G110: _ _
E111: C | F111: e | G111: _ _
D112: P t | E112: G | F112: wa | G112: _ _ | H112: Sujet
A114: 17 | B114: LA CHASSE | C114: RETOUR | E114: G | F114: wa | G114: _ _ | H114: Objet | I114: =CONCATENATE(G114,G115,G116,G117,G118,G119) -> _ ________ __ ____
E115: R | F115: yo | G115: ___
D116: C w | E116: P | F116: h | G116: ___
...
