Workbook

Sheet Table 2
D2: xx | H2: xx | L2: CODES xx | N2: /
G4: XX | J4: =UPPER(TEXT(Feuil1!C3,"mmmm aaaa")) -> JUILLET 2020
A5: Salarié
A6: JOUR | C6: =C7-1 -> 44011 | D6: Activité | F6: Observat. | G6: Activité | I6: Observat. | J6: Activité | L6: Observat. | M6: Activité | O6: Observat.
C7: =C8-1 -> 44012 | D7: Prévue | E7: Réalisée | G7: Prévue | H7: Réalisée | J7: Prévue | K7: Réalisée | M7: Prévue | N7: Réalisée
A8: =IF(P8="lun","L",IF(P8="mar","M",IF(P8="mer","M",IF(P8="jeu","J",IF(P8="ven","V",IF(P8="sam","S",IF(P8="dim","D",IF(P8="semaine","Semaine",FALSE)))))))) -> M | B8: =IF(A8="Semaine",WEEKNUM(C7,2),"") | C8: =Feuil1!C3 -> 44013 | P8: =IF(P7="dim","semaine",TEXT(C8,"JJJ")) -> mer
A9: =IF(P9="lun","L",IF(P9="mar","M",IF(P9="mer","M",IF(P9="jeu","J",IF(P9="ven","V",IF(P9="sam","S",IF(P9="dim","D",IF(P9="semaine","Semaine",FALSE)))))))) -> J | B9: =IF(A9="Semaine",WEEKNUM(C8,2),"") | C9: =IF(C8="",C7+1,IF(OR(C8>=EOMONTH(Feuil1!$C$3,0),A8="D"),"",C8+1)) -> 44014 | P9: =IF(P8="dim","semaine",TEXT(C9,"JJJ")) -> jeu
A10: =IF(P10="lun","L",IF(P10="mar","M",IF(P10="mer","M",IF(P10="jeu","J",IF(P10="ven","V",IF(P10="sam","S",IF(P10="dim","D",IF(P10="semaine","Semaine",FALSE)))))))) -> V | B10: =IF(A10="Semaine",WEEKNUM(C9,2),"") | C10: =IF(C9="",C8+1,IF(OR(C9>=EOMONTH(Feuil1!$C$3,0),A9="D"),"",C9+1)) -> 44015 | P10: =IF(P9="dim","semaine",TEXT(C10,"JJJ")) -> ven
A11: =IF(P11="lun","L",IF(P11="mar","M",IF(P11="mer","M",IF(P11="jeu","J",IF(P11="ven","V",IF(P11="sam","S",IF(P11="dim","D",IF(P11="semaine","Semaine",FALSE)))))))) -> S | B11: =IF(A11="Semaine",WEEKNUM(C10,2),"") | C11: =IF(C10="",C9+1,IF(OR(C10>=EOMONTH(Feuil1!$C$3,0),A10="D"),"",C10+1)) -> 44016 | P11: =IF(P10="dim","semaine",TEXT(C11,"JJJ")) -> sam
A12: =IF(P12="lun","L",IF(P12="mar","M",IF(P12="mer","M",IF(P12="jeu","J",IF(P12="ven","V",IF(P12="sam","S",IF(P12="dim","D",IF(P12="semaine","Semaine",FALSE)))))))) -> D | B12: =IF(A12="Semaine",WEEKNUM(C11,2),"") | C12: =IF(C11="",C10+1,IF(OR(C11>=EOMONTH(Feuil1!$C$3,0),A11="D"),"",C11+1)) -> 44017 | P12: =IF(P11="dim","semaine",TEXT(C12,"JJJ")) -> dim
A13: =IF(P13="lun","L",IF(P13="mar","M",IF(P13="mer","M",IF(P13="jeu","J",IF(P13="ven","V",IF(P13="sam","S",IF(P13="dim","D",IF(P13="semaine","Semaine",FALSE)))))))) -> Semaine | B13: =IF(A13="Semaine",WEEKNUM(C12,2),"") -> 27 | C13: =IF(C12="",C11+1,IF(OR(C12>=EOMONTH(Feuil1!$C$3,0),A12="D"),"",C12+1)) | P13: =IF(P12="dim","semaine",TEXT(C13,"JJJ")) -> semaine
A14: =IF(P14="lun","L",IF(P14="mar","M",IF(P14="mer","M",IF(P14="jeu","J",IF(P14="ven","V",IF(P14="sam","S",IF(P14="dim","D",IF(P14="semaine","Semaine",FALSE)))))))) -> L | B14: =IF(A14="Semaine",WEEKNUM(C13,2),"") | C14: =IF(C13="",C12+1,IF(OR(C13>=EOMONTH(Feuil1!$C$3,0),A13="D"),"",C13+1)) -> 44018 | P14: =IF(P13="dim","semaine",TEXT(C14,"JJJ")) -> lun
A15: =IF(P15="lun","L",IF(P15="mar","M",IF(P15="mer","M",IF(P15="jeu","J",IF(P15="ven","V",IF(P15="sam","S",IF(P15="dim","D",IF(P15="semaine","Semaine",FALSE)))))))) -> M | B15: =IF(A15="Semaine",WEEKNUM(C14,2),"") | C15: =IF(C14="",C13+1,IF(OR(C14>=EOMONTH(Feuil1!$C$3,0),A14="D"),"",C14+1)) -> 44019 | P15: =IF(P14="dim","semaine",TEXT(C15,"JJJ")) -> mar
A16: =IF(P16="lun","L",IF(P16="mar","M",IF(P16="mer","M",IF(P16="jeu","J",IF(P16="ven","V",IF(P16="sam","S",IF(P16="dim","D",IF(P16="semaine","Semaine",FALSE)))))))) -> M | B16: =IF(A16="Semaine",WEEKNUM(C15,2),"") | C16: =IF(C15="",C14+1,IF(OR(C15>=EOMONTH(Feuil1!$C$3,0),A15="D"),"",C15+1)) -> 44020 | P16: =IF(P15="dim","semaine",TEXT(C16,"JJJ")) -> mer
A17: =IF(P17="lun","L",IF(P17="mar","M",IF(P17="mer","M",IF(P17="jeu","J",IF(P17="ven","V",IF(P17="sam","S",IF(P17="dim","D",IF(P17="semaine","Semaine",FALSE)))))))) -> J | B17: =IF(A17="Semaine",WEEKNUM(C16,2),"") | C17: =IF(C16="",C15+1,IF(OR(C16>=EOMONTH(Feuil1!$C$3,0),A16="D"),"",C16+1)) -> 44021 | P17: =IF(P16="dim","semaine",TEXT(C17,"JJJ")) -> jeu
A18: =IF(P18="lun","L",IF(P18="mar","M",IF(P18="mer","M",IF(P18="jeu","J",IF(P18="ven","V",IF(P18="sam","S",IF(P18="dim","D",IF(P18="semaine","Semaine",FALSE)))))))) -> V | B18: =IF(A18="Semaine",WEEKNUM(C17,2),"") | C18: =IF(C17="",C16+1,IF(OR(C17>=EOMONTH(Feuil1!$C$3,0),A17="D"),"",C17+1)) -> 44022 | P18: =IF(P17="dim","semaine",TEXT(C18,"JJJ")) -> ven
A19: =IF(P19="lun","L",IF(P19="mar","M",IF(P19="mer","M",IF(P19="jeu","J",IF(P19="ven","V",IF(P19="sam","S",IF(P19="dim","D",IF(P19="semaine","Semaine",FALSE)))))))) -> S | B19: =IF(A19="Semaine",WEEKNUM(C18,2),"") | C19: =IF(C18="",C17+1,IF(OR(C18>=EOMONTH(Feuil1!$C$3,0),A18="D"),"",C18+1)) -> 44023 | P19: =IF(P18="dim","semaine",TEXT(C19,"JJJ")) -> sam
A20: =IF(P20="lun","L",IF(P20="mar","M",IF(P20="mer","M",IF(P20="jeu","J",IF(P20="ven","V",IF(P20="sam","S",IF(P20="dim","D",IF(P20="semaine","Semaine",FALSE)))))))) -> D | B20: =IF(A20="Semaine",WEEKNUM(C19,2),"") | C20: =IF(C19="",C18+1,IF(OR(C19>=EOMONTH(Feuil1!$C$3,0),A19="D"),"",C19+1)) -> 44024 | P20: =IF(P19="dim","semaine",TEXT(C20,"JJJ")) -> dim
... A34: =IF(P34="lun","L",IF(P34="mar","M",IF(P34="mer","M",IF(P34="jeu","J",IF(P34="ven","V",IF(P34="sam","S",IF(P34="dim","D",IF(P34="semaine","Semaine",FALSE)))))))) -> V | B34: =IF(A34="Semaine",WEEKNUM(C33,2),"") | C34: =IF(C33="",C32+1,IF(OR(C33>=EOMONTH(Feuil1!$C$3,0),A33="D"),"",C33+1)) -> 44036 | P34: =IF(P33="dim","semaine",TEXT(C34,"JJJ")) -> ven
A35: =IF(AND(C34>=EOMONTH(Feuil1!$C$3,0),C35=""),"Semaine",IF(P35="lun","L",IF(P35="mar","M",IF(P35="mer","M",IF(P35="jeu","J",IF(P35="ven","V",IF(P35="sam","S",IF(P35="dim","D",IF(P35="semaine","Semaine",FALSE))))))))) -> S | B35: =IF(A35="Semaine",WEEKNUM(C34,2),"") | C35: =IF(C34="",C33+1,IF(OR(C34>=EOMONTH(Feuil1!$C$3,0),A34="D"),"",C34+1)) -> 44037 | P35: =IF(P34="dim","semaine",TEXT(C35,"JJJ")) -> sam
A36: =IF(AND(C35>=EOMONTH(Feuil1!$C$3,0),C36=""),"Semaine",IF(P36="lun","L",IF(P36="mar","M",IF(P36="mer","M",IF(P36="jeu","J",IF(P36="ven","V",IF(P36="sam","S",IF(P36="dim","D",IF(P36="semaine","Semaine",FALSE))))))))) -> D | B36: =IF(A36="Semaine",WEEKNUM(C35,2),"") | C36: =IF(C35="",C34+1,IF(OR(C35>=EOMONTH(Feuil1!$C$3,0),A35="D"),"",C35+1)) -> 44038 | P36: =IF(P35="dim","semaine",TEXT(C36,"JJJ")) -> dim
A37: =IF(AND(C36>=EOMONTH(Feuil1!$C$3,0),C37=""),"Semaine",IF(P37="lun","L",IF(P37="mar","M",IF(P37="mer","M",IF(P37="jeu","J",IF(P37="ven","V",IF(P37="sam","S",IF(P37="dim","D",IF(P37="semaine","Semaine",FALSE))))))))) -> Semaine | B37: =IF(A37="Semaine",WEEKNUM(C36,2),"") -> 30 | C37: =IF(C36="",C35+1,IF(OR(C36>=EOMONTH(Feuil1!$C$3,0),A36="D"),"",C36+1)) | P37: =IF(P36="dim","semaine",TEXT(C37,"JJJ")) -> semaine
A38: =IF(AND(C37>=EOMONTH(Feuil1!$C$3,0),C38=""),"Semaine",IF(P38="lun","L",IF(P38="mar","M",IF(P38="mer","M",IF(P38="jeu","J",IF(P38="ven","V",IF(P38="sam","S",IF(P38="dim","D",IF(P38="semaine","Semaine",FALSE))))))))) -> L | B38: =IF(A38="Semaine",WEEKNUM(C37,2),"") | C38: =IF(C37="",C36+1,IF(OR(C37>=EOMONTH(Feuil1!$C$3,0),A37="D"),"",C37+1)) -> 44039 | P38: =IF(P37="dim","semaine",TEXT(C38,"JJJ")) -> lun
A39: =IF(AND(C38>=EOMONTH(Feuil1!$C$3,0),C39=""),"Semaine",IF(P39="lun","L",IF(P39="mar","M",IF(P39="mer","M",IF(P39="jeu","J",IF(P39="ven","V",IF(P39="sam","S",IF(P39="dim","D",IF(P39="semaine","Semaine",FALSE))))))))) -> M | B39: =IF(A39="Semaine",WEEKNUM(C38,2),"") | C39: =IF(C38="",C37+1,IF(OR(C38>=EOMONTH(Feuil1!$C$3,0),A38="D"),"",C38+1)) -> 44040 | P39: =IF(P38="dim","semaine",TEXT(C39,"JJJ")) -> mar
A40: =IF(AND(C39>=EOMONTH(Feuil1!$C$3,0),C40=""),"Semaine",IF(P40="lun","L",IF(P40="mar","M",IF(P40="mer","M",IF(P40="jeu","J",IF(P40="ven","V",IF(P40="sam","S",IF(P40="dim","D",IF(P40="semaine","Semaine",FALSE))))))))) -> M | B40: =IF(A40="Semaine",WEEKNUM(C39,2),"") | C40: =IF(C39="",C38+1,IF(OR(C39>=EOMONTH(Feuil1!$C$3,0),A39="D"),"",C39+1)) -> 44041 | P40: =IF(P39="dim","semaine",TEXT(C40,"JJJ")) -> mer
A41: =IF(AND(C40>=EOMONTH(Feuil1!$C$3,0),C41=""),"Semaine",IF(P41="lun","L",IF(P41="mar","M",IF(P41="mer","M",IF(P41="jeu","J",IF(P41="ven","V",IF(P41="sam","S",IF(P41="dim","D",IF(P41="semaine","Semaine",FALSE))))))))) -> J | B41: =IF(A41="Semaine",WEEKNUM(C40,2),"") | C41: =IF(C40="",C39+1,IF(OR(C40>=EOMONTH(Feuil1!$C$3,0),A40="D"),"",C40+1)) -> 44042 | P41: =IF(P40="dim","semaine",TEXT(C41,"JJJ")) -> jeu
A42: =IF(AND(C41>=EOMONTH(Feuil1!$C$3,0),C42=""),"Semaine",IF(P42="lun","L",IF(P42="mar","M",IF(P42="mer","M",IF(P42="jeu","J",IF(P42="ven","V",IF(P42="sam","S",IF(P42="dim","D",IF(P42="semaine","Semaine",FALSE))))))))) -> V | B42: =IF(A42="Semaine",WEEKNUM(C41,2),"") | C42: =IF(C41="",C40+1,IF(OR(C41>=EOMONTH(Feuil1!$C$3,0),A41="D"),"",C41+1)) -> 44043 | P42: =IF(P41="dim","semaine",TEXT(C42,"JJJ")) -> ven
A43: =IF(AND(C42>=EOMONTH(Feuil1!$C$3,0),C43=""),"Semaine",IF(AJ43="lun","L",IF(AJ43="mar","M",IF(AJ43="mer","M",IF(AJ43="jeu","J",IF(AJ43="ven","V",IF(AJ43="sam","S",IF(AJ43="dim","D",IF(AJ43="semaine","Semaine",FALSE))))))))) -> Semaine | B43: =IF(A43="Semaine",WEEKNUM(C42,2),"") -> 31 | C43: =IF(C42="",C41+1,IF(OR(C42>=EOMONTH(Feuil1!$C$3,0),A42="D"),"",C42+1)) | P43: =IF(P42="dim","semaine",TEXT(C43,"JJJ"))
A45: MOIS

Sheet Feuil1
C3: 44013
