Workbook
Name Calendrier10ans: Planning!$B$127
Name Calendrier10mois: Planning!$C$127
Name Calendrier11ans: Planning!$B$141
Name Calendrier11mois: Planning!$C$141
Name Calendrier12ans: Planning!$B$155
Name Calendrier12mois: Planning!$C$155
Name Calendrier1an: Planning!$B$1
Name Calendrier1mois: Planning!$C$1
Name Calendrier2ans: Planning!$B$15
Name Calendrier2mois: Planning!$C$15
Name Calendrier3ans: Planning!$B$29
Name Calendrier3mois: Planning!$C$29
Name Calendrier4ans: Planning!$B$43
Name Calendrier4mois: Planning!$C$43
Name Calendrier5ans: Planning!$B$57
Name Calendrier5mois: Planning!$C$57
Name Calendrier6ans: Planning!$B$71
Name Calendrier6mois: Planning!$C$71
Name Calendrier7ans: Planning!$B$85
Name Calendrier7mois: Planning!$C$85
Name Calendrier8ans: Planning!$B$99
Name Calendrier8mois: Planning!$C$99
Name Calendrier9ans: Planning!$B$113
Name Calendrier9mois: Planning!$C$113
Name ChoixMois: Planning!$O$2:$O$13
Name DébutSemaine: Planning!$B$2
Name Infos_locat: 'Infos locat + planification'!$A$4:$K$1000
Name Jours: {0,1,2,3,4,5,6}
Name JoursSemaine: {"Lundi","Mardi","Mercredi","Jeudi","Vendredi","Samedi","Dimanche"}
Name Mois: {"Janvier","Février","Mars","Avril","Mai","Juin","Juillet","Août","Septembre","Octobre","Novembre","Décembre"}
Name OptionCalendrier10mois: MATCH(Calendrier10mois,Mois,0)
Name OptionCalendrier11mois: MATCH(Calendrier11mois,Mois,0)
Name OptionCalendrier12mois: MATCH(Calendrier12mois,Mois,0)
Name OptionCalendrier1mois: MATCH(Calendrier1mois,Mois,0)
Name OptionCalendrier2mois: MATCH(Calendrier2mois,Mois,0)
Name OptionCalendrier3mois: MATCH(Calendrier3mois,Mois,0)
Name OptionCalendrier4mois: MATCH(Calendrier4mois,Mois,0)
Name OptionCalendrier5mois: MATCH(Calendrier5mois,Mois,0)
Name OptionCalendrier6mois: MATCH(Calendrier6mois,Mois,0)
Name OptionCalendrier7mois: MATCH(Calendrier7mois,Mois,0)
Name OptionCalendrier8mois: MATCH(Calendrier8mois,Mois,0)
Name OptionCalendrier9mois: MATCH(Calendrier9mois,Mois,0)
Name OptionJourSemaine: MATCH(DébutSemaine,JoursSemaine,0)+10
Name ValeurDébutSemaine: IF(DébutSemaine="Lundi",2,1)

Sheet Infos adm chantier
D3: Informations administratives
A11: Maitre d'Ouvrage: | C11: a | E11: Maitre d'Œuvre: | F11: k
C12: b | F12: l
C13: c | F13: m
C14: d | F14: n
C15: e | F15: o
A19: Coordonnées du chantier: | C19: f
C20: g | E20: Responsable locataire: | F20: XX
C21: h | E21: Téléphone : | F21: 06 00 00 00 00
C22: i
C23: j | E23: Directeur de travaux | F23: YY
E24: Téléphone : | F24: 06 00 00 00 00
B26: Liste des intervenants dans le logement :
C28: Interventions | E28: Nom de l'entreprise | F28: Adresse | G28: Télephone
B29: 1 | C29: Chauffage | E29: Ent A
B30: 2 | C30: Ventilation | E30: Ent B
B31: 3 | C31: Electricité | E31: Ent C
B32: 4 | C32: Menuiseries intérieures | E32: Ent D
B33: 5 | C33: Peinture intérieure | E33: Ent E
B34: 6 | C34: Peinture extérieure | E34: Ent F
B42: Liste des intervenants sur le chantier:
C44: n° | D44: Lot | E44: Nom de l'entreprise
C45: 1 | D45: Z | E45: Ent A
C46: =C45+1 -> 2 | D46: Y | E46: Ent B
C47: =C46+1 -> 3 | D47: X | E47: Ent C
C48: =C47+1 -> 4 | D48: W | E48: Ent D
C49: =C48+1 -> 5 | D49: V | E49: Ent E
C50: =C49+1 -> 6 | D50: U | E50: Ent F
C51: =C50+1 -> 7 | D51: T | E51: Ent G
C52: =C51+1 -> 8 | D52: S | E52: Ent H
C53: =C52+1 -> 9 | D53: R | E53: Ent I
C54: =C53+1 -> 10 | D54: Q | E54: Ent J

Sheet Infos locat + planification
A1: LOCATAIRES | N1: PLANNIFICATION
A3: n° logement | B3: Bâtiment | C3: NOM | D3: Prénom | E3: Téléphone portable | F3: Téléphone fixe | G3: Type | H3: Cave | I3: Garage | J3: EdL avant travaux | K3: Absences | M3: ='Infos adm chantier'!C29 -> Chauffage | N3: ='Infos adm chantier'!C30 -> Ventilation | O3: ='Infos adm chantier'!C31 -> Electricité | P3: ='Infos adm chantier'!C32 -> Menuiseries intérieures | Q3: ='Infos adm chantier'!C33 -> Peinture intérieure | R3: ='Infos adm chantier'!C34 -> Peinture extérieure | S3: ='Infos adm chantier'!C35 -> 0 | T3: Contrôle | U3: Réception
A4: 1 | B4: A | C4: AA | M4: 43466 | N4: 43470 | O4: 43475
A5: 2 | B5: A | C5: BB | M5: 43467 | N5: 43471 | O5: 43476
A6: 3 | B6: A | C6: CC | M6: 43468 | N6: 43472 | O6: 43477
A7: 4 | B7: A | C7: DD | M7: 43811 | N7: 43473 | O7: 43478
A8: 5 | B8: B | C8: EE | M8: 43470 | N8: 43474 | O8: 43479
A9: 6 | B9: B | C9: FF | M9: 43471 | N9: 43475 | O9: 43480
A10: 7 | B10: B | C10: GG | M10: 43472 | N10: 43476 | O10: 43481
A11: 8 | B11: B | C11: HH | M11: 43473 | N11: 43477 | O11: 43482

Sheet Fiche EdL avant travaux
A1: FICHE ADMINISTRATIVE:
B4: N° logement: | H4: Etage
B6: NOM Locataire: | I6: Cave | K6: Garage
B9: OCCUPANTS: | G9: TELEPHONE - MAIL:
C10: Adultes: | G10: Tél fixe:
C11: Enfants: | G11: Tél port 1:
C12: Personnes agées: | G12: Tél travail:
C13: Personnes handicapées: | G13: Mail
C14: Animaux: | H14: - Travail de nuit: | K14: OUI | L14: NON
H16: - Date de congés: | K16: du | N16: au
B18: GESTION DES CLES:
C19: - Le locataire souhaite être présent pendant les travaux: | M19: OUI | N19: NON
C20: - Le locataire accepte de confier un double de ses clés à CRESPY : | M20: OUI | N20: NON
C21: - Le locataire accepte de confier ses clès à un voisin, un gardien… | M21: OUI | N21: NON
C22: - Remarques :
B23: REMARQUES:
A27: ETAT DES LIEUX:
C29: TB: | D29: Très Bien | F29: B: | G29: Etat usage | I29: M: | J29: Moyen | L29: V: | M29: Vétuste
A31: Etat général du logement:
E32: Entrée | F32: Cuisine | G32: SAS | H32: WC | I32: SdB | J32: Ch 1 | K32: Ch 2 | L32: Séjour
D33: Sol:
D34: Peinture:
D35: Menuiseries EXT:
D36: Menuiseries INT:
D37: Chute EU/EV:
D38: Colonne EF:
D39: Robinet arrêt EF:
D41: TV satellite: | E41: OUI | F41: NON
C43: Remarques :
B47: Bon pour accord | F47: Entreprise | L47: Locataire

Sheet Fiche travaux
B1: ="FICHE TRAVAUX LOCATAIRES"&" "&'Infos adm chantier'!C11&" - "&'Infos adm chantier'!D19&" "&'Infos adm chantier'!D20&" - "&'Infos adm chantier'!D21 -> FICHE TRAVAUX LOCATAIRES a - -
B2: N° Appt : Nom Locataire : | F2: Date : / /
B4: Signature Maître d'ouvrage : | D4: Signature Maître d'œuvre :
B8: Signature CREPSY : | D8: Signature locataire :
B13: ="RESPONSABLE LOCATAIRE : "&'Infos adm chantier'!F20&" - "&"Téléphone : "&'Infos adm chantier'!F21 -> RESPONSABLE LOCATAIRE : XX - Téléphone : 06 00 00 00 00
B14: n° | C14: Désignation | E14: A faire | F14: Entreprise | G14: Pièce
B15: 1 | C15: A | F15: =VLOOKUP(I15,$M$18:$N$29,2) -> Ent A | G15: Cuisine | I15: 1 | K15: Liste des entreprises :
B16: =B15+1 -> 2 | C16: B | F16: =VLOOKUP(I16,$M$18:$N$29,2) -> Ent A | G16: Sdb | I16: 1
B17: =B16+1 -> 3 | C17: C | F17: =VLOOKUP(I17,$M$18:$N$29,2) -> Ent A | G17: Séjour | I17: 1 | K17: Types de travaux | L17: Nom de l'entreprise | M17: Code travaux
B18: =B17+1 -> 4 | C18: D | F18: =VLOOKUP(I18,$M$18:$N$29,2) -> Ent A | G18: … | I18: 1 | K18: ='Infos adm chantier'!C29 -> Chauffage | L18: ='Infos adm chantier'!E29 -> Ent A | M18: ='Infos adm chantier'!B29 -> 1 | N18: =L18 -> Ent A
B19: =B18+1 -> 5 | C19: E | F19: =VLOOKUP(I19,$M$18:$N$29,2) -> Ent B | G19: … | I19: 2 | K19: ='Infos adm chantier'!C30 -> Ventilation | L19: ='Infos adm chantier'!E30 -> Ent B | M19: ='Infos adm chantier'!B30 -> 2 | N19: =L19 -> Ent B
B20: =B19+1 -> 6 | C20: F | F20: =VLOOKUP(I20,$M$18:$N$29,2) -> Ent B | G20: … | I20: 2 | K20: ='Infos adm chantier'!C31 -> Electricité | L20: ='Infos adm chantier'!E31 -> Ent C | M20: ='Infos adm chantier'!B31 -> 3 | N20: =L20 -> Ent C
B21: =B20+1 -> 7 | C21: G | F21: =VLOOKUP(I21,$M$18:$N$29,2) -> Ent B | G21: … | I21: 2 | K21: ='Infos adm chantier'!C32 -> Menuiseries intérieures | L21: ='Infos adm chantier'!E32 -> Ent D | M21: ='Infos adm chantier'!B32 -> 4 | N21: =L21 -> Ent D
B22: =B21+1 -> 8 | C22: H | F22: =VLOOKUP(I22,$M$18:$N$29,2) -> Ent C | G22: … | I22: 3 | K22: ='Infos adm chantier'!C33 -> Peinture intérieure | L22: ='Infos adm chantier'!E33 -> Ent E | M22: ='Infos adm chantier'!B33 -> 5 | N22: =L22 -> Ent E
B23: =B22+1 -> 9 | C23: I | F23: =VLOOKUP(I23,$M$18:$N$29,2) -> Ent C | G23: … | I23: 3 | K23: ='Infos adm chantier'!C34 -> Peinture extérieure | L23: ='Infos adm chantier'!E34 -> Ent F | M23: ='Infos adm chantier'!B34 -> 6 | N23: =L23 -> Ent F
B24: =B23+1 -> 10 | C24: J | F24: =VLOOKUP(I24,$M$18:$N$29,2) -> Ent D | G24: … | I24: 4 | K24: ='Infos adm chantier'!D35 -> 0 | L24: ='Infos adm chantier'!E35 -> 0 | M24: ='Infos adm chantier'!B35 -> 0 | N24: =L24 -> 0
B25: =B24+1 -> 11 | C25: K | F25: =VLOOKUP(I25,$M$18:$N$29,2) -> Ent D | G25: … | I25: 4 | K25: ='Infos adm chantier'!D36 -> 0 | L25: ='Infos adm chantier'!E36 -> 0 | M25: ='Infos adm chantier'!B36 -> 0 | N25: =L25 -> 0
B26: =B25+1 -> 12 | C26: L | F26: =VLOOKUP(I26,$M$18:$N$29,2) -> Ent D | G26: … | I26: 4 | K26: ='Infos adm chantier'!D37 -> 0 | L26: ='Infos adm chantier'!E37 -> 0 | M26: ='Infos adm chantier'!B37 -> 0 | N26: =L26 -> 0
B27: =B26+1 -> 13 | C27: M | F27: =VLOOKUP(I27,$M$18:$N$29,2) -> Ent D | G27: … | I27: 4 | K27: ='Infos adm chantier'!D38 -> 0 | L27: ='Infos adm chantier'!E38 -> 0 | M27: ='Infos adm chantier'!B38 -> 0 | N27: =L27 -> 0
B28: =B27+1 -> 14 | C28: N | F28: =VLOOKUP(I28,$M$18:$N$29,2) -> Ent D | G28: … | I28: 4 | K28: ='Infos adm chantier'!D39 -> 0 | L28: ='Infos adm chantier'!E39 -> 0 | M28: ='Infos adm chantier'!B39 -> 0 | N28: =L28 -> 0
B29: =B28+1 -> 15 | C29: O | F29: =VLOOKUP(I29,$M$18:$N$29,2) -> Ent D | G29: … | I29: 4 | K29: ='Infos adm chantier'!D40 -> 0 | L29: ='Infos adm chantier'!E40 -> 0 | M29: ='Infos adm chantier'!B40 -> 0 | N29: =L29 -> 0
B30: =B29+1 -> 16 | C30: P | F30: =VLOOKUP(I30,$M$18:$N$29,2) -> Ent D | G30: … | I30: 4
B31: =B30+1 -> 17 | C31: Q | F31: =VLOOKUP(I31,$M$18:$N$29,2) -> Ent E | G31: … | I31: 5
B32: =B31+1 -> 18 | C32: R | F32: =VLOOKUP(I32,$M$18:$N$29,2) -> Ent A | G32: … | I32: 1
B33: =B32+1 -> 19 | C33: S | F33: =VLOOKUP(I33,$M$18:$N$29,2) -> Ent F | G33: … | I33: 6
K35: GRIS : à faire partout
K36: Blanc : en fonction type de logement

Sheet Fiche planification
B2: PLANIFICATION des TRAVAUX
H6: n° logement : | J6: 1
B10: ='Infos adm chantier'!C11 -> a
B11: ='Infos adm chantier'!C19 -> f | H11: Nom locataire | I11: =VLOOKUP(J6,Infos_locat,3,FALSE) -> AA
B12: ='Infos adm chantier'!C20 -> g
B16: Travaux | D16: Jours d'interventions | G16: Remarques | J16: Etat
B17: ='Infos adm chantier'!C29 -> Chauffage | D17: =IF(VLOOKUP($J$6,'Infos locat + planification'!$A$4:$X$100,13,)<DATE(2019,1,1),"",VLOOKUP($J$6,'Infos locat + planification'!$A$4:$X$100,13,)) -> 43466
B20: ='Infos adm chantier'!C30 -> Ventilation | D20: =IF(VLOOKUP($J$6,'Infos locat + planification'!$A$4:$X$100,14,)<DATE(2019,1,1),"",VLOOKUP($J$6,'Infos locat + planification'!$A$4:$X$100,14,)) -> 43470
B23: ='Infos adm chantier'!C31 -> Electricité | D23: =IF(VLOOKUP($J$6,'Infos locat + planification'!$A$4:$X$100,15,)<DATE(2019,1,1),"",VLOOKUP($J$6,'Infos locat + planification'!$A$4:$X$100,15,)) -> 43475
B26: ='Infos adm chantier'!C32 -> Menuiseries intérieures | D26: =IF(VLOOKUP($J$6,'Infos locat + planification'!$A$4:$X$100,16,)<DATE(2019,1,1),"",VLOOKUP($J$6,'Infos locat + planification'!$A$4:$X$100,16,))
B29: ='Infos adm chantier'!C33 -> Peinture intérieure | D29: =IF(VLOOKUP($J$6,'Infos locat + planification'!$A$4:$X$100,17,)<DATE(2019,1,1),"",VLOOKUP($J$6,'Infos locat + planification'!$A$4:$X$100,17,))
B32: ='Infos adm chantier'!C34 -> Peinture extérieure | D32: =IF(VLOOKUP($J$6,'Infos locat + planification'!$A$4:$X$100,18,)<DATE(2019,1,1),"",VLOOKUP($J$6,'Infos locat + planification'!$A$4:$X$100,18,))
B35: Contrôle | D35: =IF(VLOOKUP($J$6,'Infos locat + planification'!$A$4:$X$100,20,)<DATE(2019,1,1),"",VLOOKUP($J$6,'Infos locat + planification'!$A$4:$X$100,20,))
B38: Réception | D38: =IF(VLOOKUP($J$6,'Infos locat + planification'!$A$4:$X$100,21,)<DATE(2019,1,1),"",VLOOKUP($J$6,'Infos locat + planification'!$A$4:$X$100,21,))
B42: MERCI DE LAISSER CETTE FEUILLE ACCROCHEE A VOTRE PORTE
B45: Remarques CRESPY : | G45: Remarques Locataire :
B52: Votre interlocuteur :
B53: ='Infos adm chantier'!F20&" - "&'Infos adm chantier'!F21 -> XX - 06 00 00 00 00

Sheet Planning
B1: =YEAR(K1) -> 2019 | C1: Janvier | J1: Début chantier | K1: 43556
B2: LUNDI | C2: =UPPER(TEXT(C3,"jjjj")) -> MARDI | D2: =UPPER(TEXT(D3,"jjjj")) -> MERCREDI | E2: =UPPER(TEXT(E3,"jjjj")) -> JEUDI | F2: =UPPER(TEXT(F3,"jjjj")) -> VENDREDI | G2: =UPPER(TEXT(G3,"jjjj")) -> SAMEDI | H2: =UPPER(TEXT(H3,"jjjj")) -> DIMANCHE | O2: Janvier
B3: {=Jours+1+DATE(Calendrier1an,OptionCalendrier1mois,1)-WEEKDAY(DATE(Calendrier1an,OptionCalendrier1mois,1),OptionJourSemaine)} -> 43465 | C3: 43466 | D3: 43467 | E3: 43468 | F3: 43469 | G3: 43470 | H3: 43471 | O3: Février
O4: Mars
B5: {=Jours+8+DATE(Calendrier1an,OptionCalendrier1mois,1)-WEEKDAY(DATE(Calendrier1an,OptionCalendrier1mois,1),OptionJourSemaine)} -> 43472 | C5: 43473 | D5: 43474 | E5: 43475 | F5: 43476 | G5: 43477 | H5: 43478 | O5: Avril
O6: Mai
B7: {=Jours+15+DATE(Calendrier1an,OptionCalendrier1mois,1)-WEEKDAY(DATE(Calendrier1an,OptionCalendrier1mois,1),OptionJourSemaine)} -> 43479 | C7: 43480 | D7: 43481 | E7: 43482 | F7: 43483 | G7: 43484 | H7: 43485 | O7: Juin
O8: Juillet
B9: {=Jours+22+DATE(Calendrier1an,OptionCalendrier1mois,1)-WEEKDAY(DATE(Calendrier1an,OptionCalendrier1mois,1),OptionJourSemaine)} -> 43486 | C9: 43487 | D9: 43488 | E9: 43489 | F9: 43490 | G9: 43491 | H9: 43492 | O9: Août
O10: Septembre
B11: {=Jours+29+DATE(Calendrier1an,OptionCalendrier1mois,1)-WEEKDAY(DATE(Calendrier1an,OptionCalendrier1mois,1),OptionJourSemaine)} -> 43493 | C11: 43494 | D11: 43495 | E11: 43496 | F11: 43497 | G11: 43498 | H11: 43499 | O11: Octobre
O12: Novembre
B13: {=Jours+36+DATE(Calendrier1an,OptionCalendrier1mois,1)-WEEKDAY(DATE(Calendrier1an,OptionCalendrier1mois,1),OptionJourSemaine)} -> 43500 | C13: 43501 | D13: Notes : | O13: Décembre
B15: =YEAR(DATE(Calendrier1an,OptionCalendrier1mois+1,1)) -> 2019 | C15: =TEXT(DATE(Calendrier1an,OptionCalendrier1mois+1,1),"mmmm") -> février
B16: LUNDI | C16: =UPPER(TEXT(C17,"jjjj")) -> MARDI | D16: =UPPER(TEXT(D17,"jjjj")) -> MERCREDI | E16: =UPPER(TEXT(E17,"jjjj")) -> JEUDI | F16: =UPPER(TEXT(F17,"jjjj")) -> VENDREDI | G16: =UPPER(TEXT(G17,"jjjj")) -> SAMEDI | H16: =UPPER(TEXT(H17,"jjjj")) -> DIMANCHE | O16: Janvier
B17: {=Jours+1+DATE(Calendrier2ans,OptionCalendrier2mois,1)-WEEKDAY(DATE(Calendrier2ans,OptionCalendrier2mois,1),OptionJourSemaine)} -> 43493 | C17: 43494 | D17: 43495 | E17: 43496 | F17: 43497 | G17: 43498 | H17: 43499 | O17: Février
O18: Mars
B19: {=Jours+8+DATE(Calendrier2ans,OptionCalendrier2mois,1)-WEEKDAY(DATE(Calendrier2ans,OptionCalendrier2mois,1),OptionJourSemaine)} -> 43500 | C19: 43501 | D19: 43502 | E19: 43503 | F19: 43504 | G19: 43505 | H19: 43506 | O19: Avril
O20: Mai
B21: {=Jours+15+DATE(Calendrier2ans,OptionCalendrier2mois,1)-WEEKDAY(DATE(Calendrier2ans,OptionCalendrier2mois,1),OptionJourSemaine)} -> 43507 | C21: 43508 | D21: 43509 | E21: 43510 | F21: 43511 | G21: 43512 | H21: 43513 | O21: Juin
O22: Juillet
B23: {=Jours+22+DATE(Calendrier2ans,OptionCalendrier2mois,1)-WEEKDAY(DATE(Calendrier2ans,OptionCalendrier2mois,1),OptionJourSemaine)} -> 43514 | C23: 43515 | D23: 43516 | E23: 43517 | F23: 43518 | G23: 43519 | H23: 43520 | O23: Août
O24: Septembre
B25: {=Jours+29+DATE(Calendrier2ans,OptionCalendrier2mois,1)-WEEKDAY(DATE(Calendrier2ans,OptionCalendrier2mois,1),OptionJourSemaine)} -> 43521 | C25: 43522 | D25: 43523 | E25: 43524 | F25: 43525 | G25: 43526 | H25: 43527 | O25: Octobre
O26: Novembre
B27: {=Jours+36+DATE(Calendrier2ans,OptionCalendrier2mois,1)-WEEKDAY(DATE(Calendrier2ans,OptionCalendrier2mois,1),OptionJourSemaine)} -> 43528 | C27: 43529 | D27: Notes : | O27: Décembre
B29: =YEAR(DATE(Calendrier2ans,OptionCalendrier2mois+1,1)) -> 2019 | C29: =TEXT(DATE(Calendrier2ans,OptionCalendrier2mois+1,1),"mmmm") -> mars
B30: =UPPER(TEXT(B31,"jjjj")) -> LUNDI | C30: =UPPER(TEXT(C31,"jjjj")) -> MARDI | D30: =UPPER(TEXT(D31,"jjjj")) -> MERCREDI | E30: =UPPER(TEXT(E31,"jjjj")) -> JEUDI | F30: =UPPER(TEXT(F31,"jjjj")) -> VENDREDI | G30: =UPPER(TEXT(G31,"jjjj")) -> SAMEDI | H30: =UPPER(TEXT(H31,"jjjj")) -> DIMANCHE | O30: Janvier
B31: {=Jours+1+DATE(Calendrier3ans,OptionCalendrier3mois,1)-WEEKDAY(DATE(Calendrier3ans,OptionCalendrier3mois,1),OptionJourSemaine)} -> 43521 | C31: 43522 | D31: 43523 | E31: 43524 | F31: 43525 | G31: 43526 | H31: 43527 | O31: Février
O32: Mars
B33: {=Jours+8+DATE(Calendrier3ans,OptionCalendrier3mois,1)-WEEKDAY(DATE(Calendrier3ans,OptionCalendrier3mois,1),OptionJourSemaine)} -> 43528 | C33: 43529 | D33: 43530 | E33: 43531 | F33: 43532 | G33: 43533 | H33: 43534 | O33: Avril
O34: Mai
B35: {=Jours+15+DATE(Calendrier3ans,OptionCalendrier3mois,1)-WEEKDAY(DATE(Calendrier3ans,OptionCalendrier3mois,1),OptionJourSemaine)} -> 43535 | C35: 43536 | D35: 43537 | E35: 43538 | F35: 43539 | G35: 43540 | H35: 43541 | O35: Juin
O36: Juillet
B37: {=Jours+22+DATE(Calendrier3ans,OptionCalendrier3mois,1)-WEEKDAY(DATE(Calendrier3ans,OptionCalendrier3mois,1),OptionJourSemaine)} -> 43542 | C37: 43543 | D37: 43544 | E37: 43545 | F37: 43546 | G37: 43547 | H37: 43548 | O37: Août
O38: Septembre
B39: {=Jours+29+DATE(Calendrier3ans,OptionCalendrier3mois,1)-WEEKDAY(DATE(Calendrier3ans,OptionCalendrier3mois,1),OptionJourSemaine)} -> 43549 | C39: 43550 | D39: 43551 | E39: 43552 | F39: 43553 | G39: 43554 | H39: 43555 | O39: Octobre
O40: Novembre
B41: {=Jours+36+DATE(Calendrier3ans,OptionCalendrier3mois,1)-WEEKDAY(DATE(Calendrier3ans,OptionCalendrier3mois,1),OptionJourSemaine)} -> 43556 | C41: 43557 | D41: Notes : | O41: Décembre
B43: =YEAR(DATE(Calendrier3ans,OptionCalendrier3mois+1,1)) -> 2019 | C43: =TEXT(DATE(Calendrier3ans,OptionCalendrier3mois+1,1),"mmmm") -> avril
B44: =UPPER(TEXT(B45,"jjjj")) -> LUNDI | C44: =UPPER(TEXT(C45,"jjjj")) -> MARDI | D44: =UPPER(TEXT(D45,"jjjj")) -> MERCREDI | E44: =UPPER(TEXT(E45,"jjjj")) -> JEUDI | F44: =UPPER(TEXT(F45,"jjjj")) -> VENDREDI | G44: =UPPER(TEXT(G45,"jjjj")) -> SAMEDI | H44: =UPPER(TEXT(H45,"jjjj")) -> DIMANCHE | O44: Janvier
B45: {=Jours+1+DATE(Calendrier4ans,OptionCalendrier4mois,1)-WEEKDAY(DATE(Calendrier4ans,OptionCalendrier4mois,1),OptionJourSemaine)} -> 43556 | C45: 43557 | D45: 43558 | E45: 43559 | F45: 43560 | G45: 43561 | H45: 43562 | O45: Février
O46: Mars
B47: {=Jours+8+DATE(Calendrier4ans,OptionCalendrier4mois,1)-WEEKDAY(DATE(Calendrier4ans,OptionCalendrier4mois,1),OptionJourSemaine)} -> 43563 | C47: 43564 | D47: 43565 | E47: 43566 | F47: 43567 | G47: 43568 | H47: 43569 | O47: Avril
O48: Mai
B49: {=Jours+15+DATE(Calendrier4ans,OptionCalendrier4mois,1)-WEEKDAY(DATE(Calendrier4ans,OptionCalendrier4mois,1),OptionJourSemaine)} -> 43570 | C49: 43571 | D49: 43572 | E49: 43573 | F49: 43574 | G49: 43575 | H49: 43576 | O49: Juin
O50: Juillet
B51: {=Jours+22+DATE(Calendrier4ans,OptionCalendrier4mois,1)-WEEKDAY(DATE(Calendrier4ans,OptionCalendrier4mois,1),OptionJourSemaine)} -> 43577 | C51: 43578 | D51: 43579 | E51: 43580 | F51: 43581 | G51: 43582 | H51: 43583 | O51: Août
O52: Septembre
B53: {=Jours+29+DATE(Calendrier4ans,OptionCalendrier4mois,1)-WEEKDAY(DATE(Calendrier4ans,OptionCalendrier4mois,1),OptionJourSemaine)} -> 43584 | C53: 43585 | D53: 43586 | E53: 43587 | F53: 43588 | G53: 43589 | H53: 43590 | O53: Octobre
O54: Novembre
B55: {=Jours+36+DATE(Calendrier4ans,OptionCalendrier4mois,1)-WEEKDAY(DATE(Calendrier4ans,OptionCalendrier4mois,1),OptionJourSemaine)} -> 43591 | C55: 43592 | D55: Notes : | O55: Décembre
B57: =YEAR(DATE(Calendrier4ans,OptionCalendrier4mois+1,1)) -> 2019 | C57: =TEXT(DATE(Calendrier4ans,OptionCalendrier4mois+1,1),"mmmm") -> mai
B58: =UPPER(TEXT(B59,"jjjj")) -> LUNDI | C58: =UPPER(TEXT(C59,"jjjj")) -> MARDI | D58: =UPPER(TEXT(D59,"jjjj")) -> MERCREDI | E58: =UPPER(TEXT(E59,"jjjj")) -> JEUDI | F58: =UPPER(TEXT(F59,"jjjj")) -> VENDREDI | G58: =UPPER(TEXT(G59,"jjjj")) -> SAMEDI | H58: =UPPER(TEXT(H59,"jjjj")) -> DIMANCHE | O58: Janvier
B59: {=Jours+1+DATE(Calendrier5ans,OptionCalendrier5mois,1)-WEEKDAY(DATE(Calendrier5ans,OptionCalendrier5mois,1),OptionJourSemaine)} -> 43584 | C59: 43585 | D59: 43586 | E59: 43587 | F59: 43588 | G59: 43589 | H59: 43590 | O59: Février
O60: Mars
B61: {=Jours+8+DATE(Calendrier5ans,OptionCalendrier5mois,1)-WEEKDAY(DATE(Calendrier5ans,OptionCalendrier5mois,1),OptionJourSemaine)} -> 43591 | C61: 43592 | D61: 43593 | E61: 43594 | F61: 43595 | G61: 43596 | H61: 43597 | O61: Avril
O62: Mai
B63: {=Jours+15+DATE(Calendrier5ans,OptionCalendrier5mois,1)-WEEKDAY(DATE(Calendrier5ans,OptionCalendrier5mois,1),OptionJourSemaine)} -> 43598 | C63: 43599 | D63: 43600 | E63: 43601 | F63: 43602 | G63: 43603 | H63: 43604 | O63: Juin
O64: Juillet
B65: {=Jours+22+DATE(Calendrier5ans,OptionCalendrier5mois,1)-WEEKDAY(DATE(Calendrier5ans,OptionCalendrier5mois,1),OptionJourSemaine)} -> 43605 | C65: 43606 | D65: 43607 | E65: 43608 | F65: 43609 | G65: 43610 | H65: 43611 | O65: Août
O66: Septembre
B67: {=Jours+29+DATE(Calendrier5ans,OptionCalendrier5mois,1)-WEEKDAY(DATE(Calendrier5ans,OptionCalendrier5mois,1),OptionJourSemaine)} -> 43612 | C67: 43613 | D67: 43614 | E67: 43615 | F67: 43616 | G67: 43617 | H67: 43618 | O67: Octobre
O68: Novembre
B69: {=Jours+36+DATE(Calendrier5ans,OptionCalendrier5mois,1)-WEEKDAY(DATE(Calendrier5ans,OptionCalendrier5mois,1),OptionJourSemaine)} -> 43619 | C69: 43620 | D69: Notes : | O69: Décembre
B71: =YEAR(DATE(Calendrier5ans,OptionCalendrier5mois+1,1)) -> 2019 | C71: =TEXT(DATE(Calendrier5ans,OptionCalendrier5mois+1,1),"mmmm") -> juin
B72: =UPPER(TEXT(B73,"jjjj")) -> LUNDI | C72: =UPPER(TEXT(C73,"jjjj")) -> MARDI | D72: =UPPER(TEXT(D73,"jjjj")) -> MERCREDI | E72: =UPPER(TEXT(E73,"jjjj")) -> JEUDI | F72: =UPPER(TEXT(F73,"jjjj")) -> VENDREDI | G72: =UPPER(TEXT(G73,"jjjj")) -> SAMEDI | H72: =UPPER(TEXT(H73,"jjjj")) -> DIMANCHE | O72: Janvier
B73: {=Jours+1+DATE(Calendrier6ans,OptionCalendrier6mois,1)-WEEKDAY(DATE(Calendrier6ans,OptionCalendrier6mois,1),OptionJourSemaine)} -> 43612 | C73: 43613 | D73: 43614 | E73: 43615 | F73: 43616 | G73: 43617 | H73: 43618 | O73: Février
O74: Mars
B75: {=Jours+8+DATE(Calendrier6ans,OptionCalendrier6mois,1)-WEEKDAY(DATE(Calendrier6ans,OptionCalendrier6mois,1),OptionJourSemaine)} -> 43619 | C75: 43620 | D75: 43621 | E75: 43622 | F75: 43623 | G75: 43624 | H75: 43625 | O75: Avril
O76: Mai
B77: {=Jours+15+DATE(Calendrier6ans,OptionCalendrier6mois,1)-WEEKDAY(DATE(Calendrier6ans,OptionCalendrier6mois,1),OptionJourSemaine)} -> 43626 | C77: 43627 | D77: 43628 | E77: 43629 | F77: 43630 | G77: 43631 | H77: 43632 | O77: Juin
O78: Juillet
B79: {=Jours+22+DATE(Calendrier6ans,OptionCalendrier6mois,1)-WEEKDAY(DATE(Calendrier6ans,OptionCalendrier6mois,1),OptionJourSemaine)} -> 43633 | C79: 43634 | D79: 43635 | E79: 43636 | F79: 43637 | G79: 43638 | H79: 43639 | O79: Août
O80: Septembre
B81: {=Jours+29+DATE(Calendrier6ans,OptionCalendrier6mois,1)-WEEKDAY(DATE(Calendrier6ans,OptionCalendrier6mois,1),OptionJourSemaine)} -> 43640 | C81: 43641 | D81: 43642 | E81: 43643 | F81: 43644 | G81: 43645 | H81: 43646 | O81: Octobre
O82: Novembre
B83: {=Jours+36+DATE(Calendrier6ans,OptionCalendrier6mois,1)-WEEKDAY(DATE(Calendrier6ans,OptionCalendrier6mois,1),OptionJourSemaine)} -> 43647 | C83: 43648 | D83: Notes : | O83: Décembre
B85: =YEAR(DATE(Calendrier6ans,OptionCalendrier6mois+1,1)) -> 2019 | C85: =TEXT(DATE(Calendrier6ans,OptionCalendrier6mois+1,1),"mmmm") -> juillet
B86: =UPPER(TEXT(B87,"jjjj")) -> LUNDI | C86: =UPPER(TEXT(C87,"jjjj")) -> MARDI | D86: =UPPER(TEXT(D87,"jjjj")) -> MERCREDI | E86: =UPPER(TEXT(E87,"jjjj")) -> JEUDI | F86: =UPPER(TEXT(F87,"jjjj")) -> VENDREDI | G86: =UPPER(TEXT(G87,"jjjj")) -> SAMEDI | H86: =UPPER(TEXT(H87,"jjjj")) -> DIMANCHE | O86: Janvier
B87: {=Jours+1+DATE( Calendrier7ans,OptionCalendrier7mois,1)-WEEKDAY(DATE( Calendrier7ans,OptionCalendrier7mois,1),OptionJourSemaine)} -> 43647 | C87: 43648 | D87: 43649 | E87: 43650 | F87: 43651 | G87: 43652 | H87: 43653 | O87: Février
O88: Mars
B89: {=Jours+8+DATE( Calendrier7ans,OptionCalendrier7mois,1)-WEEKDAY(DATE( Calendrier7ans,OptionCalendrier7mois,1),OptionJourSemaine)} -> 43654 | C89: 43655 | D89: 43656 | E89: 43657 | F89: 43658 | G89: 43659 | H89: 43660 | O89: Avril
O90: Mai
B91: {=Jours+15+DATE( Calendrier7ans,OptionCalendrier7mois,1)-WEEKDAY(DATE( Calendrier7ans,OptionCalendrier7mois,1),OptionJourSemaine)} -> 43661 | C91: 43662 | D91: 43663 | E91: 43664 | F91: 43665 | G91: 43666 | H91: 43667 | O91: Juin
O92: Juillet
B93: {=Jours+22+DATE( Calendrier7ans,OptionCalendrier7mois,1)-WEEKDAY(DATE( Calendrier7ans,OptionCalendrier7mois,1),OptionJourSemaine)} -> 43668 | C93: 43669 | D93: 43670 | E93: 43671 | F93: 43672 | G93: 43673 | H93: 43674 | O93: Août
O94: Septembre
B95: {=Jours+29+DATE( Calendrier7ans,OptionCalendrier7mois,1)-WEEKDAY(DATE( Calendrier7ans,OptionCalendrier7mois,1),OptionJourSemaine)} -> 43675 | C95: 43676 | D95: 43677 | E95: 43678 | F95: 43679 | G95: 43680 | H95: 43681 | O95: Octobre
O96: Novembre
B97: {=Jours+36+DATE( Calendrier7ans,OptionCalendrier7mois,1)-WEEKDAY(DATE( Calendrier7ans,OptionCalendrier7mois,1),OptionJourSemaine)} -> 43682 | C97: 43683 | D97: Notes : | O97: Décembre
B99: =YEAR(DATE( Calendrier7ans,OptionCalendrier7mois+1,1)) -> 2019 | C99: =TEXT(DATE( Calendrier7ans,OptionCalendrier7mois+1,1),"mmmm") -> août
B100: =UPPER(TEXT(B101,"jjjj")) -> LUNDI | C100: =UPPER(TEXT(C101,"jjjj")) -> MARDI | D100: =UPPER(TEXT(D101,"jjjj")) -> MERCREDI | E100: =UPPER(TEXT(E101,"jjjj")) -> JEUDI | F100: =UPPER(TEXT(F101,"jjjj")) -> VENDREDI | G100: =UPPER(TEXT(G101,"jjjj")) -> SAMEDI | H100: =UPPER(TEXT(H101,"jjjj")) -> DIMANCHE | O100: Janvier
B101: {=Jours+1+DATE( Calendrier8ans,OptionCalendrier8mois,1)-WEEKDAY(DATE( Calendrier8ans,OptionCalendrier8mois,1),OptionJourSemaine)} -> 43675 | C101: 43676 | D101: 43677 | E101: 43678 | F101: 43679 | G101: 43680 | H101: 43681 | O101: Février
O102: Mars
B103: {=Jours+8+DATE( Calendrier8ans,OptionCalendrier8mois,1)-WEEKDAY(DATE( Calendrier8ans,OptionCalendrier8mois,1),OptionJourSemaine)} -> 43682 | C103: 43683 | D103: 43684 | E103: 43685 | F103: 43686 | G103: 43687 | H103: 43688 | O103: Avril
O104: Mai
B105: {=Jours+15+DATE( Calendrier8ans,OptionCalendrier8mois,1)-WEEKDAY(DATE( Calendrier8ans,OptionCalendrier8mois,1),OptionJourSemaine)} -> 43689 | C105: 43690 | D105: 43691 | E105: 43692 | F105: 43693 | G105: 43694 | H105: 43695 | O105: Juin
O106: Juillet
B107: {=Jours+22+DATE( Calendrier8ans,OptionCalendrier8mois,1)-WEEKDAY(DATE( Calendrier8ans,OptionCalendrier8mois,1),OptionJourSemaine)} -> 43696 | C107: 43697 | D107: 43698 | E107: 43699 | F107: 43700 | G107: 43701 | H107: 43702 | O107: Août
...
