Workbook
Name Segment_DIRECTION: #N/A
Name Segment_sexe: #N/A

Sheet Feuil1
A1: Age | B1: Tranches
A2: 0 | B2: 1
A3: 1 | B3: 1
A4: 2 | B4: 1
A5: 3 | B5: 1
A6: 4 | B6: 1
A7: 5 | B7: 1
A8: 6 | B8: 1
A9: 7 | B9: 1
A10: 8 | B10: 1
A11: 9 | B11: 1
A12: 10 | B12: 1 | E12: Étiquettes de lignes | F12: Min. de Tranches
A13: 11 | B13: 1 | E13: <25 ou (vide) | F13: 1
A14: 12 | B14: 1 | E14: 25-29 | F14: 2
A15: 13 | B15: 1 | E15: 30-34 | F15: 3
A16: 14 | B16: 1 | E16: 35-39 | F16: 4
A17: 15 | B17: 1 | E17: 40-44 | F17: 5
A18: 16 | B18: 1 | E18: 45-49 | F18: 6
A19: 17 | B19: 1 | E19: 50-54 | F19: 7
A20: 18 | B20: 1 | E20: 55-59 | F20: 8
A21: 19 | B21: 1 | E21: 60-64 | F21: 9
A22: 20 | B22: 1 | E22: 65-70 | F22: 10
A23: 21 | B23: 1 | E23: Total général | F23: 1
A24: 22 | B24: 1
A25: 23 | B25: 1
A26: 24 | B26: 1
A27: 25 | B27: 2
A28: 26 | B28: 2
A29: 27 | B29: 2
A30: 28 | B30: 2
A31: 29 | B31: 2
A32: 30 | B32: 3
A33: 31 | B33: 3
A34: 32 | B34: 3
A35: 33 | B35: 3
... A72: 70 | B72: 10

Sheet Feuil2
A1: TELEPHONE | B1: DIRECTION | C1: SITE | D1: PIECE | E1: SALAIRE | F1: sexe | G1: date de naisssance | H1: AGE actuel | I1: tranche | K1: PIECE
A2: 353091 | B2: CCS DXO | C2: Paris | D2: pièce 58 | E2: 2011.94 | F2: femme | G2: 21853 | H2: =INT((TODAY()-G2)/365) -> 59 | I2: =VLOOKUP(Feuil2!H2,Feuil1!A2:B72,2,1) -> 8 | K2: pièce 58 | L2: pièce | M2: 58
A3: 353186 | B3: CCS AGL | C3: Paris | D3: pièce 74 | E3: 2474.29 | F3: homme | G3: 29536 | H3: =INT((TODAY()-G3)/365) -> 38 | I3: =VLOOKUP(H3,Feuil1!A$1:B72,2,1) -> 4 | K3: pièce | L3: 74
A4: 353055 | B4: CCS OGT | C4: Paris | D4: pièce 73 | E4: 2444.82 | F4: homme | G4: 25553 | H4: =INT((TODAY()-G4)/365) -> 49 | I4: =VLOOKUP(H4,Feuil1!A$1:B73,2,1) -> 6 | K4: pièce | L4: 73
A5: 353033 | B5: CFS CO | C5: Nice | D5: pièce 109 | E5: 991.09 | F5: femme | G5: 30034 | H5: =INT((TODAY()-G5)/365) -> 37 | I5: =VLOOKUP(H5,Feuil1!A$1:B74,2,1) -> 4 | K5: pièce | L5: 109
A6: 353408 | B6: CCS DXO | C6: Paris | D6: pièce 134 | E6: 1183.9 | F6: homme | G6: 29233 | H6: =INT((TODAY()-G6)/365) -> 39 | I6: =VLOOKUP(H6,Feuil1!A$1:B75,2,1) -> 4 | K6: pièce | L6: 134
A7: 353098 | B7: CCS AGL | C7: Paris | D7: pièce 80 | E7: 4151.95 | F7: homme | G7: 20383 | H7: =INT((TODAY()-G7)/365) -> 63 | I7: =VLOOKUP(H7,Feuil1!A$1:B76,2,1) -> 9 | K7: pièce | L7: 80
A8: 353766 | B8: CFS CO | C8: Nice | D8: pièce 232 | E8: 1615.68 | F8: homme | G8: 28770 | H8: =INT((TODAY()-G8)/365) -> 40 | I8: =VLOOKUP(H8,Feuil1!A$1:B77,2,1) -> 5 | K8: pièce | L8: 232
A9: 353421 | B9: CCS DPO | C9: Strasbourg | D9: pièce 80 | E9: 2664.91 | F9: femme | G9: 24978 | H9: =INT((TODAY()-G9)/365) -> 50 | I9: =VLOOKUP(H9,Feuil1!A$1:B78,2,1) -> 7 | K9: pièce | L9: 80
A10: 353132 | B10: CFS CO | C10: Nice | D10: inconnu | E10: 3201.14 | F10: homme | G10: 19718 | H10: =INT((TODAY()-G10)/365) -> 65 | I10: =VLOOKUP(H10,Feuil1!A$1:B79,2,1) -> 10 | K10: inconnu
A11: 353419 | B11: CFS FSC | C11: Nice | D11: pièce 70 | E11: 2354.84 | F11: homme | G11: 23639 | H11: =INT((TODAY()-G11)/365) -> 54 | I11: =VLOOKUP(H11,Feuil1!A$1:B80,2,1) -> 7 | K11: pièce | L11: 70
A12: 353127 | B12: CCS DXO | C12: Nice | D12: inconnu | E12: 3145.8 | F12: femme | G12: 24575 | H12: =INT((TODAY()-G12)/365) -> 52 | I12: =VLOOKUP(H12,Feuil1!A$1:B81,2,1) -> 7 | K12: inconnu
A13: 353060 | B13: SNPO | C13: Paris | D13: pièce 233 | E13: 1650.21 | F13: femme | G13: 24129 | H13: =INT((TODAY()-G13)/365) -> 53 | I13: =VLOOKUP(H13,Feuil1!A$1:B82,2,1) -> 7 | K13: pièce | L13: 233
A14: 353147 | B14: CFS CO | C14: Nice | D14: pièce 90 | E14: 2885.09 | F14: femme | G14: 23762 | H14: =INT((TODAY()-G14)/365) -> 54 | I14: =VLOOKUP(H14,Feuil1!A$1:B83,2,1) -> 7 | K14: pièce | L14: 90
A15: 353795 | B15: CCS AGL | C15: Paris | D15: pièce 131 | E15: 1108.71 | F15: femme | G15: 24075 | H15: =INT((TODAY()-G15)/365) -> 53 | I15: =VLOOKUP(H15,Feuil1!A$1:B84,2,1) -> 7 | K15: pièce | L15: 131
A16: 353725 | B16: CFS ONF | C16: Nice | D16: pièce 58 | E16: 2014.09 | F16: femme | G16: 19655 | H16: =INT((TODAY()-G16)/365) -> 65 | I16: =VLOOKUP(H16,Feuil1!A$1:B85,2,1) -> 10 | K16: pièce | L16: 58
A17: 353070 | B17: SNPO | C17: Paris | D17: pièce 232 | E17: 1606.47 | F17: femme | G17: 26819 | H17: =INT((TODAY()-G17)/365) -> 45 | I17: =VLOOKUP(H17,Feuil1!A$1:B86,2,1) -> 6 | K17: pièce | L17: 232
A18: 353280 | B18: CFS FSC | C18: Nice | D18: pièce 34 | E18: 1848.08 | F18: femme | G18: 33264 | H18: =INT((TODAY()-G18)/365) -> 28 | I18: =VLOOKUP(H18,Feuil1!A$1:B87,2,1) -> 2 | K18: pièce | L18: 34
A19: 353090 | B19: CCS DPO | C19: Strasbourg | D19: pièce 35 | E19: 1861.75 | F19: homme | G19: 25603 | H19: =INT((TODAY()-G19)/365) -> 49 | I19: =VLOOKUP(H19,Feuil1!A$1:B88,2,1) -> 6 | K19: pièce | L19: 35
A20: 353632 | B20: CFS FSC | C20: Nice | D20: pièce 91 | E20: 2887.84 | F20: femme | G20: 24087 | H20: =INT((TODAY()-G20)/365) -> 53 | I20: =VLOOKUP(H20,Feuil1!A$1:B89,2,1) -> 7 | K20: pièce | L20: 91
A21: 353880 | B21: CCS DXO | C21: Paris | D21: pièce 96 | E21: 2983.95 | F21: femme | G21: 26758 | H21: =INT((TODAY()-G21)/365) -> 46 | I21: =VLOOKUP(H21,Feuil1!A$1:B90,2,1) -> 6 | K21: pièce | L21: 96
A22: 353541 | B22: CFS AG | C22: Nice | D22: pièce 212 | E22: 1426.95 | F22: homme | G22: 30776 | H22: =INT((TODAY()-G22)/365) -> 35 | I22: =VLOOKUP(H22,Feuil1!A$1:B91,2,1) -> 4 | K22: pièce | L22: 212
A23: 353595 | B23: CFS AG | C23: Nice | D23: pièce 17 | E23: 1316.45 | F23: femme | G23: 28468 | H23: =INT((TODAY()-G23)/365) -> 41 | I23: =VLOOKUP(H23,Feuil1!A$1:B92,2,1) -> 5 | K23: pièce | L23: 17
A24: 353008 | B24: CFS ONF | C24: Nice | D24: pièce 219 | E24: 1476.84 | F24: homme | G24: 30926 | H24: =INT((TODAY()-G24)/365) -> 34 | I24: =VLOOKUP(H24,Feuil1!A$1:B93,2,1) -> 3 | K24: pièce | L24: 219
... A41: 353059 | B41: CCS DXO | C41: Paris | D41: pièce 73 | E41: 2431.28 | F41: femme | G41: 32649 | H41: =INT((TODAY()-G41)/365) -> 29 | I41: =VLOOKUP(H41,Feuil1!A$1:B110,2,1) -> 2 | K41: pièce | L41: 73
A42: 353586 | B42: CCS DXO | C42: Paris | D42: pièce SEC | E42: 3135.85 | F42: femme | G42: 30830 | H42: =INT((TODAY()-G42)/365) -> 34 | I42: =VLOOKUP(H42,Feuil1!A$1:B111,2,1) -> 3 | K42: pièce | L42: SEC
A43: 353095 | B43: CFS FSC | C43: Nice | D43: pièce 73 | E43: 2381.96 | F43: homme | G43: 29888 | H43: =INT((TODAY()-G43)/365) -> 37 | I43: =VLOOKUP(H43,Feuil1!A$1:B112,2,1) -> 4 | K43: pièce | L43: 73
A44: 353080 | B44: CFS FSC | C44: Nice | D44: pièce 64 | E44: 2263.55 | F44: femme | G44: 25936 | H44: =INT((TODAY()-G44)/365) -> 48 | I44: =VLOOKUP(H44,Feuil1!A$1:B113,2,1) -> 6 | K44: pièce | L44: 64
A45: 353111 | B45: CFS AG | C45: Nice | D45: pièce 216 | E45: 1446.08 | F45: homme | G45: 23511 | H45: =INT((TODAY()-G45)/365) -> 54 | I45: =VLOOKUP(H45,Feuil1!A$1:B114,2,1) -> 7 | K45: pièce | L45: 216
A46: 353801 | B46: CFS CO | C46: Nice | D46: pièce 35 | E46: 3583.16 | F46: femme | G46: 19932 | H46: =INT((TODAY()-G46)/365) -> 64 | I46: =VLOOKUP(H46,Feuil1!A$1:B115,2,1) -> 9 | K46: pièce | L46: 35
A47: 353456 | B47: CFS CO | C47: Nice | D47: pièce 80 | E47: 2692.75 | F47: homme | G47: 24072 | H47: =INT((TODAY()-G47)/365) -> 53 | I47: =VLOOKUP(H47,Feuil1!A$1:B116,2,1) -> 7 | K47: pièce | L47: 80
A48: 353002 | B48: CFS AG | C48: Nice | D48: pièce 80 | E48: 2648.4 | F48: homme | G48: 30676 | H48: =INT((TODAY()-G48)/365) -> 35 | I48: =VLOOKUP(H48,Feuil1!A$1:B117,2,1) -> 4 | K48: pièce | L48: 80
A49: 353009 | B49: CFS CO | C49: Nice | D49: pièce 64 | E49: 2153.75 | F49: femme | G49: 25636 | H49: =INT((TODAY()-G49)/365) -> 49 | I49: =VLOOKUP(H49,Feuil1!A$1:B118,2,1) -> 6 | K49: pièce | L49: 64
A50: 353715 | B50: CFS CO | C50: Nice | D50: pièce 131 | E50: 1112.47 | F50: femme | G50: 32427 | H50: =INT((TODAY()-G50)/365) -> 30 | I50: =VLOOKUP(H50,Feuil1!A$1:B119,2,1) -> 3 | K50: pièce | L50: 131
A51: 353769 | B51: AFO | C51: Paris | D51: pièce 67 | E51: 2324.6 | F51: femme | G51: 29465 | H51: =INT((TODAY()-G51)/365) -> 38 | I51: =VLOOKUP(H51,Feuil1!A$1:B120,2,1) -> 4 | K51: pièce | L51: 67
A52: 353021 | B52: CFS FSC | C52: Nice | D52: pièce 73 | E52: 2417.58 | F52: femme | G52: 22668 | H52: =INT((TODAY()-G52)/365) -> 57 | I52: =VLOOKUP(H52,Feuil1!A$1:B121,2,1) -> 8 | K52: pièce | L52: 73
A53: 353666 | B53: CFS FSC | C53: Nice | D53: pièce 80 | E53: 2660.51 | F53: femme | G53: 29678 | H53: =INT((TODAY()-G53)/365) -> 38 | I53: =VLOOKUP(H53,Feuil1!A$1:B122,2,1) -> 4 | K53: pièce | L53: 80
A54: 353162 | B54: CFS CO | C54: Nice | D54: pièce 64 | E54: 2173.69 | F54: homme | G54: 18864 | H54: =INT((TODAY()-G54)/365) -> 67 | I54: =VLOOKUP(H54,Feuil1!A$1:B123,2,1) -> 10 | K54: pièce | L54: 64
... A60: 353062 | B60: CFS FSC | C60: Nice | D60: pièce 51 | E60: 1937.96 | F60: femme | G60: 19430 | H60: =INT((TODAY()-G60)/365) -> 66 | I60: =VLOOKUP(H60,Feuil1!A$1:B129,2,1) -> 10 | K60: pièce | L60: 51
A61: 353247 | B61: CFS AG | C61: Nice | D61: inconnu | E61: 3163.43 | F61: femme | G61: 20699 | H61: =INT((TODAY()-G61)/365) -> 62 | I61: =VLOOKUP(H61,Feuil1!A$1:B130,2,1) -> 9 | K61: inconnu
...

Sheet Feuil3
A1: Nombre de sexe | B1: Étiquettes de colonnes
A2: Étiquettes de lignes | B2: femme | C2: homme
A3: CCS AGL | B3: 17 | C3: 14
A4: CCS DPO | B4: 3 | C4: 7
A5: CCS DXO | B5: 23 | C5: 8
A6: CCS OGT | B6: 4 | C6: 9
A7: CFS | B7: 1
A8: CFS FSC | B8: 1
A9: Total général | B9: 49 | C9: 38
