Workbook
Name Segment_DIRECTION: #N/A
Name Segment_sexe: #N/A

Sheet Feuil1
A1: Age | B1: Tranches
A2: 0 | B2: 1
A3: 1 | B3: 1
A4: 2 | B4: 1
A5: 3 | B5: 1
A6: 4 | B6: 1
A7: 5 | B7: 1
A8: 6 | B8: 1
A9: 7 | B9: 1
A10: 8 | B10: 1
A11: 9 | B11: 1
A12: 10 | B12: 1 | E12: Étiquettes de lignes | F12: Min. de Tranches
A13: 11 | B13: 1 | E13: <25 ou (vide) | F13: 1
A14: 12 | B14: 1 | E14: 25-29 | F14: 2
A15: 13 | B15: 1 | E15: 30-34 | F15: 3
A16: 14 | B16: 1 | E16: 35-39 | F16: 4
A17: 15 | B17: 1 | E17: 40-44 | F17: 5
A18: 16 | B18: 1 | E18: 45-49 | F18: 6
A19: 17 | B19: 1 | E19: 50-54 | F19: 7
A20: 18 | B20: 1 | E20: 55-59 | F20: 8
A21: 19 | B21: 1 | E21: 60-64 | F21: 9
A22: 20 | B22: 1 | E22: 65-70 | F22: 10
A23: 21 | B23: 1 | E23: Total général | F23: 1
A24: 22 | B24: 1
A25: 23 | B25: 1
A26: 24 | B26: 1
A27: 25 | B27: 2
A28: 26 | B28: 2
A29: 27 | B29: 2
A30: 28 | B30: 2
A31: 29 | B31: 2
A32: 30 | B32: 3
A33: 31 | B33: 3
A34: 32 | B34: 3
A35: 33 | B35: 3
... A72: 70 | B72: 10

Sheet Feuil2
A1: TELEPHONE | B1: DIRECTION | C1: SITE | D1: PIECE | E1: SALAIRE | F1: sexe | G1: date de naisssance | H1: AGE actuel | I1: tranche | K1: PIECE
A2: 353091 | B2: CCS DXO | C2: Paris | D2: pièce 58 | E2: 2011.94 | F2: femme | G2: 21853 | H2: =INT((TODAY()-G2)/365) -> 59 | I2: =VLOOKUP(Feuil2!H2,Feuil1!A2:B72,2,1) -> 8 | K2: pièce 58 | L2: pièce | M2: 58
A3: 353186 | B3: CCS AGL | C3: Paris | D3: pièce 74 | E3: 2474.29 | F3: homme | G3: 29536 | H3: =INT((TODAY()-G3)/365) -> 38 | I3: =VLOOKUP(H3,Feuil1!A$1:B72,2,1) -> 4 | K3: pièce | L3: 74
A4: 353055 | B4: CCS OGT | C4: Paris | D4: pièce 73 | E4: 2444.82 | F4: homme | G4: 25553 | H4: =INT((TODAY()-G4)/365) -> 49 | I4: =VLOOKUP(H4,Feuil1!A$1:B73,2,1) -> 6 | K4: pièce | L4: 73
A5: 353033 | B5: CFS CO | C5: Nice | D5: pièce 109 | E5: 991.09 | F5: femme | G5: 30034 | H5: =INT((TODAY()-G5)/365) -> 37 | I5: =VLOOKUP(H5,Feuil1!A$1:B74,2,1) -> 4 | K5: pièce | L5: 109
A6: 353408 | B6: CCS DXO | C6: Paris | D6: pièce 134 | E6: 1183.9 | F6: homme | G6: 29233 | H6: =INT((TODAY()-G6)/365) -> 39 | I6: =VLOOKUP(H6,Feuil1!A$1:B75,2,1) -> 4 | K6: pièce | L6: 134
A7: 353098 | B7: CCS AGL | C7: Paris | D7: pièce 80 | E7: 4151.95 | F7: homme | G7: 20383 | H7: =INT((TODAY()-G7)/365) -> 63 | I7: =VLOOKUP(H7,Feuil1!A$1:B76,2,1) -> 9 | K7: pièce | L7: 80
A8: 353766 | B8: CFS CO | C8: Nice | D8: pièce 232 | E8: 1615.68 | F8: homme | G8: 28770 | H8: =INT((TODAY()-G8)/365) -> 40 | I8: =VLOOKUP(H8,Feuil1!A$1:B77,2,1) -> 5 | K8: pièce | L8: 232
A9: 353421 | B9: CCS DPO | C9: Strasbourg | D9: pièce 80 | E9: 2664.91 | F9: femme | G9: 24978 | H9: =INT((TODAY()-G9)/365) -> 50 | I9: =VLOOKUP(H9,Feuil1!A$1:B78,2,1) -> 7 | K9: pièce | L9: 80
A10: 353132 | B10: CFS CO | C10: Nice | D10: inconnu | E10: 3201.14 | F10: homme | G10: 19718 | H10: =INT((TODAY()-G10)/365) -> 65 | I10: =VLOOKUP(H10,Feuil1!A$1:B79,2,1) -> 10 | K10: inconnu
A11: 353419 | B11: CFS FSC | C11: Nice | D11: pièce 70 | E11: 2354.84 | F11: homme | G11: 23639 | H11: =INT((TODAY()-G11)/365) -> 54 | I11: =VLOOKUP(H11,Feuil1!A$1:B80,2,1) -> 7 | K11: pièce | L11: 70
A12: 353127 | B12: CCS DXO | C12: Nice | D12: inconnu | E12: 3145.8 | F12: femme | G12: 24575 | H12: =INT((TODAY()-G12)/365) -> 52 | I12: =VLOOKUP(H12,Feuil1!A$1:B81,2,1) -> 7 | K12: inconnu
A13: 353060 | B13: SNPO | C13: Paris | D13: pièce 233 | E13: 1650.21 | F13: femme | G13: 24129 | H13: =INT((TODAY()-G13)/365) -> 53 | I13: =VLOOKUP(H13,Feuil1!A$1:B82,2,1) -> 7 | K13: pièce | L13: 233
A14: 353147 | B14: CFS CO | C14: Nice | D14: pièce 90 | E14: 2885.09 | F14: femme | G14: 23762 | H14: =INT((TODAY()-G14)/365) -> 54 | I14: =VLOOKUP(H14,Feuil1!A$1:B83,2,1) -> 7 | K14: pièce | L14: 90
A15: 353795 | B15: CCS AGL | C15: Paris | D15: pièce 131 | E15: 1108.71 | F15: femme | G15: 24075 | H15: =INT((TODAY()-G15)/365) -> 53 | I15: =VLOOKUP(H15,Feuil1!A$1:B84,2,1) -> 7 | K15: pièce | L15: 131
A16: 353725 | B16: CFS ONF | C16: Nice | D16: pièce 58 | E16: 2014.09 | F16: femme | G16: 19655 | H16: =INT((TODAY()-G16)/365) -> 65 | I16: =VLOOKUP(H16,Feuil1!A$1:B85,2,1) -> 10 | K16: pièce | L16: 58
A17: 353070 | B17: SNPO | C17: Paris | D17: pièce 232 | E17: 1606.47 | F17: femme | G17: 26819 | H17: =INT((TODAY()-G17)/365) -> 45 | I17: =VLOOKUP(H17,Feuil1!A$1:B86,2,1) -> 6 | K17: pièce | L17: 232
A18: 353280 | B18: CFS FSC | C18: Nice | D18: pièce 34 | E18: 1848.08 | F18: femme | G18: 33264 | H18: =INT((TODAY()-G18)/365) -> 28 | I18: =VLOOKUP(H18,Feuil1!A$1:B87,2,1) -> 2 | K18: pièce | L18: 34
A19: 353090 | B19: CCS DPO | C19: Strasbourg | D19: pièce 35 | E19: 1861.75 | F19: homme | G19: 25603 | H19: =INT((TODAY()-G19)/365) -> 49 | I19: =VLOOKUP(H19,Feuil1!A$1:B88,2,1) -> 6 | K19: pièce | L19: 35
A20: 353632 | B20: CFS FSC | C20: Nice | D20: pièce 91 | E20: 2887.84 | F20: femme | G20: 24087 | H20: =INT((TODAY()-G20)/365) -> 53 | I20: =VLOOKUP(H20,Feuil1!A$1:B89,2,1) -> 7 | K20: pièce | L20: 91
A21: 353880 | B21: CCS DXO | C21: Paris | D21: pièce 96 | E21: 2983.95 | F21: femme | G21: 26758 | H21: =INT((TODAY()-G21)/365) -> 46 | I21: =VLOOKUP(H21,Feuil1!A$1:B90,2,1) -> 6 | K21: pièce | L21: 96
A22: 353541 | B22: CFS AG | C22: Nice | D22: pièce 212 | E22: 1426.95 | F22: homme | G22: 30776 | H22: =INT((TODAY()-G22)/365) -> 35 | I22: =VLOOKUP(H22,Feuil1!A$1:B91,2,1) -> 4 | K22: pièce | L22: 212
A23: 353595 | B23: CFS AG | C23: Nice | D23: pièce 17 | E23: 1316.45 | F23: femme | G23: 28468 | H23: =INT((TODAY()-G23)/365) -> 41 | I23: =VLOOKUP(H23,Feuil1!A$1:B92,2,1) -> 5 | K23: pièce | L23: 17
A24: 353008 | B24: CFS ONF | C24: Nice | D24: pièce 219 | E24: 1476.84 | F24: homme | G24: 30926 | H24: =INT((TODAY()-G24)/365) -> 34 | I24: =VLOOKUP(H24,Feuil1!A$1:B93,2,1) -> 3 | K24: pièce | L24: 219
... A41: 353059 | B41: CCS DXO | C41: Paris | D41: pièce 73 | E41: 2431.28 | F41: femme | G41: 32649 | H41: =INT((TODAY()-G41)/365) -> 29 | I41: =VLOOKUP(H41,Feuil1!A$1:B110,2,1) -> 2 | K41: pièce | L41: 73
A42: 353586 | B42: CCS DXO | C42: Paris | D42: pièce SEC | E42: 3135.85 | F42: femme | G42: 30830 | H42: =INT((TODAY()-G42)/365) -> 34 | I42: =VLOOKUP(H42,Feuil1!A$1:B111,2,1) -> 3 | K42: pièce | L42: SEC
A43: 353095 | B43: CFS FSC | C43: Nice | D43: pièce 73 | E43: 2381.96 | F43: homme | G43: 29888 | H43: =INT((TODAY()-G43)/365) -> 37 | I43: =VLOOKUP(H43,Feuil1!A$1:B112,2,1) -> 4 | K43: pièce | L43: 73
A44: 353080 | B44: CFS FSC | C44: Nice | D44: pièce 64 | E44: 2263.55 | F44: femme | G44: 25936 | H44: =INT((TODAY()-G44)/365) -> 48 | I44: =VLOOKUP(H44,Feuil1!A$1:B113,2,1) -> 6 | K44: pièce | L44: 64
A45: 353111 | B45: CFS AG | C45: Nice | D45: pièce 216 | E45: 1446.08 | F45: homme | G45: 23511 | H45: =INT((TODAY()-G45)/365) -> 54 | I45: =VLOOKUP(H45,Feuil1!A$1:B114,2,1) -> 7 | K45: pièce | L45: 216
A46: 353801 | B46: CFS CO | C46: Nice | D46: pièce 35 | E46: 3583.16 | F46: femme | G46: 19932 | H46: =INT((TODAY()-G46)/365) -> 64 | I46: =VLOOKUP(H46,Feuil1!A$1:B115,2,1) -> 9 | K46: pièce | L46: 35
A47: 353456 | B47: CFS CO | C47: Nice | D47: pièce 80 | E47: 2692.75 | F47: homme | G47: 24072 | H47: =INT((TODAY()-G47)/365) -> 53 | I47: =VLOOKUP(H47,Feuil1!A$1:B116,2,1) -> 7 | K47: pièce | L47: 80
A48: 353002 | B48: CFS AG | C48: Nice | D48: pièce 80 | E48: 2648.4 | F48: homme | G48: 30676 | H48: =INT((TODAY()-G48)/365) -> 35 | I48: =VLOOKUP(H48,Feuil1!A$1:B117,2,1) -> 4 | K48: pièce | L48: 80
A49: 353009 | B49: CFS CO | C49: Nice | D49: pièce 64 | E49: 2153.75 | F49: femme | G49: 25636 | H49: =INT((TODAY()-G49)/365) -> 49 | I49: =VLOOKUP(H49,Feuil1!A$1:B118,2,1) -> 6 | K49: pièce | L49: 64
A50: 353715 | B50: CFS CO | C50: Nice | D50: pièce 131 | E50: 1112.47 | F50: femme | G50: 32427 | H50: =INT((TODAY()-G50)/365) -> 30 | I50: =VLOOKUP(H50,Feuil1!A$1:B119,2,1) -> 3 | K50: pièce | L50: 131
A51: 353769 | B51: AFO | C51: Paris | D51: pièce 67 | E51: 2324.6 | F51: femme | G51: 29465 | H51: =INT((TODAY()-G51)/365) -> 38 | I51: =VLOOKUP(H51,Feuil1!A$1:B120,2,1) -> 4 | K51: pièce | L51: 67
A52: 353021 | B52: CFS FSC | C52: Nice | D52: pièce 73 | E52: 2417.58 | F52: femme | G52: 22668 | H52: =INT((TODAY()-G52)/365) -> 57 | I52: =VLOOKUP(H52,Feuil1!A$1:B121,2,1) -> 8 | K52: pièce | L52: 73
A53: 353666 | B53: CFS FSC | C53: Nice | D53: pièce 80 | E53: 2660.51 | F53: femme | G53: 29678 | H53: =INT((TODAY()-G53)/365) -> 38 | I53: =VLOOKUP(H53,Feuil1!A$1:B122,2,1) -> 4 | K53: pièce | L53: 80
A54: 353162 | B54: CFS CO | C54: Nice | D54: pièce 64 | E54: 2173.69 | F54: homme | G54: 18864 | H54: =INT((TODAY()-G54)/365) -> 67 | I54: =VLOOKUP(H54,Feuil1!A$1:B123,2,1) -> 10 | K54: pièce | L54: 64
... A60: 353062 | B60: CFS FSC | C60: Nice | D60: pièce 51 | E60: 1937.96 | F60: femme | G60: 19430 | H60: =INT((TODAY()-G60)/365) -> 66 | I60: =VLOOKUP(H60,Feuil1!A$1:B129,2,1) -> 10 | K60: pièce | L60: 51
A61: 353247 | B61: CFS AG | C61: Nice | D61: inconnu | E61: 3163.43 | F61: femme | G61: 20699 | H61: =INT((TODAY()-G61)/365) -> 62 | I61: =VLOOKUP(H61,Feuil1!A$1:B130,2,1) -> 9 | K61: inconnu
A62: 353778 | B62: CCS AGL | C62: Paris | D62: pièce 80 | E62: 2598.77 | F62: femme | G62: 24929 | H62: =INT((TODAY()-G62)/365) -> 51 | I62: =VLOOKUP(H62,Feuil1!A$1:B131,2,1) -> 7 | K62: pièce | L62: 80
A63: 353041 | B63: CCS DPO | C63: Strasbourg | D63: pièce 95 | E63: 2940.07 | F63: homme | G63: 24022 | H63: =INT((TODAY()-G63)/365) -> 53 | I63: =VLOOKUP(H63,Feuil1!A$1:B132,2,1) -> 7 | K63: pièce | L63: 95
A64: 353417 | B64: CFS CO | C64: Nice | D64: pièce 96 | E64: 2995.73 | F64: femme | G64: 30031 | H64: =INT((TODAY()-G64)/365) -> 37 | I64: =VLOOKUP(H64,Feuil1!A$1:B133,2,1) -> 4 | K64: pièce | L64: 96
A65: 353185 | B65: CFS CO | C65: Nice | D65: pièce 83 | E65: 2721.97 | F65: femme | G65: 33030 | H65: =INT((TODAY()-G65)/365) -> 28 | I65: =VLOOKUP(H65,Feuil1!A$1:B134,2,1) -> 2 | K65: pièce | L65: 83
A66: 353168 | B66: CFS CO | C66: Nice | D66: pièce 64 | E66: 2113.23 | F66: femme | G66: 23890 | H66: =INT((TODAY()-G66)/365) -> 53 | I66: =VLOOKUP(H66,Feuil1!A$1:B135,2,1) -> 7 | K66: pièce | L66: 64
A67: 353087 | B67: CFS AG | C67: Nice | D67: pièce 73 | E67: 2381.89 | F67: homme | G67: 30717 | H67: =INT((TODAY()-G67)/365) -> 35 | I67: =VLOOKUP(H67,Feuil1!A$1:B136,2,1) -> 4 | K67: pièce | L67: 73
A68: 353173 | B68: CFS FSC | C68: Nice | D68: pièce 58 | E68: 1979.8 | F68: homme | G68: 28033 | H68: =INT((TODAY()-G68)/365) -> 42 | I68: =VLOOKUP(H68,Feuil1!A$1:B137,2,1) -> 5 | K68: pièce | L68: 58
A69: 353054 | B69: AFO | C69: Paris | D69: pièce 110 | E69: 1015.22 | F69: homme | G69: 26548 | H69: =INT((TODAY()-G69)/365) -> 46 | I69: =VLOOKUP(H69,Feuil1!A$1:B138,2,1) -> 6 | K69: pièce | L69: 110
A70: 353149 | B70: AFO | C70: Paris | D70: pièce 104 | E70: 939.76 | F70: femme | G70: 30259 | H70: =INT((TODAY()-G70)/365) -> 36 | I70: =VLOOKUP(H70,Feuil1!A$1:B139,2,1) -> 4 | K70: pièce | L70: 104
A71: 353627 | B71: CFS CO | C71: Nice | D71: pièce 97 | E71: 3058.98 | F71: femme | G71: 25793 | H71: =INT((TODAY()-G71)/365) -> 48 | I71: =VLOOKUP(H71,Feuil1!A$1:B140,2,1) -> 6 | K71: pièce | L71: 97
A72: 353730 | B72: CFS ONF | C72: Nice | D72: pièce 66 | E72: 2315.36 | F72: femme | G72: 29534 | H72: =INT((TODAY()-G72)/365) -> 38 | I72: =VLOOKUP(H72,Feuil1!A$1:B141,2,1) -> 4 | K72: pièce | L72: 66
A73: 353946 | B73: CCS DXO | C73: Paris | D73: pièce 90 | E73: 2857.69 | F73: homme | G73: 20107 | H73: =INT((TODAY()-G73)/365) -> 64 | I73: =VLOOKUP(H73,Feuil1!A$1:B142,2,1) -> 9 | K73: pièce | L73: 90
... A100: 353172 | B100: CCS AGL | C100: Paris | D100: pièce 56 | E100: 1966.85 | F100: femme | G100: 24163 | H100: =INT((TODAY()-G100)/365) -> 53 | I100: =VLOOKUP(H100,Feuil1!A$1:B169,2,1) -> 7 | K100: pièce | L100: 56
A101: 353717 | B101: CFS CO | C101: Nice | D101: inconnu | E101: 3198.59 | F101: homme | G101: 25011 | H101: =INT((TODAY()-G101)/365) -> 50 | I101: =VLOOKUP(H101,Feuil1!A$1:B170,2,1) -> 7 | K101: inconnu
A102: 353673 | B102: CCS AGL | C102: Paris | D102: pièce 22 | E102: 1495.18 | F102: femme | G102: 23323 | H102: =INT((TODAY()-G102)/365) -> 55 | I102: =VLOOKUP(H102,Feuil1!A$1:B171,2,1) -> 8 | K102: pièce | L102: 22
A103: 353861 | B103: AFO | C103: Paris | D103: inconnu | E103: 3139.41 | F103: femme | G103: 25764 | H103: =INT((TODAY()-G103)/365) -> 48 | I103: =VLOOKUP(H103,Feuil1!A$1:B172,2,1) -> 6 | K103: inconnu
A104: 353557 | B104: CCS AGL | C104: Paris | D104: pièce 220 | E104: 1501.42 | F104: homme | G104: 25626 | H104: =INT((TODAY()-G104)/365) -> 49 | I104: =VLOOKUP(H104,Feuil1!A$1:B173,2,1) -> 6 | K104: pièce | L104: 220
A105: 353417 | B105: CCS AGL | C105: Paris | D105: pièce 241 | E105: 1731.34 | F105: femme | G105: 21835 | H105: =INT((TODAY()-G105)/365) -> 59 | I105: =VLOOKUP(H105,Feuil1!A$1:B174,2,1) -> 8 | K105: pièce | L105: 241
A106: 353983 | B106: CCS OGT | C106: Paris | D106: pièce 105 | E106: 964.26 | F106: femme | G106: 20569 | H106: =INT((TODAY()-G106)/365) -> 62 | I106: =VLOOKUP(H106,Feuil1!A$1:B175,2,1) -> 9 | K106: pièce | L106: 105
A107: 353118 | B107: CFS AG | C107: Nice | D107: pièce 60 | E107: 2061.85 | F107: femme | G107: 21619 | H107: =INT((TODAY()-G107)/365) -> 60 | I107: =VLOOKUP(H107,Feuil1!A$1:B176,2,1) -> 9 | K107: pièce | L107: 60
A108: 353157 | B108: CCS DXO | C108: Nice | D108: pièce 132 | E108: 1145.86 | F108: femme | G108: 21937 | H108: =INT((TODAY()-G108)/365) -> 59 | I108: =VLOOKUP(H108,Feuil1!A$1:B177,2,1) -> 8 | K108: pièce | L108: 132
A109: 353984 | B109: CCS AGL | C109: Paris | D109: inconnu | E109: 3193.4 | F109: femme | G109: 20395 | H109: =INT((TODAY()-G109)/365) -> 63 | I109: =VLOOKUP(H109,Feuil1!A$1:B178,2,1) -> 9 | K109: inconnu
A110: 353736 | B110: CCS AGL | C110: Strasbourg | D110: pièce 78 | E110: 2570.14 | F110: femme | G110: 24201 | H110: =INT((TODAY()-G110)/365) -> 53 | I110: =VLOOKUP(H110,Feuil1!A$1:B179,2,1) -> 7 | K110: pièce | L110: 78
A111: 353122 | B111: CFS AG | C111: Nice | D111: pièce 60 | E111: 2083.23 | F111: femme | G111: 31971 | H111: =INT((TODAY()-G111)/365) -> 31 | I111: =VLOOKUP(H111,Feuil1!A$1:B180,2,1) -> 3 | K111: pièce | L111: 60
A112: 353137 | B112: CCS OGT | C112: Paris | D112: pièce 90 | E112: 2848.78 | F112: femme | G112: 24823 | H112: =INT((TODAY()-G112)/365) -> 51 | I112: =VLOOKUP(H112,Feuil1!A$1:B181,2,1) -> 7 | K112: pièce | L112: 90
A113: 353554 | B113: CCS OGT | C113: Paris | D113: inconnu | E113: 3163.4 | F113: homme | G113: 23849 | H113: =INT((TODAY()-G113)/365) -> 54 | I113: =VLOOKUP(H113,Feuil1!A$1:B182,2,1) -> 7 | K113: inconnu
A114: 353182 | B114: CCS DXO | C114: Paris | D114: pièce 95 | E114: 2900.77 | F114: femme | G114: 29155 | H114: =INT((TODAY()-G114)/365) -> 39 | I114: =VLOOKUP(H114,Feuil1!A$1:B183,2,1) -> 4 | K114: pièce | L114: 95
A115: 353093 | B115: CFS AG | C115: Nice | D115: pièce S R | E115: 3125.1 | F115: femme | G115: 32113 | H115: =INT((TODAY()-G115)/365) -> 31 | I115: =VLOOKUP(H115,Feuil1!A$1:B184,2,1) -> 3 | K115: pièce | L115: S | M115: R
A116: 353007 | B116: CFS ONF | C116: Nice | D116: inconnu | E116: 3162.52 | F116: femme | G116: 22736 | H116: =INT((TODAY()-G116)/365) -> 57 | I116: =VLOOKUP(H116,Feuil1!A$1:B185,2,1) -> 8 | K116: inconnu
A117: 353969 | B117: CFS ONF | C117: Nice | D117: pièce 133 | E117: 1147.03 | F117: homme | G117: 29510 | H117: =INT((TODAY()-G117)/365) -> 38 | I117: =VLOOKUP(H117,Feuil1!A$1:B186,2,1) -> 4 | K117: pièce | L117: 133
A118: 353112 | B118: CFS FSC | C118: Nice | D118: pièce 110 | E118: 1008.65 | F118: femme | G118: 29754 | H118: =INT((TODAY()-G118)/365) -> 37 | I118: =VLOOKUP(H118,Feuil1!A$1:B187,2,1) -> 4 | K118: pièce | L118: 110
A119: 353243 | B119: CFS CO | C119: Nice | D119: pièce 78 | E119: 2568.04 | F119: femme | G119: 19244 | H119: =INT((TODAY()-G119)/365) -> 66 | I119: =VLOOKUP(H119,Feuil1!A$1:B188,2,1) -> 10 | K119: pièce | L119: 78
A120: 353145 | B120: CFS CO | C120: Nice | D120: pièce 97 | E120: 3077.79 | F120: homme | G120: 25329 | H120: =INT((TODAY()-G120)/365) -> 49 | I120: =VLOOKUP(H120,Feuil1!A$1:B189,2,1) -> 6 | K120: pièce | L120: 97
A121: 353581 | B121: CCS DXO | C121: Paris | D121: pièce 227 | E121: 1575.91 | F121: femme | G121: 24155 | H121: =INT((TODAY()-G121)/365) -> 53 | I121: =VLOOKUP(H121,Feuil1!A$1:B190,2,1) -> 7 | K121: pièce | L121: 227
A122: 353099 | B122: CCS AGL | C122: Paris | D122: pièce 255 | E122: 1784.35 | F122: homme | G122: 23430 | H122: =INT((TODAY()-G122)/365) -> 55 | I122: =VLOOKUP(H122,Feuil1!A$1:B191,2,1) -> 8 | K122: pièce | L122: 255
A123: 353657 | B123: CFS CO | C123: Nice | D123: pièce 73 | E123: 2458.57 | F123: femme | G123: 24258 | H123: =INT((TODAY()-G123)/365) -> 52 | I123: =VLOOKUP(H123,Feuil1!A$1:B192,2,1) -> 7 | K123: pièce | L123: 73
A124: 353882 | B124: CCS AGL | C124: Paris | D124: pièce 17 | E124: 1307.73 | F124: femme | G124: 22609 | H124: =INT((TODAY()-G124)/365) -> 57 | I124: =VLOOKUP(H124,Feuil1!A$1:B193,2,1) -> 8 | K124: pièce | L124: 17
A125: 353617 | B125: CFS FSC | C125: Nice | D125: pièce 209 | E125: 1407.13 | F125: femme | G125: 23689 | H125: =INT((TODAY()-G125)/365) -> 54 | I125: =VLOOKUP(H125,Feuil1!A$1:B194,2,1) -> 7 | K125: pièce | L125: 209
A126: 353116 | B126: CFS AG | C126: Nice | D126: pièce 202 | E126: 1388.91 | F126: homme | G126: 24128 | H126: =INT((TODAY()-G126)/365) -> 53 | I126: =VLOOKUP(H126,Feuil1!A$1:B195,2,1) -> 7 | K126: pièce | L126: 202
A127: 353448 | B127: CFS ONF | C127: Nice | D127: pièce 138 | E127: 1218.71 | F127: homme | G127: 26173 | H127: =INT((TODAY()-G127)/365) -> 47 | I127: =VLOOKUP(H127,Feuil1!A$1:B196,2,1) -> 6 | K127: pièce | L127: 138
A128: 353085 | B128: CFS AG | C128: Nice | D128: pièce 90 | E128: 2877.38 | F128: femme | G128: 24188 | H128: =INT((TODAY()-G128)/365) -> 53 | I128: =VLOOKUP(H128,Feuil1!A$1:B197,2,1) -> 7 | K128: pièce | L128: 90
... A165: 353733 | B165: CCS AGL | C165: Paris | D165: pièce 33 | E165: 1835.53 | F165: femme | G165: 20327 | H165: =INT((TODAY()-G165)/365) -> 63 | I165: =VLOOKUP(H165,Feuil1!A$1:B234,2,1) -> 9 | K165: pièce | L165: 33
A166: 353590 | B166: CFS CO | C166: Nice | D166: inconnu | E166: 3177.62 | F166: femme | G166: 22413 | H166: =INT((TODAY()-G166)/365) -> 57 | I166: =VLOOKUP(H166,Feuil1!A$1:B235,2,1) -> 8 | K166: inconnu
A167: 353703 | B167: CCS DXO | C167: Nice | D167: pièce 73 | E167: 2387.36 | F167: femme | G167: 29345 | H167: =INT((TODAY()-G167)/365) -> 38 | I167: =VLOOKUP(H167,Feuil1!A$1:B236,2,1) -> 4 | K167: pièce | L167: 73
A168: 353104 | B168: CCS AGL | C168: Paris | D168: pièce S/S | E168: 3134.24 | F168: femme | G168: 20881 | H168: =INT((TODAY()-G168)/365) -> 62 | I168: =VLOOKUP(H168,Feuil1!A$1:B237,2,1) -> 9 | K168: pièce | L168: S/S
A169: 353204 | B169: CFS CO | C169: Nice | D169: pièce 97 | E169: 3087.83 | F169: femme | G169: 22554 | H169: =INT((TODAY()-G169)/365) -> 57 | I169: =VLOOKUP(H169,Feuil1!A$1:B238,2,1) -> 8 | K169: pièce | L169: 97
A170: 353105 | B170: CFS CO | C170: Nice | D170: pièce 70 | E170: 2366.42 | F170: femme | G170: 21261 | H170: =INT((TODAY()-G170)/365) -> 61 | I170: =VLOOKUP(H170,Feuil1!A$1:B239,2,1) -> 9 | K170: pièce | L170: 70
A171: 353124 | B171: SNPO | C171: Paris | D171: pièce 118 | E171: 1074.21 | F171: homme | G171: 25269 | H171: =INT((TODAY()-G171)/365) -> 50 | I171: =VLOOKUP(H171,Feuil1!A$1:B240,2,1) -> 7 | K171: pièce | L171: 118
A172: 353722 | B172: CFS FSC | C172: Nice | D172: pièce 109 | E172: 988.35 | F172: femme | G172: 25203 | H172: =INT((TODAY()-G172)/365) -> 50 | I172: =VLOOKUP(H172,Feuil1!A$1:B241,2,1) -> 7 | K172: pièce | L172: 109
A173: 353055 | B173: SNPO | C173: Paris | D173: pièce 232 | E173: 1583.77 | F173: femme | G173: 30772 | H173: =INT((TODAY()-G173)/365) -> 35 | I173: =VLOOKUP(H173,Feuil1!A$1:B242,2,1) -> 4 | K173: pièce | L173: 232
A174: 353164 | B174: CFS CO | C174: Nice | D174: pièce 64 | E174: 2125.83 | F174: femme | G174: 30701 | H174: =INT((TODAY()-G174)/365) -> 35 | I174: =VLOOKUP(H174,Feuil1!A$1:B243,2,1) -> 4 | K174: pièce | L174: 64
A175: 353136 | B175: CCS OGT | C175: Paris | D175: pièce 80 | E175: 2679.73 | F175: homme | G175: 30357 | H175: =INT((TODAY()-G175)/365) -> 36 | I175: =VLOOKUP(H175,Feuil1!A$1:B244,2,1) -> 4 | K175: pièce | L175: 80
A176: 353010 | B176: CFS FSC | C176: Nice | D176: pièce 73 | E176: 2396.99 | F176: femme | G176: 27457 | H176: =INT((TODAY()-G176)/365) -> 44 | I176: =VLOOKUP(H176,Feuil1!A$1:B245,2,1) -> 5 | K176: pièce | L176: 73
A177: 353626 | B177: CCS AGL | C177: Paris | D177: pièce 80 | E177: 2647.11 | F177: homme | G177: 23242 | H177: =INT((TODAY()-G177)/365) -> 55 | I177: =VLOOKUP(H177,Feuil1!A$1:B246,2,1) -> 8 | K177: pièce | L177: 80
A178: 353037 | B178: CFS ONF | C178: Nice | D178: pièce 234 | E178: 1666.43 | F178: homme | G178: 32052 | H178: =INT((TODAY()-G178)/365) -> 31 | I178: =VLOOKUP(H178,Feuil1!A$1:B247,2,1) -> 3 | K178: pièce | L178: 234
A179: 353844 | B179: CFS CO | C179: Nice | D179: pièce 78 | E179: 2598.52 | F179: femme | G179: 25176 | H179: =INT((TODAY()-G179)/365) -> 50 | I179: =VLOOKUP(H179,Feuil1!A$1:B248,2,1) -> 7 | K179: pièce | L179: 78
A180: 353063 | B180: CCS AGL | C180: Paris | D180: pièce 235 | E180: 1675.91 | F180: homme | G180: 31946 | H180: =INT((TODAY()-G180)/365) -> 31 | I180: =VLOOKUP(H180,Feuil1!A$1:B249,2,1) -> 3 | K180: pièce | L180: 235
... A192: 353638 | B192: CFS ONF | C192: Nice | D192: pièce 115 | E192: 1042.47 | F192: homme | G192: 32744 | H192: =INT((TODAY()-G192)/365) -> 29 | I192: =VLOOKUP(H192,Feuil1!A$1:B261,2,1) -> 2 | K192: pièce | L192: 115
A193: 353943 | B193: CFS AG | C193: Nice | D193: pièce 53B | E193: 1946.68 | F193: femme | G193: 17697 | H193: =INT((TODAY()-G193)/365) -> 70 | I193: =VLOOKUP(H193,Feuil1!A$1:B262,2,1) -> 10 | K193: pièce | L193: 53B
A194: 353611 | B194: CCS DPO | C194: Strasbourg | D194: inconnu | E194: 3183.07 | F194: femme | G194: 28473 | H194: =INT((TODAY()-G194)/365) -> 41 | I194: =VLOOKUP(H194,Feuil1!A$1:B263,2,1) -> 5 | K194: inconnu
...

Sheet Feuil3
A1: Nombre de sexe | B1: Étiquettes de colonnes
A2: Étiquettes de lignes | B2: femme | C2: homme
A3: CCS AGL | B3: 17 | C3: 14
A4: CCS DPO | B4: 3 | C4: 7
A5: CCS DXO | B5: 23 | C5: 8
A6: CCS OGT | B6: 4 | C6: 9
A7: CFS | B7: 1
A8: CFS FSC | B8: 1
A9: Total général | B9: 49 | C9: 38
