Workbook
Name Liste_Laser: OFFSET(#REF!,MATCH(Saisie[[#This Row],[Référence Bis]],#REF!,0),1,1,COUNTA(#REF!)-1)

Sheet KPI
A1: Semaine | B1: Référence | C1: Nb plaques | D1: OF PF de Ref | E1: Référence Bis | F1: Temps moyen
A2: 202417 | B2: RMKHT-55-220-0-0,1-0 | C2: 3 | D2: 75774110 | E2: Missing | F2: =IFERROR(VLOOKUP(Saisie[[#This Row],[Référence Bis]],BDD!A:L,12,0),"Missing") -> Missing
A3: 202417 | B3: RMKM-S408-10000-0-0,1-0,05 | C3: 1 | D3: 76012380 | E3: RMKM-S408-100000-0-0,1-0,05 | F3: =IFERROR(VLOOKUP(Saisie[[#This Row],[Référence Bis]],BDD!A:L,12,0),"Missing") -> 3.1498471
A4: 202417 | B4: RMKHT-22-220-0-0,1-0 | C4: 1 | D4: 75774008 | E4: RMKHT-22-100-0-0,1-0 | F4: =IFERROR(VLOOKUP(Saisie[[#This Row],[Référence Bis]],BDD!A:L,12,0),"Missing") -> 6.1926134
A5: 202417 | B5: RMKHT-22-100000-0-0,1-0 | C5: 1 | D5: 75995319 | E5: RMKHT-22-100000-0-0,1-0 | F5: =IFERROR(VLOOKUP(Saisie[[#This Row],[Référence Bis]],BDD!A:L,12,0),"Missing") -> 12.646373
A6: 202417 | B6: RMKHT-22-470-0-0,1-0 | C6: 1 | D6: 75812834 | E6: RMKHT-22-100-0-0,1-0 | F6: =IFERROR(VLOOKUP(Saisie[[#This Row],[Référence Bis]],BDD!A:L,12,0),"Missing") -> 6.1926134
A7: 202417 | B7: PHR-1206-13300-0-0,05-0 | C7: 1 | D7: 75952147 | E7: PHR-1206-12700-0-0,05-0 | F7: =IFERROR(VLOOKUP(Saisie[[#This Row],[Référence Bis]],BDD!A:L,12,0),"Missing") -> 9.1891821
A8: 202417 | B8: RMKHT-22-80-0-0,1-0 | C8: 2 | D8: 75995315 | E8: RMKHT-22-100-0-0,1-0 | F8: =IFERROR(VLOOKUP(Saisie[[#This Row],[Référence Bis]],BDD!A:L,12,0),"Missing") -> 6.1926134
A9: 202417 | B9: RMKHT-22-330-0-0,1-0 | C9: 1 | D9: 75812829 | E9: RMKHT-22-100-0-0,1-0 | F9: =IFERROR(VLOOKUP(Saisie[[#This Row],[Référence Bis]],BDD!A:L,12,0),"Missing") -> 6.1926134
A10: 202417 | B10: P-0805-500000-0-0,01-0 | C10: 5 | D10: 75946554 | E10: P-0805-500000-0-0,01-0 | F10: =IFERROR(VLOOKUP(Saisie[[#This Row],[Référence Bis]],BDD!A:L,12,0),"Missing") -> 33.052721
A11: 202417 | B11: P-1206-26,1-0-0,1-0 | C11: 1 | D11: 75964865 | E11: P-1206-25,5-0-0,1-0 | F11: =IFERROR(VLOOKUP(Saisie[[#This Row],[Référence Bis]],BDD!A:L,12,0),"Missing") -> 7.1678431
A12: 202417 | B12: P2TC-0603-100-0-0,02-0 | C12: 1 | D12: 75990526 | E12: P2TC-0603-1000-0-0,01-0 | F12: =IFERROR(VLOOKUP(Saisie[[#This Row],[Référence Bis]],BDD!A:L,12,0),"Missing") -> 9.3915029
A13: 202417 | B13: P2TC-0603-150-0-0,02-0 | C13: 2 | D13: 75990527 | E13: P2TC-0603-1000-0-0,01-0 | F13: =IFERROR(VLOOKUP(Saisie[[#This Row],[Référence Bis]],BDD!A:L,12,0),"Missing") -> 9.3915029
... A309: 202419 | B309: P-1206-26700-0-0,5-0 | C309: 2 | D309: 76101322 | E309: P-1206-24300-0-0,1-0 | F309: =IFERROR(VLOOKUP(Saisie[[#This Row],[Référence Bis]],BDD!A:L,12,0),"Missing") -> 1.4186667
F310: =IFERROR(VLOOKUP(Saisie[[#This Row],[Référence Bis]],BDD!A:L,12,0),"Missing") -> Missing
F311: =IFERROR(VLOOKUP(Saisie[[#This Row],[Référence Bis]],BDD!A:L,12,0),"Missing") -> Missing
F312: =IFERROR(VLOOKUP(Saisie[[#This Row],[Référence Bis]],BDD!A:L,12,0),"Missing") -> Missing
F313: =IFERROR(VLOOKUP(Saisie[[#This Row],[Référence Bis]],BDD!A:L,12,0),"Missing") -> Missing
F314: =IFERROR(VLOOKUP(Saisie[[#This Row],[Référence Bis]],BDD!A:L,12,0),"Missing") -> Missing
F315: =IFERROR(VLOOKUP(Saisie[[#This Row],[Référence Bis]],BDD!A:L,12,0),"Missing") -> Missing
F316: =IFERROR(VLOOKUP(Saisie[[#This Row],[Référence Bis]],BDD!A:L,12,0),"Missing") -> Missing
F317: =IFERROR(VLOOKUP(Saisie[[#This Row],[Référence Bis]],BDD!A:L,12,0),"Missing") -> Missing
F318: =IFERROR(VLOOKUP(Saisie[[#This Row],[Référence Bis]],BDD!A:L,12,0),"Missing") -> Missing
F319: =IFERROR(VLOOKUP(Saisie[[#This Row],[Référence Bis]],BDD!A:L,12,0),"Missing") -> Missing
F320: =IFERROR(VLOOKUP(Saisie[[#This Row],[Référence Bis]],BDD!A:L,12,0),"Missing") -> Missing
F321: =IFERROR(VLOOKUP(Saisie[[#This Row],[Référence Bis]],BDD!A:L,12,0),"Missing") -> Missing
... F989: =IFERROR(VLOOKUP(Saisie[[#This Row],[Référence Bis]],BDD!A:L,12,0),"Missing") -> Missing

Sheet BDD
A3: Moyenne de Temps plaque (h) | B3: Étiquettes de colonnes
A4: Key | B4: Laser 1 | C4: Laser 2 | D4: Laser 3 | E4: Laser 4 | F4: Laser 5 | G4: Laser 6 | H4: Laser 7 | I4: Laser 8 | J4: Laser 9 | K4: Laser 10 | L4: Total général
A5: CS-44-100000000-0-1-0 | C5: 20.929358 | L5: 20.929358
A6: P-0402-130000-0-0,1-0 | C6: 25.701893 | L6: 25.701893
A7: CN-1545-0-0-0-0 | B7: 8.2325752 | L7: 8.2325752
A8: CHP-2010-1000-0-1-0 | I8: 0.35 | L8: 0.35
A9: P-1206-7870-0-1-0 | G9: 3.1398305 | L9: 3.1398305
A10: CH-02016-50-0-2-0 | C10: 18.769451 | L10: 18.769451
A11: L-0603-1-0-1-0 | E11: 8.7467346 | L11: 8.7467346
A12: P-1206-383000-0-0,1-0 | D12: 2.9369798 | L12: 2.9369798
A13: P-0603-4700-0-0,1-0 | B13: 2.1762841 | D13: 2.0069686 | L13: 2.0916264
A14: P-1206-1000000-0-0,1-0 | B14: 3.8356082 | D14: 3.7992684 | G14: 4.2691358 | L14: 3.8716647
A15: RV-0805-2000-0-0,1-0 | B15: 1.7578009 | G15: 3.0483647 | L15: 2.6181768
A16: P-0603-11000-0-0,1-0 | H16: 3.3819896 | L16: 3.3819896
A17: PRA-100-1000-0-0,1-0,01 | D17: 2.5595579 | H17: 15.352031 | L17: 9.8695424
A18: P-0603-14700-0-0,1-0 | B18: 2.6644204 | L18: 2.6644204
A19: P-0603-40200-0-0,1-0 | B19: 17.731857 | L19: 17.731857
A20: CN-1424-0-0-0-0 | C20: 21.364516 | L20: 21.364516
A21: P-0603-1500-0-0,1-0 | B21: 2.4293807 | H21: 7.0171799 | L21: 3.5763305
A22: P-1206-100000-0-0,01-0 | D22: 2.2137194 | L22: 2.2137194
A23: P-1206-33200-0-0,1-0 | E23: 2.5751064 | L23: 2.5751064
A24: P-0603-10000-0-0,1-0 | B24: 2.4756975 | D24: 3.1406509 | F24: 5.9770408 | G24: 7.2066392 | H24: 18.313046 | L24: 5.1958255
A25: RV-0603-1200-0-0,1-0 | D25: 2.6583914 | L25: 2.6583914
A26: TA-33-1022-0-0,1-0,1 | B26: 29.826699 | C26: 14.652019 | D26: 21.937414 | L26: 24.060708
A27: CH-02016-200-0-2-0 | C27: 9.1836568 | L27: 9.1836568
A28: CHP-0805-5,11-0-1-0 | I28: 0.87310004 | L28: 0.87310004
A29: P-0805-1000-0-0,1-0 | H29: 3.0404798 | L29: 3.0404798
A30: P-0603-511-0-0,1-0 | D30: 3.2244275 | E30: 17.197405 | F30: 6.0016 | L30: 8.1062582
A31: PHR-1206-10000-0-0,02-0 | D31: 1.9697796 | L31: 1.9697796
A32: PHR-1206-6810-0-0,02-0 | G32: 6.3866773 | L32: 6.3866773
A33: PHR-1206-21500-0-0,02-0 | G33: 3.5587302 | L33: 3.5587302
A34: P-0402-100000-0-0,1-0 | C34: 7.2012236 | J34: 15.139221 | L34: 12.493222
A35: PHR-0805-8870-0-0,02-0 | G35: 7.0183129 | L35: 7.0183129
A36: P-0603-1000-0-0,1-0 | B36: 4.3720894 | D36: 2.5724449 | H36: 3.677113 | L36: 2.9684876
A37: P-0402-10000-0-0,1-0 | J37: 28.356437 | L37: 28.356437
A38: PHT-0805-20000-0-1-0 | D38: 4.0928355 | L38: 4.0928355
A39: P-0805-3200000-0-0,1-0 | B39: 6.2318156 | L39: 6.2318156
A40: P-0603-2610-0-0,1-0 | B40: 2.2267208 | L40: 2.2267208
A41: PRA-100-10000-0-0,1-0,05 | B41: 3.2641304 | D41: 3.0606218 | F41: 3.2913838 | H41: 4.2138462 | J41: 10.587322 | L41: 4.8834609
A42: P-0603-1000000-0-0,1-0 | G42: 5.3968622 | L42: 5.3968622
...

Sheet Synthèse
A1: Temps plaque (h) | B1: N°Laser | C1: Key
A2: 2.0225179 | B2: Laser 6 | C2: CNWHR-1689-0-0-0-0
A3: 3.7142857 | B3: Laser 8 | C3: HCHP-0805-4320-0-1-0
A4: 4.5668356 | B4: Laser 1 | C4: RSK-22N-1330-0-0,1-0
A5: 4.2312161 | B5: Laser 1 | C5: RSK-22N-2500-0-1-0
A6: 18.465417 | B6: Laser 1 | C6: TA-22-10000-0-1-0
A7: 18.465417 | B7: Laser 1 | C7: TA-22-10000-0-1-0
A8: 7.2718182 | B8: Laser 3 | C8: RMKHT-22-23700-0-0,1-0
A9: 18.465417 | B9: Laser 1 | C9: TA-22-10000-0-1-0
A10: 18.465417 | B10: Laser 1 | C10: TA-22-10000-0-1-0
A11: 6.1926134 | B11: Laser 3 | C11: RMKHT-22-100-0-0,1-0
A12: 9.5877538 | B12: Laser 2 | C12: RMKHT-22-3480-0-0,1-0
A13: 11.771915 | B13: Laser 2 | C13: RV-0805-20000-0-0,1-0
... A2726: 4.3454727 | B2726: Laser 5 | C2726: PHR-0805-10000-0-0,01-0
