Workbook
Name Liste_Laser: OFFSET(#REF!,MATCH(Saisie[[#This Row],[Référence Bis]],#REF!,0),1,1,COUNTA(#REF!)-1)

Sheet KPI
A1: Semaine | B1: Référence | C1: Nb plaques | D1: OF PF de Ref | E1: Référence Bis | F1: Temps moyen
A2: 202417 | B2: RMKHT-55-220-0-0,1-0 | C2: 3 | D2: 75774110 | E2: Missing | F2: =IFERROR(VLOOKUP(Saisie[[#This Row],[Référence Bis]],BDD!A:L,12,0),"Missing") -> Missing
A3: 202417 | B3: RMKM-S408-10000-0-0,1-0,05 | C3: 1 | D3: 76012380 | E3: RMKM-S408-100000-0-0,1-0,05 | F3: =IFERROR(VLOOKUP(Saisie[[#This Row],[Référence Bis]],BDD!A:L,12,0),"Missing") -> 3.1498471
A4: 202417 | B4: RMKHT-22-220-0-0,1-0 | C4: 1 | D4: 75774008 | E4: RMKHT-22-100-0-0,1-0 | F4: =IFERROR(VLOOKUP(Saisie[[#This Row],[Référence Bis]],BDD!A:L,12,0),"Missing") -> 6.1926134
A5: 202417 | B5: RMKHT-22-100000-0-0,1-0 | C5: 1 | D5: 75995319 | E5: RMKHT-22-100000-0-0,1-0 | F5: =IFERROR(VLOOKUP(Saisie[[#This Row],[Référence Bis]],BDD!A:L,12,0),"Missing") -> 12.646373
A6: 202417 | B6: RMKHT-22-470-0-0,1-0 | C6: 1 | D6: 75812834 | E6: RMKHT-22-100-0-0,1-0 | F6: =IFERROR(VLOOKUP(Saisie[[#This Row],[Référence Bis]],BDD!A:L,12,0),"Missing") -> 6.1926134
A7: 202417 | B7: PHR-1206-13300-0-0,05-0 | C7: 1 | D7: 75952147 | E7: PHR-1206-12700-0-0,05-0 | F7: =IFERROR(VLOOKUP(Saisie[[#This Row],[Référence Bis]],BDD!A:L,12,0),"Missing") -> 9.1891821
A8: 202417 | B8: RMKHT-22-80-0-0,1-0 | C8: 2 | D8: 75995315 | E8: RMKHT-22-100-0-0,1-0 | F8: =IFERROR(VLOOKUP(Saisie[[#This Row],[Référence Bis]],BDD!A:L,12,0),"Missing") -> 6.1926134
A9: 202417 | B9: RMKHT-22-330-0-0,1-0 | C9: 1 | D9: 75812829 | E9: RMKHT-22-100-0-0,1-0 | F9: =IFERROR(VLOOKUP(Saisie[[#This Row],[Référence Bis]],BDD!A:L,12,0),"Missing") -> 6.1926134
A10: 202417 | B10: P-0805-500000-0-0,01-0 | C10: 5 | D10: 75946554 | E10: P-0805-500000-0-0,01-0 | F10: =IFERROR(VLOOKUP(Saisie[[#This Row],[Référence Bis]],BDD!A:L,12,0),"Missing") -> 33.052721
A11: 202417 | B11: P-1206-26,1-0-0,1-0 | C11: 1 | D11: 75964865 | E11: P-1206-25,5-0-0,1-0 | F11: =IFERROR(VLOOKUP(Saisie[[#This Row],[Référence Bis]],BDD!A:L,12,0),"Missing") -> 7.1678431
A12: 202417 | B12: P2TC-0603-100-0-0,02-0 | C12: 1 | D12: 75990526 | E12: P2TC-0603-1000-0-0,01-0 | F12: =IFERROR(VLOOKUP(Saisie[[#This Row],[Référence Bis]],BDD!A:L,12,0),"Missing") -> 9.3915029
A13: 202417 | B13: P2TC-0603-150-0-0,02-0 | C13: 2 | D13: 75990527 | E13: P2TC-0603-1000-0-0,01-0 | F13: =IFERROR(VLOOKUP(Saisie[[#This Row],[Référence Bis]],BDD!A:L,12,0),"Missing") -> 9.3915029
... A309: 202419 | B309: P-1206-26700-0-0,5-0 | C309: 2 | D309: 76101322 | E309: P-1206-24300-0-0,1-0 | F309: =IFERROR(VLOOKUP(Saisie[[#This Row],[Référence Bis]],BDD!A:L,12,0),"Missing") -> 1.4186667
F310: =IFERROR(VLOOKUP(Saisie[[#This Row],[Référence Bis]],BDD!A:L,12,0),"Missing") -> Missing
F311: =IFERROR(VLOOKUP(Saisie[[#This Row],[Référence Bis]],BDD!A:L,12,0),"Missing") -> Missing
F312: =IFERROR(VLOOKUP(Saisie[[#This Row],[Référence Bis]],BDD!A:L,12,0),"Missing") -> Missing
F313: =IFERROR(VLOOKUP(Saisie[[#This Row],[Référence Bis]],BDD!A:L,12,0),"Missing") -> Missing
F314: =IFERROR(VLOOKUP(Saisie[[#This Row],[Référence Bis]],BDD!A:L,12,0),"Missing") -> Missing
F315: =IFERROR(VLOOKUP(Saisie[[#This Row],[Référence Bis]],BDD!A:L,12,0),"Missing") -> Missing
F316: =IFERROR(VLOOKUP(Saisie[[#This Row],[Référence Bis]],BDD!A:L,12,0),"Missing") -> Missing
F317: =IFERROR(VLOOKUP(Saisie[[#This Row],[Référence Bis]],BDD!A:L,12,0),"Missing") -> Missing
F318: =IFERROR(VLOOKUP(Saisie[[#This Row],[Référence Bis]],BDD!A:L,12,0),"Missing") -> Missing
F319: =IFERROR(VLOOKUP(Saisie[[#This Row],[Référence Bis]],BDD!A:L,12,0),"Missing") -> Missing
F320: =IFERROR(VLOOKUP(Saisie[[#This Row],[Référence Bis]],BDD!A:L,12,0),"Missing") -> Missing
F321: =IFERROR(VLOOKUP(Saisie[[#This Row],[Référence Bis]],BDD!A:L,12,0),"Missing") -> Missing
... F989: =IFERROR(VLOOKUP(Saisie[[#This Row],[Référence Bis]],BDD!A:L,12,0),"Missing") -> Missing

Sheet BDD
A3: Moyenne de Temps plaque (h) | B3: Étiquettes de colonnes
A4: Key | B4: Laser 1 | C4: Laser 2 | D4: Laser 3 | E4: Laser 4 | F4: Laser 5 | G4: Laser 6 | H4: Laser 7 | I4: Laser 8 | J4: Laser 9 | K4: Laser 10 | L4: Total général
A5: CS-44-100000000-0-1-0 | C5: 20.929358 | L5: 20.929358
A6: P-0402-130000-0-0,1-0 | C6: 25.701893 | L6: 25.701893
A7: CN-1545-0-0-0-0 | B7: 8.2325752 | L7: 8.2325752
A8: CHP-2010-1000-0-1-0 | I8: 0.35 | L8: 0.35
A9: P-1206-7870-0-1-0 | G9: 3.1398305 | L9: 3.1398305
A10: CH-02016-50-0-2-0 | C10: 18.769451 | L10: 18.769451
A11: L-0603-1-0-1-0 | E11: 8.7467346 | L11: 8.7467346
A12: P-1206-383000-0-0,1-0 | D12: 2.9369798 | L12: 2.9369798
A13: P-0603-4700-0-0,1-0 | B13: 2.1762841 | D13: 2.0069686 | L13: 2.0916264
A14: P-1206-1000000-0-0,1-0 | B14: 3.8356082 | D14: 3.7992684 | G14: 4.2691358 | L14: 3.8716647
A15: RV-0805-2000-0-0,1-0 | B15: 1.7578009 | G15: 3.0483647 | L15: 2.6181768
A16: P-0603-11000-0-0,1-0 | H16: 3.3819896 | L16: 3.3819896
A17: PRA-100-1000-0-0,1-0,01 | D17: 2.5595579 | H17: 15.352031 | L17: 9.8695424
A18: P-0603-14700-0-0,1-0 | B18: 2.6644204 | L18: 2.6644204
A19: P-0603-40200-0-0,1-0 | B19: 17.731857 | L19: 17.731857
A20: CN-1424-0-0-0-0 | C20: 21.364516 | L20: 21.364516
A21: P-0603-1500-0-0,1-0 | B21: 2.4293807 | H21: 7.0171799 | L21: 3.5763305
A22: P-1206-100000-0-0,01-0 | D22: 2.2137194 | L22: 2.2137194
A23: P-1206-33200-0-0,1-0 | E23: 2.5751064 | L23: 2.5751064
A24: P-0603-10000-0-0,1-0 | B24: 2.4756975 | D24: 3.1406509 | F24: 5.9770408 | G24: 7.2066392 | H24: 18.313046 | L24: 5.1958255
A25: RV-0603-1200-0-0,1-0 | D25: 2.6583914 | L25: 2.6583914
A26: TA-33-1022-0-0,1-0,1 | B26: 29.826699 | C26: 14.652019 | D26: 21.937414 | L26: 24.060708
A27: CH-02016-200-0-2-0 | C27: 9.1836568 | L27: 9.1836568
A28: CHP-0805-5,11-0-1-0 | I28: 0.87310004 | L28: 0.87310004
A29: P-0805-1000-0-0,1-0 | H29: 3.0404798 | L29: 3.0404798
A30: P-0603-511-0-0,1-0 | D30: 3.2244275 | E30: 17.197405 | F30: 6.0016 | L30: 8.1062582
A31: PHR-1206-10000-0-0,02-0 | D31: 1.9697796 | L31: 1.9697796
A32: PHR-1206-6810-0-0,02-0 | G32: 6.3866773 | L32: 6.3866773
A33: PHR-1206-21500-0-0,02-0 | G33: 3.5587302 | L33: 3.5587302
A34: P-0402-100000-0-0,1-0 | C34: 7.2012236 | J34: 15.139221 | L34: 12.493222
A35: PHR-0805-8870-0-0,02-0 | G35: 7.0183129 | L35: 7.0183129
A36: P-0603-1000-0-0,1-0 | B36: 4.3720894 | D36: 2.5724449 | H36: 3.677113 | L36: 2.9684876
A37: P-0402-10000-0-0,1-0 | J37: 28.356437 | L37: 28.356437
A38: PHT-0805-20000-0-1-0 | D38: 4.0928355 | L38: 4.0928355
A39: P-0805-3200000-0-0,1-0 | B39: 6.2318156 | L39: 6.2318156
A40: P-0603-2610-0-0,1-0 | B40: 2.2267208 | L40: 2.2267208
A41: PRA-100-10000-0-0,1-0,05 | B41: 3.2641304 | D41: 3.0606218 | F41: 3.2913838 | H41: 4.2138462 | J41: 10.587322 | L41: 4.8834609
A42: P-0603-1000000-0-0,1-0 | G42: 5.3968622 | L42: 5.3968622
A43: PHR-1206-10000-0-0,1-0 | F43: 1.52 | G43: 9.1891821 | H43: 1.4753793 | L43: 2.7758867
A44: PHR-1206-1000-0-0,1-0 | F44: 1.0592628 | L44: 1.0592628
A45: CHP-0603-2150-0-1-0 | K45: 2.6955967 | L45: 2.6955967
A46: P-0603-133000-0-0,1-0 | D46: 7.1223022 | L46: 7.1223022
A47: CH-0402-500-0-2-0 | C47: 20.585608 | L47: 20.585608
A48: TA-22-10000-0-1-0 | B48: 18.465417 | L48: 18.465417
A49: P-1206-20000-0-0,1-0 | H49: 2.0393722 | L49: 2.0393722
A50: P-2010-3000000-0-1-0 | F50: 3.1095801 | L50: 3.1095801
A51: RV-0603-51100-0-0,1-0 | D51: 5.0735586 | L51: 5.0735586
A52: P-0603-3160-0-0,1-0 | G52: 3.6985103 | L52: 3.6985103
A53: P-0805-10000-0-0,1-0 | B53: 1.9338563 | D53: 2.3547561 | F53: 7.0873689 | L53: 2.4921649
A54: P-0805-2000-0-0,01-0 | H54: 11.443895 | L54: 11.443895
A55: CH-0402-330-0-2-0 | C55: 6.532415 | L55: 6.532415
A56: CHPHR-0603-121-0-1-0 | I56: 4.0079904 | L56: 4.0079904
A57: CNWHR-1689-0-0-0-0 | E57: 2.050726 | G57: 1.6392344 | L57: 1.759844
A58: PHR-0603-147000-0-0,02-0 | D58: 5.1464418 | L58: 5.1464418
A59: P-0402-1000-0-0,1-0 | C59: 21.945435 | J59: 11.179901 | L59: 16.562668
A60: P-0603-4220-0-0,1-0 | B60: 4.4338834 | G60: 8.1596909 | L60: 6.2967872
A61: P-0603-9310-0-0,1-0 | D61: 2.8474035 | L61: 2.8474035
A62: P-0603-20000-0-0,1-0 | D62: 7.1380352 | L62: 7.1380352
A63: PHR-0603-10000-0-0,02-0 | E63: 13.375753 | H63: 29.142326 | L63: 21.259039
A64: P-1206-825000-0-0,1-0 | G64: 5.5072464 | L64: 5.5072464
A65: PHT-0603-8000-0-0,1-0 | E65: 13.547256 | L65: 13.547256
A66: P-1206-100000-0-0,1-0 | B66: 1.5278351 | E66: 1.3186858 | G66: 2.2220261 | L66: 1.9025198
A67: P-1206-1000-0-0,1-0 | F67: 1.299894 | G67: 2.5428205 | L67: 1.8325768
A68: RV-0805-10000-0-0,1-0 | B68: 1.643871 | F68: 7.0873689 | L68: 4.36562
A69: RV-0805-1000-0-0,1-0 | B69: 1.8415057 | G69: 3.7518335 | L69: 2.7966696
A70: CHP-2512-560-0-1-0 | I70: 1.0380228 | L70: 1.0380228
A71: P-1206-10000-0-0,1-0 | G71: 1.7342195 | L71: 1.7342195
A72: RMKHT-22-21500-0-0,1-0 | D72: 13.706691 | L72: 13.706691
A73: P-1206-200000-0-0,01-0 | G73: 7.3592466 | H73: 5.6231915 | L73: 6.2018765
A74: P-1206-19800-0-0,1-0 | H74: 1.8567406 | L74: 1.8567406
A75: PHT-0805-100-0-1-0 | F75: 6.1485089 | L75: 6.1485089
A76: PHR-0805-10000-0-0,1-0 | D76: 1.8582467 | G76: 4.662069 | L76: 3.7274615
A77: CHPHR-1206-100-0-1-0 | I77: 0.84705075 | L77: 0.84705075
A78: PHR-1206-100000-0-0,1-0 | D78: 1.4843598 | H78: 1.4629477 | L78: 1.481301
A79: PHR-0603-1000-0-0,1-0 | B79: 2.7560898 | L79: 2.7560898
A80: PHR-0805-10000-0-0,01-0 | F80: 6.3179025 | H80: 29.345434 | L80: 10.155824
A81: PHR-0805-20000-0-0,01-0 | F81: 98.557009 | L81: 98.557009
A82: PHR-0805-1000-0-0,1-0 | H82: 4.9108216 | L82: 4.9108216
A83: CH-0402-150-0-2-0 | F83: 8.4055118 | L83: 8.4055118
A84: PHT-0603-49900-0-0,1-0 | D84: 4.5134095 | L84: 4.5134095
A85: CHPHT-0603-1000000-0-1-0 | I85: 5.2630225 | L85: 5.2630225
A86: PHR-0805-71500-0-0,01-0 | H86: 88.017667 | L86: 88.017667
A87: PHR-0603-20000-0-0,1-0 | D87: 2.5955056 | L87: 2.5955056
A88: RMK-22N-5110-0-0,5-0 | B88: 18.230032 | C88: 8.7402886 | L88: 13.48516
A89: CH-0603-250-0-5-0 | F89: 9.2595932 | L89: 9.2595932
A90: CH-0603-50-0-2-0 | F90: 4.8974596 | L90: 4.8974596
A91: P-0603-1000-0-1-0 | D91: 2.9936222 | L91: 2.9936222
A92: PHT-0603-150-0-1-0 | F92: 17.388503 | L92: 17.388503
A93: CH-0402-50-0-2-0 | C93: 11.9578 | F93: 6.6310122 | L93: 10.689518
A94: P-0603-31200-0-0,1-0 | B94: 5.1805859 | L94: 5.1805859
A95: P-1206-10000-0-0,01-0 | G95: 9.0742378 | L95: 9.0742378
A96: HCHP-2512-100-0-5-0 | K96: 6.1210762 | L96: 6.1210762
A97: P-0805-2000-0-0,1-0 | D97: 9.4350235 | H97: 11.443895 | L97: 10.439459
A98: P-0603-3650-0-0,1-0 | B98: 4.4338834 | D98: 4.2507765 | G98: 7.2548303 | L98: 5.7833212
A99: P-2010-1000-0-1-0 | G99: 2.2091503 | L99: 2.2091503
A100: P-1206-470-0-0,1-0 | G100: 1.1810109 | L100: 1.1810109
A101: P-0603-56800-0-0,05-0 | D101: 2.9140399 | L101: 2.9140399
A102: P-0603-75000-0-0,1-0 | B102: 2.5801341 | L102: 2.5801341
...

Sheet Synthèse
A1: Temps plaque (h) | B1: N°Laser | C1: Key
A2: 2.0225179 | B2: Laser 6 | C2: CNWHR-1689-0-0-0-0
A3: 3.7142857 | B3: Laser 8 | C3: HCHP-0805-4320-0-1-0
A4: 4.5668356 | B4: Laser 1 | C4: RSK-22N-1330-0-0,1-0
A5: 4.2312161 | B5: Laser 1 | C5: RSK-22N-2500-0-1-0
A6: 18.465417 | B6: Laser 1 | C6: TA-22-10000-0-1-0
A7: 18.465417 | B7: Laser 1 | C7: TA-22-10000-0-1-0
A8: 7.2718182 | B8: Laser 3 | C8: RMKHT-22-23700-0-0,1-0
A9: 18.465417 | B9: Laser 1 | C9: TA-22-10000-0-1-0
A10: 18.465417 | B10: Laser 1 | C10: TA-22-10000-0-1-0
A11: 6.1926134 | B11: Laser 3 | C11: RMKHT-22-100-0-0,1-0
A12: 9.5877538 | B12: Laser 2 | C12: RMKHT-22-3480-0-0,1-0
A13: 11.771915 | B13: Laser 2 | C13: RV-0805-20000-0-0,1-0
... A2726: 4.3454727 | B2726: Laser 5 | C2726: PHR-0805-10000-0-0,01-0
