Workbook
Name Data: Carrières!$B$16:$E$43
Name VOTRE_CLE_API: Carrières!$I$2

Sheet Carrières
B2: Ville arrivée | C2: Morlaix | D2: Rue arrivée | E2: quai du léon | H2: Clé API
B4: Ville | C4: Groupe | D4: Contact | E4: Distance
E5: =SMALL($H$17:$H$43,1) -> #NUM!
E6: =SMALL($H$17:$H$43,2) -> #NUM!
E7: =SMALL($H$17:$H$43,3) -> #NUM!
E8: =SMALL($H$17:$H$43,4) -> #NUM!
E9: =SMALL($H$17:$H$43,5) -> #NUM!
E10: =SMALL($H$17:$H$43,6) -> #NUM!
E11: =SMALL($H$17:$H$43,7) -> #NUM!
E12: =SMALL($H$17:$H$43,8) -> #NUM!
E13: =SMALL($H$17:$H$43,9) -> #NUM!
E14: =SMALL($H$17:$H$43,10) -> #NUM!
B16: Rue départ | C16: Ville départ | D16: Rue arrivée | E16: Ville arrivée | F16: Groupe | G16: Contact | H16: Distance
B17: kernivaign | C17: Riec-Sur-Bélon | D17: =E$2 -> quai du léon | E17: =C$2 -> Morlaix | F17: Société des Carrières Bretonnes | G17: a@1 | H17: =IF(Calcul!E2=0,"",Calcul!E2)
B18: Poulmarh | C18: grand champ | D18: =E$2 -> quai du léon | E18: =C$2 -> Morlaix | F18: CMGO | G18: b@2 | H18: =IF(Calcul!E3=0,"",Calcul!E3)
B19: Dividou | C19: Garlan | D19: quai du léon | E19: Morlaix | F19: Société des Carrières Bretonnes | G19: c@3 | H19: =IF(Calcul!E4=0,"",Calcul!E4)
F20: =IF(Calcul!C5=0,"",Calcul!C5) | G20: =IF(Calcul!D5=0,"",Calcul!D5) | H20: =IF(Calcul!E5=0,"",Calcul!E5)
F21: =IF(Calcul!C6=0,"",Calcul!C6) | G21: =IF(Calcul!D6=0,"",Calcul!D6) | H21: =IF(Calcul!E6=0,"",Calcul!E6)
F22: =IF(Calcul!C7=0,"",Calcul!C7) | G22: =IF(Calcul!D7=0,"",Calcul!D7) | H22: =IF(Calcul!E7=0,"",Calcul!E7)
F23: =IF(Calcul!C8=0,"",Calcul!C8) | G23: =IF(Calcul!D8=0,"",Calcul!D8) | H23: =IF(Calcul!E8=0,"",Calcul!E8)
F24: =IF(Calcul!C9=0,"",Calcul!C9) | G24: =IF(Calcul!D9=0,"",Calcul!D9) | H24: =IF(Calcul!E9=0,"",Calcul!E9)
F25: =IF(Calcul!C10=0,"",Calcul!C10) | G25: =IF(Calcul!D10=0,"",Calcul!D10) | H25: =IF(Calcul!E10=0,"",Calcul!E10)
F26: =IF(Calcul!C11=0,"",Calcul!C11) | G26: =IF(Calcul!D11=0,"",Calcul!D11) | H26: =IF(Calcul!E11=0,"",Calcul!E11)
F27: =IF(Calcul!C12=0,"",Calcul!C12) | G27: =IF(Calcul!D12=0,"",Calcul!D12) | H27: =IF(Calcul!E12=0,"",Calcul!E12)
F28: =IF(Calcul!C13=0,"",Calcul!C13) | G28: =IF(Calcul!D13=0,"",Calcul!D13) | H28: =IF(Calcul!E13=0,"",Calcul!E13)
F29: =IF(Calcul!C14=0,"",Calcul!C14) | G29: =IF(Calcul!D14=0,"",Calcul!D14) | H29: =IF(Calcul!E14=0,"",Calcul!E14)
F30: =IF(Calcul!C15=0,"",Calcul!C15) | G30: =IF(Calcul!D15=0,"",Calcul!D15) | H30: =IF(Calcul!E15=0,"",Calcul!E15)
F31: =IF(Calcul!C16=0,"",Calcul!C16) | G31: =IF(Calcul!D16=0,"",Calcul!D16) | H31: =IF(Calcul!E16=0,"",Calcul!E16)
... F43: =IF(Calcul!C28=0,"",Calcul!C28) | G43: =IF(Calcul!D28=0,"",Calcul!D28) | H43: =IF(Calcul!E28=0,"",Calcul!E28)

Sheet Calcul
A1: Rue départ | B1: Ville départ | C1: Rue arrivée | D1: Ville arrivée
A2: kernivaign | B2: Riec-Sur-Bélon | C2: quai du léon | D2: Morlaix
A3: Poulmarh | B3: grand champ | C3: quai du léon | D3: Morlaix
A4: Dividou | B4: Garlan | C4: quai du léon | D4: Morlaix
