Workbook

Sheet JANVIER
A1: JANVIER
C2: EFFECTIFS | G2: CARRIERES | I2: POSITION | L2: REMUNERATION | O2: FORMATION | P2: ACTION SOCIALE | Q2: TOTAL | R2: REJETS
A3: JOURS | C3: TECHNIQUE | D3: SOLIDARITE | E3: ADMINISTRATIF | F3: DISPO JEUNES | G3: AVANCEMENT | H3: ADMINISTRATIF | I3: TECHNIQUE | J3: SOLIDARITE | K3: ADMINISTRATIF | L3: TECHNIQUE | M3: SOLIDARITE | N3: ADMINISTRATIF
A4: MARDI | B4: 1 | Q4: =SUM(C4:P4) -> 0
A5: MERCREDI | B5: 2 | Q5: =SUM(C5:P5) -> 0
A6: JEUDI | B6: 3 | Q6: =SUM(C6:P6) -> 0
A7: VENDREDI | B7: 4 | Q7: =SUM(C7:P7) -> 0
A8: SAMEDI | B8: 5 | Q8: =SUM(C8:P8) -> 0
A9: DIMANCHE | B9: 6 | Q9: =SUM(C9:P9) -> 0
A10: LUNDI | B10: 7 | Q10: =SUM(C10:P10) -> 0
A11: MARDI | B11: 8 | Q11: =SUM(C11:P11) -> 0
A12: MERCREDI | B12: 9 | Q12: =SUM(C12:P12) -> 0
A13: JEUDI | B13: 10 | Q13: =SUM(C13:P13) -> 0
A14: VENDREDI | B14: 11 | Q14: =SUM(C14:P14) -> 0
A15: SAMEDI | B15: 12 | Q15: =SUM(C15:P15) -> 0
... A34: JEUDI | B34: 31 | Q34: =SUM(C34:P34) -> 0
A35: TOTAL | C35: =SUM(C5:C34) -> 0 | D35: =SUM(D5:D34) -> 0 | E35: =SUM(E5:E34) -> 0 | F35: =SUM(F5:F34) -> 0 | G35: =SUM(G5:G34) -> 0 | H35: =SUM(H5:H34) -> 0 | I35: =SUM(I5:I34) -> 0 | J35: =SUM(J5:J34) -> 0 | ... Q35: =SUM(Q5:Q34) -> 0

Sheet FEVRIER
A1: FEVRIER
A2: JOURS | C2: EFFECTIFS | G2: CARRIERES | I2: POSITION | L2: REMUNERATION | O2: FORMATION | P2: ACTION SOCIALE | Q2: TOTAL | R2: REJETS
C3: TECHNIQUE | D3: SOLIDARITE | E3: ADMINISTRATIF | F3: DISPO JEUNES | G3: AVANCEMENT | H3: ADMINISTRATIF | I3: TECHNIQUE | J3: SOLIDARITE | K3: ADMINISTRATIF | L3: TECHNIQUE | M3: SOLIDARITE | N3: ADMINISTRATIF
A4: VENDREDI | B4: 1 | Q4: =SUM(C4:P4) -> 0
A5: SAMEDI | B5: 2 | Q5: =SUM(C5:P5) -> 0
A6: DIMANCHE | B6: 3 | Q6: =SUM(C6:P6) -> 0
A7: LUNDI | B7: 4 | Q7: =SUM(C7:P7) -> 0
A8: MARDI | B8: 5 | Q8: =SUM(C8:P8) -> 0
A9: MERCREDI | B9: 6 | Q9: =SUM(C9:P9) -> 0
A10: JEUDI | B10: 7 | Q10: =SUM(C10:P10) -> 0
A11: VENDREDI | B11: 8 | Q11: =SUM(C11:P11) -> 0
A12: SAMEDI | B12: 9 | Q12: =SUM(C12:P12) -> 0
A13: DIMANCHE | B13: 10 | Q13: =SUM(C13:P13) -> 0
A14: LUNDI | B14: 11 | Q14: =SUM(C14:P14) -> 0
A15: MARDI | B15: 12 | Q15: =SUM(C15:P15) -> 0
... A31: JEUDI | B31: 28 | Q31: =SUM(C31:P31) -> 0
A33: TOTAL | C33: =SUM(C2:C31) -> 0 | D33: =SUM(D2:D31) -> 0 | E33: =SUM(E2:E31) -> 0 | F33: =SUM(F2:F31) -> 0 | G33: =SUM(G2:G31) -> 0 | H33: =SUM(H2:H31) -> 0 | I33: =SUM(I2:I31) -> 0 | J33: =SUM(J2:J31) -> 0 | ... Q33: =SUM(Q2:Q31) -> 0

Sheet MARS 
A1: MARS | R1: REJETS
A2: JOURS | C2: EFFECTIFS | G2: CARRIERES | I2: POSITION | L2: REMUNERATION | O2: FORMATION | P2: ACTION SOCIALE | Q2: TOTAL
C3: TECHNIQUE | D3: SOLIDARITE | E3: ADMINISTRATIF | F3: DISPO JEUNES | G3: AVANCEMENT | H3: ADMINISTRATIF | I3: TECHNIQUE | J3: SOLIDARITE | K3: ADMINISTRATIF | L3: TECHNIQUE | M3: SOLIDARITE | N3: ADMINISTRATIF
A4: VENDREDI | B4: 1
A5: SAMEDI | B5: 2 | Q5: =SUM(C5:P5) -> 0
A6: DIMANCHE | B6: 3 | Q6: =SUM(C6:P6) -> 0
A7: LUNDI | B7: 4 | Q7: =SUM(C7:P7) -> 0
A8: MARDI | B8: 5 | Q8: =SUM(C8:P8) -> 0
A9: MERCREDI | B9: 6 | Q9: =SUM(C9:P9) -> 0
A10: JEUDI | B10: 7 | Q10: =SUM(C10:P10) -> 0
A11: VENDREDI | B11: 8 | Q11: =SUM(C11:P11) -> 0
A12: SAMEDI | B12: 9 | Q12: =SUM(C12:P12) -> 0
A13: DIMANCHE | B13: 10 | Q13: =SUM(C13:P13) -> 0
A14: LUNDI | B14: 11 | Q14: =SUM(C14:P14) -> 0
A15: MARDI | B15: 12 | Q15: =SUM(C15:P15) -> 0
A16: MERCREDI | B16: 13 | Q16: =SUM(C16:P16) -> 0
... A34: DIMANCHE | B34: 31 | Q34: =SUM(C34:P34) -> 0
A35: TOTAL | C35: =SUM(C5:C34) -> 0 | D35: =SUM(D5:D34) -> 0 | E35: =SUM(E5:E34) -> 0 | F35: =SUM(F5:F34) -> 0 | G35: =SUM(G5:G34) -> 0 | H35: =SUM(H5:H34) -> 0 | I35: =SUM(I5:I34) -> 0 | J35: =SUM(J5:J34) -> 0 | ... Q35: =SUM(Q5:Q34) -> 0

Sheet AVRIL
A1: AVRIL
C2: EFFECTIFS | G2: CARRIERES | I2: POSITION | L2: REMUNERATION | O2: FORMATION | P2: ACTION SOCIALE | Q2: TOTAL | R2: REJETS
A3: JOURS | C3: TECHNIQUE | D3: SOLIDARITE | E3: ADMINISTRATIF | F3: DISPO JEUNES | G3: AVANCEMENT | H3: ADMINISTRATIF | I3: TECHNIQUE | J3: SOLIDARITE | K3: ADMINISTRATIF | L3: TECHNIQUE | M3: SOLIDARITE | N3: ADMINISTRATIF
A4: LUNDI | B4: 1 | Q4: =SUM(C4:P4) -> 0
A5: MARDI | B5: 2 | Q5: =SUM(C5:P5) -> 0
A6: MERCREDI | B6: 3 | Q6: =SUM(C6:P6) -> 0
A7: JEUDI | B7: 4 | Q7: =SUM(C7:P7) -> 0
A8: VENDREDI | B8: 5 | Q8: =SUM(C8:P8) -> 0
A9: SAMEDI | B9: 6 | Q9: =SUM(C9:P9) -> 0
A10: DIMANCHE | B10: 7 | Q10: =SUM(C10:P10) -> 0
A11: LUNDI | B11: 8 | D11: 1 | Q11: =SUM(C11:P11) -> 1
A12: MARDI | B12: 9 | Q12: =SUM(C12:P12) -> 0
A13: MERCREDI | B13: 10 | D13: 3 | Q13: =SUM(C13:P13) -> 3
A14: JEUDI | B14: 11 | Q14: =SUM(C14:P14) -> 0
A15: VENDREDI | B15: 12 | Q15: =SUM(C15:P15) -> 0
A16: SAMEDI | B16: 13 | Q16: =SUM(C16:P16) -> 0
A17: DIMANCHE | B17: 14 | Q17: =SUM(C17:P17) -> 0
A18: LUNDI | B18: 15 | C18: 11 | Q18: =SUM(C18:P18) -> 11 | R18: 1 dossier rejeté (4 doc sur même feuille)
A19: MARDI | B19: 16 | C19: 8 | D19: 1 | Q19: =SUM(C19:P19) -> 9
A20: MERCREDI | B20: 17 | C20: 3 | Q20: =SUM(C20:P20) -> 3
A21: JEUDI | B21: 18 | Q21: =SUM(C21:P21) -> 0
A22: VENDREDI | B22: 19 | D22: 2 | Q22: =SUM(C22:P22) -> 2
A23: SAMEDI | B23: 20 | Q23: =SUM(C23:P23) -> 0
A24: DIMANCHE | B24: 21 | Q24: =SUM(C24:P24) -> 0
A25: LUNDI | B25: 22 | Q25: =SUM(C25:P25) -> 0
A26: MARDI | B26: 23 | Q26: =SUM(C26:P26) -> 0
A27: MERCREDI | B27: 24 | D27: 2 | Q27: =SUM(C27:P27) -> 2
A28: JEUDI | B28: 25 | D28: 3 | Q28: =SUM(C28:P28) -> 3
A29: VENDREDI | B29: 26 | D29: 1 | Q29: =SUM(C29:P29) -> 1
A30: SAMEDI | B30: 27 | Q30: =SUM(C30:P30) -> 0
A31: DIMANCHE | B31: 28 | Q31: =SUM(C31:P31) -> 0
A32: LUNDI | B32: 29 | C32: 2 | Q32: =SUM(C32:P32) -> 2
A33: MARDI | B33: 30 | C33: 4 | Q33: =SUM(C33:P33) -> 4
A35: TOTAL | C35: =SUM(C4:C33) -> 28 | D35: =SUM(D4:D33) -> 13 | E35: =SUM(E4:E33) -> 0 | F35: 0 | G35: =SUM(G4:G33) -> 0 | H35: =SUM(H4:H33) -> 0 | I35: =SUM(I4:I33) -> 0 | J35: =SUM(J4:J33) -> 0 | K35: =SUM(K4:K33) -> 0 | L35: =SUM(L4:L33) -> 0 | M35: =SUM(M4:M33) -> 0 | N35: =SUM(N4:N33) -> 0 | P35: =SUM(P4:P33) -> 0 | Q35: =SUM(C35:P35) -> 41

Sheet MAI 
A1: MAI | R1: REJETS
A2: JOURS | C2: EFFECTIFS | G2: CARRIERES | I2: POSITION | L2: REMUNERATION | O2: FORMATION | P2: ACTION SOCIALE | Q2: TOTAL
C3: TECHNIQUE | D3: SOLIDARITE | E3: ADMINISTRATIF | F3: DISPO JEUNES | G3: AVANCEMENT | H3: ADMINISTRATIF | I3: TECHNIQUE | J3: SOLIDARITE | K3: ADMINISTRATIF | L3: TECHNIQUE | M3: SOLIDARITE | N3: ADMINISTRATIF
A4: MERCREDI | B4: 1
A5: JEUDI | B5: 2 | D5: 2 | Q5: =SUM(C5:P5) -> 2 | R5: 1 dossier rejeté pas nouvel entrant (tonnelier)
A6: VENDREDI | B6: 3 | C6: 7 | Q6: =SUM(C6:P6) -> 7 | R6: 1 dossier service technique rejeté RIB illisible (bottaro)
A7: SAMEDI | B7: 4 | Q7: =SUM(C7:P7) -> 0
A8: DIMANCHE | B8: 5 | Q8: =SUM(C8:P8) -> 0
A9: LUNDI | B9: 6 | D9: 4 | Q9: =SUM(C9:P9) -> 4
A10: MARDI | B10: 7 | D10: 1 | Q10: =SUM(C10:P10) -> 1
A11: MERCREDI | B11: 8 | Q11: =SUM(C11:P11) -> 0
A12: JEUDI | B12: 9 | C12: 6 | Q12: =SUM(C12:P12) -> 6
A13: VENDREDI | B13: 10 | D13: 4 | Q13: =SUM(C13:P13) -> 4
A14: SAMEDI | B14: 11 | Q14: =SUM(C14:P14) -> 0
A15: DIMANCHE | B15: 12 | Q15: =SUM(C15:P15) -> 0
A16: LUNDI | B16: 13 | D16: 3 | Q16: =SUM(C16:P16) -> 3
A17: MARDI | B17: 14 | C17: 26 | D17: 3 | Q17: =SUM(C17:P17) -> 29 | R17: DOSSIER BOLHOF REFUSE RIB ILLISIBLE
A18: MERCREDI | B18: 15 | Q18: =SUM(C18:P18) -> 0
A19: JEUDI | B19: 16 | D19: 5 | Q19: =SUM(C19:P19) -> 5
A20: VENDREDI | B20: 17 | Q20: =SUM(C20:P20) -> 0
A21: SAMEDI | B21: 18 | Q21: =SUM(C21:P21) -> 0
A22: DIMANCHE | B22: 19 | Q22: =SUM(C22:P22) -> 0
A23: LUNDI | B23: 20 | D23: 2 | E23: 10 | Q23: =SUM(C23:P23) -> 12
A24: MARDI | B24: 21 | D24: 1 | Q24: =SUM(C24:P24) -> 1
A25: MERCREDI | B25: 22 | Q25: =SUM(C25:P25) -> 0
A26: JEUDI | B26: 23 | C26: 19 | D26: 3 | Q26: =SUM(C26:P26) -> 22
A27: VENDREDI | B27: 24 | C27: 26 | Q27: =SUM(C27:P27) -> 26
A28: SAMEDI | B28: 25 | Q28: =SUM(C28:P28) -> 0
A29: DIMANCHE | B29: 26 | Q29: =SUM(C29:P29) -> 0
A30: LUNDI | B30: 27 | C30: 4 | D30: 3 | E30: 6 | Q30: =SUM(C30:P30) -> 13
A31: MARDI | B31: 28 | Q31: =SUM(C31:P31) -> 0
A32: MERCREDI | B32: 29 | C32: 1 | E32: 7 | Q32: =SUM(C32:P32) -> 8 | R32: 1 PAS ORIGINAL DOSSIER PRIS AU REMU
A33: JEUDI | B33: 30 | Q33: =SUM(C33:P33) -> 0
A34: VENDREDI | B34: 31 | Q34: =SUM(C34:P34) -> 0
A35: TOTAL | C35: =SUM(C5:C34) -> 89 | D35: =SUM(D5:D34) -> 31 | E35: =SUM(E5:E34) -> 23 | F35: =SUM(F5:F34) -> 0 | G35: =SUM(G5:G34) -> 0 | H35: =SUM(H5:H34) -> 0 | I35: =SUM(I5:I34) -> 0 | J35: =SUM(J5:J34) -> 0 | ... P35: =SUM(P5:P34) -> 0 | Q35: =SUM(C35:P35) -> 143

Sheet JUIN 
A1: JUIN
A2: JOURS | C2: EFFECTIFS | G2: CARRIERES | I2: POSITION | L2: REMUNERATION | O2: FORMATION | P2: ACTION SOCIALE | Q2: TOTAL | R2: REJETS
C3: TECHNIQUE | D3: SOLIDARITE | E3: ADMINISTRATIF | F3: DISPO JEUNES | G3: AVANCEMENT | H3: ADMINISTRATIF | I3: TECHNIQUE | J3: SOLIDARITE | K3: ADMINISTRATIF | L3: TECHNIQUE | M3: SOLIDARITE | N3: ADMINISTRATIF
A4: SAMEDI | B4: 1 | Q4: =SUM(C4:P4) -> 0
A5: DIMANCHE | B5: 2 | Q5: =SUM(C5:P5) -> 0
A6: LUNDI | B6: 3 | D6: 7 | Q6: =SUM(C6:P6) -> 7
A7: MARDI | B7: 4 | C7: 17 | Q7: =SUM(C7:P7) -> 17
A8: MERCREDI | B8: 5 | C8: 1 | D8: 1 | Q8: =SUM(C8:P8) -> 2
A9: JEUDI | B9: 6 | C9: 17 | D9: 1 | Q9: =SUM(C9:P9) -> 18
A10: VENDREDI | B10: 7 | Q10: =SUM(C10:P10) -> 0
A11: SAMEDI | B11: 8 | Q11: =SUM(C11:P11) -> 0
A12: DIMANCHE | B12: 9 | Q12: =SUM(C12:P12) -> 0
A13: LUNDI | B13: 10 | Q13: =SUM(C13:P13) -> 0
A14: MARDI | B14: 11 | D14: 5 | Q14: =SUM(C14:P14) -> 5
A15: MERCREDI | B15: 12 | Q15: =SUM(C15:P15) -> 0
A16: JEUDI | B16: 13 | Q16: =SUM(C16:P16) -> 0
A17: VENDREDI | B17: 14 | E17: 4 | Q17: =SUM(C17:P17) -> 4
A18: SAMEDI | B18: 15 | Q18: =SUM(C18:P18) -> 0
A19: DIMANCHE | B19: 16 | Q19: =SUM(C19:P19) -> 0
A20: LUNDI | B20: 17 | D20: 4 | Q20: =SUM(C20:P20) -> 4
A21: MARDI | B21: 18 | Q21: =SUM(C21:P21) -> 0
A22: MERCREDI | B22: 19 | Q22: =SUM(C22:P22) -> 0
A23: JEUDI | B23: 20 | D23: 1 | E23: 1 | Q23: =SUM(C23:P23) -> 2
A24: VENDREDI | B24: 21 | C24: 24 | D24: 1 | E24: 4 | Q24: =SUM(C24:P24) -> 29 | R24: 10 adm donc 6 refusés non nouveaux entrants
A25: SAMEDI | B25: 22 | Q25: =SUM(C25:P25) -> 0
A26: DIMANCHE | B26: 23 | Q26: =SUM(C26:P26) -> 0
A27: LUNDI | B27: 24 | C27: 10 | Q27: =SUM(C27:P27) -> 10
A28: MARDI | B28: 25 | E28: 1 | Q28: =SUM(C28:P28) -> 1
A29: MERCREDI | B29: 26 | C29: 1 | Q29: =SUM(C29:P29) -> 1
A30: JEUDI | B30: 27 | C30: 22 | D30: 1 | Q30: =SUM(C30:P30) -> 23
A31: VENDREDI | B31: 28 | C31: 2 | E31: 1 | Q31: =SUM(C31:P31) -> 3
A32: SAMEDI | B32: 29 | Q32: =SUM(C32:P32) -> 0
A33: DIMANCHE | B33: 30 | Q33: =SUM(C33:P33) -> 0
A35: TOTAL | C35: =SUM(C4:C33) -> 94 | D35: =SUM(D4:D33) -> 21 | E35: =SUM(E4:E33) -> 11 | F35: =SUM(F4:F33) -> 0 | G35: =SUM(G4:G33) -> 0 | H35: =SUM(H4:H33) -> 0 | I35: =SUM(I4:I33) -> 0 | J35: =SUM(J4:J33) -> 0 | ... P35: =SUM(P4:P33) -> 0 | Q35: =SUM(C35:P35) -> 126

Sheet JUILLET 
A1: JUILLET
A2: JOURS | C2: EFFECTIFS | G2: CARRIERES | I2: POSITION | L2: REMUNERATION | O2: FORMATION | P2: ACTION SOCIALE | Q2: TOTAL | R2: REJETS
C3: TECHNIQUE | D3: SOLIDARITE | E3: ADMINISTRATIF | F3: DISPO JEUNES | G3: AVANCEMENT | H3: ADMINISTRATIF | I3: TECHNIQUE | J3: SOLIDARITE | K3: ADMINISTRATIF | L3: TECHNIQUE | M3: SOLIDARITE | N3: ADMINISTRATIF
A4: LUNDI | B4: 1 | D4: 4 | E4: 2 | Q4: =SUM(C4:P4) -> 6
A5: MARDI | B5: 2 | Q5: =SUM(C5:P5) -> 0
A6: MERCREDI | B6: 3 | D6: 1 | Q6: =SUM(C6:P6) -> 1
A7: JEUDI | B7: 4 | C7: 1 | D7: 1 | Q7: =SUM(C7:P7) -> 2
A8: VENDREDI | B8: 5 | E8: 3 | Q8: =SUM(C8:P8) -> 3
A9: SAMEDI | B9: 6 | Q9: =SUM(C9:P9) -> 0
A10: DIMANCHE | B10: 7 | Q10: =SUM(C10:P10) -> 0
A11: LUNDI | B11: 8 | Q11: =SUM(C11:P11) -> 0
A12: MARDI | B12: 9 | D12: 1 | E12: 1 | Q12: =SUM(C12:P12) -> 2
A13: MERCREDI | B13: 10 | C13: 13 | Q13: =SUM(C13:P13) -> 13
A14: JEUDI | B14: 11 | D14: 1 | E14: 1 | Q14: =SUM(C14:P14) -> 2
A15: VENDREDI | B15: 12 | Q15: =SUM(C15:P15) -> 0
A16: SAMEDI | B16: 13 | Q16: =SUM(C16:P16) -> 0
A17: DIMANCHE | B17: 14 | Q17: =SUM(C17:P17) -> 0
A18: LUNDI | B18: 15 | Q18: =SUM(C18:P18) -> 0
A19: MARDI | B19: 16 | D19: 7 | Q19: =SUM(C19:P19) -> 7
A20: MERCREDI | B20: 17 | D20: 5 | Q20: =SUM(C20:P20) -> 5
A21: JEUDI | B21: 18 | C21: 1 | Q21: =SUM(C21:P21) -> 1
A22: VENDREDI | B22: 19 | C22: 2 | E22: 1 | Q22: =SUM(C22:P22) -> 3
A23: SAMEDI | B23: 20 | Q23: =SUM(C23:P23) -> 0
A24: DIMANCHE | B24: 21 | Q24: =SUM(C24:P24) -> 0
A25: LUNDI | B25: 22 | Q25: =SUM(C25:P25) -> 0
A26: MARDI | B26: 23 | D26: 2 | Q26: =SUM(C26:P26) -> 2
A27: MERCREDI | B27: 24 | E27: 3 | Q27: =SUM(C27:P27) -> 3
A28: JEUDI | B28: 25 | C28: 3 | Q28: =SUM(C28:P28) -> 3
A29: VENDREDI | B29: 26 | E29: 1 | Q29: =SUM(C29:P29) -> 1
A30: SAMEDI | B30: 27 | Q30: =SUM(C30:P30) -> 0
A31: DIMANCHE | B31: 28 | Q31: =SUM(C31:P31) -> 0
A32: JUILLET | B32: 29 | Q32: =SUM(C32:P32) -> 0
A33: MARDI | B33: 30 | C33: 1 | E33: 1 | Q33: =SUM(C33:P33) -> 2
A34: MERCREDI | B34: 31 | Q34: =SUM(C34:P34) -> 0
A35: TOTAL | C35: =SUM(C4:C34) -> 21 | D35: =SUM(D4:D34) -> 22 | E35: =SUM(E4:E34) -> 13 | F35: =SUM(F5:F34) -> 0 | G35: =SUM(G5:G34) -> 0 | H35: =SUM(H5:H34) -> 0 | I35: =SUM(I5:I34) -> 0 | J35: =SUM(J5:J34) -> 0 | K35: =SUM(K5:K34) -> 0 | L35: =SUM(L5:L34) -> 0 | M35: =SUM(M5:M34) -> 0 | ... P35: =SUM(P5:P34) -> 0 | Q35: =SUM(C35:P35) -> 56

Sheet AOUT 
A1: AOUT | R1: REJETS
A2: JOURS | C2: EFFECTIFS | G2: CARRIERES | I2: POSITION | L2: REMUNERATION | O2: FORMATION | P2: ACTION SOCIALE | Q2: TOTAL
C3: TECHNIQUE | D3: SOLIDARITE | E3: ADMINISTRATIF | F3: DISPO JEUNES | G3: AVANCEMENT | H3: ADMINISTRATIF | I3: TECHNIQUE | J3: SOLIDARITE | K3: ADMINISTRATIF | L3: TECHNIQUE | M3: SOLIDARITE | N3: ADMINISTRATIF
A4: JEUDI | B4: 1 | C4: 1 | E4: 2 | Q4: =SUM(C4:P4) -> 3
A5: VENDREDI | B5: 2 | C5: 7 | Q5: =SUM(C5:P5) -> 7
A6: SAMEDI | B6: 3 | Q6: =SUM(C6:P6) -> 0
A7: DIMANCHE | B7: 4 | Q7: =SUM(C7:P7) -> 0
A8: LUNDI | B8: 5 | D8: 3 | Q8: =SUM(C8:P8) -> 3
A9: MARDI | B9: 6 | D9: 1 | Q9: =SUM(C9:P9) -> 1
A10: MERCREDI | B10: 7 | E10: 2 | Q10: =SUM(C10:P10) -> 2
A11: JEUDI | B11: 8 | Q11: =SUM(C11:P11) -> 0
A12: VENDREDI | B12: 9 | C12: 2 | D12: 1 | Q12: =SUM(C12:P12) -> 3
A13: SAMEDI | B13: 10 | Q13: =SUM(C13:P13) -> 0
A14: DIMANCHE | B14: 11 | Q14: =SUM(C14:P14) -> 0
A15: LUNDI | B15: 12 | D15: 1 | Q15: =SUM(C15:P15) -> 1
A16: MARDI | B16: 13 | D16: 2 | Q16: =SUM(C16:P16) -> 2
A17: MERCREDI | B17: 14 | D17: 5 | Q17: =SUM(C17:P17) -> 5
A18: JEUDI | B18: 15 | Q18: =SUM(C18:P18) -> 0
A19: VENDREDI | B19: 16 | Q19: =SUM(C19:P19) -> 0
A20: SAMEDI | B20: 17 | Q20: =SUM(C20:P20) -> 0
A21: DIMANCHE | B21: 18 | Q21: =SUM(C21:P21) -> 0
A22: LUNDI | B22: 19 | C22: 19 | D22: 6 | Q22: =SUM(C22:P22) -> 25
A23: MARDI | B23: 20 | C23: 18 | D23: 3 | E23: 3 | Q23: =SUM(C23:P23) -> 24
A24: MERCREDI | B24: 21 | E24: 2 | Q24: =SUM(C24:P24) -> 2
A25: JEUDI | B25: 22 | Q25: =SUM(C25:P25) -> 0
A26: VENDREDI | B26: 23 | E26: 1 | Q26: =SUM(C26:P26) -> 1
A27: SAMEDI | B27: 24 | Q27: =SUM(C27:P27) -> 0
A28: DIMANCHE | B28: 25 | Q28: =SUM(C28:P28) -> 0
A29: LUNDI | B29: 26 | D29: 2 | E29: 1 | Q29: =SUM(C29:P29) -> 3
A30: MARDI | B30: 27 | C30: 15 | Q30: =SUM(C30:P30) -> 15
A31: MERCREDI | B31: 28 | C31: 26 | D31: 1 | E31: 1 | Q31: =SUM(C31:P31) -> 28
A32: JEUDI | B32: 29 | D32: 14 | Q32: =SUM(C32:P32) -> 14
A33: VENDREDI | B33: 30 | C33: 5 | Q33: =SUM(C33:P33) -> 5
A34: SAMEDI | B34: 31 | Q34: =SUM(C34:P34) -> 0
A35: TOTAL | C35: =SUM(C4:C34) -> 93 | D35: =SUM(D4:D34) -> 39 | E35: =SUM(E4:E34) -> 12 | F35: =SUM(F4:F34) -> 0 | G35: =SUM(G4:G34) -> 0 | H35: =SUM(H4:H34) -> 0 | I35: =SUM(I4:I34) -> 0 | J35: =SUM(J4:J34) -> 0 | ... P35: =SUM(P4:P34) -> 0 | Q35: =SUM(C35:P35) -> 144
A36: TOTAL | C36: =SUM(C35:F35) -> 144 | G36: =SUM(G35:H35) -> 0 | I36: =SUM(I35:K35) -> 0 | L36: =SUM(L35:N35) -> 0 | Q36: =SUM(Q35) -> 144

Sheet SEPTEMBRE 
A1: 43709
A2: JOURS | C2: EFFECTIFS | G2: CARRIERES | I2: POSITION | L2: REMUNERATION | O2: FORMATION | P2: ACTION SOCIALE | Q2: TOTAL | R2: REJETS
C3: TECHNIQUE | D3: SOLIDARITE | E3: ADMINISTRATIF | F3: DISPO JEUNES | G3: AVANCEMENT | H3: ADMINISTRATIF | I3: TECHNIQUE | J3: SOLIDARITE | K3: ADMINISTRATIF | L3: TECHNIQUE | M3: SOLIDARITE | N3: ADMINISTRATIF
A4: DIMANCHE | B4: 1 | Q4: =SUM(C4:P4) -> 0
A5: LUNDI | B5: 2 | D5: 7 | E5: 1 | Q5: =SUM(C5:P5) -> 8
A6: MARDI | B6: 3 | D6: 1 | Q6: =SUM(C6:P6) -> 1
A7: MERCREDI | B7: 4 | D7: 1 | Q7: =SUM(C7:P7) -> 1
A8: JEUDI | B8: 5 | Q8: =SUM(C8:P8) -> 0
A9: VENDREDI | B9: 6 | D9: 1 | E9: 1 | Q9: =SUM(C9:P9) -> 2
A10: SAMEDI | B10: 7 | Q10: =SUM(C10:P10) -> 0
A11: DIMANCHE | B11: 8 | Q11: =SUM(C11:P11) -> 0
A12: LUNDI | B12: 9 | C12: 7 | H12: 1 | Q12: =SUM(C12:P12) -> 8
A13: MARDI | B13: 10 | C13: 12 | D13: 6 | H13: 3 | Q13: =SUM(C13:P13) -> 21
A14: MERCREDI | B14: 11 | C14: 8 | E14: 6 | J14: 14 | M14: 4 | Q14: =SUM(C14:P14) -> 32
A15: JEUDI | B15: 12 | G15: 14 | H15: 27 | I15: 6 | Q15: =SUM(C15:P15) -> 47
A16: VENDREDI | B16: 13 | C16: 2 | D16: 2 | H16: 34 | I16: 21 | N16: 2 | Q16: =SUM(C16:P16) -> 61
A17: SAMEDI | B17: 14 | Q17: =SUM(C17:P17) -> 0
A18: DIMANCHE | B18: 15 | Q18: =SUM(C18:P18) -> 0
A19: LUNDI | B19: 16 | C19: 2 | D19: 3 | E19: 5 | H19: 8 | I19: 9 | J19: 19 | K19: 1 | L19: 5 | M19: 7 | N19: 2 | Q19: =SUM(C19:P19) -> 61
A20: MARDI | B20: 17 | C20: 31 | D20: 7 | E20: 4 | H20: 30 | I20: 6 | J20: 8 | M20: 3 | N20: 2 | Q20: =SUM(C20:P20) -> 91
A21: MERCREDI | B21: 18 | C21: 7 | D21: 4 | H21: 15 | I21: 10 | K21: 8 | M21: 2 | Q21: =SUM(C21:P21) -> 46
A22: JEUDI | B22: 19 | C22: 5 | D22: 1 | H22: 1 | I22: 1 | J22: 6 | K22: 4 | N22: 2 | Q22: =SUM(C22:P22) -> 20
A23: VENDREDI | B23: 20 | C23: 1 | D23: 3 | H23: 5 | I23: 13 | J23: 2 | M23: 1 | Q23: =SUM(C23:P23) -> 25
A24: SAMEDI | B24: 21 | Q24: =SUM(C24:P24) -> 0
A25: DIMANCHE | B25: 22 | Q25: =SUM(C25:P25) -> 0
A26: LUNDI | B26: 23 | D26: 14 | G26: 124 | I26: 2 | K26: 4 | M26: 2 | N26: 1 | Q26: =SUM(C26:P26) -> 147
A27: MARDI | B27: 24 | D27: 1 | H27: 3 | I27: 16 | J27: 7 | L27: 7 | M27: 1 | N27: 2 | Q27: =SUM(C27:P27) -> 37
A28: MERCREDI | B28: 25 | C28: 153 | D28: 5 | H28: 11 | J28: 6 | L28: 4 | M28: 1 | Q28: =SUM(C28:P28) -> 180
A29: JEUDI | B29: 26 | C29: 19 | E29: 5 | H29: 4 | I29: 1 | J29: 9 | L29: 1 | M29: 6 | N29: 3 | Q29: =SUM(C29:P29) -> 48
A30: VENDREDI | B30: 27 | C30: 12 | D30: 4 | I30: 29 | J30: 8 | K30: 8 | L30: 7 | M30: 1 | Q30: =SUM(C30:P30) -> 69
A31: SAMEDI | B31: 28 | Q31: =SUM(C31:P31) -> 0
A32: DIMANCHE | B32: 29 | Q32: =SUM(C32:P32) -> 0
A33: LUNDI | B33: 30 | D33: 11 | E33: 6 | H33: 1 | I33: 20 | J33: 4 | K33: 6 | L33: 4 | M33: 1 | N33: 92 | Q33: =SUM(C33:P33) -> 145
A35: TOTAL | C35: =SUM(C4:C33) -> 259 | D35: =SUM(D4:D33) -> 71 | E35: =SUM(E4:E33) -> 28 | F35: =SUM(F4:F33) -> 0 | G35: =SUM(G4:G33) -> 138 | H35: =SUM(H4:H33) -> 143 | I35: =SUM(I4:I33) -> 134 | J35: =SUM(J4:J33) -> 83 | ... Q35: =SUM(Q4:Q33) -> 1050
A36: TOTAL | C36: =SUM(C35:F35) -> 358 | G36: =SUM(G35:H35) -> 281 | I36: =SUM(I35:K35) -> 248 | L36: =SUM(L35:N35) -> 163 | Q36: =SUM(Q35) -> 1050

Sheet OCTOBRE 
A1: 43739
C2: EFFECTIFS | G2: CARRIERES | I2: POSITION | L2: REMUNERATION | O2: FORMATION | P2: ACTION SOCIALE | Q2: TOTAL | R2: REJETS
A3: JOURS | C3: TECHNIQUE | D3: SOLIDARITE | E3: ADMINISTRATIF | F3: DISPO JEUNES | G3: AVANCEMENT | H3: ADMINISTRATIF | I3: TECHNIQUE | J3: SOLIDARITE | K3: ADMINISTRATIF | L3: TECHNIQUE | M3: SOLIDARITE | N3: ADMINISTRATIF
A4: MARDI | B4: 1 | D4: 5 | K4: 18 | L4: 1 | Q4: =SUM(C4:O4) -> 24
A5: MERCREDI | B5: 2 | D5: 1 | E5: 1 | Q5: =SUM(C5:P5) -> 2
A6: JEUDI | B6: 3 | C6: 3 | D6: 2 | E6: 26 | H6: 5 | Q6: =SUM(C6:P6) -> 36
A7: VENDREDI | B7: 4 | H7: 1 | Q7: =SUM(C7:P7) -> 1
A8: SAMEDI | B8: 5 | Q8: =SUM(C8:P8) -> 0
A9: DIMANCHE | B9: 6 | Q9: =SUM(C9:P9) -> 0
A10: LUNDI | B10: 7 | C10: 17 | D10: 1 | H10: 2 | Q10: =SUM(C10:P10) -> 20
A11: MARDI | B11: 8 | K11: 8 | Q11: =SUM(C11:P11) -> 8
A12: MERCREDI | B12: 9 | C12: 13 | H12: 21 | Q12: =SUM(C12:P12) -> 34
A13: JEUDI | B13: 10 | C13: 5 | D13: 3 | H13: 20 | I13: 4 | K13: 3 | M13: 6 | Q13: =SUM(C13:P13) -> 41
A14: VENDREDI | B14: 11 | C14: 5 | D14: 7 | G14: 4 | H14: 174 | I14: 8 | J14: 3 | M14: 5 | N14: 3 | Q14: =SUM(C14:P14) -> 209
A15: SAMEDI | B15: 12 | Q15: =SUM(C15:P15) -> 0
A16: DIMANCHE | B16: 13 | Q16: =SUM(C16:P16) -> 0
A17: LUNDI | B17: 14 | C17: 24 | E17: 6 | H17: 1 | I17: 3 | J17: 5 | L17: 2 | M17: 7 | Q17: =SUM(C17:P17) -> 48
A18: MARDI | B18: 15 | E18: 4 | G18: 54 | H18: 27 | J18: 10 | K18: 14 | Q18: =SUM(C18:P18) -> 109
A19: MERCREDI | B19: 16 | C19: 44 | G19: 14 | H19: 1 | I19: 5 | J19: 12 | K19: 2 | M19: 2 | N19: 1 | Q19: =SUM(C19:P19) -> 81
A20: JEUDI | B20: 17 | H20: 1 | I20: 5 | J20: 53 | K20: 1 | L20: 9 | Q20: =SUM(C20:P20) -> 69
A21: VENDREDI | B21: 18 | C21: 12 | D21: 2 | I21: 19 | K21: 4 | M21: 1 | Q21: =SUM(C21:P21) -> 38
A22: SAMEDI | B22: 19 | Q22: =SUM(C22:P22) -> 0
A23: DIMANCHE | B23: 20 | Q23: =SUM(C23:P23) -> 0
A24: LUNDI | B24: 21 | D24: 1 | G24: 16 | I24: 8 | L24: 3 | M24: 5 | Q24: =SUM(C24:P24) -> 33
A25: MARDI | B25: 22 | C25: 1 | D25: 2 | E25: 1 | H25: 22 | I25: 20 | J25: 9 | K25: 10 | L25: 1 | N25: 2 | Q25: =SUM(C25:P25) -> 68
A26: MERCREDI | B26: 23 | E26: 2 | H26: 10 | I26: 4 | J26: 51 | K26: 2 | M26: 6 | Q26: =SUM(C26:P26) -> 75
A27: JEUDI | B27: 24 | Q27: =SUM(C27:P27) -> 0
A28: VENDREDI | B28: 25 | Q28: =SUM(C28:P28) -> 0
A29: SAMEDI | B29: 26 | Q29: =SUM(C29:P29) -> 0
A30: DIMANCHE | B30: 27 | Q30: =SUM(C30:P30) -> 0
A31: LUNDI | B31: 28 | Q31: =SUM(C31:P31) -> 0 | R31: CLOTURE DES SAISIES
A32: MARDI | B32: 29 | Q32: =SUM(C32:P32) -> 0 | R32: NUM JUSQU’À MIDI
A33: MERCREDI | B33: 30 | Q33: =SUM(C33:P33) -> 0
A34: JEUDI | B34: 31 | Q34: =SUM(C34:P34) -> 0
A35: TOTAL | C35: =SUM(C4:C34) -> 124 | D35: =SUM(D4:D34) -> 24 | E35: =SUM(E4:E34) -> 40 | F35: =SUM(F4:F34) -> 0 | G35: =SUM(G4:G34) -> 88 | H35: =SUM(H4:H34) -> 285 | I35: =SUM(I4:I34) -> 76 | J35: =SUM(J4:J34) -> 143 | ... Q35: =SUM(Q4:Q34) -> 896
A36: TOTAL | C36: =SUM(C35:F35) -> 188 | G36: =SUM(G35:H35) -> 373 | I36: =SUM(I35:K35) -> 281 | L36: =SUM(L35:N35) -> 54 | Q36: =SUM(Q35) -> 896

Sheet NOVEMBRE 
A1: NOVEMBRE
A2: JOURS | C2: EFFECTIFS | G2: CARRIERES | I2: POSITION | L2: REMUNERATION | O2: FORMATION | P2: ACTION SOCIALE | Q2: TOTAL | R2: REJETS
C3: TECHNIQUE | D3: SOLIDARITE | E3: ADMINISTRATIF | F3: DISPO JEUNES | G3: AVANCEMENT | H3: ADMINISTRATIF | I3: TECHNIQUE | J3: SOLIDARITE | K3: ADMINISTRATIF | L3: TECHNIQUE | M3: SOLIDARITE | N3: ADMINISTRATIF
A4: VENDREDI | B4: 1 | Q4: =SUM(C4:P4) -> 0
A5: SAMEDI | B5: 2 | Q5: =SUM(C5:P5) -> 0
A6: DIMANCHE | B6: 3 | Q6: =SUM(C6:P6) -> 0
A7: LUNDI | B7: 4 | Q7: =SUM(C7:P7) -> 0
A8: MARDI | B8: 5 | Q8: =SUM(C8:P8) -> 0
A9: MERCREDI | B9: 6 | Q9: =SUM(C9:P9) -> 0
A10: JEUDI | B10: 7 | Q10: =SUM(C10:P10) -> 0
A11: VENDREDI | B11: 8 | Q11: =SUM(C11:P11) -> 0
A12: SAMEDI | B12: 9 | Q12: =SUM(C12:P12) -> 0
A13: DIMANCHE | B13: 10 | Q13: =SUM(C13:P13) -> 0
A14: LUNDI | B14: 11 | Q14: =SUM(C14:P14) -> 0
A15: MARDI | B15: 12 | Q15: =SUM(C15:P15) -> 0
... A33: SAMEDI | B33: 30 | Q33: =SUM(C33:P33) -> 0
A35: TOTAL | C35: =SUM(C4:C33) -> 0 | D35: =SUM(D4:D33) -> 0 | E35: =SUM(E4:E33) -> 0 | F35: =SUM(F4:F33) -> 0 | G35: =SUM(G4:G33) -> 0 | H35: =SUM(H4:H33) -> 0 | I35: =SUM(I4:I33) -> 0 | J35: =SUM(J4:J33) -> 0 | ... Q35: =SUM(Q4:Q33) -> 0
A36: TOTAL | C36: =SUM(C35:F35) -> 0 | G36: =SUM(G35:H35) -> 0 | I36: =SUM(I35:K35) -> 0 | L36: =SUM(L35:N35) -> 0 | Q36: =SUM(Q35) -> 0

Sheet DECEMBRE
A1: DÉCEMBRE | R1: REJETS
A2: JOURS | C2: EFFECTIFS | G2: CARRIERES | I2: POSITION | L2: REMUNERATION | O2: FORMATION | P2: ACTION SOCIALE | Q2: TOTAL
C3: TECHNIQUE | D3: SOLIDARITE | E3: ADMINISTRATIF | F3: DISPO JEUNES | G3: AVANCEMENT | H3: ADMINISTRATIF | I3: TECHNIQUE | J3: SOLIDARITE | K3: ADMINISTRATIF | L3: TECHNIQUE | M3: SOLIDARITE | N3: ADMINISTRATIF
A4: DIMANCHE | B4: 1 | Q4: =SUM(C4:P4) -> 0
A5: LUNDI | B5: 2 | Q5: =SUM(C5:P5) -> 0
A6: MARDI | B6: 3 | Q6: =SUM(C6:P6) -> 0
A7: MERCREDI | B7: 4 | Q7: =SUM(C7:P7) -> 0
A8: JEUDI | B8: 5 | Q8: =SUM(C8:P8) -> 0
A9: VENDREDI | B9: 6 | Q9: =SUM(C9:P9) -> 0
A10: SAMEDI | B10: 7 | Q10: =SUM(C10:P10) -> 0
A11: DIMANCHE | B11: 8 | Q11: =SUM(C11:P11) -> 0
A12: LUNDI | B12: 9 | Q12: =SUM(C12:P12) -> 0
A13: MARDI | B13: 10 | Q13: =SUM(C13:P13) -> 0
A14: MERCREDI | B14: 11 | Q14: =SUM(C14:P14) -> 0
A15: JEUDI | B15: 12 | Q15: =SUM(C15:P15) -> 0
... A34: MARDI | B34: 31 | Q34: =SUM(C34:P34) -> 0
A35: TOTAL | C35: =SUM(C5:C34) -> 0 | D35: =SUM(D5:D34) -> 0 | E35: =SUM(E5:E34) -> 0 | F35: =SUM(F5:F34) -> 0 | G35: =SUM(G5:G34) -> 0 | H35: =SUM(H5:H34) -> 0 | I35: =SUM(I5:I34) -> 0 | J35: =SUM(J5:J34) -> 0 | ... Q35: =SUM(Q5:Q34) -> 0
A36: TOTAL | C36: =SUM(C35:F35) -> 0 | G36: =SUM(G35:H35) -> 0 | I36: =SUM(I35:K35) -> 0 | L36: =SUM(L35:N35) -> 0 | Q36: =SUM(Q35) -> 0

Sheet ANNÉE 
A1: ANNÉE 2019
A2: SERVICES | C2: EFFECTIFS | G2: CARRIERES | I2: POSITION | L2: REMUNERATION | O2: FORMATION | P2: ACTION SOCIALE | Q2: TOTAL | R2: REJETS
A3: SECTEURS | C3: TECHNIQUE | D3: SOLIDARITE | E3: ADMINISTRATIF | F3: DISPO JEUNES | G3: AVANCEMENT | H3: ADMINISTRATIF | I3: TECHNIQUE | J3: SOLIDARITE | K3: ADMINISTRATIF | L3: TECHNIQUE | M3: SOLIDARITE | N3: ADMINISTRATIF
A4: TOTAL | C4: =SUM(JANVIER:DECEMBRE!C35) -> 708 | D4: =SUM(JANVIER:DECEMBRE!D35) -> 221 | E4: =SUM(JANVIER:DECEMBRE!E35) -> 127 | F4: =SUM(JANVIER:DECEMBRE!F35) -> 0 | G4: =SUM(JANVIER:DECEMBRE!G35) -> 226 | H4: =SUM(JANVIER:DECEMBRE!H35) -> 428 | I4: =SUM(JANVIER:DECEMBRE!I35) -> 210 | J4: =SUM(JANVIER:DECEMBRE!J35) -> 226 | ... R4: =SUM(JANVIER:DECEMBRE!R35) -> 0
A5: TOTAL | C5: =SUM(C4:F4) -> 1056 | G5: =SUM(G4:H4) -> 654 | I5: =SUM(I4:K4) -> 529 | L5: =SUM(L4:N4) -> 217 | Q5: =SUM(Q4) -> 2456
