Workbook

Sheet Production amont
A1: N° Série | B1: Désignation | C1: Création FS | D1: Objectif (45j) | E1: Atelier 01 (1j) | F1: Atelier 02 (1j) | G1: Atelier 03 (1j) | H1: Atelier 04 (12j) | I1: Atelier 05 (1j) | J1: Atelier 06 (1j) | K1: Atelier 07 (1j) | L1: Atelier 08 (1j) | M1: Prévision sortie amont | N1: Réalisé fin amont
A2: 01AA585 | B2: Ecope 1A | C2: 43617 | D2: =C2+45 -> 43662 | E2: =C2+1 -> 43618 | F2: =E2+1 -> 43619 | G2: =F2+1 -> 43620 | H2: =G2+12 -> 43632 | I2: =H2+1 -> 43633 | J2: =I2+1 -> 43634 | K2: =J2+1 -> 43635 | L2: =K2+1 -> 43636 | M2: =L2+1 -> 43637 | N2: 43637
A3: 01AA586 | B3: Ecope 1A | C3: 43620 | D3: =C3+45 -> 43665 | E3: =C3+1 -> 43621 | F3: =E3+1 -> 43622 | G3: =F3+1 -> 43623 | H3: =G3+12 -> 43635 | I3: =H3+1 -> 43636 | J3: =I3+1 -> 43637 | K3: =J3+1 -> 43638 | L3: =K3+1 -> 43639 | M3: =L3+1 -> 43640 | N3: 43640
A4: 01AA587 | B4: Ecope 1A | C4: 43623 | D4: =C4+45 -> 43668 | E4: =C4+1 -> 43624 | F4: =E4+1 -> 43625 | G4: =F4+1 -> 43626 | H4: =G4+12 -> 43638 | I4: =H4+1 -> 43639 | J4: =I4+1 -> 43640 | K4: =J4+1 -> 43641 | L4: =K4+1 -> 43642 | M4: =L4+1 -> 43643 | N4: 43646
A5: 01AA588 | B5: Ecope 1A | C5: 43626 | D5: =C5+45 -> 43671 | E5: =C5+1 -> 43627 | F5: =E5+1 -> 43628 | G5: =F5+1 -> 43629 | H5: =G5+12 -> 43641 | I5: =H5+1 -> 43642 | J5: =I5+1 -> 43643 | K5: =J5+1 -> 43644 | L5: =K5+1 -> 43645 | M5: =L5+1 -> 43646 | N5: 43648
A6: 01AA589 | B6: Ecope 1A | C6: 43629 | D6: =C6+45 -> 43674 | E6: =C6+1 -> 43630 | F6: =E6+1 -> 43631 | G6: =F6+1 -> 43632 | H6: =G6+12 -> 43644 | I6: =H6+1 -> 43645 | J6: =I6+1 -> 43646 | K6: =J6+1 -> 43647 | L6: =K6+1 -> 43648 | M6: =L6+1 -> 43649
A7: 01AA590 | B7: Ecope 1A | C7: 43632 | D7: =C7+45 -> 43677 | E7: =C7+1 -> 43633 | F7: =E7+1 -> 43634 | G7: =F7+1 -> 43635 | H7: =G7+12 -> 43647 | I7: =H7+1 -> 43648 | J7: =I7+1 -> 43649 | K7: =J7+1 -> 43650 | L7: =K7+1 -> 43651 | M7: =L7+1 -> 43652
A8: 01AA591 | B8: Ecope 1A | C8: 43635 | D8: =C8+45 -> 43680 | E8: =C8+1 -> 43636 | F8: =E8+1 -> 43637 | G8: =F8+1 -> 43638 | H8: =G8+12 -> 43650 | I8: =H8+1 -> 43651 | J8: =I8+1 -> 43652 | K8: =J8+1 -> 43653 | L8: =K8+1 -> 43654 | M8: =L8+1 -> 43655
A9: 01AA592 | B9: Ecope 1A | C9: 43638 | D9: =C9+45 -> 43683 | E9: =C9+1 -> 43639 | F9: =E9+1 -> 43640 | G9: =F9+1 -> 43641 | H9: =G9+12 -> 43653 | I9: =H9+1 -> 43654 | J9: =I9+1 -> 43655 | K9: =J9+1 -> 43656 | L9: =K9+1 -> 43657 | M9: =L9+1 -> 43658
A10: 01AA593 | B10: Ecope 1A | C10: 43641 | D10: =C10+45 -> 43686 | E10: =C10+1 -> 43642 | F10: =E10+1 -> 43643 | G10: =F10+1 -> 43644 | H10: =G10+12 -> 43656 | I10: =H10+1 -> 43657 | J10: =I10+1 -> 43658 | K10: =J10+1 -> 43659 | L10: =K10+1 -> 43660 | M10: =L10+1 -> 43661
A11: 01AA594 | B11: Ecope 1A | C11: 43644 | D11: =C11+45 -> 43689 | E11: =C11+1 -> 43645 | F11: =E11+1 -> 43646 | G11: =F11+1 -> 43647 | H11: =G11+12 -> 43659 | I11: =H11+1 -> 43660 | J11: =I11+1 -> 43661 | K11: =J11+1 -> 43662 | L11: =K11+1 -> 43663 | M11: =L11+1 -> 43664
A12: 01AA595 | B12: Ecope 1A | C12: 43647 | D12: =C12+45 -> 43692 | E12: =C12+1 -> 43648 | F12: =E12+1 -> 43649 | G12: =F12+1 -> 43650 | H12: =G12+12 -> 43662 | I12: =H12+1 -> 43663 | J12: =I12+1 -> 43664 | K12: =J12+1 -> 43665 | L12: =K12+1 -> 43666 | M12: =L12+1 -> 43667
A13: 01AA596 | B13: Ecope 1A | C13: 43650 | D13: =C13+45 -> 43695 | E13: =C13+1 -> 43651 | F13: =E13+1 -> 43652 | G13: =F13+1 -> 43653 | H13: =G13+12 -> 43665 | I13: =H13+1 -> 43666 | J13: =I13+1 -> 43667 | K13: =J13+1 -> 43668 | L13: =K13+1 -> 43669 | M13: =L13+1 -> 43670
A14: 01AA597 | B14: Ecope 1A | C14: 43653 | D14: =C14+45 -> 43698 | E14: =C14+1 -> 43654 | F14: =E14+1 -> 43655 | G14: =F14+1 -> 43656 | H14: =G14+12 -> 43668 | I14: =H14+1 -> 43669 | J14: =I14+1 -> 43670 | K14: =J14+1 -> 43671 | L14: =K14+1 -> 43672 | M14: =L14+1 -> 43673
A15: 01AA598 | B15: Ecope 1A | C15: 43656 | D15: =C15+45 -> 43701 | E15: =C15+1 -> 43657 | F15: =E15+1 -> 43658 | G15: =F15+1 -> 43659 | H15: =G15+12 -> 43671 | I15: =H15+1 -> 43672 | J15: =I15+1 -> 43673 | K15: =J15+1 -> 43674 | L15: =K15+1 -> 43675 | M15: =L15+1 -> 43676
A16: 01AA599 | B16: Ecope 1A | C16: 43659 | D16: =C16+45 -> 43704 | E16: =C16+1 -> 43660 | F16: =E16+1 -> 43661 | G16: =F16+1 -> 43662 | H16: =G16+12 -> 43674 | I16: =H16+1 -> 43675 | J16: =I16+1 -> 43676 | K16: =J16+1 -> 43677 | L16: =K16+1 -> 43678 | M16: =L16+1 -> 43679
A17: 01AA600 | B17: Ecope 1A | C17: 43662 | D17: =C17+45 -> 43707 | E17: =C17+1 -> 43663 | F17: =E17+1 -> 43664 | G17: =F17+1 -> 43665 | H17: =G17+12 -> 43677 | I17: =H17+1 -> 43678 | J17: =I17+1 -> 43679 | K17: =J17+1 -> 43680 | L17: =K17+1 -> 43681 | M17: =L17+1 -> 43682
... A40: 01AA623 | B40: Ecope 4B | C40: 43731 | D40: =C40+45 -> 43776 | E40: =C40+1 -> 43732 | F40: =E40+1 -> 43733 | G40: =F40+1 -> 43734 | H40: =G40+12 -> 43746 | I40: =H40+1 -> 43747 | J40: =I40+1 -> 43748 | K40: =J40+1 -> 43749 | L40: =K40+1 -> 43750 | M40: =L40+1 -> 43751

Sheet Production aval
A1: ='Production amont'!A:A -> N° Série | B1: ='Production amont'!B:B -> Désignation | C1: ='Production amont'!N:N -> Réalisé fin amont | D1: Atelier 09 (1j) | E1: Atelier 10 (1j) | F1: Atelier 11 (0,5j) | G1: Atelier 12 (0,5j) | H1: Atelier 13 (3j) | I1: Atelier 14 (0,5j) | J1: Atelier 15 (0,5j) | K1: Prévision sortie aval | L1: Réalisé fin aval
A2: ='Production amont'!A:A -> 01AA585 | B2: ='Production amont'!B:B -> Ecope 1A | C2: ='Production amont'!N:N -> 43637 | D2: =C2+1 -> 43638 | E2: =D2+1 -> 43639 | F2: =E2+0.5 -> 43639.5 | G2: =F2+0.5 -> 43640 | H2: =G2+3 -> 43643 | I2: =H2+0.5 -> 43643.5 | J2: =I2+0.5 -> 43644 | K2: =J2+1 -> 43645
A3: ='Production amont'!A:A -> 01AA586 | B3: ='Production amont'!B:B -> Ecope 1A | C3: ='Production amont'!N:N -> 43640 | D3: =C3+1 -> 43641 | E3: =D3+1 -> 43642 | F3: =E3+0.5 -> 43642.5 | G3: =F3+0.5 -> 43643 | H3: =G3+3 -> 43646
A4: ='Production amont'!A:A -> 01AA587 | B4: ='Production amont'!B:B -> Ecope 1A | C4: ='Production amont'!N:N -> 43646 | D4: =C4+1 -> 43647 | E4: =D4+1 -> 43648 | F4: =E4+0.5 -> 43648.5 | G4: =F4+0.5 -> 43649 | H4: =G4+3 -> 43652
A5: ='Production amont'!A:A -> 01AA588 | B5: ='Production amont'!B:B -> Ecope 1A | C5: ='Production amont'!N:N -> 43648 | D5: =C5+1 -> 43649 | E5: =D5+1 -> 43650 | F5: =E5+0.5 -> 43650.5 | G5: =F5+0.5 -> 43651 | H5: =G5+3 -> 43654
A6: ='Production amont'!A:A -> 01AA589 | B6: ='Production amont'!B:B -> Ecope 1A
A7: ='Production amont'!A:A -> 01AA590 | B7: ='Production amont'!B:B -> Ecope 1A
A8: ='Production amont'!A:A -> 01AA591 | B8: ='Production amont'!B:B -> Ecope 1A
A9: ='Production amont'!A:A -> 01AA592 | B9: ='Production amont'!B:B -> Ecope 1A
A10: ='Production amont'!A:A -> 01AA593 | B10: ='Production amont'!B:B -> Ecope 1A
A11: ='Production amont'!A:A -> 01AA594 | B11: ='Production amont'!B:B -> Ecope 1A
A12: ='Production amont'!A:A -> 01AA595 | B12: ='Production amont'!B:B -> Ecope 1A
A13: ='Production amont'!A:A -> 01AA596 | B13: ='Production amont'!B:B -> Ecope 1A
A14: ='Production amont'!A:A -> 01AA597 | B14: ='Production amont'!B:B -> Ecope 1A
A15: ='Production amont'!A:A -> 01AA598 | B15: ='Production amont'!B:B -> Ecope 1A
A16: ='Production amont'!A:A -> 01AA599 | B16: ='Production amont'!B:B -> Ecope 1A
A17: ='Production amont'!A:A -> 01AA600 | B17: ='Production amont'!B:B -> Ecope 1A
... A41: ='Production amont'!A:A -> 0 | B41: ='Production amont'!B:B -> 0

Sheet Récapitulatif
A1: ='Production amont'!A:A -> N° Série | B1: ='Production amont'!B:B -> Désignation | C1: ='Production amont'!C:C -> Création FS | D1: ='Production amont'!M:M -> Prévision sortie amont | E1: ='Production amont'!N:N -> Réalisé fin amont | F1: ='Production aval'!K:K -> Prévision sortie aval | G1: ='Production aval'!L:L -> Réalisé fin aval
