Workbook
Name camion: 'Feuille vierge'!$AW$13
Name prevue: 'Feuille vierge'!$BD$13
Name Reelle: 'Feuille vierge'!$BE$13
Name retard: 'Feuille vierge'!$BF$13

Sheet Feuille vierge
AD1: A | AN1: A | AX1: A | BT1: B | CD1: B | CN1: B | CX1: C | DH1: C | DR1: C
AD2: ????? | AN2: ????? | AX2: ????? | BT2: ????? | CD2: ????? | CN2: ????? | CX2: ????? | DH2: ????? | DR2: ?????
AB3: Seuil d'appel: | AD3: kg | AL3: Seuil d'appel: | AN3: kg | AV3: Seuil d'appel: | AX3: kg | BR3: Seuil d'appel: | BT3: kg | CB3: Seuil d'appel: | CD3: kg | CL3: Seuil d'appel: | CN3: kg | CV3: Seuil d'appel: | CX3: kg | DF3: Seuil d'appel: | DH3: kg | DP3: Seuil d'appel: | DR3: kg
AB4: Seuil max: | AD4: 60 000kg | AL4: Seuil max: | AN4: 60 000kg | AV4: Seuil max: | AX4: 60 000kg | BN4: Stock maxi: | BO4: 0 000kg | BR4: Seuil max: | BT4: 6 0000kg | CB4: Seuil max: | CD4: 6 000kg | CL4: Seuil max: | CN4: 60 000kg | CV4: Seuil max: | CX4: 60 000kg | DF4: Seuil max: | DH4: 60 000kg | DP4: Seuil max: | DR4: 60 000kg
AB5: seuil mini: | AD5: 2 000kg | AL5: seuil mini: | AN5: 000kg | AV5: seuil mini: | AX5: 000kg | BR5: seuil mini: | BT5: 000 kg | CB5: seuil mini: | CD5: 000kg | CL5: seuil mini: | CN5: 000kg | CV5: seuil mini: | CX5: 000kg | DF5: seuil mini: | DH5: 000 kg | DP5: seuil mini: | DR5: 000kg
Y7: Autonomie | Z7: Mesure silo | AA7: Poids silo | AB7: Ensilage et transfert | AC7: Camion | AD7: Conso | AE7: Consigne | AF7: Nb pesée réelle | AG7: Nb pesée | AH7: N° pesée | AI7: Autonomie | AJ7: Mesure silo | AK7: Poids silo | AL7: Ensilage et transfert | AM7: Camion | AN7: Conso | AO7: Consigne | AP7: Nb pesée réelle | AQ7: Nb pesée | AR7: N° pesée | AS7: Autonomie | AT7: Mesure silo | AU7: Poids silo | AV7: Ensilage et transfert | AW7: Camion | AX7: Conso | AY7: Consigne | AZ7: Nb pesée réelle | BA7: Nb pesée | BB7: N° pesée | BC7: Date | BD7: Camion Prévue | BE7: Camion Réelle | BF7: Retard | BG7: Camion | BH7: CTA | BK7: Stock extérieur | BN7: Compo | BO7: Stock maxi | BP7: N° pesée | BQ7: Nb pesée | BR7: Nb pesée réelle | BS7: Consigne | BT7: Conso | BU7: Camion | BV7: Ensilage et transfert | BW7: Poids silo | BX7: Mesure silo | BY7: Autonomie | BZ7: N° pesée | CA7: Nb pesée | CB7: Nb pesée réelle | CC7: Consigne | CD7: Conso | CE7: Camion | CF7: Ensilage | CG7: Poids silo | CH7: Mesure silo | CI7: Autonomie | CJ7: N° pesée | CK7: Nb pesée | CL7: Nb pesée réelle | CM7: Consigne | CN7: Conso | CO7: Camion | CP7: Ensilage et transfert | CQ7: Poids silo | CR7: Mesure silo | CS7: Autonomie | CT7: N° pesée | CU7: Nb pesée | CV7: Nb pesée réelle | CW7: Consigne | CX7: Conso | CY7: Camion | CZ7: Ensilage | DA7: Poids silo | DB7: Mesure silo | DC7: Autonomie | DD7: N° pesée | DE7: Nb pesée | DF7: Nb pesée réelle | DG7: Consigne | DH7: Conso | DI7: Camion | DJ7: Ensilage | DK7: Poids silo | DL7: Mesure silo | DM7: Autonomie | DN7: N° pesée | DO7: Nb pesée | DP7: Nb pesée réelle | DQ7: Consigne | DR7: Conso | DS7: Camion | DT7: Ensilage | DU7: Poids silo | DV7: Mesure silo | DW7: Autonomie
BH8: Arrivée | BI8: Retour | BJ8: Stock | BK8: Arrivée | BL8: Retour | BM8: Stock
BD9: 1 | BE9: 1 | BJ9: 0
AA10: =AA9-AD10+AC10+AB10 -> 0 | AD10: =AF10*AE10 -> 0 | AF10: =[1]Pesées!B157 -> 0 | AG10: =[1]Pesées!E157 -> 29.6 | AH10: =[1]Pesées!H255 -> A1613 | AK10: =AK9-AN10+AM10+AL10 -> 0 | AN10: =AP10*AO10 -> 0 | AP10: =[1]Pesées!B157 -> 0 | AQ10: =[1]Pesées!E157 -> 29.6 | AR10: =[1]Pesées!H255 -> A1613 | AU10: =$AU9-$AX10+$AW10+$AV10 -> 0 | AX10: =AZ10*AY10 -> 0 | AY10: 0 | AZ10: =[1]Pesées!$B157 -> 0 | BA10: =[1]Pesées!$E157 -> 29.6 | BB10: =[1]Pesées!H255 -> A1613 | BC10: 43101 | BD10: 1 | BE10: 1 | BF10: =BF9+BE10-BD10 -> 0 | BJ10: =BJ9+BH10-BI10 -> 0 | BM10: =BM9+BK10-BL10 -> 0 | BN10: =(BN9-AV10-AL10-AB10-BV10-CF10-CZ10-DT10)+BG10+BH10-BI10+BL10 -> 0 | BO10: =BN10+AU10+AK10+AA10+BW10+CG10+DA10+DU10 -> 0 | BQ10: =[1]Pesées!F157 -> 59.1 | BR10: =[1]Pesées!C157 -> 58 | BS10: 0 | BT10: =BR10*BS10 -> 0 | BW10: =BW9-BT10+BU10+BV10 -> 0 | BZ10: =[1]Pesées!I255 -> 0 | CA10: =[1]Pesées!F157 -> 59.1 | CB10: =[1]Pesées!C157 -> 58 | CC10: 0 | CD10: =CB10*CC10 -> 0 | CG10: =CG9-CD10+CE10+CF10 -> 0 | CJ10: =[1]Pesées!I255 -> 0 | CM10: 0 | CN10: =+CL10*CM10 -> 0 | CQ10: =CQ9-CN10+CO10+CP10 -> 0 | CT10: =[1]Pesées!J255 -> 0 | CU10: =[1]Pesées!G157 -> 45.5 | CV10: =[1]Pesées!D157 -> 0 | CW10: 0 | CX10: =CV10*CW10 -> 0 | DA10: =DA9-CX10+CY10+CZ10 -> 0 | DD10: =[1]Pesées!J255 -> 0 | DG10: 0 | DH10: =DF10*DG10 -> 0 | DK10: =DK9-DH10+DI10+DJ10 -> 0 | DN10: =[1]Pesées!J255 -> 0 | DO10: =[1]Pesées!G157 -> 45.5 | DP10: =[1]Pesées!D157 -> 0 | DQ10: 0 | DR10: =DP10*DQ10 -> 0 | DU10: =DU9-DR10+DS10+DT10 -> 0
AA11: =AA10-AD11+AC11+AB11 -> 0 | AD11: =AF11*AE11 -> 0 | AE11: 0 | AH11: =[1]Pesées!H256 -> A1614 | AK11: =AK10-AN11+AM11+AL11 -> 0 | AN11: =AP11*AO11 -> 0 | AR11: =[1]Pesées!H256 -> A1614 | AU11: =$AU10-$AX11+$AW11+$AV11 -> 0 | AX11: =AZ11*AY11 -> 0 | AY11: 0 | BC11: 43102 | BF11: =BF10+BE11-BD11 -> 0 | BJ11: =BJ10+BH11-BI11 -> 0 | BM11: =BM10+BK11-BL11 -> 0 | BN11: =(BN10-AV11-AL11-AB11-BV11-CF11-CZ11-DT11)+BG11+BH11-BI11+BL11 -> 0 | BO11: =BN11+AU11+AK11+AA11+BW11+CG11+CQ11+DK11+DA11+DU11 -> 0 | BR11: =[1]Pesées!C158 -> 58 | BS11: 0 | BT11: =BR11*BS11 -> 0 | BW11: =BW10-BT11+BU11+BV11 -> 0 | BZ11: =[1]Pesées!I256 -> 0 | CC11: 0 | CD11: =CB11*CC11 -> 0 | CG11: =CG10-CD11+CE11+CF11 -> 0 | CJ11: =[1]Pesées!I256 -> 0 | CM11: 0 | CN11: =+CL11*CM11 -> 0 | CQ11: =CQ10-CN11+CO11+CP11 -> 0 | CT11: =[1]Pesées!J256 -> C24 | CW11: 0 | CX11: =CV11*CW11 -> 0 | DA11: =DA10-CX11+CY11+CZ11 -> 0 | DD11: =[1]Pesées!J256 -> C24 | DG11: 0 | DH11: =DF11*DG11 -> 0 | DK11: =DK10-DH11+DI11+DJ11 -> 0 | DN11: =[1]Pesées!J256 -> C24 | DQ11: 0 | DR11: =DP11*DQ11 -> 0 | DU11: =DU10-DR11+DS11+DT11 -> 0
AA12: =AA11-AD12+AC12+AB12 -> 0 | AD12: =AF12*AE12 -> 0 | AE12: 0 | AF12: =[1]Pesées!B249 -> 33 | AG12: =[1]Pesées!E249 -> 29.3 | AH12: =[1]Pesées!H249 -> 0 | AK12: =AK11-AN12+AM12+AL12 -> 0 | AN12: =AP12*AO12 -> 0 | AO12: 0 | AP12: =[1]Pesées!B249 -> 33 | AQ12: =[1]Pesées!E249 -> 29.3 | AR12: =[1]Pesées!H249 -> 0 | AU12: =$AU11-$AX12+$AW12+$AV12 -> 25500 | AW12: 25500 | AX12: =AZ12*AY12 -> 0 | AY12: 0 | AZ12: =[1]Pesées!B249 -> 33 | BA12: =[1]Pesées!E249 -> 29.3 | BB12: =[1]Pesées!H249 -> 0 | BC12: 43193 | BF12: =BF11+BE12-BD12 -> 0 | BJ12: =BJ11+BH12-BI12 -> 0 | BM12: =BM11+BK12-BL12 -> 0 | BN12: =(BN11-AV12-AL12-AB12-BV12-CF12-CZ12-DT12)+BG12+BH12-BI12+BL12 -> 0 | BO12: =BN12+AU12+AK12+AA12+BW12+CG12+CQ12+DK12+DA12+DU12 -> 51000 | BQ12: =[1]Pesées!F249 -> 39.3 | BR12: =[1]Pesées!C249 -> 39 | BS12: 0 | BT12: =BR12*BS12 -> 0 | BU12: 25500 | BW12: =BW11-BT12+BU12+BV12 -> 25500 | BZ12: =[1]Pesées!I249 -> 0 | CA12: =[1]Pesées!F249 -> 39.3 | CB12: =[1]Pesées!C249 -> 39 | CC12: 0 | CD12: =CB12*CC12 -> 0 | CG12: =CG11-CD12+CE12+CF12 -> 0 | CJ12: =[1]Pesées!I249 -> 0 | CK12: =[1]Pesées!F249 -> 39.3 | CL12: =[1]Pesées!C249 -> 39 | CM12: 0 | CN12: =+CL12*CM12 -> 0 | CQ12: =CQ11-CN12+CO12+CP12 -> 0 | CT12: =[1]Pesées!J249 -> 0 | CU12: =[1]Pesées!G249 -> 36.9 | CV12: =[1]Pesées!D249 -> 37 | CW12: 0 | CX12: =CV12*CW12 -> 0 | DA12: =DA11-CX12+CY12+CZ12 -> 0 | DD12: =[1]Pesées!J249 -> 0 | DE12: =[1]Pesées!G249 -> 36.9 | DF12: =[1]Pesées!D249 -> 37 | DG12: 0 | DH12: =DF12*DG12 -> 0 | DK12: =DK11-DH12+DI12+DJ12 -> 0 | DN12: =[1]Pesées!J249 -> 0 | DO12: =[1]Pesées!G249 -> 36.9 | DP12: =[1]Pesées!D249 -> 37 | DQ12: 0 | DR12: =DP12*DQ12 -> 0 | DU12: =DU11-DR12+DS12+DT12 -> 0
AA13: =AA12-AD13+AC13+AB13 -> 0 | AD13: =AF13*AE13 -> 0 | AE13: 0 | AF13: =[1]Pesées!B250 -> 32 | AG13: =[1]Pesées!E250 -> 29.3 | AH13: =[1]Pesées!H250 -> 0 | AK13: =AK12-AN13+AM13+AL13 -> 0 | AN13: =AP13*AO13 -> 0 | AO13: 0 | AP13: =[1]Pesées!B250 -> 32 | AQ13: =[1]Pesées!E250 -> 29.3 | AR13: =[1]Pesées!H250 -> 0 | AU13: =$AU12-$AX13+$AW13+$AV13 -> 25500 | AX13: =AZ13*AY13 -> 0 | AY13: 0 | AZ13: =[1]Pesées!B250 -> 32 | BA13: =[1]Pesées!E250 -> 29.3 | BB13: =[1]Pesées!H250 -> 0 | BC13: 43194 | BD13: 1 | BE13: =IF(AND(camion<23000,0,1,),IF(camion>27000,camion<55000,1.1),1) -> 1 | BF13: =BF12+BE13-BD13 -> 0 | BJ13: =BJ12+BH13-BI13 -> 0 | BM13: =BM12+BK13-BL13 -> 0 | BN13: =(BN12-AV13-AL13-AB13-BV13-CF13-CZ13-DT13)+BG13+BH13-BI13+BL13 -> 0 | BO13: =BN13+AU13+AK13+AA13+BW13+CG13+CQ13+DK13+DA13+DU13 -> 51000 | BQ13: =[1]Pesées!F250 -> 39.3 | BR13: =[1]Pesées!C250 -> 37 | BS13: 0 | BT13: =BR13*BS13 -> 0 | BW13: =BW12-BT13+BU13+BV13 -> 25500 | BZ13: =[1]Pesées!I250 -> 0 | CA13: =[1]Pesées!F250 -> 39.3 | CB13: =[1]Pesées!C250 -> 37 | CC13: 0 | CD13: =CB13*CC13 -> 0 | CG13: =CG12-CD13+CE13+CF13 -> 0 | CJ13: =[1]Pesées!I250 -> 0 | CK13: =[1]Pesées!F250 -> 39.3 | CL13: =[1]Pesées!C250 -> 37 | CM13: 0 | CN13: =+CL13*CM13 -> 0 | CQ13: =CQ12-CN13+CO13+CP13 -> 0 | CT13: =[1]Pesées!J250 -> 0 | CU13: =[1]Pesées!G250 -> 36.9 | CV13: =[1]Pesées!D250 -> 36 | CW13: 0 | CX13: =CV13*CW13 -> 0 | DA13: =DA12-CX13+CY13+CZ13 -> 0 | DD13: =[1]Pesées!J250 -> 0 | DE13: =[1]Pesées!G250 -> 36.9 | DF13: =[1]Pesées!D250 -> 36 | DG13: 0 | DH13: =DF13*DG13 -> 0 | DK13: =DK12-DH13+DI13+DJ13 -> 0 | DN13: =[1]Pesées!J250 -> 0 | DO13: =[1]Pesées!G250 -> 36.9 | DP13: =[1]Pesées!D250 -> 36 | DQ13: 0 | DR13: =DP13*DQ13 -> 0 | DU13: =DU12-DR13+DS13+DT13 -> 0
AA14: =AA13-AD14+AC14+AB14 -> 0 | AD14: =AF14*AE14 -> 0 | AE14: 0 | AF14: =[1]Pesées!B251 -> 30 | AG14: =[1]Pesées!E251 -> 29.3 | AH14: =[1]Pesées!H251 -> 0 | AK14: =AK13-AN14+AM14+AL14 -> 0 | AN14: =AP14*AO14 -> 0 | AO14: 0 | AP14: =[1]Pesées!B251 -> 30 | AQ14: =[1]Pesées!E251 -> 29.3 | AR14: =[1]Pesées!H251 -> 0 | AU14: =$AU13-$AX14+$AW14+$AV14 -> 25500 | AX14: =AZ14*AY14 -> 0 | AY14: 0 | AZ14: =[1]Pesées!B251 -> 30 | BA14: =[1]Pesées!E251 -> 29.3 | BB14: =[1]Pesées!H251 -> 0 | BC14: 43195 | BE14: =AND(BU14<24000,0,BU14>24500,1) -> FALSE | BF14: =BF13+BE14-BD14 -> 0 | BJ14: =BJ13+BH14-BI14 -> 0 | BM14: =BM13+BK14-BL14 -> 0 | BN14: =(BN13-AV14-AL14-AB14-BV14-CF14-CZ14-DT14)+BG14+BH14-BI14+BL14 -> 0 | BO14: =BN14+AU14+AK14+AA14+BW14+CG14+CQ14+DK14+DA14+DU14 -> 51000 | BQ14: =[1]Pesées!F251 -> 39.3 | BR14: =[1]Pesées!C251 -> 40 | BS14: 0 | BT14: =BR14*BS14 -> 0 | BW14: =BW13-BT14+BU14+BV14 -> 25500 | BZ14: =[1]Pesées!I251 -> 0 | CA14: =[1]Pesées!F251 -> 39.3 | CB14: =[1]Pesées!C251 -> 40 | CC14: 0 | CD14: =CB14*CC14 -> 0 | CG14: =CG13-CD14+CE14+CF14 -> 0 | CJ14: =[1]Pesées!I251 -> 0 | CK14: =[1]Pesées!F251 -> 39.3 | CL14: =[1]Pesées!C251 -> 40 | CM14: 0 | CN14: =+CL14*CM14 -> 0 | CQ14: =CQ13-CN14+CO14+CP14 -> 0 | CT14: =[1]Pesées!J251 -> C22 | CU14: =[1]Pesées!G251 -> 36.9 | CV14: =[1]Pesées!D251 -> 38 | CW14: 0 | CX14: =CV14*CW14 -> 0 | DA14: =DA13-CX14+CY14+CZ14 -> 0 | DD14: =[1]Pesées!J251 -> C22 | DE14: =[1]Pesées!G251 -> 36.9 | DF14: =[1]Pesées!D251 -> 38 | DG14: 0 | DH14: =DF14*DG14 -> 0 | DK14: =DK13-DH14+DI14+DJ14 -> 0 | DN14: =[1]Pesées!J251 -> C22 | DO14: =[1]Pesées!G251 -> 36.9 | DP14: =[1]Pesées!D251 -> 38 | DQ14: 0 | DR14: =DP14*DQ14 -> 0 | DU14: =DU13-DR14+DS14+DT14 -> 0
AA15: =AA14-AD15+AC15+AB15 -> 0 | AD15: =AF15*AE15 -> 0 | AE15: 0 | AF15: =[1]Pesées!B252 -> 33 | AG15: =[1]Pesées!E252 -> 29.3 | AH15: =[1]Pesées!H252 -> A1612 | AK15: =AK14-AN15+AM15+AL15 -> 0 | AN15: =AP15*AO15 -> 0 | AO15: 0 | AP15: =[1]Pesées!B252 -> 33 | AQ15: =[1]Pesées!E252 -> 29.3 | AR15: =[1]Pesées!H252 -> A1612 | AU15: =$AU14-$AX15+$AW15+$AV15 -> 25500 | AX15: =AZ15*AY15 -> 0 | AY15: 0 | AZ15: =[1]Pesées!B252 -> 33 | BA15: =[1]Pesées!E252 -> 29.3 | BB15: =[1]Pesées!H252 -> A1612 | BC15: 43196 | BF15: =BF14+BE15-BD15 -> 0 | BJ15: =BJ14+BH15-BI15 -> 0 | BM15: =BM14+BK15-BL15 -> 0 | BN15: =(BN14-AV15-AL15-AB15-BV15-CF15-CZ15-DT15)+BG15+BH15-BI15+BL15 -> 0 | BO15: =BN15+AU15+AK15+AA15+BW15+CG15+CQ15+DK15+DA15+DU15 -> 51000 | BQ15: =[1]Pesées!F252 -> 39.3 | BR15: =[1]Pesées!C252 -> 39 | BS15: 0 | BT15: =BR15*BS15 -> 0 | BW15: =BW14-BT15+BU15+BV15 -> 25500 | BZ15: =[1]Pesées!I252 -> 0 | CA15: =[1]Pesées!F252 -> 39.3 | CB15: =[1]Pesées!C252 -> 39 | CC15: 0 | CD15: =CB15*CC15 -> 0 | CG15: =CG14-CD15+CE15+CF15 -> 0 | CJ15: =[1]Pesées!I252 -> 0 | CK15: =[1]Pesées!F252 -> 39.3 | CL15: =[1]Pesées!C252 -> 39 | CM15: 0 | CN15: =+CL15*CM15 -> 0 | CQ15: =CQ14-CN15+CO15+CP15 -> 0 | CT15: =[1]Pesées!J252 -> C23 | CU15: =[1]Pesées!G252 -> 32.9 | CV15: =[1]Pesées!D252 -> 37 | CW15: 0 | CX15: =CV15*CW15 -> 0 | DA15: =DA14-CX15+CY15+CZ15 -> 0 | DD15: =[1]Pesées!J252 -> C23 | DE15: =[1]Pesées!G252 -> 32.9 | DF15: =[1]Pesées!D252 -> 37 | DG15: 0 | DH15: =DF15*DG15 -> 0 | DK15: =DK14-DH15+DI15+DJ15 -> 0 | DN15: =[1]Pesées!J252 -> C23 | DO15: =[1]Pesées!G252 -> 32.9 | DP15: =[1]Pesées!D252 -> 37 | DQ15: 0 | DR15: =DP15*DQ15 -> 0 | DU15: =DU14-DR15+DS15+DT15 -> 0
AA16: =AA15-AD16+AC16+AB16 -> 0 | AD16: =AF16*AE16 -> 0 | AE16: 0 | AF16: =[1]Pesées!B253 -> 25 | AG16: =[1]Pesées!E253 -> 29.3 | AH16: =[1]Pesées!H253 -> 0 | AK16: =AK15-AN16+AM16+AL16 -> 0 | AN16: =AP16*AO16 -> 0 | AO16: 0 | AP16: =[1]Pesées!B253 -> 25 | AQ16: =[1]Pesées!E253 -> 29.3 | AR16: =[1]Pesées!H253 -> 0 | AU16: =$AU15-$AX16+$AW16+$AV16 -> 25500 | AX16: =AZ16*AY16 -> 0 | AY16: 0 | AZ16: =[1]Pesées!B253 -> 25 | BA16: =[1]Pesées!E253 -> 29.3 | BB16: =[1]Pesées!H253 -> 0 | BC16: 43197 | BF16: =BF15+BE16-BD16 -> 0 | BJ16: =BJ15+BH16-BI16 -> 0 | BM16: =BM15+BK16-BL16 -> 0 | BN16: =(BN15-AV16-AL16-AB16-BV16-CF16-CZ16-DT16)+BG16+BH16-BI16+BL16 -> 0 | BO16: =BN16+AU16+AK16+AA16+BW16+CG16+CQ16+DK16+DA16+DU16 -> 51000 | BQ16: =[1]Pesées!F253 -> 39.3 | BR16: =[1]Pesées!C253 -> 39 | BS16: 0 | BT16: =BR16*BS16 -> 0 | BW16: =BW15-BT16+BU16+BV16 -> 25500 | BZ16: =[1]Pesées!I253 -> 0 | CA16: =[1]Pesées!F253 -> 39.3 | CB16: =[1]Pesées!C253 -> 39 | CC16: 0 | CD16: =CB16*CC16 -> 0 | CG16: =CG15-CD16+CE16+CF16 -> 0 | CJ16: =[1]Pesées!I253 -> 0 | CK16: =[1]Pesées!F253 -> 39.3 | CL16: =[1]Pesées!C253 -> 39 | CM16: 0 | CN16: =+CL16*CM16 -> 0 | CQ16: =CQ15-CN16+CO16+CP16 -> 0 | CT16: =[1]Pesées!J253 -> 0 | CU16: =[1]Pesées!G253 -> 32.9 | CV16: =[1]Pesées!D253 -> 33 | CW16: 0 | CX16: =CV16*CW16 -> 0 | DA16: =DA15-CX16+CY16+CZ16 -> 0 | DD16: =[1]Pesées!J253 -> 0 | DE16: =[1]Pesées!G253 -> 32.9 | DF16: =[1]Pesées!D253 -> 33 | DG16: 0 | DH16: =DF16*DG16 -> 0 | DK16: =DK15-DH16+DI16+DJ16 -> 0 | DN16: =[1]Pesées!J253 -> 0 | DO16: =[1]Pesées!G253 -> 32.9 | DP16: =[1]Pesées!D253 -> 33 | DQ16: 0 | DR16: =DP16*DQ16 -> 0 | DU16: =DU15-DR16+DS16+DT16 -> 0
AA17: =AA16-AD17+AC17+AB17 -> 0 | AD17: =AF17*AE17 -> 0 | AE17: 0 | AF17: =[1]Pesées!B254 -> 37 | AG17: =[1]Pesées!E254 -> 29.3 | AH17: =[1]Pesées!H254 -> 0 | AK17: =AK16-AN17+AM17+AL17 -> 0 | AN17: =AP17*AO17 -> 0 | AO17: 0 | AP17: =[1]Pesées!B254 -> 37 | AQ17: =[1]Pesées!E254 -> 29.3 | AR17: =[1]Pesées!H254 -> 0 | AU17: =$AU16-$AX17+$AW17+$AV17 -> 25500 | AX17: =AZ17*AY17 -> 0 | AY17: 0 | AZ17: =[1]Pesées!B254 -> 37 | BA17: =[1]Pesées!E254 -> 29.3 | BB17: =[1]Pesées!H254 -> 0 | BC17: 43198 | BF17: =BF16+BE17-BD17 -> 0 | BJ17: =BJ16+BH17-BI17 -> 0 | BM17: =BM16+BK17-BL17 -> 0 | BN17: =(BN16-AV17-AL17-AB17-BV17-CF17-CZ17-DT17)+BG17+BH17-BI17+BL17 -> 0 | BO17: =BN17+AU17+AK17+AA17+BW17+CG17+CQ17+DK17+DA17+DU17 -> 51000 | BQ17: =[1]Pesées!F254 -> 39.3 | BR17: =[1]Pesées!C254 -> 39 | BS17: 0 | BT17: =BR17*BS17 -> 0 | BW17: =BW16-BT17+BU17+BV17 -> 25500 | BZ17: =[1]Pesées!I254 -> 0 | CA17: =[1]Pesées!F254 -> 39.3 | CB17: =[1]Pesées!C254 -> 39 | CC17: 0 | CD17: =CB17*CC17 -> 0 | CG17: =CG16-CD17+CE17+CF17 -> 0 | CJ17: =[1]Pesées!I254 -> 0 | CK17: =[1]Pesées!F254 -> 39.3 | CL17: =[1]Pesées!C254 -> 39 | CM17: 0 | CN17: =+CL17*CM17 -> 0 | CQ17: =CQ16-CN17+CO17+CP17 -> 0 | CT17: =[1]Pesées!J254 -> 0 | CU17: =[1]Pesées!G254 -> 32.9 | CV17: =[1]Pesées!D254 -> 32 | CW17: 0 | CX17: =CV17*CW17 -> 0 | DA17: =DA16-CX17+CY17+CZ17 -> 0 | DD17: =[1]Pesées!J254 -> 0 | DE17: =[1]Pesées!G254 -> 32.9 | DF17: =[1]Pesées!D254 -> 32 | DG17: 0 | DH17: =DF17*DG17 -> 0 | DK17: =DK16-DH17+DI17+DJ17 -> 0 | DN17: =[1]Pesées!J254 -> 0 | DO17: =[1]Pesées!G254 -> 32.9 | DP17: =[1]Pesées!D254 -> 32 | DQ17: 0 | DR17: =DP17*DQ17 -> 0 | DU17: =DU16-DR17+DS17+DT17 -> 0
AA18: =AA17-AD18+AC18+AB18 -> 0 | AD18: =AF18*AE18 -> 0 | AE18: 0 | AF18: =[1]Pesées!B255 -> 32 | AG18: =[1]Pesées!E255 -> 29.3 | AH18: =[1]Pesées!H255 -> A1613 | AK18: =AK17-AN18+AM18+AL18 -> 0 | AN18: =AP18*AO18 -> 0 | AO18: 0 | AP18: =[1]Pesées!B255 -> 32 | AQ18: =[1]Pesées!E255 -> 29.3 | AR18: =[1]Pesées!H255 -> A1613 | AU18: =$AU17-$AX18+$AW18+$AV18 -> 25500 | AX18: =AZ18*AY18 -> 0 | AY18: 0 | AZ18: =[1]Pesées!B255 -> 32 | BA18: =[1]Pesées!E255 -> 29.3 | BB18: =[1]Pesées!H255 -> A1613 | BC18: 43199 | BF18: =BF17+BE18-BD18 -> 0 | BJ18: =BJ17+BH18-BI18 -> 0 | BM18: =BM17+BK18-BL18 -> 0 | BN18: =(BN17-AV18-AL18-AB18-BV18-CF18-CZ18-DT18)+BG18+BH18-BI18+BL18 -> 0 | BO18: =BN18+AU18+AK18+AA18+BW18+CG18+CQ18+DK18+DA18+DU18 -> 51000 | BQ18: =[1]Pesées!F255 -> 39.3 | BR18: =[1]Pesées!C255 -> 39 | BS18: 0 | BT18: =BR18*BS18 -> 0 | BW18: =BW17-BT18+BU18+BV18 -> 25500 | BZ18: =[1]Pesées!I255 -> 0 | CA18: =[1]Pesées!F255 -> 39.3 | CB18: =[1]Pesées!C255 -> 39 | CC18: 0 | CD18: =CB18*CC18 -> 0 | CG18: =CG17-CD18+CE18+CF18 -> 0 | CJ18: =[1]Pesées!I255 -> 0 | CK18: =[1]Pesées!F255 -> 39.3 | CL18: =[1]Pesées!C255 -> 39 | CM18: 0 | CN18: =+CL18*CM18 -> 0 | CQ18: =CQ17-CN18+CO18+CP18 -> 0 | CT18: =[1]Pesées!J255 -> 0 | CU18: =[1]Pesées!G255 -> 32.9 | CV18: =[1]Pesées!D255 -> 33 | CW18: 0 | CX18: =CV18*CW18 -> 0 | DA18: =DA17-CX18+CY18+CZ18 -> 0 | DD18: =[1]Pesées!J255 -> 0 | DE18: =[1]Pesées!G255 -> 32.9 | DF18: =[1]Pesées!D255 -> 33 | DG18: 0 | DH18: =DF18*DG18 -> 0 | DK18: =DK17-DH18+DI18+DJ18 -> 0 | DN18: =[1]Pesées!J255 -> 0 | DO18: =[1]Pesées!G255 -> 32.9 | DP18: =[1]Pesées!D255 -> 33 | DQ18: 0 | DR18: =DP18*DQ18 -> 0 | DU18: =DU17-DR18+DS18+DT18 -> 0
AA19: =AA18-AD19+AC19+AB19 -> 0 | AD19: =AF19*AE19 -> 0 | AE19: 0 | AF19: =[1]Pesées!B256 -> 29 | AG19: =[1]Pesées!E256 -> 29.3 | AH19: =[1]Pesées!H256 -> A1614 | AK19: =AK18-AN19+AM19+AL19 -> 0 | AN19: =AP19*AO19 -> 0 | AO19: 0 | AP19: =[1]Pesées!B256 -> 29 | AQ19: =[1]Pesées!E256 -> 29.3 | AR19: =[1]Pesées!H256 -> A1614 | AU19: =$AU18-$AX19+$AW19+$AV19 -> 25500 | AX19: =AZ19*AY19 -> 0 | AY19: 0 | AZ19: =[1]Pesées!B256 -> 29 | BA19: =[1]Pesées!E256 -> 29.3 | BB19: =[1]Pesées!H256 -> A1614 | BC19: 43200 | BF19: =BF18+BE19-BD19 -> 0 | BJ19: =BJ18+BH19-BI19 -> 0 | BM19: =BM18+BK19-BL19 -> 0 | BN19: =(BN18-AV19-AL19-AB19-BV19-CF19-CZ19-DT19)+BG19+BH19-BI19+BL19 -> 0 | BO19: =BN19+AU19+AK19+AA19+BW19+CG19+CQ19+DK19+DA19+DU19 -> 51000 | BQ19: =[1]Pesées!F256 -> 39.3 | BR19: =[1]Pesées!C256 -> 39 | BS19: 0 | BT19: =BR19*BS19 -> 0 | BW19: =BW18-BT19+BU19+BV19 -> 25500 | BZ19: =[1]Pesées!I256 -> 0 | CA19: =[1]Pesées!F256 -> 39.3 | CB19: =[1]Pesées!C256 -> 39 | CC19: 0 | CD19: =CB19*CC19 -> 0 | CG19: =CG18-CD19+CE19+CF19 -> 0 | CJ19: =[1]Pesées!I256 -> 0 | CK19: =[1]Pesées!F256 -> 39.3 | CL19: =[1]Pesées!C256 -> 39 | CM19: 0 | CN19: =+CL19*CM19 -> 0 | CQ19: =CQ18-CN19+CO19+CP19 -> 0 | CT19: =[1]Pesées!J256 -> C24 | CU19: =[1]Pesées!G256 -> 32.9 | CV19: =[1]Pesées!D256 -> 32 | CW19: 0 | CX19: =CV19*CW19 -> 0 | DA19: =DA18-CX19+CY19+CZ19 -> 0 | DD19: =[1]Pesées!J256 -> C24 | DE19: =[1]Pesées!G256 -> 32.9 | DF19: =[1]Pesées!D256 -> 32 | DG19: 0 | DH19: =DF19*DG19 -> 0 | DK19: =DK18-DH19+DI19+DJ19 -> 0 | DN19: =[1]Pesées!J256 -> C24 | DO19: =[1]Pesées!G256 -> 32.9 | DP19: =[1]Pesées!D256 -> 32 | DQ19: 0 | DR19: =DP19*DQ19 -> 0 | DU19: =DU18-DR19+DS19+DT19 -> 0
AA20: =AA19-AD20+AC20+AB20 -> 0 | AD20: =AF20*AE20 -> 0 | AE20: 0 | AF20: =[1]Pesées!B257 -> 31 | AG20: =[1]Pesées!E257 -> 29.3 | AH20: =[1]Pesées!H257 -> A1615 | AK20: =AK19-AN20+AM20+AL20 -> 0 | AN20: =AP20*AO20 -> 0 | AO20: 0 | AP20: =[1]Pesées!B257 -> 31 | AQ20: =[1]Pesées!E257 -> 29.3 | AR20: =[1]Pesées!H257 -> A1615 | AU20: =$AU19-$AX20+$AW20+$AV20 -> 25500 | AX20: =AZ20*AY20 -> 0 | AY20: 0 | AZ20: =[1]Pesées!B257 -> 31 | BA20: =[1]Pesées!E257 -> 29.3 | BB20: =[1]Pesées!H257 -> A1615 | BC20: 43201 | BF20: =BF19+BE20-BD20 -> 0 | BJ20: =BJ19+BH20-BI20 -> 0 | BM20: =BM19+BK20-BL20 -> 0 | BN20: =(BN19-AV20-AL20-AB20-BV20-CF20-CZ20-DT20)+BG20+BH20-BI20+BL20 -> 0 | BO20: =BN20+AU20+AK20+AA20+BW20+CG20+CQ20+DK20+DA20+DU20 -> 51000 | BQ20: =[1]Pesées!F257 -> 39.3 | BR20: =[1]Pesées!C257 -> 38 | BS20: 0 | BT20: =BR20*BS20 -> 0 | BW20: =BW19-BT20+BU20+BV20 -> 25500 | BZ20: =[1]Pesées!I257 -> 0 | CA20: =[1]Pesées!F257 -> 39.3 | CB20: =[1]Pesées!C257 -> 38 | CC20: 0 | CD20: =CB20*CC20 -> 0 | CG20: =CG19-CD20+CE20+CF20 -> 0 | CJ20: =[1]Pesées!I257 -> 0 | CK20: =[1]Pesées!F257 -> 39.3 | CL20: =[1]Pesées!C257 -> 38 | CM20: 0 | CN20: =+CL20*CM20 -> 0 | CQ20: =CQ19-CN20+CO20+CP20 -> 0 | CT20: =[1]Pesées!J257 -> 0 | CU20: =[1]Pesées!G257 -> 32.9 | CV20: =[1]Pesées!D257 -> 32 | CW20: 0 | CX20: =CV20*CW20 -> 0 | DA20: =DA19-CX20+CY20+CZ20 -> 0 | DD20: =[1]Pesées!J257 -> 0 | DE20: =[1]Pesées!G257 -> 32.9 | DF20: =[1]Pesées!D257 -> 32 | DG20: 0 | DH20: =DF20*DG20 -> 0 | DK20: =DK19-DH20+DI20+DJ20 -> 0 | DN20: =[1]Pesées!J257 -> 0 | DO20: =[1]Pesées!G257 -> 32.9 | DP20: =[1]Pesées!D257 -> 32 | DQ20: 0 | DR20: =DP20*DQ20 -> 0 | DU20: =DU19-DR20+DS20+DT20 -> 0
AA21: =AA20-AD21+AC21+AB21 -> 0 | AD21: =AF21*AE21 -> 0 | AE21: 0 | AF21: =[1]Pesées!B258 -> 30 | AG21: =[1]Pesées!E258 -> 29.3 | AH21: =[1]Pesées!H258 -> 0 | AK21: =AK20-AN21+AM21+AL21 -> 0 | AN21: =AP21*AO21 -> 0 | AO21: 0 | AP21: =[1]Pesées!B258 -> 30 | AQ21: =[1]Pesées!E258 -> 29.3 | AR21: =[1]Pesées!H258 -> 0 | AU21: =$AU20-$AX21+$AW21+$AV21 -> 25500 | AX21: =AZ21*AY21 -> 0 | AY21: 0 | AZ21: =[1]Pesées!B258 -> 30 | BA21: =[1]Pesées!E258 -> 29.3 | BB21: =[1]Pesées!H258 -> 0 | BC21: 43202 | BF21: =BF20+BE21-BD21 -> 0 | BJ21: =BJ20+BH21-BI21 -> 0 | BM21: =BM20+BK21-BL21 -> 0 | BN21: =(BN20-AV21-AL21-AB21-BV21-CF21-CZ21-DT21)+BG21+BH21-BI21+BL21 -> 0 | BO21: =BN21+AU21+AK21+AA21+BW21+CG21+CQ21+DK21+DA21+DU21 -> 51000 | BQ21: =[1]Pesées!F258 -> 39.3 | BR21: =[1]Pesées!C258 -> 39 | BS21: 0 | BT21: =BR21*BS21 -> 0 | BW21: =BW20-BT21+BU21+BV21 -> 25500 | BZ21: =[1]Pesées!I258 -> 0 | CA21: =[1]Pesées!F258 -> 39.3 | CB21: =[1]Pesées!C258 -> 39 | CC21: 0 | CD21: =CB21*CC21 -> 0 | CG21: =CG20-CD21+CE21+CF21 -> 0 | CJ21: =[1]Pesées!I258 -> 0 | CK21: =[1]Pesées!F258 -> 39.3 | CL21: =[1]Pesées!C258 -> 39 | CM21: 0 | CN21: =+CL21*CM21 -> 0 | CQ21: =CQ20-CN21+CO21+CP21 -> 0 | CT21: =[1]Pesées!J258 -> 0 | CU21: =[1]Pesées!G258 -> 32.9 | CV21: =[1]Pesées!D258 -> 33 | CW21: 0 | CX21: =CV21*CW21 -> 0 | DA21: =DA20-CX21+CY21+CZ21 -> 0 | DD21: =[1]Pesées!J258 -> 0 | DE21: =[1]Pesées!G258 -> 32.9 | DF21: =[1]Pesées!D258 -> 33 | DG21: 0 | DH21: =DF21*DG21 -> 0 | DK21: =DK20-DH21+DI21+DJ21 -> 0 | DN21: =[1]Pesées!J258 -> 0 | DO21: =[1]Pesées!G258 -> 32.9 | DP21: =[1]Pesées!D258 -> 33 | DQ21: 0 | DR21: =DP21*DQ21 -> 0 | DU21: =DU20-DR21+DS21+DT21 -> 0
AA22: =AA21-AD22+AC22+AB22 -> 0 | AD22: =AF22*AE22 -> 0 | AE22: 0 | AF22: =[1]Pesées!B259 -> 30 | AG22: =[1]Pesées!E259 -> 29.3 | AH22: =[1]Pesées!H259 -> A1616 | AK22: =AK21-AN22+AM22+AL22 -> 0 | AN22: =AP22*AO22 -> 0 | AO22: 0 | AP22: =[1]Pesées!B259 -> 30 | AQ22: =[1]Pesées!E259 -> 29.3 | AR22: =[1]Pesées!H259 -> A1616 | AU22: =$AU21-$AX22+$AW22+$AV22 -> 25500 | AX22: =AZ22*AY22 -> 0 | AY22: 0 | AZ22: =[1]Pesées!B259 -> 30 | BA22: =[1]Pesées!E259 -> 29.3 | BB22: =[1]Pesées!H259 -> A1616 | BC22: 43203 | BF22: =BF21+BE22-BD22 -> 0 | BJ22: =BJ21+BH22-BI22 -> 0 | BM22: =BM21+BK22-BL22 -> 0 | BN22: =(BN21-AV22-AL22-AB22-BV22-CF22-CZ22-DT22)+BG22+BH22-BI22+BL22 -> 0 | BO22: =BN22+AU22+AK22+AA22+BW22+CG22+CQ22+DK22+DA22+DU22 -> 51000 | BQ22: =[1]Pesées!F259 -> 39.3 | BR22: =[1]Pesées!C259 -> 40 | BS22: 0 | BT22: =BR22*BS22 -> 0 | BW22: =BW21-BT22+BU22+BV22 -> 25500 | BZ22: =[1]Pesées!I259 -> 0 | CA22: =[1]Pesées!F259 -> 39.3 | CB22: =[1]Pesées!C259 -> 40 | CC22: 0 | CD22: =CB22*CC22 -> 0 | CG22: =CG21-CD22+CE22+CF22 -> 0 | CJ22: =[1]Pesées!I259 -> 0 | CK22: =[1]Pesées!F259 -> 39.3 | CL22: =[1]Pesées!C259 -> 40 | CM22: 0 | CN22: =+CL22*CM22 -> 0 | CQ22: =CQ21-CN22+CO22+CP22 -> 0 | CT22: =[1]Pesées!J259 -> C25 | CU22: =[1]Pesées!G259 -> 32.9 | CV22: =[1]Pesées!D259 -> 32 | CW22: 0 | CX22: =CV22*CW22 -> 0 | DA22: =DA21-CX22+CY22+CZ22 -> 0 | DD22: =[1]Pesées!J259 -> C25 | DE22: =[1]Pesées!G259 -> 32.9 | DF22: =[1]Pesées!D259 -> 32 | DG22: 0 | DH22: =DF22*DG22 -> 0 | DK22: =DK21-DH22+DI22+DJ22 -> 0 | DN22: =[1]Pesées!J259 -> C25 | DO22: =[1]Pesées!G259 -> 32.9 | DP22: =[1]Pesées!D259 -> 32 | DQ22: 0 | DR22: =DP22*DQ22 -> 0 | DU22: =DU21-DR22+DS22+DT22 -> 0
AA23: =AA22-AD23+AC23+AB23 -> 0 | AD23: =AF23*AE23 -> 0 | AE23: 0 | AF23: =[1]Pesées!B260 -> 30 | AG23: =[1]Pesées!E260 -> 29.3 | AH23: =[1]Pesées!H260 -> 0 | AK23: =AK22-AN23+AM23+AL23 -> 0 | AN23: =AP23*AO23 -> 0 | AO23: 0 | AP23: =[1]Pesées!B260 -> 30 | AQ23: =[1]Pesées!E260 -> 29.3 | AR23: =[1]Pesées!H260 -> 0 | AU23: =$AU22-$AX23+$AW23+$AV23 -> 25500 | AX23: =AZ23*AY23 -> 0 | AY23: 0 | AZ23: =[1]Pesées!B260 -> 30 | BA23: =[1]Pesées!E260 -> 29.3 | BB23: =[1]Pesées!H260 -> 0 | BC23: 43204 | BF23: =BF22+BE23-BD23 -> 0 | BJ23: =BJ22+BH23-BI23 -> 0 | BM23: =BM22+BK23-BL23 -> 0 | BN23: =(BN22-AV23-AL23-AB23-BV23-CF23-CZ23-DT23)+BG23+BH23-BI23+BL23 -> 0 | BO23: =BN23+AU23+AK23+AA23+BW23+CG23+CQ23+DK23+DA23+DU23 -> 51000 | BQ23: =[1]Pesées!F260 -> 39.3 | BR23: =[1]Pesées!C260 -> 39 | BS23: 0 | BT23: =BR23*BS23 -> 0 | BW23: =BW22-BT23+BU23+BV23 -> 25500 | BZ23: =[1]Pesées!I260 -> 0 | CA23: =[1]Pesées!F260 -> 39.3 | CB23: =[1]Pesées!C260 -> 39 | CC23: 0 | CD23: =CB23*CC23 -> 0 | CG23: =CG22-CD23+CE23+CF23 -> 0 | CJ23: =[1]Pesées!I260 -> 0 | CK23: =[1]Pesées!F260 -> 39.3 | CL23: =[1]Pesées!C260 -> 39 | CM23: 0 | CN23: =+CL23*CM23 -> 0 | CQ23: =CQ22-CN23+CO23+CP23 -> 0 | CT23: =[1]Pesées!J260 -> 0 | CU23: =[1]Pesées!G260 -> 32.9 | CV23: =[1]Pesées!D260 -> 33 | CW23: 0 | CX23: =CV23*CW23 -> 0 | DA23: =DA22-CX23+CY23+CZ23 -> 0 | DD23: =[1]Pesées!J260 -> 0 | DE23: =[1]Pesées!G260 -> 32.9 | DF23: =[1]Pesées!D260 -> 33 | DG23: 0 | DH23: =DF23*DG23 -> 0 | DK23: =DK22-DH23+DI23+DJ23 -> 0 | DN23: =[1]Pesées!J260 -> 0 | DO23: =[1]Pesées!G260 -> 32.9 | DP23: =[1]Pesées!D260 -> 33 | DQ23: 0 | DR23: =DP23*DQ23 -> 0 | DU23: =DU22-DR23+DS23+DT23 -> 0
AA24: =AA23-AD24+AC24+AB24 -> 0 | AD24: =AF24*AE24 -> 0 | AE24: 0 | AF24: =[1]Pesées!B261 -> 30 | AG24: =[1]Pesées!E261 -> 29.3 | AH24: =[1]Pesées!H261 -> 0 | AK24: =AK23-AN24+AM24+AL24 -> 0 | AN24: =AP24*AO24 -> 0 | AO24: 0 | AP24: =[1]Pesées!B261 -> 30 | AQ24: =[1]Pesées!E261 -> 29.3 | AR24: =[1]Pesées!H261 -> 0 | AU24: =$AU23-$AX24+$AW24+$AV24 -> 25500 | AX24: =AZ24*AY24 -> 0 | AY24: 0 | AZ24: =[1]Pesées!B261 -> 30 | BA24: =[1]Pesées!E261 -> 29.3 | BB24: =[1]Pesées!H261 -> 0 | BC24: 43205 | BF24: =BF23+BE24-BD24 -> 0 | BJ24: =BJ23+BH24-BI24 -> 0 | BM24: =BM23+BK24-BL24 -> 0 | BN24: =(BN23-AV24-AL24-AB24-BV24-CF24-CZ24-DT24)+BG24+BH24-BI24+BL24 -> 0 | BO24: =BN24+AU24+AK24+AA24+BW24+CG24+CQ24+DK24+DA24+DU24 -> 51000 | BQ24: =[1]Pesées!F261 -> 39.3 | BR24: =[1]Pesées!C261 -> 38 | BS24: 0 | BT24: =BR24*BS24 -> 0 | BW24: =BW23-BT24+BU24+BV24 -> 25500 | BZ24: =[1]Pesées!I261 -> 0 | CA24: =[1]Pesées!F261 -> 39.3 | CB24: =[1]Pesées!C261 -> 38 | CC24: 0 | CD24: =CB24*CC24 -> 0 | CG24: =CG23-CD24+CE24+CF24 -> 0 | CJ24: =[1]Pesées!I261 -> 0 | CK24: =[1]Pesées!F261 -> 39.3 | CL24: =[1]Pesées!C261 -> 38 | CM24: 0 | CN24: =+CL24*CM24 -> 0 | CQ24: =CQ23-CN24+CO24+CP24 -> 0 | CT24: =[1]Pesées!J261 -> 0 | CU24: =[1]Pesées!G261 -> 32.9 | CV24: =[1]Pesées!D261 -> 32 | CW24: 0 | CX24: =CV24*CW24 -> 0 | DA24: =DA23-CX24+CY24+CZ24 -> 0 | DD24: =[1]Pesées!J261 -> 0 | DE24: =[1]Pesées!G261 -> 32.9 | DF24: =[1]Pesées!D261 -> 32 | DG24: 0 | DH24: =DF24*DG24 -> 0 | DK24: =DK23-DH24+DI24+DJ24 -> 0 | DN24: =[1]Pesées!J261 -> 0 | DO24: =[1]Pesées!G261 -> 32.9 | DP24: =[1]Pesées!D261 -> 32 | DQ24: 0 | DR24: =DP24*DQ24 -> 0 | DU24: =DU23-DR24+DS24+DT24 -> 0
AA25: =AA24-AD25+AC25+AB25 -> 0 | AD25: =AF25*AE25 -> 0 | AE25: 0 | AF25: =[1]Pesées!B262 -> 31 | AG25: =[1]Pesées!E262 -> 29.3 | AH25: =[1]Pesées!H262 -> A1617 | AK25: =AK24-AN25+AM25+AL25 -> 0 | AN25: =AP25*AO25 -> 0 | AO25: 0 | AP25: =[1]Pesées!B262 -> 31 | AQ25: =[1]Pesées!E262 -> 29.3 | AR25: =[1]Pesées!H262 -> A1617 | AU25: =$AU24-$AX25+$AW25+$AV25 -> 25500 | AX25: =AZ25*AY25 -> 0 | AY25: 0 | AZ25: =[1]Pesées!B262 -> 31 | BA25: =[1]Pesées!E262 -> 29.3 | BB25: =[1]Pesées!H262 -> A1617 | BC25: 43206 | BF25: =BF24+BE25-BD25 -> 0 | BJ25: =BJ24+BH25-BI25 -> 0 | BM25: =BM24+BK25-BL25 -> 0 | BN25: =(BN24-AV25-AL25-AB25-BV25-CF25-CZ25-DT25)+BG25+BH25-BI25+BL25 -> 0 | BO25: =BN25+AU25+AK25+AA25+BW25+CG25+CQ25+DK25+DA25+DU25 -> 51000 | BQ25: =[1]Pesées!F262 -> 39.3 | BR25: =[1]Pesées!C262 -> 40 | BS25: 0 | BT25: =BR25*BS25 -> 0 | BW25: =BW24-BT25+BU25+BV25 -> 25500 | BZ25: =[1]Pesées!I262 -> 0 | CA25: =[1]Pesées!F262 -> 39.3 | CB25: =[1]Pesées!C262 -> 40 | CC25: 0 | CD25: =CB25*CC25 -> 0 | CG25: =CG24-CD25+CE25+CF25 -> 0 | CJ25: =[1]Pesées!I262 -> 0 | CK25: =[1]Pesées!F262 -> 39.3 | CL25: =[1]Pesées!C262 -> 40 | CM25: 0 | CN25: =+CL25*CM25 -> 0 | CQ25: =CQ24-CN25+CO25+CP25 -> 0 | CT25: =[1]Pesées!J262 -> 0 | CU25: =[1]Pesées!G262 -> 32.9 | CV25: =[1]Pesées!D262 -> 33 | CW25: 0 | CX25: =CV25*CW25 -> 0 | DA25: =DA24-CX25+CY25+CZ25 -> 0 | DD25: =[1]Pesées!J262 -> 0 | DE25: =[1]Pesées!G262 -> 32.9 | DF25: =[1]Pesées!D262 -> 33 | DG25: 0 | DH25: =DF25*DG25 -> 0 | DK25: =DK24-DH25+DI25+DJ25 -> 0 | DN25: =[1]Pesées!J262 -> 0 | DO25: =[1]Pesées!G262 -> 32.9 | DP25: =[1]Pesées!D262 -> 33 | DQ25: 0 | DR25: =DP25*DQ25 -> 0 | DU25: =DU24-DR25+DS25+DT25 -> 0
AA26: =AA25-AD26+AC26+AB26 -> 0 | AD26: =AF26*AE26 -> 0 | AE26: 0 | AF26: =[1]Pesées!B263 -> 30 | AG26: =[1]Pesées!E263 -> 29.3 | AH26: =[1]Pesées!H263 -> A1618 | AK26: =AK25-AN26+AM26+AL26 -> 0 | AN26: =AP26*AO26 -> 0 | AO26: 0 | AP26: =[1]Pesées!B263 -> 30 | AQ26: =[1]Pesées!E263 -> 29.3 | AR26: =[1]Pesées!H263 -> A1618 | AU26: =$AU25-$AX26+$AW26+$AV26 -> 25500 | AX26: =AZ26*AY26 -> 0 | AY26: 0 | AZ26: =[1]Pesées!B263 -> 30 | BA26: =[1]Pesées!E263 -> 29.3 | BB26: =[1]Pesées!H263 -> A1618 | BC26: 43207 | BF26: =BF25+BE26-BD26 -> 0 | BJ26: =BJ25+BH26-BI26 -> 0 | BM26: =BM25+BK26-BL26 -> 0 | BN26: =(BN25-AV26-AL26-AB26-BV26-CF26-CZ26-DT26)+BG26+BH26-BI26+BL26 -> 0 | BO26: =BN26+AU26+AK26+AA26+BW26+CG26+CQ26+DK26+DA26+DU26 -> 51000 | BQ26: =[1]Pesées!F263 -> 39.3 | BR26: =[1]Pesées!C263 -> 40 | BS26: 0 | BT26: =BR26*BS26 -> 0 | BW26: =BW25-BT26+BU26+BV26 -> 25500 | BZ26: =[1]Pesées!I263 -> 0 | CA26: =[1]Pesées!F263 -> 39.3 | CB26: =[1]Pesées!C263 -> 40 | CC26: 0 | CD26: =CB26*CC26 -> 0 | CG26: =CG25-CD26+CE26+CF26 -> 0 | CJ26: =[1]Pesées!I263 -> 0 | CK26: =[1]Pesées!F263 -> 39.3 | CL26: =[1]Pesées!C263 -> 40 | CM26: 0 | CN26: =+CL26*CM26 -> 0 | CQ26: =CQ25-CN26+CO26+CP26 -> 0 | CT26: =[1]Pesées!J263 -> 0 | CU26: =[1]Pesées!G263 -> 32.9 | CV26: =[1]Pesées!D263 -> 32 | CW26: 0 | CX26: =CV26*CW26 -> 0 | DA26: =DA25-CX26+CY26+CZ26 -> 0 | DD26: =[1]Pesées!J263 -> 0 | DE26: =[1]Pesées!G263 -> 32.9 | DF26: =[1]Pesées!D263 -> 32 | DG26: 0 | DH26: =DF26*DG26 -> 0 | DK26: =DK25-DH26+DI26+DJ26 -> 0 | DN26: =[1]Pesées!J263 -> 0 | DO26: =[1]Pesées!G263 -> 32.9 | DP26: =[1]Pesées!D263 -> 32 | DQ26: 0 | DR26: =DP26*DQ26 -> 0 | DU26: =DU25-DR26+DS26+DT26 -> 0
... AA28: =AA27-AD28+AC28+AB28 -> 0 | AD28: =AF28*AE28 -> 0 | AE28: 0 | AF28: =[1]Pesées!B265 -> 31 | AG28: =[1]Pesées!E265 -> 29.3 | AH28: =[1]Pesées!H265 -> 0 | AK28: =AK27-AN28+AM28+AL28 -> 0 | AN28: =AP28*AO28 -> 0 | AO28: 0 | AP28: =[1]Pesées!B265 -> 31 | AQ28: =[1]Pesées!E265 -> 29.3 | AR28: =[1]Pesées!H265 -> 0 | AU28: =$AU27-$AX28+$AW28+$AV28 -> 25500 | AX28: =AZ28*AY28 -> 0 | AY28: 0 | AZ28: =[1]Pesées!B265 -> 31 | BA28: =[1]Pesées!E265 -> 29.3 | BB28: =[1]Pesées!H265 -> 0 | BC28: 43209 | BF28: =BF27+BE28-BD28 -> 0 | BJ28: =BJ27+BH28-BI28 -> 0 | BM28: =BM27+BK28-BL28 -> 0 | BN28: =(BN27-AV28-AL28-AB28-BV28-CF28-CZ28-DT28)+BG28+BH28-BI28+BL28 -> 0 | BO28: =BN28+AU28+AK28+AA28+BW28+CG28+CQ28+DK28+DA28+DU28 -> 51000 | BQ28: =[1]Pesées!F265 -> 39.3 | BR28: =[1]Pesées!C265 -> 39 | BS28: 0 | BT28: =BR28*BS28 -> 0 | BW28: =BW27-BT28+BU28+BV28 -> 25500 | BZ28: =[1]Pesées!I265 -> 0 | CA28: =[1]Pesées!F265 -> 39.3 | CB28: =[1]Pesées!C265 -> 39 | CC28: 0 | CD28: =CB28*CC28 -> 0 | CG28: =CG27-CD28+CE28+CF28 -> 0 | CJ28: =[1]Pesées!I265 -> 0 | CK28: =[1]Pesées!F265 -> 39.3 | CL28: =[1]Pesées!C265 -> 39 | CM28: 0 | CN28: =+CL28*CM28 -> 0 | CQ28: =CQ27-CN28+CO28+CP28 -> 0 | CT28: =[1]Pesées!J265 -> 0 | CU28: =[1]Pesées!G265 -> 32.9 | CV28: =[1]Pesées!D265 -> 33 | CW28: 0 | CX28: =CV28*CW28 -> 0 | DA28: =DA27-CX28+CY28+CZ28 -> 0 | DD28: =[1]Pesées!J265 -> 0 | DE28: =[1]Pesées!G265 -> 32.9 | DF28: =[1]Pesées!D265 -> 33 | DG28: 0 | DH28: =DF28*DG28 -> 0 | DK28: =DK27-DH28+DI28+DJ28 -> 0 | DN28: =[1]Pesées!J265 -> 0 | DO28: =[1]Pesées!G265 -> 32.9 | DP28: =[1]Pesées!D265 -> 33 | DQ28: 0 | DR28: =DP28*DQ28 -> 0 | DU28: =DU27-DR28+DS28+DT28 -> 0
AA29: =AA28-AD29+AC29+AB29 -> 0 | AD29: =AF29*AE29 -> 0 | AE29: 0 | AF29: =[1]Pesées!B266 -> 31 | AG29: =[1]Pesées!E266 -> 30.6 | AH29: =[1]Pesées!H266 -> A1619 | AK29: =AK28-AN29+AM29+AL29 -> 0 | AN29: =AP29*AO29 -> 0 | AO29: 0 | AP29: =[1]Pesées!B266 -> 31 | AQ29: =[1]Pesées!E266 -> 30.6 | AR29: =[1]Pesées!H266 -> A1619 | AU29: =$AU28-$AX29+$AW29+$AV29 -> 25500 | AX29: =AZ29*AY29 -> 0 | AY29: 0 | AZ29: =[1]Pesées!B266 -> 31 | BA29: =[1]Pesées!E266 -> 30.6 | BB29: =[1]Pesées!H266 -> A1619 | BC29: 43210 | BF29: =BF28+BE29-BD29 -> 0 | BJ29: =BJ28+BH29-BI29 -> 0 | BM29: =BM28+BK29-BL29 -> 0 | BN29: =(BN28-AV29-AL29-AB29-BV29-CF29-CZ29-DT29)+BG29+BH29-BI29+BL29 -> 0 | BO29: =BN29+AU29+AK29+AA29+BW29+CG29+CQ29+DK29+DA29+DU29 -> 51000 | BP29: =[1]Pesées!I266 -> B953 | BQ29: =[1]Pesées!F266 -> 39.3 | BR29: =[1]Pesées!C266 -> 40 | BS29: 0 | BT29: =BR29*BS29 -> 0 | BW29: =BW28-BT29+BU29+BV29 -> 25500 | BZ29: =[1]Pesées!I266 -> B953 | CA29: =[1]Pesées!F266 -> 39.3 | CB29: =[1]Pesées!C266 -> 40 | CC29: 0 | CD29: =CB29*CC29 -> 0 | CG29: =CG28-CD29+CE29+CF29 -> 0 | CJ29: =[1]Pesées!I266 -> B953 | CK29: =[1]Pesées!F266 -> 39.3 | CL29: =[1]Pesées!C266 -> 40 | CM29: 0 | CN29: =+CL29*CM29 -> 0 | CQ29: =CQ28-CN29+CO29+CP29 -> 0 | CT29: =[1]Pesées!J266 -> C26 | CU29: =[1]Pesées!G266 -> 32.9 | CV29: =[1]Pesées!D266 -> 31 | CW29: 0 | CX29: =CV29*CW29 -> 0 | DA29: =DA28-CX29+CY29+CZ29 -> 0 | DD29: =[1]Pesées!J266 -> C26 | DE29: =[1]Pesées!G266 -> 32.9 | DF29: =[1]Pesées!D266 -> 31 | DG29: 0 | DH29: =DF29*DG29 -> 0 | DK29: =DK28-DH29+DI29+DJ29 -> 0 | DN29: =[1]Pesées!J266 -> C26 | DO29: =[1]Pesées!G266 -> 32.9 | DP29: =[1]Pesées!D266 -> 31 | DQ29: 0 | DR29: =DP29*DQ29 -> 0 | DU29: =DU28-DR29+DS29+DT29 -> 0
AA30: =AA29-AD30+AC30+AB30 -> 0 | AD30: =AF30*AE30 -> 0 | AE30: 0 | AF30: =[1]Pesées!B267 -> 29 | AG30: =[1]Pesées!E267 -> 30.6 | AH30: =[1]Pesées!H267 -> 0 | AK30: =AK29-AN30+AM30+AL30 -> 0 | AN30: =AP30*AO30 -> 0 | AO30: 0 | AP30: =[1]Pesées!B267 -> 29 | AQ30: =[1]Pesées!E267 -> 30.6 | AR30: =[1]Pesées!H267 -> 0 | AU30: =$AU29-$AX30+$AW30+$AV30 -> 25500 | AX30: =AZ30*AY30 -> 0 | AY30: 0 | AZ30: =[1]Pesées!B267 -> 29 | BA30: =[1]Pesées!E267 -> 30.6 | BB30: =[1]Pesées!H267 -> 0 | BC30: 43211 | BF30: =BF29+BE30-BD30 -> 0 | BJ30: =BJ29+BH30-BI30 -> 0 | BM30: =BM29+BK30-BL30 -> 0 | BN30: =(BN29-AV30-AL30-AB30-BV30-CF30-CZ30-DT30)+BG30+BH30-BI30+BL30 -> 0 | BO30: =BN30+AU30+AK30+AA30+BW30+CG30+CQ30+DK30+DA30+DU30 -> 51000 | BQ30: =[1]Pesées!F267 -> 39.3 | BR30: =[1]Pesées!C267 -> 40 | BS30: 0 | BT30: =BR30*BS30 -> 0 | BW30: =BW29-BT30+BU30+BV30 -> 25500 | BZ30: =[1]Pesées!I267 -> 0 | CA30: =[1]Pesées!F267 -> 39.3 | CB30: =[1]Pesées!C267 -> 40 | CC30: 0 | CD30: =CB30*CC30 -> 0 | CG30: =CG29-CD30+CE30+CF30 -> 0 | CJ30: =[1]Pesées!I267 -> 0 | CK30: =[1]Pesées!F267 -> 39.3 | CL30: =[1]Pesées!C267 -> 40 | CM30: 0 | CN30: =+CL30*CM30 -> 0 | CQ30: =CQ29-CN30+CO30+CP30 -> 0 | CT30: =[1]Pesées!J267 -> 0 | CU30: =[1]Pesées!G267 -> 32.9 | CV30: =[1]Pesées!D267 -> 33 | CW30: 0 | CX30: =CV30*CW30 -> 0 | DA30: =DA29-CX30+CY30+CZ30 -> 0 | DD30: =[1]Pesées!J267 -> 0 | DE30: =[1]Pesées!G267 -> 32.9 | DF30: =[1]Pesées!D267 -> 33 | DG30: 0 | DH30: =DF30*DG30 -> 0 | DK30: =DK29-DH30+DI30+DJ30 -> 0 | DN30: =[1]Pesées!J267 -> 0 | DO30: =[1]Pesées!G267 -> 32.9 | DP30: =[1]Pesées!D267 -> 33 | DQ30: 0 | DR30: =DP30*DQ30 -> 0 | DU30: =DU29-DR30+DS30+DT30 -> 0
AA31: =AA30-AD31+AC31+AB31 -> 0 | AD31: =AF31*AE31 -> 0 | AE31: 0 | AF31: =[1]Pesées!B268 -> 30 | AG31: =[1]Pesées!E268 -> 30.6 | AH31: =[1]Pesées!H268 -> 0 | AK31: =AK30-AN31+AM31+AL31 -> 0 | AN31: =AP31*AO31 -> 0 | AO31: 0 | AP31: =[1]Pesées!B268 -> 30 | AQ31: =[1]Pesées!E268 -> 30.6 | AR31: =[1]Pesées!H268 -> 0 | AU31: =$AU30-$AX31+$AW31+$AV31 -> 25500 | AX31: =AZ31*AY31 -> 0 | AY31: 0 | AZ31: =[1]Pesées!B268 -> 30 | BA31: =[1]Pesées!E268 -> 30.6 | BB31: =[1]Pesées!H268 -> 0 | BC31: 43212 | BF31: =BF30+BE31-BD31 -> 0 | BJ31: =BJ30+BH31-BI31 -> 0 | BM31: =BM30+BK31-BL31 -> 0 | BN31: =(BN30-AV31-AL31-AB31-BV31-CF31-CZ31-DT31)+BG31+BH31-BI31+BL31 -> 0 | BO31: =BN31+AU31+AK31+AA31+BW31+CG31+CQ31+DK31+DA31+DU31 -> 51000 | BQ31: =[1]Pesées!F268 -> 39.3 | BR31: =[1]Pesées!C268 -> 40 | BS31: 0 | BT31: =BR31*BS31 -> 0 | BW31: =BW30-BT31+BU31+BV31 -> 25500 | BZ31: =[1]Pesées!I268 -> 0 | CA31: =[1]Pesées!F268 -> 39.3 | CB31: =[1]Pesées!C268 -> 40 | CC31: 0 | CD31: =CB31*CC31 -> 0 | CG31: =CG30-CD31+CE31+CF31 -> 0 | CJ31: =[1]Pesées!I268 -> 0 | CK31: =[1]Pesées!F268 -> 39.3 | CL31: =[1]Pesées!C268 -> 40 | CM31: 0 | CN31: =+CL31*CM31 -> 0 | CQ31: =CQ30-CN31+CO31+CP31 -> 0 | CT31: =[1]Pesées!J268 -> 0 | CU31: =[1]Pesées!G268 -> 32.9 | CV31: =[1]Pesées!D268 -> 32 | CW31: 0 | CX31: =CV31*CW31 -> 0 | DA31: =DA30-CX31+CY31+CZ31 -> 0 | DD31: =[1]Pesées!J268 -> 0 | DE31: =[1]Pesées!G268 -> 32.9 | DF31: =[1]Pesées!D268 -> 32 | DG31: 0 | DH31: =DF31*DG31 -> 0 | DK31: =DK30-DH31+DI31+DJ31 -> 0 | DN31: =[1]Pesées!J268 -> 0 | DO31: =[1]Pesées!G268 -> 32.9 | DP31: =[1]Pesées!D268 -> 32 | DQ31: 0 | DR31: =DP31*DQ31 -> 0 | DU31: =DU30-DR31+DS31+DT31 -> 0
AA32: =AA31-AD32+AC32+AB32 -> 0 | AD32: =AF32*AE32 -> 0 | AE32: 0 | AF32: =[1]Pesées!B269 -> 31 | AG32: =[1]Pesées!E269 -> 30.6 | AH32: =[1]Pesées!H269 -> 0 | AK32: =AK31-AN32+AM32+AL32 -> 0 | AN32: =AP32*AO32 -> 0 | AO32: 0 | AP32: =[1]Pesées!B269 -> 31 | AQ32: =[1]Pesées!E269 -> 30.6 | AR32: =[1]Pesées!H269 -> 0 | AU32: =$AU31-$AX32+$AW32+$AV32 -> 25500 | AX32: =AZ32*AY32 -> 0 | AY32: 0 | AZ32: =[1]Pesées!B269 -> 31 | BA32: =[1]Pesées!E269 -> 30.6 | BB32: =[1]Pesées!H269 -> 0 | BC32: 43213 | BF32: =BF31+BE32-BD32 -> 0 | BJ32: =BJ31+BH32-BI32 -> 0 | BM32: =BM31+BK32-BL32 -> 0 | BN32: =(BN31-AV32-AL32-AB32-BV32-CF32-CZ32-DT32)+BG32+BH32-BI32+BL32 -> 0 | BO32: =BN32+AU32+AK32+AA32+BW32+CG32+CQ32+DK32+DA32+DU32 -> 51000 | BQ32: =[1]Pesées!F269 -> 39.3 | BR32: =[1]Pesées!C269 -> 38 | BS32: 0 | BT32: =BR32*BS32 -> 0 | BW32: =BW31-BT32+BU32+BV32 -> 25500 | BZ32: =[1]Pesées!I269 -> 0 | CA32: =[1]Pesées!F269 -> 39.3 | CB32: =[1]Pesées!C269 -> 38 | CC32: 0 | CD32: =CB32*CC32 -> 0 | CG32: =CG31-CD32+CE32+CF32 -> 0 | CJ32: =[1]Pesées!I269 -> 0 | CK32: =[1]Pesées!F269 -> 39.3 | CL32: =[1]Pesées!C269 -> 38 | CM32: 0 | CN32: =+CL32*CM32 -> 0 | CQ32: =CQ31-CN32+CO32+CP32 -> 0 | CT32: =[1]Pesées!J269 -> 0 | CU32: =[1]Pesées!G269 -> 32.9 | CV32: =[1]Pesées!D269 -> 32 | CW32: 0 | CX32: =CV32*CW32 -> 0 | DA32: =DA31-CX32+CY32+CZ32 -> 0 | DD32: =[1]Pesées!J269 -> 0 | DE32: =[1]Pesées!G269 -> 32.9 | DF32: =[1]Pesées!D269 -> 32 | DG32: 0 | DH32: =DF32*DG32 -> 0 | DK32: =DK31-DH32+DI32+DJ32 -> 0 | DN32: =[1]Pesées!J269 -> 0 | DO32: =[1]Pesées!G269 -> 32.9 | DP32: =[1]Pesées!D269 -> 32 | DQ32: 0 | DR32: =DP32*DQ32 -> 0 | DU32: =DU31-DR32+DS32+DT32 -> 0
AA33: =AA32-AD33+AC33+AB33 -> 0 | AD33: =AF33*AE33 -> 0 | AE33: 0 | AF33: =[1]Pesées!B270 -> 30 | AG33: =[1]Pesées!E270 -> 30.6 | AH33: =[1]Pesées!H270 -> A1620/21 | AK33: =AK32-AN33+AM33+AL33 -> 0 | AN33: =AP33*AO33 -> 0 | AO33: 0 | AP33: =[1]Pesées!B270 -> 30 | AQ33: =[1]Pesées!E270 -> 30.6 | AR33: =[1]Pesées!H270 -> A1620/21 | AU33: =$AU32-$AX33+$AW33+$AV33 -> 25500 | AX33: =AZ33*AY33 -> 0 | AY33: 0 | AZ33: =[1]Pesées!B270 -> 30 | BA33: =[1]Pesées!E270 -> 30.6 | BB33: =[1]Pesées!H270 -> A1620/21 | BC33: 43214 | BF33: =BF32+BE33-BD33 -> 0 | BJ33: =BJ32+BH33-BI33 -> 0 | BM33: =BM32+BK33-BL33 -> 0 | BN33: =(BN32-AV33-AL33-AB33-BV33-CF33-CZ33-DT33)+BG33+BH33-BI33+BL33 -> 0 | BO33: =BN33+AU33+AK33+AA33+BW33+CG33+CQ33+DK33+DA33+DU33 -> 51000 | BQ33: =[1]Pesées!F270 -> 39.3 | BR33: =[1]Pesées!C270 -> 39 | BS33: 0 | BT33: =BR33*BS33 -> 0 | BW33: =BW32-BT33+BU33+BV33 -> 25500 | BZ33: =[1]Pesées!I270 -> 0 | CA33: =[1]Pesées!F270 -> 39.3 | CB33: =[1]Pesées!C270 -> 39 | CC33: 0 | CD33: =CB33*CC33 -> 0 | CG33: =CG32-CD33+CE33+CF33 -> 0 | CJ33: =[1]Pesées!I270 -> 0 | CK33: =[1]Pesées!F270 -> 39.3 | CL33: =[1]Pesées!C270 -> 39 | CM33: 0 | CN33: =+CL33*CM33 -> 0 | CQ33: =CQ32-CN33+CO33+CP33 -> 0 | CT33: =[1]Pesées!J270 -> C27 | CU33: =[1]Pesées!G270 -> 33.3 | CV33: =[1]Pesées!D270 -> 33 | CW33: 0 | CX33: =CV33*CW33 -> 0 | DA33: =DA32-CX33+CY33+CZ33 -> 0 | DD33: =[1]Pesées!J270 -> C27 | DE33: =[1]Pesées!G270 -> 33.3 | DF33: =[1]Pesées!D270 -> 33 | DG33: 0 | DH33: =DF33*DG33 -> 0 | DK33: =DK32-DH33+DI33+DJ33 -> 0 | DN33: =[1]Pesées!J270 -> C27 | DO33: =[1]Pesées!G270 -> 33.3 | DP33: =[1]Pesées!D270 -> 33 | DQ33: 0 | DR33: =DP33*DQ33 -> 0 | DU33: =DU32-DR33+DS33+DT33 -> 0
AA34: =AA33-AD34+AC34+AB34 -> 0 | AD34: =AF34*AE34 -> 0 | AE34: 0 | AF34: =[1]Pesées!B271 -> 30 | AG34: =[1]Pesées!E271 -> 30.6 | AH34: =[1]Pesées!H271 -> 0 | AK34: =AK33-AN34+AM34+AL34 -> 0 | AN34: =AP34*AO34 -> 0 | AO34: 0 | AP34: =[1]Pesées!B271 -> 30 | AQ34: =[1]Pesées!E271 -> 30.6 | AR34: =[1]Pesées!H271 -> 0 | AU34: =$AU33-$AX34+$AW34+$AV34 -> 25500 | AX34: =AZ34*AY34 -> 0 | AY34: 0 | AZ34: =[1]Pesées!B271 -> 30 | BA34: =[1]Pesées!E271 -> 30.6 | BB34: =[1]Pesées!H271 -> 0 | BC34: 43215 | BF34: =BF33+BE34-BD34 -> 0 | BJ34: =BJ33+BH34-BI34 -> 0 | BM34: =BM33+BK34-BL34 -> 0 | BN34: =(BN33-AV34-AL34-AB34-BV34-CF34-CZ34-DT34)+BG34+BH34-BI34+BL34 -> 0 | BO34: =BN34+AU34+AK34+AA34+BW34+CG34+CQ34+DK34+DA34+DU34 -> 51000 | BQ34: =[1]Pesées!F271 -> 39.3 | BR34: =[1]Pesées!C271 -> 40 | BS34: 0 | BT34: =BR34*BS34 -> 0 | BW34: =BW33-BT34+BU34+BV34 -> 25500 | BZ34: =[1]Pesées!I271 -> 0 | CA34: =[1]Pesées!F271 -> 39.3 | CB34: =[1]Pesées!C271 -> 40 | CC34: 0 | CD34: =CB34*CC34 -> 0 | CG34: =CG33-CD34+CE34+CF34 -> 0 | CJ34: =[1]Pesées!I271 -> 0 | CK34: =[1]Pesées!F271 -> 39.3 | CL34: =[1]Pesées!C271 -> 40 | CM34: 0 | CN34: =+CL34*CM34 -> 0 | CQ34: =CQ33-CN34+CO34+CP34 -> 0 | CT34: =[1]Pesées!J271 -> 0 | CU34: =[1]Pesées!G271 -> 33.3 | CV34: =[1]Pesées!D271 -> 32 | CW34: 0 | CX34: =CV34*CW34 -> 0 | DA34: =DA33-CX34+CY34+CZ34 -> 0 | DD34: =[1]Pesées!J271 -> 0 | DE34: =[1]Pesées!G271 -> 33.3 | DF34: =[1]Pesées!D271 -> 32 | DG34: 0 | DH34: =DF34*DG34 -> 0 | DK34: =DK33-DH34+DI34+DJ34 -> 0 | DN34: =[1]Pesées!J271 -> 0 | DO34: =[1]Pesées!G271 -> 33.3 | DP34: =[1]Pesées!D271 -> 32 | DQ34: 0 | DR34: =DP34*DQ34 -> 0 | DU34: =DU33-DR34+DS34+DT34 -> 0
AA35: =AA34-AD35+AC35+AB35 -> 0 | AD35: =AF35*AE35 -> 0 | AE35: 0 | AF35: =[1]Pesées!B272 -> 32 | AG35: =[1]Pesées!E272 -> 30 | AH35: =[1]Pesées!H272 -> A1622 | AK35: =AK34-AN35+AM35+AL35 -> 0 | AN35: =AP35*AO35 -> 0 | AO35: 0 | AP35: =[1]Pesées!B272 -> 32 | AQ35: =[1]Pesées!E272 -> 30 | AR35: =[1]Pesées!H272 -> A1622 | AU35: =$AU34-$AX35+$AW35+$AV35 -> 25500 | AX35: =AZ35*AY35 -> 0 | AY35: 0 | AZ35: =[1]Pesées!B272 -> 32 | BA35: =[1]Pesées!E272 -> 30 | BB35: =[1]Pesées!H272 -> A1622 | BC35: 43216 | BF35: =BF34+BE35-BD35 -> 0 | BJ35: =BJ34+BH35-BI35 -> 0 | BM35: =BM34+BK35-BL35 -> 0 | BN35: =(BN34-AV35-AL35-AB35-BV35-CF35-CZ35-DT35)+BG35+BH35-BI35+BL35 -> 0 | BO35: =BN35+AU35+AK35+AA35+BW35+CG35+CQ35+DK35+DA35+DU35 -> 51000 | BQ35: =[1]Pesées!F272 -> 39.3 | BR35: =[1]Pesées!C272 -> 38 | BS35: 0 | BT35: =BR35*BS35 -> 0 | BW35: =BW34-BT35+BU35+BV35 -> 25500 | BZ35: =[1]Pesées!I272 -> 0 | CA35: =[1]Pesées!F272 -> 39.3 | CB35: =[1]Pesées!C272 -> 38 | CC35: 0 | CD35: =CB35*CC35 -> 0 | CG35: =CG34-CD35+CE35+CF35 -> 0 | CJ35: =[1]Pesées!I272 -> 0 | CK35: =[1]Pesées!F272 -> 39.3 | CL35: =[1]Pesées!C272 -> 38 | CM35: 0 | CN35: =+CL35*CM35 -> 0 | CQ35: =CQ34-CN35+CO35+CP35 -> 0 | CT35: =[1]Pesées!J272 -> 0 | CU35: =[1]Pesées!G272 -> 33.3 | CV35: =[1]Pesées!D272 -> 33 | CW35: 0 | CX35: =CV35*CW35 -> 0 | DA35: =DA34-CX35+CY35+CZ35 -> 0 | DD35: =[1]Pesées!J272 -> 0 | DE35: =[1]Pesées!G272 -> 33.3 | DF35: =[1]Pesées!D272 -> 33 | DG35: 0 | DH35: =DF35*DG35 -> 0 | DK35: =DK34-DH35+DI35+DJ35 -> 0 | DN35: =[1]Pesées!J272 -> 0 | DO35: =[1]Pesées!G272 -> 33.3 | DP35: =[1]Pesées!D272 -> 33 | DQ35: 0 | DR35: =DP35*DQ35 -> 0 | DU35: =DU34-DR35+DS35+DT35 -> 0
AA36: =AA35-AD36+AC36+AB36 -> 0 | AD36: =AF36*AE36 -> 0 | AE36: 0 | AF36: =[1]Pesées!B273 -> 31 | AG36: =[1]Pesées!E273 -> 30 | AH36: =[1]Pesées!H273 -> 0 | AK36: =AK35-AN36+AM36+AL36 -> 0 | AN36: =AP36*AO36 -> 0 | AO36: 0 | AP36: =[1]Pesées!B273 -> 31 | AQ36: =[1]Pesées!E273 -> 30 | AR36: =[1]Pesées!H273 -> 0 | AU36: =$AU35-$AX36+$AW36+$AV36 -> 25500 | AX36: =AZ36*AY36 -> 0 | AY36: 0 | AZ36: =[1]Pesées!B273 -> 31 | BA36: =[1]Pesées!E273 -> 30 | BB36: =[1]Pesées!H273 -> 0 | BC36: 43217 | BF36: =BF35+BE36-BD36 -> 0 | BJ36: =BJ35+BH36-BI36 -> 0 | BM36: =BM35+BK36-BL36 -> 0 | BN36: =(BN35-AV36-AL36-AB36-BV36-CF36-CZ36-DT36)+BG36+BH36-BI36+BL36 -> 0 | BO36: =BN36+AU36+AK36+AA36+BW36+CG36+CQ36+DK36+DA36+DU36 -> 51000 | BP36: =[1]Pesées!I273 -> B954 | BQ36: =[1]Pesées!F273 -> 39.3 | BR36: =[1]Pesées!C273 -> 40 | BS36: 0 | BT36: =BR36*BS36 -> 0 | BW36: =BW35-BT36+BU36+BV36 -> 25500 | BZ36: =[1]Pesées!I273 -> B954 | CA36: =[1]Pesées!F273 -> 39.3 | CB36: =[1]Pesées!C273 -> 40 | CC36: 0 | CD36: =CB36*CC36 -> 0 | CG36: =CG35-CD36+CE36+CF36 -> 0 | CJ36: =[1]Pesées!I273 -> B954 | CK36: =[1]Pesées!F273 -> 39.3 | CL36: =[1]Pesées!C273 -> 40 | CM36: 0 | CN36: =+CL36*CM36 -> 0 | CQ36: =CQ35-CN36+CO36+CP36 -> 0 | CT36: =[1]Pesées!J273 -> C28 | CU36: =[1]Pesées!G273 -> 28.8 | CV36: =[1]Pesées!D273 -> 33 | CW36: 0 | CX36: =CV36*CW36 -> 0 | DA36: =DA35-CX36+CY36+CZ36 -> 0 | DD36: =[1]Pesées!J273 -> C28 | DE36: =[1]Pesées!G273 -> 28.8 | DF36: =[1]Pesées!D273 -> 33 | DG36: 0 | DH36: =DF36*DG36 -> 0 | DK36: =DK35-DH36+DI36+DJ36 -> 0 | DN36: =[1]Pesées!J273 -> C28 | DO36: =[1]Pesées!G273 -> 28.8 | DP36: =[1]Pesées!D273 -> 33 | DQ36: 0 | DR36: =DP36*DQ36 -> 0 | DU36: =DU35-DR36+DS36+DT36 -> 0
AA37: =AA36-AD37+AC37+AB37 -> 0 | AD37: =AF37*AE37 -> 0 | AE37: 0 | AF37: =[1]Pesées!B274 -> 31 | AG37: =[1]Pesées!E274 -> 30 | AH37: =[1]Pesées!H274 -> 0 | AK37: =AK36-AN37+AM37+AL37 -> 0 | AN37: =AP37*AO37 -> 0 | AO37: 0 | AP37: =[1]Pesées!B274 -> 31 | AQ37: =[1]Pesées!E274 -> 30 | AR37: =[1]Pesées!H274 -> 0 | AU37: =$AU36-$AX37+$AW37+$AV37 -> 25500 | AX37: =AZ37*AY37 -> 0 | AY37: 0 | AZ37: =[1]Pesées!B274 -> 31 | BA37: =[1]Pesées!E274 -> 30 | BB37: =[1]Pesées!H274 -> 0 | BC37: 43218 | BF37: =BF36+BE37-BD37 -> 0 | BJ37: =BJ36+BH37-BI37 -> 0 | BM37: =BM36+BK37-BL37 -> 0 | BN37: =(BN36-AV37-AL37-AB37-BV37-CF37-CZ37-DT37)+BG37+BH37-BI37+BL37 -> 0 | BO37: =BN37+AU37+AK37+AA37+BW37+CG37+CQ37+DK37+DA37+DU37 -> 51000 | BQ37: =[1]Pesées!F274 -> 39.3 | BR37: =[1]Pesées!C274 -> 39 | BS37: 0 | BT37: =BR37*BS37 -> 0 | BW37: =BW36-BT37+BU37+BV37 -> 25500 | BZ37: =[1]Pesées!I274 -> 0 | CA37: =[1]Pesées!F274 -> 39.3 | CB37: =[1]Pesées!C274 -> 39 | CC37: 0 | CD37: =CB37*CC37 -> 0 | CG37: =CG36-CD37+CE37+CF37 -> 0 | CJ37: =[1]Pesées!I274 -> 0 | CK37: =[1]Pesées!F274 -> 39.3 | CL37: =[1]Pesées!C274 -> 39 | CM37: 0 | CN37: =+CL37*CM37 -> 0 | CQ37: =CQ36-CN37+CO37+CP37 -> 0 | CT37: =[1]Pesées!J274 -> 0 | CU37: =[1]Pesées!G274 -> 28.8 | CV37: =[1]Pesées!D274 -> 30 | CW37: 0 | CX37: =CV37*CW37 -> 0 | DA37: =DA36-CX37+CY37+CZ37 -> 0 | DD37: =[1]Pesées!J274 -> 0 | DE37: =[1]Pesées!G274 -> 28.8 | DF37: =[1]Pesées!D274 -> 30 | DG37: 0 | DH37: =DF37*DG37 -> 0 | DK37: =DK36-DH37+DI37+DJ37 -> 0 | DN37: =[1]Pesées!J274 -> 0 | DO37: =[1]Pesées!G274 -> 28.8 | DP37: =[1]Pesées!D274 -> 30 | DQ37: 0 | DR37: =DP37*DQ37 -> 0 | DU37: =DU36-DR37+DS37+DT37 -> 0
AA38: =AA37-AD38+AC38+AB38 -> 0 | AD38: =AF38*AE38 -> 0 | AE38: 0 | AF38: =[1]Pesées!B275 -> 31 | AG38: =[1]Pesées!E275 -> 30 | AH38: =[1]Pesées!H275 -> 0 | AK38: =AK37-AN38+AM38+AL38 -> 0 | AN38: =AP38*AO38 -> 0 | AO38: 0 | AP38: =[1]Pesées!B275 -> 31 | AQ38: =[1]Pesées!E275 -> 30 | AR38: =[1]Pesées!H275 -> 0 | AU38: =$AU37-$AX38+$AW38+$AV38 -> 25500 | AX38: =AZ38*AY38 -> 0 | AY38: 0 | AZ38: =[1]Pesées!B275 -> 31 | BA38: =[1]Pesées!E275 -> 30 | BB38: =[1]Pesées!H275 -> 0 | BC38: 43219 | BF38: =BF37+BE38-BD38 -> 0 | BJ38: =BJ37+BH38-BI38 -> 0 | BM38: =BM37+BK38-BL38 -> 0 | BN38: =(BN37-AV38-AL38-AB38-BV38-CF38-CZ38-DT38)+BG38+BH38-BI38+BL38 -> 0 | BO38: =BN38+AU38+AK38+AA38+BW38+CG38+CQ38+DK38+DA38+DU38 -> 51000 | BQ38: =[1]Pesées!F275 -> 39.3 | BR38: =[1]Pesées!C275 -> 37 | BS38: 0 | BT38: =BR38*BS38 -> 0 | BW38: =BW37-BT38+BU38+BV38 -> 25500 | BZ38: =[1]Pesées!I275 -> 0 | CA38: =[1]Pesées!F275 -> 39.3 | CB38: =[1]Pesées!C275 -> 37 | CC38: 0 | CD38: =CB38*CC38 -> 0 | CG38: =CG37-CD38+CE38+CF38 -> 0 | CJ38: =[1]Pesées!I275 -> 0 | CK38: =[1]Pesées!F275 -> 39.3 | CL38: =[1]Pesées!C275 -> 37 | CM38: 0 | CN38: =+CL38*CM38 -> 0 | CQ38: =CQ37-CN38+CO38+CP38 -> 0 | CT38: =[1]Pesées!J275 -> 0 | CU38: =[1]Pesées!G275 -> 28.8 | CV38: =[1]Pesées!D275 -> 28 | CW38: 0 | CX38: =CV38*CW38 -> 0 | DA38: =DA37-CX38+CY38+CZ38 -> 0 | DD38: =[1]Pesées!J275 -> 0 | DE38: =[1]Pesées!G275 -> 28.8 | DF38: =[1]Pesées!D275 -> 28 | DG38: 0 | DH38: =DF38*DG38 -> 0 | DK38: =DK37-DH38+DI38+DJ38 -> 0 | DN38: =[1]Pesées!J275 -> 0 | DO38: =[1]Pesées!G275 -> 28.8 | DP38: =[1]Pesées!D275 -> 28 | DQ38: 0 | DR38: =DP38*DQ38 -> 0 | DU38: =DU37-DR38+DS38+DT38 -> 0
AA39: =AA38-AD39+AC39+AB39 -> 0 | AD39: =AF39*AE39 -> 0 | AE39: 0 | AF39: =[1]Pesées!B276 -> 30 | AG39: =[1]Pesées!E276 -> 30 | AH39: =[1]Pesées!H276 -> 0 | AK39: =AK38-AN39+AM39+AL39 -> 0 | AN39: =AP39*AO39 -> 0 | AO39: 0 | AP39: =[1]Pesées!B276 -> 30 | AQ39: =[1]Pesées!E276 -> 30 | AR39: =[1]Pesées!H276 -> 0 | AU39: =$AU38-$AX39+$AW39+$AV39 -> 25500 | AX39: =AZ39*AY39 -> 0 | AY39: 0 | AZ39: =[1]Pesées!B276 -> 30 | BA39: =[1]Pesées!E276 -> 30 | BB39: =[1]Pesées!H276 -> 0 | BC39: 43220 | BF39: =BF38+BE39-BD39 -> 0 | BJ39: =BJ38+BH39-BI39 -> 0 | BM39: =BM38+BK39-BL39 -> 0 | BN39: =(BN38-AV39-AL39-AB39-BV39-CF39-CZ39-DT39)+BG39+BH39-BI39+BL39 -> 0 | BO39: =BN39+AU39+AK39+AA39+BW39+CG39+CQ39+DK39+DA39+DU39 -> 51000 | BQ39: =[1]Pesées!F276 -> 39.3 | BR39: =[1]Pesées!C276 -> 42 | BS39: 0 | BT39: =BR39*BS39 -> 0 | BW39: =BW38-BT39+BU39+BV39 -> 25500 | BZ39: =[1]Pesées!I276 -> 0 | CA39: =[1]Pesées!F276 -> 39.3 | CB39: =[1]Pesées!C276 -> 42 | CC39: 0 | CD39: =CB39*CC39 -> 0 | CG39: =CG38-CD39+CE39+CF39 -> 0 | CJ39: =[1]Pesées!I276 -> 0 | CK39: =[1]Pesées!F276 -> 39.3 | CL39: =[1]Pesées!C276 -> 42 | CM39: 0 | CN39: =+CL39*CM39 -> 0 | CQ39: =CQ38-CN39+CO39+CP39 -> 0 | CT39: =[1]Pesées!J276 -> 0 | CU39: =[1]Pesées!G276 -> 28.8 | CV39: =[1]Pesées!D276 -> 29 | CW39: 0 | CX39: =CV39*CW39 -> 0 | DA39: =DA38-CX39+CY39+CZ39 -> 0 | DD39: =[1]Pesées!J276 -> 0 | DE39: =[1]Pesées!G276 -> 28.8 | DF39: =[1]Pesées!D276 -> 29 | DG39: 0 | DH39: =DF39*DG39 -> 0 | DK39: =DK38-DH39+DI39+DJ39 -> 0 | DN39: =[1]Pesées!J276 -> 0 | DO39: =[1]Pesées!G276 -> 28.8 | DP39: =[1]Pesées!D276 -> 29 | DQ39: 0 | DR39: =DP39*DQ39 -> 0 | DU39: =DU38-DR39+DS39+DT39 -> 0
AA40: =AA39-AD40+AC40+AB40 -> 0 | AD40: =AF40*AE40 -> 0 | AE40: 0 | AF40: =[1]Pesées!B277 -> 32 | AG40: =[1]Pesées!E277 -> 30 | AH40: =[1]Pesées!H277 -> 0 | AK40: =AK39-AN40+AM40+AL40 -> 0 | AN40: =AP40*AO40 -> 0 | AO40: 0 | AP40: =[1]Pesées!B277 -> 32 | AQ40: =[1]Pesées!E277 -> 30 | AR40: =[1]Pesées!H277 -> 0 | AU40: =$AU39-$AX40+$AW40+$AV40 -> 25500 | AX40: =AZ40*AY40 -> 0 | AY40: 0 | AZ40: =[1]Pesées!B277 -> 32 | BA40: =[1]Pesées!E277 -> 30 | BB40: =[1]Pesées!H277 -> 0 | BC40: 43221 | BF40: =BF39+BE40-BD40 -> 0 | BJ40: =BJ39+BH40-BI40 -> 0 | BM40: =BM39+BK40-BL40 -> 0 | BN40: =(BN39-AV40-AL40-AB40-BV40-CF40-CZ40-DT40)+BG40+BH40-BI40+BL40 -> 0 | BO40: =BN40+AU40+AK40+AA40+BW40+CG40+CQ40+DK40+DA40+DU40 -> 51000 | BQ40: =[1]Pesées!F277 -> 39.3 | BR40: =[1]Pesées!C277 -> 39 | BS40: 0 | BT40: =BR40*BS40 -> 0 | BW40: =BW39-BT40+BU40+BV40 -> 25500 | BZ40: =[1]Pesées!I277 -> 0 | CA40: =[1]Pesées!F277 -> 39.3 | CB40: =[1]Pesées!C277 -> 39 | CC40: 0 | CD40: =CB40*CC40 -> 0 | CG40: =CG39-CD40+CE40+CF40 -> 0 | CJ40: =[1]Pesées!I277 -> 0 | CK40: =[1]Pesées!F277 -> 39.3 | CL40: =[1]Pesées!C277 -> 39 | CM40: 0 | CN40: =+CL40*CM40 -> 0 | CQ40: =CQ39-CN40+CO40+CP40 -> 0 | CT40: =[1]Pesées!J277 -> 0 | CU40: =[1]Pesées!G277 -> 28.8 | CV40: =[1]Pesées!D277 -> 29 | CW40: 0 | CX40: =CV40*CW40 -> 0 | DA40: =DA39-CX40+CY40+CZ40 -> 0 | DD40: =[1]Pesées!J277 -> 0 | DE40: =[1]Pesées!G277 -> 28.8 | DF40: =[1]Pesées!D277 -> 29 | DG40: 0 | DH40: =DF40*DG40 -> 0 | DK40: =DK39-DH40+DI40+DJ40 -> 0 | DN40: =[1]Pesées!J277 -> 0 | DO40: =[1]Pesées!G277 -> 28.8 | DP40: =[1]Pesées!D277 -> 29 | DQ40: 0 | DR40: =DP40*DQ40 -> 0 | DU40: =DU39-DR40+DS40+DT40 -> 0
AA41: =AA40-AD41+AC41+AB41 -> 0 | AD41: =AF41*AE41 -> 0 | AE41: 0 | AF41: =[1]Pesées!B278 -> 32 | AG41: =[1]Pesées!E278 -> 30 | AH41: =[1]Pesées!H278 -> 0 | AK41: =AK40-AN41+AM41+AL41 -> 0 | AN41: =AP41*AO41 -> 0 | AO41: 0 | AP41: =[1]Pesées!B278 -> 32 | AQ41: =[1]Pesées!E278 -> 30 | AR41: =[1]Pesées!H278 -> 0 | AU41: =$AU40-$AX41+$AW41+$AV41 -> 25500 | AX41: =AZ41*AY41 -> 0 | AY41: 0 | AZ41: =[1]Pesées!B278 -> 32 | BA41: =[1]Pesées!E278 -> 30 | BB41: =[1]Pesées!H278 -> 0 | BC41: 43222 | BF41: =BF40+BE41-BD41 -> 0 | BJ41: =BJ40+BH41-BI41 -> 0 | BM41: =BM40+BK41-BL41 -> 0 | BN41: =(BN40-AV41-AL41-AB41-BV41-CF41-CZ41-DT41)+BG41+BH41-BI41+BL41 -> 0 | BO41: =BN41+AU41+AK41+AA41+BW41+CG41+CQ41+DK41+DA41+DU41 -> 51000 | BQ41: =[1]Pesées!F278 -> 39.3 | BR41: =[1]Pesées!C278 -> 40 | BS41: 0 | BT41: =BR41*BS41 -> 0 | BW41: =BW40-BT41+BU41+BV41 -> 25500 | BZ41: =[1]Pesées!I278 -> 0 | CA41: =[1]Pesées!F278 -> 39.3 | CB41: =[1]Pesées!C278 -> 40 | CC41: 0 | CD41: =CB41*CC41 -> 0 | CG41: =CG40-CD41+CE41+CF41 -> 0 | CJ41: =[1]Pesées!I278 -> 0 | CK41: =[1]Pesées!F278 -> 39.3 | CL41: =[1]Pesées!C278 -> 40 | CM41: 0 | CN41: =+CL41*CM41 -> 0 | CQ41: =CQ40-CN41+CO41+CP41 -> 0 | CT41: =[1]Pesées!J278 -> 0 | CU41: =[1]Pesées!G278 -> 28.8 | CV41: =[1]Pesées!D278 -> 28 | CW41: 0 | CX41: =CV41*CW41 -> 0 | DA41: =DA40-CX41+CY41+CZ41 -> 0 | DD41: =[1]Pesées!J278 -> 0 | DE41: =[1]Pesées!G278 -> 28.8 | DF41: =[1]Pesées!D278 -> 28 | DG41: 0 | DH41: =DF41*DG41 -> 0 | DK41: =DK40-DH41+DI41+DJ41 -> 0 | DN41: =[1]Pesées!J278 -> 0 | DO41: =[1]Pesées!G278 -> 28.8 | DP41: =[1]Pesées!D278 -> 28 | DQ41: 0 | DR41: =DP41*DQ41 -> 0 | DU41: =DU40-DR41+DS41+DT41 -> 0
AA42: =AA41-AD42+AC42+AB42 -> 0 | AD42: =AF42*AE42 -> 0 | AE42: 0 | AF42: =[1]Pesées!B279 -> 32 | AG42: =[1]Pesées!E279 -> 30 | AH42: =[1]Pesées!H279 -> 0 | AK42: =AK41-AN42+AM42+AL42 -> 0 | AN42: =AP42*AO42 -> 0 | AO42: 0 | AP42: =[1]Pesées!B279 -> 32 | AQ42: =[1]Pesées!E279 -> 30 | AR42: =[1]Pesées!H279 -> 0 | AU42: =$AU41-$AX42+$AW42+$AV42 -> 25500 | AX42: =AZ42*AY42 -> 0 | AY42: 0 | AZ42: =[1]Pesées!B279 -> 32 | BA42: =[1]Pesées!E279 -> 30 | BB42: =[1]Pesées!H279 -> 0 | BC42: 43223 | BF42: =BF41+BE42-BD42 -> 0 | BJ42: =BJ41+BH42-BI42 -> 0 | BM42: =BM41+BK42-BL42 -> 0 | BN42: =(BN41-AV42-AL42-AB42-BV42-CF42-CZ42-DT42)+BG42+BH42-BI42+BL42 -> 0 | BO42: =BN42+AU42+AK42+AA42+BW42+CG42+CQ42+DK42+DA42+DU42 -> 51000 | BQ42: =[1]Pesées!F279 -> 39.3 | BR42: =[1]Pesées!C279 -> 38 | BS42: 0 | BT42: =BR42*BS42 -> 0 | BW42: =BW41-BT42+BU42+BV42 -> 25500 | BZ42: =[1]Pesées!I279 -> 0 | CA42: =[1]Pesées!F279 -> 39.3 | CB42: =[1]Pesées!C279 -> 38 | CC42: 0 | CD42: =CB42*CC42 -> 0 | CG42: =CG41-CD42+CE42+CF42 -> 0 | CJ42: =[1]Pesées!I279 -> 0 | CK42: =[1]Pesées!F279 -> 39.3 | CL42: =[1]Pesées!C279 -> 38 | CM42: 0 | CN42: =+CL42*CM42 -> 0 | CQ42: =CQ41-CN42+CO42+CP42 -> 0 | CT42: =[1]Pesées!J279 -> 0 | CU42: =[1]Pesées!G279 -> 28.8 | CV42: =[1]Pesées!D279 -> 28 | CW42: 0 | CX42: =CV42*CW42 -> 0 | DA42: =DA41-CX42+CY42+CZ42 -> 0 | DD42: =[1]Pesées!J279 -> 0 | DE42: =[1]Pesées!G279 -> 28.8 | DF42: =[1]Pesées!D279 -> 28 | DG42: 0 | DH42: =DF42*DG42 -> 0 | DK42: =DK41-DH42+DI42+DJ42 -> 0 | DN42: =[1]Pesées!J279 -> 0 | DO42: =[1]Pesées!G279 -> 28.8 | DP42: =[1]Pesées!D279 -> 28 | DQ42: 0 | DR42: =DP42*DQ42 -> 0 | DU42: =DU41-DR42+DS42+DT42 -> 0
AA43: =AA42-AD43+AC43+AB43 -> 0 | AD43: =AF43*AE43 -> 0 | AE43: 0 | AF43: =[1]Pesées!B280 -> 32 | AG43: =[1]Pesées!E280 -> 30 | AH43: =[1]Pesées!H280 -> 0 | AK43: =AK42-AN43+AM43+AL43 -> 0 | AN43: =AP43*AO43 -> 0 | AO43: 0 | AP43: =[1]Pesées!B280 -> 32 | AQ43: =[1]Pesées!E280 -> 30 | AR43: =[1]Pesées!H280 -> 0 | AU43: =$AU42-$AX43+$AW43+$AV43 -> 25500 | AX43: =AZ43*AY43 -> 0 | AY43: 0 | AZ43: =[1]Pesées!B280 -> 32 | BA43: =[1]Pesées!E280 -> 30 | BB43: =[1]Pesées!H280 -> 0 | BC43: 43224 | BF43: =BF42+BE43-BD43 -> 0 | BJ43: =BJ42+BH43-BI43 -> 0 | BM43: =BM42+BK43-BL43 -> 0 | BN43: =(BN42-AV43-AL43-AB43-BV43-CF43-CZ43-DT43)+BG43+BH43-BI43+BL43 -> 0 | BO43: =BN43+AU43+AK43+AA43+BW43+CG43+CQ43+DK43+DA43+DU43 -> 51000 | BQ43: =[1]Pesées!F280 -> 39.3 | BR43: =[1]Pesées!C280 -> 40 | BS43: 0 | BT43: =BR43*BS43 -> 0 | BW43: =BW42-BT43+BU43+BV43 -> 25500 | BZ43: =[1]Pesées!I280 -> 0 | CA43: =[1]Pesées!F280 -> 39.3 | CB43: =[1]Pesées!C280 -> 40 | CC43: 0 | CD43: =CB43*CC43 -> 0 | CG43: =CG42-CD43+CE43+CF43 -> 0 | CJ43: =[1]Pesées!I280 -> 0 | CK43: =[1]Pesées!F280 -> 39.3 | CL43: =[1]Pesées!C280 -> 40 | CM43: 0 | CN43: =+CL43*CM43 -> 0 | CQ43: =CQ42-CN43+CO43+CP43 -> 0 | CT43: =[1]Pesées!J280 -> 0 | CU43: =[1]Pesées!G280 -> 28.8 | CV43: =[1]Pesées!D280 -> 28 | CW43: 0 | CX43: =CV43*CW43 -> 0 | DA43: =DA42-CX43+CY43+CZ43 -> 0 | DD43: =[1]Pesées!J280 -> 0 | DE43: =[1]Pesées!G280 -> 28.8 | DF43: =[1]Pesées!D280 -> 28 | DG43: 0 | DH43: =DF43*DG43 -> 0 | DK43: =DK42-DH43+DI43+DJ43 -> 0 | DN43: =[1]Pesées!J280 -> 0 | DO43: =[1]Pesées!G280 -> 28.8 | DP43: =[1]Pesées!D280 -> 28 | DQ43: 0 | DR43: =DP43*DQ43 -> 0 | DU43: =DU42-DR43+DS43+DT43 -> 0
AA44: =AA43-AD44+AC44+AB44 -> 0 | AD44: =AF44*AE44 -> 0 | AE44: 0 | AF44: =[1]Pesées!B281 -> 32 | AG44: =[1]Pesées!E281 -> 30 | AH44: =[1]Pesées!H281 -> 0 | AK44: =AK43-AN44+AM44+AL44 -> 0 | AN44: =AP44*AO44 -> 0 | AO44: 0 | AP44: =[1]Pesées!B281 -> 32 | AQ44: =[1]Pesées!E281 -> 30 | AR44: =[1]Pesées!H281 -> 0 | AU44: =$AU43-$AX44+$AW44+$AV44 -> 25500 | AX44: =AZ44*AY44 -> 0 | AY44: 0 | AZ44: =[1]Pesées!B281 -> 32 | BA44: =[1]Pesées!E281 -> 30 | BB44: =[1]Pesées!H281 -> 0 | BC44: 43225 | BF44: =BF43+BE44-BD44 -> 0 | BJ44: =BJ43+BH44-BI44 -> 0 | BM44: =BM43+BK44-BL44 -> 0 | BN44: =(BN43-AV44-AL44-AB44-BV44-CF44-CZ44-DT44)+BG44+BH44-BI44+BL44 -> 0 | BO44: =BN44+AU44+AK44+AA44+BW44+CG44+CQ44+DK44+DA44+DU44 -> 51000 | BQ44: =[1]Pesées!F281 -> 39.3 | BR44: =[1]Pesées!C281 -> 39 | BS44: 0 | BT44: =BR44*BS44 -> 0 | BW44: =BW43-BT44+BU44+BV44 -> 25500 | BZ44: =[1]Pesées!I281 -> 0 | CA44: =[1]Pesées!F281 -> 39.3 | CB44: =[1]Pesées!C281 -> 39 | CC44: 0 | CD44: =CB44*CC44 -> 0 | CG44: =CG43-CD44+CE44+CF44 -> 0 | CJ44: =[1]Pesées!I281 -> 0 | CK44: =[1]Pesées!F281 -> 39.3 | CL44: =[1]Pesées!C281 -> 39 | CM44: 0 | CN44: =+CL44*CM44 -> 0 | CQ44: =CQ43-CN44+CO44+CP44 -> 0 | CT44: =[1]Pesées!J281 -> 0 | CU44: =[1]Pesées!G281 -> 28.8 | CV44: =[1]Pesées!D281 -> 29 | CW44: 0 | CX44: =CV44*CW44 -> 0 | DA44: =DA43-CX44+CY44+CZ44 -> 0 | DD44: =[1]Pesées!J281 -> 0 | DE44: =[1]Pesées!G281 -> 28.8 | DF44: =[1]Pesées!D281 -> 29 | DG44: 0 | DH44: =DF44*DG44 -> 0 | DK44: =DK43-DH44+DI44+DJ44 -> 0 | DN44: =[1]Pesées!J281 -> 0 | DO44: =[1]Pesées!G281 -> 28.8 | DP44: =[1]Pesées!D281 -> 29 | DQ44: 0 | DR44: =DP44*DQ44 -> 0 | DU44: =DU43-DR44+DS44+DT44 -> 0
AA45: =AA44-AD45+AC45+AB45 -> 0 | AD45: =AF45*AE45 -> 0 | AE45: 0 | AF45: =[1]Pesées!B282 -> 32 | AG45: =[1]Pesées!E282 -> 30 | AH45: =[1]Pesées!H282 -> 0 | AK45: =AK44-AN45+AM45+AL45 -> 0 | AN45: =AP45*AO45 -> 0 | AO45: 0 | AP45: =[1]Pesées!B282 -> 32 | AQ45: =[1]Pesées!E282 -> 30 | AR45: =[1]Pesées!H282 -> 0 | AU45: =$AU44-$AX45+$AW45+$AV45 -> 25500 | AX45: =AZ45*AY45 -> 0 | AY45: 0 | AZ45: =[1]Pesées!B282 -> 32 | BA45: =[1]Pesées!E282 -> 30 | BB45: =[1]Pesées!H282 -> 0 | BC45: 43226 | BF45: =BF44+BE45-BD45 -> 0 | BJ45: =BJ44+BH45-BI45 -> 0 | BM45: =BM44+BK45-BL45 -> 0 | BN45: =(BN44-AV45-AL45-AB45-BV45-CF45-CZ45-DT45)+BG45+BH45-BI45+BL45 -> 0 | BO45: =BN45+AU45+AK45+AA45+BW45+CG45+CQ45+DK45+DA45+DU45 -> 51000 | BQ45: =[1]Pesées!F282 -> 39.3 | BR45: =[1]Pesées!C282 -> 39 | BS45: 0 | BT45: =BR45*BS45 -> 0 | BW45: =BW44-BT45+BU45+BV45 -> 25500 | BZ45: =[1]Pesées!I282 -> 0 | CA45: =[1]Pesées!F282 -> 39.3 | CB45: =[1]Pesées!C282 -> 39 | CC45: 0 | CD45: =CB45*CC45 -> 0 | CG45: =CG44-CD45+CE45+CF45 -> 0 | CJ45: =[1]Pesées!I282 -> 0 | CK45: =[1]Pesées!F282 -> 39.3 | CL45: =[1]Pesées!C282 -> 39 | CM45: 0 | CN45: =+CL45*CM45 -> 0 | CQ45: =CQ44-CN45+CO45+CP45 -> 0 | CT45: =[1]Pesées!J282 -> 0 | CU45: =[1]Pesées!G282 -> 28.8 | CV45: =[1]Pesées!D282 -> 27 | CW45: 0 | CX45: =CV45*CW45 -> 0 | DA45: =DA44-CX45+CY45+CZ45 -> 0 | DD45: =[1]Pesées!J282 -> 0 | DE45: =[1]Pesées!G282 -> 28.8 | DF45: =[1]Pesées!D282 -> 27 | DG45: 0 | DH45: =DF45*DG45 -> 0 | DK45: =DK44-DH45+DI45+DJ45 -> 0 | DN45: =[1]Pesées!J282 -> 0 | DO45: =[1]Pesées!G282 -> 28.8 | DP45: =[1]Pesées!D282 -> 27 | DQ45: 0 | DR45: =DP45*DQ45 -> 0 | DU45: =DU44-DR45+DS45+DT45 -> 0
AA46: =AA45-AD46+AC46+AB46 -> 0 | AD46: =AF46*AE46 -> 0 | AE46: 0 | AF46: =[1]Pesées!B283 -> 32 | AG46: =[1]Pesées!E283 -> 30 | AH46: =[1]Pesées!H283 -> 0 | AK46: =AK45-AN46+AM46+AL46 -> 0 | AN46: =AP46*AO46 -> 0 | AO46: 0 | AP46: =[1]Pesées!B283 -> 32 | AQ46: =[1]Pesées!E283 -> 30 | AR46: =[1]Pesées!H283 -> 0 | AU46: =$AU45-$AX46+$AW46+$AV46 -> 25500 | AX46: =AZ46*AY46 -> 0 | AY46: 0 | AZ46: =[1]Pesées!B283 -> 32 | BA46: =[1]Pesées!E283 -> 30 | BB46: =[1]Pesées!H283 -> 0 | BC46: 43227 | BF46: =BF45+BE46-BD46 -> 0 | BJ46: =BJ45+BH46-BI46 -> 0 | BM46: =BM45+BK46-BL46 -> 0 | BN46: =(BN45-AV46-AL46-AB46-BV46-CF46-CZ46-DT46)+BG46+BH46-BI46+BL46 -> 0 | BO46: =BN46+AU46+AK46+AA46+BW46+CG46+CQ46+DK46+DA46+DU46 -> 51000 | BP46: =[1]Pesées!I283 -> B955 | BQ46: =[1]Pesées!F283 -> 36.3 | BR46: =[1]Pesées!C283 -> 38 | BS46: 0 | BT46: =BR46*BS46 -> 0 | BW46: =BW45-BT46+BU46+BV46 -> 25500 | BZ46: =[1]Pesées!I283 -> B955 | CA46: =[1]Pesées!F283 -> 36.3 | CB46: =[1]Pesées!C283 -> 38 | CC46: 0 | CD46: =CB46*CC46 -> 0 | CG46: =CG45-CD46+CE46+CF46 -> 0 | CJ46: =[1]Pesées!I283 -> B955 | CK46: =[1]Pesées!F283 -> 36.3 | CL46: =[1]Pesées!C283 -> 38 | CM46: 0 | CN46: =+CL46*CM46 -> 0 | CQ46: =CQ45-CN46+CO46+CP46 -> 0 | CT46: =[1]Pesées!J283 -> 0 | CU46: =[1]Pesées!G283 -> 28.8 | CV46: =[1]Pesées!D283 -> 27 | CW46: 0 | CX46: =CV46*CW46 -> 0 | DA46: =DA45-CX46+CY46+CZ46 -> 0 | DD46: =[1]Pesées!J283 -> 0 | DE46: =[1]Pesées!G283 -> 28.8 | DF46: =[1]Pesées!D283 -> 27 | DG46: 0 | DH46: =DF46*DG46 -> 0 | DK46: =DK45-DH46+DI46+DJ46 -> 0 | DN46: =[1]Pesées!J283 -> 0 | DO46: =[1]Pesées!G283 -> 28.8 | DP46: =[1]Pesées!D283 -> 27 | DQ46: 0 | DR46: =DP46*DQ46 -> 0 | DU46: =DU45-DR46+DS46+DT46 -> 0
AA47: =AA46-AD47+AC47+AB47 -> 0 | AD47: =AF47*AE47 -> 0 | AE47: 0 | AF47: =[1]Pesées!B284 -> 32 | AG47: =[1]Pesées!E284 -> 30 | AH47: =[1]Pesées!H284 -> 0 | AK47: =AK46-AN47+AM47+AL47 -> 0 | AN47: =AP47*AO47 -> 0 | AO47: 0 | AP47: =[1]Pesées!B284 -> 32 | AQ47: =[1]Pesées!E284 -> 30 | AR47: =[1]Pesées!H284 -> 0 | AU47: =$AU46-$AX47+$AW47+$AV47 -> 25500 | AX47: =AZ47*AY47 -> 0 | AY47: 0 | AZ47: =[1]Pesées!B284 -> 32 | BA47: =[1]Pesées!E284 -> 30 | BB47: =[1]Pesées!H284 -> 0 | BC47: 43228 | BF47: =BF46+BE47-BD47 -> 0 | BJ47: =BJ46+BH47-BI47 -> 0 | BM47: =BM46+BK47-BL47 -> 0 | BN47: =(BN46-AV47-AL47-AB47-BV47-CF47-CZ47-DT47)+BG47+BH47-BI47+BL47 -> 0 | BO47: =BN47+AU47+AK47+AA47+BW47+CG47+CQ47+DK47+DA47+DU47 -> 51000 | BP47: =[1]Pesées!I284 -> 0 | BQ47: =[1]Pesées!F284 -> 36.3 | BR47: =[1]Pesées!C284 -> 36 | BS47: 0 | BT47: =BR47*BS47 -> 0 | BW47: =BW46-BT47+BU47+BV47 -> 25500 | BZ47: =[1]Pesées!I284 -> 0 | CA47: =[1]Pesées!F284 -> 36.3 | CB47: =[1]Pesées!C284 -> 36 | CC47: 0 | CD47: =CB47*CC47 -> 0 | CG47: =CG46-CD47+CE47+CF47 -> 0 | CJ47: =[1]Pesées!I284 -> 0 | CK47: =[1]Pesées!F284 -> 36.3 | CL47: =[1]Pesées!C284 -> 36 | CM47: 0 | CN47: =+CL47*CM47 -> 0 | CQ47: =CQ46-CN47+CO47+CP47 -> 0 | CT47: =[1]Pesées!J284 -> 0 | CU47: =[1]Pesées!G284 -> 28.8 | CV47: =[1]Pesées!D284 -> 31 | CW47: 0 | CX47: =CV47*CW47 -> 0 | DA47: =DA46-CX47+CY47+CZ47 -> 0 | DD47: =[1]Pesées!J284 -> 0 | DE47: =[1]Pesées!G284 -> 28.8 | DF47: =[1]Pesées!D284 -> 31 | DG47: 0 | DH47: =DF47*DG47 -> 0 | DK47: =DK46-DH47+DI47+DJ47 -> 0 | DN47: =[1]Pesées!J284 -> 0 | DO47: =[1]Pesées!G284 -> 28.8 | DP47: =[1]Pesées!D284 -> 31 | DQ47: 0 | DR47: =DP47*DQ47 -> 0 | DU47: =DU46-DR47+DS47+DT47 -> 0
AA48: =AA47-AD48+AC48+AB48 -> 0 | AD48: =AF48*AE48 -> 0 | AE48: 0 | AF48: =[1]Pesées!B285 -> 33 | AG48: =[1]Pesées!E285 -> 30 | AH48: =[1]Pesées!H285 -> A1623 | AK48: =AK47-AN48+AM48+AL48 -> 0 | AN48: =AP48*AO48 -> 0 | AO48: 0 | AP48: =[1]Pesées!B285 -> 33 | AQ48: =[1]Pesées!E285 -> 30 | AR48: =[1]Pesées!H285 -> A1623 | AU48: =$AU47-$AX48+$AW48+$AV48 -> 25500 | AX48: =AZ48*AY48 -> 0 | AY48: 0 | AZ48: =[1]Pesées!B285 -> 33 | BA48: =[1]Pesées!E285 -> 30 | BB48: =[1]Pesées!H285 -> A1623 | BC48: 43229 | BF48: =BF47+BE48-BD48 -> 0 | BJ48: =BJ47+BH48-BI48 -> 0 | BM48: =BM47+BK48-BL48 -> 0 | BN48: =(BN47-AV48-AL48-AB48-BV48-CF48-CZ48-DT48)+BG48+BH48-BI48+BL48 -> 0 | BO48: =BN48+AU48+AK48+AA48+BW48+CG48+CQ48+DK48+DA48+DU48 -> 51000 | BP48: =[1]Pesées!I285 -> 0 | BQ48: =[1]Pesées!F285 -> 36.3 | BR48: =[1]Pesées!C285 -> 36 | BS48: 0 | BT48: =BR48*BS48 -> 0 | BW48: =BW47-BT48+BU48+BV48 -> 25500 | BZ48: =[1]Pesées!I285 -> 0 | CA48: =[1]Pesées!F285 -> 36.3 | CB48: =[1]Pesées!C285 -> 36 | CC48: 0 | CD48: =CB48*CC48 -> 0 | CG48: =CG47-CD48+CE48+CF48 -> 0 | CJ48: =[1]Pesées!I285 -> 0 | CK48: =[1]Pesées!F285 -> 36.3 | CL48: =[1]Pesées!C285 -> 36 | CM48: 0 | CN48: =+CL48*CM48 -> 0 | CQ48: =CQ47-CN48+CO48+CP48 -> 0 | CT48: =[1]Pesées!J285 -> 0 | CU48: =[1]Pesées!G285 -> 28.8 | CV48: =[1]Pesées!D285 -> 28 | CW48: 0 | CX48: =CV48*CW48 -> 0 | DA48: =DA47-CX48+CY48+CZ48 -> 0 | DD48: =[1]Pesées!J285 -> 0 | DE48: =[1]Pesées!G285 -> 28.8 | DF48: =[1]Pesées!D285 -> 28 | DG48: 0 | DH48: =DF48*DG48 -> 0 | DK48: =DK47-DH48+DI48+DJ48 -> 0 | DN48: =[1]Pesées!J285 -> 0 | DO48: =[1]Pesées!G285 -> 28.8 | DP48: =[1]Pesées!D285 -> 28 | DQ48: 0 | DR48: =DP48*DQ48 -> 0 | DU48: =DU47-DR48+DS48+DT48 -> 0
AA49: =AA48-AD49+AC49+AB49 -> 0 | AD49: =AF49*AE49 -> 0 | AE49: 0 | AF49: =[1]Pesées!B286 -> 33 | AG49: =[1]Pesées!E286 -> 30 | AH49: =[1]Pesées!H286 -> 0 | AK49: =AK48-AN49+AM49+AL49 -> 0 | AN49: =AP49*AO49 -> 0 | AO49: 0 | AP49: =[1]Pesées!B286 -> 33 | AQ49: =[1]Pesées!E286 -> 30 | AR49: =[1]Pesées!H286 -> 0 | AU49: =$AU48-$AX49+$AW49+$AV49 -> 25500 | AX49: =AZ49*AY49 -> 0 | AY49: 0 | AZ49: =[1]Pesées!B286 -> 33 | BA49: =[1]Pesées!E286 -> 30 | BB49: =[1]Pesées!H286 -> 0 | BC49: 43230 | BF49: =BF48+BE49-BD49 -> 0 | BJ49: =BJ48+BH49-BI49 -> 0 | BM49: =BM48+BK49-BL49 -> 0 | BN49: =(BN48-AV49-AL49-AB49-BV49-CF49-CZ49-DT49)+BG49+BH49-BI49+BL49 -> 0 | BO49: =BN49+AU49+AK49+AA49+BW49+CG49+CQ49+DK49+DA49+DU49 -> 51000 | BP49: =[1]Pesées!I286 -> 0 | BQ49: =[1]Pesées!F286 -> 36.3 | BR49: =[1]Pesées!C286 -> 37 | BS49: 0 | BT49: =BR49*BS49 -> 0 | BW49: =BW48-BT49+BU49+BV49 -> 25500 | BZ49: =[1]Pesées!I286 -> 0 | CA49: =[1]Pesées!F286 -> 36.3 | CB49: =[1]Pesées!C286 -> 37 | CC49: 0 | CD49: =CB49*CC49 -> 0 | CG49: =CG48-CD49+CE49+CF49 -> 0 | CJ49: =[1]Pesées!I286 -> 0 | CK49: =[1]Pesées!F286 -> 36.3 | CL49: =[1]Pesées!C286 -> 37 | CM49: 0 | CN49: =+CL49*CM49 -> 0 | CQ49: =CQ48-CN49+CO49+CP49 -> 0 | CT49: =[1]Pesées!J286 -> 0 | CU49: =[1]Pesées!G286 -> 28.8 | CV49: =[1]Pesées!D286 -> 28 | CW49: 0 | CX49: =CV49*CW49 -> 0 | DA49: =DA48-CX49+CY49+CZ49 -> 0 | DD49: =[1]Pesées!J286 -> 0 | DE49: =[1]Pesées!G286 -> 28.8 | DF49: =[1]Pesées!D286 -> 28 | DG49: 0 | DH49: =DF49*DG49 -> 0 | DK49: =DK48-DH49+DI49+DJ49 -> 0 | DN49: =[1]Pesées!J286 -> 0 | DO49: =[1]Pesées!G286 -> 28.8 | DP49: =[1]Pesées!D286 -> 28 | DQ49: 0 | DR49: =DP49*DQ49 -> 0 | DU49: =DU48-DR49+DS49+DT49 -> 0
AA50: =AA49-AD50+AC50+AB50 -> 0 | AD50: =AF50*AE50 -> 0 | AE50: 0 | AF50: =[1]Pesées!B287 -> 32 | AG50: =[1]Pesées!E287 -> 30 | AH50: =[1]Pesées!H287 -> 0 | AK50: =AK49-AN50+AM50+AL50 -> 0 | AN50: =AP50*AO50 -> 0 | AO50: 0 | AP50: =[1]Pesées!B287 -> 32 | AQ50: =[1]Pesées!E287 -> 30 | AR50: =[1]Pesées!H287 -> 0 | AU50: =$AU49-$AX50+$AW50+$AV50 -> 25500 | AX50: =AZ50*AY50 -> 0 | AY50: 0 | AZ50: =[1]Pesées!B287 -> 32 | BA50: =[1]Pesées!E287 -> 30 | BB50: =[1]Pesées!H287 -> 0 | BC50: 43231 | BF50: =BF49+BE50-BD50 -> 0 | BJ50: =BJ49+BH50-BI50 -> 0 | BM50: =BM49+BK50-BL50 -> 0 | BN50: =(BN49-AV50-AL50-AB50-BV50-CF50-CZ50-DT50)+BG50+BH50-BI50+BL50 -> 0 | BO50: =BN50+AU50+AK50+AA50+BW50+CG50+CQ50+DK50+DA50+DU50 -> 51000 | BP50: =[1]Pesées!I287 -> B956 | BQ50: =[1]Pesées!F287 -> 36.3 | BR50: =[1]Pesées!C287 -> 36 | BS50: 0 | BT50: =BR50*BS50 -> 0 | BW50: =BW49-BT50+BU50+BV50 -> 25500 | BZ50: =[1]Pesées!I287 -> B956 | CA50: =[1]Pesées!F287 -> 36.3 | CB50: =[1]Pesées!C287 -> 36 | CC50: 0 | CD50: =CB50*CC50 -> 0 | CG50: =CG49-CD50+CE50+CF50 -> 0 | CJ50: =[1]Pesées!I287 -> B956 | CK50: =[1]Pesées!F287 -> 36.3 | CL50: =[1]Pesées!C287 -> 36 | CM50: 0 | CN50: =+CL50*CM50 -> 0 | CQ50: =CQ49-CN50+CO50+CP50 -> 0 | CT50: =[1]Pesées!J287 -> C29 | CU50: =[1]Pesées!G287 -> 28.8 | CV50: =[1]Pesées!D287 -> 28 | CW50: 0 | CX50: =CV50*CW50 -> 0 | DA50: =DA49-CX50+CY50+CZ50 -> 0 | DD50: =[1]Pesées!J287 -> C29 | DE50: =[1]Pesées!G287 -> 28.8 | DF50: =[1]Pesées!D287 -> 28 | DG50: 0 | DH50: =DF50*DG50 -> 0 | DK50: =DK49-DH50+DI50+DJ50 -> 0 | DN50: =[1]Pesées!J287 -> C29 | DO50: =[1]Pesées!G287 -> 28.8 | DP50: =[1]Pesées!D287 -> 28 | DQ50: 0 | DR50: =DP50*DQ50 -> 0 | DU50: =DU49-DR50+DS50+DT50 -> 0
AA51: =AA50-AD51+AC51+AB51 -> 0 | AD51: =AF51*AE51 -> 0 | AE51: 0 | AF51: =[1]Pesées!B288 -> 32 | AG51: =[1]Pesées!E288 -> 30 | AH51: =[1]Pesées!H288 -> 0 | AK51: =AK50-AN51+AM51+AL51 -> 0 | AN51: =AP51*AO51 -> 0 | AO51: 0 | AP51: =[1]Pesées!B288 -> 32 | AQ51: =[1]Pesées!E288 -> 30 | AR51: =[1]Pesées!H288 -> 0 | AU51: =$AU50-$AX51+$AW51+$AV51 -> 25500 | AX51: =AZ51*AY51 -> 0 | AY51: 0 | AZ51: =[1]Pesées!B288 -> 32 | BA51: =[1]Pesées!E288 -> 30 | BB51: =[1]Pesées!H288 -> 0 | BC51: 43232 | BF51: =BF50+BE51-BD51 -> 0 | BJ51: =BJ50+BH51-BI51 -> 0 | BM51: =BM50+BK51-BL51 -> 0 | BN51: =(BN50-AV51-AL51-AB51-BV51-CF51-CZ51-DT51)+BG51+BH51-BI51+BL51 -> 0 | BO51: =BN51+AU51+AK51+AA51+BW51+CG51+CQ51+DK51+DA51+DU51 -> 51000 | BP51: =[1]Pesées!I288 -> 0 | BQ51: =[1]Pesées!F288 -> 36.3 | BR51: =[1]Pesées!C288 -> 36 | BS51: 0 | BT51: =BR51*BS51 -> 0 | BW51: =BW50-BT51+BU51+BV51 -> 25500 | BZ51: =[1]Pesées!I288 -> 0 | CA51: =[1]Pesées!F288 -> 36.3 | CB51: =[1]Pesées!C288 -> 36 | CC51: 0 | CD51: =CB51*CC51 -> 0 | CG51: =CG50-CD51+CE51+CF51 -> 0 | CJ51: =[1]Pesées!I288 -> 0 | CK51: =[1]Pesées!F288 -> 36.3 | CL51: =[1]Pesées!C288 -> 36 | CM51: 0 | CN51: =+CL51*CM51 -> 0 | CQ51: =CQ50-CN51+CO51+CP51 -> 0 | CT51: =[1]Pesées!J288 -> 0 | CU51: =[1]Pesées!G288 -> 28.8 | CV51: =[1]Pesées!D288 -> 29 | CW51: 0 | CX51: =CV51*CW51 -> 0 | DA51: =DA50-CX51+CY51+CZ51 -> 0 | DD51: =[1]Pesées!J288 -> 0 | DE51: =[1]Pesées!G288 -> 28.8 | DF51: =[1]Pesées!D288 -> 29 | DG51: 0 | DH51: =DF51*DG51 -> 0 | DK51: =DK50-DH51+DI51+DJ51 -> 0 | DN51: =[1]Pesées!J288 -> 0 | DO51: =[1]Pesées!G288 -> 28.8 | DP51: =[1]Pesées!D288 -> 29 | DQ51: 0 | DR51: =DP51*DQ51 -> 0 | DU51: =DU50-DR51+DS51+DT51 -> 0
AA52: =AA51-AD52+AC52+AB52 -> 0 | AD52: =AF52*AE52 -> 0 | AE52: 0 | AF52: =[1]Pesées!B289 -> 23 | AG52: =[1]Pesées!E289 -> 30 | AH52: =[1]Pesées!H289 -> 0 | AK52: =AK51-AN52+AM52+AL52 -> 0 | AN52: =AP52*AO52 -> 0 | AO52: 0 | AP52: =[1]Pesées!B289 -> 23 | AQ52: =[1]Pesées!E289 -> 30 | AR52: =[1]Pesées!H289 -> 0 | AU52: =$AU51-$AX52+$AW52+$AV52 -> 25500 | AX52: =AZ52*AY52 -> 0 | AY52: 0 | AZ52: =[1]Pesées!B289 -> 23 | BA52: =[1]Pesées!E289 -> 30 | BB52: =[1]Pesées!H289 -> 0 | BC52: 43233 | BF52: =BF51+BE52-BD52 -> 0 | BJ52: =BJ51+BH52-BI52 -> 0 | BM52: =BM51+BK52-BL52 -> 0 | BN52: =(BN51-AV52-AL52-AB52-BV52-CF52-CZ52-DT52)+BG52+BH52-BI52+BL52 -> 0 | BO52: =BN52+AU52+AK52+AA52+BW52+CG52+CQ52+DK52+DA52+DU52 -> 51000 | BP52: =[1]Pesées!I289 -> 0 | BQ52: =[1]Pesées!F289 -> 36.3 | BR52: =[1]Pesées!C289 -> 36 | BS52: 0 | BT52: =BR52*BS52 -> 0 | BW52: =BW51-BT52+BU52+BV52 -> 25500 | BZ52: =[1]Pesées!I289 -> 0 | CA52: =[1]Pesées!F289 -> 36.3 | CB52: =[1]Pesées!C289 -> 36 | CC52: 0 | CD52: =CB52*CC52 -> 0 | CG52: =CG51-CD52+CE52+CF52 -> 0 | CJ52: =[1]Pesées!I289 -> 0 | CK52: =[1]Pesées!F289 -> 36.3 | CL52: =[1]Pesées!C289 -> 36 | CM52: 0 | CN52: =+CL52*CM52 -> 0 | CQ52: =CQ51-CN52+CO52+CP52 -> 0 | CT52: =[1]Pesées!J289 -> 0 | CU52: =[1]Pesées!G289 -> 28.8 | CV52: =[1]Pesées!D289 -> 28 | CW52: 0 | CX52: =CV52*CW52 -> 0 | DA52: =DA51-CX52+CY52+CZ52 -> 0 | DD52: =[1]Pesées!J289 -> 0 | DE52: =[1]Pesées!G289 -> 28.8 | DF52: =[1]Pesées!D289 -> 28 | DG52: 0 | DH52: =DF52*DG52 -> 0 | DK52: =DK51-DH52+DI52+DJ52 -> 0 | DN52: =[1]Pesées!J289 -> 0 | DO52: =[1]Pesées!G289 -> 28.8 | DP52: =[1]Pesées!D289 -> 28 | DQ52: 0 | DR52: =DP52*DQ52 -> 0 | DU52: =DU51-DR52+DS52+DT52 -> 0
AA53: =AA52-AD53+AC53+AB53 -> 0 | AD53: =AF53*AE53 -> 0 | AE53: 0 | AF53: =[1]Pesées!B290 -> 0 | AG53: =[1]Pesées!E290 -> 30 | AH53: =[1]Pesées!H290 -> 0 | AK53: =AK52-AN53+AM53+AL53 -> 0 | AN53: =AP53*AO53 -> 0 | AO53: 0 | AP53: =[1]Pesées!B290 -> 0 | AQ53: =[1]Pesées!E290 -> 30 | AR53: =[1]Pesées!H290 -> 0 | AU53: =$AU52-$AX53+$AW53+$AV53 -> 25500 | AX53: =AZ53*AY53 -> 0 | AY53: 0 | AZ53: =[1]Pesées!B290 -> 0 | BA53: =[1]Pesées!E290 -> 30 | BB53: =[1]Pesées!H290 -> 0 | BC53: 43234 | BF53: =BF52+BE53-BD53 -> 0 | BJ53: =BJ52+BH53-BI53 -> 0 | BM53: =BM52+BK53-BL53 -> 0 | BN53: =(BN52-AV53-AL53-AB53-BV53-CF53-CZ53-DT53)+BG53+BH53-BI53+BL53 -> 0 | BO53: =BN53+AU53+AK53+AA53+BW53+CG53+CQ53+DK53+DA53+DU53 -> 51000 | BP53: =[1]Pesées!I290 -> 0 | BQ53: =[1]Pesées!F290 -> 36.3 | BR53: =[1]Pesées!C290 -> 35 | BS53: 0 | BT53: =BR53*BS53 -> 0 | BW53: =BW52-BT53+BU53+BV53 -> 25500 | BZ53: =[1]Pesées!I290 -> 0 | CA53: =[1]Pesées!F290 -> 36.3 | CB53: =[1]Pesées!C290 -> 35 | CC53: 0 | CD53: =CB53*CC53 -> 0 | CG53: =CG52-CD53+CE53+CF53 -> 0 | CJ53: =[1]Pesées!I290 -> 0 | CK53: =[1]Pesées!F290 -> 36.3 | CL53: =[1]Pesées!C290 -> 35 | CM53: 0 | CN53: =+CL53*CM53 -> 0 | CQ53: =CQ52-CN53+CO53+CP53 -> 0 | CT53: =[1]Pesées!J290 -> 0 | CU53: =[1]Pesées!G290 -> 28.8 | CV53: =[1]Pesées!D290 -> 29 | CW53: 0 | CX53: =CV53*CW53 -> 0 | DA53: =DA52-CX53+CY53+CZ53 -> 0 | DD53: =[1]Pesées!J290 -> 0 | DE53: =[1]Pesées!G290 -> 28.8 | DF53: =[1]Pesées!D290 -> 29 | DG53: 0 | DH53: =DF53*DG53 -> 0 | DK53: =DK52-DH53+DI53+DJ53 -> 0 | DN53: =[1]Pesées!J290 -> 0 | DO53: =[1]Pesées!G290 -> 28.8 | DP53: =[1]Pesées!D290 -> 29 | DQ53: 0 | DR53: =DP53*DQ53 -> 0 | DU53: =DU52-DR53+DS53+DT53 -> 0
AA54: =AA53-AD54+AC54+AB54 -> 0 | AD54: =AF54*AE54 -> 0 | AE54: 0 | AF54: =[1]Pesées!B291 -> 0 | AG54: =[1]Pesées!E291 -> 30 | AH54: =[1]Pesées!H291 -> 0 | AK54: =AK53-AN54+AM54+AL54 -> 0 | AN54: =AP54*AO54 -> 0 | AO54: 0 | AP54: =[1]Pesées!B291 -> 0 | AQ54: =[1]Pesées!E291 -> 30 | AR54: =[1]Pesées!H291 -> 0 | AU54: =$AU53-$AX54+$AW54+$AV54 -> 25500 | AX54: =AZ54*AY54 -> 0 | AY54: 0 | AZ54: =[1]Pesées!B291 -> 0 | BA54: =[1]Pesées!E291 -> 30 | BB54: =[1]Pesées!H291 -> 0 | BC54: 43235 | BF54: =BF53+BE54-BD54 -> 0 | BJ54: =BJ53+BH54-BI54 -> 0 | BM54: =BM53+BK54-BL54 -> 0 | BN54: =(BN53-AV54-AL54-AB54-BV54-CF54-CZ54-DT54)+BG54+BH54-BI54+BL54 -> 0 | BO54: =BN54+AU54+AK54+AA54+BW54+CG54+CQ54+DK54+DA54+DU54 -> 51000 | BP54: =[1]Pesées!I291 -> B957 | BQ54: =[1]Pesées!F291 -> 36.3 | BR54: =[1]Pesées!C291 -> 37 | BS54: 0 | BT54: =BR54*BS54 -> 0 | BW54: =BW53-BT54+BU54+BV54 -> 25500 | BZ54: =[1]Pesées!I291 -> B957 | CA54: =[1]Pesées!F291 -> 36.3 | CB54: =[1]Pesées!C291 -> 37 | CC54: 0 | CD54: =CB54*CC54 -> 0 | CG54: =CG53-CD54+CE54+CF54 -> 0 | CJ54: =[1]Pesées!I291 -> B957 | CK54: =[1]Pesées!F291 -> 36.3 | CL54: =[1]Pesées!C291 -> 37 | CM54: 0 | CN54: =+CL54*CM54 -> 0 | CQ54: =CQ53-CN54+CO54+CP54 -> 0 | CT54: =[1]Pesées!J291 -> 0 | CU54: =[1]Pesées!G291 -> 28.8 | CV54: =[1]Pesées!D291 -> 28 | CW54: 0 | CX54: =CV54*CW54 -> 0 | DA54: =DA53-CX54+CY54+CZ54 -> 0 | DD54: =[1]Pesées!J291 -> 0 | DE54: =[1]Pesées!G291 -> 28.8 | DF54: =[1]Pesées!D291 -> 28 | DG54: 0 | DH54: =DF54*DG54 -> 0 | DK54: =DK53-DH54+DI54+DJ54 -> 0 | DN54: =[1]Pesées!J291 -> 0 | DO54: =[1]Pesées!G291 -> 28.8 | DP54: =[1]Pesées!D291 -> 28 | DQ54: 0 | DR54: =DP54*DQ54 -> 0 | DU54: =DU53-DR54+DS54+DT54 -> 0
AA55: =AA54-AD55+AC55+AB55 -> 0 | AD55: =AF55*AE55 -> 0 | AE55: 0 | AF55: =[1]Pesées!B292 -> 16 | AG55: =[1]Pesées!E292 -> 30 | AH55: =[1]Pesées!H292 -> 0 | AK55: =AK54-AN55+AM55+AL55 -> 0 | AN55: =AP55*AO55 -> 0 | AO55: 0 | AP55: =[1]Pesées!B292 -> 16 | AQ55: =[1]Pesées!E292 -> 30 | AR55: =[1]Pesées!H292 -> 0 | AU55: =$AU54-$AX55+$AW55+$AV55 -> 25500 | AX55: =AZ55*AY55 -> 0 | AY55: 0 | AZ55: =[1]Pesées!B292 -> 16 | BA55: =[1]Pesées!E292 -> 30 | BB55: =[1]Pesées!H292 -> 0 | BC55: 43236 | BF55: =BF54+BE55-BD55 -> 0 | BJ55: =BJ54+BH55-BI55 -> 0 | BM55: =BM54+BK55-BL55 -> 0 | BN55: =(BN54-AV55-AL55-AB55-BV55-CF55-CZ55-DT55)+BG55+BH55-BI55+BL55 -> 0 | BO55: =BN55+AU55+AK55+AA55+BW55+CG55+CQ55+DK55+DA55+DU55 -> 51000 | BP55: =[1]Pesées!I292 -> 0 | BQ55: =[1]Pesées!F292 -> 36.3 | BR55: =[1]Pesées!C292 -> 36 | BS55: 0 | BT55: =BR55*BS55 -> 0 | BW55: =BW54-BT55+BU55+BV55 -> 25500 | BZ55: =[1]Pesées!I292 -> 0 | CA55: =[1]Pesées!F292 -> 36.3 | CB55: =[1]Pesées!C292 -> 36 | CC55: 0 | CD55: =CB55*CC55 -> 0 | CG55: =CG54-CD55+CE55+CF55 -> 0 | CJ55: =[1]Pesées!I292 -> 0 | CK55: =[1]Pesées!F292 -> 36.3 | CL55: =[1]Pesées!C292 -> 36 | CM55: 0 | CN55: =+CL55*CM55 -> 0 | CQ55: =CQ54-CN55+CO55+CP55 -> 0 | CT55: =[1]Pesées!J292 -> C30 | CU55: =[1]Pesées!G292 -> 28.8 | CV55: =[1]Pesées!D292 -> 28 | CW55: 0 | CX55: =CV55*CW55 -> 0 | DA55: =DA54-CX55+CY55+CZ55 -> 0 | DD55: =[1]Pesées!J292 -> C30 | DE55: =[1]Pesées!G292 -> 28.8 | DF55: =[1]Pesées!D292 -> 28 | DG55: 0 | DH55: =DF55*DG55 -> 0 | DK55: =DK54-DH55+DI55+DJ55 -> 0 | DN55: =[1]Pesées!J292 -> C30 | DO55: =[1]Pesées!G292 -> 28.8 | DP55: =[1]Pesées!D292 -> 28 | DQ55: 0 | DR55: =DP55*DQ55 -> 0 | DU55: =DU54-DR55+DS55+DT55 -> 0
AA56: =AA55-AD56+AC56+AB56 -> 0 | AD56: =AF56*AE56 -> 0 | AE56: 0 | AF56: =[1]Pesées!B293 -> 25 | AG56: =[1]Pesées!E293 -> 30 | AH56: =[1]Pesées!H293 -> 0 | AK56: =AK55-AN56+AM56+AL56 -> 0 | AN56: =AP56*AO56 -> 0 | AO56: 0 | AP56: =[1]Pesées!B293 -> 25 | AQ56: =[1]Pesées!E293 -> 30 | AR56: =[1]Pesées!H293 -> 0 | AU56: =$AU55-$AX56+$AW56+$AV56 -> 25500 | AX56: =AZ56*AY56 -> 0 | AY56: 0 | AZ56: =[1]Pesées!B293 -> 25 | BA56: =[1]Pesées!E293 -> 30 | BB56: =[1]Pesées!H293 -> 0 | BC56: 43237 | BF56: =BF55+BE56-BD56 -> 0 | BJ56: =BJ55+BH56-BI56 -> 0 | BM56: =BM55+BK56-BL56 -> 0 | BN56: =(BN55-AV56-AL56-AB56-BV56-CF56-CZ56-DT56)+BG56+BH56-BI56+BL56 -> 0 | BO56: =BN56+AU56+AK56+AA56+BW56+CG56+CQ56+DK56+DA56+DU56 -> 51000 | BP56: =[1]Pesées!I293 -> 0 | BQ56: =[1]Pesées!F293 -> 36.3 | BR56: =[1]Pesées!C293 -> 36 | BS56: 0 | BT56: =BR56*BS56 -> 0 | BW56: =BW55-BT56+BU56+BV56 -> 25500 | BZ56: =[1]Pesées!I293 -> 0 | CA56: =[1]Pesées!F293 -> 36.3 | CB56: =[1]Pesées!C293 -> 36 | CC56: 0 | CD56: =CB56*CC56 -> 0 | CG56: =CG55-CD56+CE56+CF56 -> 0 | CJ56: =[1]Pesées!I293 -> 0 | CK56: =[1]Pesées!F293 -> 36.3 | CL56: =[1]Pesées!C293 -> 36 | CM56: 0 | CN56: =+CL56*CM56 -> 0 | CQ56: =CQ55-CN56+CO56+CP56 -> 0 | CT56: =[1]Pesées!J293 -> 0 | CU56: =[1]Pesées!G293 -> 28.8 | CV56: =[1]Pesées!D293 -> 28 | CW56: 0 | CX56: =CV56*CW56 -> 0 | DA56: =DA55-CX56+CY56+CZ56 -> 0 | DD56: =[1]Pesées!J293 -> 0 | DE56: =[1]Pesées!G293 -> 28.8 | DF56: =[1]Pesées!D293 -> 28 | DG56: 0 | DH56: =DF56*DG56 -> 0 | DK56: =DK55-DH56+DI56+DJ56 -> 0 | DN56: =[1]Pesées!J293 -> 0 | DO56: =[1]Pesées!G293 -> 28.8 | DP56: =[1]Pesées!D293 -> 28 | DQ56: 0 | DR56: =DP56*DQ56 -> 0 | DU56: =DU55-DR56+DS56+DT56 -> 0
AA57: =AA56-AD57+AC57+AB57 -> 0 | AD57: =AF57*AE57 -> 0 | AE57: 0 | AF57: =[1]Pesées!B294 -> 33 | AG57: =[1]Pesées!E294 -> 30 | AH57: =[1]Pesées!H294 -> 0 | AK57: =AK56-AN57+AM57+AL57 -> 0 | AN57: =AP57*AO57 -> 0 | AO57: 0 | AP57: =[1]Pesées!B294 -> 33 | AQ57: =[1]Pesées!E294 -> 30 | AR57: =[1]Pesées!H294 -> 0 | AU57: =$AU56-$AX57+$AW57+$AV57 -> 25500 | AX57: =AZ57*AY57 -> 0 | AY57: 0 | AZ57: =[1]Pesées!B294 -> 33 | BA57: =[1]Pesées!E294 -> 30 | BB57: =[1]Pesées!H294 -> 0 | BC57: 43238 | BF57: =BF56+BE57-BD57 -> 0 | BJ57: =BJ56+BH57-BI57 -> 0 | BM57: =BM56+BK57-BL57 -> 0 | BN57: =(BN56-AV57-AL57-AB57-BV57-CF57-CZ57-DT57)+BG57+BH57-BI57+BL57 -> 0 | BO57: =BN57+AU57+AK57+AA57+BW57+CG57+CQ57+DK57+DA57+DU57 -> 51000 | BP57: =[1]Pesées!I294 -> B958 | BQ57: =[1]Pesées!F294 -> 36.3 | BR57: =[1]Pesées!C294 -> 35 | BS57: 0 | BT57: =BR57*BS57 -> 0 | BW57: =BW56-BT57+BU57+BV57 -> 25500 | BZ57: =[1]Pesées!I294 -> B958 | CA57: =[1]Pesées!F294 -> 36.3 | CB57: =[1]Pesées!C294 -> 35 | CC57: 0 | CD57: =CB57*CC57 -> 0 | CG57: =CG56-CD57+CE57+CF57 -> 0 | CJ57: =[1]Pesées!I294 -> B958 | CK57: =[1]Pesées!F294 -> 36.3 | CL57: =[1]Pesées!C294 -> 35 | CM57: 0 | CN57: =+CL57*CM57 -> 0 | CQ57: =CQ56-CN57+CO57+CP57 -> 0 | CT57: =[1]Pesées!J294 -> 0 | CU57: =[1]Pesées!G294 -> 28.8 | CV57: =[1]Pesées!D294 -> 29 | CW57: 0 | CX57: =CV57*CW57 -> 0 | DA57: =DA56-CX57+CY57+CZ57 -> 0 | DD57: =[1]Pesées!J294 -> 0 | DE57: =[1]Pesées!G294 -> 28.8 | DF57: =[1]Pesées!D294 -> 29 | DG57: 0 | DH57: =DF57*DG57 -> 0 | DK57: =DK56-DH57+DI57+DJ57 -> 0 | DN57: =[1]Pesées!J294 -> 0 | DO57: =[1]Pesées!G294 -> 28.8 | DP57: =[1]Pesées!D294 -> 29 | DQ57: 0 | DR57: =DP57*DQ57 -> 0 | DU57: =DU56-DR57+DS57+DT57 -> 0
... AA173: =AA172-AD173+AC173+AB173 -> 0 | AD173: =AF173*AE173 -> 0 | AE173: 0 | AF173: =[1]Pesées!B410 -> 29 | AG173: =[1]Pesées!E410 -> 31.9 | AH173: =[1]Pesées!H410 -> 0 | AK173: =AK172-AN173+AM173+AL173 -> 0 | AN173: =AP173*AO173 -> 0 | AO173: 0 | AP173: =[1]Pesées!B410 -> 29 | AQ173: =[1]Pesées!E410 -> 31.9 | AR173: =[1]Pesées!H410 -> 0 | AU173: =$AU172-$AX173+$AW173+$AV173 -> 25500 | AX173: =AZ173*AY173 -> 0 | AY173: 0 | AZ173: =[1]Pesées!B410 -> 29 | BA173: =[1]Pesées!E410 -> 31.9 | BB173: =[1]Pesées!H410 -> 0 | BC173: 43354 | BF173: =BF172+BE173-BD173 -> 0 | BJ173: =BJ172+BH173-BI173 -> 0 | BM173: =BM172+BK173-BL173 -> 0 | BN173: =(BN172-AV173-AL173-AB173-BV173-CF173-CZ173-DT173)+BG173+BH173-BI173+BL173 -> 0 | BO173: =BN173+AU173+AK173+AA173+BW173+CG173+CQ173+DK173+DA173+DU173 -> 51000 | BP173: =[1]Pesées!I410 -> 0 | BQ173: =[1]Pesées!F410 -> 31.5 | BR173: =[1]Pesées!C410 -> 31 | BS173: 0 | BT173: =BR173*BS173 -> 0 | BW173: =BW172-BT173+BU173+BV173 -> 25500 | BZ173: =[1]Pesées!I410 -> 0 | CA173: =[1]Pesées!F410 -> 31.5 | CB173: =[1]Pesées!C410 -> 31 | CC173: 0 | CD173: =CB173*CC173 -> 0 | CG173: =CG172-CD173+CE173+CF173 -> 0 | CJ173: =[1]Pesées!I410 -> 0 | CK173: =[1]Pesées!F410 -> 31.5 | CL173: =[1]Pesées!C410 -> 31 | CM173: 0 | CN173: =+CL173*CM173 -> 0 | CQ173: =CQ172-CN173+CO173+CP173 -> 0 | CT173: =[1]Pesées!J410 -> 0 | CU173: =[1]Pesées!G410 -> 44 | CV173: =[1]Pesées!D410 -> 44 | CW173: 0 | CX173: =CV173*CW173 -> 0 | DA173: =DA172-CX173+CY173+CZ173 -> 0 | DD173: =[1]Pesées!J410 -> 0 | DE173: =[1]Pesées!G410 -> 44 | DF173: =[1]Pesées!D410 -> 44 | DG173: 0 | DH173: =DF173*DG173 -> 0 | DK173: =DK172-DH173+DI173+DJ173 -> 0 | DN173: =[1]Pesées!J410 -> 0 | DO173: =[1]Pesées!G410 -> 44 | DP173: =[1]Pesées!D410 -> 44 | DQ173: 0 | DR173: =DP173*DQ173 -> 0 | DU173: =DU172-DR173+DS173+DT173 -> 0
