Workbook

Sheet BD
A1: date_complete | B1: jour | C1: mois | D1: annee | E1: heure début | F1: heure_fin | G1: nom_zone | H1: zone | I1: nombre_de_b | J1: methode_de_compatge | K1: T°
A2: 35431 | B2: =DAY(A2) -> 1 | C2: =MONTH(A:A) -> 1 | D2: =YEAR(A:A) -> 1997 | E2: 0.5 | F2: 0.54166667 | G2: CE | H2: BAS | I2: 0 | J2: quantitatif | K2: 17.3
A3: 35432 | B3: =DAY(A3) -> 2 | C3: =MONTH(A:A) -> 1 | D3: =YEAR(A:A) -> 1997 | E3: 0.54166667 | F3: 0.58333333 | G3: CE | H3: BAS | I3: 0 | J3: quantitatif | K3: 17.8
A4: 35433 | B4: =DAY(A4) -> 3 | C4: =MONTH(A:A) -> 1 | D4: =YEAR(A:A) -> 1997 | E4: 0.58333333 | F4: 0.625 | G4: CE | H4: BAS | I4: 2 | J4: quantitatif | K4: 17.8
A5: 35932 | B5: =DAY(A5) -> 17 | C5: =MONTH(A:A) -> 5 | D5: =YEAR(A:A) -> 1998 | E5: 0.625 | F5: 0.66666667 | G5: CE | H5: BAS | I5: 0 | J5: quantitatif | K5: 17.5
A6: 35933 | B6: =DAY(A6) -> 18 | C6: =MONTH(A:A) -> 5 | D6: =YEAR(A:A) -> 1998 | E6: 0.66666667 | F6: 0.70833333 | G6: CE | H6: BAS | I6: 0 | J6: quantitatif | K6: 16.4
A7: 35934 | B7: =DAY(A7) -> 19 | C7: =MONTH(A:A) -> 5 | D7: =YEAR(A:A) -> 1998 | E7: 0.70833333 | F7: 0.75 | G7: CE | H7: BAS | I7: 4 | J7: quantitatif | K7: 15.9
A8: 35935 | B8: =DAY(A8) -> 20 | C8: =MONTH(A:A) -> 5 | D8: =YEAR(A:A) -> 1998 | E8: 0.75 | F8: 0.79166667 | G8: CE | H8: BAS | I8: 0 | J8: quantitatif | K8: 16.5
A9: 39224 | B9: =DAY(A9) -> 22 | C9: =MONTH(A:A) -> 5 | D9: =YEAR(A:A) -> 2007 | E9: 0.79166667 | F9: 0.83333333 | G9: CE | H9: BAS | I9: 0 | J9: quantitatif | K9: 17.3
A10: 39225 | B10: =DAY(A10) -> 23 | C10: =MONTH(A:A) -> 5 | D10: =YEAR(A:A) -> 2007 | E10: 0.83333333 | F10: 0.875 | G10: CE | H10: BAS | I10: 21 | J10: quantitatif | K10: 18.3

Sheet BD NA
A1: Date | B1: ZONE 1 | I1: …
B2: heure début | C2: heure_fin | D2: nom_zone | E2: zone | F2: nombre_de_b | G2: methode_de_compatge | H2: T°
A3: 35431 | B3: =IF(COUNTIF(BD!A:A,A3),INDEX(BD!A:O,COUNTIF(BD!A:A,A3),BD!E:E),"NA") -> jour | C3: =IF(COUNTIF(BD!B:B,B3),INDEX(BD!B:P,COUNTIF(BD!B:B,B3),BD!F:F),"NA") -> mois | D3: =IF(COUNTIF(BD!C:C,C3),INDEX(BD!C:Q,COUNTIF(BD!C:C,C3),BD!G:G),"NA") -> #VALUE! | E3: =IF(COUNTIF(BD!D:D,D3),INDEX(BD!D:R,COUNTIF(BD!D:D,D3),BD!H:H),"NA") -> NA | F3: =IF(COUNTIF(BD!E:E,E3),INDEX(BD!E:S,COUNTIF(BD!E:E,E3),BD!I:I),"NA") -> NA | G3: =IF(COUNTIF(BD!F:F,F3),INDEX(BD!F:T,COUNTIF(BD!F:F,F3),BD!J:J),"NA") -> NA | H3: =IF(COUNTIF(BD!G:G,G3),INDEX(BD!G:U,COUNTIF(BD!G:G,G3),BD!K:K),"NA") -> NA
A4: 35432 | B4: =IF(COUNTIF(BD!A:A,A4),INDEX(BD!A:O,COUNTIF(BD!A:A,A4),BD!E:E),"NA") -> jour
A5: 35433 | B5: =IF(COUNTIF(BD!A:A,A5),INDEX(BD!A:O,COUNTIF(BD!A:A,A5),BD!E:E),"NA") -> jour
A6: 35434 | B6: =IF(COUNTIF(BD!A:A,A6),INDEX(BD!A:O,COUNTIF(BD!A:A,A6),BD!E:E),"NA") -> NA
A7: 35435 | B7: =IF(COUNTIF(BD!A:A,A7),INDEX(BD!A:O,COUNTIF(BD!A:A,A7),BD!E:E),"NA") -> NA
A8: 35436 | B8: =IF(COUNTIF(BD!A:A,A8),INDEX(BD!A:O,COUNTIF(BD!A:A,A8),BD!E:E),"NA") -> NA
A9: 35437 | B9: =IF(COUNTIF(BD!A:A,A9),INDEX(BD!A:O,COUNTIF(BD!A:A,A9),BD!E:E),"NA") -> NA
A10: 35438 | B10: =IF(COUNTIF(BD!A:A,A10),INDEX(BD!A:O,COUNTIF(BD!A:A,A10),BD!E:E),"NA") -> NA
A11: 35439 | B11: =IF(COUNTIF(BD!A:A,A11),INDEX(BD!A:O,COUNTIF(BD!A:A,A11),BD!E:E),"NA") -> NA
A12: 35440 | B12: =IF(COUNTIF(BD!A:A,A12),INDEX(BD!A:O,COUNTIF(BD!A:A,A12),BD!E:E),"NA") -> NA
A13: 35441 | B13: =IF(COUNTIF(BD!A:A,A13),INDEX(BD!A:O,COUNTIF(BD!A:A,A13),BD!E:E),"NA") -> NA
A14: 35442 | B14: =IF(COUNTIF(BD!A:A,A14),INDEX(BD!A:O,COUNTIF(BD!A:A,A14),BD!E:E),"NA") -> NA
A15: 35443 | B15: =IF(COUNTIF(BD!A:A,A15),INDEX(BD!A:O,COUNTIF(BD!A:A,A15),BD!E:E),"NA") -> NA
... A8196: 43624 | B8196: =IF(COUNTIF(BD!A:A,A8196),INDEX(BD!A:O,COUNTIF(BD!A:A,A8196),BD!E:E),"NA") -> NA
