Workbook
Name ABSENCES: 'INFOS MOIS'!$D$10:$D$14
Name CP: 'INFOS MOIS'!$E$10:$E$14
Name formules: Feuil1!$D$6:$D$18
Name HSD: 'INFOS MOIS'!$H$10:$H$14
Name HSP: 'INFOS MOIS'!$G$10:$G$14
Name Jour_Fériés: Feuil1!$C$6:$D$18
Name NBH: 'INFOS MOIS'!$C$10:$C$14
Name NBHS: 'INFOS MOIS'!$F$10:$F$14
Name OBJ_AT_DUBOIS: 'INFOS COMMERCIAUX'!$C$13
Name OBJ_AT_DURANT: 'INFOS COMMERCIAUX'!$C$13
Name OBJA: 'INFOS COMMERCIAUX'!$C$13
Name OBJDUBOIS: 'INFOS COMMERCIAUX'!$D$12
Name OBJDURANT: 'INFOS COMMERCIAUX'!$C$12
Name OBJM: 'INFOS COMMERCIAUX'!$C$12
Name OBJMA: 'INFOS COMMERCIAUX'!$C$13
Name OBJMSUP: 'INFOS COMMERCIAUX'!$D$14
Name OBJSUP: 'INFOS COMMERCIAUX'!$C$14

Sheet RECAP DES FRAIS
B3: RECAPITULATIF FRAIS par semaine
B5: M.DURANT | F5: M.DUBOIS
B6: OBJET | C6: TTC | D6: HT | E6: TVA | F6: OBJET | G6: TTC | H6: HT | I6: TVA
A7: Semaine 1 | B7: Gasoil | C7: 95.62 | D7: =C7/1.2 -> 79.683333 | E7: =C7-D7 -> 15.936667
B8: Hotel | C8: 36 | D8: =C8/1.2 -> 30 | E8: =C8-D8 -> 6
B9: Restaurant | C9: 18.3 | D9: =C9/1.2 -> 15.25 | E9: =C9-D9 -> 3.05
A10: Semaine 2 | B10: Gasoil | C10: 92.37 | D10: =C10/1.2 -> 76.975 | E10: =C10-D10 -> 15.395
B11: Hotel | C11: 34 | D11: =C11/1.2 -> 28.333333 | E11: =C11-D11 -> 5.6666667
B12: Restaurant | C12: 17.1 | D12: =C12/1.2 -> 14.25 | E12: =C12-D12 -> 2.85
A13: Semaine 3 | B13: Gasoil | C13: 0 | D13: =C13/1.2 -> 0 | E13: =C13-D13 -> 0
B14: Hotel | C14: 0 | D14: =C14/1.2 -> 0 | E14: =C14-D14 -> 0
B15: Restaurant | C15: 0 | D15: =C15/1.2 -> 0 | E15: =C15-D15 -> 0
A16: Semaine 4 | B16: Gasoil | C16: 88.39 | D16: =C16/1.2 -> 73.658333 | E16: =C16-D16 -> 14.731667
B17: Hotel | C17: 32 | D17: =C17/1.2 -> 26.666667 | E17: =C17-D17 -> 5.3333333
B18: Restaurant | C18: 18.1 | D18: =C18/1.2 -> 15.083333 | E18: =C18-D18 -> 3.0166667
A19: Semaine 5 | B19: Gasoil | C19: 89.45 | D19: =C19/1.2 -> 74.541667 | E19: =C19-D19 -> 14.908333
B20: Hotel | C20: 0 | D20: =C20/1.2 -> 0 | E20: =C20-D20 -> 0
B21: Restaurant | C21: 0 | D21: =C21/1.2 -> 0 | E21: =C21-D21 -> 0
B22: TOTAL | C22: =SUM(C7:C21) -> 521.33 | D22: =SUM(D7:D9) -> 124.93333 | E22: =SUM(E7:E21) -> 86.888333

Sheet INFOS COMMERCIAUX
B2: AVANTAGE VEHICULE
B4: M. DURANT | F4: M. DUBOIS
B5: PRIX DU VEHICULE (en €) | C5: ANCIENNETE (en années) | D5: FORFAIT ANNUEL PRISE EN CHARGE CARBURANT | F5: PRIX DU VEHICULE (en €) | G5: ANCIENNETE (en années) | H5: FORFAIT ANNUEL PRISE EN CHARGE CARBURANT
D6: Ancienneté <5 | E6: Ancienneté >5 | H6: Ancienneté <5 | I6: Ancienneté >5
B7: 21000 | C7: 6 | D7: 0.12 | E7: 0.09 | F7: 28000 | G7: 4 | H7: 0.12 | I7: 0.09
B9: OBJECTIF + PRIME
C11: M. DURANT | D11: M. DUBOIS
B12: OBJ MENSUEL | C12: 7500 | D12: 6250
B13: Si Obj atteind | C13: 200 | D13: 200
B14: Si > obj / m^3 | C14: 2 | D14: 2
B15: OBJ TRIMESTRIEL | C15: 22500 | D15: 18750
B16: Si obj atteind | C16: 800 | D16: 800
B17: Si > obj / m^3 | C17: 2 | D17: 2
B18: OBJ ANNUEL | C18: 90000 | D18: 75000
B19: Si Obj atteind | C19: 3200 | D19: 3200
B20: Si > obj / m^3 | C20: 2 | D20: 2

Sheet INFOS MOIS
C3: INFORMATIONS HEURES / CP / ABSENCES DES SALARIES / OBJECTIFS
C7: Monsieur DURANT | I7: Monsieur DUBOIS | O7: Madame GRENIER | U7: Madame LEVAL | AA7: Madame PORRO | AG7: Monsieur DUBREUIL | AM7: Monsieur RICCO
C8: RECAP MOIS | F8: DECOMPTE H SUP | I8: RECAP MOIS | L8: DECOMPTE H SUP | O8: RECAP MOIS | R8: DECOMPTE H SUP | U8: RECAP MOIS | X8: DECOMPTE H SUP | AA8: RECAP MOIS | AD8: DECOMPTE H SUP | AG8: RECAP MOIS | AJ8: DECOMPTE H SUP | AM8: RECAP MOIS | AP8: DECOMPTE H SUP
B9: Semaine | C9: Nb H | D9: Absences | E9: CP | F9: Nb H sup | G9: 0.25 | H9: 0.5 | I9: Nb H | J9: Absences | K9: CP | L9: Nb H sup | M9: 0.25 | N9: 0.5 | O9: Nb H | P9: Absences | Q9: CP | R9: Nb H sup | S9: 0.25 | T9: 0.5 | U9: Nb H | V9: Absences | W9: CP | X9: Nb H sup | Y9: 0.25 | Z9: 0.5 | AA9: Nb H | AB9: Absences | AC9: CP | AD9: Nb H sup | AE9: 0.25 | AF9: 0.5 | AG9: Nb H | AH9: Absences | AI9: CP | AJ9: Nb H sup | AK9: 0.25 | AL9: 0.5 | AM9: Nb H | AN9: Absences | AO9: CP | AP9: Nb H sup | AQ9: 0.25 | AR9: 0.5
B10: 1 | C10: 45 | D10: 0 | E10: 0 | F10: =_xlfn.IFS(C10>35,C10-35,E10>0,(E10*7)+C10-35,C10<=35,0) -> 10 | G10: =IF(F10<8,F10,8) -> 8 | H10: =IF(F10>8,F10-8,0) -> 2 | I10: 35 | J10: 0 | K10: 0 | L10: =_xlfn.IFS(I10>35,I10-35,K10>0,(K10*7)+I10-35,I10<=35,0) -> 0 | M10: =IF(L10<8,L10,8) -> 0 | N10: =IF(L10>8,L10-8,0) -> 0 | O10: 44 | P10: 0 | Q10: 0 | R10: =_xlfn.IFS(O10>35,O10-35,Q10>0,(Q10*7)+O10-35,O10<=35,0) -> 9 | S10: =IF(R10<8,R10,8) -> 8 | T10: =IF(R10>8,R10-8,0) -> 1 | U10: 35 | V10: 0 | W10: 0 | X10: =_xlfn.IFS(U10>35,U10-35,W10>0,(W10*7)+U10-35,U10<=35,0) -> 0 | Y10: =IF(X10<8,X10,8) -> 0 | Z10: =IF(X10>8,X10-8,0) -> 0 | AA10: 44 | AB10: 0 | AC10: 0 | AD10: =_xlfn.IFS(AA10>35,AA10-35,AC10>0,(AC10*7)+AA10-35,AA10<=35,0) -> 9 | AE10: =IF(AD10<8,AD10,8) -> 8 | AF10: =IF(AD10>8,AD10-8,0) -> 1 | AG10: 35 | AH10: 0 | AI10: 0 | AJ10: =_xlfn.IFS(AG10>35,AG10-35,AI10>0,(AI10*7)+AG10-35,AG10<=35,0) -> 0 | AK10: =IF(AJ10<8,AJ10,8) -> 0 | AL10: =IF(AJ10>8,AJ10-8,0) -> 0 | AM10: 35 | AN10: 0 | AO10: 0 | AP10: =_xlfn.IFS(AM10>35,AM10-35,AO10>0,(AO10*7)+AM10-35,AM10<=35,0) -> 0 | AQ10: =IF(AP10<8,AP10,8) -> 0 | AR10: =IF(AP10>8,AP10-8,0) -> 0
B11: 2 | C11: 18 | D11: 0 | E11: 3 | F11: =_xlfn.IFS(C11>35,C11-35,E11>0,(E11*7)+C11-35,C11<=35,0) -> 4 | G11: =IF(F11<8,F11,8) -> 4 | H11: =IF(F11>8,F11-8,0) -> 0 | I11: 38 | J11: 0 | K11: 0 | L11: =_xlfn.IFS(I11>35,I11-35,K11>0,(K11*7)+I11-35,I11<=35,0) -> 3 | M11: =IF(L11<8,L11,8) -> 3 | N11: =IF(L11>8,L11-8,0) -> 0 | O11: 35 | P11: 0 | Q11: 0 | R11: =_xlfn.IFS(O11>35,O11-35,Q11>0,(Q11*7)+O11-35,O11<=35,0) -> 0 | S11: =IF(R11<8,R11,8) -> 0 | T11: =IF(R11>8,R11-8,0) -> 0 | U11: 35 | V11: 0 | W11: 0 | X11: =_xlfn.IFS(U11>35,U11-35,W11>0,(W11*7)+U11-35,U11<=35,0) -> 0 | Y11: =IF(X11<8,X11,8) -> 0 | Z11: =IF(X11>8,X11-8,0) -> 0 | AA11: 21 | AB11: 0 | AC11: 3 | AD11: =_xlfn.IFS(AA11>35,AA11-35,AC11>0,(AC11*7)+AA11-35,AA11<=35,0) -> 7 | AE11: =IF(AD11<8,AD11,8) -> 7 | AF11: =IF(AD11>8,AD11-8,0) -> 0 | AG11: 35 | AH11: 0 | AI11: 0 | AJ11: =_xlfn.IFS(AG11>35,AG11-35,AI11>0,(AI11*7)+AG11-35,AG11<=35,0) -> 0 | AK11: =IF(AJ11<8,AJ11,8) -> 0 | AL11: =IF(AJ11>8,AJ11-8,0) -> 0 | AM11: 35 | AN11: 0 | AO11: 0 | AP11: =_xlfn.IFS(AM11>35,AM11-35,AO11>0,(AO11*7)+AM11-35,AM11<=35,0) -> 0 | AQ11: =IF(AP11<8,AP11,8) -> 0 | AR11: =IF(AP11>8,AP11-8,0) -> 0
B12: 3 | C12: 35 | D12: 0 | E12: 0 | F12: =_xlfn.IFS(C12>35,C12-35,E12>0,(E12*7)+C12-35,C12<=35,0) -> 0 | G12: =IF(F12<8,F12,8) -> 0 | H12: =IF(F12>8,F12-8,0) -> 0 | I12: 17 | J12: 0 | K12: 3 | L12: =_xlfn.IFS(I12>35,I12-35,K12>0,(K12*7)+I12-35,I12<=35,0) -> 3 | M12: =IF(L12<8,L12,8) -> 3 | N12: =IF(L12>8,L12-8,0) -> 0 | O12: 0 | P12: 5 | Q12: 0 | R12: =_xlfn.IFS(O12>35,O12-35,Q12>0,(Q12*7)+O12-35,O12<=35,0) -> 0 | S12: =IF(R12<8,R12,8) -> 0 | T12: =IF(R12>8,R12-8,0) -> 0 | U12: 35 | V12: 0 | W12: 0 | X12: =_xlfn.IFS(U12>35,U12-35,W12>0,(W12*7)+U12-35,U12<=35,0) -> 0 | Y12: =IF(X12<8,X12,8) -> 0 | Z12: =IF(X12>8,X12-8,0) -> 0 | AA12: 35 | AB12: 0 | AC12: 0 | AD12: =_xlfn.IFS(AA12>35,AA12-35,AC12>0,(AC12*7)+AA12-35,AA12<=35,0) -> 0 | AE12: =IF(AD12<8,AD12,8) -> 0 | AF12: =IF(AD12>8,AD12-8,0) -> 0 | AG12: 45 | AH12: 0 | AI12: 0 | AJ12: =_xlfn.IFS(AG12>35,AG12-35,AI12>0,(AI12*7)+AG12-35,AG12<=35,0) -> 10 | AK12: =IF(AJ12<8,AJ12,8) -> 8 | AL12: =IF(AJ12>8,AJ12-8,0) -> 2 | AM12: 35 | AN12: 0 | AO12: 0 | AP12: =_xlfn.IFS(AM12>35,AM12-35,AO12>0,(AO12*7)+AM12-35,AM12<=35,0) -> 0 | AQ12: =IF(AP12<8,AP12,8) -> 0 | AR12: =IF(AP12>8,AP12-8,0) -> 0
B13: 4 | C13: 19 | D13: 0 | E13: 3 | F13: =_xlfn.IFS(C13>35,C13-35,E13>0,(E13*7)+C13-35,C13<=35,0) -> 5 | G13: =IF(F13<8,F13,8) -> 5 | H13: =IF(F13>8,F13-8,0) -> 0 | I13: 35 | J13: 0 | K13: 0 | L13: =_xlfn.IFS(I13>35,I13-35,K13>0,(K13*7)+I13-35,I13<=35,0) -> 0 | M13: =IF(L13<8,L13,8) -> 0 | N13: =IF(L13>8,L13-8,0) -> 0 | O13: 0 | P13: 5 | Q13: 0 | R13: =_xlfn.IFS(O13>35,O13-35,Q13>0,(Q13*7)+O13-35,O13<=35,0) -> 0 | S13: =IF(R13<8,R13,8) -> 0 | T13: =IF(R13>8,R13-8,0) -> 0 | U13: 35 | W13: 0 | X13: =_xlfn.IFS(U13>35,U13-35,W13>0,(W13*7)+U13-35,U13<=35,0) -> 0 | Y13: =IF(X13<8,X13,8) -> 0 | Z13: =IF(X13>8,X13-8,0) -> 0 | AA13: 35 | AB13: 0 | AC13: 0 | AD13: =_xlfn.IFS(AA13>35,AA13-35,AC13>0,(AC13*7)+AA13-35,AA13<=35,0) -> 0 | AE13: =IF(AD13<8,AD13,8) -> 0 | AF13: =IF(AD13>8,AD13-8,0) -> 0 | AG13: 35 | AH13: 0 | AI13: 0 | AJ13: =_xlfn.IFS(AG13>35,AG13-35,AI13>0,(AI13*7)+AG13-35,AG13<=35,0) -> 0 | AK13: =IF(AJ13<8,AJ13,8) -> 0 | AL13: =IF(AJ13>8,AJ13-8,0) -> 0 | AM13: 14 | AN13: 3 | AO13: 0 | AP13: =_xlfn.IFS(AM13>35,AM13-35,AO13>0,(AO13*7)+AM13-35,AM13<=35,0) -> 0 | AQ13: =IF(AP13<8,AP13,8) -> 0 | AR13: =IF(AP13>8,AP13-8,0) -> 0
B14: 5 | C14: 21 | D14: 0 | E14: 0 | F14: =_xlfn.IFS(C14>35,C14-35,E14>0,(E14*7)+C14-35,C14<=35,0) -> 0 | G14: =IF(F14<8,F14,8) -> 0 | H14: =IF(F14>8,F14-8,0) -> 0 | I14: 21 | J14: 0 | K14: 0 | L14: =_xlfn.IFS(I14>35,I14-35,K14>0,(K14*7)+I14-35,I14<=35,0) -> 0 | M14: =IF(L14<8,L14,8) -> 0 | N14: =IF(L14>8,L14-8,0) -> 0 | O14: 21 | P14: 0 | Q14: 0 | R14: =_xlfn.IFS(O14>35,O14-35,Q14>0,(Q14*7)+O14-35,O14<=35,0) -> 0 | S14: =IF(R14<8,R14,8) -> 0 | T14: =IF(R14>8,R14-8,0) -> 0 | U14: 21 | V14: 0 | W14: 0 | X14: =_xlfn.IFS(U14>35,U14-35,W14>0,(W14*7)+U14-35,U14<=35,0) -> 0 | Y14: =IF(X14<8,X14,8) -> 0 | Z14: =IF(X14>8,X14-8,0) -> 0 | AA14: 21 | AB14: 0 | AC14: 0 | AD14: =_xlfn.IFS(AA14>35,AA14-35,AC14>0,(AC14*7)+AA14-35,AA14<=35,0) -> 0 | AE14: =IF(AD14<8,AD14,8) -> 0 | AF14: =IF(AD14>8,AD14-8,0) -> 0 | AG14: 21 | AH14: 0 | AI14: 0 | AJ14: =_xlfn.IFS(AG14>35,AG14-35,AI14>0,(AI14*7)+AG14-35,AG14<=35,0) -> 0 | AK14: =IF(AJ14<8,AJ14,8) -> 0 | AL14: =IF(AJ14>8,AJ14-8,0) -> 0 | AM14: 21 | AN14: 0 | AO14: 0 | AP14: =_xlfn.IFS(AM14>35,AM14-35,AO14>0,(AO14*7)+AM14-35,AM14<=35,0) -> 0 | AQ14: =IF(AP14<8,AP14,8) -> 0 | AR14: =IF(AP14>8,AP14-8,0) -> 0
B15: TOTAL | C15: =SUM(C10:C14) -> 138 | D15: =SUM(D10:D14) -> 0 | E15: =SUM(E10:E14) -> 6 | F15: =SUM(F10:F14) -> 19 | G15: =SUM(G10:G14) -> 17 | H15: =SUM(H10:H14) -> 2 | I15: =SUM(I10:I14) -> 146 | J15: =SUM(J10:J14) -> 0 | ... AR15: =SUM(AR10:AR14) -> 0
C16: OBJECTIF | F16: PRIME | I16: OBJECTIF | L16: PRIME
B17: MENSUEL | C17: 7830 | F17: =IFERROR(_xlfn.IFS(C17='INFOS COMMERCIAUX'!C12,'INFOS COMMERCIAUX'!C13,C17>'INFOS COMMERCIAUX'!C12,(('INFOS MOIS'!C17-'INFOS COMMERCIAUX'!C12)*'INFOS COMMERCIAUX'!C14)+'INFOS COMMERCIAUX'!C13,C17<'INFOS COMMERCIAUX'!C12,0),0) -> 860 | I17: 6000 | L17: =IFERROR(_xlfn.IFS(I17<'INFOS COMMERCIAUX'!D12,0,'INFOS MOIS'!I17='INFOS COMMERCIAUX'!D12,'INFOS COMMERCIAUX'!D13,'INFOS MOIS'!I17>'INFOS COMMERCIAUX'!D12,((('INFOS MOIS'!I17-'INFOS COMMERCIAUX'!D12)*'INFOS COMMERCIAUX'!D14)+'INFOS COMMERCIAUX'!D13)),0) -> 0
B18: TRIMEST
B19: ANNUEL
B20: TOTAL | C20: =SUM(C17:E19) -> 7830 | F20: =SUM(F17:H19) -> 860 | I20: =SUM(I17:K19) -> 6000 | L20: =SUM(L17:N19) -> 0 | AC20: MOTIF ABSENCE
X21: NOM | Y21: SEMAINE | AA21: HEURE | AB21: EVT FAM | AC21: CP | AD21: ARRET | AE21: RECUP
X22: GRENIER | Y22: 1
Y23: 2
Y24: 3
Y25: 4

Sheet Feuil3
E1: DU | G1: 43405 | M1: AU | O1: 43434
I2: rajouter si jours feries
B3: NOM | C3: SEMAINE | D3: JOUR FERIES | E3: Base heure/S | F3: heure | G3: MOTIF ABSENCE | X3: NB H SUP | Y3: 0.25 | Z3: 0.5 | AA3: NB JOUR AB
H4: EVT FAM | L4: CP | P4: ARRET | T4: RECUP
B5: DURANT | G5: DATE | H5: du | J5: au | L5: du | N5: au | P5: du | R5: au | T5: du | V5: au
C6: =WEEKNUM($G$1,21) -> 44 | E6: =_xlfn.IFS(WEEKDAY($G$1,2)=1,35,WEEKDAY($G$1,2)=2,28,WEEKDAY($G$1,2)=3,21,WEEKDAY($G$1,2)=4,14,WEEKDAY($G$1,2)=5,7,WEEKDAY($G$1,2)=6,0,WEEKDAY($G$1,2)=7,0) -> 14 | F6: 18 | X6: =IF(SUM(I6,M6,Q6,U6)*7+F6>E6,SUM(I6,M6,Q6,U6)*7+F6-E6,0) -> 4 | Y6: =IF(X6<8,X6,8) -> 4 | Z6: =IF(X6>8,X6-8,0) -> 0 | AA6: =SUM(I6,M6,Q6,U6) -> 0
C7: =SUM(WEEKNUM($G$1,21)+1) -> 45 | D7: =IF(WEEKNUM(C7,21),COUNTIF(Jour_Fériés,Feuil1!$D$16<>"dimanche"<>"samedi"),0) -> 0 | E7: 35 | F7: 18 | X7: =IF(SUM(I7,M7,Q7,U7)*7+F7>E7,SUM(I7,M7,Q7,U7)*7+F7-E7,0) -> 0 | Y7: =IF(X7<8,X7,8) -> 0 | Z7: =IF(X7>8,X7-8,0) -> 0 | AA7: =SUM(I7,M7,Q7,U7) -> 0
C8: =WEEKNUM($G$1,21)+2 -> 46 | D8: =IF(WEEKNUM(C8,21),COUNTIF(Jour_Fériés,formules<>"samedi"<>"dimanche"),0) -> 0 | E8: 35 | F8: 37 | X8: =IF(SUM(I8,M8,Q8,U8)*7+F8>E8,SUM(I8,M8,Q8,U8)*7+F8-E8,0) -> 2 | Y8: =IF(X8<8,X8,8) -> 2 | Z8: =IF(X8>8,X8-8,0) -> 0 | AA8: =SUM(I8,M8,Q8,U8) -> 0
C9: =WEEKNUM($G$1,21)+3 -> 47 | D9: =IF(WEEKNUM(C9,21),COUNTIF(Jour_Fériés,formules<>"samedi"<>"dimanche"),1) -> 0 | E9: 35 | F9: 35 | X9: =IF(SUM(I9,M9,Q9,U9)*7+F9>E9,SUM(I9,M9,Q9,U9)*7+F9-E9,0) -> 0 | Y9: =IF(X9<8,X9,8) -> 0 | Z9: =IF(X9>8,X9-8,0) -> 0 | AA9: =SUM(I9,M9,Q9,U9) -> 0
C10: =WEEKNUM($G$1,21)+4 -> 48 | D10: =IF(WEEKNUM(C10,21),COUNTIF(Jour_Fériés,formules<>"samedi"<>"dimanche"),1) -> 0 | E10: =_xlfn.IFS(WEEKDAY($O$1,2)=1,7,WEEKDAY($O$1,2)=2,14,WEEKDAY($O$1,2)=3,21,WEEKDAY($O$1,2)=4,28,WEEKDAY($O$1,2)=5,35,WEEKDAY($O$1,2)=6,0,WEEKDAY($O$1,2)=7,0) -> 35 | F10: 21 | X10: =IF(SUM(I10,M10,Q10,U10)*7+F10>E10,SUM(I10,M10,Q10,U10)*7+F10-E10,0) -> 0 | Y10: =IF(X10<8,X10,8) -> 0 | Z10: =IF(X10>8,X10-8,0) -> 0 | AA10: =SUM(I10,M10,Q10,U10) -> 0
B11: TOTAL | F11: =SUM(F6:F10) -> 129 | I11: =SUM(I6:I10) -> 0 | M11: =SUM(M6:M10) -> 0 | Q11: =SUM(Q6:Q10) -> 0 | U11: =SUM(U6:U10) -> 0 | X11: =SUM(X6:X10) -> 6 | Y11: =SUM(Y6:Y10) -> 6 | Z11: =SUM(Z6:Z10) -> 0 | AA11: =SUM(AA6:AA10) -> 0
B12: DUBOIS | G12: DATE | H12: du | J12: au | L12: du | N12: au | P12: du | R12: au | T12: du | V12: au
C13: =WEEKNUM($G$1,21) -> 44 | E13: 35 | F13: 35 | X13: =IF(SUM(I13,M13,Q13,U13)*7+F13>E13,SUM(I13,M13,Q13,U13)*7+F13-E13,0) -> 0 | Y13: =IF(X13<8,X13,8) -> 0 | Z13: =IF(X13>8,X13-8,0) -> 0 | AA13: =SUM(I13,M13,Q13,U13) -> 0
C14: =SUM(WEEKNUM($G$1,21)+1) -> 45 | E14: 35 | F14: 35 | X14: =IF(SUM(I14,M14,Q14,U14)*7+F14>E14,SUM(I14,M14,Q14,U14)*7+F14-E14,0) -> 0 | Y14: =IF(X14<8,X14,8) -> 0 | Z14: =IF(X14>8,X14-8,0) -> 0 | AA14: =SUM(I14,M14,Q14,U14) -> 0
C15: =WEEKNUM($G$1,21)+2 -> 46 | E15: 35 | F15: 35 | X15: =IF(SUM(I15,M15,Q15,U15)*7+F15>E15,SUM(I15,M15,Q15,U15)*7+F15-E15,0) -> 0 | Y15: =IF(X15<8,X15,8) -> 0 | Z15: =IF(X15>8,X15-8,0) -> 0 | AA15: =SUM(I15,M15,Q15,U15) -> 0
C16: =WEEKNUM($G$1,21)+3 -> 47 | E16: 35 | F16: 35 | X16: =IF(SUM(I16,M16,Q16,U16)*7+F16>E16,SUM(I16,M16,Q16,U16)*7+F16-E16,0) -> 0 | Y16: =IF(X16<8,X16,8) -> 0 | Z16: =IF(X16>8,X16-8,0) -> 0 | AA16: =SUM(I16,M16,Q16,U16) -> 0
C17: =WEEKNUM($G$1,21)+4 -> 48 | E17: =_xlfn.IFS(WEEKDAY($O$1,2)=1,7,WEEKDAY($O$1,2)=2,14,WEEKDAY($O$1,2)=3,21,WEEKDAY($O$1,2)=4,28,WEEKDAY($O$1,2)=5,35,WEEKDAY($O$1,2)=6,0,WEEKDAY($O$1,2)=7,0) -> 35 | F17: 21 | X17: =IF(SUM(I17,M17,Q17,U17)*7+F17>E17,SUM(I17,M17,Q17,U17)*7+F17-E17,0) -> 0 | Y17: =IF(X17<8,X17,8) -> 0 | Z17: =IF(X17>8,X17-8,0) -> 0 | AA17: =SUM(I17,M17,Q17,U17) -> 0
B18: TOTAL | F18: =SUM(F13:F17) -> 161 | I18: =SUM(I13:I17) -> 0 | M18: =SUM(M13:M17) -> 0 | Q18: =SUM(Q13:Q17) -> 0 | U18: =SUM(U13:U17) -> 0 | X18: =SUM(X13:X17) -> 0 | Y18: =SUM(Y13:Y17) -> 0 | Z18: =SUM(Z13:Z17) -> 0 | AA18: =SUM(AA13:AA17) -> 0
B19: GRENIER | G19: DATE | H19: du | J19: au | L19: du | N19: au | P19: du | Q19: 43374 | R19: au | S19: 43387 | T19: du | V19: au
C20: =WEEKNUM($G$1,21) -> 44 | E20: 35 | F20: 0 | Q20: 5 | X20: =IF(SUM(I20,M20,Q20,U20)*7+F20>E20,SUM(I20,M20,Q20,U20)*7+F20-E20,0) -> 0 | Y20: =IF(X20<8,X20,8) -> 0 | Z20: =IF(X20>8,X20-8,0) -> 0 | AA20: =SUM(I20,M20,Q20,U20) -> 5
C21: =SUM(WEEKNUM($G$1,21)+1) -> 45 | E21: 35 | F21: 0 | Q21: 5 | X21: =IF(SUM(I21,M21,Q21,U21)*7+F21>E21,SUM(I21,M21,Q21,U21)*7+F21-E21,0) -> 0 | Y21: =IF(X21<8,X21,8) -> 0 | Z21: =IF(X21>8,X21-8,0) -> 0 | AA21: =SUM(I21,M21,Q21,U21) -> 5
C22: =WEEKNUM($G$1,21)+2 -> 46 | E22: 35 | F22: 35 | X22: =IF(SUM(I22,M22,Q22,U22)*7+F22>E22,SUM(I22,M22,Q22,U22)*7+F22-E22,0) -> 0 | Y22: =IF(X22<8,X22,8) -> 0 | Z22: =IF(X22>8,X22-8,0) -> 0 | AA22: =SUM(I22,M22,Q22,U22) -> 0
C23: =WEEKNUM($G$1,21)+3 -> 47 | E23: 35 | F23: 35 | X23: =IF(SUM(I23,M23,Q23,U23)*7+F23>E23,SUM(I23,M23,Q23,U23)*7+F23-E23,0) -> 0 | Y23: =IF(X23<8,X23,8) -> 0 | Z23: =IF(X23>8,X23-8,0) -> 0 | AA23: =SUM(I23,M23,Q23,U23) -> 0
C24: =WEEKNUM($G$1,21)+4 -> 48 | E24: =_xlfn.IFS(WEEKDAY($O$1,2)=1,7,WEEKDAY($O$1,2)=2,14,WEEKDAY($O$1,2)=3,21,WEEKDAY($O$1,2)=4,28,WEEKDAY($O$1,2)=5,35,WEEKDAY($O$1,2)=6,0,WEEKDAY($O$1,2)=7,0) -> 35 | F24: 21 | X24: =IF(SUM(I24,M24,Q24,U24)*7+F24>E24,SUM(I24,M24,Q24,U24)*7+F24-E24,0) -> 0 | Y24: =IF(X24<8,X24,8) -> 0 | Z24: =IF(X24>8,X24-8,0) -> 0 | AA24: =SUM(I24,M24,Q24,U24) -> 0
B25: TOTAL | F25: =SUM(F20:F24) -> 91 | I25: =SUM(I20:I24) -> 0 | M25: =SUM(M20:M24) -> 0 | Q25: =SUM(Q20:Q24) -> 10 | U25: =SUM(U20:U24) -> 0 | X25: =SUM(X20:X24) -> 0 | Y25: =SUM(Y20:Y24) -> 0 | Z25: =SUM(Z20:Z24) -> 0 | AA25: =SUM(AA20:AA24) -> 10
B26: LEVAL | G26: DATE | H26: du | J26: au | L26: du | N26: au | P26: du | R26: au | T26: du | V26: au
C27: =WEEKNUM($G$1,21) -> 44 | E27: 35 | F27: 35 | X27: =IF(SUM(I27,M27,Q27,U27)*7+F27>E27,SUM(I27,M27,Q27,U27)*7+F27-E27,0) -> 0 | Y27: =IF(X27<8,X27,8) -> 0 | Z27: =IF(X27>8,X27-8,0) -> 0 | AA27: =SUM(I27,M27,Q27,U27) -> 0
C28: =SUM(WEEKNUM($G$1,21)+1) -> 45 | E28: 35 | F28: 35 | X28: =IF(SUM(I28,M28,Q28,U28)*7+F28>E28,SUM(I28,M28,Q28,U28)*7+F28-E28,0) -> 0 | Y28: =IF(X28<8,X28,8) -> 0 | Z28: =IF(X28>8,X28-8,0) -> 0 | AA28: =SUM(I28,M28,Q28,U28) -> 0
C29: =WEEKNUM($G$1,21)+2 -> 46 | E29: 35 | F29: 35 | X29: =IF(SUM(I29,M29,Q29,U29)*7+F29>E29,SUM(I29,M29,Q29,U29)*7+F29-E29,0) -> 0 | Y29: =IF(X29<8,X29,8) -> 0 | Z29: =IF(X29>8,X29-8,0) -> 0 | AA29: =SUM(I29,M29,Q29,U29) -> 0
C30: =WEEKNUM($G$1,21)+3 -> 47 | E30: 35 | F30: 35 | X30: =IF(SUM(I30,M30,Q30,U30)*7+F30>E30,SUM(I30,M30,Q30,U30)*7+F30-E30,0) -> 0 | Y30: =IF(X30<8,X30,8) -> 0 | Z30: =IF(X30>8,X30-8,0) -> 0 | AA30: =SUM(I30,M30,Q30,U30) -> 0
C31: =WEEKNUM($G$1,21)+4 -> 48 | E31: =_xlfn.IFS(WEEKDAY($O$1,2)=1,7,WEEKDAY($O$1,2)=2,14,WEEKDAY($O$1,2)=3,21,WEEKDAY($O$1,2)=4,28,WEEKDAY($O$1,2)=5,35,WEEKDAY($O$1,2)=6,0,WEEKDAY($O$1,2)=7,0) -> 35 | F31: 35 | X31: =IF(SUM(I31,M31,Q31,U31)*7+F31>E31,SUM(I31,M31,Q31,U31)*7+F31-E31,0) -> 0 | Y31: =IF(X31<8,X31,8) -> 0 | Z31: =IF(X31>8,X31-8,0) -> 0 | AA31: =SUM(I31,M31,Q31,U31) -> 0
B32: TOTAL | F32: =SUM(F27:F31) -> 175 | I32: =SUM(I27:I31) -> 0 | M32: =SUM(M27:M31) -> 0 | Q32: =SUM(Q27:Q31) -> 0 | U32: =SUM(U27:U31) -> 0 | X32: =SUM(X27:X31) -> 0 | Y32: =SUM(Y27:Y31) -> 0 | Z32: =SUM(Z27:Z31) -> 0 | AA32: =SUM(AA27:AA31) -> 0
B33: PORRO | G33: DATE | H33: du | J33: au | L33: du | N33: au | P33: du | R33: au | T33: du | V33: au
C34: =WEEKNUM($G$1,21) -> 44 | E34: 35 | F34: 35 | X34: =IF(SUM(I34,M34,Q34,U34)*7+F34>E34,SUM(I34,M34,Q34,U34)*7+F34-E34,0) -> 0 | Y34: =IF(X34<8,X34,8) -> 0 | Z34: =IF(X34>8,X34-8,0) -> 0 | AA34: =SUM(I34,M34,Q34,U34) -> 0
C35: =SUM(WEEKNUM($G$1,21)+1) -> 45 | E35: 35 | F35: 35 | X35: =IF(SUM(I35,M35,Q35,U35)*7+F35>E35,SUM(I35,M35,Q35,U35)*7+F35-E35,0) -> 0 | Y35: =IF(X35<8,X35,8) -> 0 | Z35: =IF(X35>8,X35-8,0) -> 0 | AA35: =SUM(I35,M35,Q35,U35) -> 0
C36: =WEEKNUM($G$1,21)+2 -> 46 | E36: 35 | F36: 35 | X36: =IF(SUM(I36,M36,Q36,U36)*7+F36>E36,SUM(I36,M36,Q36,U36)*7+F36-E36,0) -> 0 | Y36: =IF(X36<8,X36,8) -> 0 | Z36: =IF(X36>8,X36-8,0) -> 0 | AA36: =SUM(I36,M36,Q36,U36) -> 0
C37: =WEEKNUM($G$1,21)+3 -> 47 | E37: 35 | F37: 35 | X37: =IF(SUM(I37,M37,Q37,U37)*7+F37>E37,SUM(I37,M37,Q37,U37)*7+F37-E37,0) -> 0 | Y37: =IF(X37<8,X37,8) -> 0 | Z37: =IF(X37>8,X37-8,0) -> 0 | AA37: =SUM(I37,M37,Q37,U37) -> 0
C38: =WEEKNUM($G$1,21)+4 -> 48 | E38: =_xlfn.IFS(WEEKDAY($O$1,2)=1,7,WEEKDAY($O$1,2)=2,14,WEEKDAY($O$1,2)=3,21,WEEKDAY($O$1,2)=4,28,WEEKDAY($O$1,2)=5,35,WEEKDAY($O$1,2)=6,0,WEEKDAY($O$1,2)=7,0) -> 35 | F38: 35 | X38: =IF(SUM(I38,M38,Q38,U38)*7+F38>E38,SUM(I38,M38,Q38,U38)*7+F38-E38,0) -> 0 | Y38: =IF(X38<8,X38,8) -> 0 | Z38: =IF(X38>8,X38-8,0) -> 0 | AA38: =SUM(I38,M38,Q38,U38) -> 0
B39: TOTAL | F39: =SUM(F34:F38) -> 175 | I39: =SUM(I34:I38) -> 0 | M39: =SUM(M34:M38) -> 0 | Q39: =SUM(Q34:Q38) -> 0 | U39: =SUM(U34:U38) -> 0 | X39: =SUM(X34:X38) -> 0 | Y39: =SUM(Y34:Y38) -> 0 | Z39: =SUM(Z34:Z38) -> 0 | AA39: =SUM(AA34:AA38) -> 0
B40: DUBREUIL | G40: DATE | H40: du | J40: au | L40: du | N40: au | P40: du | R40: au | T40: du | V40: au
...

Sheet Feuil2
B3: PERIODE | C3: 43374 | D3: AU | E3: 43404
B4: Jours ouvrés | C4: =NETWORKDAYS(C3,E3) -> 23
B7: CALCUL IJSS | C7: 9.88 | D7: Nb heure | E7: 151.67
B8: Smic horaire | C8: ABSENT | I8: Salaire de base | K8: Plafond horaire
B9: SALARIE | C9: OUI | D9: NON | E9: Base horaire mensuelle | F9: nb jours ouvrés absence | J9: Retenue | K9: 1.8
C10: =IF('INFOS MOIS'!D15>0,"X","") | D10: =IF('INFOS MOIS'!D15=0,"X","") -> X | E10: 151.67 | F10: =_xlfn.IFS(C10="X",'INFOS MOIS'!D15,Feuil2!D10="X","") | I10: 4500 | K10: =$C$7*$K$9*$E$7 -> 2697.2993
B11: M. DURANT | C11: =IF('INFOS MOIS'!J15>0,"X","") | D11: =IF('INFOS MOIS'!J15=0,"X","") -> X | E11: 151.67 | F11: =_xlfn.IFS(C11="X",'INFOS MOIS'!J15,Feuil2!D11="X","") | I11: 4300 | K11: =$C$7*$K$9*$E$7 -> 2697.2993
B12: M. DUBOIS | C12: =IF('INFOS MOIS'!P15>0,"X","") -> X | D12: =IF('INFOS MOIS'!P15=0,"X","") | E12: 151.67 | F12: =_xlfn.IFS(C12="X",'INFOS MOIS'!P15,Feuil2!D12="X","") -> 10 | I12: 3452 | K12: =$C$7*$K$9*$E$7 -> 2697.2993
B13: Mme. GRENIER | C13: =IF('INFOS MOIS'!V15>0,"X","") | D13: =IF('INFOS MOIS'!V15=0,"X","") -> X | E13: 151.67 | F13: =_xlfn.IFS(C13="X",'INFOS MOIS'!V15,Feuil2!D13="X","") | K13: =$C$7*$K$9*$E$7 -> 2697.2993
B14: Mme. LEVAL | C14: =IF('INFOS MOIS'!AB15>0,"X","") | D14: =IF('INFOS MOIS'!AB15=0,"X","") -> X | E14: 151.67 | F14: =_xlfn.IFS(C14="X",'INFOS MOIS'!AB15,Feuil2!D14="X","") | K14: =$C$7*$K$9*$E$7 -> 2697.2993
B15: Mme. PORRO | C15: =IF('INFOS MOIS'!AH15>0,"X","") | D15: =IF('INFOS MOIS'!AH15=0,"X","") -> X | E15: 151.67 | F15: =_xlfn.IFS(C15="X",'INFOS MOIS'!AH15,Feuil2!D15="X","") | K15: =$C$7*$K$9*$E$7 -> 2697.2993
B16: M. DUBREUIL | C16: =IF('INFOS MOIS'!AN15>0,"X","") -> X | D16: =IF('INFOS MOIS'!AN15=0,"X","") | E16: 151.67 | F16: =_xlfn.IFS(C16="X",'INFOS MOIS'!AN15,Feuil2!D16="X","") -> 3 | K16: =$C$7*$K$9*$E$7 -> 2697.2993
B17: M. RICCO

Sheet Feuil1
C3: 2018
C6: jour de l'an | D6: =DATE($C$3,1,1) -> 43101
C7: Pâques | D7: =FLOOR(DAY(MINUTE($C$3/38)/2+56)&"/5/"&$C$3,7)-34 -> 43191
C8: Lundi de Pâques | D8: =D7+1 -> 43192
C9: Fête du travail | D9: =DATE($C$3,5,1) -> 43221
C10: Armistice 39/45 | D10: =DATE($C$3,5,8) -> 43228
C11: Ascension | D11: =D7+39 -> 43230
C12: Pentecôte | D12: =D7+49 -> 43240
C13: Lundi de Pentecôte | D13: =D7+50 -> 43241
C14: Fête nationale | D14: =DATE($C$3,7,14) -> 43295
C15: Assomption | D15: =DATE($C$3,8,15) -> 43327
C16: Toussaint | D16: =DATE($C$3,11,1) -> 43405
C17: Armistice 14/18 | D17: =DATE($C$3,11,11) -> 43415
C18: Noêl | D18: =DATE($C$3,12,25) -> 43459
