Workbook

Sheet Collaborateurs
B1: 2018 | C1: 2018 | D1: 2019 | E1: 2019 | F1: 2020 | G1: 2020
A2: Matricule | B2: Entretien 2018 NOM | C2: Entretien 2018 STATUT | D2: Entretien 2019 NOM | E2: Entretien 2019 STATUT | F2: Entretien 2020 NOM | G2: Entretien 2020 STATUT
A3: 1150 | B3: =IF(OR(Entretiens!A2=CONCATENATE(Collaborateurs!A3,Collaborateurs!$B$1),Documents!#REF!=CONCATENATE(Collaborateurs!A3,Collaborateurs!$B$1)),VLOOKUP(CONCATENATE(Collaborateurs!A3,Collaborateurs!$B$1),Entretiens!A:F,9,0),VLOOKUP(CONCATENATE(Collaborateurs!A3,$B$1),Documents!A:E,3,0)) -> #REF!
A4: 3220 | B4: =IF(OR(Entretiens!A3=CONCATENATE(Collaborateurs!A4,Collaborateurs!$B$1),Documents!#REF!=CONCATENATE(Collaborateurs!A4,Collaborateurs!$B$1)),VLOOKUP(CONCATENATE(Collaborateurs!A4,Collaborateurs!$B$1),Entretiens!A:F,9,0),VLOOKUP(CONCATENATE(Collaborateurs!A4,$B$1),Documents!A:E,3,0)) -> #REF!
A5: 5169 | B5: =IF(OR(Entretiens!A4=CONCATENATE(Collaborateurs!A5,Collaborateurs!$B$1),Documents!#REF!=CONCATENATE(Collaborateurs!A5,Collaborateurs!$B$1)),VLOOKUP(CONCATENATE(Collaborateurs!A5,Collaborateurs!$B$1),Entretiens!A:F,9,0),VLOOKUP(CONCATENATE(Collaborateurs!A5,$B$1),Documents!A:E,3,0)) -> #REF!
A6: 10849 | B6: =IF(OR(Entretiens!A5=CONCATENATE(Collaborateurs!A6,Collaborateurs!$B$1),Documents!#REF!=CONCATENATE(Collaborateurs!A6,Collaborateurs!$B$1)),VLOOKUP(CONCATENATE(Collaborateurs!A6,Collaborateurs!$B$1),Entretiens!A:F,9,0),VLOOKUP(CONCATENATE(Collaborateurs!A6,$B$1),Documents!A:E,3,0)) -> #REF!
A7: 11048 | B7: =IF(OR(Entretiens!A6=CONCATENATE(Collaborateurs!A7,Collaborateurs!$B$1),Documents!#REF!=CONCATENATE(Collaborateurs!A7,Collaborateurs!$B$1)),VLOOKUP(CONCATENATE(Collaborateurs!A7,Collaborateurs!$B$1),Entretiens!A:F,9,0),VLOOKUP(CONCATENATE(Collaborateurs!A7,$B$1),Documents!A:E,3,0)) -> #REF!
A8: 11217 | B8: =IF(OR(Entretiens!A7=CONCATENATE(Collaborateurs!A8,Collaborateurs!$B$1),Documents!#REF!=CONCATENATE(Collaborateurs!A8,Collaborateurs!$B$1)),VLOOKUP(CONCATENATE(Collaborateurs!A8,Collaborateurs!$B$1),Entretiens!A:F,9,0),VLOOKUP(CONCATENATE(Collaborateurs!A8,$B$1),Documents!A:E,3,0)) -> #REF!
A9: 12435 | B9: =IF(OR(Entretiens!#REF!=CONCATENATE(Collaborateurs!A9,Collaborateurs!$B$1),Documents!#REF!=CONCATENATE(Collaborateurs!A9,Collaborateurs!$B$1)),VLOOKUP(CONCATENATE(Collaborateurs!A9,Collaborateurs!$B$1),Entretiens!A:F,9,0),VLOOKUP(CONCATENATE(Collaborateurs!A9,$B$1),Documents!A:E,3,0)) -> #REF!
A10: 12907 | B10: =IF(OR(Entretiens!#REF!=CONCATENATE(Collaborateurs!A10,Collaborateurs!$B$1),Documents!#REF!=CONCATENATE(Collaborateurs!A10,Collaborateurs!$B$1)),VLOOKUP(CONCATENATE(Collaborateurs!A10,Collaborateurs!$B$1),Entretiens!A:F,9,0),VLOOKUP(CONCATENATE(Collaborateurs!A10,$B$1),Documents!A:E,3,0)) -> #REF!
A11: 12911 | B11: =IF(OR(Entretiens!A8=CONCATENATE(Collaborateurs!A11,Collaborateurs!$B$1),Documents!#REF!=CONCATENATE(Collaborateurs!A11,Collaborateurs!$B$1)),VLOOKUP(CONCATENATE(Collaborateurs!A11,Collaborateurs!$B$1),Entretiens!A:F,9,0),VLOOKUP(CONCATENATE(Collaborateurs!A11,$B$1),Documents!A:E,3,0)) -> #REF!
A12: 12912 | B12: =IF(OR(Entretiens!#REF!=CONCATENATE(Collaborateurs!A12,Collaborateurs!$B$1),Documents!#REF!=CONCATENATE(Collaborateurs!A12,Collaborateurs!$B$1)),VLOOKUP(CONCATENATE(Collaborateurs!A12,Collaborateurs!$B$1),Entretiens!A:F,9,0),VLOOKUP(CONCATENATE(Collaborateurs!A12,$B$1),Documents!A:E,3,0)) -> #REF!
A13: 12941 | B13: =IF(OR(Entretiens!#REF!=CONCATENATE(Collaborateurs!A13,Collaborateurs!$B$1),Documents!#REF!=CONCATENATE(Collaborateurs!A13,Collaborateurs!$B$1)),VLOOKUP(CONCATENATE(Collaborateurs!A13,Collaborateurs!$B$1),Entretiens!A:F,9,0),VLOOKUP(CONCATENATE(Collaborateurs!A13,$B$1),Documents!A:E,3,0)) -> #REF!
A14: 13085 | B14: =IF(OR(Entretiens!#REF!=CONCATENATE(Collaborateurs!A14,Collaborateurs!$B$1),Documents!#REF!=CONCATENATE(Collaborateurs!A14,Collaborateurs!$B$1)),VLOOKUP(CONCATENATE(Collaborateurs!A14,Collaborateurs!$B$1),Entretiens!A:F,9,0),VLOOKUP(CONCATENATE(Collaborateurs!A14,$B$1),Documents!A:E,3,0)) -> #REF!
A15: 13534 | B15: =IF(OR(Entretiens!#REF!=CONCATENATE(Collaborateurs!A15,Collaborateurs!$B$1),Documents!#REF!=CONCATENATE(Collaborateurs!A15,Collaborateurs!$B$1)),VLOOKUP(CONCATENATE(Collaborateurs!A15,Collaborateurs!$B$1),Entretiens!A:F,9,0),VLOOKUP(CONCATENATE(Collaborateurs!A15,$B$1),Documents!A:E,3,0)) -> #REF!
A16: 13655 | B16: =IF(OR(Entretiens!A9=CONCATENATE(Collaborateurs!A16,Collaborateurs!$B$1),Documents!#REF!=CONCATENATE(Collaborateurs!A16,Collaborateurs!$B$1)),VLOOKUP(CONCATENATE(Collaborateurs!A16,Collaborateurs!$B$1),Entretiens!A:F,9,0),VLOOKUP(CONCATENATE(Collaborateurs!A16,$B$1),Documents!A:E,3,0)) -> #REF!
A17: 13702 | B17: =IF(OR(Entretiens!#REF!=CONCATENATE(Collaborateurs!A17,Collaborateurs!$B$1),Documents!#REF!=CONCATENATE(Collaborateurs!A17,Collaborateurs!$B$1)),VLOOKUP(CONCATENATE(Collaborateurs!A17,Collaborateurs!$B$1),Entretiens!A:F,9,0),VLOOKUP(CONCATENATE(Collaborateurs!A17,$B$1),Documents!A:E,3,0)) -> #REF!
A18: 13785 | B18: =IF(OR(Entretiens!#REF!=CONCATENATE(Collaborateurs!A18,Collaborateurs!$B$1),Documents!#REF!=CONCATENATE(Collaborateurs!A18,Collaborateurs!$B$1)),VLOOKUP(CONCATENATE(Collaborateurs!A18,Collaborateurs!$B$1),Entretiens!A:F,9,0),VLOOKUP(CONCATENATE(Collaborateurs!A18,$B$1),Documents!A:E,3,0)) -> #REF!
A19: 13800 | B19: =IF(OR(Entretiens!#REF!=CONCATENATE(Collaborateurs!A19,Collaborateurs!$B$1),Documents!#REF!=CONCATENATE(Collaborateurs!A19,Collaborateurs!$B$1)),VLOOKUP(CONCATENATE(Collaborateurs!A19,Collaborateurs!$B$1),Entretiens!A:F,9,0),VLOOKUP(CONCATENATE(Collaborateurs!A19,$B$1),Documents!A:E,3,0)) -> #REF!
A20: 13837 | B20: =IF(OR(Entretiens!#REF!=CONCATENATE(Collaborateurs!A20,Collaborateurs!$B$1),Documents!#REF!=CONCATENATE(Collaborateurs!A20,Collaborateurs!$B$1)),VLOOKUP(CONCATENATE(Collaborateurs!A20,Collaborateurs!$B$1),Entretiens!A:F,9,0),VLOOKUP(CONCATENATE(Collaborateurs!A20,$B$1),Documents!A:E,3,0)) -> #REF!
A21: 14121 | B21: =IF(OR(Entretiens!A10=CONCATENATE(Collaborateurs!A21,Collaborateurs!$B$1),Documents!#REF!=CONCATENATE(Collaborateurs!A21,Collaborateurs!$B$1)),VLOOKUP(CONCATENATE(Collaborateurs!A21,Collaborateurs!$B$1),Entretiens!A:F,9,0),VLOOKUP(CONCATENATE(Collaborateurs!A21,$B$1),Documents!A:E,3,0)) -> #REF!
A22: 14337 | B22: =IF(OR(Entretiens!#REF!=CONCATENATE(Collaborateurs!A22,Collaborateurs!$B$1),Documents!#REF!=CONCATENATE(Collaborateurs!A22,Collaborateurs!$B$1)),VLOOKUP(CONCATENATE(Collaborateurs!A22,Collaborateurs!$B$1),Entretiens!A:F,9,0),VLOOKUP(CONCATENATE(Collaborateurs!A22,$B$1),Documents!A:E,3,0)) -> #REF!
A23: 14340 | B23: =IF(OR(Entretiens!A11=CONCATENATE(Collaborateurs!A23,Collaborateurs!$B$1),Documents!#REF!=CONCATENATE(Collaborateurs!A23,Collaborateurs!$B$1)),VLOOKUP(CONCATENATE(Collaborateurs!A23,Collaborateurs!$B$1),Entretiens!A:F,9,0),VLOOKUP(CONCATENATE(Collaborateurs!A23,$B$1),Documents!A:E,3,0)) -> #REF!
A24: 14347 | B24: =IF(OR(Entretiens!#REF!=CONCATENATE(Collaborateurs!A24,Collaborateurs!$B$1),Documents!#REF!=CONCATENATE(Collaborateurs!A24,Collaborateurs!$B$1)),VLOOKUP(CONCATENATE(Collaborateurs!A24,Collaborateurs!$B$1),Entretiens!A:F,9,0),VLOOKUP(CONCATENATE(Collaborateurs!A24,$B$1),Documents!A:E,3,0)) -> #REF!
A25: 14350 | B25: =IF(OR(Entretiens!A12=CONCATENATE(Collaborateurs!A25,Collaborateurs!$B$1),Documents!#REF!=CONCATENATE(Collaborateurs!A25,Collaborateurs!$B$1)),VLOOKUP(CONCATENATE(Collaborateurs!A25,Collaborateurs!$B$1),Entretiens!A:F,9,0),VLOOKUP(CONCATENATE(Collaborateurs!A25,$B$1),Documents!A:E,3,0)) -> #REF!
A26: 14367 | B26: =IF(OR(Entretiens!#REF!=CONCATENATE(Collaborateurs!A26,Collaborateurs!$B$1),Documents!#REF!=CONCATENATE(Collaborateurs!A26,Collaborateurs!$B$1)),VLOOKUP(CONCATENATE(Collaborateurs!A26,Collaborateurs!$B$1),Entretiens!A:F,9,0),VLOOKUP(CONCATENATE(Collaborateurs!A26,$B$1),Documents!A:E,3,0)) -> #REF!
A27: 14392 | B27: =IF(OR(Entretiens!#REF!=CONCATENATE(Collaborateurs!A27,Collaborateurs!$B$1),Documents!#REF!=CONCATENATE(Collaborateurs!A27,Collaborateurs!$B$1)),VLOOKUP(CONCATENATE(Collaborateurs!A27,Collaborateurs!$B$1),Entretiens!A:F,9,0),VLOOKUP(CONCATENATE(Collaborateurs!A27,$B$1),Documents!A:E,3,0)) -> #REF!
A28: 14635 | B28: =IF(OR(Entretiens!A13=CONCATENATE(Collaborateurs!A28,Collaborateurs!$B$1),Documents!#REF!=CONCATENATE(Collaborateurs!A28,Collaborateurs!$B$1)),VLOOKUP(CONCATENATE(Collaborateurs!A28,Collaborateurs!$B$1),Entretiens!A:F,9,0),VLOOKUP(CONCATENATE(Collaborateurs!A28,$B$1),Documents!A:E,3,0)) -> #REF!
A29: 14655 | B29: =IF(OR(Entretiens!#REF!=CONCATENATE(Collaborateurs!A29,Collaborateurs!$B$1),Documents!#REF!=CONCATENATE(Collaborateurs!A29,Collaborateurs!$B$1)),VLOOKUP(CONCATENATE(Collaborateurs!A29,Collaborateurs!$B$1),Entretiens!A:F,9,0),VLOOKUP(CONCATENATE(Collaborateurs!A29,$B$1),Documents!A:E,3,0)) -> #REF!
A30: 14757 | B30: =IF(OR(Entretiens!A14=CONCATENATE(Collaborateurs!A30,Collaborateurs!$B$1),Documents!#REF!=CONCATENATE(Collaborateurs!A30,Collaborateurs!$B$1)),VLOOKUP(CONCATENATE(Collaborateurs!A30,Collaborateurs!$B$1),Entretiens!A:F,9,0),VLOOKUP(CONCATENATE(Collaborateurs!A30,$B$1),Documents!A:E,3,0)) -> #REF!
A31: 14945 | B31: =IF(OR(Entretiens!#REF!=CONCATENATE(Collaborateurs!A31,Collaborateurs!$B$1),Documents!#REF!=CONCATENATE(Collaborateurs!A31,Collaborateurs!$B$1)),VLOOKUP(CONCATENATE(Collaborateurs!A31,Collaborateurs!$B$1),Entretiens!A:F,9,0),VLOOKUP(CONCATENATE(Collaborateurs!A31,$B$1),Documents!A:E,3,0)) -> #REF!
A32: 15004 | B32: =IF(OR(Entretiens!A15=CONCATENATE(Collaborateurs!A32,Collaborateurs!$B$1),Documents!#REF!=CONCATENATE(Collaborateurs!A32,Collaborateurs!$B$1)),VLOOKUP(CONCATENATE(Collaborateurs!A32,Collaborateurs!$B$1),Entretiens!A:F,9,0),VLOOKUP(CONCATENATE(Collaborateurs!A32,$B$1),Documents!A:E,3,0)) -> #REF!
A33: 15077 | B33: =IF(OR(Entretiens!A16=CONCATENATE(Collaborateurs!A33,Collaborateurs!$B$1),Documents!#REF!=CONCATENATE(Collaborateurs!A33,Collaborateurs!$B$1)),VLOOKUP(CONCATENATE(Collaborateurs!A33,Collaborateurs!$B$1),Entretiens!A:F,9,0),VLOOKUP(CONCATENATE(Collaborateurs!A33,$B$1),Documents!A:E,3,0)) -> #REF!
A34: 15113 | B34: =IF(OR(Entretiens!#REF!=CONCATENATE(Collaborateurs!A34,Collaborateurs!$B$1),Documents!#REF!=CONCATENATE(Collaborateurs!A34,Collaborateurs!$B$1)),VLOOKUP(CONCATENATE(Collaborateurs!A34,Collaborateurs!$B$1),Entretiens!A:F,9,0),VLOOKUP(CONCATENATE(Collaborateurs!A34,$B$1),Documents!A:E,3,0)) -> #REF!
A35: 15129 | B35: =IF(OR(Entretiens!A17=CONCATENATE(Collaborateurs!A35,Collaborateurs!$B$1),Documents!#REF!=CONCATENATE(Collaborateurs!A35,Collaborateurs!$B$1)),VLOOKUP(CONCATENATE(Collaborateurs!A35,Collaborateurs!$B$1),Entretiens!A:F,9,0),VLOOKUP(CONCATENATE(Collaborateurs!A35,$B$1),Documents!A:E,3,0)) -> #REF!
A36: 15492 | B36: =IF(OR(Entretiens!#REF!=CONCATENATE(Collaborateurs!A36,Collaborateurs!$B$1),Documents!#REF!=CONCATENATE(Collaborateurs!A36,Collaborateurs!$B$1)),VLOOKUP(CONCATENATE(Collaborateurs!A36,Collaborateurs!$B$1),Entretiens!A:F,9,0),VLOOKUP(CONCATENATE(Collaborateurs!A36,$B$1),Documents!A:E,3,0)) -> #REF!
A37: 15496 | B37: =IF(OR(Entretiens!#REF!=CONCATENATE(Collaborateurs!A37,Collaborateurs!$B$1),Documents!#REF!=CONCATENATE(Collaborateurs!A37,Collaborateurs!$B$1)),VLOOKUP(CONCATENATE(Collaborateurs!A37,Collaborateurs!$B$1),Entretiens!A:F,9,0),VLOOKUP(CONCATENATE(Collaborateurs!A37,$B$1),Documents!A:E,3,0)) -> #REF!
A38: 15657 | B38: =IF(OR(Entretiens!A18=CONCATENATE(Collaborateurs!A38,Collaborateurs!$B$1),Documents!#REF!=CONCATENATE(Collaborateurs!A38,Collaborateurs!$B$1)),VLOOKUP(CONCATENATE(Collaborateurs!A38,Collaborateurs!$B$1),Entretiens!A:F,9,0),VLOOKUP(CONCATENATE(Collaborateurs!A38,$B$1),Documents!A:E,3,0)) -> #REF!
A39: 15659 | B39: =IF(OR(Entretiens!#REF!=CONCATENATE(Collaborateurs!A39,Collaborateurs!$B$1),Documents!#REF!=CONCATENATE(Collaborateurs!A39,Collaborateurs!$B$1)),VLOOKUP(CONCATENATE(Collaborateurs!A39,Collaborateurs!$B$1),Entretiens!A:F,9,0),VLOOKUP(CONCATENATE(Collaborateurs!A39,$B$1),Documents!A:E,3,0)) -> #REF!
A40: 15707 | B40: =IF(OR(Entretiens!A19=CONCATENATE(Collaborateurs!A40,Collaborateurs!$B$1),Documents!#REF!=CONCATENATE(Collaborateurs!A40,Collaborateurs!$B$1)),VLOOKUP(CONCATENATE(Collaborateurs!A40,Collaborateurs!$B$1),Entretiens!A:F,9,0),VLOOKUP(CONCATENATE(Collaborateurs!A40,$B$1),Documents!A:E,3,0)) -> #REF!
A41: 15709 | B41: =IF(OR(Entretiens!#REF!=CONCATENATE(Collaborateurs!A41,Collaborateurs!$B$1),Documents!#REF!=CONCATENATE(Collaborateurs!A41,Collaborateurs!$B$1)),VLOOKUP(CONCATENATE(Collaborateurs!A41,Collaborateurs!$B$1),Entretiens!A:F,9,0),VLOOKUP(CONCATENATE(Collaborateurs!A41,$B$1),Documents!A:E,3,0)) -> #REF!
A42: 15745 | B42: =IF(OR(Entretiens!#REF!=CONCATENATE(Collaborateurs!A42,Collaborateurs!$B$1),Documents!#REF!=CONCATENATE(Collaborateurs!A42,Collaborateurs!$B$1)),VLOOKUP(CONCATENATE(Collaborateurs!A42,Collaborateurs!$B$1),Entretiens!A:F,9,0),VLOOKUP(CONCATENATE(Collaborateurs!A42,$B$1),Documents!A:E,3,0)) -> #REF!
A43: 15808 | B43: =IF(OR(Entretiens!A20=CONCATENATE(Collaborateurs!A43,Collaborateurs!$B$1),Documents!#REF!=CONCATENATE(Collaborateurs!A43,Collaborateurs!$B$1)),VLOOKUP(CONCATENATE(Collaborateurs!A43,Collaborateurs!$B$1),Entretiens!A:F,9,0),VLOOKUP(CONCATENATE(Collaborateurs!A43,$B$1),Documents!A:E,3,0)) -> #REF!
A44: 15898 | B44: =IF(OR(Entretiens!#REF!=CONCATENATE(Collaborateurs!A44,Collaborateurs!$B$1),Documents!#REF!=CONCATENATE(Collaborateurs!A44,Collaborateurs!$B$1)),VLOOKUP(CONCATENATE(Collaborateurs!A44,Collaborateurs!$B$1),Entretiens!A:F,9,0),VLOOKUP(CONCATENATE(Collaborateurs!A44,$B$1),Documents!A:E,3,0)) -> #REF!
A45: 16014 | B45: =IF(OR(Entretiens!A21=CONCATENATE(Collaborateurs!A45,Collaborateurs!$B$1),Documents!#REF!=CONCATENATE(Collaborateurs!A45,Collaborateurs!$B$1)),VLOOKUP(CONCATENATE(Collaborateurs!A45,Collaborateurs!$B$1),Entretiens!A:F,9,0),VLOOKUP(CONCATENATE(Collaborateurs!A45,$B$1),Documents!A:E,3,0)) -> #REF!
A46: 16135 | B46: =IF(OR(Entretiens!#REF!=CONCATENATE(Collaborateurs!A46,Collaborateurs!$B$1),Documents!#REF!=CONCATENATE(Collaborateurs!A46,Collaborateurs!$B$1)),VLOOKUP(CONCATENATE(Collaborateurs!A46,Collaborateurs!$B$1),Entretiens!A:F,9,0),VLOOKUP(CONCATENATE(Collaborateurs!A46,$B$1),Documents!A:E,3,0)) -> #REF!
A47: 16164 | B47: =IF(OR(Entretiens!#REF!=CONCATENATE(Collaborateurs!A47,Collaborateurs!$B$1),Documents!#REF!=CONCATENATE(Collaborateurs!A47,Collaborateurs!$B$1)),VLOOKUP(CONCATENATE(Collaborateurs!A47,Collaborateurs!$B$1),Entretiens!A:F,9,0),VLOOKUP(CONCATENATE(Collaborateurs!A47,$B$1),Documents!A:E,3,0)) -> #REF!
A48: 16173 | B48: =IF(OR(Entretiens!A22=CONCATENATE(Collaborateurs!A48,Collaborateurs!$B$1),Documents!#REF!=CONCATENATE(Collaborateurs!A48,Collaborateurs!$B$1)),VLOOKUP(CONCATENATE(Collaborateurs!A48,Collaborateurs!$B$1),Entretiens!A:F,9,0),VLOOKUP(CONCATENATE(Collaborateurs!A48,$B$1),Documents!A:E,3,0)) -> #REF!
A49: 16366 | B49: =IF(OR(Entretiens!#REF!=CONCATENATE(Collaborateurs!A49,Collaborateurs!$B$1),Documents!#REF!=CONCATENATE(Collaborateurs!A49,Collaborateurs!$B$1)),VLOOKUP(CONCATENATE(Collaborateurs!A49,Collaborateurs!$B$1),Entretiens!A:F,9,0),VLOOKUP(CONCATENATE(Collaborateurs!A49,$B$1),Documents!A:E,3,0)) -> #REF!
A50: 16373 | B50: =IF(OR(Entretiens!#REF!=CONCATENATE(Collaborateurs!A50,Collaborateurs!$B$1),Documents!#REF!=CONCATENATE(Collaborateurs!A50,Collaborateurs!$B$1)),VLOOKUP(CONCATENATE(Collaborateurs!A50,Collaborateurs!$B$1),Entretiens!A:F,9,0),VLOOKUP(CONCATENATE(Collaborateurs!A50,$B$1),Documents!A:E,3,0)) -> #REF!
A51: 16408 | B51: =IF(OR(Entretiens!#REF!=CONCATENATE(Collaborateurs!A51,Collaborateurs!$B$1),Documents!#REF!=CONCATENATE(Collaborateurs!A51,Collaborateurs!$B$1)),VLOOKUP(CONCATENATE(Collaborateurs!A51,Collaborateurs!$B$1),Entretiens!A:F,9,0),VLOOKUP(CONCATENATE(Collaborateurs!A51,$B$1),Documents!A:E,3,0)) -> #REF!
A52: 16515 | B52: =IF(OR(Entretiens!#REF!=CONCATENATE(Collaborateurs!A52,Collaborateurs!$B$1),Documents!#REF!=CONCATENATE(Collaborateurs!A52,Collaborateurs!$B$1)),VLOOKUP(CONCATENATE(Collaborateurs!A52,Collaborateurs!$B$1),Entretiens!A:F,9,0),VLOOKUP(CONCATENATE(Collaborateurs!A52,$B$1),Documents!A:E,3,0)) -> #REF!
A53: 16547 | B53: =IF(OR(Entretiens!A23=CONCATENATE(Collaborateurs!A53,Collaborateurs!$B$1),Documents!#REF!=CONCATENATE(Collaborateurs!A53,Collaborateurs!$B$1)),VLOOKUP(CONCATENATE(Collaborateurs!A53,Collaborateurs!$B$1),Entretiens!A:F,9,0),VLOOKUP(CONCATENATE(Collaborateurs!A53,$B$1),Documents!A:E,3,0)) -> #REF!
A54: 16559 | B54: =IF(OR(Entretiens!#REF!=CONCATENATE(Collaborateurs!A54,Collaborateurs!$B$1),Documents!#REF!=CONCATENATE(Collaborateurs!A54,Collaborateurs!$B$1)),VLOOKUP(CONCATENATE(Collaborateurs!A54,Collaborateurs!$B$1),Entretiens!A:F,9,0),VLOOKUP(CONCATENATE(Collaborateurs!A54,$B$1),Documents!A:E,3,0)) -> #REF!
A55: 17040 | B55: =IF(OR(Entretiens!#REF!=CONCATENATE(Collaborateurs!A55,Collaborateurs!$B$1),Documents!#REF!=CONCATENATE(Collaborateurs!A55,Collaborateurs!$B$1)),VLOOKUP(CONCATENATE(Collaborateurs!A55,Collaborateurs!$B$1),Entretiens!A:F,9,0),VLOOKUP(CONCATENATE(Collaborateurs!A55,$B$1),Documents!A:E,3,0)) -> #REF!
A56: 17246 | B56: =IF(OR(Entretiens!A24=CONCATENATE(Collaborateurs!A56,Collaborateurs!$B$1),Documents!#REF!=CONCATENATE(Collaborateurs!A56,Collaborateurs!$B$1)),VLOOKUP(CONCATENATE(Collaborateurs!A56,Collaborateurs!$B$1),Entretiens!A:F,9,0),VLOOKUP(CONCATENATE(Collaborateurs!A56,$B$1),Documents!A:E,3,0)) -> #REF!
A57: 17334 | B57: =IF(OR(Entretiens!A25=CONCATENATE(Collaborateurs!A57,Collaborateurs!$B$1),Documents!#REF!=CONCATENATE(Collaborateurs!A57,Collaborateurs!$B$1)),VLOOKUP(CONCATENATE(Collaborateurs!A57,Collaborateurs!$B$1),Entretiens!A:F,9,0),VLOOKUP(CONCATENATE(Collaborateurs!A57,$B$1),Documents!A:E,3,0)) -> #REF!
A58: 17777 | B58: =IF(OR(Entretiens!#REF!=CONCATENATE(Collaborateurs!A58,Collaborateurs!$B$1),Documents!#REF!=CONCATENATE(Collaborateurs!A58,Collaborateurs!$B$1)),VLOOKUP(CONCATENATE(Collaborateurs!A58,Collaborateurs!$B$1),Entretiens!A:F,9,0),VLOOKUP(CONCATENATE(Collaborateurs!A58,$B$1),Documents!A:E,3,0)) -> #REF!
A59: 19809 | B59: =IF(OR(Entretiens!A26=CONCATENATE(Collaborateurs!A59,Collaborateurs!$B$1),Documents!#REF!=CONCATENATE(Collaborateurs!A59,Collaborateurs!$B$1)),VLOOKUP(CONCATENATE(Collaborateurs!A59,Collaborateurs!$B$1),Entretiens!A:F,9,0),VLOOKUP(CONCATENATE(Collaborateurs!A59,$B$1),Documents!A:E,3,0)) -> #REF!
A60: 19837 | B60: =IF(OR(Entretiens!A27=CONCATENATE(Collaborateurs!A60,Collaborateurs!$B$1),Documents!#REF!=CONCATENATE(Collaborateurs!A60,Collaborateurs!$B$1)),VLOOKUP(CONCATENATE(Collaborateurs!A60,Collaborateurs!$B$1),Entretiens!A:F,9,0),VLOOKUP(CONCATENATE(Collaborateurs!A60,$B$1),Documents!A:E,3,0)) -> #REF!
A61: 19884 | B61: =IF(OR(Entretiens!#REF!=CONCATENATE(Collaborateurs!A61,Collaborateurs!$B$1),Documents!#REF!=CONCATENATE(Collaborateurs!A61,Collaborateurs!$B$1)),VLOOKUP(CONCATENATE(Collaborateurs!A61,Collaborateurs!$B$1),Entretiens!A:F,9,0),VLOOKUP(CONCATENATE(Collaborateurs!A61,$B$1),Documents!A:E,3,0)) -> #REF!
A62: 19958 | B62: =IF(OR(Entretiens!#REF!=CONCATENATE(Collaborateurs!A62,Collaborateurs!$B$1),Documents!#REF!=CONCATENATE(Collaborateurs!A62,Collaborateurs!$B$1)),VLOOKUP(CONCATENATE(Collaborateurs!A62,Collaborateurs!$B$1),Entretiens!A:F,9,0),VLOOKUP(CONCATENATE(Collaborateurs!A62,$B$1),Documents!A:E,3,0)) -> #REF!
A63: 20022 | B63: =IF(OR(Entretiens!#REF!=CONCATENATE(Collaborateurs!A63,Collaborateurs!$B$1),Documents!#REF!=CONCATENATE(Collaborateurs!A63,Collaborateurs!$B$1)),VLOOKUP(CONCATENATE(Collaborateurs!A63,Collaborateurs!$B$1),Entretiens!A:F,9,0),VLOOKUP(CONCATENATE(Collaborateurs!A63,$B$1),Documents!A:E,3,0)) -> #REF!
A64: 20025 | B64: =IF(OR(Entretiens!#REF!=CONCATENATE(Collaborateurs!A64,Collaborateurs!$B$1),Documents!#REF!=CONCATENATE(Collaborateurs!A64,Collaborateurs!$B$1)),VLOOKUP(CONCATENATE(Collaborateurs!A64,Collaborateurs!$B$1),Entretiens!A:F,9,0),VLOOKUP(CONCATENATE(Collaborateurs!A64,$B$1),Documents!A:E,3,0)) -> #REF!
A65: 20103 | B65: =IF(OR(Entretiens!A28=CONCATENATE(Collaborateurs!A65,Collaborateurs!$B$1),Documents!#REF!=CONCATENATE(Collaborateurs!A65,Collaborateurs!$B$1)),VLOOKUP(CONCATENATE(Collaborateurs!A65,Collaborateurs!$B$1),Entretiens!A:F,9,0),VLOOKUP(CONCATENATE(Collaborateurs!A65,$B$1),Documents!A:E,3,0)) -> #REF!
A66: 20148 | B66: =IF(OR(Entretiens!#REF!=CONCATENATE(Collaborateurs!A66,Collaborateurs!$B$1),Documents!#REF!=CONCATENATE(Collaborateurs!A66,Collaborateurs!$B$1)),VLOOKUP(CONCATENATE(Collaborateurs!A66,Collaborateurs!$B$1),Entretiens!A:F,9,0),VLOOKUP(CONCATENATE(Collaborateurs!A66,$B$1),Documents!A:E,3,0)) -> #REF!
A67: 20158 | B67: =IF(OR(Entretiens!A29=CONCATENATE(Collaborateurs!A67,Collaborateurs!$B$1),Documents!#REF!=CONCATENATE(Collaborateurs!A67,Collaborateurs!$B$1)),VLOOKUP(CONCATENATE(Collaborateurs!A67,Collaborateurs!$B$1),Entretiens!A:F,9,0),VLOOKUP(CONCATENATE(Collaborateurs!A67,$B$1),Documents!A:E,3,0)) -> #REF!
A68: 20263 | B68: =IF(OR(Entretiens!A30=CONCATENATE(Collaborateurs!A68,Collaborateurs!$B$1),Documents!#REF!=CONCATENATE(Collaborateurs!A68,Collaborateurs!$B$1)),VLOOKUP(CONCATENATE(Collaborateurs!A68,Collaborateurs!$B$1),Entretiens!A:F,9,0),VLOOKUP(CONCATENATE(Collaborateurs!A68,$B$1),Documents!A:E,3,0)) -> #REF!
A69: 20272 | B69: =IF(OR(Entretiens!#REF!=CONCATENATE(Collaborateurs!A69,Collaborateurs!$B$1),Documents!#REF!=CONCATENATE(Collaborateurs!A69,Collaborateurs!$B$1)),VLOOKUP(CONCATENATE(Collaborateurs!A69,Collaborateurs!$B$1),Entretiens!A:F,9,0),VLOOKUP(CONCATENATE(Collaborateurs!A69,$B$1),Documents!A:E,3,0)) -> #REF!
A70: 20298 | B70: =IF(OR(Entretiens!A31=CONCATENATE(Collaborateurs!A70,Collaborateurs!$B$1),Documents!#REF!=CONCATENATE(Collaborateurs!A70,Collaborateurs!$B$1)),VLOOKUP(CONCATENATE(Collaborateurs!A70,Collaborateurs!$B$1),Entretiens!A:F,9,0),VLOOKUP(CONCATENATE(Collaborateurs!A70,$B$1),Documents!A:E,3,0)) -> #REF!
A71: 20325 | B71: =IF(OR(Entretiens!#REF!=CONCATENATE(Collaborateurs!A71,Collaborateurs!$B$1),Documents!#REF!=CONCATENATE(Collaborateurs!A71,Collaborateurs!$B$1)),VLOOKUP(CONCATENATE(Collaborateurs!A71,Collaborateurs!$B$1),Entretiens!A:F,9,0),VLOOKUP(CONCATENATE(Collaborateurs!A71,$B$1),Documents!A:E,3,0)) -> #REF!
A72: 20367 | B72: =IF(OR(Entretiens!A32=CONCATENATE(Collaborateurs!A72,Collaborateurs!$B$1),Documents!#REF!=CONCATENATE(Collaborateurs!A72,Collaborateurs!$B$1)),VLOOKUP(CONCATENATE(Collaborateurs!A72,Collaborateurs!$B$1),Entretiens!A:F,9,0),VLOOKUP(CONCATENATE(Collaborateurs!A72,$B$1),Documents!A:E,3,0)) -> #REF!
A73: 20399 | B73: =IF(OR(Entretiens!A33=CONCATENATE(Collaborateurs!A73,Collaborateurs!$B$1),Documents!#REF!=CONCATENATE(Collaborateurs!A73,Collaborateurs!$B$1)),VLOOKUP(CONCATENATE(Collaborateurs!A73,Collaborateurs!$B$1),Entretiens!A:F,9,0),VLOOKUP(CONCATENATE(Collaborateurs!A73,$B$1),Documents!A:E,3,0)) -> #REF!
A74: 20415 | B74: =IF(OR(Entretiens!#REF!=CONCATENATE(Collaborateurs!A74,Collaborateurs!$B$1),Documents!#REF!=CONCATENATE(Collaborateurs!A74,Collaborateurs!$B$1)),VLOOKUP(CONCATENATE(Collaborateurs!A74,Collaborateurs!$B$1),Entretiens!A:F,9,0),VLOOKUP(CONCATENATE(Collaborateurs!A74,$B$1),Documents!A:E,3,0)) -> #REF!
A75: 20443 | B75: =IF(OR(Entretiens!A34=CONCATENATE(Collaborateurs!A75,Collaborateurs!$B$1),Documents!#REF!=CONCATENATE(Collaborateurs!A75,Collaborateurs!$B$1)),VLOOKUP(CONCATENATE(Collaborateurs!A75,Collaborateurs!$B$1),Entretiens!A:F,9,0),VLOOKUP(CONCATENATE(Collaborateurs!A75,$B$1),Documents!A:E,3,0)) -> #REF!
A76: 20447 | B76: =IF(OR(Entretiens!#REF!=CONCATENATE(Collaborateurs!A76,Collaborateurs!$B$1),Documents!#REF!=CONCATENATE(Collaborateurs!A76,Collaborateurs!$B$1)),VLOOKUP(CONCATENATE(Collaborateurs!A76,Collaborateurs!$B$1),Entretiens!A:F,9,0),VLOOKUP(CONCATENATE(Collaborateurs!A76,$B$1),Documents!A:E,3,0)) -> #REF!
A77: 20461 | B77: =IF(OR(Entretiens!A35=CONCATENATE(Collaborateurs!A77,Collaborateurs!$B$1),Documents!#REF!=CONCATENATE(Collaborateurs!A77,Collaborateurs!$B$1)),VLOOKUP(CONCATENATE(Collaborateurs!A77,Collaborateurs!$B$1),Entretiens!A:F,9,0),VLOOKUP(CONCATENATE(Collaborateurs!A77,$B$1),Documents!A:E,3,0)) -> #REF!
A78: 23289 | B78: =IF(OR(Entretiens!#REF!=CONCATENATE(Collaborateurs!A78,Collaborateurs!$B$1),Documents!#REF!=CONCATENATE(Collaborateurs!A78,Collaborateurs!$B$1)),VLOOKUP(CONCATENATE(Collaborateurs!A78,Collaborateurs!$B$1),Entretiens!A:F,9,0),VLOOKUP(CONCATENATE(Collaborateurs!A78,$B$1),Documents!A:E,3,0)) -> #REF!
A79: 23344 | B79: =IF(OR(Entretiens!A36=CONCATENATE(Collaborateurs!A79,Collaborateurs!$B$1),Documents!#REF!=CONCATENATE(Collaborateurs!A79,Collaborateurs!$B$1)),VLOOKUP(CONCATENATE(Collaborateurs!A79,Collaborateurs!$B$1),Entretiens!A:F,9,0),VLOOKUP(CONCATENATE(Collaborateurs!A79,$B$1),Documents!A:E,3,0)) -> #REF!
A80: 23464 | B80: =IF(OR(Entretiens!#REF!=CONCATENATE(Collaborateurs!A80,Collaborateurs!$B$1),Documents!#REF!=CONCATENATE(Collaborateurs!A80,Collaborateurs!$B$1)),VLOOKUP(CONCATENATE(Collaborateurs!A80,Collaborateurs!$B$1),Entretiens!A:F,9,0),VLOOKUP(CONCATENATE(Collaborateurs!A80,$B$1),Documents!A:E,3,0)) -> #REF!
A81: 23509 | B81: =IF(OR(Entretiens!A37=CONCATENATE(Collaborateurs!A81,Collaborateurs!$B$1),Documents!#REF!=CONCATENATE(Collaborateurs!A81,Collaborateurs!$B$1)),VLOOKUP(CONCATENATE(Collaborateurs!A81,Collaborateurs!$B$1),Entretiens!A:F,9,0),VLOOKUP(CONCATENATE(Collaborateurs!A81,$B$1),Documents!A:E,3,0)) -> #REF!
A82: 23617 | B82: =IF(OR(Entretiens!#REF!=CONCATENATE(Collaborateurs!A82,Collaborateurs!$B$1),Documents!#REF!=CONCATENATE(Collaborateurs!A82,Collaborateurs!$B$1)),VLOOKUP(CONCATENATE(Collaborateurs!A82,Collaborateurs!$B$1),Entretiens!A:F,9,0),VLOOKUP(CONCATENATE(Collaborateurs!A82,$B$1),Documents!A:E,3,0)) -> #REF!
A83: 23622 | B83: =IF(OR(Entretiens!A38=CONCATENATE(Collaborateurs!A83,Collaborateurs!$B$1),Documents!#REF!=CONCATENATE(Collaborateurs!A83,Collaborateurs!$B$1)),VLOOKUP(CONCATENATE(Collaborateurs!A83,Collaborateurs!$B$1),Entretiens!A:F,9,0),VLOOKUP(CONCATENATE(Collaborateurs!A83,$B$1),Documents!A:E,3,0)) -> #REF!
A84: 23623 | B84: =IF(OR(Entretiens!#REF!=CONCATENATE(Collaborateurs!A84,Collaborateurs!$B$1),Documents!#REF!=CONCATENATE(Collaborateurs!A84,Collaborateurs!$B$1)),VLOOKUP(CONCATENATE(Collaborateurs!A84,Collaborateurs!$B$1),Entretiens!A:F,9,0),VLOOKUP(CONCATENATE(Collaborateurs!A84,$B$1),Documents!A:E,3,0)) -> #REF!
A85: 23673 | B85: =IF(OR(Entretiens!#REF!=CONCATENATE(Collaborateurs!A85,Collaborateurs!$B$1),Documents!#REF!=CONCATENATE(Collaborateurs!A85,Collaborateurs!$B$1)),VLOOKUP(CONCATENATE(Collaborateurs!A85,Collaborateurs!$B$1),Entretiens!A:F,9,0),VLOOKUP(CONCATENATE(Collaborateurs!A85,$B$1),Documents!A:E,3,0)) -> #REF!
A86: 23677 | B86: =IF(OR(Entretiens!A39=CONCATENATE(Collaborateurs!A86,Collaborateurs!$B$1),Documents!#REF!=CONCATENATE(Collaborateurs!A86,Collaborateurs!$B$1)),VLOOKUP(CONCATENATE(Collaborateurs!A86,Collaborateurs!$B$1),Entretiens!A:F,9,0),VLOOKUP(CONCATENATE(Collaborateurs!A86,$B$1),Documents!A:E,3,0)) -> #REF!
A87: 23718 | B87: =IF(OR(Entretiens!#REF!=CONCATENATE(Collaborateurs!A87,Collaborateurs!$B$1),Documents!#REF!=CONCATENATE(Collaborateurs!A87,Collaborateurs!$B$1)),VLOOKUP(CONCATENATE(Collaborateurs!A87,Collaborateurs!$B$1),Entretiens!A:F,9,0),VLOOKUP(CONCATENATE(Collaborateurs!A87,$B$1),Documents!A:E,3,0)) -> #REF!
A88: 23747 | B88: =IF(OR(Entretiens!A40=CONCATENATE(Collaborateurs!A88,Collaborateurs!$B$1),Documents!#REF!=CONCATENATE(Collaborateurs!A88,Collaborateurs!$B$1)),VLOOKUP(CONCATENATE(Collaborateurs!A88,Collaborateurs!$B$1),Entretiens!A:F,9,0),VLOOKUP(CONCATENATE(Collaborateurs!A88,$B$1),Documents!A:E,3,0)) -> #REF!
A89: 23786 | B89: =IF(OR(Entretiens!A41=CONCATENATE(Collaborateurs!A89,Collaborateurs!$B$1),Documents!#REF!=CONCATENATE(Collaborateurs!A89,Collaborateurs!$B$1)),VLOOKUP(CONCATENATE(Collaborateurs!A89,Collaborateurs!$B$1),Entretiens!A:F,9,0),VLOOKUP(CONCATENATE(Collaborateurs!A89,$B$1),Documents!A:E,3,0)) -> #REF!
A90: 23909 | B90: =IF(OR(Entretiens!#REF!=CONCATENATE(Collaborateurs!A90,Collaborateurs!$B$1),Documents!#REF!=CONCATENATE(Collaborateurs!A90,Collaborateurs!$B$1)),VLOOKUP(CONCATENATE(Collaborateurs!A90,Collaborateurs!$B$1),Entretiens!A:F,9,0),VLOOKUP(CONCATENATE(Collaborateurs!A90,$B$1),Documents!A:E,3,0)) -> #REF!
A91: 24027 | B91: =IF(OR(Entretiens!A42=CONCATENATE(Collaborateurs!A91,Collaborateurs!$B$1),Documents!#REF!=CONCATENATE(Collaborateurs!A91,Collaborateurs!$B$1)),VLOOKUP(CONCATENATE(Collaborateurs!A91,Collaborateurs!$B$1),Entretiens!A:F,9,0),VLOOKUP(CONCATENATE(Collaborateurs!A91,$B$1),Documents!A:E,3,0)) -> #REF!
A92: 24071 | B92: =IF(OR(Entretiens!A43=CONCATENATE(Collaborateurs!A92,Collaborateurs!$B$1),Documents!#REF!=CONCATENATE(Collaborateurs!A92,Collaborateurs!$B$1)),VLOOKUP(CONCATENATE(Collaborateurs!A92,Collaborateurs!$B$1),Entretiens!A:F,9,0),VLOOKUP(CONCATENATE(Collaborateurs!A92,$B$1),Documents!A:E,3,0)) -> #REF!
A93: 24094 | B93: =IF(OR(Entretiens!#REF!=CONCATENATE(Collaborateurs!A93,Collaborateurs!$B$1),Documents!#REF!=CONCATENATE(Collaborateurs!A93,Collaborateurs!$B$1)),VLOOKUP(CONCATENATE(Collaborateurs!A93,Collaborateurs!$B$1),Entretiens!A:F,9,0),VLOOKUP(CONCATENATE(Collaborateurs!A93,$B$1),Documents!A:E,3,0)) -> #REF!
A94: 24289 | B94: =IF(OR(Entretiens!A44=CONCATENATE(Collaborateurs!A94,Collaborateurs!$B$1),Documents!#REF!=CONCATENATE(Collaborateurs!A94,Collaborateurs!$B$1)),VLOOKUP(CONCATENATE(Collaborateurs!A94,Collaborateurs!$B$1),Entretiens!A:F,9,0),VLOOKUP(CONCATENATE(Collaborateurs!A94,$B$1),Documents!A:E,3,0)) -> #REF!
A95: 24301 | B95: =IF(OR(Entretiens!A45=CONCATENATE(Collaborateurs!A95,Collaborateurs!$B$1),Documents!#REF!=CONCATENATE(Collaborateurs!A95,Collaborateurs!$B$1)),VLOOKUP(CONCATENATE(Collaborateurs!A95,Collaborateurs!$B$1),Entretiens!A:F,9,0),VLOOKUP(CONCATENATE(Collaborateurs!A95,$B$1),Documents!A:E,3,0)) -> #REF!
A96: 24314 | B96: =IF(OR(Entretiens!#REF!=CONCATENATE(Collaborateurs!A96,Collaborateurs!$B$1),Documents!#REF!=CONCATENATE(Collaborateurs!A96,Collaborateurs!$B$1)),VLOOKUP(CONCATENATE(Collaborateurs!A96,Collaborateurs!$B$1),Entretiens!A:F,9,0),VLOOKUP(CONCATENATE(Collaborateurs!A96,$B$1),Documents!A:E,3,0)) -> #REF!
A97: 24367 | B97: =IF(OR(Entretiens!A46=CONCATENATE(Collaborateurs!A97,Collaborateurs!$B$1),Documents!#REF!=CONCATENATE(Collaborateurs!A97,Collaborateurs!$B$1)),VLOOKUP(CONCATENATE(Collaborateurs!A97,Collaborateurs!$B$1),Entretiens!A:F,9,0),VLOOKUP(CONCATENATE(Collaborateurs!A97,$B$1),Documents!A:E,3,0)) -> #REF!
A98: 24369 | B98: =IF(OR(Entretiens!#REF!=CONCATENATE(Collaborateurs!A98,Collaborateurs!$B$1),Documents!#REF!=CONCATENATE(Collaborateurs!A98,Collaborateurs!$B$1)),VLOOKUP(CONCATENATE(Collaborateurs!A98,Collaborateurs!$B$1),Entretiens!A:F,9,0),VLOOKUP(CONCATENATE(Collaborateurs!A98,$B$1),Documents!A:E,3,0)) -> #REF!
A99: 24388 | B99: =IF(OR(Entretiens!#REF!=CONCATENATE(Collaborateurs!A99,Collaborateurs!$B$1),Documents!#REF!=CONCATENATE(Collaborateurs!A99,Collaborateurs!$B$1)),VLOOKUP(CONCATENATE(Collaborateurs!A99,Collaborateurs!$B$1),Entretiens!A:F,9,0),VLOOKUP(CONCATENATE(Collaborateurs!A99,$B$1),Documents!A:E,3,0)) -> #REF!
A100: 24488 | B100: =IF(OR(Entretiens!A47=CONCATENATE(Collaborateurs!A100,Collaborateurs!$B$1),Documents!#REF!=CONCATENATE(Collaborateurs!A100,Collaborateurs!$B$1)),VLOOKUP(CONCATENATE(Collaborateurs!A100,Collaborateurs!$B$1),Entretiens!A:F,9,0),VLOOKUP(CONCATENATE(Collaborateurs!A100,$B$1),Documents!A:E,3,0)) -> #REF!
...

Sheet Entretiens
A1: Concaténer OpusID&Année | B1: Matricule | C1: Type de formulaire | D1: Modèle de formulaire | E1: Statut du formulaire | F1: Année du formulaire
A2: =B2&F2 -> 3422020 | B2: 342 | C2: Entretien annuel | D2: Entretien annuel RPV 2019-2020 | E2: Validé | F2: =VLOOKUP(D2,'Référentiel formulaires'!A:C,2,0) -> 2020
A3: =B3&F3 -> 3442020 | B3: 344 | C3: Entretien annuel | D3: Entretien annuel RPV 2019-2020 | E3: Validé | F3: =VLOOKUP(D3,'Référentiel formulaires'!A:C,2,0) -> 2020
A4: =B4&F4 -> 3452020 | B4: 345 | C4: Entretien annuel | D4: Entretien annuel RPV 2019-2020 | E4: Validé | F4: =VLOOKUP(D4,'Référentiel formulaires'!A:C,2,0) -> 2020
A5: =B5&F5 -> 3462019 | B5: 346 | C5: Entretien annuel | D5: Entretien Annuel RPV 2018 | E5: Validé | F5: =VLOOKUP(D5,'Référentiel formulaires'!A:C,2,0) -> 2019
A6: =B6&F6 -> 3462020 | B6: 346 | C6: Entretien annuel | D6: Entretien annuel RPV 2019-2020 | E6: Validé | F6: =VLOOKUP(D6,'Référentiel formulaires'!A:C,2,0) -> 2020
A7: =B7&F7 -> 3482020 | B7: 348 | C7: Entretien annuel | D7: Entretien annuel RPV 2019-2020 | E7: Validé | F7: =VLOOKUP(D7,'Référentiel formulaires'!A:C,2,0) -> 2020
A8: =B8&F8 -> 4352020 | B8: 435 | C8: Entretien annuel | D8: Entretien annuel RPV 2019-2020 | E8: Validé | F8: =VLOOKUP(D8,'Référentiel formulaires'!A:C,2,0) -> 2020
A9: =B9&F9 -> 4412020 | B9: 441 | C9: Entretien annuel | D9: Entretien annuel RPV 2019-2020 | E9: Validé | F9: =VLOOKUP(D9,'Référentiel formulaires'!A:C,2,0) -> 2020
A10: =B10&F10 -> 4472020 | B10: 447 | C10: Entretien annuel | D10: Entretien annuel RPV 2019-2020 | E10: Validé | F10: =VLOOKUP(D10,'Référentiel formulaires'!A:C,2,0) -> 2020
A11: =B11&F11 -> 4522019 | B11: 452 | C11: Entretien annuel | D11: Entretien Annuel RPV 2018 | E11: Validé | F11: =VLOOKUP(D11,'Référentiel formulaires'!A:C,2,0) -> 2019
A12: =B12&F12 -> 4552020 | B12: 455 | C12: Entretien annuel | D12: Entretien annuel RPV 2019-2020 | E12: Validé | F12: =VLOOKUP(D12,'Référentiel formulaires'!A:C,2,0) -> 2020
A13: =B13&F13 -> 5222020 | B13: 522 | C13: Entretien annuel | D13: Entretien annuel RPV 2019-2020 | E13: Validé | F13: =VLOOKUP(D13,'Référentiel formulaires'!A:C,2,0) -> 2020
... A500: =B500&F500 -> 9712020 | B500: 971 | C500: Entretien de développement professionnel | D500: Entretien de développement professionnel 2019-2020 | E500: À effectuer | F500: =VLOOKUP(D500,'Référentiel formulaires'!A:C,2,0) -> 2020

Sheet Documents
A1: Concaténer | B1: Matricule | C1: Modèle de formulaire | D1: Année | E1: Statut
A2: =CONCATENATE(B2,D2) -> 100482017 | B2: 10048 | C2: EA_2017_10048 | D2: 2017 | E2: Validé
A3: =CONCATENATE(B3,D3) -> 10052017 | B3: 1005 | C3: EA_2017_1005 | D3: 2017 | E3: Validé
A4: =CONCATENATE(B4,D4) -> 101032017 | B4: 10103 | C4: EA_2017_10103 | D4: 2017 | E4: Validé
A5: =CONCATENATE(B5,D5) -> 101412017 | B5: 10141 | C5: EA_2017_10141 | D5: 2017 | E5: Validé
A6: =CONCATENATE(B6,D6) -> 10142017 | B6: 1014 | C6: EA_2017_1014 | D6: 2017 | E6: Validé
A7: =CONCATENATE(B7,D7) -> 101862017 | B7: 10186 | C7: EA_2017_10186 | D7: 2017 | E7: Validé
A8: =CONCATENATE(B8,D8) -> 101942017 | B8: 10194 | C8: EA_2017_10194 | D8: 2017 | E8: Validé
A9: =CONCATENATE(B9,D9) -> 101962017 | B9: 10196 | C9: EA_2017_10196 | D9: 2017 | E9: Validé
A10: =CONCATENATE(B10,D10) -> 102242017 | B10: 10224 | C10: EA_2017_10224 | D10: 2017 | E10: Validé
A11: =CONCATENATE(B11,D11) -> 102262017 | B11: 10226 | C11: EA_2017_10226 | D11: 2017 | E11: Validé
A12: =CONCATENATE(B12,D12) -> 102302017 | B12: 10230 | C12: EA_2017_10230 | D12: 2017 | E12: Validé
A13: =CONCATENATE(B13,D13) -> 102312017 | B13: 10231 | C13: EA_2017_10231 | D13: 2017 | E13: Validé
... A5399: =CONCATENATE(B5399,D5399) -> 221772019 | B5399: 22177 | C5399: EA_2019_22177 | D5399: 2019 | E5399: Validé

Sheet Référentiel formulaires
A1: Modèle | B1: Année | C1: Type de formulaire
A2: Entretien Annuel 2017 non STI | B2: 2018 | C2: Entretien annuel
A3: Entretien Annuel 2017 RPV | B3: 2018 | C3: Entretien annuel
A4: Entretien Annuel 2017 STI | B4: 2018 | C4: Entretien annuel
A5: Entretien Annuel 2017 STI avec mobilité | B5: 2018 | C5: Entretien annuel
A6: Base EA 2018_2019 | B6: 2019 | C6: Entretien annuel
A7: Entretien Annuel non RPV 2018 | B7: 2019 | C7: Entretien annuel
A8: Entretien Annuel non RPV 2018 avec mobilité | B8: 2019 | C8: Entretien annuel
A9: Entretien Annuel RPV 2018 | B9: 2019 | C9: Entretien annuel
A10: Entretien Annuel RPV 2018 avec mobilité | B10: 2019 | C10: Entretien annuel
A11: Entretien annuel 2019-2020 | B11: 2020 | C11: Entretien annuel
A12: Entretien annuel avec mobilité 2019-2020 | B12: 2020 | C12: Entretien annuel
A13: Entretien annuel RPV 2019-2020 | B13: 2020 | C13: Entretien annuel
... A15: Entretien de développement professionnel 2019-2020 | B15: 2020 | C15: Entretien de développement professionnel
