Workbook
Name TS.Besoins: #REF!
Name TS.Collaborateurs: 'Données-Data'!$A$1:$D$541
Name TS.Items: Items!$A$1:$E$24
Name TS.Mobilités: #REF!
Name TS.ObjectifsOLD: ObjectifsOLD!$A$1:$F$621

Sheet Données-Data
A1: Matricule | B1: Note performance // Performance score | C1: Cumul objectifs | D1: Note de performance <2 ET Cumul objectifs > 75%
A2: 10010 | B2: =IFERROR(VLOOKUP('Données-Data'!A2,Items!A:E,4,0),"") | C2: =IFERROR(VLOOKUP($A2*1,TCD!$A:$B,2,0),"") | D2: =IF(AND(B2<=2,C2>75),"Oui","Non") -> Non
A3: 10032 | B3: =IFERROR(VLOOKUP('Données-Data'!A3,Items!A:E,4,0),"") | C3: =IFERROR(VLOOKUP($A3*1,TCD!$A:$B,2,0),"") | D3: =IF(AND(B3<=2,C3>75),"Oui","Non") -> Non
A4: 10046 | B4: =IFERROR(VLOOKUP('Données-Data'!A4,Items!A:E,4,0),"") | C4: =IFERROR(VLOOKUP($A4*1,TCD!$A:$B,2,0),"") | D4: =IF(AND(B4<=2,C4>75),"Oui","Non") -> Non
A5: 10048 | B5: =IFERROR(VLOOKUP('Données-Data'!A5,Items!A:E,4,0),"") | C5: =IFERROR(VLOOKUP($A5*1,TCD!$A:$B,2,0),"") | D5: =IF(AND(B5<=2,C5>75),"Oui","Non") -> Non
A6: 1005 | B6: =IFERROR(VLOOKUP('Données-Data'!A6,Items!A:E,4,0),"") | C6: =IFERROR(VLOOKUP($A6*1,TCD!$A:$B,2,0),"") | D6: =IF(AND(B6<=2,C6>75),"Oui","Non") -> Non
A7: 10054 | B7: =IFERROR(VLOOKUP('Données-Data'!A7,Items!A:E,4,0),"") | C7: =IFERROR(VLOOKUP($A7*1,TCD!$A:$B,2,0),"") | D7: =IF(AND(B7<=2,C7>75),"Oui","Non") -> Non
A8: 1006 | B8: =IFERROR(VLOOKUP('Données-Data'!A8,Items!A:E,4,0),"") | C8: =IFERROR(VLOOKUP($A8*1,TCD!$A:$B,2,0),"") | D8: =IF(AND(B8<=2,C8>75),"Oui","Non") -> Non
A9: 10062 | B9: =IFERROR(VLOOKUP('Données-Data'!A9,Items!A:E,4,0),"") | C9: =IFERROR(VLOOKUP($A9*1,TCD!$A:$B,2,0),"") | D9: =IF(AND(B9<=2,C9>75),"Oui","Non") -> Non
A10: 10063 | B10: =IFERROR(VLOOKUP('Données-Data'!A10,Items!A:E,4,0),"") | C10: =IFERROR(VLOOKUP($A10*1,TCD!$A:$B,2,0),"") | D10: =IF(AND(B10<=2,C10>75),"Oui","Non") -> Non
A11: 10064 | B11: =IFERROR(VLOOKUP('Données-Data'!A11,Items!A:E,4,0),"") | C11: =IFERROR(VLOOKUP($A11*1,TCD!$A:$B,2,0),"") | D11: =IF(AND(B11<=2,C11>75),"Oui","Non") -> Non
A12: 10069 | B12: =IFERROR(VLOOKUP('Données-Data'!A12,Items!A:E,4,0),"") | C12: =IFERROR(VLOOKUP($A12*1,TCD!$A:$B,2,0),"") | D12: =IF(AND(B12<=2,C12>75),"Oui","Non") -> Non
A13: 1007 | B13: =IFERROR(VLOOKUP('Données-Data'!A13,Items!A:E,4,0),"") | C13: =IFERROR(VLOOKUP($A13*1,TCD!$A:$B,2,0),"") | D13: =IF(AND(B13<=2,C13>75),"Oui","Non") -> Non
... A364: 766 | B364: =IFERROR(VLOOKUP('Données-Data'!A364,Items!A:E,4,0),"") -> 3 | C364: =IFERROR(VLOOKUP($A364*1,TCD!$A:$B,2,0),"") -> 27 | D364: =IF(AND(B364<=2,C364>75),"Oui","Non") -> Non

Sheet TCD
A1: Nature | B1: Objectifs Généraux
A3: Étiquettes de lignes | B3: Somme de Calcul pondéré - Weighted calculation
A4: 491 | B4: 40
A5: 766 | B5: 27
A6: 3367 | B6: 36
A7: 3970 | B7: 70
A8: 10924 | B8: 35
A9: 16203 | B9: 14
A10: 16230 | B10: 30
A11: 16474 | B11: 14.25
A12: 17467 | B12: 29
A13: 19453 | B13: 40
A14: 20381 | B14: 30
A15: 21745 | B15: 5
... A72: 74676 | B72: 0.6
A73: Total général | B73: 1976.6175

Sheet ObjectifsOLD
A1: Matricule | B1: % Quote part | C1: Resultat obtenu | D1: %Appréciation | E1: Calcul pondéré - Weighted calculation | F1: Nature
A2: 70256 | B2: 20 | C2: 85 | E2: 17 | F2: Objectifs Individuels
A3: 33531 | B3: 10 | C3: 100 | E3: 10 | F3: Objectifs Individuels
A4: 68836 | B4: 12.5 | C4: 100 | E4: 12.5 | F4: Objectifs Généraux
A5: 491 | B5: 15 | C5: 100 | E5: 15 | F5: Objectifs Généraux
A6: 73797 | B6: 10 | C6: 100 | E6: 10 | F6: Objectifs Généraux
A7: 70256 | B7: 20 | C7: 85 | E7: 17 | F7: Objectifs Généraux
A8: 491 | B8: 10 | C8: 100 | E8: 10 | F8: Objectifs Généraux
A9: 38031 | B9: 20 | C9: 93 | E9: 18.6 | F9: Objectifs Généraux
A10: 74676 | B10: 15 | C10: 1 | E10: 0.15 | F10: Objectifs Généraux
A11: 38031 | B11: 20 | C11: 90 | E11: 18 | F11: Objectifs Généraux
A12: 68836 | B12: 12.5 | C12: 100 | E12: 12.5 | F12: Objectifs Généraux
A13: 33760 | B13: 25 | E13: 0 | F13: Objectifs Généraux
A14: 30683 | B14: 18.75 | C14: 100 | E14: 18.75 | F14: Objectifs Individuels
A15: 73797 | B15: 10 | C15: 100 | E15: 10 | F15: Objectifs Généraux
A16: 74676 | B16: 15 | C16: 1 | E16: 0.15 | F16: Objectifs Généraux
A17: 61322 | B17: 10 | C17: 100 | E17: 10 | F17: Objectifs Généraux
A18: 61322 | B18: 25 | C18: 100 | E18: 25 | F18: Objectifs Généraux
A19: 766 | B19: 48 | C19: 30 | E19: 14.4 | F19: Objectifs Individuels
A20: 73226 | B20: 10 | C20: 100 | E20: 10 | F20: Objectifs Généraux
A21: 36798 | B21: 20 | C21: 85 | E21: 17 | F21: Objectifs Généraux
A22: 65453 | B22: 25 | C22: 100 | E22: 25 | F22: Objectifs Généraux
A23: 73797 | B23: 10 | C23: 100 | E23: 10 | F23: Objectifs Généraux
A24: 73226 | B24: 25 | C24: 100 | E24: 25 | F24: Objectifs Généraux
A25: 68836 | B25: 12.5 | C25: 50 | E25: 6.25 | F25: Objectifs Individuels
... A28: 73797 | B28: 10 | C28: 66 | E28: 6.6 | F28: Objectifs Individuels
A29: 30683 | B29: 18.75 | E29: 0 | F29: Objectifs Individuels
A30: 32478 | B30: 30 | E30: 0 | F30: Objectifs Généraux
A31: 38031 | B31: 20 | C31: 95 | E31: 19 | F31: Objectifs Généraux
A32: 68836 | B32: 10 | C32: 25 | E32: 2.5 | F32: Objectifs Généraux
A33: 36798 | B33: 15 | C33: 100 | E33: 15 | F33: Objectifs Individuels
A34: 61322 | B34: 15 | C34: 100 | E34: 15 | F34: Objectifs Généraux
A35: 36798 | B35: 20 | C35: 100 | E35: 20 | F35: Objectifs Généraux
A36: 65453 | B36: 25 | C36: 100 | E36: 25 | F36: Objectifs Généraux
A37: 61322 | B37: 20 | C37: 100 | E37: 20 | F37: Objectifs Individuels
A38: 38031 | B38: 20 | C38: 93 | E38: 18.6 | F38: Objectifs Individuels
A39: 68836 | B39: 12.5 | C39: 0 | E39: 0 | F39: Objectifs Individuels
A40: 766 | B40: 7 | C40: 100 | E40: 7 | F40: Objectifs Généraux
A41: 38031 | B41: 20 | C41: 93 | E41: 18.6 | F41: Objectifs Généraux
A42: 70256 | B42: 15 | C42: 85 | E42: 12.75 | F42: Objectifs Individuels
...

Sheet Items
A1: Matricule | B1: ItemId | C1: Nom | D1: Valeur | E1: Évaluation
A2: 766 | B2: 310 | C2: Par rapport aux attentes, la performance globale est : | D2: 3 | E2: Au-niveau de l’attendu
A3: 27606 | B3: 310 | C3: Par rapport aux attentes, la performance globale est : | D3: 4 | E3: Au-dessus de l’attendu
A4: 28197 | B4: 310 | C4: Par rapport aux attentes, la performance globale est : | D4: 3 | E4: Au-niveau de l’attendu
A5: 61530 | B5: 310 | C5: Par rapport aux attentes, la performance globale est : | D5: 3 | E5: Au-niveau de l’attendu
A6: 71643 | B6: 310 | C6: Par rapport aux attentes, la performance globale est : | D6: 3 | E6: Au-niveau de l’attendu
A7: 71779 | B7: 310 | C7: Par rapport aux attentes, la performance globale est : | D7: 3 | E7: Au-niveau de l’attendu
A8: 75019 | B8: 310 | C8: Par rapport aux attentes, la performance globale est : | D8: 3 | E8: Au-niveau de l’attendu
A9: 1431 | B9: 310 | C9: Par rapport aux attentes, la performance globale est : | D9: 4 | E9: Au-dessus de l’attendu
A10: 25672 | B10: 310 | C10: Par rapport aux attentes, la performance globale est : | D10: 3 | E10: Au-niveau de l’attendu
A11: 25690 | B11: 310 | C11: Par rapport aux attentes, la performance globale est : | D11: 4 | E11: Au-dessus de l’attendu
A12: 25919 | B12: 310 | C12: Par rapport aux attentes, la performance globale est : | D12: 4 | E12: Au-dessus de l’attendu
A13: 25936 | B13: 310 | C13: Par rapport aux attentes, la performance globale est : | D13: 2 | E13: En-dessous de l’attendu
... A24: 73909 | B24: 310 | C24: Par rapport aux attentes, la performance globale est : | D24: 2 | E24: En-dessous de l’attendu
