Workbook
Name TS.Besoins: #REF!
Name TS.Collaborateurs: 'Données-Data'!$A$1:$D$541
Name TS.Items: Items!$A$1:$E$24
Name TS.Mobilités: #REF!
Name TS.ObjectifsOLD: ObjectifsOLD!$A$1:$F$621

Sheet Données-Data
A1: Matricule | B1: Note performance // Performance score | C1: Cumul objectifs | D1: Note de performance <2 ET Cumul objectifs > 75%
A2: 10010 | B2: =IFERROR(VLOOKUP('Données-Data'!A2,Items!A:E,4,0),"") | C2: =IFERROR(VLOOKUP($A2*1,TCD!$A:$B,2,0),"") | D2: =IF(AND(B2<=2,C2>75),"Oui","Non") -> Non
A3: 10032 | B3: =IFERROR(VLOOKUP('Données-Data'!A3,Items!A:E,4,0),"") | C3: =IFERROR(VLOOKUP($A3*1,TCD!$A:$B,2,0),"") | D3: =IF(AND(B3<=2,C3>75),"Oui","Non") -> Non
A4: 10046 | B4: =IFERROR(VLOOKUP('Données-Data'!A4,Items!A:E,4,0),"") | C4: =IFERROR(VLOOKUP($A4*1,TCD!$A:$B,2,0),"") | D4: =IF(AND(B4<=2,C4>75),"Oui","Non") -> Non
A5: 10048 | B5: =IFERROR(VLOOKUP('Données-Data'!A5,Items!A:E,4,0),"") | C5: =IFERROR(VLOOKUP($A5*1,TCD!$A:$B,2,0),"") | D5: =IF(AND(B5<=2,C5>75),"Oui","Non") -> Non
A6: 1005 | B6: =IFERROR(VLOOKUP('Données-Data'!A6,Items!A:E,4,0),"") | C6: =IFERROR(VLOOKUP($A6*1,TCD!$A:$B,2,0),"") | D6: =IF(AND(B6<=2,C6>75),"Oui","Non") -> Non
A7: 10054 | B7: =IFERROR(VLOOKUP('Données-Data'!A7,Items!A:E,4,0),"") | C7: =IFERROR(VLOOKUP($A7*1,TCD!$A:$B,2,0),"") | D7: =IF(AND(B7<=2,C7>75),"Oui","Non") -> Non
A8: 1006 | B8: =IFERROR(VLOOKUP('Données-Data'!A8,Items!A:E,4,0),"") | C8: =IFERROR(VLOOKUP($A8*1,TCD!$A:$B,2,0),"") | D8: =IF(AND(B8<=2,C8>75),"Oui","Non") -> Non
A9: 10062 | B9: =IFERROR(VLOOKUP('Données-Data'!A9,Items!A:E,4,0),"") | C9: =IFERROR(VLOOKUP($A9*1,TCD!$A:$B,2,0),"") | D9: =IF(AND(B9<=2,C9>75),"Oui","Non") -> Non
A10: 10063 | B10: =IFERROR(VLOOKUP('Données-Data'!A10,Items!A:E,4,0),"") | C10: =IFERROR(VLOOKUP($A10*1,TCD!$A:$B,2,0),"") | D10: =IF(AND(B10<=2,C10>75),"Oui","Non") -> Non
A11: 10064 | B11: =IFERROR(VLOOKUP('Données-Data'!A11,Items!A:E,4,0),"") | C11: =IFERROR(VLOOKUP($A11*1,TCD!$A:$B,2,0),"") | D11: =IF(AND(B11<=2,C11>75),"Oui","Non") -> Non
A12: 10069 | B12: =IFERROR(VLOOKUP('Données-Data'!A12,Items!A:E,4,0),"") | C12: =IFERROR(VLOOKUP($A12*1,TCD!$A:$B,2,0),"") | D12: =IF(AND(B12<=2,C12>75),"Oui","Non") -> Non
A13: 1007 | B13: =IFERROR(VLOOKUP('Données-Data'!A13,Items!A:E,4,0),"") | C13: =IFERROR(VLOOKUP($A13*1,TCD!$A:$B,2,0),"") | D13: =IF(AND(B13<=2,C13>75),"Oui","Non") -> Non
... A364: 766 | B364: =IFERROR(VLOOKUP('Données-Data'!A364,Items!A:E,4,0),"") -> 3 | C364: =IFERROR(VLOOKUP($A364*1,TCD!$A:$B,2,0),"") -> 27 | D364: =IF(AND(B364<=2,C364>75),"Oui","Non") -> Non

Sheet TCD
A1: Nature | B1: Objectifs Généraux
A3: Étiquettes de lignes | B3: Somme de Calcul pondéré - Weighted calculation
A4: 491 | B4: 40
A5: 766 | B5: 27
A6: 3367 | B6: 36
A7: 3970 | B7: 70
A8: 10924 | B8: 35
A9: 16203 | B9: 14
A10: 16230 | B10: 30
A11: 16474 | B11: 14.25
A12: 17467 | B12: 29
A13: 19453 | B13: 40
A14: 20381 | B14: 30
A15: 21745 | B15: 5
... A72: 74676 | B72: 0.6
A73: Total général | B73: 1976.6175

Sheet ObjectifsOLD
A1: Matricule | B1: % Quote part | C1: Resultat obtenu | D1: %Appréciation | E1: Calcul pondéré - Weighted calculation | F1: Nature
A2: 70256 | B2: 20 | C2: 85 | E2: 17 | F2: Objectifs Individuels
A3: 33531 | B3: 10 | C3: 100 | E3: 10 | F3: Objectifs Individuels
A4: 68836 | B4: 12.5 | C4: 100 | E4: 12.5 | F4: Objectifs Généraux
A5: 491 | B5: 15 | C5: 100 | E5: 15 | F5: Objectifs Généraux
A6: 73797 | B6: 10 | C6: 100 | E6: 10 | F6: Objectifs Généraux
A7: 70256 | B7: 20 | C7: 85 | E7: 17 | F7: Objectifs Généraux
A8: 491 | B8: 10 | C8: 100 | E8: 10 | F8: Objectifs Généraux
A9: 38031 | B9: 20 | C9: 93 | E9: 18.6 | F9: Objectifs Généraux
A10: 74676 | B10: 15 | C10: 1 | E10: 0.15 | F10: Objectifs Généraux
A11: 38031 | B11: 20 | C11: 90 | E11: 18 | F11: Objectifs Généraux
A12: 68836 | B12: 12.5 | C12: 100 | E12: 12.5 | F12: Objectifs Généraux
A13: 33760 | B13: 25 | E13: 0 | F13: Objectifs Généraux
A14: 30683 | B14: 18.75 | C14: 100 | E14: 18.75 | F14: Objectifs Individuels
A15: 73797 | B15: 10 | C15: 100 | E15: 10 | F15: Objectifs Généraux
A16: 74676 | B16: 15 | C16: 1 | E16: 0.15 | F16: Objectifs Généraux
A17: 61322 | B17: 10 | C17: 100 | E17: 10 | F17: Objectifs Généraux
A18: 61322 | B18: 25 | C18: 100 | E18: 25 | F18: Objectifs Généraux
A19: 766 | B19: 48 | C19: 30 | E19: 14.4 | F19: Objectifs Individuels
A20: 73226 | B20: 10 | C20: 100 | E20: 10 | F20: Objectifs Généraux
A21: 36798 | B21: 20 | C21: 85 | E21: 17 | F21: Objectifs Généraux
A22: 65453 | B22: 25 | C22: 100 | E22: 25 | F22: Objectifs Généraux
A23: 73797 | B23: 10 | C23: 100 | E23: 10 | F23: Objectifs Généraux
A24: 73226 | B24: 25 | C24: 100 | E24: 25 | F24: Objectifs Généraux
A25: 68836 | B25: 12.5 | C25: 50 | E25: 6.25 | F25: Objectifs Individuels
... A28: 73797 | B28: 10 | C28: 66 | E28: 6.6 | F28: Objectifs Individuels
A29: 30683 | B29: 18.75 | E29: 0 | F29: Objectifs Individuels
A30: 32478 | B30: 30 | E30: 0 | F30: Objectifs Généraux
A31: 38031 | B31: 20 | C31: 95 | E31: 19 | F31: Objectifs Généraux
A32: 68836 | B32: 10 | C32: 25 | E32: 2.5 | F32: Objectifs Généraux
A33: 36798 | B33: 15 | C33: 100 | E33: 15 | F33: Objectifs Individuels
A34: 61322 | B34: 15 | C34: 100 | E34: 15 | F34: Objectifs Généraux
A35: 36798 | B35: 20 | C35: 100 | E35: 20 | F35: Objectifs Généraux
A36: 65453 | B36: 25 | C36: 100 | E36: 25 | F36: Objectifs Généraux
A37: 61322 | B37: 20 | C37: 100 | E37: 20 | F37: Objectifs Individuels
A38: 38031 | B38: 20 | C38: 93 | E38: 18.6 | F38: Objectifs Individuels
A39: 68836 | B39: 12.5 | C39: 0 | E39: 0 | F39: Objectifs Individuels
A40: 766 | B40: 7 | C40: 100 | E40: 7 | F40: Objectifs Généraux
A41: 38031 | B41: 20 | C41: 93 | E41: 18.6 | F41: Objectifs Généraux
A42: 70256 | B42: 15 | C42: 85 | E42: 12.75 | F42: Objectifs Individuels
... A49: 70256 | B49: 20 | C49: 85 | E49: 17 | F49: Objectifs Généraux
A50: 39211 | B50: 5 | E50: 0 | F50: Objectifs Individuels
A51: 491 | B51: 15 | C51: 100 | E51: 15 | F51: Objectifs Généraux
A52: 73797 | B52: 25 | C52: 100 | E52: 25 | F52: Objectifs Généraux
A53: 33531 | B53: 5 | C53: 100 | E53: 5 | F53: Objectifs Individuels
A54: 33531 | B54: 10 | C54: 100 | E54: 10 | F54: Objectifs Généraux
A55: 74676 | B55: 15 | C55: 1 | E55: 0.15 | F55: Objectifs Généraux
A56: 65453 | B56: 25 | C56: 100 | E56: 25 | F56: Objectifs Individuels
A57: 68836 | B57: 10 | C57: 50 | E57: 5 | F57: Objectifs Individuels
A58: 74676 | B58: 15 | C58: 1 | E58: 0.15 | F58: Objectifs Individuels
A59: 73226 | B59: 30 | C59: 90 | E59: 27 | F59: Objectifs Individuels
A60: 766 | B60: 12 | C60: 100 | E60: 12 | F60: Objectifs Généraux
A61: 766 | B61: 25 | C61: 95 | E61: 23.75 | F61: Objectifs Individuels
A62: 73226 | B62: 20 | C62: 90 | E62: 18 | F62: Objectifs Individuels
... A84: 63761 | B84: 10 | C84: 100 | E84: 10 | F84: Objectifs Individuels
A85: 42121 | B85: 7.5 | E85: 0 | F85: Objectifs Individuels
A86: 60305 | B86: 15 | C86: 100 | E86: 15 | F86: Objectifs Individuels
A87: 17699 | B87: 60 | C87: 100 | E87: 60 | F87: Objectifs Individuels
A88: 27606 | B88: 9 | C88: 100 | E88: 9 | F88: Objectifs Individuels
A89: 61530 | B89: 25 | C89: 100 | E89: 25 | F89: Objectifs Individuels
A90: 27989 | B90: 10 | C90: 100 | E90: 10 | F90: Objectifs Individuels
A91: 10103 | B91: 25 | E91: 0 | F91: Objectifs Individuels
A92: 60307 | B92: 10 | C92: 100 | E92: 10 | F92: Objectifs Individuels
A93: 66154 | B93: 5 | E93: 0 | F93: Objectifs Individuels
A94: 21898 | B94: 10 | C94: 100 | E94: 10 | F94: Objectifs Individuels
A95: 24546 | B95: 25 | C95: 100 | E95: 25 | F95: Objectifs Individuels
A96: 41165 | B96: 35 | C96: 57 | E96: 19.95 | F96: Objectifs Individuels
A97: 27905 | B97: 10 | C97: 90 | E97: 9 | F97: Objectifs Généraux
A98: 10924 | B98: 15 | C98: 80 | E98: 12 | F98: Objectifs Individuels
A99: 71779 | B99: 5 | C99: 20 | E99: 1 | F99: Objectifs Individuels
A100: 64564 | B100: 10 | C100: 45 | E100: 4.5 | F100: Objectifs Individuels
A101: 10924 | B101: 25 | C101: 90 | E101: 22.5 | F101: Objectifs Individuels
A102: 24546 | B102: 25 | C102: 100 | E102: 25 | F102: Objectifs Individuels
A103: 28552 | B103: 15 | C103: 83 | E103: 12.45 | F103: Objectifs Généraux
A104: 28624 | B104: 15 | C104: 80 | E104: 12 | F104: Objectifs Généraux
A105: 27750 | B105: 8.5 | C105: 100 | E105: 8.5 | F105: Objectifs Généraux
... A107: 29662 | B107: 15 | C107: 100 | E107: 15 | F107: Objectifs Individuels
A108: 41486 | B108: 10 | E108: 0 | F108: Objectifs Individuels
A109: 41165 | B109: 20 | E109: 0 | F109: Objectifs Généraux
A110: 20381 | B110: 10 | C110: 100 | E110: 10 | F110: Objectifs Généraux
A111: 21754 | B111: 20 | C111: 100 | E111: 20 | F111: Objectifs Généraux
A112: 66154 | B112: 25 | E112: 0 | F112: Objectifs Généraux
A113: 20381 | B113: 10 | C113: 50 | E113: 5 | F113: Objectifs Individuels
A114: 52295 | B114: 11.25 | C114: 100 | E114: 11.25 | F114: Objectifs Individuels 2
A115: 3367 | B115: 15 | C115: 90 | E115: 13.5 | F115: Objectifs Individuels
A116: 29533 | B116: 25 | C116: 100 | E116: 25 | F116: Objectifs Généraux
A117: 61277 | B117: 25 | E117: 0 | F117: Objectifs Généraux
A118: 67531 | B118: 20 | C118: 50 | E118: 10 | F118: Objectifs Généraux
A119: 41478 | B119: 10 | E119: 0 | F119: Objectifs Individuels
A120: 64564 | B120: 55 | C120: 95 | E120: 52.25 | F120: Objectifs Individuels
A121: 41165 | B121: 10 | C121: 0 | E121: 0 | F121: Objectifs Individuels
A122: 66154 | B122: 20 | E122: 0 | F122: Objectifs Individuels
A123: 28488 | B123: 15 | C123: 100 | E123: 15 | F123: Objectifs Individuels
A124: 27908 | B124: 25 | C124: 80 | E124: 20 | F124: Objectifs Individuels
A125: 55830 | B125: 55 | C125: 100 | E125: 55 | F125: Objectifs Individuels
A126: 21817 | B126: 5 | C126: 100 | E126: 5 | F126: Objectifs Individuels
A127: 68785 | B127: 10 | C127: 100 | E127: 10 | F127: Objectifs Individuels
A128: 54724 | B128: 30 | C128: 100 | E128: 30 | F128: Objectifs Individuels
A129: 20799 | B129: 7.5 | E129: 0 | F129: Objectifs Individuels
A130: 28488 | B130: 20 | C130: 85 | E130: 17 | F130: Objectifs Individuels
...

Sheet Items
A1: Matricule | B1: ItemId | C1: Nom | D1: Valeur | E1: Évaluation
A2: 766 | B2: 310 | C2: Par rapport aux attentes, la performance globale est : | D2: 3 | E2: Au-niveau de l’attendu
A3: 27606 | B3: 310 | C3: Par rapport aux attentes, la performance globale est : | D3: 4 | E3: Au-dessus de l’attendu
A4: 28197 | B4: 310 | C4: Par rapport aux attentes, la performance globale est : | D4: 3 | E4: Au-niveau de l’attendu
A5: 61530 | B5: 310 | C5: Par rapport aux attentes, la performance globale est : | D5: 3 | E5: Au-niveau de l’attendu
A6: 71643 | B6: 310 | C6: Par rapport aux attentes, la performance globale est : | D6: 3 | E6: Au-niveau de l’attendu
A7: 71779 | B7: 310 | C7: Par rapport aux attentes, la performance globale est : | D7: 3 | E7: Au-niveau de l’attendu
A8: 75019 | B8: 310 | C8: Par rapport aux attentes, la performance globale est : | D8: 3 | E8: Au-niveau de l’attendu
A9: 1431 | B9: 310 | C9: Par rapport aux attentes, la performance globale est : | D9: 4 | E9: Au-dessus de l’attendu
A10: 25672 | B10: 310 | C10: Par rapport aux attentes, la performance globale est : | D10: 3 | E10: Au-niveau de l’attendu
A11: 25690 | B11: 310 | C11: Par rapport aux attentes, la performance globale est : | D11: 4 | E11: Au-dessus de l’attendu
A12: 25919 | B12: 310 | C12: Par rapport aux attentes, la performance globale est : | D12: 4 | E12: Au-dessus de l’attendu
A13: 25936 | B13: 310 | C13: Par rapport aux attentes, la performance globale est : | D13: 2 | E13: En-dessous de l’attendu
... A24: 73909 | B24: 310 | C24: Par rapport aux attentes, la performance globale est : | D24: 2 | E24: En-dessous de l’attendu
