Workbook

Sheet Suivi dispenses Mutuelle
A1: Motif | B1: Justificatif à donner | C1: Réception dispense | D1: Date justif. | E1: Fin justif.
B2: =IF(A2=Feuil1!A4,Feuil1!B4,IF(A2=Feuil1!A5,Feuil1!B5,IF(A2=Feuil1!A6,Feuil1!B6,IF(A2=Feuil1!A7,Feuil1!B7,IF(A2=Feuil1!A8,Feuil1!B8,IF(A2=Feuil1!A9,Feuil1!B9,IF(A2=Feuil1!A10,Feuil1!B10,IF(A2=Feuil1!A11,Feuil1!B11,0)))))))) -> 0 | E2: 44567
A3: CMU-C ou ACS (CSS) | B3: =IF(A3=Feuil1!A5,Feuil1!B5,IF(A3=Feuil1!A6,Feuil1!B6,IF(A3=Feuil1!A7,Feuil1!B7,IF(A3=Feuil1!A8,Feuil1!B8,IF(A3=Feuil1!A9,Feuil1!B9,IF(A3=Feuil1!A10,Feuil1!B10,IF(A3=Feuil1!A11,Feuil1!B11,IF(A3=Feuil1!A12,Feuil1!B12,0)))))))) -> Attestation CMU ou ACS | C3: Oui | D3: 43768 | E3: 44133
B4: =IF(A4=Feuil1!A5,Feuil1!B5,IF(A4=Feuil1!A6,Feuil1!B6,IF(A4=Feuil1!A7,Feuil1!B7,IF(A4=Feuil1!A8,Feuil1!B8,IF(A4=Feuil1!A9,Feuil1!B9,IF(A4=Feuil1!A10,Feuil1!B10,IF(A4=Feuil1!A11,Feuil1!B11,IF(A4=Feuil1!A12,Feuil1!B12,0)))))))) -> 0 | E4: 44829
B5: =IF(A5=Feuil1!A6,Feuil1!B6,IF(A5=Feuil1!A7,Feuil1!B7,IF(A5=Feuil1!A8,Feuil1!B8,IF(A5=Feuil1!A9,Feuil1!B9,IF(A5=Feuil1!A10,Feuil1!B10,IF(A5=Feuil1!A11,Feuil1!B11,IF(A5=Feuil1!A12,Feuil1!B12,IF(A5=Feuil1!A13,Feuil1!B13,0)))))))) -> 0 | E5: 44765
B6: =IF(A6=Feuil1!A7,Feuil1!B7,IF(A6=Feuil1!A8,Feuil1!B8,IF(A6=Feuil1!A9,Feuil1!B9,IF(A6=Feuil1!A10,Feuil1!B10,IF(A6=Feuil1!A11,Feuil1!B11,IF(A6=Feuil1!A12,Feuil1!B12,IF(A6=Feuil1!A13,Feuil1!B13,IF(A6=Feuil1!A14,Feuil1!B14,0)))))))) -> 0
B7: =IF(A7=Feuil1!A8,Feuil1!B8,IF(A7=Feuil1!A9,Feuil1!B9,IF(A7=Feuil1!A10,Feuil1!B10,IF(A7=Feuil1!A11,Feuil1!B11,IF(A7=Feuil1!A12,Feuil1!B12,IF(A7=Feuil1!A13,Feuil1!B13,IF(A7=Feuil1!A14,Feuil1!B14,IF(A7=Feuil1!A15,Feuil1!B15,0)))))))) -> 0
B8: =IF(A8=Feuil1!A9,Feuil1!B9,IF(A8=Feuil1!A10,Feuil1!B10,IF(A8=Feuil1!A11,Feuil1!B11,IF(A8=Feuil1!A12,Feuil1!B12,IF(A8=Feuil1!A13,Feuil1!B13,IF(A8=Feuil1!A14,Feuil1!B14,IF(A8=Feuil1!A15,Feuil1!B15,IF(A8=Feuil1!A16,Feuil1!B16,0)))))))) -> 0
B9: =IF(A9=Feuil1!A10,Feuil1!B10,IF(A9=Feuil1!A11,Feuil1!B11,IF(A9=Feuil1!A12,Feuil1!B12,IF(A9=Feuil1!A13,Feuil1!B13,IF(A9=Feuil1!A14,Feuil1!B14,IF(A9=Feuil1!A15,Feuil1!B15,IF(A9=Feuil1!A16,Feuil1!B16,IF(A9=Feuil1!A17,Feuil1!B17,0)))))))) -> 0
B10: =IF(A10=Feuil1!A11,Feuil1!B11,IF(A10=Feuil1!A12,Feuil1!B12,IF(A10=Feuil1!A13,Feuil1!B13,IF(A10=Feuil1!A14,Feuil1!B14,IF(A10=Feuil1!A15,Feuil1!B15,IF(A10=Feuil1!A16,Feuil1!B16,IF(A10=Feuil1!A17,Feuil1!B17,IF(A10=Feuil1!A18,Feuil1!B18,0)))))))) -> 0
B11: =IF(A11=Feuil1!A12,Feuil1!B12,IF(A11=Feuil1!A13,Feuil1!B13,IF(A11=Feuil1!A14,Feuil1!B14,IF(A11=Feuil1!A15,Feuil1!B15,IF(A11=Feuil1!A16,Feuil1!B16,IF(A11=Feuil1!A17,Feuil1!B17,IF(A11=Feuil1!A18,Feuil1!B18,IF(A11=Feuil1!A19,Feuil1!B19,0)))))))) -> 0
B12: =IF(A12=Feuil1!A13,Feuil1!B13,IF(A12=Feuil1!A14,Feuil1!B14,IF(A12=Feuil1!A15,Feuil1!B15,IF(A12=Feuil1!A16,Feuil1!B16,IF(A12=Feuil1!A17,Feuil1!B17,IF(A12=Feuil1!A18,Feuil1!B18,IF(A12=Feuil1!A19,Feuil1!B19,IF(A12=Feuil1!A20,Feuil1!B20,0)))))))) -> 0
B13: =IF(A13=Feuil1!A14,Feuil1!B14,IF(A13=Feuil1!A15,Feuil1!B15,IF(A13=Feuil1!A16,Feuil1!B16,IF(A13=Feuil1!A17,Feuil1!B17,IF(A13=Feuil1!A18,Feuil1!B18,IF(A13=Feuil1!A19,Feuil1!B19,IF(A13=Feuil1!A20,Feuil1!B20,IF(A13=Feuil1!A21,Feuil1!B21,0)))))))) -> 0
B14: =IF(A14=Feuil1!A15,Feuil1!B15,IF(A14=Feuil1!A16,Feuil1!B16,IF(A14=Feuil1!A17,Feuil1!B17,IF(A14=Feuil1!A18,Feuil1!B18,IF(A14=Feuil1!A19,Feuil1!B19,IF(A14=Feuil1!A20,Feuil1!B20,IF(A14=Feuil1!A21,Feuil1!B21,IF(A14=Feuil1!A22,Feuil1!B22,0)))))))) -> 0
B15: =IF(A15=Feuil1!A16,Feuil1!B16,IF(A15=Feuil1!A17,Feuil1!B17,IF(A15=Feuil1!A18,Feuil1!B18,IF(A15=Feuil1!A19,Feuil1!B19,IF(A15=Feuil1!A20,Feuil1!B20,IF(A15=Feuil1!A21,Feuil1!B21,IF(A15=Feuil1!A22,Feuil1!B22,IF(A15=Feuil1!A23,Feuil1!B23,0)))))))) -> 0
B16: =IF(A16=Feuil1!A17,Feuil1!B17,IF(A16=Feuil1!A18,Feuil1!B18,IF(A16=Feuil1!A19,Feuil1!B19,IF(A16=Feuil1!A20,Feuil1!B20,IF(A16=Feuil1!A21,Feuil1!B21,IF(A16=Feuil1!A22,Feuil1!B22,IF(A16=Feuil1!A23,Feuil1!B23,IF(A16=Feuil1!A24,Feuil1!B24,0)))))))) -> 0
B17: =IF(A17=Feuil1!A18,Feuil1!B18,IF(A17=Feuil1!A19,Feuil1!B19,IF(A17=Feuil1!A20,Feuil1!B20,IF(A17=Feuil1!A21,Feuil1!B21,IF(A17=Feuil1!A22,Feuil1!B22,IF(A17=Feuil1!A23,Feuil1!B23,IF(A17=Feuil1!A24,Feuil1!B24,IF(A17=Feuil1!A25,Feuil1!B25,0)))))))) -> 0
... B92: =IF(A92=Feuil1!A93,Feuil1!B93,IF(A92=Feuil1!A94,Feuil1!B94,IF(A92=Feuil1!A95,Feuil1!B95,IF(A92=Feuil1!A96,Feuil1!B96,IF(A92=Feuil1!A97,Feuil1!B97,IF(A92=Feuil1!A98,Feuil1!B98,IF(A92=Feuil1!A99,Feuil1!B99,IF(A92=Feuil1!A100,Feuil1!B100,0)))))))) -> 0

Sheet Feuil1
A2: MOTIF | B2: JUSTIFICATIF
A4: Apprenti ou CDD =< 3 mois | B4: Rien
A5: Apprenti ou CDD > 3 mois | B5: Attestation de la mutuelle individuelle
A6: Apprenti et ETP < 1 dont cotis > 10% brut | B6: Rien
A7: CMU-C ou ACS (CSS) | B7: Attestation CMU ou ACS
A8: Couverture individuelle jusqu'à échéance | B8: Attestation de la mutuelle individuelle
A9: Couverture autre employeur ou ayant-droit obligatoire | B9: Attestation autre employeur (mention familial obligatoire si ayant-droit)
A10: Bénéficiaire au ayant-droit Etat / Madelin / Alsace / Camieg | B10: Attestation du régime concerné
A11: Couverture responsable (versement santé) | B11: Attestation couverture responsable
