Workbook

Sheet DÉBUT

Sheet 01-12-20
G1: =TODAY() -> 44166 | I1: SOIR
A2: LOGIN | B2: TOTAL JOUR | C2: PICK | D2: RAYMOND | E2: SONO | F2: CONSOL | G2: CHARGEMENT | H2: REAPPRO | I2: RECEPTION | J2: INVENTAIRE | K2: MÉNAGE | L2: TR. LÉGER | M2: PICK CLIENT | N2: FORMATION | O2: AUTRES | P2: MALADIE | Q2: RÉUNION
A3: AUBP | B3: =SUM(C3:Q3) -> 0
A4: VAUJ | B4: =SUM(C4:Q4) -> 0
A5: ROBO | B5: =SUM(C5:Q5) -> 0
A6: LAMM | B6: =SUM(C6:Q6) -> 0
A7: PALM | B7: =SUM(C7:Q7) -> 0
A8: BABS | B8: =SUM(C8:Q8) -> 0
A9: ROUE | B9: =SUM(C9:Q9) -> 0
A10: CHEL | B10: =SUM(C10:Q10) -> 0
A11: LAPE | B11: =SUM(C11:Q11) -> 0
A12: FAJE | B12: =SUM(C12:Q12) -> 0
A13: GAGG | B13: =SUM(C13:Q13) -> 0
A14: BEAU | B14: =SUM(C14:Q14) -> 0
... A36: HOJO | B36: =SUM(C36:Q36) -> 0
B37: =SUM(C37:Q37) -> 0
B38: =SUM(C38:Q38) -> 0
B39: =SUM(C39:Q39) -> 0
B40: =SUM(C40:Q40) -> 0
B41: =SUM(C41:Q41) -> 0
B42: =SUM(C42:Q42) -> 0
B43: =SUM(C43:Q43) -> 0
B44: =SUM(C44:Q44) -> 0
B45: =SUM(C45:Q45) -> 0
B46: =SUM(C46:Q46) -> 0
B47: =SUM(C47:Q47) -> 0
B48: =SUM(C48:Q48) -> 0
... B50: =SUM(C50:Q50) -> 0
A51: BOID | B51: =SUM(C51:Q51) -> 0
A52: NORJ | B52: =SUM(C52:Q52) -> 0
A53: *LAFM* | B53: =SUM(C53:Q53) -> 0
A54: LAPO | B54: =SUM(C54:Q54) -> 0
A55: *TERL* | B55: =SUM(C55:Q55) -> 0
A56: DESM | B56: =SUM(C56:Q56) -> 0
A57: MART | B57: =SUM(C57:Q57) -> 0
A58: SARM | B58: =SUM(C58:Q58) -> 0
A59: COUA | B59: =SUM(C59:Q59) -> 0
A60: *YOUN* | B60: =SUM(C60:Q60) -> 0
A61: DONS | B61: =SUM(C61:Q61) -> 0
A62: VIGN | B62: =SUM(C62:Q62) -> 0
... A80: JEFF | B80: =SUM(C80:Q80) -> 0
B81: =SUM(C81:Q81) -> 0
B82: =SUM(C82:Q82) -> 0
B83: =SUM(C83:Q83) -> 0
B84: =SUM(C84:Q84) -> 0
B85: =SUM(C85:Q85) -> 0
B86: =SUM(C86:Q86) -> 0
B87: =SUM(C87:Q87) -> 0
A88: EMIL | B88: =SUM(C88:Q88) -> 0
A89: POIR | B89: =SUM(C89:Q89) -> 0
A90: LATO | B90: =SUM(C90:Q90) -> 0
A91: PRUD | B91: =SUM(C91:Q91) -> 0
A92: DOUZ | B92: =SUM(C92:Q92) -> 0
A93: FONA | B93: =SUM(C93:Q93) -> 0
A94: ROCH | B94: =SUM(C94:Q94) -> 0
A95: WILA | B95: =SUM(C95:Q95) -> 0
B96: =SUM(C96:Q96) -> 0
B97: =SUM(C97:Q97) -> 0
B98: =SUM(C98:Q98) -> 0
B99: =SUM(C99:Q99) -> 0
B100: =SUM(C100:Q100) -> 0
A101: NICOLE | B101: =SUM(C101:Q101) -> 0
B102: =SUM(C102:Q102) -> 0
A103: LOGIN | B103: TOTAL JOUR | C103: PICK | D103: RAYMOND | E103: SONO | F103: BACS | G103: CHARGEMENT | H103: REAPPRO | I103: RECEPTION | J103: INVENTAIRE | K103: MÉNAGE | L103: TR. LÉGER | M103: PICK CLIENT | N103: FORMATION | O103: AUTRES | P103: MALADIE | Q103: RÉUNION
A104: TOTAL | B104: =SUM(B3:B102) -> 0 | C104: =SUM(C3:C102) -> 0 | D104: =SUM(D3:D102) -> 0 | E104: =SUM(E3:E102) -> 0 | F104: =SUM(F3:F102) -> 0 | G104: =SUM(G3:G102) -> 0 | H104: =SUM(H3:H102) -> 0 | I104: =SUM(I3:I102) -> 0 | ... Q104: =SUM(Q3:Q102) -> 0
C116: Formation | F116: =SUM(N3:N102) -> 0 | H116: Rapport et heure de pick de soir
C117: Agences | F117: =SUM(B88:B102) -> 0
C118: Réunion | F118: =SUM(Q3:Q102) -> 0
C119: Pick | F119: =SUM(C104:E104) -> 0
C120: Travaux Léger | F120: =SUM(L3:L102) -> 0
C121: Inventaire | F121: =SUM(J3:J102) -> 0
C122: Réapro | F122: =SUM(H3:H102) -> 0
C123: Autres | F123: =SUM(O3:O102) -> 0
C124: Nombre d'employés | F124: =COUNTIF(B3:B100,">0") -> 0
C125: Réception | F125: =SUM(I3:I102) -> 0
C126: Consolidation | F126: =SUM(F3:F102) -> 0
C127: Chargement | F127: =SUM(G3:G102) -> 0
C128: Pick-Client | F128: =SUM(M3:M102) -> 0
C129: Ménage | F129: =SUM(K3:K102) -> 0
C130: Maladie | F130: =SUM(P3:P102) -> 0
C131: Planif. Main D'œuvre | G131: Lignes | I131: Mezzanine | L131: Nombre d'employés
C132: LIGNES PICK | G132: Unitées | I132: Palettes
C133: Heures Pick | F133: =F119 -> 0
C134: Employés / 8hrs | F134: =(B104-P104)/8 -> 0
C136: Ratio brute | F136: =H131/(N122*7.5) -> #DIV/0! | G136: Ratio net | H136: =F132/F133 -> #DIV/0! | I136: Productivité | J136: =(H136/F136) -> #DIV/0!
C138: OVERTIME (RÉGULIERS) | F138: {=SUMPRODUCT(($B$3:$B$36>8)*($B$3:$B$36-8))} -> 0

Sheet 02-12-20
G1: =TODAY() -> 44166 | I1: SOIR
A2: LOGIN | B2: TOTAL JOUR | C2: PICK | D2: RAYMOND | E2: SONO | F2: CONSOL | G2: CHARGEMENT | H2: REAPPRO | I2: RECEPTION | J2: INVENTAIRE | K2: MÉNAGE | L2: TR. LÉGER | M2: PICK CLIENT | N2: FORMATION | O2: AUTRES | P2: MALADIE | Q2: RÉUNION
A3: AUBP | B3: =SUM(C3:Q3) -> 0
A4: VAUJ | B4: =SUM(C4:Q4) -> 0
A5: ROBO | B5: =SUM(C5:Q5) -> 0
A6: LAMM | B6: =SUM(C6:Q6) -> 0
A7: PALM | B7: =SUM(C7:Q7) -> 0
A8: BABS | B8: =SUM(C8:Q8) -> 0
A9: ROUE | B9: =SUM(C9:Q9) -> 0
A10: CHEL | B10: =SUM(C10:Q10) -> 0
A11: LAPE | B11: =SUM(C11:Q11) -> 0
A12: FAJE | B12: =SUM(C12:Q12) -> 0
A13: GAGG | B13: =SUM(C13:Q13) -> 0
A14: BEAU | B14: =SUM(C14:Q14) -> 0
... A36: HOJO | B36: =SUM(C36:Q36) -> 0
B37: =SUM(C37:Q37) -> 0
B38: =SUM(C38:Q38) -> 0
B39: =SUM(C39:Q39) -> 0
B40: =SUM(C40:Q40) -> 0
B41: =SUM(C41:Q41) -> 0
B42: =SUM(C42:Q42) -> 0
B43: =SUM(C43:Q43) -> 0
B44: =SUM(C44:Q44) -> 0
B45: =SUM(C45:Q45) -> 0
B46: =SUM(C46:Q46) -> 0
B47: =SUM(C47:Q47) -> 0
B48: =SUM(C48:Q48) -> 0
... B50: =SUM(C50:Q50) -> 0
A51: BOID | B51: =SUM(C51:Q51) -> 0
A52: NORJ | B52: =SUM(C52:Q52) -> 0
A53: *LAFM* | B53: =SUM(C53:Q53) -> 0
A54: LAPO | B54: =SUM(C54:Q54) -> 0
A55: *TERL* | B55: =SUM(C55:Q55) -> 0
A56: DESM | B56: =SUM(C56:Q56) -> 0
A57: MART | B57: =SUM(C57:Q57) -> 0
A58: SARM | B58: =SUM(C58:Q58) -> 0
A59: COUA | B59: =SUM(C59:Q59) -> 0
A60: *YOUN* | B60: =SUM(C60:Q60) -> 0
A61: DONS | B61: =SUM(C61:Q61) -> 0
A62: VIGN | B62: =SUM(C62:Q62) -> 0
... A80: JEFF | B80: =SUM(C80:Q80) -> 0
B81: =SUM(C81:Q81) -> 0
B82: =SUM(C82:Q82) -> 0
B83: =SUM(C83:Q83) -> 0
B84: =SUM(C84:Q84) -> 0
B85: =SUM(C85:Q85) -> 0
B86: =SUM(C86:Q86) -> 0
B87: =SUM(C87:Q87) -> 0
A88: EMIL | B88: =SUM(C88:Q88) -> 0
A89: POIR | B89: =SUM(C89:Q89) -> 0
A90: LATO | B90: =SUM(C90:Q90) -> 0
A91: PRUD | B91: =SUM(C91:Q91) -> 0
A92: DOUZ | B92: =SUM(C92:Q92) -> 0
A93: FONA | B93: =SUM(C93:Q93) -> 0
A94: ROCH | B94: =SUM(C94:Q94) -> 0
A95: WILA | B95: =SUM(C95:Q95) -> 0
B96: =SUM(C96:Q96) -> 0
B97: =SUM(C97:Q97) -> 0
B98: =SUM(C98:Q98) -> 0
B99: =SUM(C99:Q99) -> 0
B100: =SUM(C100:Q100) -> 0
A101: NICOLE | B101: =SUM(C101:Q101) -> 0
B102: =SUM(C102:Q102) -> 0
A103: LOGIN | B103: TOTAL JOUR | C103: PICK | D103: RAYMOND | E103: SONO | F103: BACS | G103: CHARGEMENT | H103: REAPPRO | I103: RECEPTION | J103: INVENTAIRE | K103: MÉNAGE | L103: TR. LÉGER | M103: PICK CLIENT | N103: FORMATION | O103: AUTRES | P103: MALADIE | Q103: RÉUNION
A104: TOTAL | B104: =SUM(B3:B102) -> 0 | C104: =SUM(C3:C102) -> 0 | D104: =SUM(D3:D102) -> 0 | E104: =SUM(E3:E102) -> 0 | F104: =SUM(F3:F102) -> 0 | G104: =SUM(G3:G102) -> 0 | H104: =SUM(H3:H102) -> 0 | I104: =SUM(I3:I102) -> 0 | ... Q104: =SUM(Q3:Q102) -> 0
C116: Formation | F116: =SUM(N3:N102) -> 0 | H116: Rapport et heure de pick de soir
C117: Agences | F117: =SUM(B88:B102) -> 0
C118: Réunion | F118: =SUM(Q3:Q102) -> 0
C119: Pick | F119: =SUM(C104:E104) -> 0
C120: Travaux Léger | F120: =SUM(L3:L102) -> 0
C121: Inventaire | F121: =SUM(J3:J102) -> 0
C122: Réapro | F122: =SUM(H3:H102) -> 0
C123: Autres | F123: =SUM(O3:O102) -> 0
C124: Nombre d'employés | F124: =COUNTIF(B3:B100,">0") -> 0
C125: Réception | F125: =SUM(I3:I102) -> 0
C126: Consolidation | F126: =SUM(F3:F102) -> 0
C127: Chargement | F127: =SUM(G3:G102) -> 0
C128: Pick-Client | F128: =SUM(M3:M102) -> 0
C129: Ménage | F129: =SUM(K3:K102) -> 0
C130: Maladie | F130: =SUM(P3:P102) -> 0
C131: Planif. Main D'œuvre | G131: Lignes | I131: Mezzanine | L131: Nombre d'employés
C132: LIGNES PICK | G132: Unitées | I132: Palettes
C133: Heures Pick | F133: =F119 -> 0
C134: Employés / 8hrs | F134: =(B104-P104)/8 -> 0
C136: Ratio brute | F136: =H131/(N122*7.5) -> #DIV/0! | G136: Ratio net | H136: =F132/F133 -> #DIV/0! | I136: Productivité | J136: =(H136/F136) -> #DIV/0!
C138: OVERTIME (RÉGULIERS) | F138: {=SUMPRODUCT(($B$3:$B$36>8)*($B$3:$B$36-8))} -> 0

Sheet 03-12-20
G1: =TODAY() -> 44166 | I1: SOIR
A2: LOGIN | B2: TOTAL JOUR | C2: PICK | D2: RAYMOND | E2: SONO | F2: CONSOL | G2: CHARGEMENT | H2: REAPPRO | I2: RECEPTION | J2: INVENTAIRE | K2: MÉNAGE | L2: TR. LÉGER | M2: PICK CLIENT | N2: FORMATION | O2: AUTRES | P2: MALADIE | Q2: RÉUNION
A3: AUBP | B3: =SUM(C3:Q3) -> 0
A4: VAUJ | B4: =SUM(C4:Q4) -> 0
A5: ROBO | B5: =SUM(C5:Q5) -> 0
A6: LAMM | B6: =SUM(C6:Q6) -> 0
A7: PALM | B7: =SUM(C7:Q7) -> 0
A8: BABS | B8: =SUM(C8:Q8) -> 0
A9: ROUE | B9: =SUM(C9:Q9) -> 0
A10: CHEL | B10: =SUM(C10:Q10) -> 0
A11: LAPE | B11: =SUM(C11:Q11) -> 0
A12: FAJE | B12: =SUM(C12:Q12) -> 0
A13: GAGG | B13: =SUM(C13:Q13) -> 0
A14: BEAU | B14: =SUM(C14:Q14) -> 0
... A36: HOJO | B36: =SUM(C36:Q36) -> 0
B37: =SUM(C37:Q37) -> 0
B38: =SUM(C38:Q38) -> 0
B39: =SUM(C39:Q39) -> 0
B40: =SUM(C40:Q40) -> 0
B41: =SUM(C41:Q41) -> 0
B42: =SUM(C42:Q42) -> 0
B43: =SUM(C43:Q43) -> 0
B44: =SUM(C44:Q44) -> 0
B45: =SUM(C45:Q45) -> 0
B46: =SUM(C46:Q46) -> 0
B47: =SUM(C47:Q47) -> 0
B48: =SUM(C48:Q48) -> 0
... B50: =SUM(C50:Q50) -> 0
A51: BOID | B51: =SUM(C51:Q51) -> 0
A52: NORJ | B52: =SUM(C52:Q52) -> 0
A53: *LAFM* | B53: =SUM(C53:Q53) -> 0
A54: LAPO | B54: =SUM(C54:Q54) -> 0
A55: *TERL* | B55: =SUM(C55:Q55) -> 0
A56: DESM | B56: =SUM(C56:Q56) -> 0
A57: MART | B57: =SUM(C57:Q57) -> 0
A58: SARM | B58: =SUM(C58:Q58) -> 0
A59: COUA | B59: =SUM(C59:Q59) -> 0
A60: *YOUN* | B60: =SUM(C60:Q60) -> 0
A61: DONS | B61: =SUM(C61:Q61) -> 0
A62: VIGN | B62: =SUM(C62:Q62) -> 0
... A80: JEFF | B80: =SUM(C80:Q80) -> 0
B81: =SUM(C81:Q81) -> 0
B82: =SUM(C82:Q82) -> 0
B83: =SUM(C83:Q83) -> 0
B84: =SUM(C84:Q84) -> 0
B85: =SUM(C85:Q85) -> 0
B86: =SUM(C86:Q86) -> 0
B87: =SUM(C87:Q87) -> 0
A88: EMIL | B88: =SUM(C88:Q88) -> 0
A89: POIR | B89: =SUM(C89:Q89) -> 0
A90: LATO | B90: =SUM(C90:Q90) -> 0
A91: PRUD | B91: =SUM(C91:Q91) -> 0
A92: DOUZ | B92: =SUM(C92:Q92) -> 0
A93: FONA | B93: =SUM(C93:Q93) -> 0
A94: ROCH | B94: =SUM(C94:Q94) -> 0
A95: WILA | B95: =SUM(C95:Q95) -> 0
B96: =SUM(C96:Q96) -> 0
B97: =SUM(C97:Q97) -> 0
B98: =SUM(C98:Q98) -> 0
B99: =SUM(C99:Q99) -> 0
B100: =SUM(C100:Q100) -> 0
A101: NICOLE | B101: =SUM(C101:Q101) -> 0
B102: =SUM(C102:Q102) -> 0
A103: LOGIN | B103: TOTAL JOUR | C103: PICK | D103: RAYMOND | E103: SONO | F103: BACS | G103: CHARGEMENT | H103: REAPPRO | I103: RECEPTION | J103: INVENTAIRE | K103: MÉNAGE | L103: TR. LÉGER | M103: PICK CLIENT | N103: FORMATION | O103: AUTRES | P103: MALADIE | Q103: RÉUNION
A104: TOTAL | B104: =SUM(B3:B102) -> 0 | C104: =SUM(C3:C102) -> 0 | D104: =SUM(D3:D102) -> 0 | E104: =SUM(E3:E102) -> 0 | F104: =SUM(F3:F102) -> 0 | G104: =SUM(G3:G102) -> 0 | H104: =SUM(H3:H102) -> 0 | I104: =SUM(I3:I102) -> 0 | ... Q104: =SUM(Q3:Q102) -> 0
C116: Formation | F116: =SUM(N3:N102) -> 0 | H116: Rapport et heure de pick de soir
C117: Agences | F117: =SUM(B88:B102) -> 0
C118: Réunion | F118: =SUM(Q3:Q102) -> 0
C119: Pick | F119: =SUM(C104:E104) -> 0
C120: Travaux Léger | F120: =SUM(L3:L102) -> 0
C121: Inventaire | F121: =SUM(J3:J102) -> 0
C122: Réapro | F122: =SUM(H3:H102) -> 0
C123: Autres | F123: =SUM(O3:O102) -> 0
C124: Nombre d'employés | F124: =COUNTIF(B3:B100,">0") -> 0
C125: Réception | F125: =SUM(I3:I102) -> 0
C126: Consolidation | F126: =SUM(F3:F102) -> 0
C127: Chargement | F127: =SUM(G3:G102) -> 0
C128: Pick-Client | F128: =SUM(M3:M102) -> 0
C129: Ménage | F129: =SUM(K3:K102) -> 0
C130: Maladie | F130: =SUM(P3:P102) -> 0
C131: Planif. Main D'œuvre | G131: Lignes | I131: Mezzanine | L131: Nombre d'employés
C132: LIGNES PICK | G132: Unitées | I132: Palettes
C133: Heures Pick | F133: =F119 -> 0
C134: Employés / 8hrs | F134: =(B104-P104)/8 -> 0
C136: Ratio brute | F136: =H131/(N122*7.5) -> #DIV/0! | G136: Ratio net | H136: =F132/F133 -> #DIV/0! | I136: Productivité | J136: =(H136/F136) -> #DIV/0!
C138: OVERTIME (RÉGULIERS) | F138: {=SUMPRODUCT(($B$3:$B$36>8)*($B$3:$B$36-8))} -> 0

Sheet 04-12-20
G1: =TODAY() -> 44166 | I1: SOIR
A2: LOGIN | B2: TOTAL JOUR | C2: PICK | D2: RAYMOND | E2: SONO | F2: CONSOL | G2: CHARGEMENT | H2: REAPPRO | I2: RECEPTION | J2: INVENTAIRE | K2: MÉNAGE | L2: TR. LÉGER | M2: PICK CLIENT | N2: FORMATION | O2: AUTRES | P2: MALADIE | Q2: RÉUNION
A3: AUBP | B3: =SUM(C3:Q3) -> 0
A4: VAUJ | B4: =SUM(C4:Q4) -> 0
A5: ROBO | B5: =SUM(C5:Q5) -> 0
A6: LAMM | B6: =SUM(C6:Q6) -> 0
A7: PALM | B7: =SUM(C7:Q7) -> 0
A8: BABS | B8: =SUM(C8:Q8) -> 0
A9: ROUE | B9: =SUM(C9:Q9) -> 0
A10: CHEL | B10: =SUM(C10:Q10) -> 0
A11: LAPE | B11: =SUM(C11:Q11) -> 0
A12: FAJE | B12: =SUM(C12:Q12) -> 0
A13: GAGG | B13: =SUM(C13:Q13) -> 0
A14: BEAU | B14: =SUM(C14:Q14) -> 0
... A36: HOJO | B36: =SUM(C36:Q36) -> 0
B37: =SUM(C37:Q37) -> 0
B38: =SUM(C38:Q38) -> 0
B39: =SUM(C39:Q39) -> 0
B40: =SUM(C40:Q40) -> 0
B41: =SUM(C41:Q41) -> 0
B42: =SUM(C42:Q42) -> 0
B43: =SUM(C43:Q43) -> 0
B44: =SUM(C44:Q44) -> 0
B45: =SUM(C45:Q45) -> 0
B46: =SUM(C46:Q46) -> 0
B47: =SUM(C47:Q47) -> 0
B48: =SUM(C48:Q48) -> 0
... B50: =SUM(C50:Q50) -> 0
A51: BOID | B51: =SUM(C51:Q51) -> 0
A52: NORJ | B52: =SUM(C52:Q52) -> 0
A53: *LAFM* | B53: =SUM(C53:Q53) -> 0
A54: LAPO | B54: =SUM(C54:Q54) -> 0
A55: *TERL* | B55: =SUM(C55:Q55) -> 0
A56: DESM | B56: =SUM(C56:Q56) -> 0
A57: MART | B57: =SUM(C57:Q57) -> 0
A58: SARM | B58: =SUM(C58:Q58) -> 0
A59: COUA | B59: =SUM(C59:Q59) -> 0
A60: *YOUN* | B60: =SUM(C60:Q60) -> 0
A61: DONS | B61: =SUM(C61:Q61) -> 0
A62: VIGN | B62: =SUM(C62:Q62) -> 0
... A80: JEFF | B80: =SUM(C80:Q80) -> 0
B81: =SUM(C81:Q81) -> 0
B82: =SUM(C82:Q82) -> 0
B83: =SUM(C83:Q83) -> 0
B84: =SUM(C84:Q84) -> 0
B85: =SUM(C85:Q85) -> 0
B86: =SUM(C86:Q86) -> 0
B87: =SUM(C87:Q87) -> 0
A88: EMIL | B88: =SUM(C88:Q88) -> 0
A89: POIR | B89: =SUM(C89:Q89) -> 0
A90: LATO | B90: =SUM(C90:Q90) -> 0
A91: PRUD | B91: =SUM(C91:Q91) -> 0
A92: DOUZ | B92: =SUM(C92:Q92) -> 0
A93: FONA | B93: =SUM(C93:Q93) -> 0
A94: ROCH | B94: =SUM(C94:Q94) -> 0
A95: WILA | B95: =SUM(C95:Q95) -> 0
B96: =SUM(C96:Q96) -> 0
B97: =SUM(C97:Q97) -> 0
B98: =SUM(C98:Q98) -> 0
B99: =SUM(C99:Q99) -> 0
B100: =SUM(C100:Q100) -> 0
A101: NICOLE | B101: =SUM(C101:Q101) -> 0
B102: =SUM(C102:Q102) -> 0
A103: LOGIN | B103: TOTAL JOUR | C103: PICK | D103: RAYMOND | E103: SONO | F103: BACS | G103: CHARGEMENT | H103: REAPPRO | I103: RECEPTION | J103: INVENTAIRE | K103: MÉNAGE | L103: TR. LÉGER | M103: PICK CLIENT | N103: FORMATION | O103: AUTRES | P103: MALADIE | Q103: RÉUNION
A104: TOTAL | B104: =SUM(B3:B102) -> 0 | C104: =SUM(C3:C102) -> 0 | D104: =SUM(D3:D102) -> 0 | E104: =SUM(E3:E102) -> 0 | F104: =SUM(F3:F102) -> 0 | G104: =SUM(G3:G102) -> 0 | H104: =SUM(H3:H102) -> 0 | I104: =SUM(I3:I102) -> 0 | ... Q104: =SUM(Q3:Q102) -> 0
C116: Formation | F116: =SUM(N3:N102) -> 0 | H116: Rapport et heure de pick de soir
C117: Agences | F117: =SUM(B88:B102) -> 0
C118: Réunion | F118: =SUM(Q3:Q102) -> 0
C119: Pick | F119: =SUM(C104:E104) -> 0
C120: Travaux Léger | F120: =SUM(L3:L102) -> 0
C121: Inventaire | F121: =SUM(J3:J102) -> 0
C122: Réapro | F122: =SUM(H3:H102) -> 0
C123: Autres | F123: =SUM(O3:O102) -> 0
C124: Nombre d'employés | F124: =COUNTIF(B3:B100,">0") -> 0
C125: Réception | F125: =SUM(I3:I102) -> 0
C126: Consolidation | F126: =SUM(F3:F102) -> 0
C127: Chargement | F127: =SUM(G3:G102) -> 0
C128: Pick-Client | F128: =SUM(M3:M102) -> 0
C129: Ménage | F129: =SUM(K3:K102) -> 0
C130: Maladie | F130: =SUM(P3:P102) -> 0
C131: Planif. Main D'œuvre | G131: Lignes | I131: Mezzanine | L131: Nombre d'employés
C132: LIGNES PICK | G132: Unitées | I132: Palettes
C133: Heures Pick | F133: =F119 -> 0
C134: Employés / 8hrs | F134: =(B104-P104)/8 -> 0
C136: Ratio brute | F136: =H131/(N122*7.5) -> #DIV/0! | G136: Ratio net | H136: =F132/F133 -> #DIV/0! | I136: Productivité | J136: =(H136/F136) -> #DIV/0!
C138: OVERTIME (RÉGULIERS) | F138: {=SUMPRODUCT(($B$3:$B$36>8)*($B$3:$B$36-8))} -> 0

Sheet ORIGINAL
G1: =TODAY() -> 44166 | I1: SOIR
A2: LOGIN | B2: TOTAL JOUR | C2: PICK | D2: RAYMOND | E2: SONO | F2: CONSOL | G2: CHARGEMENT | H2: REAPPRO | I2: RECEPTION | J2: INVENTAIRE | K2: MÉNAGE | L2: TR. LÉGER | M2: PICK CLIENT | N2: FORMATION | O2: AUTRES | P2: MALADIE | Q2: RÉUNION
A3: AUBP | B3: =SUM(C3:Q3) -> 0
A4: VAUJ | B4: =SUM(C4:Q4) -> 0
A5: ROBO | B5: =SUM(C5:Q5) -> 0
A6: LAMM | B6: =SUM(C6:Q6) -> 0
A7: PALM | B7: =SUM(C7:Q7) -> 0
A8: BABS | B8: =SUM(C8:Q8) -> 0
A9: ROUE | B9: =SUM(C9:Q9) -> 0
A10: CHEL | B10: =SUM(C10:Q10) -> 0
A11: LAPE | B11: =SUM(C11:Q11) -> 0
A12: FAJE | B12: =SUM(C12:Q12) -> 0
A13: GAGG | B13: =SUM(C13:Q13) -> 0
A14: BEAU | B14: =SUM(C14:Q14) -> 0
... A36: HOJO | B36: =SUM(C36:Q36) -> 0
B37: =SUM(C37:Q37) -> 0
B38: =SUM(C38:Q38) -> 0
B39: =SUM(C39:Q39) -> 0
B40: =SUM(C40:Q40) -> 0
B41: =SUM(C41:Q41) -> 0
B42: =SUM(C42:Q42) -> 0
B43: =SUM(C43:Q43) -> 0
B44: =SUM(C44:Q44) -> 0
B45: =SUM(C45:Q45) -> 0
B46: =SUM(C46:Q46) -> 0
B47: =SUM(C47:Q47) -> 0
B48: =SUM(C48:Q48) -> 0
... B50: =SUM(C50:Q50) -> 0
A51: BOID | B51: =SUM(C51:Q51) -> 0
A52: NORJ | B52: =SUM(C52:Q52) -> 0
A53: *LAFM* | B53: =SUM(C53:Q53) -> 0
A54: LAPO | B54: =SUM(C54:Q54) -> 0
A55: *TERL* | B55: =SUM(C55:Q55) -> 0
A56: DESM | B56: =SUM(C56:Q56) -> 0
A57: MART | B57: =SUM(C57:Q57) -> 0
A58: SARM | B58: =SUM(C58:Q58) -> 0
A59: COUA | B59: =SUM(C59:Q59) -> 0
A60: *YOUN* | B60: =SUM(C60:Q60) -> 0
A61: DONS | B61: =SUM(C61:Q61) -> 0
A62: VIGN | B62: =SUM(C62:Q62) -> 0
... A80: JEFF | B80: =SUM(C80:Q80) -> 0
B81: =SUM(C81:Q81) -> 0
B82: =SUM(C82:Q82) -> 0
B83: =SUM(C83:Q83) -> 0
B84: =SUM(C84:Q84) -> 0
B85: =SUM(C85:Q85) -> 0
B86: =SUM(C86:Q86) -> 0
B87: =SUM(C87:Q87) -> 0
A88: EMIL | B88: =SUM(C88:Q88) -> 0
A89: POIR | B89: =SUM(C89:Q89) -> 0
A90: LATO | B90: =SUM(C90:Q90) -> 0
A91: PRUD | B91: =SUM(C91:Q91) -> 0
A92: DOUZ | B92: =SUM(C92:Q92) -> 0
A93: FONA | B93: =SUM(C93:Q93) -> 0
A94: ROCH | B94: =SUM(C94:Q94) -> 0
A95: WILA | B95: =SUM(C95:Q95) -> 0
B96: =SUM(C96:Q96) -> 0
B97: =SUM(C97:Q97) -> 0
B98: =SUM(C98:Q98) -> 0
B99: =SUM(C99:Q99) -> 0
B100: =SUM(C100:Q100) -> 0
A101: NICOLE | B101: =SUM(C101:Q101) -> 0
B102: =SUM(C102:Q102) -> 0
A103: LOGIN | B103: TOTAL JOUR | C103: PICK | D103: RAYMOND | E103: SONO | F103: BACS | G103: CHARGEMENT | H103: REAPPRO | I103: RECEPTION | J103: INVENTAIRE | K103: MÉNAGE | L103: TR. LÉGER | M103: PICK CLIENT | N103: FORMATION | O103: AUTRES | P103: MALADIE | Q103: RÉUNION
A104: TOTAL | B104: =SUM(B3:B102) -> 0 | C104: =SUM(C3:C102) -> 0 | D104: =SUM(D3:D102) -> 0 | E104: =SUM(E3:E102) -> 0 | F104: =SUM(F3:F102) -> 0 | G104: =SUM(G3:G102) -> 0 | H104: =SUM(H3:H102) -> 0 | I104: =SUM(I3:I102) -> 0 | ... Q104: =SUM(Q3:Q102) -> 0
C116: Formation | F116: =SUM(N3:N102) -> 0 | H116: Rapport et heure de pick de soir
C117: Agences | F117: =SUM(B88:B102) -> 0
C118: Réunion | F118: =SUM(Q3:Q102) -> 0
C119: Pick | F119: =SUM(C104:E104) -> 0
C120: Travaux Léger | F120: =SUM(L3:L102) -> 0
C121: Inventaire | F121: =SUM(J3:J102) -> 0
C122: Réapro | F122: =SUM(H3:H102) -> 0
C123: Autres | F123: =SUM(O3:O102) -> 0
C124: Nombre d'employés | F124: =COUNTIF(B3:B100,">0") -> 0
C125: Réception | F125: =SUM(I3:I102) -> 0
C126: Consolidation | F126: =SUM(F3:F102) -> 0
C127: Chargement | F127: =SUM(G3:G102) -> 0
C128: Pick-Client | F128: =SUM(M3:M102) -> 0
C129: Ménage | F129: =SUM(K3:K102) -> 0
C130: Maladie | F130: =SUM(P3:P102) -> 0
C131: Planif. Main D'œuvre | G131: Lignes | I131: Mezzanine | L131: Nombre d'employés
C132: LIGNES PICK | G132: Unitées | I132: Palettes
C133: Heures Pick | F133: =F119 -> 0
C134: Employés / 8hrs | F134: =(B104-P104)/8 -> 0
C136: Ratio brute | F136: =H131/(N122*7.5) -> #DIV/0! | G136: Ratio net | H136: =F132/F133 -> #DIV/0! | I136: Productivité | J136: =(H136/F136) -> #DIV/0!
C138: OVERTIME (RÉGULIERS) | F138: {=SUMPRODUCT(($B$3:$B$36>8)*($B$3:$B$36-8))} -> 0

Sheet FIN

Sheet SOMMAIRE
G1: TOTAL SOIR
A2: LOGIN | B2: TOTAL JOUR | C2: PICK | D2: RAYMOND | E2: SONO | F2: CONSOL | G2: CHARGEMENT | H2: REAPPRO | I2: RECEPTION | J2: INVENTAIRE | K2: MÉNAGE | L2: TR. LÉGER | M2: PICK CLIENT | N2: FORMATION | O2: AUTRES | P2: MALADIE | Q2: RÉUNION
A3: =ORIGINAL!A3 -> AUBP | B3: =SUM(C3:Q3) -> 0 | C3: =SUM(DÉBUT:FIN!C3) -> 0 | D3: =SUM(DÉBUT:FIN!D3) -> 0 | E3: =SUM(DÉBUT:FIN!E3) -> 0 | F3: =SUM(DÉBUT:FIN!F3) -> 0 | G3: =SUM(DÉBUT:FIN!G3) -> 0 | H3: =SUM(DÉBUT:FIN!H3) -> 0 | I3: =SUM(DÉBUT:FIN!I3) -> 0 | J3: =SUM(DÉBUT:FIN!J3) -> 0 | ... Q3: =SUM(DÉBUT:FIN!Q3) -> 0
A4: =ORIGINAL!A4 -> VAUJ | B4: =SUM(C4:Q4) -> 0 | C4: =SUM(DÉBUT:FIN!C4) -> 0 | D4: =SUM(DÉBUT:FIN!D4) -> 0 | E4: =SUM(DÉBUT:FIN!E4) -> 0 | F4: =SUM(DÉBUT:FIN!F4) -> 0 | G4: =SUM(DÉBUT:FIN!G4) -> 0 | H4: =SUM(DÉBUT:FIN!H4) -> 0 | I4: =SUM(DÉBUT:FIN!I4) -> 0 | J4: =SUM(DÉBUT:FIN!J4) -> 0 | ... Q4: =SUM(DÉBUT:FIN!Q4) -> 0
A5: =ORIGINAL!A5 -> ROBO | B5: =SUM(C5:Q5) -> 0 | C5: =SUM(DÉBUT:FIN!C5) -> 0 | D5: =SUM(DÉBUT:FIN!D5) -> 0 | E5: =SUM(DÉBUT:FIN!E5) -> 0 | F5: =SUM(DÉBUT:FIN!F5) -> 0 | G5: =SUM(DÉBUT:FIN!G5) -> 0 | H5: =SUM(DÉBUT:FIN!H5) -> 0 | I5: =SUM(DÉBUT:FIN!I5) -> 0 | J5: =SUM(DÉBUT:FIN!J5) -> 0 | ... Q5: =SUM(DÉBUT:FIN!Q5) -> 0
A6: =ORIGINAL!A6 -> LAMM | B6: =SUM(C6:Q6) -> 0 | C6: =SUM(DÉBUT:FIN!C6) -> 0 | D6: =SUM(DÉBUT:FIN!D6) -> 0 | E6: =SUM(DÉBUT:FIN!E6) -> 0 | F6: =SUM(DÉBUT:FIN!F6) -> 0 | G6: =SUM(DÉBUT:FIN!G6) -> 0 | H6: =SUM(DÉBUT:FIN!H6) -> 0 | I6: =SUM(DÉBUT:FIN!I6) -> 0 | J6: =SUM(DÉBUT:FIN!J6) -> 0 | ... Q6: =SUM(DÉBUT:FIN!Q6) -> 0
A7: =ORIGINAL!A7 -> PALM | B7: =SUM(C7:Q7) -> 0 | C7: =SUM(DÉBUT:FIN!C7) -> 0 | D7: =SUM(DÉBUT:FIN!D7) -> 0 | E7: =SUM(DÉBUT:FIN!E7) -> 0 | F7: =SUM(DÉBUT:FIN!F7) -> 0 | G7: =SUM(DÉBUT:FIN!G7) -> 0 | H7: =SUM(DÉBUT:FIN!H7) -> 0 | I7: =SUM(DÉBUT:FIN!I7) -> 0 | J7: =SUM(DÉBUT:FIN!J7) -> 0 | ... Q7: =SUM(DÉBUT:FIN!Q7) -> 0
A8: =ORIGINAL!A8 -> BABS | B8: =SUM(C8:Q8) -> 0 | C8: =SUM(DÉBUT:FIN!C8) -> 0 | D8: =SUM(DÉBUT:FIN!D8) -> 0 | E8: =SUM(DÉBUT:FIN!E8) -> 0 | F8: =SUM(DÉBUT:FIN!F8) -> 0 | G8: =SUM(DÉBUT:FIN!G8) -> 0 | H8: =SUM(DÉBUT:FIN!H8) -> 0 | I8: =SUM(DÉBUT:FIN!I8) -> 0 | J8: =SUM(DÉBUT:FIN!J8) -> 0 | ... Q8: =SUM(DÉBUT:FIN!Q8) -> 0
A9: =ORIGINAL!A9 -> ROUE | B9: =SUM(C9:Q9) -> 0 | C9: =SUM(DÉBUT:FIN!C9) -> 0 | D9: =SUM(DÉBUT:FIN!D9) -> 0 | E9: =SUM(DÉBUT:FIN!E9) -> 0 | F9: =SUM(DÉBUT:FIN!F9) -> 0 | G9: =SUM(DÉBUT:FIN!G9) -> 0 | H9: =SUM(DÉBUT:FIN!H9) -> 0 | I9: =SUM(DÉBUT:FIN!I9) -> 0 | J9: =SUM(DÉBUT:FIN!J9) -> 0 | ... Q9: =SUM(DÉBUT:FIN!Q9) -> 0
A10: =ORIGINAL!A10 -> CHEL | B10: =SUM(C10:Q10) -> 0 | C10: =SUM(DÉBUT:FIN!C10) -> 0 | D10: =SUM(DÉBUT:FIN!D10) -> 0 | E10: =SUM(DÉBUT:FIN!E10) -> 0 | F10: =SUM(DÉBUT:FIN!F10) -> 0 | G10: =SUM(DÉBUT:FIN!G10) -> 0 | H10: =SUM(DÉBUT:FIN!H10) -> 0 | I10: =SUM(DÉBUT:FIN!I10) -> 0 | J10: =SUM(DÉBUT:FIN!J10) -> 0 | ... Q10: =SUM(DÉBUT:FIN!Q10) -> 0
A11: =ORIGINAL!A11 -> LAPE | B11: =SUM(C11:Q11) -> 0 | C11: =SUM(DÉBUT:FIN!C11) -> 0 | D11: =SUM(DÉBUT:FIN!D11) -> 0 | E11: =SUM(DÉBUT:FIN!E11) -> 0 | F11: =SUM(DÉBUT:FIN!F11) -> 0 | G11: =SUM(DÉBUT:FIN!G11) -> 0 | H11: =SUM(DÉBUT:FIN!H11) -> 0 | I11: =SUM(DÉBUT:FIN!I11) -> 0 | J11: =SUM(DÉBUT:FIN!J11) -> 0 | ... Q11: =SUM(DÉBUT:FIN!Q11) -> 0
A12: =ORIGINAL!A12 -> FAJE | B12: =SUM(C12:Q12) -> 0 | C12: =SUM(DÉBUT:FIN!C12) -> 0 | D12: =SUM(DÉBUT:FIN!D12) -> 0 | E12: =SUM(DÉBUT:FIN!E12) -> 0 | F12: =SUM(DÉBUT:FIN!F12) -> 0 | G12: =SUM(DÉBUT:FIN!G12) -> 0 | H12: =SUM(DÉBUT:FIN!H12) -> 0 | I12: =SUM(DÉBUT:FIN!I12) -> 0 | J12: =SUM(DÉBUT:FIN!J12) -> 0 | ... Q12: =SUM(DÉBUT:FIN!Q12) -> 0
A13: =ORIGINAL!A13 -> GAGG | B13: =SUM(C13:Q13) -> 0 | C13: =SUM(DÉBUT:FIN!C13) -> 0 | D13: =SUM(DÉBUT:FIN!D13) -> 0 | E13: =SUM(DÉBUT:FIN!E13) -> 0 | F13: =SUM(DÉBUT:FIN!F13) -> 0 | G13: =SUM(DÉBUT:FIN!G13) -> 0 | H13: =SUM(DÉBUT:FIN!H13) -> 0 | I13: =SUM(DÉBUT:FIN!I13) -> 0 | J13: =SUM(DÉBUT:FIN!J13) -> 0 | ... Q13: =SUM(DÉBUT:FIN!Q13) -> 0
A14: =ORIGINAL!A14 -> BEAU | B14: =SUM(C14:Q14) -> 0 | C14: =SUM(DÉBUT:FIN!C14) -> 0 | D14: =SUM(DÉBUT:FIN!D14) -> 0 | E14: =SUM(DÉBUT:FIN!E14) -> 0 | F14: =SUM(DÉBUT:FIN!F14) -> 0 | G14: =SUM(DÉBUT:FIN!G14) -> 0 | H14: =SUM(DÉBUT:FIN!H14) -> 0 | I14: =SUM(DÉBUT:FIN!I14) -> 0 | J14: =SUM(DÉBUT:FIN!J14) -> 0 | ... Q14: =SUM(DÉBUT:FIN!Q14) -> 0
... A102: =ORIGINAL!A102 -> 0 | B102: =SUM(C102:Q102) -> 0 | C102: =SUM(DÉBUT:FIN!C102) -> 0 | D102: =SUM(DÉBUT:FIN!D102) -> 0 | E102: =SUM(DÉBUT:FIN!E102) -> 0 | F102: =SUM(DÉBUT:FIN!F102) -> 0 | G102: =SUM(DÉBUT:FIN!G102) -> 0 | H102: =SUM(DÉBUT:FIN!H102) -> 0 | I102: =SUM(DÉBUT:FIN!I102) -> 0 | J102: =SUM(DÉBUT:FIN!J102) -> 0 | ... Q102: =SUM(DÉBUT:FIN!Q102) -> 0
A103: LOGIN | B103: TOTAL JOUR | C103: PICK | D103: RAYMOND | E103: SONO | F103: BACS | G103: CHARGEMENT | H103: REAPPRO | I103: RECEPTION | J103: INVENTAIRE | K103: MÉNAGE | L103: TR. LÉGER | M103: PICK CLIENT | N103: FORMATION | O103: AUTRES | P103: MALADIE | Q103: RÉUNION
A104: TOTAL | B104: =SUM(B3:B102) -> 0 | C104: =SUM(C3:C102) -> 0 | D104: =SUM(D3:D102) -> 0 | E104: =SUM(E3:E102) -> 0 | F104: =SUM(F3:F102) -> 0 | G104: =SUM(G3:G102) -> 0 | H104: =SUM(H3:H102) -> 0 | I104: =SUM(I3:I102) -> 0 | ... Q104: =SUM(Q3:Q102) -> 0
C107: Formation | F107: =SUM(N3:N102) -> 0 | H107: Rapport et heure de pick de soir
C108: Agences | F108: =SUM(B88:B102) -> 0
C109: Réunion | F109: =SUM(Q3:Q102) -> 0
C110: Pick | F110: =SUM(C104:E104) -> 0
C111: Travaux Léger | F111: =SUM(L3:L102) -> 0
C112: Inventaire | F112: =SUM(J3:J102) -> 0
C113: Réapro | F113: =SUM(H3:H102) -> 0
C114: Autres | F114: =SUM(O3:O102) -> 0
C115: Nombre d'employés | F115: =COUNTIF(B3:B100,">0") -> 0
C116: Réception | F116: =SUM(I3:I102) -> 0
C117: Consolidation | F117: =SUM(F3:F102) -> 0
C118: Chargement | F118: =SUM(G3:G102) -> 0
C119: Pick-Client | F119: =SUM(M3:M102) -> 0
C120: Ménage | F120: =SUM(K3:K102) -> 0
C121: Maladie | F121: =SUM(P3:P102) -> 0
C122: Planif. Main D'œuvre | G122: Lignes | I122: Mezzanine | L122: Nombre d'employés
C123: LIGNES PICK | F123: =SUM(DÉBUT:FIN!F123) -> 0 | G123: Unitées | I123: Palettes
C124: Heures Pick | F124: =F110 -> 0
C125: Employés / 8hrs | F125: =(B104-P104)/8 -> 0
C127: Ratio brute | F127: =H122/(N122*7.5) -> #DIV/0! | G127: Ratio net | H127: =F123/F124 -> #DIV/0! | I127: Productivité | J127: =(H127/F127) -> #DIV/0!
