Workbook

Sheet Liste de course
A1: Liste de course
A2: Frais | B2: Nécessaire | C2: Achat | D2: Fruits | E2: Nécessaire | F2: Achat
A3: Chorizo | B3: =(SUMPRODUCT(('Recette phase 2'!$C$6:$C$15='Liste de course'!A3)*('Recette phase 2'!$B$6:$B$15))*'Recette phase 2'!$A$4)+(SUMPRODUCT(('Recette phase 2'!$F$6:$F$15='Liste de course'!A3)*('Recette phase 2'!$E$6:$E$15))*'Recette phase 2'!$D$4)+(SUMPRODUCT(('Recette phase 2'!$I$6:$I$15='Liste de course'!A3)*('Recette phase 2'!$H$6:$H$15))*'Recette phase 2'!$G$4)+(SUMPRODUCT(('Recette phase 2'!$K$6:$K$15='Liste de course'!A3)*('Recette phase 2'!$K$6:$K$15))*'Recette phase 2'!$J$4)+(SUMPRODUCT(('Recette phase 2'!$O$6:$O$15='Liste de course'!A3)*('Recette phase 2'!$N$6:$N$15))*'Recette phase 2'!$M$4)+(SUMPRODUCT(('Recette phase 2'!$C$19:$C$31='Liste de course'!A3)*('Recette phase 2'!$B$19:$B$31))*'Recette phase 2'!$A$17)+(SUMPRODUCT(('Recette phase 2'!$F$19:$F$31='Liste de course'!A3)*('Recette phase 2'!$E$19:$E$31))*'Recette phase 2'!$D$17)+(SUMPRODUCT(('Recette phase 2'!$I$19:$I$31='Liste de course'!A3)*('Recette phase 2'!$H$19:$H$31))*'Recette phase 2'!$G$17)+(SUMPRODUCT(('Recette phase 2'!$C$36:$C$50='Liste de course'!A3)*('Recette phase 2'!$B$36:$B$50))*'Recette phase 2'!$A$34)+(SUMPRODUCT(('Recette phase 2'!$F$36:$F$50='Liste de course'!A3)*('Recette phase 2'!$E$36:$E$50))*'Recette phase 2'!$D$34)+(SUMPRODUCT(('Recette phase 2'!$I$36:$I$50='Liste de course'!A3)*('Recette phase 2'!$H$36:$H$50))*'Recette phase 2'!$G$34)+(SUMPRODUCT(('Recette phase 2'!$L$36:$L$50='Liste de course'!A3)*('Recette phase 2'!$K$36:$K$50))*'Recette phase 2'!$J$34)+(SUMPRODUCT(('Recette phase 2'!$O$36:$O$50='Liste de course'!A3)*('Recette phase 2'!$N$36:$N$50))*'Recette phase 2'!$M$34)+(SUMPRODUCT(('Recette phase 2'!$C$54:$C$64='Liste de course'!A3)*('Recette phase 2'!$B$54:$B$64))*'Recette phase 2'!$A$52)+(SUMPRODUCT(('Recette phase 2'!$F$54:$F$64='Liste de course'!A3)*('Recette phase 2'!$E$54:$E$64))*'Recette phase 2'!$D$52)+(SUMPRODUCT(('Recette phase 2'!$I$54:$I$64='Liste de course'!A3)*('Recette phase 2'!$H$54:$H$64))*'Recette phase 2'!$G$52)+(SUMPRODUCT(('Recette phase 2'!$L$54:$L$64='Liste de course'!A3)*('Recette phase 2'!$K$54:$K$64))*'Recette phase 2'!$J$52)+(SUMPRODUCT(('Recette phase 2'!$O$54:$O$64='Liste de course'!A3)*('Recette phase 2'!$N$54:$N$64))*'Recette phase 2'!$M$52)+(SUMPRODUCT(('Recette phase 2'!$C$69:$C$85='Liste de course'!A3)*('Recette phase 2'!$B$69:$B$85))*'Recette phase 2'!$A$67)+(SUMPRODUCT(('Recette phase 2'!$F$69:$F$85='Liste de course'!A3)*('Recette phase 2'!$E$69:$E$85))*'Recette phase 2'!$D$67)+(SUMPRODUCT(('Recette phase 2'!$I$69:$I$85='Liste de course'!A3)*('Recette phase 2'!$H$69:$H$85))*'Recette phase 2'!$G$67)+(SUMPRODUCT(('Recette phase 2'!$L$69:$L$85='Liste de course'!A3)*('Recette phase 2'!$K$69:$K$85))*'Recette phase 2'!$J$67)+(SUMPRODUCT(('Recette phase 2'!$C$89:$C$104='Liste de course'!A3)*('Recette phase 2'!$B$89:$B$104))*'Recette phase 2'!$A$87)+(SUMPRODUCT(('Recette phase 2'!$F$89:$F$104='Liste de course'!A3)*('Recette phase 2'!$E$89:$E$104))*'Recette phase 2'!$D$87)+(SUMPRODUCT(('Recette phase 2'!$I$89:$I$104='Liste de course'!A3)*('Recette phase 2'!$H$89:$H$104))*'Recette phase 2'!$G$87)+(SUMPRODUCT(('Recette phase 2'!$L$89:$L$104='Liste de course'!A3)*('Recette phase 2'!$K$89:$K$104))*'Recette phase 2'!$J$87)+(SUMPRODUCT(('Recette phase 2'!$C$109:$C$119='Liste de course'!A3)*('Recette phase 2'!$B$109:$B$119))*'Recette phase 2'!$A$107)+(SUMPRODUCT(('Recette phase 2'!$F$109:$F$119='Liste de course'!A3)*('Recette phase 2'!$E$109:$E$119))*'Recette phase 2'!$D$107)+(SUMPRODUCT(('Recette phase 2'!$I$109:$I$119='Liste de course'!A3)*('Recette phase 2'!$H$109:$H$119))*'Recette phase 2'!$G$107)+(SUMPRODUCT(('Recette phase 2'!$L$109:$L$119='Liste de course'!A3)*('Recette phase 2'!$K$109:$K$119))*'Recette phase 2'!$J$107)+(SUMPRODUCT(('Recette phase 2'!$C$123:$C$128='Liste de course'!A3)*('Recette phase 2'!$B$123:$B$128))*'Recette phase 2'!$A$121)+(SUMPRODUCT(('Recette phase 2'!$F$123:$F$128='Liste de course'!A3)*('Recette phase 2'!$E$123:$E$128))*'Recette phase 2'!$D$121)+(SUMPRODUCT(('Recette phase 2'!$I$123:$I$128='Liste de course'!A3)*('Recette phase 2'!$H$123:$H$128))*'Recette phase 2'!$G$121)+(SUMPRODUCT(('Recette phase 2'!$L$123:$L$128='Liste de course'!A3)*('Recette phase 2'!$K$123:$K$128))*'Recette phase 2'!$J$121) -> 0 | C3: =(SUMPRODUCT(('Liste de course'!B3)-(Stock!B3))) -> -57 | D3: Amande | E3: =(SUMPRODUCT(('Recette phase 2'!$C$6:$C$15='Liste de course'!D3)*('Recette phase 2'!$B$6:$B$15))*'Recette phase 2'!$A$4)+(SUMPRODUCT(('Recette phase 2'!$F$6:$F$15='Liste de course'!D3)*('Recette phase 2'!$E$6:$E$15))*'Recette phase 2'!$D$4)+(SUMPRODUCT(('Recette phase 2'!$I$6:$I$15='Liste de course'!D3)*('Recette phase 2'!$H$6:$H$15))*'Recette phase 2'!$G$4)+(SUMPRODUCT(('Recette phase 2'!$K$6:$K$15='Liste de course'!D3)*('Recette phase 2'!$K$6:$K$15))*'Recette phase 2'!$J$4)+(SUMPRODUCT(('Recette phase 2'!$O$6:$O$15='Liste de course'!D3)*('Recette phase 2'!$N$6:$N$15))*'Recette phase 2'!$M$4)+(SUMPRODUCT(('Recette phase 2'!$C$19:$C$31='Liste de course'!D3)*('Recette phase 2'!$B$19:$B$31))*'Recette phase 2'!$A$17)+(SUMPRODUCT(('Recette phase 2'!$F$19:$F$31='Liste de course'!D3)*('Recette phase 2'!$E$19:$E$31))*'Recette phase 2'!$D$17)+(SUMPRODUCT(('Recette phase 2'!$I$19:$I$31='Liste de course'!D3)*('Recette phase 2'!$H$19:$H$31))*'Recette phase 2'!$G$17)+(SUMPRODUCT(('Recette phase 2'!$C$36:$C$50='Liste de course'!D3)*('Recette phase 2'!$B$36:$B$50))*'Recette phase 2'!$A$34)+(SUMPRODUCT(('Recette phase 2'!$F$36:$F$50='Liste de course'!D3)*('Recette phase 2'!$E$36:$E$50))*'Recette phase 2'!$D$34)+(SUMPRODUCT(('Recette phase 2'!$I$36:$I$50='Liste de course'!D3)*('Recette phase 2'!$H$36:$H$50))*'Recette phase 2'!$G$34)+(SUMPRODUCT(('Recette phase 2'!$L$36:$L$50='Liste de course'!D3)*('Recette phase 2'!$K$36:$K$50))*'Recette phase 2'!$J$34)+(SUMPRODUCT(('Recette phase 2'!$O$36:$O$50='Liste de course'!D3)*('Recette phase 2'!$N$36:$N$50))*'Recette phase 2'!$M$34)+(SUMPRODUCT(('Recette phase 2'!$C$54:$C$64='Liste de course'!D3)*('Recette phase 2'!$B$54:$B$64))*'Recette phase 2'!$A$52)+(SUMPRODUCT(('Recette phase 2'!$F$54:$F$64='Liste de course'!D3)*('Recette phase 2'!$E$54:$E$64))*'Recette phase 2'!$D$52)+(SUMPRODUCT(('Recette phase 2'!$I$54:$I$64='Liste de course'!D3)*('Recette phase 2'!$H$54:$H$64))*'Recette phase 2'!$G$52)+(SUMPRODUCT(('Recette phase 2'!$L$54:$L$64='Liste de course'!D3)*('Recette phase 2'!$K$54:$K$64))*'Recette phase 2'!$J$52)+(SUMPRODUCT(('Recette phase 2'!$O$54:$O$64='Liste de course'!D3)*('Recette phase 2'!$N$54:$N$64))*'Recette phase 2'!$M$52)+(SUMPRODUCT(('Recette phase 2'!$C$69:$C$85='Liste de course'!D3)*('Recette phase 2'!$B$69:$B$85))*'Recette phase 2'!$A$67)+(SUMPRODUCT(('Recette phase 2'!$F$69:$F$85='Liste de course'!D3)*('Recette phase 2'!$E$69:$E$85))*'Recette phase 2'!$D$67)+(SUMPRODUCT(('Recette phase 2'!$I$69:$I$85='Liste de course'!D3)*('Recette phase 2'!$H$69:$H$85))*'Recette phase 2'!$G$67)+(SUMPRODUCT(('Recette phase 2'!$L$69:$L$85='Liste de course'!D3)*('Recette phase 2'!$K$69:$K$85))*'Recette phase 2'!$J$67)+(SUMPRODUCT(('Recette phase 2'!$C$89:$C$104='Liste de course'!D3)*('Recette phase 2'!$B$89:$B$104))*'Recette phase 2'!$A$87)+(SUMPRODUCT(('Recette phase 2'!$F$89:$F$104='Liste de course'!D3)*('Recette phase 2'!$E$89:$E$104))*'Recette phase 2'!$D$87)+(SUMPRODUCT(('Recette phase 2'!$I$89:$I$104='Liste de course'!D3)*('Recette phase 2'!$H$89:$H$104))*'Recette phase 2'!$G$87)+(SUMPRODUCT(('Recette phase 2'!$L$89:$L$104='Liste de course'!D3)*('Recette phase 2'!$K$89:$K$104))*'Recette phase 2'!$J$87)+(SUMPRODUCT(('Recette phase 2'!$C$109:$C$119='Liste de course'!D3)*('Recette phase 2'!$B$109:$B$119))*'Recette phase 2'!$A$107)+(SUMPRODUCT(('Recette phase 2'!$F$109:$F$119='Liste de course'!D3)*('Recette phase 2'!$E$109:$E$119))*'Recette phase 2'!$D$107)+(SUMPRODUCT(('Recette phase 2'!$I$109:$I$119='Liste de course'!D3)*('Recette phase 2'!$H$109:$H$119))*'Recette phase 2'!$G$107)+(SUMPRODUCT(('Recette phase 2'!$L$109:$L$119='Liste de course'!D3)*('Recette phase 2'!$K$109:$K$119))*'Recette phase 2'!$J$107)+(SUMPRODUCT(('Recette phase 2'!$C$123:$C$128='Liste de course'!D3)*('Recette phase 2'!$B$123:$B$128))*'Recette phase 2'!$A$121)+(SUMPRODUCT(('Recette phase 2'!$F$123:$F$128='Liste de course'!D3)*('Recette phase 2'!$E$123:$E$128))*'Recette phase 2'!$D$121)+(SUMPRODUCT(('Recette phase 2'!$I$123:$I$128='Liste de course'!D3)*('Recette phase 2'!$H$123:$H$128))*'Recette phase 2'!$G$121)+(SUMPRODUCT(('Recette phase 2'!$L$123:$L$128='Liste de course'!D3)*('Recette phase 2'!$K$123:$K$128))*'Recette phase 2'!$J$121) -> 0 | F3: =(SUMPRODUCT(('Liste de course'!E3)-(Stock!D3))) -> -156
A4: Feta salakis | B4: =(SUMPRODUCT(('Recette phase 2'!$C$6:$C$15='Liste de course'!A4)*('Recette phase 2'!$B$6:$B$15))*'Recette phase 2'!$A$4)+(SUMPRODUCT(('Recette phase 2'!$F$6:$F$15='Liste de course'!A4)*('Recette phase 2'!$E$6:$E$15))*'Recette phase 2'!$D$4)+(SUMPRODUCT(('Recette phase 2'!$I$6:$I$15='Liste de course'!A4)*('Recette phase 2'!$H$6:$H$15))*'Recette phase 2'!$G$4)+(SUMPRODUCT(('Recette phase 2'!$K$6:$K$15='Liste de course'!A4)*('Recette phase 2'!$K$6:$K$15))*'Recette phase 2'!$J$4)+(SUMPRODUCT(('Recette phase 2'!$O$6:$O$15='Liste de course'!A4)*('Recette phase 2'!$N$6:$N$15))*'Recette phase 2'!$M$4)+(SUMPRODUCT(('Recette phase 2'!$C$19:$C$31='Liste de course'!A4)*('Recette phase 2'!$B$19:$B$31))*'Recette phase 2'!$A$17)+(SUMPRODUCT(('Recette phase 2'!$F$19:$F$31='Liste de course'!A4)*('Recette phase 2'!$E$19:$E$31))*'Recette phase 2'!$D$17)+(SUMPRODUCT(('Recette phase 2'!$I$19:$I$31='Liste de course'!A4)*('Recette phase 2'!$H$19:$H$31))*'Recette phase 2'!$G$17)+(SUMPRODUCT(('Recette phase 2'!$C$36:$C$50='Liste de course'!A4)*('Recette phase 2'!$B$36:$B$50))*'Recette phase 2'!$A$34)+(SUMPRODUCT(('Recette phase 2'!$F$36:$F$50='Liste de course'!A4)*('Recette phase 2'!$E$36:$E$50))*'Recette phase 2'!$D$34)+(SUMPRODUCT(('Recette phase 2'!$I$36:$I$50='Liste de course'!A4)*('Recette phase 2'!$H$36:$H$50))*'Recette phase 2'!$G$34)+(SUMPRODUCT(('Recette phase 2'!$L$36:$L$50='Liste de course'!A4)*('Recette phase 2'!$K$36:$K$50))*'Recette phase 2'!$J$34)+(SUMPRODUCT(('Recette phase 2'!$O$36:$O$50='Liste de course'!A4)*('Recette phase 2'!$N$36:$N$50))*'Recette phase 2'!$M$34)+(SUMPRODUCT(('Recette phase 2'!$C$54:$C$64='Liste de course'!A4)*('Recette phase 2'!$B$54:$B$64))*'Recette phase 2'!$A$52)+(SUMPRODUCT(('Recette phase 2'!$F$54:$F$64='Liste de course'!A4)*('Recette phase 2'!$E$54:$E$64))*'Recette phase 2'!$D$52)+(SUMPRODUCT(('Recette phase 2'!$I$54:$I$64='Liste de course'!A4)*('Recette phase 2'!$H$54:$H$64))*'Recette phase 2'!$G$52)+(SUMPRODUCT(('Recette phase 2'!$L$54:$L$64='Liste de course'!A4)*('Recette phase 2'!$K$54:$K$64))*'Recette phase 2'!$J$52)+(SUMPRODUCT(('Recette phase 2'!$O$54:$O$64='Liste de course'!A4)*('Recette phase 2'!$N$54:$N$64))*'Recette phase 2'!$M$52)+(SUMPRODUCT(('Recette phase 2'!$C$69:$C$85='Liste de course'!A4)*('Recette phase 2'!$B$69:$B$85))*'Recette phase 2'!$A$67)+(SUMPRODUCT(('Recette phase 2'!$F$69:$F$85='Liste de course'!A4)*('Recette phase 2'!$E$69:$E$85))*'Recette phase 2'!$D$67)+(SUMPRODUCT(('Recette phase 2'!$I$69:$I$85='Liste de course'!A4)*('Recette phase 2'!$H$69:$H$85))*'Recette phase 2'!$G$67)+(SUMPRODUCT(('Recette phase 2'!$L$69:$L$85='Liste de course'!A4)*('Recette phase 2'!$K$69:$K$85))*'Recette phase 2'!$J$67)+(SUMPRODUCT(('Recette phase 2'!$C$89:$C$104='Liste de course'!A4)*('Recette phase 2'!$B$89:$B$104))*'Recette phase 2'!$A$87)+(SUMPRODUCT(('Recette phase 2'!$F$89:$F$104='Liste de course'!A4)*('Recette phase 2'!$E$89:$E$104))*'Recette phase 2'!$D$87)+(SUMPRODUCT(('Recette phase 2'!$I$89:$I$104='Liste de course'!A4)*('Recette phase 2'!$H$89:$H$104))*'Recette phase 2'!$G$87)+(SUMPRODUCT(('Recette phase 2'!$L$89:$L$104='Liste de course'!A4)*('Recette phase 2'!$K$89:$K$104))*'Recette phase 2'!$J$87)+(SUMPRODUCT(('Recette phase 2'!$C$109:$C$119='Liste de course'!A4)*('Recette phase 2'!$B$109:$B$119))*'Recette phase 2'!$A$107)+(SUMPRODUCT(('Recette phase 2'!$F$109:$F$119='Liste de course'!A4)*('Recette phase 2'!$E$109:$E$119))*'Recette phase 2'!$D$107)+(SUMPRODUCT(('Recette phase 2'!$I$109:$I$119='Liste de course'!A4)*('Recette phase 2'!$H$109:$H$119))*'Recette phase 2'!$G$107)+(SUMPRODUCT(('Recette phase 2'!$L$109:$L$119='Liste de course'!A4)*('Recette phase 2'!$K$109:$K$119))*'Recette phase 2'!$J$107)+(SUMPRODUCT(('Recette phase 2'!$C$123:$C$128='Liste de course'!A4)*('Recette phase 2'!$B$123:$B$128))*'Recette phase 2'!$A$121)+(SUMPRODUCT(('Recette phase 2'!$F$123:$F$128='Liste de course'!A4)*('Recette phase 2'!$E$123:$E$128))*'Recette phase 2'!$D$121)+(SUMPRODUCT(('Recette phase 2'!$I$123:$I$128='Liste de course'!A4)*('Recette phase 2'!$H$123:$H$128))*'Recette phase 2'!$G$121)+(SUMPRODUCT(('Recette phase 2'!$L$123:$L$128='Liste de course'!A4)*('Recette phase 2'!$K$123:$K$128))*'Recette phase 2'!$J$121) -> 0 | C4: =(SUMPRODUCT(('Liste de course'!B4)-(Stock!B4))) -> -143 | D4: Baie de goji | E4: =(SUMPRODUCT(('Recette phase 2'!$C$6:$C$15='Liste de course'!D4)*('Recette phase 2'!$B$6:$B$15))*'Recette phase 2'!$A$4)+(SUMPRODUCT(('Recette phase 2'!$F$6:$F$15='Liste de course'!D4)*('Recette phase 2'!$E$6:$E$15))*'Recette phase 2'!$D$4)+(SUMPRODUCT(('Recette phase 2'!$I$6:$I$15='Liste de course'!D4)*('Recette phase 2'!$H$6:$H$15))*'Recette phase 2'!$G$4)+(SUMPRODUCT(('Recette phase 2'!$K$6:$K$15='Liste de course'!D4)*('Recette phase 2'!$K$6:$K$15))*'Recette phase 2'!$J$4)+(SUMPRODUCT(('Recette phase 2'!$O$6:$O$15='Liste de course'!D4)*('Recette phase 2'!$N$6:$N$15))*'Recette phase 2'!$M$4)+(SUMPRODUCT(('Recette phase 2'!$C$19:$C$31='Liste de course'!D4)*('Recette phase 2'!$B$19:$B$31))*'Recette phase 2'!$A$17)+(SUMPRODUCT(('Recette phase 2'!$F$19:$F$31='Liste de course'!D4)*('Recette phase 2'!$E$19:$E$31))*'Recette phase 2'!$D$17)+(SUMPRODUCT(('Recette phase 2'!$I$19:$I$31='Liste de course'!D4)*('Recette phase 2'!$H$19:$H$31))*'Recette phase 2'!$G$17)+(SUMPRODUCT(('Recette phase 2'!$C$36:$C$50='Liste de course'!D4)*('Recette phase 2'!$B$36:$B$50))*'Recette phase 2'!$A$34)+(SUMPRODUCT(('Recette phase 2'!$F$36:$F$50='Liste de course'!D4)*('Recette phase 2'!$E$36:$E$50))*'Recette phase 2'!$D$34)+(SUMPRODUCT(('Recette phase 2'!$I$36:$I$50='Liste de course'!D4)*('Recette phase 2'!$H$36:$H$50))*'Recette phase 2'!$G$34)+(SUMPRODUCT(('Recette phase 2'!$L$36:$L$50='Liste de course'!D4)*('Recette phase 2'!$K$36:$K$50))*'Recette phase 2'!$J$34)+(SUMPRODUCT(('Recette phase 2'!$O$36:$O$50='Liste de course'!D4)*('Recette phase 2'!$N$36:$N$50))*'Recette phase 2'!$M$34)+(SUMPRODUCT(('Recette phase 2'!$C$54:$C$64='Liste de course'!D4)*('Recette phase 2'!$B$54:$B$64))*'Recette phase 2'!$A$52)+(SUMPRODUCT(('Recette phase 2'!$F$54:$F$64='Liste de course'!D4)*('Recette phase 2'!$E$54:$E$64))*'Recette phase 2'!$D$52)+(SUMPRODUCT(('Recette phase 2'!$I$54:$I$64='Liste de course'!D4)*('Recette phase 2'!$H$54:$H$64))*'Recette phase 2'!$G$52)+(SUMPRODUCT(('Recette phase 2'!$L$54:$L$64='Liste de course'!D4)*('Recette phase 2'!$K$54:$K$64))*'Recette phase 2'!$J$52)+(SUMPRODUCT(('Recette phase 2'!$O$54:$O$64='Liste de course'!D4)*('Recette phase 2'!$N$54:$N$64))*'Recette phase 2'!$M$52)+(SUMPRODUCT(('Recette phase 2'!$C$69:$C$85='Liste de course'!D4)*('Recette phase 2'!$B$69:$B$85))*'Recette phase 2'!$A$67)+(SUMPRODUCT(('Recette phase 2'!$F$69:$F$85='Liste de course'!D4)*('Recette phase 2'!$E$69:$E$85))*'Recette phase 2'!$D$67)+(SUMPRODUCT(('Recette phase 2'!$I$69:$I$85='Liste de course'!D4)*('Recette phase 2'!$H$69:$H$85))*'Recette phase 2'!$G$67)+(SUMPRODUCT(('Recette phase 2'!$L$69:$L$85='Liste de course'!D4)*('Recette phase 2'!$K$69:$K$85))*'Recette phase 2'!$J$67)+(SUMPRODUCT(('Recette phase 2'!$C$89:$C$104='Liste de course'!D4)*('Recette phase 2'!$B$89:$B$104))*'Recette phase 2'!$A$87)+(SUMPRODUCT(('Recette phase 2'!$F$89:$F$104='Liste de course'!D4)*('Recette phase 2'!$E$89:$E$104))*'Recette phase 2'!$D$87)+(SUMPRODUCT(('Recette phase 2'!$I$89:$I$104='Liste de course'!D4)*('Recette phase 2'!$H$89:$H$104))*'Recette phase 2'!$G$87)+(SUMPRODUCT(('Recette phase 2'!$L$89:$L$104='Liste de course'!D4)*('Recette phase 2'!$K$89:$K$104))*'Recette phase 2'!$J$87)+(SUMPRODUCT(('Recette phase 2'!$C$109:$C$119='Liste de course'!D4)*('Recette phase 2'!$B$109:$B$119))*'Recette phase 2'!$A$107)+(SUMPRODUCT(('Recette phase 2'!$F$109:$F$119='Liste de course'!D4)*('Recette phase 2'!$E$109:$E$119))*'Recette phase 2'!$D$107)+(SUMPRODUCT(('Recette phase 2'!$I$109:$I$119='Liste de course'!D4)*('Recette phase 2'!$H$109:$H$119))*'Recette phase 2'!$G$107)+(SUMPRODUCT(('Recette phase 2'!$L$109:$L$119='Liste de course'!D4)*('Recette phase 2'!$K$109:$K$119))*'Recette phase 2'!$J$107)+(SUMPRODUCT(('Recette phase 2'!$C$123:$C$128='Liste de course'!D4)*('Recette phase 2'!$B$123:$B$128))*'Recette phase 2'!$A$121)+(SUMPRODUCT(('Recette phase 2'!$F$123:$F$128='Liste de course'!D4)*('Recette phase 2'!$E$123:$E$128))*'Recette phase 2'!$D$121)+(SUMPRODUCT(('Recette phase 2'!$I$123:$I$128='Liste de course'!D4)*('Recette phase 2'!$H$123:$H$128))*'Recette phase 2'!$G$121)+(SUMPRODUCT(('Recette phase 2'!$L$123:$L$128='Liste de course'!D4)*('Recette phase 2'!$K$123:$K$128))*'Recette phase 2'!$J$121) -> 0 | F4: =(SUMPRODUCT(('Liste de course'!E4)-(Stock!D4))) -> 0
A5: Fromage blanc 0% | B5: =(SUMPRODUCT(('Recette phase 2'!$C$6:$C$15='Liste de course'!A5)*('Recette phase 2'!$B$6:$B$15))*'Recette phase 2'!$A$4)+(SUMPRODUCT(('Recette phase 2'!$F$6:$F$15='Liste de course'!A5)*('Recette phase 2'!$E$6:$E$15))*'Recette phase 2'!$D$4)+(SUMPRODUCT(('Recette phase 2'!$I$6:$I$15='Liste de course'!A5)*('Recette phase 2'!$H$6:$H$15))*'Recette phase 2'!$G$4)+(SUMPRODUCT(('Recette phase 2'!$K$6:$K$15='Liste de course'!A5)*('Recette phase 2'!$K$6:$K$15))*'Recette phase 2'!$J$4)+(SUMPRODUCT(('Recette phase 2'!$O$6:$O$15='Liste de course'!A5)*('Recette phase 2'!$N$6:$N$15))*'Recette phase 2'!$M$4)+(SUMPRODUCT(('Recette phase 2'!$C$19:$C$31='Liste de course'!A5)*('Recette phase 2'!$B$19:$B$31))*'Recette phase 2'!$A$17)+(SUMPRODUCT(('Recette phase 2'!$F$19:$F$31='Liste de course'!A5)*('Recette phase 2'!$E$19:$E$31))*'Recette phase 2'!$D$17)+(SUMPRODUCT(('Recette phase 2'!$I$19:$I$31='Liste de course'!A5)*('Recette phase 2'!$H$19:$H$31))*'Recette phase 2'!$G$17)+(SUMPRODUCT(('Recette phase 2'!$C$36:$C$50='Liste de course'!A5)*('Recette phase 2'!$B$36:$B$50))*'Recette phase 2'!$A$34)+(SUMPRODUCT(('Recette phase 2'!$F$36:$F$50='Liste de course'!A5)*('Recette phase 2'!$E$36:$E$50))*'Recette phase 2'!$D$34)+(SUMPRODUCT(('Recette phase 2'!$I$36:$I$50='Liste de course'!A5)*('Recette phase 2'!$H$36:$H$50))*'Recette phase 2'!$G$34)+(SUMPRODUCT(('Recette phase 2'!$L$36:$L$50='Liste de course'!A5)*('Recette phase 2'!$K$36:$K$50))*'Recette phase 2'!$J$34)+(SUMPRODUCT(('Recette phase 2'!$O$36:$O$50='Liste de course'!A5)*('Recette phase 2'!$N$36:$N$50))*'Recette phase 2'!$M$34)+(SUMPRODUCT(('Recette phase 2'!$C$54:$C$64='Liste de course'!A5)*('Recette phase 2'!$B$54:$B$64))*'Recette phase 2'!$A$52)+(SUMPRODUCT(('Recette phase 2'!$F$54:$F$64='Liste de course'!A5)*('Recette phase 2'!$E$54:$E$64))*'Recette phase 2'!$D$52)+(SUMPRODUCT(('Recette phase 2'!$I$54:$I$64='Liste de course'!A5)*('Recette phase 2'!$H$54:$H$64))*'Recette phase 2'!$G$52)+(SUMPRODUCT(('Recette phase 2'!$L$54:$L$64='Liste de course'!A5)*('Recette phase 2'!$K$54:$K$64))*'Recette phase 2'!$J$52)+(SUMPRODUCT(('Recette phase 2'!$O$54:$O$64='Liste de course'!A5)*('Recette phase 2'!$N$54:$N$64))*'Recette phase 2'!$M$52)+(SUMPRODUCT(('Recette phase 2'!$C$69:$C$85='Liste de course'!A5)*('Recette phase 2'!$B$69:$B$85))*'Recette phase 2'!$A$67)+(SUMPRODUCT(('Recette phase 2'!$F$69:$F$85='Liste de course'!A5)*('Recette phase 2'!$E$69:$E$85))*'Recette phase 2'!$D$67)+(SUMPRODUCT(('Recette phase 2'!$I$69:$I$85='Liste de course'!A5)*('Recette phase 2'!$H$69:$H$85))*'Recette phase 2'!$G$67)+(SUMPRODUCT(('Recette phase 2'!$L$69:$L$85='Liste de course'!A5)*('Recette phase 2'!$K$69:$K$85))*'Recette phase 2'!$J$67)+(SUMPRODUCT(('Recette phase 2'!$C$89:$C$104='Liste de course'!A5)*('Recette phase 2'!$B$89:$B$104))*'Recette phase 2'!$A$87)+(SUMPRODUCT(('Recette phase 2'!$F$89:$F$104='Liste de course'!A5)*('Recette phase 2'!$E$89:$E$104))*'Recette phase 2'!$D$87)+(SUMPRODUCT(('Recette phase 2'!$I$89:$I$104='Liste de course'!A5)*('Recette phase 2'!$H$89:$H$104))*'Recette phase 2'!$G$87)+(SUMPRODUCT(('Recette phase 2'!$L$89:$L$104='Liste de course'!A5)*('Recette phase 2'!$K$89:$K$104))*'Recette phase 2'!$J$87)+(SUMPRODUCT(('Recette phase 2'!$C$109:$C$119='Liste de course'!A5)*('Recette phase 2'!$B$109:$B$119))*'Recette phase 2'!$A$107)+(SUMPRODUCT(('Recette phase 2'!$F$109:$F$119='Liste de course'!A5)*('Recette phase 2'!$E$109:$E$119))*'Recette phase 2'!$D$107)+(SUMPRODUCT(('Recette phase 2'!$I$109:$I$119='Liste de course'!A5)*('Recette phase 2'!$H$109:$H$119))*'Recette phase 2'!$G$107)+(SUMPRODUCT(('Recette phase 2'!$L$109:$L$119='Liste de course'!A5)*('Recette phase 2'!$K$109:$K$119))*'Recette phase 2'!$J$107)+(SUMPRODUCT(('Recette phase 2'!$C$123:$C$128='Liste de course'!A5)*('Recette phase 2'!$B$123:$B$128))*'Recette phase 2'!$A$121)+(SUMPRODUCT(('Recette phase 2'!$F$123:$F$128='Liste de course'!A5)*('Recette phase 2'!$E$123:$E$128))*'Recette phase 2'!$D$121)+(SUMPRODUCT(('Recette phase 2'!$I$123:$I$128='Liste de course'!A5)*('Recette phase 2'!$H$123:$H$128))*'Recette phase 2'!$G$121)+(SUMPRODUCT(('Recette phase 2'!$L$123:$L$128='Liste de course'!A5)*('Recette phase 2'!$K$123:$K$128))*'Recette phase 2'!$J$121) -> 0 | C5: =(SUMPRODUCT(('Liste de course'!B5)-(Stock!B5))) -> -450 | D5: Banane | E5: =(SUMPRODUCT(('Recette phase 2'!$C$6:$C$15='Liste de course'!D5)*('Recette phase 2'!$B$6:$B$15))*'Recette phase 2'!$A$4)+(SUMPRODUCT(('Recette phase 2'!$F$6:$F$15='Liste de course'!D5)*('Recette phase 2'!$E$6:$E$15))*'Recette phase 2'!$D$4)+(SUMPRODUCT(('Recette phase 2'!$I$6:$I$15='Liste de course'!D5)*('Recette phase 2'!$H$6:$H$15))*'Recette phase 2'!$G$4)+(SUMPRODUCT(('Recette phase 2'!$K$6:$K$15='Liste de course'!D5)*('Recette phase 2'!$K$6:$K$15))*'Recette phase 2'!$J$4)+(SUMPRODUCT(('Recette phase 2'!$O$6:$O$15='Liste de course'!D5)*('Recette phase 2'!$N$6:$N$15))*'Recette phase 2'!$M$4)+(SUMPRODUCT(('Recette phase 2'!$C$19:$C$31='Liste de course'!D5)*('Recette phase 2'!$B$19:$B$31))*'Recette phase 2'!$A$17)+(SUMPRODUCT(('Recette phase 2'!$F$19:$F$31='Liste de course'!D5)*('Recette phase 2'!$E$19:$E$31))*'Recette phase 2'!$D$17)+(SUMPRODUCT(('Recette phase 2'!$I$19:$I$31='Liste de course'!D5)*('Recette phase 2'!$H$19:$H$31))*'Recette phase 2'!$G$17)+(SUMPRODUCT(('Recette phase 2'!$C$36:$C$50='Liste de course'!D5)*('Recette phase 2'!$B$36:$B$50))*'Recette phase 2'!$A$34)+(SUMPRODUCT(('Recette phase 2'!$F$36:$F$50='Liste de course'!D5)*('Recette phase 2'!$E$36:$E$50))*'Recette phase 2'!$D$34)+(SUMPRODUCT(('Recette phase 2'!$I$36:$I$50='Liste de course'!D5)*('Recette phase 2'!$H$36:$H$50))*'Recette phase 2'!$G$34)+(SUMPRODUCT(('Recette phase 2'!$L$36:$L$50='Liste de course'!D5)*('Recette phase 2'!$K$36:$K$50))*'Recette phase 2'!$J$34)+(SUMPRODUCT(('Recette phase 2'!$O$36:$O$50='Liste de course'!D5)*('Recette phase 2'!$N$36:$N$50))*'Recette phase 2'!$M$34)+(SUMPRODUCT(('Recette phase 2'!$C$54:$C$64='Liste de course'!D5)*('Recette phase 2'!$B$54:$B$64))*'Recette phase 2'!$A$52)+(SUMPRODUCT(('Recette phase 2'!$F$54:$F$64='Liste de course'!D5)*('Recette phase 2'!$E$54:$E$64))*'Recette phase 2'!$D$52)+(SUMPRODUCT(('Recette phase 2'!$I$54:$I$64='Liste de course'!D5)*('Recette phase 2'!$H$54:$H$64))*'Recette phase 2'!$G$52)+(SUMPRODUCT(('Recette phase 2'!$L$54:$L$64='Liste de course'!D5)*('Recette phase 2'!$K$54:$K$64))*'Recette phase 2'!$J$52)+(SUMPRODUCT(('Recette phase 2'!$O$54:$O$64='Liste de course'!D5)*('Recette phase 2'!$N$54:$N$64))*'Recette phase 2'!$M$52)+(SUMPRODUCT(('Recette phase 2'!$C$69:$C$85='Liste de course'!D5)*('Recette phase 2'!$B$69:$B$85))*'Recette phase 2'!$A$67)+(SUMPRODUCT(('Recette phase 2'!$F$69:$F$85='Liste de course'!D5)*('Recette phase 2'!$E$69:$E$85))*'Recette phase 2'!$D$67)+(SUMPRODUCT(('Recette phase 2'!$I$69:$I$85='Liste de course'!D5)*('Recette phase 2'!$H$69:$H$85))*'Recette phase 2'!$G$67)+(SUMPRODUCT(('Recette phase 2'!$L$69:$L$85='Liste de course'!D5)*('Recette phase 2'!$K$69:$K$85))*'Recette phase 2'!$J$67)+(SUMPRODUCT(('Recette phase 2'!$C$89:$C$104='Liste de course'!D5)*('Recette phase 2'!$B$89:$B$104))*'Recette phase 2'!$A$87)+(SUMPRODUCT(('Recette phase 2'!$F$89:$F$104='Liste de course'!D5)*('Recette phase 2'!$E$89:$E$104))*'Recette phase 2'!$D$87)+(SUMPRODUCT(('Recette phase 2'!$I$89:$I$104='Liste de course'!D5)*('Recette phase 2'!$H$89:$H$104))*'Recette phase 2'!$G$87)+(SUMPRODUCT(('Recette phase 2'!$L$89:$L$104='Liste de course'!D5)*('Recette phase 2'!$K$89:$K$104))*'Recette phase 2'!$J$87)+(SUMPRODUCT(('Recette phase 2'!$C$109:$C$119='Liste de course'!D5)*('Recette phase 2'!$B$109:$B$119))*'Recette phase 2'!$A$107)+(SUMPRODUCT(('Recette phase 2'!$F$109:$F$119='Liste de course'!D5)*('Recette phase 2'!$E$109:$E$119))*'Recette phase 2'!$D$107)+(SUMPRODUCT(('Recette phase 2'!$I$109:$I$119='Liste de course'!D5)*('Recette phase 2'!$H$109:$H$119))*'Recette phase 2'!$G$107)+(SUMPRODUCT(('Recette phase 2'!$L$109:$L$119='Liste de course'!D5)*('Recette phase 2'!$K$109:$K$119))*'Recette phase 2'!$J$107)+(SUMPRODUCT(('Recette phase 2'!$C$123:$C$128='Liste de course'!D5)*('Recette phase 2'!$B$123:$B$128))*'Recette phase 2'!$A$121)+(SUMPRODUCT(('Recette phase 2'!$F$123:$F$128='Liste de course'!D5)*('Recette phase 2'!$E$123:$E$128))*'Recette phase 2'!$D$121)+(SUMPRODUCT(('Recette phase 2'!$I$123:$I$128='Liste de course'!D5)*('Recette phase 2'!$H$123:$H$128))*'Recette phase 2'!$G$121)+(SUMPRODUCT(('Recette phase 2'!$L$123:$L$128='Liste de course'!D5)*('Recette phase 2'!$K$123:$K$128))*'Recette phase 2'!$J$121) -> 0 | F5: =(SUMPRODUCT(('Liste de course'!E5)-(Stock!D5))) -> 0
A6: Jambon | B6: =(SUMPRODUCT(('Recette phase 2'!$C$6:$C$15='Liste de course'!A6)*('Recette phase 2'!$B$6:$B$15))*'Recette phase 2'!$A$4)+(SUMPRODUCT(('Recette phase 2'!$F$6:$F$15='Liste de course'!A6)*('Recette phase 2'!$E$6:$E$15))*'Recette phase 2'!$D$4)+(SUMPRODUCT(('Recette phase 2'!$I$6:$I$15='Liste de course'!A6)*('Recette phase 2'!$H$6:$H$15))*'Recette phase 2'!$G$4)+(SUMPRODUCT(('Recette phase 2'!$K$6:$K$15='Liste de course'!A6)*('Recette phase 2'!$K$6:$K$15))*'Recette phase 2'!$J$4)+(SUMPRODUCT(('Recette phase 2'!$O$6:$O$15='Liste de course'!A6)*('Recette phase 2'!$N$6:$N$15))*'Recette phase 2'!$M$4)+(SUMPRODUCT(('Recette phase 2'!$C$19:$C$31='Liste de course'!A6)*('Recette phase 2'!$B$19:$B$31))*'Recette phase 2'!$A$17)+(SUMPRODUCT(('Recette phase 2'!$F$19:$F$31='Liste de course'!A6)*('Recette phase 2'!$E$19:$E$31))*'Recette phase 2'!$D$17)+(SUMPRODUCT(('Recette phase 2'!$I$19:$I$31='Liste de course'!A6)*('Recette phase 2'!$H$19:$H$31))*'Recette phase 2'!$G$17)+(SUMPRODUCT(('Recette phase 2'!$C$36:$C$50='Liste de course'!A6)*('Recette phase 2'!$B$36:$B$50))*'Recette phase 2'!$A$34)+(SUMPRODUCT(('Recette phase 2'!$F$36:$F$50='Liste de course'!A6)*('Recette phase 2'!$E$36:$E$50))*'Recette phase 2'!$D$34)+(SUMPRODUCT(('Recette phase 2'!$I$36:$I$50='Liste de course'!A6)*('Recette phase 2'!$H$36:$H$50))*'Recette phase 2'!$G$34)+(SUMPRODUCT(('Recette phase 2'!$L$36:$L$50='Liste de course'!A6)*('Recette phase 2'!$K$36:$K$50))*'Recette phase 2'!$J$34)+(SUMPRODUCT(('Recette phase 2'!$O$36:$O$50='Liste de course'!A6)*('Recette phase 2'!$N$36:$N$50))*'Recette phase 2'!$M$34)+(SUMPRODUCT(('Recette phase 2'!$C$54:$C$64='Liste de course'!A6)*('Recette phase 2'!$B$54:$B$64))*'Recette phase 2'!$A$52)+(SUMPRODUCT(('Recette phase 2'!$F$54:$F$64='Liste de course'!A6)*('Recette phase 2'!$E$54:$E$64))*'Recette phase 2'!$D$52)+(SUMPRODUCT(('Recette phase 2'!$I$54:$I$64='Liste de course'!A6)*('Recette phase 2'!$H$54:$H$64))*'Recette phase 2'!$G$52)+(SUMPRODUCT(('Recette phase 2'!$L$54:$L$64='Liste de course'!A6)*('Recette phase 2'!$K$54:$K$64))*'Recette phase 2'!$J$52)+(SUMPRODUCT(('Recette phase 2'!$O$54:$O$64='Liste de course'!A6)*('Recette phase 2'!$N$54:$N$64))*'Recette phase 2'!$M$52)+(SUMPRODUCT(('Recette phase 2'!$C$69:$C$85='Liste de course'!A6)*('Recette phase 2'!$B$69:$B$85))*'Recette phase 2'!$A$67)+(SUMPRODUCT(('Recette phase 2'!$F$69:$F$85='Liste de course'!A6)*('Recette phase 2'!$E$69:$E$85))*'Recette phase 2'!$D$67)+(SUMPRODUCT(('Recette phase 2'!$I$69:$I$85='Liste de course'!A6)*('Recette phase 2'!$H$69:$H$85))*'Recette phase 2'!$G$67)+(SUMPRODUCT(('Recette phase 2'!$L$69:$L$85='Liste de course'!A6)*('Recette phase 2'!$K$69:$K$85))*'Recette phase 2'!$J$67)+(SUMPRODUCT(('Recette phase 2'!$C$89:$C$104='Liste de course'!A6)*('Recette phase 2'!$B$89:$B$104))*'Recette phase 2'!$A$87)+(SUMPRODUCT(('Recette phase 2'!$F$89:$F$104='Liste de course'!A6)*('Recette phase 2'!$E$89:$E$104))*'Recette phase 2'!$D$87)+(SUMPRODUCT(('Recette phase 2'!$I$89:$I$104='Liste de course'!A6)*('Recette phase 2'!$H$89:$H$104))*'Recette phase 2'!$G$87)+(SUMPRODUCT(('Recette phase 2'!$L$89:$L$104='Liste de course'!A6)*('Recette phase 2'!$K$89:$K$104))*'Recette phase 2'!$J$87)+(SUMPRODUCT(('Recette phase 2'!$C$109:$C$119='Liste de course'!A6)*('Recette phase 2'!$B$109:$B$119))*'Recette phase 2'!$A$107)+(SUMPRODUCT(('Recette phase 2'!$F$109:$F$119='Liste de course'!A6)*('Recette phase 2'!$E$109:$E$119))*'Recette phase 2'!$D$107)+(SUMPRODUCT(('Recette phase 2'!$I$109:$I$119='Liste de course'!A6)*('Recette phase 2'!$H$109:$H$119))*'Recette phase 2'!$G$107)+(SUMPRODUCT(('Recette phase 2'!$L$109:$L$119='Liste de course'!A6)*('Recette phase 2'!$K$109:$K$119))*'Recette phase 2'!$J$107)+(SUMPRODUCT(('Recette phase 2'!$C$123:$C$128='Liste de course'!A6)*('Recette phase 2'!$B$123:$B$128))*'Recette phase 2'!$A$121)+(SUMPRODUCT(('Recette phase 2'!$F$123:$F$128='Liste de course'!A6)*('Recette phase 2'!$E$123:$E$128))*'Recette phase 2'!$D$121)+(SUMPRODUCT(('Recette phase 2'!$I$123:$I$128='Liste de course'!A6)*('Recette phase 2'!$H$123:$H$128))*'Recette phase 2'!$G$121)+(SUMPRODUCT(('Recette phase 2'!$L$123:$L$128='Liste de course'!A6)*('Recette phase 2'!$K$123:$K$128))*'Recette phase 2'!$J$121) -> 0 | C6: =(SUMPRODUCT(('Liste de course'!B6)-(Stock!B6))) -> 0 | D6: Clémentine | E6: =(SUMPRODUCT(('Recette phase 2'!$C$6:$C$15='Liste de course'!D6)*('Recette phase 2'!$B$6:$B$15))*'Recette phase 2'!$A$4)+(SUMPRODUCT(('Recette phase 2'!$F$6:$F$15='Liste de course'!D6)*('Recette phase 2'!$E$6:$E$15))*'Recette phase 2'!$D$4)+(SUMPRODUCT(('Recette phase 2'!$I$6:$I$15='Liste de course'!D6)*('Recette phase 2'!$H$6:$H$15))*'Recette phase 2'!$G$4)+(SUMPRODUCT(('Recette phase 2'!$K$6:$K$15='Liste de course'!D6)*('Recette phase 2'!$K$6:$K$15))*'Recette phase 2'!$J$4)+(SUMPRODUCT(('Recette phase 2'!$O$6:$O$15='Liste de course'!D6)*('Recette phase 2'!$N$6:$N$15))*'Recette phase 2'!$M$4)+(SUMPRODUCT(('Recette phase 2'!$C$19:$C$31='Liste de course'!D6)*('Recette phase 2'!$B$19:$B$31))*'Recette phase 2'!$A$17)+(SUMPRODUCT(('Recette phase 2'!$F$19:$F$31='Liste de course'!D6)*('Recette phase 2'!$E$19:$E$31))*'Recette phase 2'!$D$17)+(SUMPRODUCT(('Recette phase 2'!$I$19:$I$31='Liste de course'!D6)*('Recette phase 2'!$H$19:$H$31))*'Recette phase 2'!$G$17)+(SUMPRODUCT(('Recette phase 2'!$C$36:$C$50='Liste de course'!D6)*('Recette phase 2'!$B$36:$B$50))*'Recette phase 2'!$A$34)+(SUMPRODUCT(('Recette phase 2'!$F$36:$F$50='Liste de course'!D6)*('Recette phase 2'!$E$36:$E$50))*'Recette phase 2'!$D$34)+(SUMPRODUCT(('Recette phase 2'!$I$36:$I$50='Liste de course'!D6)*('Recette phase 2'!$H$36:$H$50))*'Recette phase 2'!$G$34)+(SUMPRODUCT(('Recette phase 2'!$L$36:$L$50='Liste de course'!D6)*('Recette phase 2'!$K$36:$K$50))*'Recette phase 2'!$J$34)+(SUMPRODUCT(('Recette phase 2'!$O$36:$O$50='Liste de course'!D6)*('Recette phase 2'!$N$36:$N$50))*'Recette phase 2'!$M$34)+(SUMPRODUCT(('Recette phase 2'!$C$54:$C$64='Liste de course'!D6)*('Recette phase 2'!$B$54:$B$64))*'Recette phase 2'!$A$52)+(SUMPRODUCT(('Recette phase 2'!$F$54:$F$64='Liste de course'!D6)*('Recette phase 2'!$E$54:$E$64))*'Recette phase 2'!$D$52)+(SUMPRODUCT(('Recette phase 2'!$I$54:$I$64='Liste de course'!D6)*('Recette phase 2'!$H$54:$H$64))*'Recette phase 2'!$G$52)+(SUMPRODUCT(('Recette phase 2'!$L$54:$L$64='Liste de course'!D6)*('Recette phase 2'!$K$54:$K$64))*'Recette phase 2'!$J$52)+(SUMPRODUCT(('Recette phase 2'!$O$54:$O$64='Liste de course'!D6)*('Recette phase 2'!$N$54:$N$64))*'Recette phase 2'!$M$52)+(SUMPRODUCT(('Recette phase 2'!$C$69:$C$85='Liste de course'!D6)*('Recette phase 2'!$B$69:$B$85))*'Recette phase 2'!$A$67)+(SUMPRODUCT(('Recette phase 2'!$F$69:$F$85='Liste de course'!D6)*('Recette phase 2'!$E$69:$E$85))*'Recette phase 2'!$D$67)+(SUMPRODUCT(('Recette phase 2'!$I$69:$I$85='Liste de course'!D6)*('Recette phase 2'!$H$69:$H$85))*'Recette phase 2'!$G$67)+(SUMPRODUCT(('Recette phase 2'!$L$69:$L$85='Liste de course'!D6)*('Recette phase 2'!$K$69:$K$85))*'Recette phase 2'!$J$67)+(SUMPRODUCT(('Recette phase 2'!$C$89:$C$104='Liste de course'!D6)*('Recette phase 2'!$B$89:$B$104))*'Recette phase 2'!$A$87)+(SUMPRODUCT(('Recette phase 2'!$F$89:$F$104='Liste de course'!D6)*('Recette phase 2'!$E$89:$E$104))*'Recette phase 2'!$D$87)+(SUMPRODUCT(('Recette phase 2'!$I$89:$I$104='Liste de course'!D6)*('Recette phase 2'!$H$89:$H$104))*'Recette phase 2'!$G$87)+(SUMPRODUCT(('Recette phase 2'!$L$89:$L$104='Liste de course'!D6)*('Recette phase 2'!$K$89:$K$104))*'Recette phase 2'!$J$87)+(SUMPRODUCT(('Recette phase 2'!$C$109:$C$119='Liste de course'!D6)*('Recette phase 2'!$B$109:$B$119))*'Recette phase 2'!$A$107)+(SUMPRODUCT(('Recette phase 2'!$F$109:$F$119='Liste de course'!D6)*('Recette phase 2'!$E$109:$E$119))*'Recette phase 2'!$D$107)+(SUMPRODUCT(('Recette phase 2'!$I$109:$I$119='Liste de course'!D6)*('Recette phase 2'!$H$109:$H$119))*'Recette phase 2'!$G$107)+(SUMPRODUCT(('Recette phase 2'!$L$109:$L$119='Liste de course'!D6)*('Recette phase 2'!$K$109:$K$119))*'Recette phase 2'!$J$107)+(SUMPRODUCT(('Recette phase 2'!$C$123:$C$128='Liste de course'!D6)*('Recette phase 2'!$B$123:$B$128))*'Recette phase 2'!$A$121)+(SUMPRODUCT(('Recette phase 2'!$F$123:$F$128='Liste de course'!D6)*('Recette phase 2'!$E$123:$E$128))*'Recette phase 2'!$D$121)+(SUMPRODUCT(('Recette phase 2'!$I$123:$I$128='Liste de course'!D6)*('Recette phase 2'!$H$123:$H$128))*'Recette phase 2'!$G$121)+(SUMPRODUCT(('Recette phase 2'!$L$123:$L$128='Liste de course'!D6)*('Recette phase 2'!$K$123:$K$128))*'Recette phase 2'!$J$121) -> 0 | F6: =(SUMPRODUCT(('Liste de course'!E6)-(Stock!D6))) -> 0
A7: Lait d'amande | B7: =(SUMPRODUCT(('Recette phase 2'!$C$6:$C$15='Liste de course'!A7)*('Recette phase 2'!$B$6:$B$15))*'Recette phase 2'!$A$4)+(SUMPRODUCT(('Recette phase 2'!$F$6:$F$15='Liste de course'!A7)*('Recette phase 2'!$E$6:$E$15))*'Recette phase 2'!$D$4)+(SUMPRODUCT(('Recette phase 2'!$I$6:$I$15='Liste de course'!A7)*('Recette phase 2'!$H$6:$H$15))*'Recette phase 2'!$G$4)+(SUMPRODUCT(('Recette phase 2'!$K$6:$K$15='Liste de course'!A7)*('Recette phase 2'!$K$6:$K$15))*'Recette phase 2'!$J$4)+(SUMPRODUCT(('Recette phase 2'!$O$6:$O$15='Liste de course'!A7)*('Recette phase 2'!$N$6:$N$15))*'Recette phase 2'!$M$4)+(SUMPRODUCT(('Recette phase 2'!$C$19:$C$31='Liste de course'!A7)*('Recette phase 2'!$B$19:$B$31))*'Recette phase 2'!$A$17)+(SUMPRODUCT(('Recette phase 2'!$F$19:$F$31='Liste de course'!A7)*('Recette phase 2'!$E$19:$E$31))*'Recette phase 2'!$D$17)+(SUMPRODUCT(('Recette phase 2'!$I$19:$I$31='Liste de course'!A7)*('Recette phase 2'!$H$19:$H$31))*'Recette phase 2'!$G$17)+(SUMPRODUCT(('Recette phase 2'!$C$36:$C$50='Liste de course'!A7)*('Recette phase 2'!$B$36:$B$50))*'Recette phase 2'!$A$34)+(SUMPRODUCT(('Recette phase 2'!$F$36:$F$50='Liste de course'!A7)*('Recette phase 2'!$E$36:$E$50))*'Recette phase 2'!$D$34)+(SUMPRODUCT(('Recette phase 2'!$I$36:$I$50='Liste de course'!A7)*('Recette phase 2'!$H$36:$H$50))*'Recette phase 2'!$G$34)+(SUMPRODUCT(('Recette phase 2'!$L$36:$L$50='Liste de course'!A7)*('Recette phase 2'!$K$36:$K$50))*'Recette phase 2'!$J$34)+(SUMPRODUCT(('Recette phase 2'!$O$36:$O$50='Liste de course'!A7)*('Recette phase 2'!$N$36:$N$50))*'Recette phase 2'!$M$34)+(SUMPRODUCT(('Recette phase 2'!$C$54:$C$64='Liste de course'!A7)*('Recette phase 2'!$B$54:$B$64))*'Recette phase 2'!$A$52)+(SUMPRODUCT(('Recette phase 2'!$F$54:$F$64='Liste de course'!A7)*('Recette phase 2'!$E$54:$E$64))*'Recette phase 2'!$D$52)+(SUMPRODUCT(('Recette phase 2'!$I$54:$I$64='Liste de course'!A7)*('Recette phase 2'!$H$54:$H$64))*'Recette phase 2'!$G$52)+(SUMPRODUCT(('Recette phase 2'!$L$54:$L$64='Liste de course'!A7)*('Recette phase 2'!$K$54:$K$64))*'Recette phase 2'!$J$52)+(SUMPRODUCT(('Recette phase 2'!$O$54:$O$64='Liste de course'!A7)*('Recette phase 2'!$N$54:$N$64))*'Recette phase 2'!$M$52)+(SUMPRODUCT(('Recette phase 2'!$C$69:$C$85='Liste de course'!A7)*('Recette phase 2'!$B$69:$B$85))*'Recette phase 2'!$A$67)+(SUMPRODUCT(('Recette phase 2'!$F$69:$F$85='Liste de course'!A7)*('Recette phase 2'!$E$69:$E$85))*'Recette phase 2'!$D$67)+(SUMPRODUCT(('Recette phase 2'!$I$69:$I$85='Liste de course'!A7)*('Recette phase 2'!$H$69:$H$85))*'Recette phase 2'!$G$67)+(SUMPRODUCT(('Recette phase 2'!$L$69:$L$85='Liste de course'!A7)*('Recette phase 2'!$K$69:$K$85))*'Recette phase 2'!$J$67)+(SUMPRODUCT(('Recette phase 2'!$C$89:$C$104='Liste de course'!A7)*('Recette phase 2'!$B$89:$B$104))*'Recette phase 2'!$A$87)+(SUMPRODUCT(('Recette phase 2'!$F$89:$F$104='Liste de course'!A7)*('Recette phase 2'!$E$89:$E$104))*'Recette phase 2'!$D$87)+(SUMPRODUCT(('Recette phase 2'!$I$89:$I$104='Liste de course'!A7)*('Recette phase 2'!$H$89:$H$104))*'Recette phase 2'!$G$87)+(SUMPRODUCT(('Recette phase 2'!$L$89:$L$104='Liste de course'!A7)*('Recette phase 2'!$K$89:$K$104))*'Recette phase 2'!$J$87)+(SUMPRODUCT(('Recette phase 2'!$C$109:$C$119='Liste de course'!A7)*('Recette phase 2'!$B$109:$B$119))*'Recette phase 2'!$A$107)+(SUMPRODUCT(('Recette phase 2'!$F$109:$F$119='Liste de course'!A7)*('Recette phase 2'!$E$109:$E$119))*'Recette phase 2'!$D$107)+(SUMPRODUCT(('Recette phase 2'!$I$109:$I$119='Liste de course'!A7)*('Recette phase 2'!$H$109:$H$119))*'Recette phase 2'!$G$107)+(SUMPRODUCT(('Recette phase 2'!$L$109:$L$119='Liste de course'!A7)*('Recette phase 2'!$K$109:$K$119))*'Recette phase 2'!$J$107)+(SUMPRODUCT(('Recette phase 2'!$C$123:$C$128='Liste de course'!A7)*('Recette phase 2'!$B$123:$B$128))*'Recette phase 2'!$A$121)+(SUMPRODUCT(('Recette phase 2'!$F$123:$F$128='Liste de course'!A7)*('Recette phase 2'!$E$123:$E$128))*'Recette phase 2'!$D$121)+(SUMPRODUCT(('Recette phase 2'!$I$123:$I$128='Liste de course'!A7)*('Recette phase 2'!$H$123:$H$128))*'Recette phase 2'!$G$121)+(SUMPRODUCT(('Recette phase 2'!$L$123:$L$128='Liste de course'!A7)*('Recette phase 2'!$K$123:$K$128))*'Recette phase 2'!$J$121) -> 0 | C7: =(SUMPRODUCT(('Liste de course'!B7)-(Stock!B7))) -> -1378 | D7: Graines de lin | E7: =(SUMPRODUCT(('Recette phase 2'!$C$6:$C$15='Liste de course'!D7)*('Recette phase 2'!$B$6:$B$15))*'Recette phase 2'!$A$4)+(SUMPRODUCT(('Recette phase 2'!$F$6:$F$15='Liste de course'!D7)*('Recette phase 2'!$E$6:$E$15))*'Recette phase 2'!$D$4)+(SUMPRODUCT(('Recette phase 2'!$I$6:$I$15='Liste de course'!D7)*('Recette phase 2'!$H$6:$H$15))*'Recette phase 2'!$G$4)+(SUMPRODUCT(('Recette phase 2'!$K$6:$K$15='Liste de course'!D7)*('Recette phase 2'!$K$6:$K$15))*'Recette phase 2'!$J$4)+(SUMPRODUCT(('Recette phase 2'!$O$6:$O$15='Liste de course'!D7)*('Recette phase 2'!$N$6:$N$15))*'Recette phase 2'!$M$4)+(SUMPRODUCT(('Recette phase 2'!$C$19:$C$31='Liste de course'!D7)*('Recette phase 2'!$B$19:$B$31))*'Recette phase 2'!$A$17)+(SUMPRODUCT(('Recette phase 2'!$F$19:$F$31='Liste de course'!D7)*('Recette phase 2'!$E$19:$E$31))*'Recette phase 2'!$D$17)+(SUMPRODUCT(('Recette phase 2'!$I$19:$I$31='Liste de course'!D7)*('Recette phase 2'!$H$19:$H$31))*'Recette phase 2'!$G$17)+(SUMPRODUCT(('Recette phase 2'!$C$36:$C$50='Liste de course'!D7)*('Recette phase 2'!$B$36:$B$50))*'Recette phase 2'!$A$34)+(SUMPRODUCT(('Recette phase 2'!$F$36:$F$50='Liste de course'!D7)*('Recette phase 2'!$E$36:$E$50))*'Recette phase 2'!$D$34)+(SUMPRODUCT(('Recette phase 2'!$I$36:$I$50='Liste de course'!D7)*('Recette phase 2'!$H$36:$H$50))*'Recette phase 2'!$G$34)+(SUMPRODUCT(('Recette phase 2'!$L$36:$L$50='Liste de course'!D7)*('Recette phase 2'!$K$36:$K$50))*'Recette phase 2'!$J$34)+(SUMPRODUCT(('Recette phase 2'!$O$36:$O$50='Liste de course'!D7)*('Recette phase 2'!$N$36:$N$50))*'Recette phase 2'!$M$34)+(SUMPRODUCT(('Recette phase 2'!$C$54:$C$64='Liste de course'!D7)*('Recette phase 2'!$B$54:$B$64))*'Recette phase 2'!$A$52)+(SUMPRODUCT(('Recette phase 2'!$F$54:$F$64='Liste de course'!D7)*('Recette phase 2'!$E$54:$E$64))*'Recette phase 2'!$D$52)+(SUMPRODUCT(('Recette phase 2'!$I$54:$I$64='Liste de course'!D7)*('Recette phase 2'!$H$54:$H$64))*'Recette phase 2'!$G$52)+(SUMPRODUCT(('Recette phase 2'!$L$54:$L$64='Liste de course'!D7)*('Recette phase 2'!$K$54:$K$64))*'Recette phase 2'!$J$52)+(SUMPRODUCT(('Recette phase 2'!$O$54:$O$64='Liste de course'!D7)*('Recette phase 2'!$N$54:$N$64))*'Recette phase 2'!$M$52)+(SUMPRODUCT(('Recette phase 2'!$C$69:$C$85='Liste de course'!D7)*('Recette phase 2'!$B$69:$B$85))*'Recette phase 2'!$A$67)+(SUMPRODUCT(('Recette phase 2'!$F$69:$F$85='Liste de course'!D7)*('Recette phase 2'!$E$69:$E$85))*'Recette phase 2'!$D$67)+(SUMPRODUCT(('Recette phase 2'!$I$69:$I$85='Liste de course'!D7)*('Recette phase 2'!$H$69:$H$85))*'Recette phase 2'!$G$67)+(SUMPRODUCT(('Recette phase 2'!$L$69:$L$85='Liste de course'!D7)*('Recette phase 2'!$K$69:$K$85))*'Recette phase 2'!$J$67)+(SUMPRODUCT(('Recette phase 2'!$C$89:$C$104='Liste de course'!D7)*('Recette phase 2'!$B$89:$B$104))*'Recette phase 2'!$A$87)+(SUMPRODUCT(('Recette phase 2'!$F$89:$F$104='Liste de course'!D7)*('Recette phase 2'!$E$89:$E$104))*'Recette phase 2'!$D$87)+(SUMPRODUCT(('Recette phase 2'!$I$89:$I$104='Liste de course'!D7)*('Recette phase 2'!$H$89:$H$104))*'Recette phase 2'!$G$87)+(SUMPRODUCT(('Recette phase 2'!$L$89:$L$104='Liste de course'!D7)*('Recette phase 2'!$K$89:$K$104))*'Recette phase 2'!$J$87)+(SUMPRODUCT(('Recette phase 2'!$C$109:$C$119='Liste de course'!D7)*('Recette phase 2'!$B$109:$B$119))*'Recette phase 2'!$A$107)+(SUMPRODUCT(('Recette phase 2'!$F$109:$F$119='Liste de course'!D7)*('Recette phase 2'!$E$109:$E$119))*'Recette phase 2'!$D$107)+(SUMPRODUCT(('Recette phase 2'!$I$109:$I$119='Liste de course'!D7)*('Recette phase 2'!$H$109:$H$119))*'Recette phase 2'!$G$107)+(SUMPRODUCT(('Recette phase 2'!$L$109:$L$119='Liste de course'!D7)*('Recette phase 2'!$K$109:$K$119))*'Recette phase 2'!$J$107)+(SUMPRODUCT(('Recette phase 2'!$C$123:$C$128='Liste de course'!D7)*('Recette phase 2'!$B$123:$B$128))*'Recette phase 2'!$A$121)+(SUMPRODUCT(('Recette phase 2'!$F$123:$F$128='Liste de course'!D7)*('Recette phase 2'!$E$123:$E$128))*'Recette phase 2'!$D$121)+(SUMPRODUCT(('Recette phase 2'!$I$123:$I$128='Liste de course'!D7)*('Recette phase 2'!$H$123:$H$128))*'Recette phase 2'!$G$121)+(SUMPRODUCT(('Recette phase 2'!$L$123:$L$128='Liste de course'!D7)*('Recette phase 2'!$K$123:$K$128))*'Recette phase 2'!$J$121) -> 0 | F7: =(SUMPRODUCT(('Liste de course'!E7)-(Stock!D7))) -> 0
A8: Œufs | B8: =(SUMPRODUCT(('Recette phase 2'!$C$6:$C$15='Liste de course'!A8)*('Recette phase 2'!$B$6:$B$15))*'Recette phase 2'!$A$4)+(SUMPRODUCT(('Recette phase 2'!$F$6:$F$15='Liste de course'!A8)*('Recette phase 2'!$E$6:$E$15))*'Recette phase 2'!$D$4)+(SUMPRODUCT(('Recette phase 2'!$I$6:$I$15='Liste de course'!A8)*('Recette phase 2'!$H$6:$H$15))*'Recette phase 2'!$G$4)+(SUMPRODUCT(('Recette phase 2'!$K$6:$K$15='Liste de course'!A8)*('Recette phase 2'!$K$6:$K$15))*'Recette phase 2'!$J$4)+(SUMPRODUCT(('Recette phase 2'!$O$6:$O$15='Liste de course'!A8)*('Recette phase 2'!$N$6:$N$15))*'Recette phase 2'!$M$4)+(SUMPRODUCT(('Recette phase 2'!$C$19:$C$31='Liste de course'!A8)*('Recette phase 2'!$B$19:$B$31))*'Recette phase 2'!$A$17)+(SUMPRODUCT(('Recette phase 2'!$F$19:$F$31='Liste de course'!A8)*('Recette phase 2'!$E$19:$E$31))*'Recette phase 2'!$D$17)+(SUMPRODUCT(('Recette phase 2'!$I$19:$I$31='Liste de course'!A8)*('Recette phase 2'!$H$19:$H$31))*'Recette phase 2'!$G$17)+(SUMPRODUCT(('Recette phase 2'!$C$36:$C$50='Liste de course'!A8)*('Recette phase 2'!$B$36:$B$50))*'Recette phase 2'!$A$34)+(SUMPRODUCT(('Recette phase 2'!$F$36:$F$50='Liste de course'!A8)*('Recette phase 2'!$E$36:$E$50))*'Recette phase 2'!$D$34)+(SUMPRODUCT(('Recette phase 2'!$I$36:$I$50='Liste de course'!A8)*('Recette phase 2'!$H$36:$H$50))*'Recette phase 2'!$G$34)+(SUMPRODUCT(('Recette phase 2'!$L$36:$L$50='Liste de course'!A8)*('Recette phase 2'!$K$36:$K$50))*'Recette phase 2'!$J$34)+(SUMPRODUCT(('Recette phase 2'!$O$36:$O$50='Liste de course'!A8)*('Recette phase 2'!$N$36:$N$50))*'Recette phase 2'!$M$34)+(SUMPRODUCT(('Recette phase 2'!$C$54:$C$64='Liste de course'!A8)*('Recette phase 2'!$B$54:$B$64))*'Recette phase 2'!$A$52)+(SUMPRODUCT(('Recette phase 2'!$F$54:$F$64='Liste de course'!A8)*('Recette phase 2'!$E$54:$E$64))*'Recette phase 2'!$D$52)+(SUMPRODUCT(('Recette phase 2'!$I$54:$I$64='Liste de course'!A8)*('Recette phase 2'!$H$54:$H$64))*'Recette phase 2'!$G$52)+(SUMPRODUCT(('Recette phase 2'!$L$54:$L$64='Liste de course'!A8)*('Recette phase 2'!$K$54:$K$64))*'Recette phase 2'!$J$52)+(SUMPRODUCT(('Recette phase 2'!$O$54:$O$64='Liste de course'!A8)*('Recette phase 2'!$N$54:$N$64))*'Recette phase 2'!$M$52)+(SUMPRODUCT(('Recette phase 2'!$C$69:$C$85='Liste de course'!A8)*('Recette phase 2'!$B$69:$B$85))*'Recette phase 2'!$A$67)+(SUMPRODUCT(('Recette phase 2'!$F$69:$F$85='Liste de course'!A8)*('Recette phase 2'!$E$69:$E$85))*'Recette phase 2'!$D$67)+(SUMPRODUCT(('Recette phase 2'!$I$69:$I$85='Liste de course'!A8)*('Recette phase 2'!$H$69:$H$85))*'Recette phase 2'!$G$67)+(SUMPRODUCT(('Recette phase 2'!$L$69:$L$85='Liste de course'!A8)*('Recette phase 2'!$K$69:$K$85))*'Recette phase 2'!$J$67)+(SUMPRODUCT(('Recette phase 2'!$C$89:$C$104='Liste de course'!A8)*('Recette phase 2'!$B$89:$B$104))*'Recette phase 2'!$A$87)+(SUMPRODUCT(('Recette phase 2'!$F$89:$F$104='Liste de course'!A8)*('Recette phase 2'!$E$89:$E$104))*'Recette phase 2'!$D$87)+(SUMPRODUCT(('Recette phase 2'!$I$89:$I$104='Liste de course'!A8)*('Recette phase 2'!$H$89:$H$104))*'Recette phase 2'!$G$87)+(SUMPRODUCT(('Recette phase 2'!$L$89:$L$104='Liste de course'!A8)*('Recette phase 2'!$K$89:$K$104))*'Recette phase 2'!$J$87)+(SUMPRODUCT(('Recette phase 2'!$C$109:$C$119='Liste de course'!A8)*('Recette phase 2'!$B$109:$B$119))*'Recette phase 2'!$A$107)+(SUMPRODUCT(('Recette phase 2'!$F$109:$F$119='Liste de course'!A8)*('Recette phase 2'!$E$109:$E$119))*'Recette phase 2'!$D$107)+(SUMPRODUCT(('Recette phase 2'!$I$109:$I$119='Liste de course'!A8)*('Recette phase 2'!$H$109:$H$119))*'Recette phase 2'!$G$107)+(SUMPRODUCT(('Recette phase 2'!$L$109:$L$119='Liste de course'!A8)*('Recette phase 2'!$K$109:$K$119))*'Recette phase 2'!$J$107)+(SUMPRODUCT(('Recette phase 2'!$C$123:$C$128='Liste de course'!A8)*('Recette phase 2'!$B$123:$B$128))*'Recette phase 2'!$A$121)+(SUMPRODUCT(('Recette phase 2'!$F$123:$F$128='Liste de course'!A8)*('Recette phase 2'!$E$123:$E$128))*'Recette phase 2'!$D$121)+(SUMPRODUCT(('Recette phase 2'!$I$123:$I$128='Liste de course'!A8)*('Recette phase 2'!$H$123:$H$128))*'Recette phase 2'!$G$121)+(SUMPRODUCT(('Recette phase 2'!$L$123:$L$128='Liste de course'!A8)*('Recette phase 2'!$K$123:$K$128))*'Recette phase 2'!$J$121) -> 0 | C8: =(SUMPRODUCT(('Liste de course'!B8)-(Stock!B8))) -> -1 | D8: kiwi | E8: =(SUMPRODUCT(('Recette phase 2'!$C$6:$C$15='Liste de course'!D8)*('Recette phase 2'!$B$6:$B$15))*'Recette phase 2'!$A$4)+(SUMPRODUCT(('Recette phase 2'!$F$6:$F$15='Liste de course'!D8)*('Recette phase 2'!$E$6:$E$15))*'Recette phase 2'!$D$4)+(SUMPRODUCT(('Recette phase 2'!$I$6:$I$15='Liste de course'!D8)*('Recette phase 2'!$H$6:$H$15))*'Recette phase 2'!$G$4)+(SUMPRODUCT(('Recette phase 2'!$K$6:$K$15='Liste de course'!D8)*('Recette phase 2'!$K$6:$K$15))*'Recette phase 2'!$J$4)+(SUMPRODUCT(('Recette phase 2'!$O$6:$O$15='Liste de course'!D8)*('Recette phase 2'!$N$6:$N$15))*'Recette phase 2'!$M$4)+(SUMPRODUCT(('Recette phase 2'!$C$19:$C$31='Liste de course'!D8)*('Recette phase 2'!$B$19:$B$31))*'Recette phase 2'!$A$17)+(SUMPRODUCT(('Recette phase 2'!$F$19:$F$31='Liste de course'!D8)*('Recette phase 2'!$E$19:$E$31))*'Recette phase 2'!$D$17)+(SUMPRODUCT(('Recette phase 2'!$I$19:$I$31='Liste de course'!D8)*('Recette phase 2'!$H$19:$H$31))*'Recette phase 2'!$G$17)+(SUMPRODUCT(('Recette phase 2'!$C$36:$C$50='Liste de course'!D8)*('Recette phase 2'!$B$36:$B$50))*'Recette phase 2'!$A$34)+(SUMPRODUCT(('Recette phase 2'!$F$36:$F$50='Liste de course'!D8)*('Recette phase 2'!$E$36:$E$50))*'Recette phase 2'!$D$34)+(SUMPRODUCT(('Recette phase 2'!$I$36:$I$50='Liste de course'!D8)*('Recette phase 2'!$H$36:$H$50))*'Recette phase 2'!$G$34)+(SUMPRODUCT(('Recette phase 2'!$L$36:$L$50='Liste de course'!D8)*('Recette phase 2'!$K$36:$K$50))*'Recette phase 2'!$J$34)+(SUMPRODUCT(('Recette phase 2'!$O$36:$O$50='Liste de course'!D8)*('Recette phase 2'!$N$36:$N$50))*'Recette phase 2'!$M$34)+(SUMPRODUCT(('Recette phase 2'!$C$54:$C$64='Liste de course'!D8)*('Recette phase 2'!$B$54:$B$64))*'Recette phase 2'!$A$52)+(SUMPRODUCT(('Recette phase 2'!$F$54:$F$64='Liste de course'!D8)*('Recette phase 2'!$E$54:$E$64))*'Recette phase 2'!$D$52)+(SUMPRODUCT(('Recette phase 2'!$I$54:$I$64='Liste de course'!D8)*('Recette phase 2'!$H$54:$H$64))*'Recette phase 2'!$G$52)+(SUMPRODUCT(('Recette phase 2'!$L$54:$L$64='Liste de course'!D8)*('Recette phase 2'!$K$54:$K$64))*'Recette phase 2'!$J$52)+(SUMPRODUCT(('Recette phase 2'!$O$54:$O$64='Liste de course'!D8)*('Recette phase 2'!$N$54:$N$64))*'Recette phase 2'!$M$52)+(SUMPRODUCT(('Recette phase 2'!$C$69:$C$85='Liste de course'!D8)*('Recette phase 2'!$B$69:$B$85))*'Recette phase 2'!$A$67)+(SUMPRODUCT(('Recette phase 2'!$F$69:$F$85='Liste de course'!D8)*('Recette phase 2'!$E$69:$E$85))*'Recette phase 2'!$D$67)+(SUMPRODUCT(('Recette phase 2'!$I$69:$I$85='Liste de course'!D8)*('Recette phase 2'!$H$69:$H$85))*'Recette phase 2'!$G$67)+(SUMPRODUCT(('Recette phase 2'!$L$69:$L$85='Liste de course'!D8)*('Recette phase 2'!$K$69:$K$85))*'Recette phase 2'!$J$67)+(SUMPRODUCT(('Recette phase 2'!$C$89:$C$104='Liste de course'!D8)*('Recette phase 2'!$B$89:$B$104))*'Recette phase 2'!$A$87)+(SUMPRODUCT(('Recette phase 2'!$F$89:$F$104='Liste de course'!D8)*('Recette phase 2'!$E$89:$E$104))*'Recette phase 2'!$D$87)+(SUMPRODUCT(('Recette phase 2'!$I$89:$I$104='Liste de course'!D8)*('Recette phase 2'!$H$89:$H$104))*'Recette phase 2'!$G$87)+(SUMPRODUCT(('Recette phase 2'!$L$89:$L$104='Liste de course'!D8)*('Recette phase 2'!$K$89:$K$104))*'Recette phase 2'!$J$87)+(SUMPRODUCT(('Recette phase 2'!$C$109:$C$119='Liste de course'!D8)*('Recette phase 2'!$B$109:$B$119))*'Recette phase 2'!$A$107)+(SUMPRODUCT(('Recette phase 2'!$F$109:$F$119='Liste de course'!D8)*('Recette phase 2'!$E$109:$E$119))*'Recette phase 2'!$D$107)+(SUMPRODUCT(('Recette phase 2'!$I$109:$I$119='Liste de course'!D8)*('Recette phase 2'!$H$109:$H$119))*'Recette phase 2'!$G$107)+(SUMPRODUCT(('Recette phase 2'!$L$109:$L$119='Liste de course'!D8)*('Recette phase 2'!$K$109:$K$119))*'Recette phase 2'!$J$107)+(SUMPRODUCT(('Recette phase 2'!$C$123:$C$128='Liste de course'!D8)*('Recette phase 2'!$B$123:$B$128))*'Recette phase 2'!$A$121)+(SUMPRODUCT(('Recette phase 2'!$F$123:$F$128='Liste de course'!D8)*('Recette phase 2'!$E$123:$E$128))*'Recette phase 2'!$D$121)+(SUMPRODUCT(('Recette phase 2'!$I$123:$I$128='Liste de course'!D8)*('Recette phase 2'!$H$123:$H$128))*'Recette phase 2'!$G$121)+(SUMPRODUCT(('Recette phase 2'!$L$123:$L$128='Liste de course'!D8)*('Recette phase 2'!$K$123:$K$128))*'Recette phase 2'!$J$121) -> 0 | F8: =(SUMPRODUCT(('Liste de course'!E8)-(Stock!D8))) -> 0
