Workbook

Sheet Liste de course
A1: Liste de course
A2: Frais | B2: Nécessaire | C2: Achat | D2: Fruits | E2: Nécessaire | F2: Achat
A3: Chorizo | B3: =(SUMPRODUCT(('Recette phase 2'!$C$6:$C$15='Liste de course'!A3)*('Recette phase 2'!$B$6:$B$15))*'Recette phase 2'!$A$4)+(SUMPRODUCT(('Recette phase 2'!$F$6:$F$15='Liste de course'!A3)*('Recette phase 2'!$E$6:$E$15))*'Recette phase 2'!$D$4)+(SUMPRODUCT(('Recette phase 2'!$I$6:$I$15='Liste de course'!A3)*('Recette phase 2'!$H$6:$H$15))*'Recette phase 2'!$G$4)+(SUMPRODUCT(('Recette phase 2'!$K$6:$K$15='Liste de course'!A3)*('Recette phase 2'!$K$6:$K$15))*'Recette phase 2'!$J$4)+(SUMPRODUCT(('Recette phase 2'!$O$6:$O$15='Liste de course'!A3)*('Recette phase 2'!$N$6:$N$15))*'Recette phase 2'!$M$4)+(SUMPRODUCT(('Recette phase 2'!$C$19:$C$31='Liste de course'!A3)*('Recette phase 2'!$B$19:$B$31))*'Recette phase 2'!$A$17)+(SUMPRODUCT(('Recette phase 2'!$F$19:$F$31='Liste de course'!A3)*('Recette phase 2'!$E$19:$E$31))*'Recette phase 2'!$D$17)+(SUMPRODUCT(('Recette phase 2'!$I$19:$I$31='Liste de course'!A3)*('Recette phase 2'!$H$19:$H$31))*'Recette phase 2'!$G$17)+(SUMPRODUCT(('Recette phase 2'!$C$36:$C$50='Liste de course'!A3)*('Recette phase 2'!$B$36:$B$50))*'Recette phase 2'!$A$34)+(SUMPRODUCT(('Recette phase 2'!$F$36:$F$50='Liste de course'!A3)*('Recette phase 2'!$E$36:$E$50))*'Recette phase 2'!$D$34)+(SUMPRODUCT(('Recette phase 2'!$I$36:$I$50='Liste de course'!A3)*('Recette phase 2'!$H$36:$H$50))*'Recette phase 2'!$G$34)+(SUMPRODUCT(('Recette phase 2'!$L$36:$L$50='Liste de course'!A3)*('Recette phase 2'!$K$36:$K$50))*'Recette phase 2'!$J$34)+(SUMPRODUCT(('Recette phase 2'!$O$36:$O$50='Liste de course'!A3)*('Recette phase 2'!$N$36:$N$50))*'Recette phase 2'!$M$34)+(SUMPRODUCT(('Recette phase 2'!$C$54:$C$64='Liste de course'!A3)*('Recette phase 2'!$B$54:$B$64))*'Recette phase 2'!$A$52)+(SUMPRODUCT(('Recette phase 2'!$F$54:$F$64='Liste de course'!A3)*('Recette phase 2'!$E$54:$E$64))*'Recette phase 2'!$D$52)+(SUMPRODUCT(('Recette phase 2'!$I$54:$I$64='Liste de course'!A3)*('Recette phase 2'!$H$54:$H$64))*'Recette phase 2'!$G$52)+(SUMPRODUCT(('Recette phase 2'!$L$54:$L$64='Liste de course'!A3)*('Recette phase 2'!$K$54:$K$64))*'Recette phase 2'!$J$52)+(SUMPRODUCT(('Recette phase 2'!$O$54:$O$64='Liste de course'!A3)*('Recette phase 2'!$N$54:$N$64))*'Recette phase 2'!$M$52)+(SUMPRODUCT(('Recette phase 2'!$C$69:$C$85='Liste de course'!A3)*('Recette phase 2'!$B$69:$B$85))*'Recette phase 2'!$A$67)+(SUMPRODUCT(('Recette phase 2'!$F$69:$F$85='Liste de course'!A3)*('Recette phase 2'!$E$69:$E$85))*'Recette phase 2'!$D$67)+(SUMPRODUCT(('Recette phase 2'!$I$69:$I$85='Liste de course'!A3)*('Recette phase 2'!$H$69:$H$85))*'Recette phase 2'!$G$67)+(SUMPRODUCT(('Recette phase 2'!$L$69:$L$85='Liste de course'!A3)*('Recette phase 2'!$K$69:$K$85))*'Recette phase 2'!$J$67)+(SUMPRODUCT(('Recette phase 2'!$C$89:$C$104='Liste de course'!A3)*('Recette phase 2'!$B$89:$B$104))*'Recette phase 2'!$A$87)+(SUMPRODUCT(('Recette phase 2'!$F$89:$F$104='Liste de course'!A3)*('Recette phase 2'!$E$89:$E$104))*'Recette phase 2'!$D$87)+(SUMPRODUCT(('Recette phase 2'!$I$89:$I$104='Liste de course'!A3)*('Recette phase 2'!$H$89:$H$104))*'Recette phase 2'!$G$87)+(SUMPRODUCT(('Recette phase 2'!$L$89:$L$104='Liste de course'!A3)*('Recette phase 2'!$K$89:$K$104))*'Recette phase 2'!$J$87)+(SUMPRODUCT(('Recette phase 2'!$C$109:$C$119='Liste de course'!A3)*('Recette phase 2'!$B$109:$B$119))*'Recette phase 2'!$A$107)+(SUMPRODUCT(('Recette phase 2'!$F$109:$F$119='Liste de course'!A3)*('Recette phase 2'!$E$109:$E$119))*'Recette phase 2'!$D$107)+(SUMPRODUCT(('Recette phase 2'!$I$109:$I$119='Liste de course'!A3)*('Recette phase 2'!$H$109:$H$119))*'Recette phase 2'!$G$107)+(SUMPRODUCT(('Recette phase 2'!$L$109:$L$119='Liste de course'!A3)*('Recette phase 2'!$K$109:$K$119))*'Recette phase 2'!$J$107)+(SUMPRODUCT(('Recette phase 2'!$C$123:$C$128='Liste de course'!A3)*('Recette phase 2'!$B$123:$B$128))*'Recette phase 2'!$A$121)+(SUMPRODUCT(('Recette phase 2'!$F$123:$F$128='Liste de course'!A3)*('Recette phase 2'!$E$123:$E$128))*'Recette phase 2'!$D$121)+(SUMPRODUCT(('Recette phase 2'!$I$123:$I$128='Liste de course'!A3)*('Recette phase 2'!$H$123:$H$128))*'Recette phase 2'!$G$121)+(SUMPRODUCT(('Recette phase 2'!$L$123:$L$128='Liste de course'!A3)*('Recette phase 2'!$K$123:$K$128))*'Recette phase 2'!$J$121) -> 0 | C3: =(SUMPRODUCT(('Liste de course'!B3)-(Stock!B3))) -> -57 | D3: Amande | E3: =(SUMPRODUCT(('Recette phase 2'!$C$6:$C$15='Liste de course'!D3)*('Recette phase 2'!$B$6:$B$15))*'Recette phase 2'!$A$4)+(SUMPRODUCT(('Recette phase 2'!$F$6:$F$15='Liste de course'!D3)*('Recette phase 2'!$E$6:$E$15))*'Recette phase 2'!$D$4)+(SUMPRODUCT(('Recette phase 2'!$I$6:$I$15='Liste de course'!D3)*('Recette phase 2'!$H$6:$H$15))*'Recette phase 2'!$G$4)+(SUMPRODUCT(('Recette phase 2'!$K$6:$K$15='Liste de course'!D3)*('Recette phase 2'!$K$6:$K$15))*'Recette phase 2'!$J$4)+(SUMPRODUCT(('Recette phase 2'!$O$6:$O$15='Liste de course'!D3)*('Recette phase 2'!$N$6:$N$15))*'Recette phase 2'!$M$4)+(SUMPRODUCT(('Recette phase 2'!$C$19:$C$31='Liste de course'!D3)*('Recette phase 2'!$B$19:$B$31))*'Recette phase 2'!$A$17)+(SUMPRODUCT(('Recette phase 2'!$F$19:$F$31='Liste de course'!D3)*('Recette phase 2'!$E$19:$E$31))*'Recette phase 2'!$D$17)+(SUMPRODUCT(('Recette phase 2'!$I$19:$I$31='Liste de course'!D3)*('Recette phase 2'!$H$19:$H$31))*'Recette phase 2'!$G$17)+(SUMPRODUCT(('Recette phase 2'!$C$36:$C$50='Liste de course'!D3)*('Recette phase 2'!$B$36:$B$50))*'Recette phase 2'!$A$34)+(SUMPRODUCT(('Recette phase 2'!$F$36:$F$50='Liste de course'!D3)*('Recette phase 2'!$E$36:$E$50))*'Recette phase 2'!$D$34)+(SUMPRODUCT(('Recette phase 2'!$I$36:$I$50='Liste de course'!D3)*('Recette phase 2'!$H$36:$H$50))*'Recette phase 2'!$G$34)+(SUMPRODUCT(('Recette phase 2'!$L$36:$L$50='Liste de course'!D3)*('Recette phase 2'!$K$36:$K$50))*'Recette phase 2'!$J$34)+(SUMPRODUCT(('Recette phase 2'!$O$36:$O$50='Liste de course'!D3)*('Recette phase 2'!$N$36:$N$50))*'Recette phase 2'!$M$34)+(SUMPRODUCT(('Recette phase 2'!$C$54:$C$64='Liste de course'!D3)*('Recette phase 2'!$B$54:$B$64))*'Recette phase 2'!$A$52)+(SUMPRODUCT(('Recette phase 2'!$F$54:$F$64='Liste de course'!D3)*('Recette phase 2'!$E$54:$E$64))*'Recette phase 2'!$D$52)+(SUMPRODUCT(('Recette phase 2'!$I$54:$I$64='Liste de course'!D3)*('Recette phase 2'!$H$54:$H$64))*'Recette phase 2'!$G$52)+(SUMPRODUCT(('Recette phase 2'!$L$54:$L$64='Liste de course'!D3)*('Recette phase 2'!$K$54:$K$64))*'Recette phase 2'!$J$52)+(SUMPRODUCT(('Recette phase 2'!$O$54:$O$64='Liste de course'!D3)*('Recette phase 2'!$N$54:$N$64))*'Recette phase 2'!$M$52)+(SUMPRODUCT(('Recette phase 2'!$C$69:$C$85='Liste de course'!D3)*('Recette phase 2'!$B$69:$B$85))*'Recette phase 2'!$A$67)+(SUMPRODUCT(('Recette phase 2'!$F$69:$F$85='Liste de course'!D3)*('Recette phase 2'!$E$69:$E$85))*'Recette phase 2'!$D$67)+(SUMPRODUCT(('Recette phase 2'!$I$69:$I$85='Liste de course'!D3)*('Recette phase 2'!$H$69:$H$85))*'Recette phase 2'!$G$67)+(SUMPRODUCT(('Recette phase 2'!$L$69:$L$85='Liste de course'!D3)*('Recette phase 2'!$K$69:$K$85))*'Recette phase 2'!$J$67)+(SUMPRODUCT(('Recette phase 2'!$C$89:$C$104='Liste de course'!D3)*('Recette phase 2'!$B$89:$B$104))*'Recette phase 2'!$A$87)+(SUMPRODUCT(('Recette phase 2'!$F$89:$F$104='Liste de course'!D3)*('Recette phase 2'!$E$89:$E$104))*'Recette phase 2'!$D$87)+(SUMPRODUCT(('Recette phase 2'!$I$89:$I$104='Liste de course'!D3)*('Recette phase 2'!$H$89:$H$104))*'Recette phase 2'!$G$87)+(SUMPRODUCT(('Recette phase 2'!$L$89:$L$104='Liste de course'!D3)*('Recette phase 2'!$K$89:$K$104))*'Recette phase 2'!$J$87)+(SUMPRODUCT(('Recette phase 2'!$C$109:$C$119='Liste de course'!D3)*('Recette phase 2'!$B$109:$B$119))*'Recette phase 2'!$A$107)+(SUMPRODUCT(('Recette phase 2'!$F$109:$F$119='Liste de course'!D3)*('Recette phase 2'!$E$109:$E$119))*'Recette phase 2'!$D$107)+(SUMPRODUCT(('Recette phase 2'!$I$109:$I$119='Liste de course'!D3)*('Recette phase 2'!$H$109:$H$119))*'Recette phase 2'!$G$107)+(SUMPRODUCT(('Recette phase 2'!$L$109:$L$119='Liste de course'!D3)*('Recette phase 2'!$K$109:$K$119))*'Recette phase 2'!$J$107)+(SUMPRODUCT(('Recette phase 2'!$C$123:$C$128='Liste de course'!D3)*('Recette phase 2'!$B$123:$B$128))*'Recette phase 2'!$A$121)+(SUMPRODUCT(('Recette phase 2'!$F$123:$F$128='Liste de course'!D3)*('Recette phase 2'!$E$123:$E$128))*'Recette phase 2'!$D$121)+(SUMPRODUCT(('Recette phase 2'!$I$123:$I$128='Liste de course'!D3)*('Recette phase 2'!$H$123:$H$128))*'Recette phase 2'!$G$121)+(SUMPRODUCT(('Recette phase 2'!$L$123:$L$128='Liste de course'!D3)*('Recette phase 2'!$K$123:$K$128))*'Recette phase 2'!$J$121) -> 0 | F3: =(SUMPRODUCT(('Liste de course'!E3)-(Stock!D3))) -> -156
A4: Feta salakis | B4: =(SUMPRODUCT(('Recette phase 2'!$C$6:$C$15='Liste de course'!A4)*('Recette phase 2'!$B$6:$B$15))*'Recette phase 2'!$A$4)+(SUMPRODUCT(('Recette phase 2'!$F$6:$F$15='Liste de course'!A4)*('Recette phase 2'!$E$6:$E$15))*'Recette phase 2'!$D$4)+(SUMPRODUCT(('Recette phase 2'!$I$6:$I$15='Liste de course'!A4)*('Recette phase 2'!$H$6:$H$15))*'Recette phase 2'!$G$4)+(SUMPRODUCT(('Recette phase 2'!$K$6:$K$15='Liste de course'!A4)*('Recette phase 2'!$K$6:$K$15))*'Recette phase 2'!$J$4)+(SUMPRODUCT(('Recette phase 2'!$O$6:$O$15='Liste de course'!A4)*('Recette phase 2'!$N$6:$N$15))*'Recette phase 2'!$M$4)+(SUMPRODUCT(('Recette phase 2'!$C$19:$C$31='Liste de course'!A4)*('Recette phase 2'!$B$19:$B$31))*'Recette phase 2'!$A$17)+(SUMPRODUCT(('Recette phase 2'!$F$19:$F$31='Liste de course'!A4)*('Recette phase 2'!$E$19:$E$31))*'Recette phase 2'!$D$17)+(SUMPRODUCT(('Recette phase 2'!$I$19:$I$31='Liste de course'!A4)*('Recette phase 2'!$H$19:$H$31))*'Recette phase 2'!$G$17)+(SUMPRODUCT(('Recette phase 2'!$C$36:$C$50='Liste de course'!A4)*('Recette phase 2'!$B$36:$B$50))*'Recette phase 2'!$A$34)+(SUMPRODUCT(('Recette phase 2'!$F$36:$F$50='Liste de course'!A4)*('Recette phase 2'!$E$36:$E$50))*'Recette phase 2'!$D$34)+(SUMPRODUCT(('Recette phase 2'!$I$36:$I$50='Liste de course'!A4)*('Recette phase 2'!$H$36:$H$50))*'Recette phase 2'!$G$34)+(SUMPRODUCT(('Recette phase 2'!$L$36:$L$50='Liste de course'!A4)*('Recette phase 2'!$K$36:$K$50))*'Recette phase 2'!$J$34)+(SUMPRODUCT(('Recette phase 2'!$O$36:$O$50='Liste de course'!A4)*('Recette phase 2'!$N$36:$N$50))*'Recette phase 2'!$M$34)+(SUMPRODUCT(('Recette phase 2'!$C$54:$C$64='Liste de course'!A4)*('Recette phase 2'!$B$54:$B$64))*'Recette phase 2'!$A$52)+(SUMPRODUCT(('Recette phase 2'!$F$54:$F$64='Liste de course'!A4)*('Recette phase 2'!$E$54:$E$64))*'Recette phase 2'!$D$52)+(SUMPRODUCT(('Recette phase 2'!$I$54:$I$64='Liste de course'!A4)*('Recette phase 2'!$H$54:$H$64))*'Recette phase 2'!$G$52)+(SUMPRODUCT(('Recette phase 2'!$L$54:$L$64='Liste de course'!A4)*('Recette phase 2'!$K$54:$K$64))*'Recette phase 2'!$J$52)+(SUMPRODUCT(('Recette phase 2'!$O$54:$O$64='Liste de course'!A4)*('Recette phase 2'!$N$54:$N$64))*'Recette phase 2'!$M$52)+(SUMPRODUCT(('Recette phase 2'!$C$69:$C$85='Liste de course'!A4)*('Recette phase 2'!$B$69:$B$85))*'Recette phase 2'!$A$67)+(SUMPRODUCT(('Recette phase 2'!$F$69:$F$85='Liste de course'!A4)*('Recette phase 2'!$E$69:$E$85))*'Recette phase 2'!$D$67)+(SUMPRODUCT(('Recette phase 2'!$I$69:$I$85='Liste de course'!A4)*('Recette phase 2'!$H$69:$H$85))*'Recette phase 2'!$G$67)+(SUMPRODUCT(('Recette phase 2'!$L$69:$L$85='Liste de course'!A4)*('Recette phase 2'!$K$69:$K$85))*'Recette phase 2'!$J$67)+(SUMPRODUCT(('Recette phase 2'!$C$89:$C$104='Liste de course'!A4)*('Recette phase 2'!$B$89:$B$104))*'Recette phase 2'!$A$87)+(SUMPRODUCT(('Recette phase 2'!$F$89:$F$104='Liste de course'!A4)*('Recette phase 2'!$E$89:$E$104))*'Recette phase 2'!$D$87)+(SUMPRODUCT(('Recette phase 2'!$I$89:$I$104='Liste de course'!A4)*('Recette phase 2'!$H$89:$H$104))*'Recette phase 2'!$G$87)+(SUMPRODUCT(('Recette phase 2'!$L$89:$L$104='Liste de course'!A4)*('Recette phase 2'!$K$89:$K$104))*'Recette phase 2'!$J$87)+(SUMPRODUCT(('Recette phase 2'!$C$109:$C$119='Liste de course'!A4)*('Recette phase 2'!$B$109:$B$119))*'Recette phase 2'!$A$107)+(SUMPRODUCT(('Recette phase 2'!$F$109:$F$119='Liste de course'!A4)*('Recette phase 2'!$E$109:$E$119))*'Recette phase 2'!$D$107)+(SUMPRODUCT(('Recette phase 2'!$I$109:$I$119='Liste de course'!A4)*('Recette phase 2'!$H$109:$H$119))*'Recette phase 2'!$G$107)+(SUMPRODUCT(('Recette phase 2'!$L$109:$L$119='Liste de course'!A4)*('Recette phase 2'!$K$109:$K$119))*'Recette phase 2'!$J$107)+(SUMPRODUCT(('Recette phase 2'!$C$123:$C$128='Liste de course'!A4)*('Recette phase 2'!$B$123:$B$128))*'Recette phase 2'!$A$121)+(SUMPRODUCT(('Recette phase 2'!$F$123:$F$128='Liste de course'!A4)*('Recette phase 2'!$E$123:$E$128))*'Recette phase 2'!$D$121)+(SUMPRODUCT(('Recette phase 2'!$I$123:$I$128='Liste de course'!A4)*('Recette phase 2'!$H$123:$H$128))*'Recette phase 2'!$G$121)+(SUMPRODUCT(('Recette phase 2'!$L$123:$L$128='Liste de course'!A4)*('Recette phase 2'!$K$123:$K$128))*'Recette phase 2'!$J$121) -> 0 | C4: =(SUMPRODUCT(('Liste de course'!B4)-(Stock!B4))) -> -143 | D4: Baie de goji | E4: =(SUMPRODUCT(('Recette phase 2'!$C$6:$C$15='Liste de course'!D4)*('Recette phase 2'!$B$6:$B$15))*'Recette phase 2'!$A$4)+(SUMPRODUCT(('Recette phase 2'!$F$6:$F$15='Liste de course'!D4)*('Recette phase 2'!$E$6:$E$15))*'Recette phase 2'!$D$4)+(SUMPRODUCT(('Recette phase 2'!$I$6:$I$15='Liste de course'!D4)*('Recette phase 2'!$H$6:$H$15))*'Recette phase 2'!$G$4)+(SUMPRODUCT(('Recette phase 2'!$K$6:$K$15='Liste de course'!D4)*('Recette phase 2'!$K$6:$K$15))*'Recette phase 2'!$J$4)+(SUMPRODUCT(('Recette phase 2'!$O$6:$O$15='Liste de course'!D4)*('Recette phase 2'!$N$6:$N$15))*'Recette phase 2'!$M$4)+(SUMPRODUCT(('Recette phase 2'!$C$19:$C$31='Liste de course'!D4)*('Recette phase 2'!$B$19:$B$31))*'Recette phase 2'!$A$17)+(SUMPRODUCT(('Recette phase 2'!$F$19:$F$31='Liste de course'!D4)*('Recette phase 2'!$E$19:$E$31))*'Recette phase 2'!$D$17)+(SUMPRODUCT(('Recette phase 2'!$I$19:$I$31='Liste de course'!D4)*('Recette phase 2'!$H$19:$H$31))*'Recette phase 2'!$G$17)+(SUMPRODUCT(('Recette phase 2'!$C$36:$C$50='Liste de course'!D4)*('Recette phase 2'!$B$36:$B$50))*'Recette phase 2'!$A$34)+(SUMPRODUCT(('Recette phase 2'!$F$36:$F$50='Liste de course'!D4)*('Recette phase 2'!$E$36:$E$50))*'Recette phase 2'!$D$34)+(SUMPRODUCT(('Recette phase 2'!$I$36:$I$50='Liste de course'!D4)*('Recette phase 2'!$H$36:$H$50))*'Recette phase 2'!$G$34)+(SUMPRODUCT(('Recette phase 2'!$L$36:$L$50='Liste de course'!D4)*('Recette phase 2'!$K$36:$K$50))*'Recette phase 2'!$J$34)+(SUMPRODUCT(('Recette phase 2'!$O$36:$O$50='Liste de course'!D4)*('Recette phase 2'!$N$36:$N$50))*'Recette phase 2'!$M$34)+(SUMPRODUCT(('Recette phase 2'!$C$54:$C$64='Liste de course'!D4)*('Recette phase 2'!$B$54:$B$64))*'Recette phase 2'!$A$52)+(SUMPRODUCT(('Recette phase 2'!$F$54:$F$64='Liste de course'!D4)*('Recette phase 2'!$E$54:$E$64))*'Recette phase 2'!$D$52)+(SUMPRODUCT(('Recette phase 2'!$I$54:$I$64='Liste de course'!D4)*('Recette phase 2'!$H$54:$H$64))*'Recette phase 2'!$G$52)+(SUMPRODUCT(('Recette phase 2'!$L$54:$L$64='Liste de course'!D4)*('Recette phase 2'!$K$54:$K$64))*'Recette phase 2'!$J$52)+(SUMPRODUCT(('Recette phase 2'!$O$54:$O$64='Liste de course'!D4)*('Recette phase 2'!$N$54:$N$64))*'Recette phase 2'!$M$52)+(SUMPRODUCT(('Recette phase 2'!$C$69:$C$85='Liste de course'!D4)*('Recette phase 2'!$B$69:$B$85))*'Recette phase 2'!$A$67)+(SUMPRODUCT(('Recette phase 2'!$F$69:$F$85='Liste de course'!D4)*('Recette phase 2'!$E$69:$E$85))*'Recette phase 2'!$D$67)+(SUMPRODUCT(('Recette phase 2'!$I$69:$I$85='Liste de course'!D4)*('Recette phase 2'!$H$69:$H$85))*'Recette phase 2'!$G$67)+(SUMPRODUCT(('Recette phase 2'!$L$69:$L$85='Liste de course'!D4)*('Recette phase 2'!$K$69:$K$85))*'Recette phase 2'!$J$67)+(SUMPRODUCT(('Recette phase 2'!$C$89:$C$104='Liste de course'!D4)*('Recette phase 2'!$B$89:$B$104))*'Recette phase 2'!$A$87)+(SUMPRODUCT(('Recette phase 2'!$F$89:$F$104='Liste de course'!D4)*('Recette phase 2'!$E$89:$E$104))*'Recette phase 2'!$D$87)+(SUMPRODUCT(('Recette phase 2'!$I$89:$I$104='Liste de course'!D4)*('Recette phase 2'!$H$89:$H$104))*'Recette phase 2'!$G$87)+(SUMPRODUCT(('Recette phase 2'!$L$89:$L$104='Liste de course'!D4)*('Recette phase 2'!$K$89:$K$104))*'Recette phase 2'!$J$87)+(SUMPRODUCT(('Recette phase 2'!$C$109:$C$119='Liste de course'!D4)*('Recette phase 2'!$B$109:$B$119))*'Recette phase 2'!$A$107)+(SUMPRODUCT(('Recette phase 2'!$F$109:$F$119='Liste de course'!D4)*('Recette phase 2'!$E$109:$E$119))*'Recette phase 2'!$D$107)+(SUMPRODUCT(('Recette phase 2'!$I$109:$I$119='Liste de course'!D4)*('Recette phase 2'!$H$109:$H$119))*'Recette phase 2'!$G$107)+(SUMPRODUCT(('Recette phase 2'!$L$109:$L$119='Liste de course'!D4)*('Recette phase 2'!$K$109:$K$119))*'Recette phase 2'!$J$107)+(SUMPRODUCT(('Recette phase 2'!$C$123:$C$128='Liste de course'!D4)*('Recette phase 2'!$B$123:$B$128))*'Recette phase 2'!$A$121)+(SUMPRODUCT(('Recette phase 2'!$F$123:$F$128='Liste de course'!D4)*('Recette phase 2'!$E$123:$E$128))*'Recette phase 2'!$D$121)+(SUMPRODUCT(('Recette phase 2'!$I$123:$I$128='Liste de course'!D4)*('Recette phase 2'!$H$123:$H$128))*'Recette phase 2'!$G$121)+(SUMPRODUCT(('Recette phase 2'!$L$123:$L$128='Liste de course'!D4)*('Recette phase 2'!$K$123:$K$128))*'Recette phase 2'!$J$121) -> 0 | F4: =(SUMPRODUCT(('Liste de course'!E4)-(Stock!D4))) -> 0
A5: Fromage blanc 0% | B5: =(SUMPRODUCT(('Recette phase 2'!$C$6:$C$15='Liste de course'!A5)*('Recette phase 2'!$B$6:$B$15))*'Recette phase 2'!$A$4)+(SUMPRODUCT(('Recette phase 2'!$F$6:$F$15='Liste de course'!A5)*('Recette phase 2'!$E$6:$E$15))*'Recette phase 2'!$D$4)+(SUMPRODUCT(('Recette phase 2'!$I$6:$I$15='Liste de course'!A5)*('Recette phase 2'!$H$6:$H$15))*'Recette phase 2'!$G$4)+(SUMPRODUCT(('Recette phase 2'!$K$6:$K$15='Liste de course'!A5)*('Recette phase 2'!$K$6:$K$15))*'Recette phase 2'!$J$4)+(SUMPRODUCT(('Recette phase 2'!$O$6:$O$15='Liste de course'!A5)*('Recette phase 2'!$N$6:$N$15))*'Recette phase 2'!$M$4)+(SUMPRODUCT(('Recette phase 2'!$C$19:$C$31='Liste de course'!A5)*('Recette phase 2'!$B$19:$B$31))*'Recette phase 2'!$A$17)+(SUMPRODUCT(('Recette phase 2'!$F$19:$F$31='Liste de course'!A5)*('Recette phase 2'!$E$19:$E$31))*'Recette phase 2'!$D$17)+(SUMPRODUCT(('Recette phase 2'!$I$19:$I$31='Liste de course'!A5)*('Recette phase 2'!$H$19:$H$31))*'Recette phase 2'!$G$17)+(SUMPRODUCT(('Recette phase 2'!$C$36:$C$50='Liste de course'!A5)*('Recette phase 2'!$B$36:$B$50))*'Recette phase 2'!$A$34)+(SUMPRODUCT(('Recette phase 2'!$F$36:$F$50='Liste de course'!A5)*('Recette phase 2'!$E$36:$E$50))*'Recette phase 2'!$D$34)+(SUMPRODUCT(('Recette phase 2'!$I$36:$I$50='Liste de course'!A5)*('Recette phase 2'!$H$36:$H$50))*'Recette phase 2'!$G$34)+(SUMPRODUCT(('Recette phase 2'!$L$36:$L$50='Liste de course'!A5)*('Recette phase 2'!$K$36:$K$50))*'Recette phase 2'!$J$34)+(SUMPRODUCT(('Recette phase 2'!$O$36:$O$50='Liste de course'!A5)*('Recette phase 2'!$N$36:$N$50))*'Recette phase 2'!$M$34)+(SUMPRODUCT(('Recette phase 2'!$C$54:$C$64='Liste de course'!A5)*('Recette phase 2'!$B$54:$B$64))*'Recette phase 2'!$A$52)+(SUMPRODUCT(('Recette phase 2'!$F$54:$F$64='Liste de course'!A5)*('Recette phase 2'!$E$54:$E$64))*'Recette phase 2'!$D$52)+(SUMPRODUCT(('Recette phase 2'!$I$54:$I$64='Liste de course'!A5)*('Recette phase 2'!$H$54:$H$64))*'Recette phase 2'!$G$52)+(SUMPRODUCT(('Recette phase 2'!$L$54:$L$64='Liste de course'!A5)*('Recette phase 2'!$K$54:$K$64))*'Recette phase 2'!$J$52)+(SUMPRODUCT(('Recette phase 2'!$O$54:$O$64='Liste de course'!A5)*('Recette phase 2'!$N$54:$N$64))*'Recette phase 2'!$M$52)+(SUMPRODUCT(('Recette phase 2'!$C$69:$C$85='Liste de course'!A5)*('Recette phase 2'!$B$69:$B$85))*'Recette phase 2'!$A$67)+(SUMPRODUCT(('Recette phase 2'!$F$69:$F$85='Liste de course'!A5)*('Recette phase 2'!$E$69:$E$85))*'Recette phase 2'!$D$67)+(SUMPRODUCT(('Recette phase 2'!$I$69:$I$85='Liste de course'!A5)*('Recette phase 2'!$H$69:$H$85))*'Recette phase 2'!$G$67)+(SUMPRODUCT(('Recette phase 2'!$L$69:$L$85='Liste de course'!A5)*('Recette phase 2'!$K$69:$K$85))*'Recette phase 2'!$J$67)+(SUMPRODUCT(('Recette phase 2'!$C$89:$C$104='Liste de course'!A5)*('Recette phase 2'!$B$89:$B$104))*'Recette phase 2'!$A$87)+(SUMPRODUCT(('Recette phase 2'!$F$89:$F$104='Liste de course'!A5)*('Recette phase 2'!$E$89:$E$104))*'Recette phase 2'!$D$87)+(SUMPRODUCT(('Recette phase 2'!$I$89:$I$104='Liste de course'!A5)*('Recette phase 2'!$H$89:$H$104))*'Recette phase 2'!$G$87)+(SUMPRODUCT(('Recette phase 2'!$L$89:$L$104='Liste de course'!A5)*('Recette phase 2'!$K$89:$K$104))*'Recette phase 2'!$J$87)+(SUMPRODUCT(('Recette phase 2'!$C$109:$C$119='Liste de course'!A5)*('Recette phase 2'!$B$109:$B$119))*'Recette phase 2'!$A$107)+(SUMPRODUCT(('Recette phase 2'!$F$109:$F$119='Liste de course'!A5)*('Recette phase 2'!$E$109:$E$119))*'Recette phase 2'!$D$107)+(SUMPRODUCT(('Recette phase 2'!$I$109:$I$119='Liste de course'!A5)*('Recette phase 2'!$H$109:$H$119))*'Recette phase 2'!$G$107)+(SUMPRODUCT(('Recette phase 2'!$L$109:$L$119='Liste de course'!A5)*('Recette phase 2'!$K$109:$K$119))*'Recette phase 2'!$J$107)+(SUMPRODUCT(('Recette phase 2'!$C$123:$C$128='Liste de course'!A5)*('Recette phase 2'!$B$123:$B$128))*'Recette phase 2'!$A$121)+(SUMPRODUCT(('Recette phase 2'!$F$123:$F$128='Liste de course'!A5)*('Recette phase 2'!$E$123:$E$128))*'Recette phase 2'!$D$121)+(SUMPRODUCT(('Recette phase 2'!$I$123:$I$128='Liste de course'!A5)*('Recette phase 2'!$H$123:$H$128))*'Recette phase 2'!$G$121)+(SUMPRODUCT(('Recette phase 2'!$L$123:$L$128='Liste de course'!A5)*('Recette phase 2'!$K$123:$K$128))*'Recette phase 2'!$J$121) -> 0 | C5: =(SUMPRODUCT(('Liste de course'!B5)-(Stock!B5))) -> -450 | D5: Banane | E5: =(SUMPRODUCT(('Recette phase 2'!$C$6:$C$15='Liste de course'!D5)*('Recette phase 2'!$B$6:$B$15))*'Recette phase 2'!$A$4)+(SUMPRODUCT(('Recette phase 2'!$F$6:$F$15='Liste de course'!D5)*('Recette phase 2'!$E$6:$E$15))*'Recette phase 2'!$D$4)+(SUMPRODUCT(('Recette phase 2'!$I$6:$I$15='Liste de course'!D5)*('Recette phase 2'!$H$6:$H$15))*'Recette phase 2'!$G$4)+(SUMPRODUCT(('Recette phase 2'!$K$6:$K$15='Liste de course'!D5)*('Recette phase 2'!$K$6:$K$15))*'Recette phase 2'!$J$4)+(SUMPRODUCT(('Recette phase 2'!$O$6:$O$15='Liste de course'!D5)*('Recette phase 2'!$N$6:$N$15))*'Recette phase 2'!$M$4)+(SUMPRODUCT(('Recette phase 2'!$C$19:$C$31='Liste de course'!D5)*('Recette phase 2'!$B$19:$B$31))*'Recette phase 2'!$A$17)+(SUMPRODUCT(('Recette phase 2'!$F$19:$F$31='Liste de course'!D5)*('Recette phase 2'!$E$19:$E$31))*'Recette phase 2'!$D$17)+(SUMPRODUCT(('Recette phase 2'!$I$19:$I$31='Liste de course'!D5)*('Recette phase 2'!$H$19:$H$31))*'Recette phase 2'!$G$17)+(SUMPRODUCT(('Recette phase 2'!$C$36:$C$50='Liste de course'!D5)*('Recette phase 2'!$B$36:$B$50))*'Recette phase 2'!$A$34)+(SUMPRODUCT(('Recette phase 2'!$F$36:$F$50='Liste de course'!D5)*('Recette phase 2'!$E$36:$E$50))*'Recette phase 2'!$D$34)+(SUMPRODUCT(('Recette phase 2'!$I$36:$I$50='Liste de course'!D5)*('Recette phase 2'!$H$36:$H$50))*'Recette phase 2'!$G$34)+(SUMPRODUCT(('Recette phase 2'!$L$36:$L$50='Liste de course'!D5)*('Recette phase 2'!$K$36:$K$50))*'Recette phase 2'!$J$34)+(SUMPRODUCT(('Recette phase 2'!$O$36:$O$50='Liste de course'!D5)*('Recette phase 2'!$N$36:$N$50))*'Recette phase 2'!$M$34)+(SUMPRODUCT(('Recette phase 2'!$C$54:$C$64='Liste de course'!D5)*('Recette phase 2'!$B$54:$B$64))*'Recette phase 2'!$A$52)+(SUMPRODUCT(('Recette phase 2'!$F$54:$F$64='Liste de course'!D5)*('Recette phase 2'!$E$54:$E$64))*'Recette phase 2'!$D$52)+(SUMPRODUCT(('Recette phase 2'!$I$54:$I$64='Liste de course'!D5)*('Recette phase 2'!$H$54:$H$64))*'Recette phase 2'!$G$52)+(SUMPRODUCT(('Recette phase 2'!$L$54:$L$64='Liste de course'!D5)*('Recette phase 2'!$K$54:$K$64))*'Recette phase 2'!$J$52)+(SUMPRODUCT(('Recette phase 2'!$O$54:$O$64='Liste de course'!D5)*('Recette phase 2'!$N$54:$N$64))*'Recette phase 2'!$M$52)+(SUMPRODUCT(('Recette phase 2'!$C$69:$C$85='Liste de course'!D5)*('Recette phase 2'!$B$69:$B$85))*'Recette phase 2'!$A$67)+(SUMPRODUCT(('Recette phase 2'!$F$69:$F$85='Liste de course'!D5)*('Recette phase 2'!$E$69:$E$85))*'Recette phase 2'!$D$67)+(SUMPRODUCT(('Recette phase 2'!$I$69:$I$85='Liste de course'!D5)*('Recette phase 2'!$H$69:$H$85))*'Recette phase 2'!$G$67)+(SUMPRODUCT(('Recette phase 2'!$L$69:$L$85='Liste de course'!D5)*('Recette phase 2'!$K$69:$K$85))*'Recette phase 2'!$J$67)+(SUMPRODUCT(('Recette phase 2'!$C$89:$C$104='Liste de course'!D5)*('Recette phase 2'!$B$89:$B$104))*'Recette phase 2'!$A$87)+(SUMPRODUCT(('Recette phase 2'!$F$89:$F$104='Liste de course'!D5)*('Recette phase 2'!$E$89:$E$104))*'Recette phase 2'!$D$87)+(SUMPRODUCT(('Recette phase 2'!$I$89:$I$104='Liste de course'!D5)*('Recette phase 2'!$H$89:$H$104))*'Recette phase 2'!$G$87)+(SUMPRODUCT(('Recette phase 2'!$L$89:$L$104='Liste de course'!D5)*('Recette phase 2'!$K$89:$K$104))*'Recette phase 2'!$J$87)+(SUMPRODUCT(('Recette phase 2'!$C$109:$C$119='Liste de course'!D5)*('Recette phase 2'!$B$109:$B$119))*'Recette phase 2'!$A$107)+(SUMPRODUCT(('Recette phase 2'!$F$109:$F$119='Liste de course'!D5)*('Recette phase 2'!$E$109:$E$119))*'Recette phase 2'!$D$107)+(SUMPRODUCT(('Recette phase 2'!$I$109:$I$119='Liste de course'!D5)*('Recette phase 2'!$H$109:$H$119))*'Recette phase 2'!$G$107)+(SUMPRODUCT(('Recette phase 2'!$L$109:$L$119='Liste de course'!D5)*('Recette phase 2'!$K$109:$K$119))*'Recette phase 2'!$J$107)+(SUMPRODUCT(('Recette phase 2'!$C$123:$C$128='Liste de course'!D5)*('Recette phase 2'!$B$123:$B$128))*'Recette phase 2'!$A$121)+(SUMPRODUCT(('Recette phase 2'!$F$123:$F$128='Liste de course'!D5)*('Recette phase 2'!$E$123:$E$128))*'Recette phase 2'!$D$121)+(SUMPRODUCT(('Recette phase 2'!$I$123:$I$128='Liste de course'!D5)*('Recette phase 2'!$H$123:$H$128))*'Recette phase 2'!$G$121)+(SUMPRODUCT(('Recette phase 2'!$L$123:$L$128='Liste de course'!D5)*('Recette phase 2'!$K$123:$K$128))*'Recette phase 2'!$J$121) -> 0 | F5: =(SUMPRODUCT(('Liste de course'!E5)-(Stock!D5))) -> 0
A6: Jambon | B6: =(SUMPRODUCT(('Recette phase 2'!$C$6:$C$15='Liste de course'!A6)*('Recette phase 2'!$B$6:$B$15))*'Recette phase 2'!$A$4)+(SUMPRODUCT(('Recette phase 2'!$F$6:$F$15='Liste de course'!A6)*('Recette phase 2'!$E$6:$E$15))*'Recette phase 2'!$D$4)+(SUMPRODUCT(('Recette phase 2'!$I$6:$I$15='Liste de course'!A6)*('Recette phase 2'!$H$6:$H$15))*'Recette phase 2'!$G$4)+(SUMPRODUCT(('Recette phase 2'!$K$6:$K$15='Liste de course'!A6)*('Recette phase 2'!$K$6:$K$15))*'Recette phase 2'!$J$4)+(SUMPRODUCT(('Recette phase 2'!$O$6:$O$15='Liste de course'!A6)*('Recette phase 2'!$N$6:$N$15))*'Recette phase 2'!$M$4)+(SUMPRODUCT(('Recette phase 2'!$C$19:$C$31='Liste de course'!A6)*('Recette phase 2'!$B$19:$B$31))*'Recette phase 2'!$A$17)+(SUMPRODUCT(('Recette phase 2'!$F$19:$F$31='Liste de course'!A6)*('Recette phase 2'!$E$19:$E$31))*'Recette phase 2'!$D$17)+(SUMPRODUCT(('Recette phase 2'!$I$19:$I$31='Liste de course'!A6)*('Recette phase 2'!$H$19:$H$31))*'Recette phase 2'!$G$17)+(SUMPRODUCT(('Recette phase 2'!$C$36:$C$50='Liste de course'!A6)*('Recette phase 2'!$B$36:$B$50))*'Recette phase 2'!$A$34)+(SUMPRODUCT(('Recette phase 2'!$F$36:$F$50='Liste de course'!A6)*('Recette phase 2'!$E$36:$E$50))*'Recette phase 2'!$D$34)+(SUMPRODUCT(('Recette phase 2'!$I$36:$I$50='Liste de course'!A6)*('Recette phase 2'!$H$36:$H$50))*'Recette phase 2'!$G$34)+(SUMPRODUCT(('Recette phase 2'!$L$36:$L$50='Liste de course'!A6)*('Recette phase 2'!$K$36:$K$50))*'Recette phase 2'!$J$34)+(SUMPRODUCT(('Recette phase 2'!$O$36:$O$50='Liste de course'!A6)*('Recette phase 2'!$N$36:$N$50))*'Recette phase 2'!$M$34)+(SUMPRODUCT(('Recette phase 2'!$C$54:$C$64='Liste de course'!A6)*('Recette phase 2'!$B$54:$B$64))*'Recette phase 2'!$A$52)+(SUMPRODUCT(('Recette phase 2'!$F$54:$F$64='Liste de course'!A6)*('Recette phase 2'!$E$54:$E$64))*'Recette phase 2'!$D$52)+(SUMPRODUCT(('Recette phase 2'!$I$54:$I$64='Liste de course'!A6)*('Recette phase 2'!$H$54:$H$64))*'Recette phase 2'!$G$52)+(SUMPRODUCT(('Recette phase 2'!$L$54:$L$64='Liste de course'!A6)*('Recette phase 2'!$K$54:$K$64))*'Recette phase 2'!$J$52)+(SUMPRODUCT(('Recette phase 2'!$O$54:$O$64='Liste de course'!A6)*('Recette phase 2'!$N$54:$N$64))*'Recette phase 2'!$M$52)+(SUMPRODUCT(('Recette phase 2'!$C$69:$C$85='Liste de course'!A6)*('Recette phase 2'!$B$69:$B$85))*'Recette phase 2'!$A$67)+(SUMPRODUCT(('Recette phase 2'!$F$69:$F$85='Liste de course'!A6)*('Recette phase 2'!$E$69:$E$85))*'Recette phase 2'!$D$67)+(SUMPRODUCT(('Recette phase 2'!$I$69:$I$85='Liste de course'!A6)*('Recette phase 2'!$H$69:$H$85))*'Recette phase 2'!$G$67)+(SUMPRODUCT(('Recette phase 2'!$L$69:$L$85='Liste de course'!A6)*('Recette phase 2'!$K$69:$K$85))*'Recette phase 2'!$J$67)+(SUMPRODUCT(('Recette phase 2'!$C$89:$C$104='Liste de course'!A6)*('Recette phase 2'!$B$89:$B$104))*'Recette phase 2'!$A$87)+(SUMPRODUCT(('Recette phase 2'!$F$89:$F$104='Liste de course'!A6)*('Recette phase 2'!$E$89:$E$104))*'Recette phase 2'!$D$87)+(SUMPRODUCT(('Recette phase 2'!$I$89:$I$104='Liste de course'!A6)*('Recette phase 2'!$H$89:$H$104))*'Recette phase 2'!$G$87)+(SUMPRODUCT(('Recette phase 2'!$L$89:$L$104='Liste de course'!A6)*('Recette phase 2'!$K$89:$K$104))*'Recette phase 2'!$J$87)+(SUMPRODUCT(('Recette phase 2'!$C$109:$C$119='Liste de course'!A6)*('Recette phase 2'!$B$109:$B$119))*'Recette phase 2'!$A$107)+(SUMPRODUCT(('Recette phase 2'!$F$109:$F$119='Liste de course'!A6)*('Recette phase 2'!$E$109:$E$119))*'Recette phase 2'!$D$107)+(SUMPRODUCT(('Recette phase 2'!$I$109:$I$119='Liste de course'!A6)*('Recette phase 2'!$H$109:$H$119))*'Recette phase 2'!$G$107)+(SUMPRODUCT(('Recette phase 2'!$L$109:$L$119='Liste de course'!A6)*('Recette phase 2'!$K$109:$K$119))*'Recette phase 2'!$J$107)+(SUMPRODUCT(('Recette phase 2'!$C$123:$C$128='Liste de course'!A6)*('Recette phase 2'!$B$123:$B$128))*'Recette phase 2'!$A$121)+(SUMPRODUCT(('Recette phase 2'!$F$123:$F$128='Liste de course'!A6)*('Recette phase 2'!$E$123:$E$128))*'Recette phase 2'!$D$121)+(SUMPRODUCT(('Recette phase 2'!$I$123:$I$128='Liste de course'!A6)*('Recette phase 2'!$H$123:$H$128))*'Recette phase 2'!$G$121)+(SUMPRODUCT(('Recette phase 2'!$L$123:$L$128='Liste de course'!A6)*('Recette phase 2'!$K$123:$K$128))*'Recette phase 2'!$J$121) -> 0 | C6: =(SUMPRODUCT(('Liste de course'!B6)-(Stock!B6))) -> 0 | D6: Clémentine | E6: =(SUMPRODUCT(('Recette phase 2'!$C$6:$C$15='Liste de course'!D6)*('Recette phase 2'!$B$6:$B$15))*'Recette phase 2'!$A$4)+(SUMPRODUCT(('Recette phase 2'!$F$6:$F$15='Liste de course'!D6)*('Recette phase 2'!$E$6:$E$15))*'Recette phase 2'!$D$4)+(SUMPRODUCT(('Recette phase 2'!$I$6:$I$15='Liste de course'!D6)*('Recette phase 2'!$H$6:$H$15))*'Recette phase 2'!$G$4)+(SUMPRODUCT(('Recette phase 2'!$K$6:$K$15='Liste de course'!D6)*('Recette phase 2'!$K$6:$K$15))*'Recette phase 2'!$J$4)+(SUMPRODUCT(('Recette phase 2'!$O$6:$O$15='Liste de course'!D6)*('Recette phase 2'!$N$6:$N$15))*'Recette phase 2'!$M$4)+(SUMPRODUCT(('Recette phase 2'!$C$19:$C$31='Liste de course'!D6)*('Recette phase 2'!$B$19:$B$31))*'Recette phase 2'!$A$17)+(SUMPRODUCT(('Recette phase 2'!$F$19:$F$31='Liste de course'!D6)*('Recette phase 2'!$E$19:$E$31))*'Recette phase 2'!$D$17)+(SUMPRODUCT(('Recette phase 2'!$I$19:$I$31='Liste de course'!D6)*('Recette phase 2'!$H$19:$H$31))*'Recette phase 2'!$G$17)+(SUMPRODUCT(('Recette phase 2'!$C$36:$C$50='Liste de course'!D6)*('Recette phase 2'!$B$36:$B$50))*'Recette phase 2'!$A$34)+(SUMPRODUCT(('Recette phase 2'!$F$36:$F$50='Liste de course'!D6)*('Recette phase 2'!$E$36:$E$50))*'Recette phase 2'!$D$34)+(SUMPRODUCT(('Recette phase 2'!$I$36:$I$50='Liste de course'!D6)*('Recette phase 2'!$H$36:$H$50))*'Recette phase 2'!$G$34)+(SUMPRODUCT(('Recette phase 2'!$L$36:$L$50='Liste de course'!D6)*('Recette phase 2'!$K$36:$K$50))*'Recette phase 2'!$J$34)+(SUMPRODUCT(('Recette phase 2'!$O$36:$O$50='Liste de course'!D6)*('Recette phase 2'!$N$36:$N$50))*'Recette phase 2'!$M$34)+(SUMPRODUCT(('Recette phase 2'!$C$54:$C$64='Liste de course'!D6)*('Recette phase 2'!$B$54:$B$64))*'Recette phase 2'!$A$52)+(SUMPRODUCT(('Recette phase 2'!$F$54:$F$64='Liste de course'!D6)*('Recette phase 2'!$E$54:$E$64))*'Recette phase 2'!$D$52)+(SUMPRODUCT(('Recette phase 2'!$I$54:$I$64='Liste de course'!D6)*('Recette phase 2'!$H$54:$H$64))*'Recette phase 2'!$G$52)+(SUMPRODUCT(('Recette phase 2'!$L$54:$L$64='Liste de course'!D6)*('Recette phase 2'!$K$54:$K$64))*'Recette phase 2'!$J$52)+(SUMPRODUCT(('Recette phase 2'!$O$54:$O$64='Liste de course'!D6)*('Recette phase 2'!$N$54:$N$64))*'Recette phase 2'!$M$52)+(SUMPRODUCT(('Recette phase 2'!$C$69:$C$85='Liste de course'!D6)*('Recette phase 2'!$B$69:$B$85))*'Recette phase 2'!$A$67)+(SUMPRODUCT(('Recette phase 2'!$F$69:$F$85='Liste de course'!D6)*('Recette phase 2'!$E$69:$E$85))*'Recette phase 2'!$D$67)+(SUMPRODUCT(('Recette phase 2'!$I$69:$I$85='Liste de course'!D6)*('Recette phase 2'!$H$69:$H$85))*'Recette phase 2'!$G$67)+(SUMPRODUCT(('Recette phase 2'!$L$69:$L$85='Liste de course'!D6)*('Recette phase 2'!$K$69:$K$85))*'Recette phase 2'!$J$67)+(SUMPRODUCT(('Recette phase 2'!$C$89:$C$104='Liste de course'!D6)*('Recette phase 2'!$B$89:$B$104))*'Recette phase 2'!$A$87)+(SUMPRODUCT(('Recette phase 2'!$F$89:$F$104='Liste de course'!D6)*('Recette phase 2'!$E$89:$E$104))*'Recette phase 2'!$D$87)+(SUMPRODUCT(('Recette phase 2'!$I$89:$I$104='Liste de course'!D6)*('Recette phase 2'!$H$89:$H$104))*'Recette phase 2'!$G$87)+(SUMPRODUCT(('Recette phase 2'!$L$89:$L$104='Liste de course'!D6)*('Recette phase 2'!$K$89:$K$104))*'Recette phase 2'!$J$87)+(SUMPRODUCT(('Recette phase 2'!$C$109:$C$119='Liste de course'!D6)*('Recette phase 2'!$B$109:$B$119))*'Recette phase 2'!$A$107)+(SUMPRODUCT(('Recette phase 2'!$F$109:$F$119='Liste de course'!D6)*('Recette phase 2'!$E$109:$E$119))*'Recette phase 2'!$D$107)+(SUMPRODUCT(('Recette phase 2'!$I$109:$I$119='Liste de course'!D6)*('Recette phase 2'!$H$109:$H$119))*'Recette phase 2'!$G$107)+(SUMPRODUCT(('Recette phase 2'!$L$109:$L$119='Liste de course'!D6)*('Recette phase 2'!$K$109:$K$119))*'Recette phase 2'!$J$107)+(SUMPRODUCT(('Recette phase 2'!$C$123:$C$128='Liste de course'!D6)*('Recette phase 2'!$B$123:$B$128))*'Recette phase 2'!$A$121)+(SUMPRODUCT(('Recette phase 2'!$F$123:$F$128='Liste de course'!D6)*('Recette phase 2'!$E$123:$E$128))*'Recette phase 2'!$D$121)+(SUMPRODUCT(('Recette phase 2'!$I$123:$I$128='Liste de course'!D6)*('Recette phase 2'!$H$123:$H$128))*'Recette phase 2'!$G$121)+(SUMPRODUCT(('Recette phase 2'!$L$123:$L$128='Liste de course'!D6)*('Recette phase 2'!$K$123:$K$128))*'Recette phase 2'!$J$121) -> 0 | F6: =(SUMPRODUCT(('Liste de course'!E6)-(Stock!D6))) -> 0
A7: Lait d'amande | B7: =(SUMPRODUCT(('Recette phase 2'!$C$6:$C$15='Liste de course'!A7)*('Recette phase 2'!$B$6:$B$15))*'Recette phase 2'!$A$4)+(SUMPRODUCT(('Recette phase 2'!$F$6:$F$15='Liste de course'!A7)*('Recette phase 2'!$E$6:$E$15))*'Recette phase 2'!$D$4)+(SUMPRODUCT(('Recette phase 2'!$I$6:$I$15='Liste de course'!A7)*('Recette phase 2'!$H$6:$H$15))*'Recette phase 2'!$G$4)+(SUMPRODUCT(('Recette phase 2'!$K$6:$K$15='Liste de course'!A7)*('Recette phase 2'!$K$6:$K$15))*'Recette phase 2'!$J$4)+(SUMPRODUCT(('Recette phase 2'!$O$6:$O$15='Liste de course'!A7)*('Recette phase 2'!$N$6:$N$15))*'Recette phase 2'!$M$4)+(SUMPRODUCT(('Recette phase 2'!$C$19:$C$31='Liste de course'!A7)*('Recette phase 2'!$B$19:$B$31))*'Recette phase 2'!$A$17)+(SUMPRODUCT(('Recette phase 2'!$F$19:$F$31='Liste de course'!A7)*('Recette phase 2'!$E$19:$E$31))*'Recette phase 2'!$D$17)+(SUMPRODUCT(('Recette phase 2'!$I$19:$I$31='Liste de course'!A7)*('Recette phase 2'!$H$19:$H$31))*'Recette phase 2'!$G$17)+(SUMPRODUCT(('Recette phase 2'!$C$36:$C$50='Liste de course'!A7)*('Recette phase 2'!$B$36:$B$50))*'Recette phase 2'!$A$34)+(SUMPRODUCT(('Recette phase 2'!$F$36:$F$50='Liste de course'!A7)*('Recette phase 2'!$E$36:$E$50))*'Recette phase 2'!$D$34)+(SUMPRODUCT(('Recette phase 2'!$I$36:$I$50='Liste de course'!A7)*('Recette phase 2'!$H$36:$H$50))*'Recette phase 2'!$G$34)+(SUMPRODUCT(('Recette phase 2'!$L$36:$L$50='Liste de course'!A7)*('Recette phase 2'!$K$36:$K$50))*'Recette phase 2'!$J$34)+(SUMPRODUCT(('Recette phase 2'!$O$36:$O$50='Liste de course'!A7)*('Recette phase 2'!$N$36:$N$50))*'Recette phase 2'!$M$34)+(SUMPRODUCT(('Recette phase 2'!$C$54:$C$64='Liste de course'!A7)*('Recette phase 2'!$B$54:$B$64))*'Recette phase 2'!$A$52)+(SUMPRODUCT(('Recette phase 2'!$F$54:$F$64='Liste de course'!A7)*('Recette phase 2'!$E$54:$E$64))*'Recette phase 2'!$D$52)+(SUMPRODUCT(('Recette phase 2'!$I$54:$I$64='Liste de course'!A7)*('Recette phase 2'!$H$54:$H$64))*'Recette phase 2'!$G$52)+(SUMPRODUCT(('Recette phase 2'!$L$54:$L$64='Liste de course'!A7)*('Recette phase 2'!$K$54:$K$64))*'Recette phase 2'!$J$52)+(SUMPRODUCT(('Recette phase 2'!$O$54:$O$64='Liste de course'!A7)*('Recette phase 2'!$N$54:$N$64))*'Recette phase 2'!$M$52)+(SUMPRODUCT(('Recette phase 2'!$C$69:$C$85='Liste de course'!A7)*('Recette phase 2'!$B$69:$B$85))*'Recette phase 2'!$A$67)+(SUMPRODUCT(('Recette phase 2'!$F$69:$F$85='Liste de course'!A7)*('Recette phase 2'!$E$69:$E$85))*'Recette phase 2'!$D$67)+(SUMPRODUCT(('Recette phase 2'!$I$69:$I$85='Liste de course'!A7)*('Recette phase 2'!$H$69:$H$85))*'Recette phase 2'!$G$67)+(SUMPRODUCT(('Recette phase 2'!$L$69:$L$85='Liste de course'!A7)*('Recette phase 2'!$K$69:$K$85))*'Recette phase 2'!$J$67)+(SUMPRODUCT(('Recette phase 2'!$C$89:$C$104='Liste de course'!A7)*('Recette phase 2'!$B$89:$B$104))*'Recette phase 2'!$A$87)+(SUMPRODUCT(('Recette phase 2'!$F$89:$F$104='Liste de course'!A7)*('Recette phase 2'!$E$89:$E$104))*'Recette phase 2'!$D$87)+(SUMPRODUCT(('Recette phase 2'!$I$89:$I$104='Liste de course'!A7)*('Recette phase 2'!$H$89:$H$104))*'Recette phase 2'!$G$87)+(SUMPRODUCT(('Recette phase 2'!$L$89:$L$104='Liste de course'!A7)*('Recette phase 2'!$K$89:$K$104))*'Recette phase 2'!$J$87)+(SUMPRODUCT(('Recette phase 2'!$C$109:$C$119='Liste de course'!A7)*('Recette phase 2'!$B$109:$B$119))*'Recette phase 2'!$A$107)+(SUMPRODUCT(('Recette phase 2'!$F$109:$F$119='Liste de course'!A7)*('Recette phase 2'!$E$109:$E$119))*'Recette phase 2'!$D$107)+(SUMPRODUCT(('Recette phase 2'!$I$109:$I$119='Liste de course'!A7)*('Recette phase 2'!$H$109:$H$119))*'Recette phase 2'!$G$107)+(SUMPRODUCT(('Recette phase 2'!$L$109:$L$119='Liste de course'!A7)*('Recette phase 2'!$K$109:$K$119))*'Recette phase 2'!$J$107)+(SUMPRODUCT(('Recette phase 2'!$C$123:$C$128='Liste de course'!A7)*('Recette phase 2'!$B$123:$B$128))*'Recette phase 2'!$A$121)+(SUMPRODUCT(('Recette phase 2'!$F$123:$F$128='Liste de course'!A7)*('Recette phase 2'!$E$123:$E$128))*'Recette phase 2'!$D$121)+(SUMPRODUCT(('Recette phase 2'!$I$123:$I$128='Liste de course'!A7)*('Recette phase 2'!$H$123:$H$128))*'Recette phase 2'!$G$121)+(SUMPRODUCT(('Recette phase 2'!$L$123:$L$128='Liste de course'!A7)*('Recette phase 2'!$K$123:$K$128))*'Recette phase 2'!$J$121) -> 0 | C7: =(SUMPRODUCT(('Liste de course'!B7)-(Stock!B7))) -> -1378 | D7: Graines de lin | E7: =(SUMPRODUCT(('Recette phase 2'!$C$6:$C$15='Liste de course'!D7)*('Recette phase 2'!$B$6:$B$15))*'Recette phase 2'!$A$4)+(SUMPRODUCT(('Recette phase 2'!$F$6:$F$15='Liste de course'!D7)*('Recette phase 2'!$E$6:$E$15))*'Recette phase 2'!$D$4)+(SUMPRODUCT(('Recette phase 2'!$I$6:$I$15='Liste de course'!D7)*('Recette phase 2'!$H$6:$H$15))*'Recette phase 2'!$G$4)+(SUMPRODUCT(('Recette phase 2'!$K$6:$K$15='Liste de course'!D7)*('Recette phase 2'!$K$6:$K$15))*'Recette phase 2'!$J$4)+(SUMPRODUCT(('Recette phase 2'!$O$6:$O$15='Liste de course'!D7)*('Recette phase 2'!$N$6:$N$15))*'Recette phase 2'!$M$4)+(SUMPRODUCT(('Recette phase 2'!$C$19:$C$31='Liste de course'!D7)*('Recette phase 2'!$B$19:$B$31))*'Recette phase 2'!$A$17)+(SUMPRODUCT(('Recette phase 2'!$F$19:$F$31='Liste de course'!D7)*('Recette phase 2'!$E$19:$E$31))*'Recette phase 2'!$D$17)+(SUMPRODUCT(('Recette phase 2'!$I$19:$I$31='Liste de course'!D7)*('Recette phase 2'!$H$19:$H$31))*'Recette phase 2'!$G$17)+(SUMPRODUCT(('Recette phase 2'!$C$36:$C$50='Liste de course'!D7)*('Recette phase 2'!$B$36:$B$50))*'Recette phase 2'!$A$34)+(SUMPRODUCT(('Recette phase 2'!$F$36:$F$50='Liste de course'!D7)*('Recette phase 2'!$E$36:$E$50))*'Recette phase 2'!$D$34)+(SUMPRODUCT(('Recette phase 2'!$I$36:$I$50='Liste de course'!D7)*('Recette phase 2'!$H$36:$H$50))*'Recette phase 2'!$G$34)+(SUMPRODUCT(('Recette phase 2'!$L$36:$L$50='Liste de course'!D7)*('Recette phase 2'!$K$36:$K$50))*'Recette phase 2'!$J$34)+(SUMPRODUCT(('Recette phase 2'!$O$36:$O$50='Liste de course'!D7)*('Recette phase 2'!$N$36:$N$50))*'Recette phase 2'!$M$34)+(SUMPRODUCT(('Recette phase 2'!$C$54:$C$64='Liste de course'!D7)*('Recette phase 2'!$B$54:$B$64))*'Recette phase 2'!$A$52)+(SUMPRODUCT(('Recette phase 2'!$F$54:$F$64='Liste de course'!D7)*('Recette phase 2'!$E$54:$E$64))*'Recette phase 2'!$D$52)+(SUMPRODUCT(('Recette phase 2'!$I$54:$I$64='Liste de course'!D7)*('Recette phase 2'!$H$54:$H$64))*'Recette phase 2'!$G$52)+(SUMPRODUCT(('Recette phase 2'!$L$54:$L$64='Liste de course'!D7)*('Recette phase 2'!$K$54:$K$64))*'Recette phase 2'!$J$52)+(SUMPRODUCT(('Recette phase 2'!$O$54:$O$64='Liste de course'!D7)*('Recette phase 2'!$N$54:$N$64))*'Recette phase 2'!$M$52)+(SUMPRODUCT(('Recette phase 2'!$C$69:$C$85='Liste de course'!D7)*('Recette phase 2'!$B$69:$B$85))*'Recette phase 2'!$A$67)+(SUMPRODUCT(('Recette phase 2'!$F$69:$F$85='Liste de course'!D7)*('Recette phase 2'!$E$69:$E$85))*'Recette phase 2'!$D$67)+(SUMPRODUCT(('Recette phase 2'!$I$69:$I$85='Liste de course'!D7)*('Recette phase 2'!$H$69:$H$85))*'Recette phase 2'!$G$67)+(SUMPRODUCT(('Recette phase 2'!$L$69:$L$85='Liste de course'!D7)*('Recette phase 2'!$K$69:$K$85))*'Recette phase 2'!$J$67)+(SUMPRODUCT(('Recette phase 2'!$C$89:$C$104='Liste de course'!D7)*('Recette phase 2'!$B$89:$B$104))*'Recette phase 2'!$A$87)+(SUMPRODUCT(('Recette phase 2'!$F$89:$F$104='Liste de course'!D7)*('Recette phase 2'!$E$89:$E$104))*'Recette phase 2'!$D$87)+(SUMPRODUCT(('Recette phase 2'!$I$89:$I$104='Liste de course'!D7)*('Recette phase 2'!$H$89:$H$104))*'Recette phase 2'!$G$87)+(SUMPRODUCT(('Recette phase 2'!$L$89:$L$104='Liste de course'!D7)*('Recette phase 2'!$K$89:$K$104))*'Recette phase 2'!$J$87)+(SUMPRODUCT(('Recette phase 2'!$C$109:$C$119='Liste de course'!D7)*('Recette phase 2'!$B$109:$B$119))*'Recette phase 2'!$A$107)+(SUMPRODUCT(('Recette phase 2'!$F$109:$F$119='Liste de course'!D7)*('Recette phase 2'!$E$109:$E$119))*'Recette phase 2'!$D$107)+(SUMPRODUCT(('Recette phase 2'!$I$109:$I$119='Liste de course'!D7)*('Recette phase 2'!$H$109:$H$119))*'Recette phase 2'!$G$107)+(SUMPRODUCT(('Recette phase 2'!$L$109:$L$119='Liste de course'!D7)*('Recette phase 2'!$K$109:$K$119))*'Recette phase 2'!$J$107)+(SUMPRODUCT(('Recette phase 2'!$C$123:$C$128='Liste de course'!D7)*('Recette phase 2'!$B$123:$B$128))*'Recette phase 2'!$A$121)+(SUMPRODUCT(('Recette phase 2'!$F$123:$F$128='Liste de course'!D7)*('Recette phase 2'!$E$123:$E$128))*'Recette phase 2'!$D$121)+(SUMPRODUCT(('Recette phase 2'!$I$123:$I$128='Liste de course'!D7)*('Recette phase 2'!$H$123:$H$128))*'Recette phase 2'!$G$121)+(SUMPRODUCT(('Recette phase 2'!$L$123:$L$128='Liste de course'!D7)*('Recette phase 2'!$K$123:$K$128))*'Recette phase 2'!$J$121) -> 0 | F7: =(SUMPRODUCT(('Liste de course'!E7)-(Stock!D7))) -> 0
A8: Œufs | B8: =(SUMPRODUCT(('Recette phase 2'!$C$6:$C$15='Liste de course'!A8)*('Recette phase 2'!$B$6:$B$15))*'Recette phase 2'!$A$4)+(SUMPRODUCT(('Recette phase 2'!$F$6:$F$15='Liste de course'!A8)*('Recette phase 2'!$E$6:$E$15))*'Recette phase 2'!$D$4)+(SUMPRODUCT(('Recette phase 2'!$I$6:$I$15='Liste de course'!A8)*('Recette phase 2'!$H$6:$H$15))*'Recette phase 2'!$G$4)+(SUMPRODUCT(('Recette phase 2'!$K$6:$K$15='Liste de course'!A8)*('Recette phase 2'!$K$6:$K$15))*'Recette phase 2'!$J$4)+(SUMPRODUCT(('Recette phase 2'!$O$6:$O$15='Liste de course'!A8)*('Recette phase 2'!$N$6:$N$15))*'Recette phase 2'!$M$4)+(SUMPRODUCT(('Recette phase 2'!$C$19:$C$31='Liste de course'!A8)*('Recette phase 2'!$B$19:$B$31))*'Recette phase 2'!$A$17)+(SUMPRODUCT(('Recette phase 2'!$F$19:$F$31='Liste de course'!A8)*('Recette phase 2'!$E$19:$E$31))*'Recette phase 2'!$D$17)+(SUMPRODUCT(('Recette phase 2'!$I$19:$I$31='Liste de course'!A8)*('Recette phase 2'!$H$19:$H$31))*'Recette phase 2'!$G$17)+(SUMPRODUCT(('Recette phase 2'!$C$36:$C$50='Liste de course'!A8)*('Recette phase 2'!$B$36:$B$50))*'Recette phase 2'!$A$34)+(SUMPRODUCT(('Recette phase 2'!$F$36:$F$50='Liste de course'!A8)*('Recette phase 2'!$E$36:$E$50))*'Recette phase 2'!$D$34)+(SUMPRODUCT(('Recette phase 2'!$I$36:$I$50='Liste de course'!A8)*('Recette phase 2'!$H$36:$H$50))*'Recette phase 2'!$G$34)+(SUMPRODUCT(('Recette phase 2'!$L$36:$L$50='Liste de course'!A8)*('Recette phase 2'!$K$36:$K$50))*'Recette phase 2'!$J$34)+(SUMPRODUCT(('Recette phase 2'!$O$36:$O$50='Liste de course'!A8)*('Recette phase 2'!$N$36:$N$50))*'Recette phase 2'!$M$34)+(SUMPRODUCT(('Recette phase 2'!$C$54:$C$64='Liste de course'!A8)*('Recette phase 2'!$B$54:$B$64))*'Recette phase 2'!$A$52)+(SUMPRODUCT(('Recette phase 2'!$F$54:$F$64='Liste de course'!A8)*('Recette phase 2'!$E$54:$E$64))*'Recette phase 2'!$D$52)+(SUMPRODUCT(('Recette phase 2'!$I$54:$I$64='Liste de course'!A8)*('Recette phase 2'!$H$54:$H$64))*'Recette phase 2'!$G$52)+(SUMPRODUCT(('Recette phase 2'!$L$54:$L$64='Liste de course'!A8)*('Recette phase 2'!$K$54:$K$64))*'Recette phase 2'!$J$52)+(SUMPRODUCT(('Recette phase 2'!$O$54:$O$64='Liste de course'!A8)*('Recette phase 2'!$N$54:$N$64))*'Recette phase 2'!$M$52)+(SUMPRODUCT(('Recette phase 2'!$C$69:$C$85='Liste de course'!A8)*('Recette phase 2'!$B$69:$B$85))*'Recette phase 2'!$A$67)+(SUMPRODUCT(('Recette phase 2'!$F$69:$F$85='Liste de course'!A8)*('Recette phase 2'!$E$69:$E$85))*'Recette phase 2'!$D$67)+(SUMPRODUCT(('Recette phase 2'!$I$69:$I$85='Liste de course'!A8)*('Recette phase 2'!$H$69:$H$85))*'Recette phase 2'!$G$67)+(SUMPRODUCT(('Recette phase 2'!$L$69:$L$85='Liste de course'!A8)*('Recette phase 2'!$K$69:$K$85))*'Recette phase 2'!$J$67)+(SUMPRODUCT(('Recette phase 2'!$C$89:$C$104='Liste de course'!A8)*('Recette phase 2'!$B$89:$B$104))*'Recette phase 2'!$A$87)+(SUMPRODUCT(('Recette phase 2'!$F$89:$F$104='Liste de course'!A8)*('Recette phase 2'!$E$89:$E$104))*'Recette phase 2'!$D$87)+(SUMPRODUCT(('Recette phase 2'!$I$89:$I$104='Liste de course'!A8)*('Recette phase 2'!$H$89:$H$104))*'Recette phase 2'!$G$87)+(SUMPRODUCT(('Recette phase 2'!$L$89:$L$104='Liste de course'!A8)*('Recette phase 2'!$K$89:$K$104))*'Recette phase 2'!$J$87)+(SUMPRODUCT(('Recette phase 2'!$C$109:$C$119='Liste de course'!A8)*('Recette phase 2'!$B$109:$B$119))*'Recette phase 2'!$A$107)+(SUMPRODUCT(('Recette phase 2'!$F$109:$F$119='Liste de course'!A8)*('Recette phase 2'!$E$109:$E$119))*'Recette phase 2'!$D$107)+(SUMPRODUCT(('Recette phase 2'!$I$109:$I$119='Liste de course'!A8)*('Recette phase 2'!$H$109:$H$119))*'Recette phase 2'!$G$107)+(SUMPRODUCT(('Recette phase 2'!$L$109:$L$119='Liste de course'!A8)*('Recette phase 2'!$K$109:$K$119))*'Recette phase 2'!$J$107)+(SUMPRODUCT(('Recette phase 2'!$C$123:$C$128='Liste de course'!A8)*('Recette phase 2'!$B$123:$B$128))*'Recette phase 2'!$A$121)+(SUMPRODUCT(('Recette phase 2'!$F$123:$F$128='Liste de course'!A8)*('Recette phase 2'!$E$123:$E$128))*'Recette phase 2'!$D$121)+(SUMPRODUCT(('Recette phase 2'!$I$123:$I$128='Liste de course'!A8)*('Recette phase 2'!$H$123:$H$128))*'Recette phase 2'!$G$121)+(SUMPRODUCT(('Recette phase 2'!$L$123:$L$128='Liste de course'!A8)*('Recette phase 2'!$K$123:$K$128))*'Recette phase 2'!$J$121) -> 0 | C8: =(SUMPRODUCT(('Liste de course'!B8)-(Stock!B8))) -> -1 | D8: kiwi | E8: =(SUMPRODUCT(('Recette phase 2'!$C$6:$C$15='Liste de course'!D8)*('Recette phase 2'!$B$6:$B$15))*'Recette phase 2'!$A$4)+(SUMPRODUCT(('Recette phase 2'!$F$6:$F$15='Liste de course'!D8)*('Recette phase 2'!$E$6:$E$15))*'Recette phase 2'!$D$4)+(SUMPRODUCT(('Recette phase 2'!$I$6:$I$15='Liste de course'!D8)*('Recette phase 2'!$H$6:$H$15))*'Recette phase 2'!$G$4)+(SUMPRODUCT(('Recette phase 2'!$K$6:$K$15='Liste de course'!D8)*('Recette phase 2'!$K$6:$K$15))*'Recette phase 2'!$J$4)+(SUMPRODUCT(('Recette phase 2'!$O$6:$O$15='Liste de course'!D8)*('Recette phase 2'!$N$6:$N$15))*'Recette phase 2'!$M$4)+(SUMPRODUCT(('Recette phase 2'!$C$19:$C$31='Liste de course'!D8)*('Recette phase 2'!$B$19:$B$31))*'Recette phase 2'!$A$17)+(SUMPRODUCT(('Recette phase 2'!$F$19:$F$31='Liste de course'!D8)*('Recette phase 2'!$E$19:$E$31))*'Recette phase 2'!$D$17)+(SUMPRODUCT(('Recette phase 2'!$I$19:$I$31='Liste de course'!D8)*('Recette phase 2'!$H$19:$H$31))*'Recette phase 2'!$G$17)+(SUMPRODUCT(('Recette phase 2'!$C$36:$C$50='Liste de course'!D8)*('Recette phase 2'!$B$36:$B$50))*'Recette phase 2'!$A$34)+(SUMPRODUCT(('Recette phase 2'!$F$36:$F$50='Liste de course'!D8)*('Recette phase 2'!$E$36:$E$50))*'Recette phase 2'!$D$34)+(SUMPRODUCT(('Recette phase 2'!$I$36:$I$50='Liste de course'!D8)*('Recette phase 2'!$H$36:$H$50))*'Recette phase 2'!$G$34)+(SUMPRODUCT(('Recette phase 2'!$L$36:$L$50='Liste de course'!D8)*('Recette phase 2'!$K$36:$K$50))*'Recette phase 2'!$J$34)+(SUMPRODUCT(('Recette phase 2'!$O$36:$O$50='Liste de course'!D8)*('Recette phase 2'!$N$36:$N$50))*'Recette phase 2'!$M$34)+(SUMPRODUCT(('Recette phase 2'!$C$54:$C$64='Liste de course'!D8)*('Recette phase 2'!$B$54:$B$64))*'Recette phase 2'!$A$52)+(SUMPRODUCT(('Recette phase 2'!$F$54:$F$64='Liste de course'!D8)*('Recette phase 2'!$E$54:$E$64))*'Recette phase 2'!$D$52)+(SUMPRODUCT(('Recette phase 2'!$I$54:$I$64='Liste de course'!D8)*('Recette phase 2'!$H$54:$H$64))*'Recette phase 2'!$G$52)+(SUMPRODUCT(('Recette phase 2'!$L$54:$L$64='Liste de course'!D8)*('Recette phase 2'!$K$54:$K$64))*'Recette phase 2'!$J$52)+(SUMPRODUCT(('Recette phase 2'!$O$54:$O$64='Liste de course'!D8)*('Recette phase 2'!$N$54:$N$64))*'Recette phase 2'!$M$52)+(SUMPRODUCT(('Recette phase 2'!$C$69:$C$85='Liste de course'!D8)*('Recette phase 2'!$B$69:$B$85))*'Recette phase 2'!$A$67)+(SUMPRODUCT(('Recette phase 2'!$F$69:$F$85='Liste de course'!D8)*('Recette phase 2'!$E$69:$E$85))*'Recette phase 2'!$D$67)+(SUMPRODUCT(('Recette phase 2'!$I$69:$I$85='Liste de course'!D8)*('Recette phase 2'!$H$69:$H$85))*'Recette phase 2'!$G$67)+(SUMPRODUCT(('Recette phase 2'!$L$69:$L$85='Liste de course'!D8)*('Recette phase 2'!$K$69:$K$85))*'Recette phase 2'!$J$67)+(SUMPRODUCT(('Recette phase 2'!$C$89:$C$104='Liste de course'!D8)*('Recette phase 2'!$B$89:$B$104))*'Recette phase 2'!$A$87)+(SUMPRODUCT(('Recette phase 2'!$F$89:$F$104='Liste de course'!D8)*('Recette phase 2'!$E$89:$E$104))*'Recette phase 2'!$D$87)+(SUMPRODUCT(('Recette phase 2'!$I$89:$I$104='Liste de course'!D8)*('Recette phase 2'!$H$89:$H$104))*'Recette phase 2'!$G$87)+(SUMPRODUCT(('Recette phase 2'!$L$89:$L$104='Liste de course'!D8)*('Recette phase 2'!$K$89:$K$104))*'Recette phase 2'!$J$87)+(SUMPRODUCT(('Recette phase 2'!$C$109:$C$119='Liste de course'!D8)*('Recette phase 2'!$B$109:$B$119))*'Recette phase 2'!$A$107)+(SUMPRODUCT(('Recette phase 2'!$F$109:$F$119='Liste de course'!D8)*('Recette phase 2'!$E$109:$E$119))*'Recette phase 2'!$D$107)+(SUMPRODUCT(('Recette phase 2'!$I$109:$I$119='Liste de course'!D8)*('Recette phase 2'!$H$109:$H$119))*'Recette phase 2'!$G$107)+(SUMPRODUCT(('Recette phase 2'!$L$109:$L$119='Liste de course'!D8)*('Recette phase 2'!$K$109:$K$119))*'Recette phase 2'!$J$107)+(SUMPRODUCT(('Recette phase 2'!$C$123:$C$128='Liste de course'!D8)*('Recette phase 2'!$B$123:$B$128))*'Recette phase 2'!$A$121)+(SUMPRODUCT(('Recette phase 2'!$F$123:$F$128='Liste de course'!D8)*('Recette phase 2'!$E$123:$E$128))*'Recette phase 2'!$D$121)+(SUMPRODUCT(('Recette phase 2'!$I$123:$I$128='Liste de course'!D8)*('Recette phase 2'!$H$123:$H$128))*'Recette phase 2'!$G$121)+(SUMPRODUCT(('Recette phase 2'!$L$123:$L$128='Liste de course'!D8)*('Recette phase 2'!$K$123:$K$128))*'Recette phase 2'!$J$121) -> 0 | F8: =(SUMPRODUCT(('Liste de course'!E8)-(Stock!D8))) -> 0
A9: Yaourt à la Grec | B9: =(SUMPRODUCT(('Recette phase 2'!$C$6:$C$15='Liste de course'!A9)*('Recette phase 2'!$B$6:$B$15))*'Recette phase 2'!$A$4)+(SUMPRODUCT(('Recette phase 2'!$F$6:$F$15='Liste de course'!A9)*('Recette phase 2'!$E$6:$E$15))*'Recette phase 2'!$D$4)+(SUMPRODUCT(('Recette phase 2'!$I$6:$I$15='Liste de course'!A9)*('Recette phase 2'!$H$6:$H$15))*'Recette phase 2'!$G$4)+(SUMPRODUCT(('Recette phase 2'!$K$6:$K$15='Liste de course'!A9)*('Recette phase 2'!$K$6:$K$15))*'Recette phase 2'!$J$4)+(SUMPRODUCT(('Recette phase 2'!$O$6:$O$15='Liste de course'!A9)*('Recette phase 2'!$N$6:$N$15))*'Recette phase 2'!$M$4)+(SUMPRODUCT(('Recette phase 2'!$C$19:$C$31='Liste de course'!A9)*('Recette phase 2'!$B$19:$B$31))*'Recette phase 2'!$A$17)+(SUMPRODUCT(('Recette phase 2'!$F$19:$F$31='Liste de course'!A9)*('Recette phase 2'!$E$19:$E$31))*'Recette phase 2'!$D$17)+(SUMPRODUCT(('Recette phase 2'!$I$19:$I$31='Liste de course'!A9)*('Recette phase 2'!$H$19:$H$31))*'Recette phase 2'!$G$17)+(SUMPRODUCT(('Recette phase 2'!$C$36:$C$50='Liste de course'!A9)*('Recette phase 2'!$B$36:$B$50))*'Recette phase 2'!$A$34)+(SUMPRODUCT(('Recette phase 2'!$F$36:$F$50='Liste de course'!A9)*('Recette phase 2'!$E$36:$E$50))*'Recette phase 2'!$D$34)+(SUMPRODUCT(('Recette phase 2'!$I$36:$I$50='Liste de course'!A9)*('Recette phase 2'!$H$36:$H$50))*'Recette phase 2'!$G$34)+(SUMPRODUCT(('Recette phase 2'!$L$36:$L$50='Liste de course'!A9)*('Recette phase 2'!$K$36:$K$50))*'Recette phase 2'!$J$34)+(SUMPRODUCT(('Recette phase 2'!$O$36:$O$50='Liste de course'!A9)*('Recette phase 2'!$N$36:$N$50))*'Recette phase 2'!$M$34)+(SUMPRODUCT(('Recette phase 2'!$C$54:$C$64='Liste de course'!A9)*('Recette phase 2'!$B$54:$B$64))*'Recette phase 2'!$A$52)+(SUMPRODUCT(('Recette phase 2'!$F$54:$F$64='Liste de course'!A9)*('Recette phase 2'!$E$54:$E$64))*'Recette phase 2'!$D$52)+(SUMPRODUCT(('Recette phase 2'!$I$54:$I$64='Liste de course'!A9)*('Recette phase 2'!$H$54:$H$64))*'Recette phase 2'!$G$52)+(SUMPRODUCT(('Recette phase 2'!$L$54:$L$64='Liste de course'!A9)*('Recette phase 2'!$K$54:$K$64))*'Recette phase 2'!$J$52)+(SUMPRODUCT(('Recette phase 2'!$O$54:$O$64='Liste de course'!A9)*('Recette phase 2'!$N$54:$N$64))*'Recette phase 2'!$M$52)+(SUMPRODUCT(('Recette phase 2'!$C$69:$C$85='Liste de course'!A9)*('Recette phase 2'!$B$69:$B$85))*'Recette phase 2'!$A$67)+(SUMPRODUCT(('Recette phase 2'!$F$69:$F$85='Liste de course'!A9)*('Recette phase 2'!$E$69:$E$85))*'Recette phase 2'!$D$67)+(SUMPRODUCT(('Recette phase 2'!$I$69:$I$85='Liste de course'!A9)*('Recette phase 2'!$H$69:$H$85))*'Recette phase 2'!$G$67)+(SUMPRODUCT(('Recette phase 2'!$L$69:$L$85='Liste de course'!A9)*('Recette phase 2'!$K$69:$K$85))*'Recette phase 2'!$J$67)+(SUMPRODUCT(('Recette phase 2'!$C$89:$C$104='Liste de course'!A9)*('Recette phase 2'!$B$89:$B$104))*'Recette phase 2'!$A$87)+(SUMPRODUCT(('Recette phase 2'!$F$89:$F$104='Liste de course'!A9)*('Recette phase 2'!$E$89:$E$104))*'Recette phase 2'!$D$87)+(SUMPRODUCT(('Recette phase 2'!$I$89:$I$104='Liste de course'!A9)*('Recette phase 2'!$H$89:$H$104))*'Recette phase 2'!$G$87)+(SUMPRODUCT(('Recette phase 2'!$L$89:$L$104='Liste de course'!A9)*('Recette phase 2'!$K$89:$K$104))*'Recette phase 2'!$J$87)+(SUMPRODUCT(('Recette phase 2'!$C$109:$C$119='Liste de course'!A9)*('Recette phase 2'!$B$109:$B$119))*'Recette phase 2'!$A$107)+(SUMPRODUCT(('Recette phase 2'!$F$109:$F$119='Liste de course'!A9)*('Recette phase 2'!$E$109:$E$119))*'Recette phase 2'!$D$107)+(SUMPRODUCT(('Recette phase 2'!$I$109:$I$119='Liste de course'!A9)*('Recette phase 2'!$H$109:$H$119))*'Recette phase 2'!$G$107)+(SUMPRODUCT(('Recette phase 2'!$L$109:$L$119='Liste de course'!A9)*('Recette phase 2'!$K$109:$K$119))*'Recette phase 2'!$J$107)+(SUMPRODUCT(('Recette phase 2'!$C$123:$C$128='Liste de course'!A9)*('Recette phase 2'!$B$123:$B$128))*'Recette phase 2'!$A$121)+(SUMPRODUCT(('Recette phase 2'!$F$123:$F$128='Liste de course'!A9)*('Recette phase 2'!$E$123:$E$128))*'Recette phase 2'!$D$121)+(SUMPRODUCT(('Recette phase 2'!$I$123:$I$128='Liste de course'!A9)*('Recette phase 2'!$H$123:$H$128))*'Recette phase 2'!$G$121)+(SUMPRODUCT(('Recette phase 2'!$L$123:$L$128='Liste de course'!A9)*('Recette phase 2'!$K$123:$K$128))*'Recette phase 2'!$J$121) -> 0 | C9: =(SUMPRODUCT(('Liste de course'!B9)-(Stock!B9))) -> 0 | D9: Mangue | E9: =(SUMPRODUCT(('Recette phase 2'!$C$6:$C$15='Liste de course'!D9)*('Recette phase 2'!$B$6:$B$15))*'Recette phase 2'!$A$4)+(SUMPRODUCT(('Recette phase 2'!$F$6:$F$15='Liste de course'!D9)*('Recette phase 2'!$E$6:$E$15))*'Recette phase 2'!$D$4)+(SUMPRODUCT(('Recette phase 2'!$I$6:$I$15='Liste de course'!D9)*('Recette phase 2'!$H$6:$H$15))*'Recette phase 2'!$G$4)+(SUMPRODUCT(('Recette phase 2'!$K$6:$K$15='Liste de course'!D9)*('Recette phase 2'!$K$6:$K$15))*'Recette phase 2'!$J$4)+(SUMPRODUCT(('Recette phase 2'!$O$6:$O$15='Liste de course'!D9)*('Recette phase 2'!$N$6:$N$15))*'Recette phase 2'!$M$4)+(SUMPRODUCT(('Recette phase 2'!$C$19:$C$31='Liste de course'!D9)*('Recette phase 2'!$B$19:$B$31))*'Recette phase 2'!$A$17)+(SUMPRODUCT(('Recette phase 2'!$F$19:$F$31='Liste de course'!D9)*('Recette phase 2'!$E$19:$E$31))*'Recette phase 2'!$D$17)+(SUMPRODUCT(('Recette phase 2'!$I$19:$I$31='Liste de course'!D9)*('Recette phase 2'!$H$19:$H$31))*'Recette phase 2'!$G$17)+(SUMPRODUCT(('Recette phase 2'!$C$36:$C$50='Liste de course'!D9)*('Recette phase 2'!$B$36:$B$50))*'Recette phase 2'!$A$34)+(SUMPRODUCT(('Recette phase 2'!$F$36:$F$50='Liste de course'!D9)*('Recette phase 2'!$E$36:$E$50))*'Recette phase 2'!$D$34)+(SUMPRODUCT(('Recette phase 2'!$I$36:$I$50='Liste de course'!D9)*('Recette phase 2'!$H$36:$H$50))*'Recette phase 2'!$G$34)+(SUMPRODUCT(('Recette phase 2'!$L$36:$L$50='Liste de course'!D9)*('Recette phase 2'!$K$36:$K$50))*'Recette phase 2'!$J$34)+(SUMPRODUCT(('Recette phase 2'!$O$36:$O$50='Liste de course'!D9)*('Recette phase 2'!$N$36:$N$50))*'Recette phase 2'!$M$34)+(SUMPRODUCT(('Recette phase 2'!$C$54:$C$64='Liste de course'!D9)*('Recette phase 2'!$B$54:$B$64))*'Recette phase 2'!$A$52)+(SUMPRODUCT(('Recette phase 2'!$F$54:$F$64='Liste de course'!D9)*('Recette phase 2'!$E$54:$E$64))*'Recette phase 2'!$D$52)+(SUMPRODUCT(('Recette phase 2'!$I$54:$I$64='Liste de course'!D9)*('Recette phase 2'!$H$54:$H$64))*'Recette phase 2'!$G$52)+(SUMPRODUCT(('Recette phase 2'!$L$54:$L$64='Liste de course'!D9)*('Recette phase 2'!$K$54:$K$64))*'Recette phase 2'!$J$52)+(SUMPRODUCT(('Recette phase 2'!$O$54:$O$64='Liste de course'!D9)*('Recette phase 2'!$N$54:$N$64))*'Recette phase 2'!$M$52)+(SUMPRODUCT(('Recette phase 2'!$C$69:$C$85='Liste de course'!D9)*('Recette phase 2'!$B$69:$B$85))*'Recette phase 2'!$A$67)+(SUMPRODUCT(('Recette phase 2'!$F$69:$F$85='Liste de course'!D9)*('Recette phase 2'!$E$69:$E$85))*'Recette phase 2'!$D$67)+(SUMPRODUCT(('Recette phase 2'!$I$69:$I$85='Liste de course'!D9)*('Recette phase 2'!$H$69:$H$85))*'Recette phase 2'!$G$67)+(SUMPRODUCT(('Recette phase 2'!$L$69:$L$85='Liste de course'!D9)*('Recette phase 2'!$K$69:$K$85))*'Recette phase 2'!$J$67)+(SUMPRODUCT(('Recette phase 2'!$C$89:$C$104='Liste de course'!D9)*('Recette phase 2'!$B$89:$B$104))*'Recette phase 2'!$A$87)+(SUMPRODUCT(('Recette phase 2'!$F$89:$F$104='Liste de course'!D9)*('Recette phase 2'!$E$89:$E$104))*'Recette phase 2'!$D$87)+(SUMPRODUCT(('Recette phase 2'!$I$89:$I$104='Liste de course'!D9)*('Recette phase 2'!$H$89:$H$104))*'Recette phase 2'!$G$87)+(SUMPRODUCT(('Recette phase 2'!$L$89:$L$104='Liste de course'!D9)*('Recette phase 2'!$K$89:$K$104))*'Recette phase 2'!$J$87)+(SUMPRODUCT(('Recette phase 2'!$C$109:$C$119='Liste de course'!D9)*('Recette phase 2'!$B$109:$B$119))*'Recette phase 2'!$A$107)+(SUMPRODUCT(('Recette phase 2'!$F$109:$F$119='Liste de course'!D9)*('Recette phase 2'!$E$109:$E$119))*'Recette phase 2'!$D$107)+(SUMPRODUCT(('Recette phase 2'!$I$109:$I$119='Liste de course'!D9)*('Recette phase 2'!$H$109:$H$119))*'Recette phase 2'!$G$107)+(SUMPRODUCT(('Recette phase 2'!$L$109:$L$119='Liste de course'!D9)*('Recette phase 2'!$K$109:$K$119))*'Recette phase 2'!$J$107)+(SUMPRODUCT(('Recette phase 2'!$C$123:$C$128='Liste de course'!D9)*('Recette phase 2'!$B$123:$B$128))*'Recette phase 2'!$A$121)+(SUMPRODUCT(('Recette phase 2'!$F$123:$F$128='Liste de course'!D9)*('Recette phase 2'!$E$123:$E$128))*'Recette phase 2'!$D$121)+(SUMPRODUCT(('Recette phase 2'!$I$123:$I$128='Liste de course'!D9)*('Recette phase 2'!$H$123:$H$128))*'Recette phase 2'!$G$121)+(SUMPRODUCT(('Recette phase 2'!$L$123:$L$128='Liste de course'!D9)*('Recette phase 2'!$K$123:$K$128))*'Recette phase 2'!$J$121) -> 0 | F9: =(SUMPRODUCT(('Liste de course'!E9)-(Stock!D9))) -> 0
A10: Pain Pâtisserie | D10: Melon | E10: =(SUMPRODUCT(('Recette phase 2'!$C$6:$C$15='Liste de course'!D10)*('Recette phase 2'!$B$6:$B$15))*'Recette phase 2'!$A$4)+(SUMPRODUCT(('Recette phase 2'!$F$6:$F$15='Liste de course'!D10)*('Recette phase 2'!$E$6:$E$15))*'Recette phase 2'!$D$4)+(SUMPRODUCT(('Recette phase 2'!$I$6:$I$15='Liste de course'!D10)*('Recette phase 2'!$H$6:$H$15))*'Recette phase 2'!$G$4)+(SUMPRODUCT(('Recette phase 2'!$K$6:$K$15='Liste de course'!D10)*('Recette phase 2'!$K$6:$K$15))*'Recette phase 2'!$J$4)+(SUMPRODUCT(('Recette phase 2'!$O$6:$O$15='Liste de course'!D10)*('Recette phase 2'!$N$6:$N$15))*'Recette phase 2'!$M$4)+(SUMPRODUCT(('Recette phase 2'!$C$19:$C$31='Liste de course'!D10)*('Recette phase 2'!$B$19:$B$31))*'Recette phase 2'!$A$17)+(SUMPRODUCT(('Recette phase 2'!$F$19:$F$31='Liste de course'!D10)*('Recette phase 2'!$E$19:$E$31))*'Recette phase 2'!$D$17)+(SUMPRODUCT(('Recette phase 2'!$I$19:$I$31='Liste de course'!D10)*('Recette phase 2'!$H$19:$H$31))*'Recette phase 2'!$G$17)+(SUMPRODUCT(('Recette phase 2'!$C$36:$C$50='Liste de course'!D10)*('Recette phase 2'!$B$36:$B$50))*'Recette phase 2'!$A$34)+(SUMPRODUCT(('Recette phase 2'!$F$36:$F$50='Liste de course'!D10)*('Recette phase 2'!$E$36:$E$50))*'Recette phase 2'!$D$34)+(SUMPRODUCT(('Recette phase 2'!$I$36:$I$50='Liste de course'!D10)*('Recette phase 2'!$H$36:$H$50))*'Recette phase 2'!$G$34)+(SUMPRODUCT(('Recette phase 2'!$L$36:$L$50='Liste de course'!D10)*('Recette phase 2'!$K$36:$K$50))*'Recette phase 2'!$J$34)+(SUMPRODUCT(('Recette phase 2'!$O$36:$O$50='Liste de course'!D10)*('Recette phase 2'!$N$36:$N$50))*'Recette phase 2'!$M$34)+(SUMPRODUCT(('Recette phase 2'!$C$54:$C$64='Liste de course'!D10)*('Recette phase 2'!$B$54:$B$64))*'Recette phase 2'!$A$52)+(SUMPRODUCT(('Recette phase 2'!$F$54:$F$64='Liste de course'!D10)*('Recette phase 2'!$E$54:$E$64))*'Recette phase 2'!$D$52)+(SUMPRODUCT(('Recette phase 2'!$I$54:$I$64='Liste de course'!D10)*('Recette phase 2'!$H$54:$H$64))*'Recette phase 2'!$G$52)+(SUMPRODUCT(('Recette phase 2'!$L$54:$L$64='Liste de course'!D10)*('Recette phase 2'!$K$54:$K$64))*'Recette phase 2'!$J$52)+(SUMPRODUCT(('Recette phase 2'!$O$54:$O$64='Liste de course'!D10)*('Recette phase 2'!$N$54:$N$64))*'Recette phase 2'!$M$52)+(SUMPRODUCT(('Recette phase 2'!$C$69:$C$85='Liste de course'!D10)*('Recette phase 2'!$B$69:$B$85))*'Recette phase 2'!$A$67)+(SUMPRODUCT(('Recette phase 2'!$F$69:$F$85='Liste de course'!D10)*('Recette phase 2'!$E$69:$E$85))*'Recette phase 2'!$D$67)+(SUMPRODUCT(('Recette phase 2'!$I$69:$I$85='Liste de course'!D10)*('Recette phase 2'!$H$69:$H$85))*'Recette phase 2'!$G$67)+(SUMPRODUCT(('Recette phase 2'!$L$69:$L$85='Liste de course'!D10)*('Recette phase 2'!$K$69:$K$85))*'Recette phase 2'!$J$67)+(SUMPRODUCT(('Recette phase 2'!$C$89:$C$104='Liste de course'!D10)*('Recette phase 2'!$B$89:$B$104))*'Recette phase 2'!$A$87)+(SUMPRODUCT(('Recette phase 2'!$F$89:$F$104='Liste de course'!D10)*('Recette phase 2'!$E$89:$E$104))*'Recette phase 2'!$D$87)+(SUMPRODUCT(('Recette phase 2'!$I$89:$I$104='Liste de course'!D10)*('Recette phase 2'!$H$89:$H$104))*'Recette phase 2'!$G$87)+(SUMPRODUCT(('Recette phase 2'!$L$89:$L$104='Liste de course'!D10)*('Recette phase 2'!$K$89:$K$104))*'Recette phase 2'!$J$87)+(SUMPRODUCT(('Recette phase 2'!$C$109:$C$119='Liste de course'!D10)*('Recette phase 2'!$B$109:$B$119))*'Recette phase 2'!$A$107)+(SUMPRODUCT(('Recette phase 2'!$F$109:$F$119='Liste de course'!D10)*('Recette phase 2'!$E$109:$E$119))*'Recette phase 2'!$D$107)+(SUMPRODUCT(('Recette phase 2'!$I$109:$I$119='Liste de course'!D10)*('Recette phase 2'!$H$109:$H$119))*'Recette phase 2'!$G$107)+(SUMPRODUCT(('Recette phase 2'!$L$109:$L$119='Liste de course'!D10)*('Recette phase 2'!$K$109:$K$119))*'Recette phase 2'!$J$107)+(SUMPRODUCT(('Recette phase 2'!$C$123:$C$128='Liste de course'!D10)*('Recette phase 2'!$B$123:$B$128))*'Recette phase 2'!$A$121)+(SUMPRODUCT(('Recette phase 2'!$F$123:$F$128='Liste de course'!D10)*('Recette phase 2'!$E$123:$E$128))*'Recette phase 2'!$D$121)+(SUMPRODUCT(('Recette phase 2'!$I$123:$I$128='Liste de course'!D10)*('Recette phase 2'!$H$123:$H$128))*'Recette phase 2'!$G$121)+(SUMPRODUCT(('Recette phase 2'!$L$123:$L$128='Liste de course'!D10)*('Recette phase 2'!$K$123:$K$128))*'Recette phase 2'!$J$121) -> 0 | F10: =(SUMPRODUCT(('Liste de course'!E10)-(Stock!D10))) -> 0
A11: Bagel | B11: =(SUMPRODUCT(('Recette phase 2'!$C$6:$C$15='Liste de course'!A11)*('Recette phase 2'!$B$6:$B$15))*'Recette phase 2'!$A$4)+(SUMPRODUCT(('Recette phase 2'!$F$6:$F$15='Liste de course'!A11)*('Recette phase 2'!$E$6:$E$15))*'Recette phase 2'!$D$4)+(SUMPRODUCT(('Recette phase 2'!$I$6:$I$15='Liste de course'!A11)*('Recette phase 2'!$H$6:$H$15))*'Recette phase 2'!$G$4)+(SUMPRODUCT(('Recette phase 2'!$K$6:$K$15='Liste de course'!A11)*('Recette phase 2'!$K$6:$K$15))*'Recette phase 2'!$J$4)+(SUMPRODUCT(('Recette phase 2'!$O$6:$O$15='Liste de course'!A11)*('Recette phase 2'!$N$6:$N$15))*'Recette phase 2'!$M$4)+(SUMPRODUCT(('Recette phase 2'!$C$19:$C$31='Liste de course'!A11)*('Recette phase 2'!$B$19:$B$31))*'Recette phase 2'!$A$17)+(SUMPRODUCT(('Recette phase 2'!$F$19:$F$31='Liste de course'!A11)*('Recette phase 2'!$E$19:$E$31))*'Recette phase 2'!$D$17)+(SUMPRODUCT(('Recette phase 2'!$I$19:$I$31='Liste de course'!A11)*('Recette phase 2'!$H$19:$H$31))*'Recette phase 2'!$G$17)+(SUMPRODUCT(('Recette phase 2'!$C$36:$C$50='Liste de course'!A11)*('Recette phase 2'!$B$36:$B$50))*'Recette phase 2'!$A$34)+(SUMPRODUCT(('Recette phase 2'!$F$36:$F$50='Liste de course'!A11)*('Recette phase 2'!$E$36:$E$50))*'Recette phase 2'!$D$34)+(SUMPRODUCT(('Recette phase 2'!$I$36:$I$50='Liste de course'!A11)*('Recette phase 2'!$H$36:$H$50))*'Recette phase 2'!$G$34)+(SUMPRODUCT(('Recette phase 2'!$L$36:$L$50='Liste de course'!A11)*('Recette phase 2'!$K$36:$K$50))*'Recette phase 2'!$J$34)+(SUMPRODUCT(('Recette phase 2'!$O$36:$O$50='Liste de course'!A11)*('Recette phase 2'!$N$36:$N$50))*'Recette phase 2'!$M$34)+(SUMPRODUCT(('Recette phase 2'!$C$54:$C$64='Liste de course'!A11)*('Recette phase 2'!$B$54:$B$64))*'Recette phase 2'!$A$52)+(SUMPRODUCT(('Recette phase 2'!$F$54:$F$64='Liste de course'!A11)*('Recette phase 2'!$E$54:$E$64))*'Recette phase 2'!$D$52)+(SUMPRODUCT(('Recette phase 2'!$I$54:$I$64='Liste de course'!A11)*('Recette phase 2'!$H$54:$H$64))*'Recette phase 2'!$G$52)+(SUMPRODUCT(('Recette phase 2'!$L$54:$L$64='Liste de course'!A11)*('Recette phase 2'!$K$54:$K$64))*'Recette phase 2'!$J$52)+(SUMPRODUCT(('Recette phase 2'!$O$54:$O$64='Liste de course'!A11)*('Recette phase 2'!$N$54:$N$64))*'Recette phase 2'!$M$52)+(SUMPRODUCT(('Recette phase 2'!$C$69:$C$85='Liste de course'!A11)*('Recette phase 2'!$B$69:$B$85))*'Recette phase 2'!$A$67)+(SUMPRODUCT(('Recette phase 2'!$F$69:$F$85='Liste de course'!A11)*('Recette phase 2'!$E$69:$E$85))*'Recette phase 2'!$D$67)+(SUMPRODUCT(('Recette phase 2'!$I$69:$I$85='Liste de course'!A11)*('Recette phase 2'!$H$69:$H$85))*'Recette phase 2'!$G$67)+(SUMPRODUCT(('Recette phase 2'!$L$69:$L$85='Liste de course'!A11)*('Recette phase 2'!$K$69:$K$85))*'Recette phase 2'!$J$67)+(SUMPRODUCT(('Recette phase 2'!$C$89:$C$104='Liste de course'!A11)*('Recette phase 2'!$B$89:$B$104))*'Recette phase 2'!$A$87)+(SUMPRODUCT(('Recette phase 2'!$F$89:$F$104='Liste de course'!A11)*('Recette phase 2'!$E$89:$E$104))*'Recette phase 2'!$D$87)+(SUMPRODUCT(('Recette phase 2'!$I$89:$I$104='Liste de course'!A11)*('Recette phase 2'!$H$89:$H$104))*'Recette phase 2'!$G$87)+(SUMPRODUCT(('Recette phase 2'!$L$89:$L$104='Liste de course'!A11)*('Recette phase 2'!$K$89:$K$104))*'Recette phase 2'!$J$87)+(SUMPRODUCT(('Recette phase 2'!$C$109:$C$119='Liste de course'!A11)*('Recette phase 2'!$B$109:$B$119))*'Recette phase 2'!$A$107)+(SUMPRODUCT(('Recette phase 2'!$F$109:$F$119='Liste de course'!A11)*('Recette phase 2'!$E$109:$E$119))*'Recette phase 2'!$D$107)+(SUMPRODUCT(('Recette phase 2'!$I$109:$I$119='Liste de course'!A11)*('Recette phase 2'!$H$109:$H$119))*'Recette phase 2'!$G$107)+(SUMPRODUCT(('Recette phase 2'!$L$109:$L$119='Liste de course'!A11)*('Recette phase 2'!$K$109:$K$119))*'Recette phase 2'!$J$107)+(SUMPRODUCT(('Recette phase 2'!$C$123:$C$128='Liste de course'!A11)*('Recette phase 2'!$B$123:$B$128))*'Recette phase 2'!$A$121)+(SUMPRODUCT(('Recette phase 2'!$F$123:$F$128='Liste de course'!A11)*('Recette phase 2'!$E$123:$E$128))*'Recette phase 2'!$D$121)+(SUMPRODUCT(('Recette phase 2'!$I$123:$I$128='Liste de course'!A11)*('Recette phase 2'!$H$123:$H$128))*'Recette phase 2'!$G$121)+(SUMPRODUCT(('Recette phase 2'!$L$123:$L$128='Liste de course'!A11)*('Recette phase 2'!$K$123:$K$128))*'Recette phase 2'!$J$121) -> 0 | C11: =(SUMPRODUCT(('Liste de course'!B11)-(Stock!B11))) -> -1020 | D11: Mix de graines variées | E11: =(SUMPRODUCT(('Recette phase 2'!$C$6:$C$15='Liste de course'!D11)*('Recette phase 2'!$B$6:$B$15))*'Recette phase 2'!$A$4)+(SUMPRODUCT(('Recette phase 2'!$F$6:$F$15='Liste de course'!D11)*('Recette phase 2'!$E$6:$E$15))*'Recette phase 2'!$D$4)+(SUMPRODUCT(('Recette phase 2'!$I$6:$I$15='Liste de course'!D11)*('Recette phase 2'!$H$6:$H$15))*'Recette phase 2'!$G$4)+(SUMPRODUCT(('Recette phase 2'!$K$6:$K$15='Liste de course'!D11)*('Recette phase 2'!$K$6:$K$15))*'Recette phase 2'!$J$4)+(SUMPRODUCT(('Recette phase 2'!$O$6:$O$15='Liste de course'!D11)*('Recette phase 2'!$N$6:$N$15))*'Recette phase 2'!$M$4)+(SUMPRODUCT(('Recette phase 2'!$C$19:$C$31='Liste de course'!D11)*('Recette phase 2'!$B$19:$B$31))*'Recette phase 2'!$A$17)+(SUMPRODUCT(('Recette phase 2'!$F$19:$F$31='Liste de course'!D11)*('Recette phase 2'!$E$19:$E$31))*'Recette phase 2'!$D$17)+(SUMPRODUCT(('Recette phase 2'!$I$19:$I$31='Liste de course'!D11)*('Recette phase 2'!$H$19:$H$31))*'Recette phase 2'!$G$17)+(SUMPRODUCT(('Recette phase 2'!$C$36:$C$50='Liste de course'!D11)*('Recette phase 2'!$B$36:$B$50))*'Recette phase 2'!$A$34)+(SUMPRODUCT(('Recette phase 2'!$F$36:$F$50='Liste de course'!D11)*('Recette phase 2'!$E$36:$E$50))*'Recette phase 2'!$D$34)+(SUMPRODUCT(('Recette phase 2'!$I$36:$I$50='Liste de course'!D11)*('Recette phase 2'!$H$36:$H$50))*'Recette phase 2'!$G$34)+(SUMPRODUCT(('Recette phase 2'!$L$36:$L$50='Liste de course'!D11)*('Recette phase 2'!$K$36:$K$50))*'Recette phase 2'!$J$34)+(SUMPRODUCT(('Recette phase 2'!$O$36:$O$50='Liste de course'!D11)*('Recette phase 2'!$N$36:$N$50))*'Recette phase 2'!$M$34)+(SUMPRODUCT(('Recette phase 2'!$C$54:$C$64='Liste de course'!D11)*('Recette phase 2'!$B$54:$B$64))*'Recette phase 2'!$A$52)+(SUMPRODUCT(('Recette phase 2'!$F$54:$F$64='Liste de course'!D11)*('Recette phase 2'!$E$54:$E$64))*'Recette phase 2'!$D$52)+(SUMPRODUCT(('Recette phase 2'!$I$54:$I$64='Liste de course'!D11)*('Recette phase 2'!$H$54:$H$64))*'Recette phase 2'!$G$52)+(SUMPRODUCT(('Recette phase 2'!$L$54:$L$64='Liste de course'!D11)*('Recette phase 2'!$K$54:$K$64))*'Recette phase 2'!$J$52)+(SUMPRODUCT(('Recette phase 2'!$O$54:$O$64='Liste de course'!D11)*('Recette phase 2'!$N$54:$N$64))*'Recette phase 2'!$M$52)+(SUMPRODUCT(('Recette phase 2'!$C$69:$C$85='Liste de course'!D11)*('Recette phase 2'!$B$69:$B$85))*'Recette phase 2'!$A$67)+(SUMPRODUCT(('Recette phase 2'!$F$69:$F$85='Liste de course'!D11)*('Recette phase 2'!$E$69:$E$85))*'Recette phase 2'!$D$67)+(SUMPRODUCT(('Recette phase 2'!$I$69:$I$85='Liste de course'!D11)*('Recette phase 2'!$H$69:$H$85))*'Recette phase 2'!$G$67)+(SUMPRODUCT(('Recette phase 2'!$L$69:$L$85='Liste de course'!D11)*('Recette phase 2'!$K$69:$K$85))*'Recette phase 2'!$J$67)+(SUMPRODUCT(('Recette phase 2'!$C$89:$C$104='Liste de course'!D11)*('Recette phase 2'!$B$89:$B$104))*'Recette phase 2'!$A$87)+(SUMPRODUCT(('Recette phase 2'!$F$89:$F$104='Liste de course'!D11)*('Recette phase 2'!$E$89:$E$104))*'Recette phase 2'!$D$87)+(SUMPRODUCT(('Recette phase 2'!$I$89:$I$104='Liste de course'!D11)*('Recette phase 2'!$H$89:$H$104))*'Recette phase 2'!$G$87)+(SUMPRODUCT(('Recette phase 2'!$L$89:$L$104='Liste de course'!D11)*('Recette phase 2'!$K$89:$K$104))*'Recette phase 2'!$J$87)+(SUMPRODUCT(('Recette phase 2'!$C$109:$C$119='Liste de course'!D11)*('Recette phase 2'!$B$109:$B$119))*'Recette phase 2'!$A$107)+(SUMPRODUCT(('Recette phase 2'!$F$109:$F$119='Liste de course'!D11)*('Recette phase 2'!$E$109:$E$119))*'Recette phase 2'!$D$107)+(SUMPRODUCT(('Recette phase 2'!$I$109:$I$119='Liste de course'!D11)*('Recette phase 2'!$H$109:$H$119))*'Recette phase 2'!$G$107)+(SUMPRODUCT(('Recette phase 2'!$L$109:$L$119='Liste de course'!D11)*('Recette phase 2'!$K$109:$K$119))*'Recette phase 2'!$J$107)+(SUMPRODUCT(('Recette phase 2'!$C$123:$C$128='Liste de course'!D11)*('Recette phase 2'!$B$123:$B$128))*'Recette phase 2'!$A$121)+(SUMPRODUCT(('Recette phase 2'!$F$123:$F$128='Liste de course'!D11)*('Recette phase 2'!$E$123:$E$128))*'Recette phase 2'!$D$121)+(SUMPRODUCT(('Recette phase 2'!$I$123:$I$128='Liste de course'!D11)*('Recette phase 2'!$H$123:$H$128))*'Recette phase 2'!$G$121)+(SUMPRODUCT(('Recette phase 2'!$L$123:$L$128='Liste de course'!D11)*('Recette phase 2'!$K$123:$K$128))*'Recette phase 2'!$J$121) -> 0 | F11: =(SUMPRODUCT(('Liste de course'!E11)-(Stock!D11))) -> 0
A12: Pain burger au blé complet | B12: =(SUMPRODUCT(('Recette phase 2'!$C$6:$C$15='Liste de course'!A12)*('Recette phase 2'!$B$6:$B$15))*'Recette phase 2'!$A$4)+(SUMPRODUCT(('Recette phase 2'!$F$6:$F$15='Liste de course'!A12)*('Recette phase 2'!$E$6:$E$15))*'Recette phase 2'!$D$4)+(SUMPRODUCT(('Recette phase 2'!$I$6:$I$15='Liste de course'!A12)*('Recette phase 2'!$H$6:$H$15))*'Recette phase 2'!$G$4)+(SUMPRODUCT(('Recette phase 2'!$K$6:$K$15='Liste de course'!A12)*('Recette phase 2'!$K$6:$K$15))*'Recette phase 2'!$J$4)+(SUMPRODUCT(('Recette phase 2'!$O$6:$O$15='Liste de course'!A12)*('Recette phase 2'!$N$6:$N$15))*'Recette phase 2'!$M$4)+(SUMPRODUCT(('Recette phase 2'!$C$19:$C$31='Liste de course'!A12)*('Recette phase 2'!$B$19:$B$31))*'Recette phase 2'!$A$17)+(SUMPRODUCT(('Recette phase 2'!$F$19:$F$31='Liste de course'!A12)*('Recette phase 2'!$E$19:$E$31))*'Recette phase 2'!$D$17)+(SUMPRODUCT(('Recette phase 2'!$I$19:$I$31='Liste de course'!A12)*('Recette phase 2'!$H$19:$H$31))*'Recette phase 2'!$G$17)+(SUMPRODUCT(('Recette phase 2'!$C$36:$C$50='Liste de course'!A12)*('Recette phase 2'!$B$36:$B$50))*'Recette phase 2'!$A$34)+(SUMPRODUCT(('Recette phase 2'!$F$36:$F$50='Liste de course'!A12)*('Recette phase 2'!$E$36:$E$50))*'Recette phase 2'!$D$34)+(SUMPRODUCT(('Recette phase 2'!$I$36:$I$50='Liste de course'!A12)*('Recette phase 2'!$H$36:$H$50))*'Recette phase 2'!$G$34)+(SUMPRODUCT(('Recette phase 2'!$L$36:$L$50='Liste de course'!A12)*('Recette phase 2'!$K$36:$K$50))*'Recette phase 2'!$J$34)+(SUMPRODUCT(('Recette phase 2'!$O$36:$O$50='Liste de course'!A12)*('Recette phase 2'!$N$36:$N$50))*'Recette phase 2'!$M$34)+(SUMPRODUCT(('Recette phase 2'!$C$54:$C$64='Liste de course'!A12)*('Recette phase 2'!$B$54:$B$64))*'Recette phase 2'!$A$52)+(SUMPRODUCT(('Recette phase 2'!$F$54:$F$64='Liste de course'!A12)*('Recette phase 2'!$E$54:$E$64))*'Recette phase 2'!$D$52)+(SUMPRODUCT(('Recette phase 2'!$I$54:$I$64='Liste de course'!A12)*('Recette phase 2'!$H$54:$H$64))*'Recette phase 2'!$G$52)+(SUMPRODUCT(('Recette phase 2'!$L$54:$L$64='Liste de course'!A12)*('Recette phase 2'!$K$54:$K$64))*'Recette phase 2'!$J$52)+(SUMPRODUCT(('Recette phase 2'!$O$54:$O$64='Liste de course'!A12)*('Recette phase 2'!$N$54:$N$64))*'Recette phase 2'!$M$52)+(SUMPRODUCT(('Recette phase 2'!$C$69:$C$85='Liste de course'!A12)*('Recette phase 2'!$B$69:$B$85))*'Recette phase 2'!$A$67)+(SUMPRODUCT(('Recette phase 2'!$F$69:$F$85='Liste de course'!A12)*('Recette phase 2'!$E$69:$E$85))*'Recette phase 2'!$D$67)+(SUMPRODUCT(('Recette phase 2'!$I$69:$I$85='Liste de course'!A12)*('Recette phase 2'!$H$69:$H$85))*'Recette phase 2'!$G$67)+(SUMPRODUCT(('Recette phase 2'!$L$69:$L$85='Liste de course'!A12)*('Recette phase 2'!$K$69:$K$85))*'Recette phase 2'!$J$67)+(SUMPRODUCT(('Recette phase 2'!$C$89:$C$104='Liste de course'!A12)*('Recette phase 2'!$B$89:$B$104))*'Recette phase 2'!$A$87)+(SUMPRODUCT(('Recette phase 2'!$F$89:$F$104='Liste de course'!A12)*('Recette phase 2'!$E$89:$E$104))*'Recette phase 2'!$D$87)+(SUMPRODUCT(('Recette phase 2'!$I$89:$I$104='Liste de course'!A12)*('Recette phase 2'!$H$89:$H$104))*'Recette phase 2'!$G$87)+(SUMPRODUCT(('Recette phase 2'!$L$89:$L$104='Liste de course'!A12)*('Recette phase 2'!$K$89:$K$104))*'Recette phase 2'!$J$87)+(SUMPRODUCT(('Recette phase 2'!$C$109:$C$119='Liste de course'!A12)*('Recette phase 2'!$B$109:$B$119))*'Recette phase 2'!$A$107)+(SUMPRODUCT(('Recette phase 2'!$F$109:$F$119='Liste de course'!A12)*('Recette phase 2'!$E$109:$E$119))*'Recette phase 2'!$D$107)+(SUMPRODUCT(('Recette phase 2'!$I$109:$I$119='Liste de course'!A12)*('Recette phase 2'!$H$109:$H$119))*'Recette phase 2'!$G$107)+(SUMPRODUCT(('Recette phase 2'!$L$109:$L$119='Liste de course'!A12)*('Recette phase 2'!$K$109:$K$119))*'Recette phase 2'!$J$107)+(SUMPRODUCT(('Recette phase 2'!$C$123:$C$128='Liste de course'!A12)*('Recette phase 2'!$B$123:$B$128))*'Recette phase 2'!$A$121)+(SUMPRODUCT(('Recette phase 2'!$F$123:$F$128='Liste de course'!A12)*('Recette phase 2'!$E$123:$E$128))*'Recette phase 2'!$D$121)+(SUMPRODUCT(('Recette phase 2'!$I$123:$I$128='Liste de course'!A12)*('Recette phase 2'!$H$123:$H$128))*'Recette phase 2'!$G$121)+(SUMPRODUCT(('Recette phase 2'!$L$123:$L$128='Liste de course'!A12)*('Recette phase 2'!$K$123:$K$128))*'Recette phase 2'!$J$121) -> 0 | C12: =(SUMPRODUCT(('Liste de course'!B12)-(Stock!B12))) -> -1 | D12: Noisettes | E12: =(SUMPRODUCT(('Recette phase 2'!$C$6:$C$15='Liste de course'!D12)*('Recette phase 2'!$B$6:$B$15))*'Recette phase 2'!$A$4)+(SUMPRODUCT(('Recette phase 2'!$F$6:$F$15='Liste de course'!D12)*('Recette phase 2'!$E$6:$E$15))*'Recette phase 2'!$D$4)+(SUMPRODUCT(('Recette phase 2'!$I$6:$I$15='Liste de course'!D12)*('Recette phase 2'!$H$6:$H$15))*'Recette phase 2'!$G$4)+(SUMPRODUCT(('Recette phase 2'!$K$6:$K$15='Liste de course'!D12)*('Recette phase 2'!$K$6:$K$15))*'Recette phase 2'!$J$4)+(SUMPRODUCT(('Recette phase 2'!$O$6:$O$15='Liste de course'!D12)*('Recette phase 2'!$N$6:$N$15))*'Recette phase 2'!$M$4)+(SUMPRODUCT(('Recette phase 2'!$C$19:$C$31='Liste de course'!D12)*('Recette phase 2'!$B$19:$B$31))*'Recette phase 2'!$A$17)+(SUMPRODUCT(('Recette phase 2'!$F$19:$F$31='Liste de course'!D12)*('Recette phase 2'!$E$19:$E$31))*'Recette phase 2'!$D$17)+(SUMPRODUCT(('Recette phase 2'!$I$19:$I$31='Liste de course'!D12)*('Recette phase 2'!$H$19:$H$31))*'Recette phase 2'!$G$17)+(SUMPRODUCT(('Recette phase 2'!$C$36:$C$50='Liste de course'!D12)*('Recette phase 2'!$B$36:$B$50))*'Recette phase 2'!$A$34)+(SUMPRODUCT(('Recette phase 2'!$F$36:$F$50='Liste de course'!D12)*('Recette phase 2'!$E$36:$E$50))*'Recette phase 2'!$D$34)+(SUMPRODUCT(('Recette phase 2'!$I$36:$I$50='Liste de course'!D12)*('Recette phase 2'!$H$36:$H$50))*'Recette phase 2'!$G$34)+(SUMPRODUCT(('Recette phase 2'!$L$36:$L$50='Liste de course'!D12)*('Recette phase 2'!$K$36:$K$50))*'Recette phase 2'!$J$34)+(SUMPRODUCT(('Recette phase 2'!$O$36:$O$50='Liste de course'!D12)*('Recette phase 2'!$N$36:$N$50))*'Recette phase 2'!$M$34)+(SUMPRODUCT(('Recette phase 2'!$C$54:$C$64='Liste de course'!D12)*('Recette phase 2'!$B$54:$B$64))*'Recette phase 2'!$A$52)+(SUMPRODUCT(('Recette phase 2'!$F$54:$F$64='Liste de course'!D12)*('Recette phase 2'!$E$54:$E$64))*'Recette phase 2'!$D$52)+(SUMPRODUCT(('Recette phase 2'!$I$54:$I$64='Liste de course'!D12)*('Recette phase 2'!$H$54:$H$64))*'Recette phase 2'!$G$52)+(SUMPRODUCT(('Recette phase 2'!$L$54:$L$64='Liste de course'!D12)*('Recette phase 2'!$K$54:$K$64))*'Recette phase 2'!$J$52)+(SUMPRODUCT(('Recette phase 2'!$O$54:$O$64='Liste de course'!D12)*('Recette phase 2'!$N$54:$N$64))*'Recette phase 2'!$M$52)+(SUMPRODUCT(('Recette phase 2'!$C$69:$C$85='Liste de course'!D12)*('Recette phase 2'!$B$69:$B$85))*'Recette phase 2'!$A$67)+(SUMPRODUCT(('Recette phase 2'!$F$69:$F$85='Liste de course'!D12)*('Recette phase 2'!$E$69:$E$85))*'Recette phase 2'!$D$67)+(SUMPRODUCT(('Recette phase 2'!$I$69:$I$85='Liste de course'!D12)*('Recette phase 2'!$H$69:$H$85))*'Recette phase 2'!$G$67)+(SUMPRODUCT(('Recette phase 2'!$L$69:$L$85='Liste de course'!D12)*('Recette phase 2'!$K$69:$K$85))*'Recette phase 2'!$J$67)+(SUMPRODUCT(('Recette phase 2'!$C$89:$C$104='Liste de course'!D12)*('Recette phase 2'!$B$89:$B$104))*'Recette phase 2'!$A$87)+(SUMPRODUCT(('Recette phase 2'!$F$89:$F$104='Liste de course'!D12)*('Recette phase 2'!$E$89:$E$104))*'Recette phase 2'!$D$87)+(SUMPRODUCT(('Recette phase 2'!$I$89:$I$104='Liste de course'!D12)*('Recette phase 2'!$H$89:$H$104))*'Recette phase 2'!$G$87)+(SUMPRODUCT(('Recette phase 2'!$L$89:$L$104='Liste de course'!D12)*('Recette phase 2'!$K$89:$K$104))*'Recette phase 2'!$J$87)+(SUMPRODUCT(('Recette phase 2'!$C$109:$C$119='Liste de course'!D12)*('Recette phase 2'!$B$109:$B$119))*'Recette phase 2'!$A$107)+(SUMPRODUCT(('Recette phase 2'!$F$109:$F$119='Liste de course'!D12)*('Recette phase 2'!$E$109:$E$119))*'Recette phase 2'!$D$107)+(SUMPRODUCT(('Recette phase 2'!$I$109:$I$119='Liste de course'!D12)*('Recette phase 2'!$H$109:$H$119))*'Recette phase 2'!$G$107)+(SUMPRODUCT(('Recette phase 2'!$L$109:$L$119='Liste de course'!D12)*('Recette phase 2'!$K$109:$K$119))*'Recette phase 2'!$J$107)+(SUMPRODUCT(('Recette phase 2'!$C$123:$C$128='Liste de course'!D12)*('Recette phase 2'!$B$123:$B$128))*'Recette phase 2'!$A$121)+(SUMPRODUCT(('Recette phase 2'!$F$123:$F$128='Liste de course'!D12)*('Recette phase 2'!$E$123:$E$128))*'Recette phase 2'!$D$121)+(SUMPRODUCT(('Recette phase 2'!$I$123:$I$128='Liste de course'!D12)*('Recette phase 2'!$H$123:$H$128))*'Recette phase 2'!$G$121)+(SUMPRODUCT(('Recette phase 2'!$L$123:$L$128='Liste de course'!D12)*('Recette phase 2'!$K$123:$K$128))*'Recette phase 2'!$J$121) -> 0 | F12: =(SUMPRODUCT(('Liste de course'!E12)-(Stock!D12))) -> -159
A13: Pain de mie complet | B13: =(SUMPRODUCT(('Recette phase 2'!$C$6:$C$15='Liste de course'!A13)*('Recette phase 2'!$B$6:$B$15))*'Recette phase 2'!$A$4)+(SUMPRODUCT(('Recette phase 2'!$F$6:$F$15='Liste de course'!A13)*('Recette phase 2'!$E$6:$E$15))*'Recette phase 2'!$D$4)+(SUMPRODUCT(('Recette phase 2'!$I$6:$I$15='Liste de course'!A13)*('Recette phase 2'!$H$6:$H$15))*'Recette phase 2'!$G$4)+(SUMPRODUCT(('Recette phase 2'!$K$6:$K$15='Liste de course'!A13)*('Recette phase 2'!$K$6:$K$15))*'Recette phase 2'!$J$4)+(SUMPRODUCT(('Recette phase 2'!$O$6:$O$15='Liste de course'!A13)*('Recette phase 2'!$N$6:$N$15))*'Recette phase 2'!$M$4)+(SUMPRODUCT(('Recette phase 2'!$C$19:$C$31='Liste de course'!A13)*('Recette phase 2'!$B$19:$B$31))*'Recette phase 2'!$A$17)+(SUMPRODUCT(('Recette phase 2'!$F$19:$F$31='Liste de course'!A13)*('Recette phase 2'!$E$19:$E$31))*'Recette phase 2'!$D$17)+(SUMPRODUCT(('Recette phase 2'!$I$19:$I$31='Liste de course'!A13)*('Recette phase 2'!$H$19:$H$31))*'Recette phase 2'!$G$17)+(SUMPRODUCT(('Recette phase 2'!$C$36:$C$50='Liste de course'!A13)*('Recette phase 2'!$B$36:$B$50))*'Recette phase 2'!$A$34)+(SUMPRODUCT(('Recette phase 2'!$F$36:$F$50='Liste de course'!A13)*('Recette phase 2'!$E$36:$E$50))*'Recette phase 2'!$D$34)+(SUMPRODUCT(('Recette phase 2'!$I$36:$I$50='Liste de course'!A13)*('Recette phase 2'!$H$36:$H$50))*'Recette phase 2'!$G$34)+(SUMPRODUCT(('Recette phase 2'!$L$36:$L$50='Liste de course'!A13)*('Recette phase 2'!$K$36:$K$50))*'Recette phase 2'!$J$34)+(SUMPRODUCT(('Recette phase 2'!$O$36:$O$50='Liste de course'!A13)*('Recette phase 2'!$N$36:$N$50))*'Recette phase 2'!$M$34)+(SUMPRODUCT(('Recette phase 2'!$C$54:$C$64='Liste de course'!A13)*('Recette phase 2'!$B$54:$B$64))*'Recette phase 2'!$A$52)+(SUMPRODUCT(('Recette phase 2'!$F$54:$F$64='Liste de course'!A13)*('Recette phase 2'!$E$54:$E$64))*'Recette phase 2'!$D$52)+(SUMPRODUCT(('Recette phase 2'!$I$54:$I$64='Liste de course'!A13)*('Recette phase 2'!$H$54:$H$64))*'Recette phase 2'!$G$52)+(SUMPRODUCT(('Recette phase 2'!$L$54:$L$64='Liste de course'!A13)*('Recette phase 2'!$K$54:$K$64))*'Recette phase 2'!$J$52)+(SUMPRODUCT(('Recette phase 2'!$O$54:$O$64='Liste de course'!A13)*('Recette phase 2'!$N$54:$N$64))*'Recette phase 2'!$M$52)+(SUMPRODUCT(('Recette phase 2'!$C$69:$C$85='Liste de course'!A13)*('Recette phase 2'!$B$69:$B$85))*'Recette phase 2'!$A$67)+(SUMPRODUCT(('Recette phase 2'!$F$69:$F$85='Liste de course'!A13)*('Recette phase 2'!$E$69:$E$85))*'Recette phase 2'!$D$67)+(SUMPRODUCT(('Recette phase 2'!$I$69:$I$85='Liste de course'!A13)*('Recette phase 2'!$H$69:$H$85))*'Recette phase 2'!$G$67)+(SUMPRODUCT(('Recette phase 2'!$L$69:$L$85='Liste de course'!A13)*('Recette phase 2'!$K$69:$K$85))*'Recette phase 2'!$J$67)+(SUMPRODUCT(('Recette phase 2'!$C$89:$C$104='Liste de course'!A13)*('Recette phase 2'!$B$89:$B$104))*'Recette phase 2'!$A$87)+(SUMPRODUCT(('Recette phase 2'!$F$89:$F$104='Liste de course'!A13)*('Recette phase 2'!$E$89:$E$104))*'Recette phase 2'!$D$87)+(SUMPRODUCT(('Recette phase 2'!$I$89:$I$104='Liste de course'!A13)*('Recette phase 2'!$H$89:$H$104))*'Recette phase 2'!$G$87)+(SUMPRODUCT(('Recette phase 2'!$L$89:$L$104='Liste de course'!A13)*('Recette phase 2'!$K$89:$K$104))*'Recette phase 2'!$J$87)+(SUMPRODUCT(('Recette phase 2'!$C$109:$C$119='Liste de course'!A13)*('Recette phase 2'!$B$109:$B$119))*'Recette phase 2'!$A$107)+(SUMPRODUCT(('Recette phase 2'!$F$109:$F$119='Liste de course'!A13)*('Recette phase 2'!$E$109:$E$119))*'Recette phase 2'!$D$107)+(SUMPRODUCT(('Recette phase 2'!$I$109:$I$119='Liste de course'!A13)*('Recette phase 2'!$H$109:$H$119))*'Recette phase 2'!$G$107)+(SUMPRODUCT(('Recette phase 2'!$L$109:$L$119='Liste de course'!A13)*('Recette phase 2'!$K$109:$K$119))*'Recette phase 2'!$J$107)+(SUMPRODUCT(('Recette phase 2'!$C$123:$C$128='Liste de course'!A13)*('Recette phase 2'!$B$123:$B$128))*'Recette phase 2'!$A$121)+(SUMPRODUCT(('Recette phase 2'!$F$123:$F$128='Liste de course'!A13)*('Recette phase 2'!$E$123:$E$128))*'Recette phase 2'!$D$121)+(SUMPRODUCT(('Recette phase 2'!$I$123:$I$128='Liste de course'!A13)*('Recette phase 2'!$H$123:$H$128))*'Recette phase 2'!$G$121)+(SUMPRODUCT(('Recette phase 2'!$L$123:$L$128='Liste de course'!A13)*('Recette phase 2'!$K$123:$K$128))*'Recette phase 2'!$J$121) -> 0 | C13: =(SUMPRODUCT(('Liste de course'!B13)-(Stock!B13))) -> -100 | D13: Noix de cajou | E13: =(SUMPRODUCT(('Recette phase 2'!$C$6:$C$15='Liste de course'!D13)*('Recette phase 2'!$B$6:$B$15))*'Recette phase 2'!$A$4)+(SUMPRODUCT(('Recette phase 2'!$F$6:$F$15='Liste de course'!D13)*('Recette phase 2'!$E$6:$E$15))*'Recette phase 2'!$D$4)+(SUMPRODUCT(('Recette phase 2'!$I$6:$I$15='Liste de course'!D13)*('Recette phase 2'!$H$6:$H$15))*'Recette phase 2'!$G$4)+(SUMPRODUCT(('Recette phase 2'!$K$6:$K$15='Liste de course'!D13)*('Recette phase 2'!$K$6:$K$15))*'Recette phase 2'!$J$4)+(SUMPRODUCT(('Recette phase 2'!$O$6:$O$15='Liste de course'!D13)*('Recette phase 2'!$N$6:$N$15))*'Recette phase 2'!$M$4)+(SUMPRODUCT(('Recette phase 2'!$C$19:$C$31='Liste de course'!D13)*('Recette phase 2'!$B$19:$B$31))*'Recette phase 2'!$A$17)+(SUMPRODUCT(('Recette phase 2'!$F$19:$F$31='Liste de course'!D13)*('Recette phase 2'!$E$19:$E$31))*'Recette phase 2'!$D$17)+(SUMPRODUCT(('Recette phase 2'!$I$19:$I$31='Liste de course'!D13)*('Recette phase 2'!$H$19:$H$31))*'Recette phase 2'!$G$17)+(SUMPRODUCT(('Recette phase 2'!$C$36:$C$50='Liste de course'!D13)*('Recette phase 2'!$B$36:$B$50))*'Recette phase 2'!$A$34)+(SUMPRODUCT(('Recette phase 2'!$F$36:$F$50='Liste de course'!D13)*('Recette phase 2'!$E$36:$E$50))*'Recette phase 2'!$D$34)+(SUMPRODUCT(('Recette phase 2'!$I$36:$I$50='Liste de course'!D13)*('Recette phase 2'!$H$36:$H$50))*'Recette phase 2'!$G$34)+(SUMPRODUCT(('Recette phase 2'!$L$36:$L$50='Liste de course'!D13)*('Recette phase 2'!$K$36:$K$50))*'Recette phase 2'!$J$34)+(SUMPRODUCT(('Recette phase 2'!$O$36:$O$50='Liste de course'!D13)*('Recette phase 2'!$N$36:$N$50))*'Recette phase 2'!$M$34)+(SUMPRODUCT(('Recette phase 2'!$C$54:$C$64='Liste de course'!D13)*('Recette phase 2'!$B$54:$B$64))*'Recette phase 2'!$A$52)+(SUMPRODUCT(('Recette phase 2'!$F$54:$F$64='Liste de course'!D13)*('Recette phase 2'!$E$54:$E$64))*'Recette phase 2'!$D$52)+(SUMPRODUCT(('Recette phase 2'!$I$54:$I$64='Liste de course'!D13)*('Recette phase 2'!$H$54:$H$64))*'Recette phase 2'!$G$52)+(SUMPRODUCT(('Recette phase 2'!$L$54:$L$64='Liste de course'!D13)*('Recette phase 2'!$K$54:$K$64))*'Recette phase 2'!$J$52)+(SUMPRODUCT(('Recette phase 2'!$O$54:$O$64='Liste de course'!D13)*('Recette phase 2'!$N$54:$N$64))*'Recette phase 2'!$M$52)+(SUMPRODUCT(('Recette phase 2'!$C$69:$C$85='Liste de course'!D13)*('Recette phase 2'!$B$69:$B$85))*'Recette phase 2'!$A$67)+(SUMPRODUCT(('Recette phase 2'!$F$69:$F$85='Liste de course'!D13)*('Recette phase 2'!$E$69:$E$85))*'Recette phase 2'!$D$67)+(SUMPRODUCT(('Recette phase 2'!$I$69:$I$85='Liste de course'!D13)*('Recette phase 2'!$H$69:$H$85))*'Recette phase 2'!$G$67)+(SUMPRODUCT(('Recette phase 2'!$L$69:$L$85='Liste de course'!D13)*('Recette phase 2'!$K$69:$K$85))*'Recette phase 2'!$J$67)+(SUMPRODUCT(('Recette phase 2'!$C$89:$C$104='Liste de course'!D13)*('Recette phase 2'!$B$89:$B$104))*'Recette phase 2'!$A$87)+(SUMPRODUCT(('Recette phase 2'!$F$89:$F$104='Liste de course'!D13)*('Recette phase 2'!$E$89:$E$104))*'Recette phase 2'!$D$87)+(SUMPRODUCT(('Recette phase 2'!$I$89:$I$104='Liste de course'!D13)*('Recette phase 2'!$H$89:$H$104))*'Recette phase 2'!$G$87)+(SUMPRODUCT(('Recette phase 2'!$L$89:$L$104='Liste de course'!D13)*('Recette phase 2'!$K$89:$K$104))*'Recette phase 2'!$J$87)+(SUMPRODUCT(('Recette phase 2'!$C$109:$C$119='Liste de course'!D13)*('Recette phase 2'!$B$109:$B$119))*'Recette phase 2'!$A$107)+(SUMPRODUCT(('Recette phase 2'!$F$109:$F$119='Liste de course'!D13)*('Recette phase 2'!$E$109:$E$119))*'Recette phase 2'!$D$107)+(SUMPRODUCT(('Recette phase 2'!$I$109:$I$119='Liste de course'!D13)*('Recette phase 2'!$H$109:$H$119))*'Recette phase 2'!$G$107)+(SUMPRODUCT(('Recette phase 2'!$L$109:$L$119='Liste de course'!D13)*('Recette phase 2'!$K$109:$K$119))*'Recette phase 2'!$J$107)+(SUMPRODUCT(('Recette phase 2'!$C$123:$C$128='Liste de course'!D13)*('Recette phase 2'!$B$123:$B$128))*'Recette phase 2'!$A$121)+(SUMPRODUCT(('Recette phase 2'!$F$123:$F$128='Liste de course'!D13)*('Recette phase 2'!$E$123:$E$128))*'Recette phase 2'!$D$121)+(SUMPRODUCT(('Recette phase 2'!$I$123:$I$128='Liste de course'!D13)*('Recette phase 2'!$H$123:$H$128))*'Recette phase 2'!$G$121)+(SUMPRODUCT(('Recette phase 2'!$L$123:$L$128='Liste de course'!D13)*('Recette phase 2'!$K$123:$K$128))*'Recette phase 2'!$J$121) -> 0 | F13: =(SUMPRODUCT(('Liste de course'!E13)-(Stock!D13))) -> 0
A14: Petits pains grillés blé complet | B14: =(SUMPRODUCT(('Recette phase 2'!$C$6:$C$15='Liste de course'!A14)*('Recette phase 2'!$B$6:$B$15))*'Recette phase 2'!$A$4)+(SUMPRODUCT(('Recette phase 2'!$F$6:$F$15='Liste de course'!A14)*('Recette phase 2'!$E$6:$E$15))*'Recette phase 2'!$D$4)+(SUMPRODUCT(('Recette phase 2'!$I$6:$I$15='Liste de course'!A14)*('Recette phase 2'!$H$6:$H$15))*'Recette phase 2'!$G$4)+(SUMPRODUCT(('Recette phase 2'!$K$6:$K$15='Liste de course'!A14)*('Recette phase 2'!$K$6:$K$15))*'Recette phase 2'!$J$4)+(SUMPRODUCT(('Recette phase 2'!$O$6:$O$15='Liste de course'!A14)*('Recette phase 2'!$N$6:$N$15))*'Recette phase 2'!$M$4)+(SUMPRODUCT(('Recette phase 2'!$C$19:$C$31='Liste de course'!A14)*('Recette phase 2'!$B$19:$B$31))*'Recette phase 2'!$A$17)+(SUMPRODUCT(('Recette phase 2'!$F$19:$F$31='Liste de course'!A14)*('Recette phase 2'!$E$19:$E$31))*'Recette phase 2'!$D$17)+(SUMPRODUCT(('Recette phase 2'!$I$19:$I$31='Liste de course'!A14)*('Recette phase 2'!$H$19:$H$31))*'Recette phase 2'!$G$17)+(SUMPRODUCT(('Recette phase 2'!$C$36:$C$50='Liste de course'!A14)*('Recette phase 2'!$B$36:$B$50))*'Recette phase 2'!$A$34)+(SUMPRODUCT(('Recette phase 2'!$F$36:$F$50='Liste de course'!A14)*('Recette phase 2'!$E$36:$E$50))*'Recette phase 2'!$D$34)+(SUMPRODUCT(('Recette phase 2'!$I$36:$I$50='Liste de course'!A14)*('Recette phase 2'!$H$36:$H$50))*'Recette phase 2'!$G$34)+(SUMPRODUCT(('Recette phase 2'!$L$36:$L$50='Liste de course'!A14)*('Recette phase 2'!$K$36:$K$50))*'Recette phase 2'!$J$34)+(SUMPRODUCT(('Recette phase 2'!$O$36:$O$50='Liste de course'!A14)*('Recette phase 2'!$N$36:$N$50))*'Recette phase 2'!$M$34)+(SUMPRODUCT(('Recette phase 2'!$C$54:$C$64='Liste de course'!A14)*('Recette phase 2'!$B$54:$B$64))*'Recette phase 2'!$A$52)+(SUMPRODUCT(('Recette phase 2'!$F$54:$F$64='Liste de course'!A14)*('Recette phase 2'!$E$54:$E$64))*'Recette phase 2'!$D$52)+(SUMPRODUCT(('Recette phase 2'!$I$54:$I$64='Liste de course'!A14)*('Recette phase 2'!$H$54:$H$64))*'Recette phase 2'!$G$52)+(SUMPRODUCT(('Recette phase 2'!$L$54:$L$64='Liste de course'!A14)*('Recette phase 2'!$K$54:$K$64))*'Recette phase 2'!$J$52)+(SUMPRODUCT(('Recette phase 2'!$O$54:$O$64='Liste de course'!A14)*('Recette phase 2'!$N$54:$N$64))*'Recette phase 2'!$M$52)+(SUMPRODUCT(('Recette phase 2'!$C$69:$C$85='Liste de course'!A14)*('Recette phase 2'!$B$69:$B$85))*'Recette phase 2'!$A$67)+(SUMPRODUCT(('Recette phase 2'!$F$69:$F$85='Liste de course'!A14)*('Recette phase 2'!$E$69:$E$85))*'Recette phase 2'!$D$67)+(SUMPRODUCT(('Recette phase 2'!$I$69:$I$85='Liste de course'!A14)*('Recette phase 2'!$H$69:$H$85))*'Recette phase 2'!$G$67)+(SUMPRODUCT(('Recette phase 2'!$L$69:$L$85='Liste de course'!A14)*('Recette phase 2'!$K$69:$K$85))*'Recette phase 2'!$J$67)+(SUMPRODUCT(('Recette phase 2'!$C$89:$C$104='Liste de course'!A14)*('Recette phase 2'!$B$89:$B$104))*'Recette phase 2'!$A$87)+(SUMPRODUCT(('Recette phase 2'!$F$89:$F$104='Liste de course'!A14)*('Recette phase 2'!$E$89:$E$104))*'Recette phase 2'!$D$87)+(SUMPRODUCT(('Recette phase 2'!$I$89:$I$104='Liste de course'!A14)*('Recette phase 2'!$H$89:$H$104))*'Recette phase 2'!$G$87)+(SUMPRODUCT(('Recette phase 2'!$L$89:$L$104='Liste de course'!A14)*('Recette phase 2'!$K$89:$K$104))*'Recette phase 2'!$J$87)+(SUMPRODUCT(('Recette phase 2'!$C$109:$C$119='Liste de course'!A14)*('Recette phase 2'!$B$109:$B$119))*'Recette phase 2'!$A$107)+(SUMPRODUCT(('Recette phase 2'!$F$109:$F$119='Liste de course'!A14)*('Recette phase 2'!$E$109:$E$119))*'Recette phase 2'!$D$107)+(SUMPRODUCT(('Recette phase 2'!$I$109:$I$119='Liste de course'!A14)*('Recette phase 2'!$H$109:$H$119))*'Recette phase 2'!$G$107)+(SUMPRODUCT(('Recette phase 2'!$L$109:$L$119='Liste de course'!A14)*('Recette phase 2'!$K$109:$K$119))*'Recette phase 2'!$J$107)+(SUMPRODUCT(('Recette phase 2'!$C$123:$C$128='Liste de course'!A14)*('Recette phase 2'!$B$123:$B$128))*'Recette phase 2'!$A$121)+(SUMPRODUCT(('Recette phase 2'!$F$123:$F$128='Liste de course'!A14)*('Recette phase 2'!$E$123:$E$128))*'Recette phase 2'!$D$121)+(SUMPRODUCT(('Recette phase 2'!$I$123:$I$128='Liste de course'!A14)*('Recette phase 2'!$H$123:$H$128))*'Recette phase 2'!$G$121)+(SUMPRODUCT(('Recette phase 2'!$L$123:$L$128='Liste de course'!A14)*('Recette phase 2'!$K$123:$K$128))*'Recette phase 2'!$J$121) -> 0 | C14: =(SUMPRODUCT(('Liste de course'!B14)-(Stock!B14))) -> -12 | D14: Oléagineux | E14: =(SUMPRODUCT(('Recette phase 2'!$C$6:$C$15='Liste de course'!D14)*('Recette phase 2'!$B$6:$B$15))*'Recette phase 2'!$A$4)+(SUMPRODUCT(('Recette phase 2'!$F$6:$F$15='Liste de course'!D14)*('Recette phase 2'!$E$6:$E$15))*'Recette phase 2'!$D$4)+(SUMPRODUCT(('Recette phase 2'!$I$6:$I$15='Liste de course'!D14)*('Recette phase 2'!$H$6:$H$15))*'Recette phase 2'!$G$4)+(SUMPRODUCT(('Recette phase 2'!$K$6:$K$15='Liste de course'!D14)*('Recette phase 2'!$K$6:$K$15))*'Recette phase 2'!$J$4)+(SUMPRODUCT(('Recette phase 2'!$O$6:$O$15='Liste de course'!D14)*('Recette phase 2'!$N$6:$N$15))*'Recette phase 2'!$M$4)+(SUMPRODUCT(('Recette phase 2'!$C$19:$C$31='Liste de course'!D14)*('Recette phase 2'!$B$19:$B$31))*'Recette phase 2'!$A$17)+(SUMPRODUCT(('Recette phase 2'!$F$19:$F$31='Liste de course'!D14)*('Recette phase 2'!$E$19:$E$31))*'Recette phase 2'!$D$17)+(SUMPRODUCT(('Recette phase 2'!$I$19:$I$31='Liste de course'!D14)*('Recette phase 2'!$H$19:$H$31))*'Recette phase 2'!$G$17)+(SUMPRODUCT(('Recette phase 2'!$C$36:$C$50='Liste de course'!D14)*('Recette phase 2'!$B$36:$B$50))*'Recette phase 2'!$A$34)+(SUMPRODUCT(('Recette phase 2'!$F$36:$F$50='Liste de course'!D14)*('Recette phase 2'!$E$36:$E$50))*'Recette phase 2'!$D$34)+(SUMPRODUCT(('Recette phase 2'!$I$36:$I$50='Liste de course'!D14)*('Recette phase 2'!$H$36:$H$50))*'Recette phase 2'!$G$34)+(SUMPRODUCT(('Recette phase 2'!$L$36:$L$50='Liste de course'!D14)*('Recette phase 2'!$K$36:$K$50))*'Recette phase 2'!$J$34)+(SUMPRODUCT(('Recette phase 2'!$O$36:$O$50='Liste de course'!D14)*('Recette phase 2'!$N$36:$N$50))*'Recette phase 2'!$M$34)+(SUMPRODUCT(('Recette phase 2'!$C$54:$C$64='Liste de course'!D14)*('Recette phase 2'!$B$54:$B$64))*'Recette phase 2'!$A$52)+(SUMPRODUCT(('Recette phase 2'!$F$54:$F$64='Liste de course'!D14)*('Recette phase 2'!$E$54:$E$64))*'Recette phase 2'!$D$52)+(SUMPRODUCT(('Recette phase 2'!$I$54:$I$64='Liste de course'!D14)*('Recette phase 2'!$H$54:$H$64))*'Recette phase 2'!$G$52)+(SUMPRODUCT(('Recette phase 2'!$L$54:$L$64='Liste de course'!D14)*('Recette phase 2'!$K$54:$K$64))*'Recette phase 2'!$J$52)+(SUMPRODUCT(('Recette phase 2'!$O$54:$O$64='Liste de course'!D14)*('Recette phase 2'!$N$54:$N$64))*'Recette phase 2'!$M$52)+(SUMPRODUCT(('Recette phase 2'!$C$69:$C$85='Liste de course'!D14)*('Recette phase 2'!$B$69:$B$85))*'Recette phase 2'!$A$67)+(SUMPRODUCT(('Recette phase 2'!$F$69:$F$85='Liste de course'!D14)*('Recette phase 2'!$E$69:$E$85))*'Recette phase 2'!$D$67)+(SUMPRODUCT(('Recette phase 2'!$I$69:$I$85='Liste de course'!D14)*('Recette phase 2'!$H$69:$H$85))*'Recette phase 2'!$G$67)+(SUMPRODUCT(('Recette phase 2'!$L$69:$L$85='Liste de course'!D14)*('Recette phase 2'!$K$69:$K$85))*'Recette phase 2'!$J$67)+(SUMPRODUCT(('Recette phase 2'!$C$89:$C$104='Liste de course'!D14)*('Recette phase 2'!$B$89:$B$104))*'Recette phase 2'!$A$87)+(SUMPRODUCT(('Recette phase 2'!$F$89:$F$104='Liste de course'!D14)*('Recette phase 2'!$E$89:$E$104))*'Recette phase 2'!$D$87)+(SUMPRODUCT(('Recette phase 2'!$I$89:$I$104='Liste de course'!D14)*('Recette phase 2'!$H$89:$H$104))*'Recette phase 2'!$G$87)+(SUMPRODUCT(('Recette phase 2'!$L$89:$L$104='Liste de course'!D14)*('Recette phase 2'!$K$89:$K$104))*'Recette phase 2'!$J$87)+(SUMPRODUCT(('Recette phase 2'!$C$109:$C$119='Liste de course'!D14)*('Recette phase 2'!$B$109:$B$119))*'Recette phase 2'!$A$107)+(SUMPRODUCT(('Recette phase 2'!$F$109:$F$119='Liste de course'!D14)*('Recette phase 2'!$E$109:$E$119))*'Recette phase 2'!$D$107)+(SUMPRODUCT(('Recette phase 2'!$I$109:$I$119='Liste de course'!D14)*('Recette phase 2'!$H$109:$H$119))*'Recette phase 2'!$G$107)+(SUMPRODUCT(('Recette phase 2'!$L$109:$L$119='Liste de course'!D14)*('Recette phase 2'!$K$109:$K$119))*'Recette phase 2'!$J$107)+(SUMPRODUCT(('Recette phase 2'!$C$123:$C$128='Liste de course'!D14)*('Recette phase 2'!$B$123:$B$128))*'Recette phase 2'!$A$121)+(SUMPRODUCT(('Recette phase 2'!$F$123:$F$128='Liste de course'!D14)*('Recette phase 2'!$E$123:$E$128))*'Recette phase 2'!$D$121)+(SUMPRODUCT(('Recette phase 2'!$I$123:$I$128='Liste de course'!D14)*('Recette phase 2'!$H$123:$H$128))*'Recette phase 2'!$G$121)+(SUMPRODUCT(('Recette phase 2'!$L$123:$L$128='Liste de course'!D14)*('Recette phase 2'!$K$123:$K$128))*'Recette phase 2'!$J$121) -> 0 | F14: =(SUMPRODUCT(('Liste de course'!E14)-(Stock!D14))) -> -315
A15: Viande Poisson | D15: Pomme | E15: =(SUMPRODUCT(('Recette phase 2'!$C$6:$C$15='Liste de course'!D15)*('Recette phase 2'!$B$6:$B$15))*'Recette phase 2'!$A$4)+(SUMPRODUCT(('Recette phase 2'!$F$6:$F$15='Liste de course'!D15)*('Recette phase 2'!$E$6:$E$15))*'Recette phase 2'!$D$4)+(SUMPRODUCT(('Recette phase 2'!$I$6:$I$15='Liste de course'!D15)*('Recette phase 2'!$H$6:$H$15))*'Recette phase 2'!$G$4)+(SUMPRODUCT(('Recette phase 2'!$K$6:$K$15='Liste de course'!D15)*('Recette phase 2'!$K$6:$K$15))*'Recette phase 2'!$J$4)+(SUMPRODUCT(('Recette phase 2'!$O$6:$O$15='Liste de course'!D15)*('Recette phase 2'!$N$6:$N$15))*'Recette phase 2'!$M$4)+(SUMPRODUCT(('Recette phase 2'!$C$19:$C$31='Liste de course'!D15)*('Recette phase 2'!$B$19:$B$31))*'Recette phase 2'!$A$17)+(SUMPRODUCT(('Recette phase 2'!$F$19:$F$31='Liste de course'!D15)*('Recette phase 2'!$E$19:$E$31))*'Recette phase 2'!$D$17)+(SUMPRODUCT(('Recette phase 2'!$I$19:$I$31='Liste de course'!D15)*('Recette phase 2'!$H$19:$H$31))*'Recette phase 2'!$G$17)+(SUMPRODUCT(('Recette phase 2'!$C$36:$C$50='Liste de course'!D15)*('Recette phase 2'!$B$36:$B$50))*'Recette phase 2'!$A$34)+(SUMPRODUCT(('Recette phase 2'!$F$36:$F$50='Liste de course'!D15)*('Recette phase 2'!$E$36:$E$50))*'Recette phase 2'!$D$34)+(SUMPRODUCT(('Recette phase 2'!$I$36:$I$50='Liste de course'!D15)*('Recette phase 2'!$H$36:$H$50))*'Recette phase 2'!$G$34)+(SUMPRODUCT(('Recette phase 2'!$L$36:$L$50='Liste de course'!D15)*('Recette phase 2'!$K$36:$K$50))*'Recette phase 2'!$J$34)+(SUMPRODUCT(('Recette phase 2'!$O$36:$O$50='Liste de course'!D15)*('Recette phase 2'!$N$36:$N$50))*'Recette phase 2'!$M$34)+(SUMPRODUCT(('Recette phase 2'!$C$54:$C$64='Liste de course'!D15)*('Recette phase 2'!$B$54:$B$64))*'Recette phase 2'!$A$52)+(SUMPRODUCT(('Recette phase 2'!$F$54:$F$64='Liste de course'!D15)*('Recette phase 2'!$E$54:$E$64))*'Recette phase 2'!$D$52)+(SUMPRODUCT(('Recette phase 2'!$I$54:$I$64='Liste de course'!D15)*('Recette phase 2'!$H$54:$H$64))*'Recette phase 2'!$G$52)+(SUMPRODUCT(('Recette phase 2'!$L$54:$L$64='Liste de course'!D15)*('Recette phase 2'!$K$54:$K$64))*'Recette phase 2'!$J$52)+(SUMPRODUCT(('Recette phase 2'!$O$54:$O$64='Liste de course'!D15)*('Recette phase 2'!$N$54:$N$64))*'Recette phase 2'!$M$52)+(SUMPRODUCT(('Recette phase 2'!$C$69:$C$85='Liste de course'!D15)*('Recette phase 2'!$B$69:$B$85))*'Recette phase 2'!$A$67)+(SUMPRODUCT(('Recette phase 2'!$F$69:$F$85='Liste de course'!D15)*('Recette phase 2'!$E$69:$E$85))*'Recette phase 2'!$D$67)+(SUMPRODUCT(('Recette phase 2'!$I$69:$I$85='Liste de course'!D15)*('Recette phase 2'!$H$69:$H$85))*'Recette phase 2'!$G$67)+(SUMPRODUCT(('Recette phase 2'!$L$69:$L$85='Liste de course'!D15)*('Recette phase 2'!$K$69:$K$85))*'Recette phase 2'!$J$67)+(SUMPRODUCT(('Recette phase 2'!$C$89:$C$104='Liste de course'!D15)*('Recette phase 2'!$B$89:$B$104))*'Recette phase 2'!$A$87)+(SUMPRODUCT(('Recette phase 2'!$F$89:$F$104='Liste de course'!D15)*('Recette phase 2'!$E$89:$E$104))*'Recette phase 2'!$D$87)+(SUMPRODUCT(('Recette phase 2'!$I$89:$I$104='Liste de course'!D15)*('Recette phase 2'!$H$89:$H$104))*'Recette phase 2'!$G$87)+(SUMPRODUCT(('Recette phase 2'!$L$89:$L$104='Liste de course'!D15)*('Recette phase 2'!$K$89:$K$104))*'Recette phase 2'!$J$87)+(SUMPRODUCT(('Recette phase 2'!$C$109:$C$119='Liste de course'!D15)*('Recette phase 2'!$B$109:$B$119))*'Recette phase 2'!$A$107)+(SUMPRODUCT(('Recette phase 2'!$F$109:$F$119='Liste de course'!D15)*('Recette phase 2'!$E$109:$E$119))*'Recette phase 2'!$D$107)+(SUMPRODUCT(('Recette phase 2'!$I$109:$I$119='Liste de course'!D15)*('Recette phase 2'!$H$109:$H$119))*'Recette phase 2'!$G$107)+(SUMPRODUCT(('Recette phase 2'!$L$109:$L$119='Liste de course'!D15)*('Recette phase 2'!$K$109:$K$119))*'Recette phase 2'!$J$107)+(SUMPRODUCT(('Recette phase 2'!$C$123:$C$128='Liste de course'!D15)*('Recette phase 2'!$B$123:$B$128))*'Recette phase 2'!$A$121)+(SUMPRODUCT(('Recette phase 2'!$F$123:$F$128='Liste de course'!D15)*('Recette phase 2'!$E$123:$E$128))*'Recette phase 2'!$D$121)+(SUMPRODUCT(('Recette phase 2'!$I$123:$I$128='Liste de course'!D15)*('Recette phase 2'!$H$123:$H$128))*'Recette phase 2'!$G$121)+(SUMPRODUCT(('Recette phase 2'!$L$123:$L$128='Liste de course'!D15)*('Recette phase 2'!$K$123:$K$128))*'Recette phase 2'!$J$121) -> 0 | F15: =(SUMPRODUCT(('Liste de course'!E15)-(Stock!D15))) -> 0
A16: Carpaccio | B16: =(SUMPRODUCT(('Recette phase 2'!$C$6:$C$15='Liste de course'!A16)*('Recette phase 2'!$B$6:$B$15))*'Recette phase 2'!$A$4)+(SUMPRODUCT(('Recette phase 2'!$F$6:$F$15='Liste de course'!A16)*('Recette phase 2'!$E$6:$E$15))*'Recette phase 2'!$D$4)+(SUMPRODUCT(('Recette phase 2'!$I$6:$I$15='Liste de course'!A16)*('Recette phase 2'!$H$6:$H$15))*'Recette phase 2'!$G$4)+(SUMPRODUCT(('Recette phase 2'!$K$6:$K$15='Liste de course'!A16)*('Recette phase 2'!$K$6:$K$15))*'Recette phase 2'!$J$4)+(SUMPRODUCT(('Recette phase 2'!$O$6:$O$15='Liste de course'!A16)*('Recette phase 2'!$N$6:$N$15))*'Recette phase 2'!$M$4)+(SUMPRODUCT(('Recette phase 2'!$C$19:$C$31='Liste de course'!A16)*('Recette phase 2'!$B$19:$B$31))*'Recette phase 2'!$A$17)+(SUMPRODUCT(('Recette phase 2'!$F$19:$F$31='Liste de course'!A16)*('Recette phase 2'!$E$19:$E$31))*'Recette phase 2'!$D$17)+(SUMPRODUCT(('Recette phase 2'!$I$19:$I$31='Liste de course'!A16)*('Recette phase 2'!$H$19:$H$31))*'Recette phase 2'!$G$17)+(SUMPRODUCT(('Recette phase 2'!$C$36:$C$50='Liste de course'!A16)*('Recette phase 2'!$B$36:$B$50))*'Recette phase 2'!$A$34)+(SUMPRODUCT(('Recette phase 2'!$F$36:$F$50='Liste de course'!A16)*('Recette phase 2'!$E$36:$E$50))*'Recette phase 2'!$D$34)+(SUMPRODUCT(('Recette phase 2'!$I$36:$I$50='Liste de course'!A16)*('Recette phase 2'!$H$36:$H$50))*'Recette phase 2'!$G$34)+(SUMPRODUCT(('Recette phase 2'!$L$36:$L$50='Liste de course'!A16)*('Recette phase 2'!$K$36:$K$50))*'Recette phase 2'!$J$34)+(SUMPRODUCT(('Recette phase 2'!$O$36:$O$50='Liste de course'!A16)*('Recette phase 2'!$N$36:$N$50))*'Recette phase 2'!$M$34)+(SUMPRODUCT(('Recette phase 2'!$C$54:$C$64='Liste de course'!A16)*('Recette phase 2'!$B$54:$B$64))*'Recette phase 2'!$A$52)+(SUMPRODUCT(('Recette phase 2'!$F$54:$F$64='Liste de course'!A16)*('Recette phase 2'!$E$54:$E$64))*'Recette phase 2'!$D$52)+(SUMPRODUCT(('Recette phase 2'!$I$54:$I$64='Liste de course'!A16)*('Recette phase 2'!$H$54:$H$64))*'Recette phase 2'!$G$52)+(SUMPRODUCT(('Recette phase 2'!$L$54:$L$64='Liste de course'!A16)*('Recette phase 2'!$K$54:$K$64))*'Recette phase 2'!$J$52)+(SUMPRODUCT(('Recette phase 2'!$O$54:$O$64='Liste de course'!A16)*('Recette phase 2'!$N$54:$N$64))*'Recette phase 2'!$M$52)+(SUMPRODUCT(('Recette phase 2'!$C$69:$C$85='Liste de course'!A16)*('Recette phase 2'!$B$69:$B$85))*'Recette phase 2'!$A$67)+(SUMPRODUCT(('Recette phase 2'!$F$69:$F$85='Liste de course'!A16)*('Recette phase 2'!$E$69:$E$85))*'Recette phase 2'!$D$67)+(SUMPRODUCT(('Recette phase 2'!$I$69:$I$85='Liste de course'!A16)*('Recette phase 2'!$H$69:$H$85))*'Recette phase 2'!$G$67)+(SUMPRODUCT(('Recette phase 2'!$L$69:$L$85='Liste de course'!A16)*('Recette phase 2'!$K$69:$K$85))*'Recette phase 2'!$J$67)+(SUMPRODUCT(('Recette phase 2'!$C$89:$C$104='Liste de course'!A16)*('Recette phase 2'!$B$89:$B$104))*'Recette phase 2'!$A$87)+(SUMPRODUCT(('Recette phase 2'!$F$89:$F$104='Liste de course'!A16)*('Recette phase 2'!$E$89:$E$104))*'Recette phase 2'!$D$87)+(SUMPRODUCT(('Recette phase 2'!$I$89:$I$104='Liste de course'!A16)*('Recette phase 2'!$H$89:$H$104))*'Recette phase 2'!$G$87)+(SUMPRODUCT(('Recette phase 2'!$L$89:$L$104='Liste de course'!A16)*('Recette phase 2'!$K$89:$K$104))*'Recette phase 2'!$J$87)+(SUMPRODUCT(('Recette phase 2'!$C$109:$C$119='Liste de course'!A16)*('Recette phase 2'!$B$109:$B$119))*'Recette phase 2'!$A$107)+(SUMPRODUCT(('Recette phase 2'!$F$109:$F$119='Liste de course'!A16)*('Recette phase 2'!$E$109:$E$119))*'Recette phase 2'!$D$107)+(SUMPRODUCT(('Recette phase 2'!$I$109:$I$119='Liste de course'!A16)*('Recette phase 2'!$H$109:$H$119))*'Recette phase 2'!$G$107)+(SUMPRODUCT(('Recette phase 2'!$L$109:$L$119='Liste de course'!A16)*('Recette phase 2'!$K$109:$K$119))*'Recette phase 2'!$J$107)+(SUMPRODUCT(('Recette phase 2'!$C$123:$C$128='Liste de course'!A16)*('Recette phase 2'!$B$123:$B$128))*'Recette phase 2'!$A$121)+(SUMPRODUCT(('Recette phase 2'!$F$123:$F$128='Liste de course'!A16)*('Recette phase 2'!$E$123:$E$128))*'Recette phase 2'!$D$121)+(SUMPRODUCT(('Recette phase 2'!$I$123:$I$128='Liste de course'!A16)*('Recette phase 2'!$H$123:$H$128))*'Recette phase 2'!$G$121)+(SUMPRODUCT(('Recette phase 2'!$L$123:$L$128='Liste de course'!A16)*('Recette phase 2'!$K$123:$K$128))*'Recette phase 2'!$J$121) -> 0 | C16: =(SUMPRODUCT(('Liste de course'!B16)-(Stock!B16))) -> 0 | D16: Pruneaux d'Agen | E16: =(SUMPRODUCT(('Recette phase 2'!$C$6:$C$15='Liste de course'!D16)*('Recette phase 2'!$B$6:$B$15))*'Recette phase 2'!$A$4)+(SUMPRODUCT(('Recette phase 2'!$F$6:$F$15='Liste de course'!D16)*('Recette phase 2'!$E$6:$E$15))*'Recette phase 2'!$D$4)+(SUMPRODUCT(('Recette phase 2'!$I$6:$I$15='Liste de course'!D16)*('Recette phase 2'!$H$6:$H$15))*'Recette phase 2'!$G$4)+(SUMPRODUCT(('Recette phase 2'!$K$6:$K$15='Liste de course'!D16)*('Recette phase 2'!$K$6:$K$15))*'Recette phase 2'!$J$4)+(SUMPRODUCT(('Recette phase 2'!$O$6:$O$15='Liste de course'!D16)*('Recette phase 2'!$N$6:$N$15))*'Recette phase 2'!$M$4)+(SUMPRODUCT(('Recette phase 2'!$C$19:$C$31='Liste de course'!D16)*('Recette phase 2'!$B$19:$B$31))*'Recette phase 2'!$A$17)+(SUMPRODUCT(('Recette phase 2'!$F$19:$F$31='Liste de course'!D16)*('Recette phase 2'!$E$19:$E$31))*'Recette phase 2'!$D$17)+(SUMPRODUCT(('Recette phase 2'!$I$19:$I$31='Liste de course'!D16)*('Recette phase 2'!$H$19:$H$31))*'Recette phase 2'!$G$17)+(SUMPRODUCT(('Recette phase 2'!$C$36:$C$50='Liste de course'!D16)*('Recette phase 2'!$B$36:$B$50))*'Recette phase 2'!$A$34)+(SUMPRODUCT(('Recette phase 2'!$F$36:$F$50='Liste de course'!D16)*('Recette phase 2'!$E$36:$E$50))*'Recette phase 2'!$D$34)+(SUMPRODUCT(('Recette phase 2'!$I$36:$I$50='Liste de course'!D16)*('Recette phase 2'!$H$36:$H$50))*'Recette phase 2'!$G$34)+(SUMPRODUCT(('Recette phase 2'!$L$36:$L$50='Liste de course'!D16)*('Recette phase 2'!$K$36:$K$50))*'Recette phase 2'!$J$34)+(SUMPRODUCT(('Recette phase 2'!$O$36:$O$50='Liste de course'!D16)*('Recette phase 2'!$N$36:$N$50))*'Recette phase 2'!$M$34)+(SUMPRODUCT(('Recette phase 2'!$C$54:$C$64='Liste de course'!D16)*('Recette phase 2'!$B$54:$B$64))*'Recette phase 2'!$A$52)+(SUMPRODUCT(('Recette phase 2'!$F$54:$F$64='Liste de course'!D16)*('Recette phase 2'!$E$54:$E$64))*'Recette phase 2'!$D$52)+(SUMPRODUCT(('Recette phase 2'!$I$54:$I$64='Liste de course'!D16)*('Recette phase 2'!$H$54:$H$64))*'Recette phase 2'!$G$52)+(SUMPRODUCT(('Recette phase 2'!$L$54:$L$64='Liste de course'!D16)*('Recette phase 2'!$K$54:$K$64))*'Recette phase 2'!$J$52)+(SUMPRODUCT(('Recette phase 2'!$O$54:$O$64='Liste de course'!D16)*('Recette phase 2'!$N$54:$N$64))*'Recette phase 2'!$M$52)+(SUMPRODUCT(('Recette phase 2'!$C$69:$C$85='Liste de course'!D16)*('Recette phase 2'!$B$69:$B$85))*'Recette phase 2'!$A$67)+(SUMPRODUCT(('Recette phase 2'!$F$69:$F$85='Liste de course'!D16)*('Recette phase 2'!$E$69:$E$85))*'Recette phase 2'!$D$67)+(SUMPRODUCT(('Recette phase 2'!$I$69:$I$85='Liste de course'!D16)*('Recette phase 2'!$H$69:$H$85))*'Recette phase 2'!$G$67)+(SUMPRODUCT(('Recette phase 2'!$L$69:$L$85='Liste de course'!D16)*('Recette phase 2'!$K$69:$K$85))*'Recette phase 2'!$J$67)+(SUMPRODUCT(('Recette phase 2'!$C$89:$C$104='Liste de course'!D16)*('Recette phase 2'!$B$89:$B$104))*'Recette phase 2'!$A$87)+(SUMPRODUCT(('Recette phase 2'!$F$89:$F$104='Liste de course'!D16)*('Recette phase 2'!$E$89:$E$104))*'Recette phase 2'!$D$87)+(SUMPRODUCT(('Recette phase 2'!$I$89:$I$104='Liste de course'!D16)*('Recette phase 2'!$H$89:$H$104))*'Recette phase 2'!$G$87)+(SUMPRODUCT(('Recette phase 2'!$L$89:$L$104='Liste de course'!D16)*('Recette phase 2'!$K$89:$K$104))*'Recette phase 2'!$J$87)+(SUMPRODUCT(('Recette phase 2'!$C$109:$C$119='Liste de course'!D16)*('Recette phase 2'!$B$109:$B$119))*'Recette phase 2'!$A$107)+(SUMPRODUCT(('Recette phase 2'!$F$109:$F$119='Liste de course'!D16)*('Recette phase 2'!$E$109:$E$119))*'Recette phase 2'!$D$107)+(SUMPRODUCT(('Recette phase 2'!$I$109:$I$119='Liste de course'!D16)*('Recette phase 2'!$H$109:$H$119))*'Recette phase 2'!$G$107)+(SUMPRODUCT(('Recette phase 2'!$L$109:$L$119='Liste de course'!D16)*('Recette phase 2'!$K$109:$K$119))*'Recette phase 2'!$J$107)+(SUMPRODUCT(('Recette phase 2'!$C$123:$C$128='Liste de course'!D16)*('Recette phase 2'!$B$123:$B$128))*'Recette phase 2'!$A$121)+(SUMPRODUCT(('Recette phase 2'!$F$123:$F$128='Liste de course'!D16)*('Recette phase 2'!$E$123:$E$128))*'Recette phase 2'!$D$121)+(SUMPRODUCT(('Recette phase 2'!$I$123:$I$128='Liste de course'!D16)*('Recette phase 2'!$H$123:$H$128))*'Recette phase 2'!$G$121)+(SUMPRODUCT(('Recette phase 2'!$L$123:$L$128='Liste de course'!D16)*('Recette phase 2'!$K$123:$K$128))*'Recette phase 2'!$J$121) -> 0 | F16: =(SUMPRODUCT(('Liste de course'!E16)-(Stock!D16))) -> 0
A17: Bacon | B17: =(SUMPRODUCT(('Recette phase 2'!$C$6:$C$15='Liste de course'!A17)*('Recette phase 2'!$B$6:$B$15))*'Recette phase 2'!$A$4)+(SUMPRODUCT(('Recette phase 2'!$F$6:$F$15='Liste de course'!A17)*('Recette phase 2'!$E$6:$E$15))*'Recette phase 2'!$D$4)+(SUMPRODUCT(('Recette phase 2'!$I$6:$I$15='Liste de course'!A17)*('Recette phase 2'!$H$6:$H$15))*'Recette phase 2'!$G$4)+(SUMPRODUCT(('Recette phase 2'!$K$6:$K$15='Liste de course'!A17)*('Recette phase 2'!$K$6:$K$15))*'Recette phase 2'!$J$4)+(SUMPRODUCT(('Recette phase 2'!$O$6:$O$15='Liste de course'!A17)*('Recette phase 2'!$N$6:$N$15))*'Recette phase 2'!$M$4)+(SUMPRODUCT(('Recette phase 2'!$C$19:$C$31='Liste de course'!A17)*('Recette phase 2'!$B$19:$B$31))*'Recette phase 2'!$A$17)+(SUMPRODUCT(('Recette phase 2'!$F$19:$F$31='Liste de course'!A17)*('Recette phase 2'!$E$19:$E$31))*'Recette phase 2'!$D$17)+(SUMPRODUCT(('Recette phase 2'!$I$19:$I$31='Liste de course'!A17)*('Recette phase 2'!$H$19:$H$31))*'Recette phase 2'!$G$17)+(SUMPRODUCT(('Recette phase 2'!$C$36:$C$50='Liste de course'!A17)*('Recette phase 2'!$B$36:$B$50))*'Recette phase 2'!$A$34)+(SUMPRODUCT(('Recette phase 2'!$F$36:$F$50='Liste de course'!A17)*('Recette phase 2'!$E$36:$E$50))*'Recette phase 2'!$D$34)+(SUMPRODUCT(('Recette phase 2'!$I$36:$I$50='Liste de course'!A17)*('Recette phase 2'!$H$36:$H$50))*'Recette phase 2'!$G$34)+(SUMPRODUCT(('Recette phase 2'!$L$36:$L$50='Liste de course'!A17)*('Recette phase 2'!$K$36:$K$50))*'Recette phase 2'!$J$34)+(SUMPRODUCT(('Recette phase 2'!$O$36:$O$50='Liste de course'!A17)*('Recette phase 2'!$N$36:$N$50))*'Recette phase 2'!$M$34)+(SUMPRODUCT(('Recette phase 2'!$C$54:$C$64='Liste de course'!A17)*('Recette phase 2'!$B$54:$B$64))*'Recette phase 2'!$A$52)+(SUMPRODUCT(('Recette phase 2'!$F$54:$F$64='Liste de course'!A17)*('Recette phase 2'!$E$54:$E$64))*'Recette phase 2'!$D$52)+(SUMPRODUCT(('Recette phase 2'!$I$54:$I$64='Liste de course'!A17)*('Recette phase 2'!$H$54:$H$64))*'Recette phase 2'!$G$52)+(SUMPRODUCT(('Recette phase 2'!$L$54:$L$64='Liste de course'!A17)*('Recette phase 2'!$K$54:$K$64))*'Recette phase 2'!$J$52)+(SUMPRODUCT(('Recette phase 2'!$O$54:$O$64='Liste de course'!A17)*('Recette phase 2'!$N$54:$N$64))*'Recette phase 2'!$M$52)+(SUMPRODUCT(('Recette phase 2'!$C$69:$C$85='Liste de course'!A17)*('Recette phase 2'!$B$69:$B$85))*'Recette phase 2'!$A$67)+(SUMPRODUCT(('Recette phase 2'!$F$69:$F$85='Liste de course'!A17)*('Recette phase 2'!$E$69:$E$85))*'Recette phase 2'!$D$67)+(SUMPRODUCT(('Recette phase 2'!$I$69:$I$85='Liste de course'!A17)*('Recette phase 2'!$H$69:$H$85))*'Recette phase 2'!$G$67)+(SUMPRODUCT(('Recette phase 2'!$L$69:$L$85='Liste de course'!A17)*('Recette phase 2'!$K$69:$K$85))*'Recette phase 2'!$J$67)+(SUMPRODUCT(('Recette phase 2'!$C$89:$C$104='Liste de course'!A17)*('Recette phase 2'!$B$89:$B$104))*'Recette phase 2'!$A$87)+(SUMPRODUCT(('Recette phase 2'!$F$89:$F$104='Liste de course'!A17)*('Recette phase 2'!$E$89:$E$104))*'Recette phase 2'!$D$87)+(SUMPRODUCT(('Recette phase 2'!$I$89:$I$104='Liste de course'!A17)*('Recette phase 2'!$H$89:$H$104))*'Recette phase 2'!$G$87)+(SUMPRODUCT(('Recette phase 2'!$L$89:$L$104='Liste de course'!A17)*('Recette phase 2'!$K$89:$K$104))*'Recette phase 2'!$J$87)+(SUMPRODUCT(('Recette phase 2'!$C$109:$C$119='Liste de course'!A17)*('Recette phase 2'!$B$109:$B$119))*'Recette phase 2'!$A$107)+(SUMPRODUCT(('Recette phase 2'!$F$109:$F$119='Liste de course'!A17)*('Recette phase 2'!$E$109:$E$119))*'Recette phase 2'!$D$107)+(SUMPRODUCT(('Recette phase 2'!$I$109:$I$119='Liste de course'!A17)*('Recette phase 2'!$H$109:$H$119))*'Recette phase 2'!$G$107)+(SUMPRODUCT(('Recette phase 2'!$L$109:$L$119='Liste de course'!A17)*('Recette phase 2'!$K$109:$K$119))*'Recette phase 2'!$J$107)+(SUMPRODUCT(('Recette phase 2'!$C$123:$C$128='Liste de course'!A17)*('Recette phase 2'!$B$123:$B$128))*'Recette phase 2'!$A$121)+(SUMPRODUCT(('Recette phase 2'!$F$123:$F$128='Liste de course'!A17)*('Recette phase 2'!$E$123:$E$128))*'Recette phase 2'!$D$121)+(SUMPRODUCT(('Recette phase 2'!$I$123:$I$128='Liste de course'!A17)*('Recette phase 2'!$H$123:$H$128))*'Recette phase 2'!$G$121)+(SUMPRODUCT(('Recette phase 2'!$L$123:$L$128='Liste de course'!A17)*('Recette phase 2'!$K$123:$K$128))*'Recette phase 2'!$J$121) -> 0 | C17: =(SUMPRODUCT(('Liste de course'!B17)-(Stock!B17))) -> 0 | D17: Tomate | E17: =(SUMPRODUCT(('Recette phase 2'!$C$6:$C$15='Liste de course'!D17)*('Recette phase 2'!$B$6:$B$15))*'Recette phase 2'!$A$4)+(SUMPRODUCT(('Recette phase 2'!$F$6:$F$15='Liste de course'!D17)*('Recette phase 2'!$E$6:$E$15))*'Recette phase 2'!$D$4)+(SUMPRODUCT(('Recette phase 2'!$I$6:$I$15='Liste de course'!D17)*('Recette phase 2'!$H$6:$H$15))*'Recette phase 2'!$G$4)+(SUMPRODUCT(('Recette phase 2'!$K$6:$K$15='Liste de course'!D17)*('Recette phase 2'!$K$6:$K$15))*'Recette phase 2'!$J$4)+(SUMPRODUCT(('Recette phase 2'!$O$6:$O$15='Liste de course'!D17)*('Recette phase 2'!$N$6:$N$15))*'Recette phase 2'!$M$4)+(SUMPRODUCT(('Recette phase 2'!$C$19:$C$31='Liste de course'!D17)*('Recette phase 2'!$B$19:$B$31))*'Recette phase 2'!$A$17)+(SUMPRODUCT(('Recette phase 2'!$F$19:$F$31='Liste de course'!D17)*('Recette phase 2'!$E$19:$E$31))*'Recette phase 2'!$D$17)+(SUMPRODUCT(('Recette phase 2'!$I$19:$I$31='Liste de course'!D17)*('Recette phase 2'!$H$19:$H$31))*'Recette phase 2'!$G$17)+(SUMPRODUCT(('Recette phase 2'!$C$36:$C$50='Liste de course'!D17)*('Recette phase 2'!$B$36:$B$50))*'Recette phase 2'!$A$34)+(SUMPRODUCT(('Recette phase 2'!$F$36:$F$50='Liste de course'!D17)*('Recette phase 2'!$E$36:$E$50))*'Recette phase 2'!$D$34)+(SUMPRODUCT(('Recette phase 2'!$I$36:$I$50='Liste de course'!D17)*('Recette phase 2'!$H$36:$H$50))*'Recette phase 2'!$G$34)+(SUMPRODUCT(('Recette phase 2'!$L$36:$L$50='Liste de course'!D17)*('Recette phase 2'!$K$36:$K$50))*'Recette phase 2'!$J$34)+(SUMPRODUCT(('Recette phase 2'!$O$36:$O$50='Liste de course'!D17)*('Recette phase 2'!$N$36:$N$50))*'Recette phase 2'!$M$34)+(SUMPRODUCT(('Recette phase 2'!$C$54:$C$64='Liste de course'!D17)*('Recette phase 2'!$B$54:$B$64))*'Recette phase 2'!$A$52)+(SUMPRODUCT(('Recette phase 2'!$F$54:$F$64='Liste de course'!D17)*('Recette phase 2'!$E$54:$E$64))*'Recette phase 2'!$D$52)+(SUMPRODUCT(('Recette phase 2'!$I$54:$I$64='Liste de course'!D17)*('Recette phase 2'!$H$54:$H$64))*'Recette phase 2'!$G$52)+(SUMPRODUCT(('Recette phase 2'!$L$54:$L$64='Liste de course'!D17)*('Recette phase 2'!$K$54:$K$64))*'Recette phase 2'!$J$52)+(SUMPRODUCT(('Recette phase 2'!$O$54:$O$64='Liste de course'!D17)*('Recette phase 2'!$N$54:$N$64))*'Recette phase 2'!$M$52)+(SUMPRODUCT(('Recette phase 2'!$C$69:$C$85='Liste de course'!D17)*('Recette phase 2'!$B$69:$B$85))*'Recette phase 2'!$A$67)+(SUMPRODUCT(('Recette phase 2'!$F$69:$F$85='Liste de course'!D17)*('Recette phase 2'!$E$69:$E$85))*'Recette phase 2'!$D$67)+(SUMPRODUCT(('Recette phase 2'!$I$69:$I$85='Liste de course'!D17)*('Recette phase 2'!$H$69:$H$85))*'Recette phase 2'!$G$67)+(SUMPRODUCT(('Recette phase 2'!$L$69:$L$85='Liste de course'!D17)*('Recette phase 2'!$K$69:$K$85))*'Recette phase 2'!$J$67)+(SUMPRODUCT(('Recette phase 2'!$C$89:$C$104='Liste de course'!D17)*('Recette phase 2'!$B$89:$B$104))*'Recette phase 2'!$A$87)+(SUMPRODUCT(('Recette phase 2'!$F$89:$F$104='Liste de course'!D17)*('Recette phase 2'!$E$89:$E$104))*'Recette phase 2'!$D$87)+(SUMPRODUCT(('Recette phase 2'!$I$89:$I$104='Liste de course'!D17)*('Recette phase 2'!$H$89:$H$104))*'Recette phase 2'!$G$87)+(SUMPRODUCT(('Recette phase 2'!$L$89:$L$104='Liste de course'!D17)*('Recette phase 2'!$K$89:$K$104))*'Recette phase 2'!$J$87)+(SUMPRODUCT(('Recette phase 2'!$C$109:$C$119='Liste de course'!D17)*('Recette phase 2'!$B$109:$B$119))*'Recette phase 2'!$A$107)+(SUMPRODUCT(('Recette phase 2'!$F$109:$F$119='Liste de course'!D17)*('Recette phase 2'!$E$109:$E$119))*'Recette phase 2'!$D$107)+(SUMPRODUCT(('Recette phase 2'!$I$109:$I$119='Liste de course'!D17)*('Recette phase 2'!$H$109:$H$119))*'Recette phase 2'!$G$107)+(SUMPRODUCT(('Recette phase 2'!$L$109:$L$119='Liste de course'!D17)*('Recette phase 2'!$K$109:$K$119))*'Recette phase 2'!$J$107)+(SUMPRODUCT(('Recette phase 2'!$C$123:$C$128='Liste de course'!D17)*('Recette phase 2'!$B$123:$B$128))*'Recette phase 2'!$A$121)+(SUMPRODUCT(('Recette phase 2'!$F$123:$F$128='Liste de course'!D17)*('Recette phase 2'!$E$123:$E$128))*'Recette phase 2'!$D$121)+(SUMPRODUCT(('Recette phase 2'!$I$123:$I$128='Liste de course'!D17)*('Recette phase 2'!$H$123:$H$128))*'Recette phase 2'!$G$121)+(SUMPRODUCT(('Recette phase 2'!$L$123:$L$128='Liste de course'!D17)*('Recette phase 2'!$K$123:$K$128))*'Recette phase 2'!$J$121) -> 0 | F17: =(SUMPRODUCT(('Liste de course'!E17)-(Stock!D17))) -> -1200
A18: Blanc de poulet | B18: =(SUMPRODUCT(('Recette phase 2'!$C$6:$C$15='Liste de course'!A18)*('Recette phase 2'!$B$6:$B$15))*'Recette phase 2'!$A$4)+(SUMPRODUCT(('Recette phase 2'!$F$6:$F$15='Liste de course'!A18)*('Recette phase 2'!$E$6:$E$15))*'Recette phase 2'!$D$4)+(SUMPRODUCT(('Recette phase 2'!$I$6:$I$15='Liste de course'!A18)*('Recette phase 2'!$H$6:$H$15))*'Recette phase 2'!$G$4)+(SUMPRODUCT(('Recette phase 2'!$K$6:$K$15='Liste de course'!A18)*('Recette phase 2'!$K$6:$K$15))*'Recette phase 2'!$J$4)+(SUMPRODUCT(('Recette phase 2'!$O$6:$O$15='Liste de course'!A18)*('Recette phase 2'!$N$6:$N$15))*'Recette phase 2'!$M$4)+(SUMPRODUCT(('Recette phase 2'!$C$19:$C$31='Liste de course'!A18)*('Recette phase 2'!$B$19:$B$31))*'Recette phase 2'!$A$17)+(SUMPRODUCT(('Recette phase 2'!$F$19:$F$31='Liste de course'!A18)*('Recette phase 2'!$E$19:$E$31))*'Recette phase 2'!$D$17)+(SUMPRODUCT(('Recette phase 2'!$I$19:$I$31='Liste de course'!A18)*('Recette phase 2'!$H$19:$H$31))*'Recette phase 2'!$G$17)+(SUMPRODUCT(('Recette phase 2'!$C$36:$C$50='Liste de course'!A18)*('Recette phase 2'!$B$36:$B$50))*'Recette phase 2'!$A$34)+(SUMPRODUCT(('Recette phase 2'!$F$36:$F$50='Liste de course'!A18)*('Recette phase 2'!$E$36:$E$50))*'Recette phase 2'!$D$34)+(SUMPRODUCT(('Recette phase 2'!$I$36:$I$50='Liste de course'!A18)*('Recette phase 2'!$H$36:$H$50))*'Recette phase 2'!$G$34)+(SUMPRODUCT(('Recette phase 2'!$L$36:$L$50='Liste de course'!A18)*('Recette phase 2'!$K$36:$K$50))*'Recette phase 2'!$J$34)+(SUMPRODUCT(('Recette phase 2'!$O$36:$O$50='Liste de course'!A18)*('Recette phase 2'!$N$36:$N$50))*'Recette phase 2'!$M$34)+(SUMPRODUCT(('Recette phase 2'!$C$54:$C$64='Liste de course'!A18)*('Recette phase 2'!$B$54:$B$64))*'Recette phase 2'!$A$52)+(SUMPRODUCT(('Recette phase 2'!$F$54:$F$64='Liste de course'!A18)*('Recette phase 2'!$E$54:$E$64))*'Recette phase 2'!$D$52)+(SUMPRODUCT(('Recette phase 2'!$I$54:$I$64='Liste de course'!A18)*('Recette phase 2'!$H$54:$H$64))*'Recette phase 2'!$G$52)+(SUMPRODUCT(('Recette phase 2'!$L$54:$L$64='Liste de course'!A18)*('Recette phase 2'!$K$54:$K$64))*'Recette phase 2'!$J$52)+(SUMPRODUCT(('Recette phase 2'!$O$54:$O$64='Liste de course'!A18)*('Recette phase 2'!$N$54:$N$64))*'Recette phase 2'!$M$52)+(SUMPRODUCT(('Recette phase 2'!$C$69:$C$85='Liste de course'!A18)*('Recette phase 2'!$B$69:$B$85))*'Recette phase 2'!$A$67)+(SUMPRODUCT(('Recette phase 2'!$F$69:$F$85='Liste de course'!A18)*('Recette phase 2'!$E$69:$E$85))*'Recette phase 2'!$D$67)+(SUMPRODUCT(('Recette phase 2'!$I$69:$I$85='Liste de course'!A18)*('Recette phase 2'!$H$69:$H$85))*'Recette phase 2'!$G$67)+(SUMPRODUCT(('Recette phase 2'!$L$69:$L$85='Liste de course'!A18)*('Recette phase 2'!$K$69:$K$85))*'Recette phase 2'!$J$67)+(SUMPRODUCT(('Recette phase 2'!$C$89:$C$104='Liste de course'!A18)*('Recette phase 2'!$B$89:$B$104))*'Recette phase 2'!$A$87)+(SUMPRODUCT(('Recette phase 2'!$F$89:$F$104='Liste de course'!A18)*('Recette phase 2'!$E$89:$E$104))*'Recette phase 2'!$D$87)+(SUMPRODUCT(('Recette phase 2'!$I$89:$I$104='Liste de course'!A18)*('Recette phase 2'!$H$89:$H$104))*'Recette phase 2'!$G$87)+(SUMPRODUCT(('Recette phase 2'!$L$89:$L$104='Liste de course'!A18)*('Recette phase 2'!$K$89:$K$104))*'Recette phase 2'!$J$87)+(SUMPRODUCT(('Recette phase 2'!$C$109:$C$119='Liste de course'!A18)*('Recette phase 2'!$B$109:$B$119))*'Recette phase 2'!$A$107)+(SUMPRODUCT(('Recette phase 2'!$F$109:$F$119='Liste de course'!A18)*('Recette phase 2'!$E$109:$E$119))*'Recette phase 2'!$D$107)+(SUMPRODUCT(('Recette phase 2'!$I$109:$I$119='Liste de course'!A18)*('Recette phase 2'!$H$109:$H$119))*'Recette phase 2'!$G$107)+(SUMPRODUCT(('Recette phase 2'!$L$109:$L$119='Liste de course'!A18)*('Recette phase 2'!$K$109:$K$119))*'Recette phase 2'!$J$107)+(SUMPRODUCT(('Recette phase 2'!$C$123:$C$128='Liste de course'!A18)*('Recette phase 2'!$B$123:$B$128))*'Recette phase 2'!$A$121)+(SUMPRODUCT(('Recette phase 2'!$F$123:$F$128='Liste de course'!A18)*('Recette phase 2'!$E$123:$E$128))*'Recette phase 2'!$D$121)+(SUMPRODUCT(('Recette phase 2'!$I$123:$I$128='Liste de course'!A18)*('Recette phase 2'!$H$123:$H$128))*'Recette phase 2'!$G$121)+(SUMPRODUCT(('Recette phase 2'!$L$123:$L$128='Liste de course'!A18)*('Recette phase 2'!$K$123:$K$128))*'Recette phase 2'!$J$121) -> 0 | C18: =(SUMPRODUCT(('Liste de course'!B18)-(Stock!B18))) -> -800 | D18: Tomates cerises | E18: =(SUMPRODUCT(('Recette phase 2'!$C$6:$C$15='Liste de course'!D18)*('Recette phase 2'!$B$6:$B$15))*'Recette phase 2'!$A$4)+(SUMPRODUCT(('Recette phase 2'!$F$6:$F$15='Liste de course'!D18)*('Recette phase 2'!$E$6:$E$15))*'Recette phase 2'!$D$4)+(SUMPRODUCT(('Recette phase 2'!$I$6:$I$15='Liste de course'!D18)*('Recette phase 2'!$H$6:$H$15))*'Recette phase 2'!$G$4)+(SUMPRODUCT(('Recette phase 2'!$K$6:$K$15='Liste de course'!D18)*('Recette phase 2'!$K$6:$K$15))*'Recette phase 2'!$J$4)+(SUMPRODUCT(('Recette phase 2'!$O$6:$O$15='Liste de course'!D18)*('Recette phase 2'!$N$6:$N$15))*'Recette phase 2'!$M$4)+(SUMPRODUCT(('Recette phase 2'!$C$19:$C$31='Liste de course'!D18)*('Recette phase 2'!$B$19:$B$31))*'Recette phase 2'!$A$17)+(SUMPRODUCT(('Recette phase 2'!$F$19:$F$31='Liste de course'!D18)*('Recette phase 2'!$E$19:$E$31))*'Recette phase 2'!$D$17)+(SUMPRODUCT(('Recette phase 2'!$I$19:$I$31='Liste de course'!D18)*('Recette phase 2'!$H$19:$H$31))*'Recette phase 2'!$G$17)+(SUMPRODUCT(('Recette phase 2'!$C$36:$C$50='Liste de course'!D18)*('Recette phase 2'!$B$36:$B$50))*'Recette phase 2'!$A$34)+(SUMPRODUCT(('Recette phase 2'!$F$36:$F$50='Liste de course'!D18)*('Recette phase 2'!$E$36:$E$50))*'Recette phase 2'!$D$34)+(SUMPRODUCT(('Recette phase 2'!$I$36:$I$50='Liste de course'!D18)*('Recette phase 2'!$H$36:$H$50))*'Recette phase 2'!$G$34)+(SUMPRODUCT(('Recette phase 2'!$L$36:$L$50='Liste de course'!D18)*('Recette phase 2'!$K$36:$K$50))*'Recette phase 2'!$J$34)+(SUMPRODUCT(('Recette phase 2'!$O$36:$O$50='Liste de course'!D18)*('Recette phase 2'!$N$36:$N$50))*'Recette phase 2'!$M$34)+(SUMPRODUCT(('Recette phase 2'!$C$54:$C$64='Liste de course'!D18)*('Recette phase 2'!$B$54:$B$64))*'Recette phase 2'!$A$52)+(SUMPRODUCT(('Recette phase 2'!$F$54:$F$64='Liste de course'!D18)*('Recette phase 2'!$E$54:$E$64))*'Recette phase 2'!$D$52)+(SUMPRODUCT(('Recette phase 2'!$I$54:$I$64='Liste de course'!D18)*('Recette phase 2'!$H$54:$H$64))*'Recette phase 2'!$G$52)+(SUMPRODUCT(('Recette phase 2'!$L$54:$L$64='Liste de course'!D18)*('Recette phase 2'!$K$54:$K$64))*'Recette phase 2'!$J$52)+(SUMPRODUCT(('Recette phase 2'!$O$54:$O$64='Liste de course'!D18)*('Recette phase 2'!$N$54:$N$64))*'Recette phase 2'!$M$52)+(SUMPRODUCT(('Recette phase 2'!$C$69:$C$85='Liste de course'!D18)*('Recette phase 2'!$B$69:$B$85))*'Recette phase 2'!$A$67)+(SUMPRODUCT(('Recette phase 2'!$F$69:$F$85='Liste de course'!D18)*('Recette phase 2'!$E$69:$E$85))*'Recette phase 2'!$D$67)+(SUMPRODUCT(('Recette phase 2'!$I$69:$I$85='Liste de course'!D18)*('Recette phase 2'!$H$69:$H$85))*'Recette phase 2'!$G$67)+(SUMPRODUCT(('Recette phase 2'!$L$69:$L$85='Liste de course'!D18)*('Recette phase 2'!$K$69:$K$85))*'Recette phase 2'!$J$67)+(SUMPRODUCT(('Recette phase 2'!$C$89:$C$104='Liste de course'!D18)*('Recette phase 2'!$B$89:$B$104))*'Recette phase 2'!$A$87)+(SUMPRODUCT(('Recette phase 2'!$F$89:$F$104='Liste de course'!D18)*('Recette phase 2'!$E$89:$E$104))*'Recette phase 2'!$D$87)+(SUMPRODUCT(('Recette phase 2'!$I$89:$I$104='Liste de course'!D18)*('Recette phase 2'!$H$89:$H$104))*'Recette phase 2'!$G$87)+(SUMPRODUCT(('Recette phase 2'!$L$89:$L$104='Liste de course'!D18)*('Recette phase 2'!$K$89:$K$104))*'Recette phase 2'!$J$87)+(SUMPRODUCT(('Recette phase 2'!$C$109:$C$119='Liste de course'!D18)*('Recette phase 2'!$B$109:$B$119))*'Recette phase 2'!$A$107)+(SUMPRODUCT(('Recette phase 2'!$F$109:$F$119='Liste de course'!D18)*('Recette phase 2'!$E$109:$E$119))*'Recette phase 2'!$D$107)+(SUMPRODUCT(('Recette phase 2'!$I$109:$I$119='Liste de course'!D18)*('Recette phase 2'!$H$109:$H$119))*'Recette phase 2'!$G$107)+(SUMPRODUCT(('Recette phase 2'!$L$109:$L$119='Liste de course'!D18)*('Recette phase 2'!$K$109:$K$119))*'Recette phase 2'!$J$107)+(SUMPRODUCT(('Recette phase 2'!$C$123:$C$128='Liste de course'!D18)*('Recette phase 2'!$B$123:$B$128))*'Recette phase 2'!$A$121)+(SUMPRODUCT(('Recette phase 2'!$F$123:$F$128='Liste de course'!D18)*('Recette phase 2'!$E$123:$E$128))*'Recette phase 2'!$D$121)+(SUMPRODUCT(('Recette phase 2'!$I$123:$I$128='Liste de course'!D18)*('Recette phase 2'!$H$123:$H$128))*'Recette phase 2'!$G$121)+(SUMPRODUCT(('Recette phase 2'!$L$123:$L$128='Liste de course'!D18)*('Recette phase 2'!$K$123:$K$128))*'Recette phase 2'!$J$121) -> 0 | F18: =(SUMPRODUCT(('Liste de course'!E18)-(Stock!D18))) -> -30
A19: Cuisse de poulet | B19: =(SUMPRODUCT(('Recette phase 2'!$C$6:$C$15='Liste de course'!A19)*('Recette phase 2'!$B$6:$B$15))*'Recette phase 2'!$A$4)+(SUMPRODUCT(('Recette phase 2'!$F$6:$F$15='Liste de course'!A19)*('Recette phase 2'!$E$6:$E$15))*'Recette phase 2'!$D$4)+(SUMPRODUCT(('Recette phase 2'!$I$6:$I$15='Liste de course'!A19)*('Recette phase 2'!$H$6:$H$15))*'Recette phase 2'!$G$4)+(SUMPRODUCT(('Recette phase 2'!$K$6:$K$15='Liste de course'!A19)*('Recette phase 2'!$K$6:$K$15))*'Recette phase 2'!$J$4)+(SUMPRODUCT(('Recette phase 2'!$O$6:$O$15='Liste de course'!A19)*('Recette phase 2'!$N$6:$N$15))*'Recette phase 2'!$M$4)+(SUMPRODUCT(('Recette phase 2'!$C$19:$C$31='Liste de course'!A19)*('Recette phase 2'!$B$19:$B$31))*'Recette phase 2'!$A$17)+(SUMPRODUCT(('Recette phase 2'!$F$19:$F$31='Liste de course'!A19)*('Recette phase 2'!$E$19:$E$31))*'Recette phase 2'!$D$17)+(SUMPRODUCT(('Recette phase 2'!$I$19:$I$31='Liste de course'!A19)*('Recette phase 2'!$H$19:$H$31))*'Recette phase 2'!$G$17)+(SUMPRODUCT(('Recette phase 2'!$C$36:$C$50='Liste de course'!A19)*('Recette phase 2'!$B$36:$B$50))*'Recette phase 2'!$A$34)+(SUMPRODUCT(('Recette phase 2'!$F$36:$F$50='Liste de course'!A19)*('Recette phase 2'!$E$36:$E$50))*'Recette phase 2'!$D$34)+(SUMPRODUCT(('Recette phase 2'!$I$36:$I$50='Liste de course'!A19)*('Recette phase 2'!$H$36:$H$50))*'Recette phase 2'!$G$34)+(SUMPRODUCT(('Recette phase 2'!$L$36:$L$50='Liste de course'!A19)*('Recette phase 2'!$K$36:$K$50))*'Recette phase 2'!$J$34)+(SUMPRODUCT(('Recette phase 2'!$O$36:$O$50='Liste de course'!A19)*('Recette phase 2'!$N$36:$N$50))*'Recette phase 2'!$M$34)+(SUMPRODUCT(('Recette phase 2'!$C$54:$C$64='Liste de course'!A19)*('Recette phase 2'!$B$54:$B$64))*'Recette phase 2'!$A$52)+(SUMPRODUCT(('Recette phase 2'!$F$54:$F$64='Liste de course'!A19)*('Recette phase 2'!$E$54:$E$64))*'Recette phase 2'!$D$52)+(SUMPRODUCT(('Recette phase 2'!$I$54:$I$64='Liste de course'!A19)*('Recette phase 2'!$H$54:$H$64))*'Recette phase 2'!$G$52)+(SUMPRODUCT(('Recette phase 2'!$L$54:$L$64='Liste de course'!A19)*('Recette phase 2'!$K$54:$K$64))*'Recette phase 2'!$J$52)+(SUMPRODUCT(('Recette phase 2'!$O$54:$O$64='Liste de course'!A19)*('Recette phase 2'!$N$54:$N$64))*'Recette phase 2'!$M$52)+(SUMPRODUCT(('Recette phase 2'!$C$69:$C$85='Liste de course'!A19)*('Recette phase 2'!$B$69:$B$85))*'Recette phase 2'!$A$67)+(SUMPRODUCT(('Recette phase 2'!$F$69:$F$85='Liste de course'!A19)*('Recette phase 2'!$E$69:$E$85))*'Recette phase 2'!$D$67)+(SUMPRODUCT(('Recette phase 2'!$I$69:$I$85='Liste de course'!A19)*('Recette phase 2'!$H$69:$H$85))*'Recette phase 2'!$G$67)+(SUMPRODUCT(('Recette phase 2'!$L$69:$L$85='Liste de course'!A19)*('Recette phase 2'!$K$69:$K$85))*'Recette phase 2'!$J$67)+(SUMPRODUCT(('Recette phase 2'!$C$89:$C$104='Liste de course'!A19)*('Recette phase 2'!$B$89:$B$104))*'Recette phase 2'!$A$87)+(SUMPRODUCT(('Recette phase 2'!$F$89:$F$104='Liste de course'!A19)*('Recette phase 2'!$E$89:$E$104))*'Recette phase 2'!$D$87)+(SUMPRODUCT(('Recette phase 2'!$I$89:$I$104='Liste de course'!A19)*('Recette phase 2'!$H$89:$H$104))*'Recette phase 2'!$G$87)+(SUMPRODUCT(('Recette phase 2'!$L$89:$L$104='Liste de course'!A19)*('Recette phase 2'!$K$89:$K$104))*'Recette phase 2'!$J$87)+(SUMPRODUCT(('Recette phase 2'!$C$109:$C$119='Liste de course'!A19)*('Recette phase 2'!$B$109:$B$119))*'Recette phase 2'!$A$107)+(SUMPRODUCT(('Recette phase 2'!$F$109:$F$119='Liste de course'!A19)*('Recette phase 2'!$E$109:$E$119))*'Recette phase 2'!$D$107)+(SUMPRODUCT(('Recette phase 2'!$I$109:$I$119='Liste de course'!A19)*('Recette phase 2'!$H$109:$H$119))*'Recette phase 2'!$G$107)+(SUMPRODUCT(('Recette phase 2'!$L$109:$L$119='Liste de course'!A19)*('Recette phase 2'!$K$109:$K$119))*'Recette phase 2'!$J$107)+(SUMPRODUCT(('Recette phase 2'!$C$123:$C$128='Liste de course'!A19)*('Recette phase 2'!$B$123:$B$128))*'Recette phase 2'!$A$121)+(SUMPRODUCT(('Recette phase 2'!$F$123:$F$128='Liste de course'!A19)*('Recette phase 2'!$E$123:$E$128))*'Recette phase 2'!$D$121)+(SUMPRODUCT(('Recette phase 2'!$I$123:$I$128='Liste de course'!A19)*('Recette phase 2'!$H$123:$H$128))*'Recette phase 2'!$G$121)+(SUMPRODUCT(('Recette phase 2'!$L$123:$L$128='Liste de course'!A19)*('Recette phase 2'!$K$123:$K$128))*'Recette phase 2'!$J$121) -> 0 | C19: =(SUMPRODUCT(('Liste de course'!B19)-(Stock!B19))) -> 0 | D19: Légumes
A20: Dorade | B20: =(SUMPRODUCT(('Recette phase 2'!$C$6:$C$15='Liste de course'!A20)*('Recette phase 2'!$B$6:$B$15))*'Recette phase 2'!$A$4)+(SUMPRODUCT(('Recette phase 2'!$F$6:$F$15='Liste de course'!A20)*('Recette phase 2'!$E$6:$E$15))*'Recette phase 2'!$D$4)+(SUMPRODUCT(('Recette phase 2'!$I$6:$I$15='Liste de course'!A20)*('Recette phase 2'!$H$6:$H$15))*'Recette phase 2'!$G$4)+(SUMPRODUCT(('Recette phase 2'!$K$6:$K$15='Liste de course'!A20)*('Recette phase 2'!$K$6:$K$15))*'Recette phase 2'!$J$4)+(SUMPRODUCT(('Recette phase 2'!$O$6:$O$15='Liste de course'!A20)*('Recette phase 2'!$N$6:$N$15))*'Recette phase 2'!$M$4)+(SUMPRODUCT(('Recette phase 2'!$C$19:$C$31='Liste de course'!A20)*('Recette phase 2'!$B$19:$B$31))*'Recette phase 2'!$A$17)+(SUMPRODUCT(('Recette phase 2'!$F$19:$F$31='Liste de course'!A20)*('Recette phase 2'!$E$19:$E$31))*'Recette phase 2'!$D$17)+(SUMPRODUCT(('Recette phase 2'!$I$19:$I$31='Liste de course'!A20)*('Recette phase 2'!$H$19:$H$31))*'Recette phase 2'!$G$17)+(SUMPRODUCT(('Recette phase 2'!$C$36:$C$50='Liste de course'!A20)*('Recette phase 2'!$B$36:$B$50))*'Recette phase 2'!$A$34)+(SUMPRODUCT(('Recette phase 2'!$F$36:$F$50='Liste de course'!A20)*('Recette phase 2'!$E$36:$E$50))*'Recette phase 2'!$D$34)+(SUMPRODUCT(('Recette phase 2'!$I$36:$I$50='Liste de course'!A20)*('Recette phase 2'!$H$36:$H$50))*'Recette phase 2'!$G$34)+(SUMPRODUCT(('Recette phase 2'!$L$36:$L$50='Liste de course'!A20)*('Recette phase 2'!$K$36:$K$50))*'Recette phase 2'!$J$34)+(SUMPRODUCT(('Recette phase 2'!$O$36:$O$50='Liste de course'!A20)*('Recette phase 2'!$N$36:$N$50))*'Recette phase 2'!$M$34)+(SUMPRODUCT(('Recette phase 2'!$C$54:$C$64='Liste de course'!A20)*('Recette phase 2'!$B$54:$B$64))*'Recette phase 2'!$A$52)+(SUMPRODUCT(('Recette phase 2'!$F$54:$F$64='Liste de course'!A20)*('Recette phase 2'!$E$54:$E$64))*'Recette phase 2'!$D$52)+(SUMPRODUCT(('Recette phase 2'!$I$54:$I$64='Liste de course'!A20)*('Recette phase 2'!$H$54:$H$64))*'Recette phase 2'!$G$52)+(SUMPRODUCT(('Recette phase 2'!$L$54:$L$64='Liste de course'!A20)*('Recette phase 2'!$K$54:$K$64))*'Recette phase 2'!$J$52)+(SUMPRODUCT(('Recette phase 2'!$O$54:$O$64='Liste de course'!A20)*('Recette phase 2'!$N$54:$N$64))*'Recette phase 2'!$M$52)+(SUMPRODUCT(('Recette phase 2'!$C$69:$C$85='Liste de course'!A20)*('Recette phase 2'!$B$69:$B$85))*'Recette phase 2'!$A$67)+(SUMPRODUCT(('Recette phase 2'!$F$69:$F$85='Liste de course'!A20)*('Recette phase 2'!$E$69:$E$85))*'Recette phase 2'!$D$67)+(SUMPRODUCT(('Recette phase 2'!$I$69:$I$85='Liste de course'!A20)*('Recette phase 2'!$H$69:$H$85))*'Recette phase 2'!$G$67)+(SUMPRODUCT(('Recette phase 2'!$L$69:$L$85='Liste de course'!A20)*('Recette phase 2'!$K$69:$K$85))*'Recette phase 2'!$J$67)+(SUMPRODUCT(('Recette phase 2'!$C$89:$C$104='Liste de course'!A20)*('Recette phase 2'!$B$89:$B$104))*'Recette phase 2'!$A$87)+(SUMPRODUCT(('Recette phase 2'!$F$89:$F$104='Liste de course'!A20)*('Recette phase 2'!$E$89:$E$104))*'Recette phase 2'!$D$87)+(SUMPRODUCT(('Recette phase 2'!$I$89:$I$104='Liste de course'!A20)*('Recette phase 2'!$H$89:$H$104))*'Recette phase 2'!$G$87)+(SUMPRODUCT(('Recette phase 2'!$L$89:$L$104='Liste de course'!A20)*('Recette phase 2'!$K$89:$K$104))*'Recette phase 2'!$J$87)+(SUMPRODUCT(('Recette phase 2'!$C$109:$C$119='Liste de course'!A20)*('Recette phase 2'!$B$109:$B$119))*'Recette phase 2'!$A$107)+(SUMPRODUCT(('Recette phase 2'!$F$109:$F$119='Liste de course'!A20)*('Recette phase 2'!$E$109:$E$119))*'Recette phase 2'!$D$107)+(SUMPRODUCT(('Recette phase 2'!$I$109:$I$119='Liste de course'!A20)*('Recette phase 2'!$H$109:$H$119))*'Recette phase 2'!$G$107)+(SUMPRODUCT(('Recette phase 2'!$L$109:$L$119='Liste de course'!A20)*('Recette phase 2'!$K$109:$K$119))*'Recette phase 2'!$J$107)+(SUMPRODUCT(('Recette phase 2'!$C$123:$C$128='Liste de course'!A20)*('Recette phase 2'!$B$123:$B$128))*'Recette phase 2'!$A$121)+(SUMPRODUCT(('Recette phase 2'!$F$123:$F$128='Liste de course'!A20)*('Recette phase 2'!$E$123:$E$128))*'Recette phase 2'!$D$121)+(SUMPRODUCT(('Recette phase 2'!$I$123:$I$128='Liste de course'!A20)*('Recette phase 2'!$H$123:$H$128))*'Recette phase 2'!$G$121)+(SUMPRODUCT(('Recette phase 2'!$L$123:$L$128='Liste de course'!A20)*('Recette phase 2'!$K$123:$K$128))*'Recette phase 2'!$J$121) -> 0 | C20: =(SUMPRODUCT(('Liste de course'!B20)-(Stock!B20))) -> 0 | D20: Aubergine | E20: =(SUMPRODUCT(('Recette phase 2'!$C$6:$C$15='Liste de course'!D20)*('Recette phase 2'!$B$6:$B$15))*'Recette phase 2'!$A$4)+(SUMPRODUCT(('Recette phase 2'!$F$6:$F$15='Liste de course'!D20)*('Recette phase 2'!$E$6:$E$15))*'Recette phase 2'!$D$4)+(SUMPRODUCT(('Recette phase 2'!$I$6:$I$15='Liste de course'!D20)*('Recette phase 2'!$H$6:$H$15))*'Recette phase 2'!$G$4)+(SUMPRODUCT(('Recette phase 2'!$K$6:$K$15='Liste de course'!D20)*('Recette phase 2'!$K$6:$K$15))*'Recette phase 2'!$J$4)+(SUMPRODUCT(('Recette phase 2'!$O$6:$O$15='Liste de course'!D20)*('Recette phase 2'!$N$6:$N$15))*'Recette phase 2'!$M$4)+(SUMPRODUCT(('Recette phase 2'!$C$19:$C$31='Liste de course'!D20)*('Recette phase 2'!$B$19:$B$31))*'Recette phase 2'!$A$17)+(SUMPRODUCT(('Recette phase 2'!$F$19:$F$31='Liste de course'!D20)*('Recette phase 2'!$E$19:$E$31))*'Recette phase 2'!$D$17)+(SUMPRODUCT(('Recette phase 2'!$I$19:$I$31='Liste de course'!D20)*('Recette phase 2'!$H$19:$H$31))*'Recette phase 2'!$G$17)+(SUMPRODUCT(('Recette phase 2'!$C$36:$C$50='Liste de course'!D20)*('Recette phase 2'!$B$36:$B$50))*'Recette phase 2'!$A$34)+(SUMPRODUCT(('Recette phase 2'!$F$36:$F$50='Liste de course'!D20)*('Recette phase 2'!$E$36:$E$50))*'Recette phase 2'!$D$34)+(SUMPRODUCT(('Recette phase 2'!$I$36:$I$50='Liste de course'!D20)*('Recette phase 2'!$H$36:$H$50))*'Recette phase 2'!$G$34)+(SUMPRODUCT(('Recette phase 2'!$L$36:$L$50='Liste de course'!D20)*('Recette phase 2'!$K$36:$K$50))*'Recette phase 2'!$J$34)+(SUMPRODUCT(('Recette phase 2'!$O$36:$O$50='Liste de course'!D20)*('Recette phase 2'!$N$36:$N$50))*'Recette phase 2'!$M$34)+(SUMPRODUCT(('Recette phase 2'!$C$54:$C$64='Liste de course'!D20)*('Recette phase 2'!$B$54:$B$64))*'Recette phase 2'!$A$52)+(SUMPRODUCT(('Recette phase 2'!$F$54:$F$64='Liste de course'!D20)*('Recette phase 2'!$E$54:$E$64))*'Recette phase 2'!$D$52)+(SUMPRODUCT(('Recette phase 2'!$I$54:$I$64='Liste de course'!D20)*('Recette phase 2'!$H$54:$H$64))*'Recette phase 2'!$G$52)+(SUMPRODUCT(('Recette phase 2'!$L$54:$L$64='Liste de course'!D20)*('Recette phase 2'!$K$54:$K$64))*'Recette phase 2'!$J$52)+(SUMPRODUCT(('Recette phase 2'!$O$54:$O$64='Liste de course'!D20)*('Recette phase 2'!$N$54:$N$64))*'Recette phase 2'!$M$52)+(SUMPRODUCT(('Recette phase 2'!$C$69:$C$85='Liste de course'!D20)*('Recette phase 2'!$B$69:$B$85))*'Recette phase 2'!$A$67)+(SUMPRODUCT(('Recette phase 2'!$F$69:$F$85='Liste de course'!D20)*('Recette phase 2'!$E$69:$E$85))*'Recette phase 2'!$D$67)+(SUMPRODUCT(('Recette phase 2'!$I$69:$I$85='Liste de course'!D20)*('Recette phase 2'!$H$69:$H$85))*'Recette phase 2'!$G$67)+(SUMPRODUCT(('Recette phase 2'!$L$69:$L$85='Liste de course'!D20)*('Recette phase 2'!$K$69:$K$85))*'Recette phase 2'!$J$67)+(SUMPRODUCT(('Recette phase 2'!$C$89:$C$104='Liste de course'!D20)*('Recette phase 2'!$B$89:$B$104))*'Recette phase 2'!$A$87)+(SUMPRODUCT(('Recette phase 2'!$F$89:$F$104='Liste de course'!D20)*('Recette phase 2'!$E$89:$E$104))*'Recette phase 2'!$D$87)+(SUMPRODUCT(('Recette phase 2'!$I$89:$I$104='Liste de course'!D20)*('Recette phase 2'!$H$89:$H$104))*'Recette phase 2'!$G$87)+(SUMPRODUCT(('Recette phase 2'!$L$89:$L$104='Liste de course'!D20)*('Recette phase 2'!$K$89:$K$104))*'Recette phase 2'!$J$87)+(SUMPRODUCT(('Recette phase 2'!$C$109:$C$119='Liste de course'!D20)*('Recette phase 2'!$B$109:$B$119))*'Recette phase 2'!$A$107)+(SUMPRODUCT(('Recette phase 2'!$F$109:$F$119='Liste de course'!D20)*('Recette phase 2'!$E$109:$E$119))*'Recette phase 2'!$D$107)+(SUMPRODUCT(('Recette phase 2'!$I$109:$I$119='Liste de course'!D20)*('Recette phase 2'!$H$109:$H$119))*'Recette phase 2'!$G$107)+(SUMPRODUCT(('Recette phase 2'!$L$109:$L$119='Liste de course'!D20)*('Recette phase 2'!$K$109:$K$119))*'Recette phase 2'!$J$107)+(SUMPRODUCT(('Recette phase 2'!$C$123:$C$128='Liste de course'!D20)*('Recette phase 2'!$B$123:$B$128))*'Recette phase 2'!$A$121)+(SUMPRODUCT(('Recette phase 2'!$F$123:$F$128='Liste de course'!D20)*('Recette phase 2'!$E$123:$E$128))*'Recette phase 2'!$D$121)+(SUMPRODUCT(('Recette phase 2'!$I$123:$I$128='Liste de course'!D20)*('Recette phase 2'!$H$123:$H$128))*'Recette phase 2'!$G$121)+(SUMPRODUCT(('Recette phase 2'!$L$123:$L$128='Liste de course'!D20)*('Recette phase 2'!$K$123:$K$128))*'Recette phase 2'!$J$121) -> 0 | F20: =(SUMPRODUCT(('Liste de course'!E20)-(Stock!D20))) -> 0
A21: Filet de dinde | B21: =(SUMPRODUCT(('Recette phase 2'!$C$6:$C$15='Liste de course'!A21)*('Recette phase 2'!$B$6:$B$15))*'Recette phase 2'!$A$4)+(SUMPRODUCT(('Recette phase 2'!$F$6:$F$15='Liste de course'!A21)*('Recette phase 2'!$E$6:$E$15))*'Recette phase 2'!$D$4)+(SUMPRODUCT(('Recette phase 2'!$I$6:$I$15='Liste de course'!A21)*('Recette phase 2'!$H$6:$H$15))*'Recette phase 2'!$G$4)+(SUMPRODUCT(('Recette phase 2'!$K$6:$K$15='Liste de course'!A21)*('Recette phase 2'!$K$6:$K$15))*'Recette phase 2'!$J$4)+(SUMPRODUCT(('Recette phase 2'!$O$6:$O$15='Liste de course'!A21)*('Recette phase 2'!$N$6:$N$15))*'Recette phase 2'!$M$4)+(SUMPRODUCT(('Recette phase 2'!$C$19:$C$31='Liste de course'!A21)*('Recette phase 2'!$B$19:$B$31))*'Recette phase 2'!$A$17)+(SUMPRODUCT(('Recette phase 2'!$F$19:$F$31='Liste de course'!A21)*('Recette phase 2'!$E$19:$E$31))*'Recette phase 2'!$D$17)+(SUMPRODUCT(('Recette phase 2'!$I$19:$I$31='Liste de course'!A21)*('Recette phase 2'!$H$19:$H$31))*'Recette phase 2'!$G$17)+(SUMPRODUCT(('Recette phase 2'!$C$36:$C$50='Liste de course'!A21)*('Recette phase 2'!$B$36:$B$50))*'Recette phase 2'!$A$34)+(SUMPRODUCT(('Recette phase 2'!$F$36:$F$50='Liste de course'!A21)*('Recette phase 2'!$E$36:$E$50))*'Recette phase 2'!$D$34)+(SUMPRODUCT(('Recette phase 2'!$I$36:$I$50='Liste de course'!A21)*('Recette phase 2'!$H$36:$H$50))*'Recette phase 2'!$G$34)+(SUMPRODUCT(('Recette phase 2'!$L$36:$L$50='Liste de course'!A21)*('Recette phase 2'!$K$36:$K$50))*'Recette phase 2'!$J$34)+(SUMPRODUCT(('Recette phase 2'!$O$36:$O$50='Liste de course'!A21)*('Recette phase 2'!$N$36:$N$50))*'Recette phase 2'!$M$34)+(SUMPRODUCT(('Recette phase 2'!$C$54:$C$64='Liste de course'!A21)*('Recette phase 2'!$B$54:$B$64))*'Recette phase 2'!$A$52)+(SUMPRODUCT(('Recette phase 2'!$F$54:$F$64='Liste de course'!A21)*('Recette phase 2'!$E$54:$E$64))*'Recette phase 2'!$D$52)+(SUMPRODUCT(('Recette phase 2'!$I$54:$I$64='Liste de course'!A21)*('Recette phase 2'!$H$54:$H$64))*'Recette phase 2'!$G$52)+(SUMPRODUCT(('Recette phase 2'!$L$54:$L$64='Liste de course'!A21)*('Recette phase 2'!$K$54:$K$64))*'Recette phase 2'!$J$52)+(SUMPRODUCT(('Recette phase 2'!$O$54:$O$64='Liste de course'!A21)*('Recette phase 2'!$N$54:$N$64))*'Recette phase 2'!$M$52)+(SUMPRODUCT(('Recette phase 2'!$C$69:$C$85='Liste de course'!A21)*('Recette phase 2'!$B$69:$B$85))*'Recette phase 2'!$A$67)+(SUMPRODUCT(('Recette phase 2'!$F$69:$F$85='Liste de course'!A21)*('Recette phase 2'!$E$69:$E$85))*'Recette phase 2'!$D$67)+(SUMPRODUCT(('Recette phase 2'!$I$69:$I$85='Liste de course'!A21)*('Recette phase 2'!$H$69:$H$85))*'Recette phase 2'!$G$67)+(SUMPRODUCT(('Recette phase 2'!$L$69:$L$85='Liste de course'!A21)*('Recette phase 2'!$K$69:$K$85))*'Recette phase 2'!$J$67)+(SUMPRODUCT(('Recette phase 2'!$C$89:$C$104='Liste de course'!A21)*('Recette phase 2'!$B$89:$B$104))*'Recette phase 2'!$A$87)+(SUMPRODUCT(('Recette phase 2'!$F$89:$F$104='Liste de course'!A21)*('Recette phase 2'!$E$89:$E$104))*'Recette phase 2'!$D$87)+(SUMPRODUCT(('Recette phase 2'!$I$89:$I$104='Liste de course'!A21)*('Recette phase 2'!$H$89:$H$104))*'Recette phase 2'!$G$87)+(SUMPRODUCT(('Recette phase 2'!$L$89:$L$104='Liste de course'!A21)*('Recette phase 2'!$K$89:$K$104))*'Recette phase 2'!$J$87)+(SUMPRODUCT(('Recette phase 2'!$C$109:$C$119='Liste de course'!A21)*('Recette phase 2'!$B$109:$B$119))*'Recette phase 2'!$A$107)+(SUMPRODUCT(('Recette phase 2'!$F$109:$F$119='Liste de course'!A21)*('Recette phase 2'!$E$109:$E$119))*'Recette phase 2'!$D$107)+(SUMPRODUCT(('Recette phase 2'!$I$109:$I$119='Liste de course'!A21)*('Recette phase 2'!$H$109:$H$119))*'Recette phase 2'!$G$107)+(SUMPRODUCT(('Recette phase 2'!$L$109:$L$119='Liste de course'!A21)*('Recette phase 2'!$K$109:$K$119))*'Recette phase 2'!$J$107)+(SUMPRODUCT(('Recette phase 2'!$C$123:$C$128='Liste de course'!A21)*('Recette phase 2'!$B$123:$B$128))*'Recette phase 2'!$A$121)+(SUMPRODUCT(('Recette phase 2'!$F$123:$F$128='Liste de course'!A21)*('Recette phase 2'!$E$123:$E$128))*'Recette phase 2'!$D$121)+(SUMPRODUCT(('Recette phase 2'!$I$123:$I$128='Liste de course'!A21)*('Recette phase 2'!$H$123:$H$128))*'Recette phase 2'!$G$121)+(SUMPRODUCT(('Recette phase 2'!$L$123:$L$128='Liste de course'!A21)*('Recette phase 2'!$K$123:$K$128))*'Recette phase 2'!$J$121) -> 0 | C21: =(SUMPRODUCT(('Liste de course'!B21)-(Stock!B21))) -> 0 | D21: Avocat | E21: =(SUMPRODUCT(('Recette phase 2'!$C$6:$C$15='Liste de course'!D21)*('Recette phase 2'!$B$6:$B$15))*'Recette phase 2'!$A$4)+(SUMPRODUCT(('Recette phase 2'!$F$6:$F$15='Liste de course'!D21)*('Recette phase 2'!$E$6:$E$15))*'Recette phase 2'!$D$4)+(SUMPRODUCT(('Recette phase 2'!$I$6:$I$15='Liste de course'!D21)*('Recette phase 2'!$H$6:$H$15))*'Recette phase 2'!$G$4)+(SUMPRODUCT(('Recette phase 2'!$K$6:$K$15='Liste de course'!D21)*('Recette phase 2'!$K$6:$K$15))*'Recette phase 2'!$J$4)+(SUMPRODUCT(('Recette phase 2'!$O$6:$O$15='Liste de course'!D21)*('Recette phase 2'!$N$6:$N$15))*'Recette phase 2'!$M$4)+(SUMPRODUCT(('Recette phase 2'!$C$19:$C$31='Liste de course'!D21)*('Recette phase 2'!$B$19:$B$31))*'Recette phase 2'!$A$17)+(SUMPRODUCT(('Recette phase 2'!$F$19:$F$31='Liste de course'!D21)*('Recette phase 2'!$E$19:$E$31))*'Recette phase 2'!$D$17)+(SUMPRODUCT(('Recette phase 2'!$I$19:$I$31='Liste de course'!D21)*('Recette phase 2'!$H$19:$H$31))*'Recette phase 2'!$G$17)+(SUMPRODUCT(('Recette phase 2'!$C$36:$C$50='Liste de course'!D21)*('Recette phase 2'!$B$36:$B$50))*'Recette phase 2'!$A$34)+(SUMPRODUCT(('Recette phase 2'!$F$36:$F$50='Liste de course'!D21)*('Recette phase 2'!$E$36:$E$50))*'Recette phase 2'!$D$34)+(SUMPRODUCT(('Recette phase 2'!$I$36:$I$50='Liste de course'!D21)*('Recette phase 2'!$H$36:$H$50))*'Recette phase 2'!$G$34)+(SUMPRODUCT(('Recette phase 2'!$L$36:$L$50='Liste de course'!D21)*('Recette phase 2'!$K$36:$K$50))*'Recette phase 2'!$J$34)+(SUMPRODUCT(('Recette phase 2'!$O$36:$O$50='Liste de course'!D21)*('Recette phase 2'!$N$36:$N$50))*'Recette phase 2'!$M$34)+(SUMPRODUCT(('Recette phase 2'!$C$54:$C$64='Liste de course'!D21)*('Recette phase 2'!$B$54:$B$64))*'Recette phase 2'!$A$52)+(SUMPRODUCT(('Recette phase 2'!$F$54:$F$64='Liste de course'!D21)*('Recette phase 2'!$E$54:$E$64))*'Recette phase 2'!$D$52)+(SUMPRODUCT(('Recette phase 2'!$I$54:$I$64='Liste de course'!D21)*('Recette phase 2'!$H$54:$H$64))*'Recette phase 2'!$G$52)+(SUMPRODUCT(('Recette phase 2'!$L$54:$L$64='Liste de course'!D21)*('Recette phase 2'!$K$54:$K$64))*'Recette phase 2'!$J$52)+(SUMPRODUCT(('Recette phase 2'!$O$54:$O$64='Liste de course'!D21)*('Recette phase 2'!$N$54:$N$64))*'Recette phase 2'!$M$52)+(SUMPRODUCT(('Recette phase 2'!$C$69:$C$85='Liste de course'!D21)*('Recette phase 2'!$B$69:$B$85))*'Recette phase 2'!$A$67)+(SUMPRODUCT(('Recette phase 2'!$F$69:$F$85='Liste de course'!D21)*('Recette phase 2'!$E$69:$E$85))*'Recette phase 2'!$D$67)+(SUMPRODUCT(('Recette phase 2'!$I$69:$I$85='Liste de course'!D21)*('Recette phase 2'!$H$69:$H$85))*'Recette phase 2'!$G$67)+(SUMPRODUCT(('Recette phase 2'!$L$69:$L$85='Liste de course'!D21)*('Recette phase 2'!$K$69:$K$85))*'Recette phase 2'!$J$67)+(SUMPRODUCT(('Recette phase 2'!$C$89:$C$104='Liste de course'!D21)*('Recette phase 2'!$B$89:$B$104))*'Recette phase 2'!$A$87)+(SUMPRODUCT(('Recette phase 2'!$F$89:$F$104='Liste de course'!D21)*('Recette phase 2'!$E$89:$E$104))*'Recette phase 2'!$D$87)+(SUMPRODUCT(('Recette phase 2'!$I$89:$I$104='Liste de course'!D21)*('Recette phase 2'!$H$89:$H$104))*'Recette phase 2'!$G$87)+(SUMPRODUCT(('Recette phase 2'!$L$89:$L$104='Liste de course'!D21)*('Recette phase 2'!$K$89:$K$104))*'Recette phase 2'!$J$87)+(SUMPRODUCT(('Recette phase 2'!$C$109:$C$119='Liste de course'!D21)*('Recette phase 2'!$B$109:$B$119))*'Recette phase 2'!$A$107)+(SUMPRODUCT(('Recette phase 2'!$F$109:$F$119='Liste de course'!D21)*('Recette phase 2'!$E$109:$E$119))*'Recette phase 2'!$D$107)+(SUMPRODUCT(('Recette phase 2'!$I$109:$I$119='Liste de course'!D21)*('Recette phase 2'!$H$109:$H$119))*'Recette phase 2'!$G$107)+(SUMPRODUCT(('Recette phase 2'!$L$109:$L$119='Liste de course'!D21)*('Recette phase 2'!$K$109:$K$119))*'Recette phase 2'!$J$107)+(SUMPRODUCT(('Recette phase 2'!$C$123:$C$128='Liste de course'!D21)*('Recette phase 2'!$B$123:$B$128))*'Recette phase 2'!$A$121)+(SUMPRODUCT(('Recette phase 2'!$F$123:$F$128='Liste de course'!D21)*('Recette phase 2'!$E$123:$E$128))*'Recette phase 2'!$D$121)+(SUMPRODUCT(('Recette phase 2'!$I$123:$I$128='Liste de course'!D21)*('Recette phase 2'!$H$123:$H$128))*'Recette phase 2'!$G$121)+(SUMPRODUCT(('Recette phase 2'!$L$123:$L$128='Liste de course'!D21)*('Recette phase 2'!$K$123:$K$128))*'Recette phase 2'!$J$121) -> 0 | F21: =(SUMPRODUCT(('Liste de course'!E21)-(Stock!D21))) -> -1
A22: Filet de saumon | B22: =(SUMPRODUCT(('Recette phase 2'!$C$6:$C$15='Liste de course'!A22)*('Recette phase 2'!$B$6:$B$15))*'Recette phase 2'!$A$4)+(SUMPRODUCT(('Recette phase 2'!$F$6:$F$15='Liste de course'!A22)*('Recette phase 2'!$E$6:$E$15))*'Recette phase 2'!$D$4)+(SUMPRODUCT(('Recette phase 2'!$I$6:$I$15='Liste de course'!A22)*('Recette phase 2'!$H$6:$H$15))*'Recette phase 2'!$G$4)+(SUMPRODUCT(('Recette phase 2'!$K$6:$K$15='Liste de course'!A22)*('Recette phase 2'!$K$6:$K$15))*'Recette phase 2'!$J$4)+(SUMPRODUCT(('Recette phase 2'!$O$6:$O$15='Liste de course'!A22)*('Recette phase 2'!$N$6:$N$15))*'Recette phase 2'!$M$4)+(SUMPRODUCT(('Recette phase 2'!$C$19:$C$31='Liste de course'!A22)*('Recette phase 2'!$B$19:$B$31))*'Recette phase 2'!$A$17)+(SUMPRODUCT(('Recette phase 2'!$F$19:$F$31='Liste de course'!A22)*('Recette phase 2'!$E$19:$E$31))*'Recette phase 2'!$D$17)+(SUMPRODUCT(('Recette phase 2'!$I$19:$I$31='Liste de course'!A22)*('Recette phase 2'!$H$19:$H$31))*'Recette phase 2'!$G$17)+(SUMPRODUCT(('Recette phase 2'!$C$36:$C$50='Liste de course'!A22)*('Recette phase 2'!$B$36:$B$50))*'Recette phase 2'!$A$34)+(SUMPRODUCT(('Recette phase 2'!$F$36:$F$50='Liste de course'!A22)*('Recette phase 2'!$E$36:$E$50))*'Recette phase 2'!$D$34)+(SUMPRODUCT(('Recette phase 2'!$I$36:$I$50='Liste de course'!A22)*('Recette phase 2'!$H$36:$H$50))*'Recette phase 2'!$G$34)+(SUMPRODUCT(('Recette phase 2'!$L$36:$L$50='Liste de course'!A22)*('Recette phase 2'!$K$36:$K$50))*'Recette phase 2'!$J$34)+(SUMPRODUCT(('Recette phase 2'!$O$36:$O$50='Liste de course'!A22)*('Recette phase 2'!$N$36:$N$50))*'Recette phase 2'!$M$34)+(SUMPRODUCT(('Recette phase 2'!$C$54:$C$64='Liste de course'!A22)*('Recette phase 2'!$B$54:$B$64))*'Recette phase 2'!$A$52)+(SUMPRODUCT(('Recette phase 2'!$F$54:$F$64='Liste de course'!A22)*('Recette phase 2'!$E$54:$E$64))*'Recette phase 2'!$D$52)+(SUMPRODUCT(('Recette phase 2'!$I$54:$I$64='Liste de course'!A22)*('Recette phase 2'!$H$54:$H$64))*'Recette phase 2'!$G$52)+(SUMPRODUCT(('Recette phase 2'!$L$54:$L$64='Liste de course'!A22)*('Recette phase 2'!$K$54:$K$64))*'Recette phase 2'!$J$52)+(SUMPRODUCT(('Recette phase 2'!$O$54:$O$64='Liste de course'!A22)*('Recette phase 2'!$N$54:$N$64))*'Recette phase 2'!$M$52)+(SUMPRODUCT(('Recette phase 2'!$C$69:$C$85='Liste de course'!A22)*('Recette phase 2'!$B$69:$B$85))*'Recette phase 2'!$A$67)+(SUMPRODUCT(('Recette phase 2'!$F$69:$F$85='Liste de course'!A22)*('Recette phase 2'!$E$69:$E$85))*'Recette phase 2'!$D$67)+(SUMPRODUCT(('Recette phase 2'!$I$69:$I$85='Liste de course'!A22)*('Recette phase 2'!$H$69:$H$85))*'Recette phase 2'!$G$67)+(SUMPRODUCT(('Recette phase 2'!$L$69:$L$85='Liste de course'!A22)*('Recette phase 2'!$K$69:$K$85))*'Recette phase 2'!$J$67)+(SUMPRODUCT(('Recette phase 2'!$C$89:$C$104='Liste de course'!A22)*('Recette phase 2'!$B$89:$B$104))*'Recette phase 2'!$A$87)+(SUMPRODUCT(('Recette phase 2'!$F$89:$F$104='Liste de course'!A22)*('Recette phase 2'!$E$89:$E$104))*'Recette phase 2'!$D$87)+(SUMPRODUCT(('Recette phase 2'!$I$89:$I$104='Liste de course'!A22)*('Recette phase 2'!$H$89:$H$104))*'Recette phase 2'!$G$87)+(SUMPRODUCT(('Recette phase 2'!$L$89:$L$104='Liste de course'!A22)*('Recette phase 2'!$K$89:$K$104))*'Recette phase 2'!$J$87)+(SUMPRODUCT(('Recette phase 2'!$C$109:$C$119='Liste de course'!A22)*('Recette phase 2'!$B$109:$B$119))*'Recette phase 2'!$A$107)+(SUMPRODUCT(('Recette phase 2'!$F$109:$F$119='Liste de course'!A22)*('Recette phase 2'!$E$109:$E$119))*'Recette phase 2'!$D$107)+(SUMPRODUCT(('Recette phase 2'!$I$109:$I$119='Liste de course'!A22)*('Recette phase 2'!$H$109:$H$119))*'Recette phase 2'!$G$107)+(SUMPRODUCT(('Recette phase 2'!$L$109:$L$119='Liste de course'!A22)*('Recette phase 2'!$K$109:$K$119))*'Recette phase 2'!$J$107)+(SUMPRODUCT(('Recette phase 2'!$C$123:$C$128='Liste de course'!A22)*('Recette phase 2'!$B$123:$B$128))*'Recette phase 2'!$A$121)+(SUMPRODUCT(('Recette phase 2'!$F$123:$F$128='Liste de course'!A22)*('Recette phase 2'!$E$123:$E$128))*'Recette phase 2'!$D$121)+(SUMPRODUCT(('Recette phase 2'!$I$123:$I$128='Liste de course'!A22)*('Recette phase 2'!$H$123:$H$128))*'Recette phase 2'!$G$121)+(SUMPRODUCT(('Recette phase 2'!$L$123:$L$128='Liste de course'!A22)*('Recette phase 2'!$K$123:$K$128))*'Recette phase 2'!$J$121) -> 0 | C22: =(SUMPRODUCT(('Liste de course'!B22)-(Stock!B22))) -> -675 | D22: Chou rouge | E22: =(SUMPRODUCT(('Recette phase 2'!$C$6:$C$15='Liste de course'!D22)*('Recette phase 2'!$B$6:$B$15))*'Recette phase 2'!$A$4)+(SUMPRODUCT(('Recette phase 2'!$F$6:$F$15='Liste de course'!D22)*('Recette phase 2'!$E$6:$E$15))*'Recette phase 2'!$D$4)+(SUMPRODUCT(('Recette phase 2'!$I$6:$I$15='Liste de course'!D22)*('Recette phase 2'!$H$6:$H$15))*'Recette phase 2'!$G$4)+(SUMPRODUCT(('Recette phase 2'!$K$6:$K$15='Liste de course'!D22)*('Recette phase 2'!$K$6:$K$15))*'Recette phase 2'!$J$4)+(SUMPRODUCT(('Recette phase 2'!$O$6:$O$15='Liste de course'!D22)*('Recette phase 2'!$N$6:$N$15))*'Recette phase 2'!$M$4)+(SUMPRODUCT(('Recette phase 2'!$C$19:$C$31='Liste de course'!D22)*('Recette phase 2'!$B$19:$B$31))*'Recette phase 2'!$A$17)+(SUMPRODUCT(('Recette phase 2'!$F$19:$F$31='Liste de course'!D22)*('Recette phase 2'!$E$19:$E$31))*'Recette phase 2'!$D$17)+(SUMPRODUCT(('Recette phase 2'!$I$19:$I$31='Liste de course'!D22)*('Recette phase 2'!$H$19:$H$31))*'Recette phase 2'!$G$17)+(SUMPRODUCT(('Recette phase 2'!$C$36:$C$50='Liste de course'!D22)*('Recette phase 2'!$B$36:$B$50))*'Recette phase 2'!$A$34)+(SUMPRODUCT(('Recette phase 2'!$F$36:$F$50='Liste de course'!D22)*('Recette phase 2'!$E$36:$E$50))*'Recette phase 2'!$D$34)+(SUMPRODUCT(('Recette phase 2'!$I$36:$I$50='Liste de course'!D22)*('Recette phase 2'!$H$36:$H$50))*'Recette phase 2'!$G$34)+(SUMPRODUCT(('Recette phase 2'!$L$36:$L$50='Liste de course'!D22)*('Recette phase 2'!$K$36:$K$50))*'Recette phase 2'!$J$34)+(SUMPRODUCT(('Recette phase 2'!$O$36:$O$50='Liste de course'!D22)*('Recette phase 2'!$N$36:$N$50))*'Recette phase 2'!$M$34)+(SUMPRODUCT(('Recette phase 2'!$C$54:$C$64='Liste de course'!D22)*('Recette phase 2'!$B$54:$B$64))*'Recette phase 2'!$A$52)+(SUMPRODUCT(('Recette phase 2'!$F$54:$F$64='Liste de course'!D22)*('Recette phase 2'!$E$54:$E$64))*'Recette phase 2'!$D$52)+(SUMPRODUCT(('Recette phase 2'!$I$54:$I$64='Liste de course'!D22)*('Recette phase 2'!$H$54:$H$64))*'Recette phase 2'!$G$52)+(SUMPRODUCT(('Recette phase 2'!$L$54:$L$64='Liste de course'!D22)*('Recette phase 2'!$K$54:$K$64))*'Recette phase 2'!$J$52)+(SUMPRODUCT(('Recette phase 2'!$O$54:$O$64='Liste de course'!D22)*('Recette phase 2'!$N$54:$N$64))*'Recette phase 2'!$M$52)+(SUMPRODUCT(('Recette phase 2'!$C$69:$C$85='Liste de course'!D22)*('Recette phase 2'!$B$69:$B$85))*'Recette phase 2'!$A$67)+(SUMPRODUCT(('Recette phase 2'!$F$69:$F$85='Liste de course'!D22)*('Recette phase 2'!$E$69:$E$85))*'Recette phase 2'!$D$67)+(SUMPRODUCT(('Recette phase 2'!$I$69:$I$85='Liste de course'!D22)*('Recette phase 2'!$H$69:$H$85))*'Recette phase 2'!$G$67)+(SUMPRODUCT(('Recette phase 2'!$L$69:$L$85='Liste de course'!D22)*('Recette phase 2'!$K$69:$K$85))*'Recette phase 2'!$J$67)+(SUMPRODUCT(('Recette phase 2'!$C$89:$C$104='Liste de course'!D22)*('Recette phase 2'!$B$89:$B$104))*'Recette phase 2'!$A$87)+(SUMPRODUCT(('Recette phase 2'!$F$89:$F$104='Liste de course'!D22)*('Recette phase 2'!$E$89:$E$104))*'Recette phase 2'!$D$87)+(SUMPRODUCT(('Recette phase 2'!$I$89:$I$104='Liste de course'!D22)*('Recette phase 2'!$H$89:$H$104))*'Recette phase 2'!$G$87)+(SUMPRODUCT(('Recette phase 2'!$L$89:$L$104='Liste de course'!D22)*('Recette phase 2'!$K$89:$K$104))*'Recette phase 2'!$J$87)+(SUMPRODUCT(('Recette phase 2'!$C$109:$C$119='Liste de course'!D22)*('Recette phase 2'!$B$109:$B$119))*'Recette phase 2'!$A$107)+(SUMPRODUCT(('Recette phase 2'!$F$109:$F$119='Liste de course'!D22)*('Recette phase 2'!$E$109:$E$119))*'Recette phase 2'!$D$107)+(SUMPRODUCT(('Recette phase 2'!$I$109:$I$119='Liste de course'!D22)*('Recette phase 2'!$H$109:$H$119))*'Recette phase 2'!$G$107)+(SUMPRODUCT(('Recette phase 2'!$L$109:$L$119='Liste de course'!D22)*('Recette phase 2'!$K$109:$K$119))*'Recette phase 2'!$J$107)+(SUMPRODUCT(('Recette phase 2'!$C$123:$C$128='Liste de course'!D22)*('Recette phase 2'!$B$123:$B$128))*'Recette phase 2'!$A$121)+(SUMPRODUCT(('Recette phase 2'!$F$123:$F$128='Liste de course'!D22)*('Recette phase 2'!$E$123:$E$128))*'Recette phase 2'!$D$121)+(SUMPRODUCT(('Recette phase 2'!$I$123:$I$128='Liste de course'!D22)*('Recette phase 2'!$H$123:$H$128))*'Recette phase 2'!$G$121)+(SUMPRODUCT(('Recette phase 2'!$L$123:$L$128='Liste de course'!D22)*('Recette phase 2'!$K$123:$K$128))*'Recette phase 2'!$J$121) -> 0 | F22: =(SUMPRODUCT(('Liste de course'!E22)-(Stock!D22))) -> 0
A23: merguez boeuf mouton | B23: =(SUMPRODUCT(('Recette phase 2'!$C$6:$C$15='Liste de course'!A23)*('Recette phase 2'!$B$6:$B$15))*'Recette phase 2'!$A$4)+(SUMPRODUCT(('Recette phase 2'!$F$6:$F$15='Liste de course'!A23)*('Recette phase 2'!$E$6:$E$15))*'Recette phase 2'!$D$4)+(SUMPRODUCT(('Recette phase 2'!$I$6:$I$15='Liste de course'!A23)*('Recette phase 2'!$H$6:$H$15))*'Recette phase 2'!$G$4)+(SUMPRODUCT(('Recette phase 2'!$K$6:$K$15='Liste de course'!A23)*('Recette phase 2'!$K$6:$K$15))*'Recette phase 2'!$J$4)+(SUMPRODUCT(('Recette phase 2'!$O$6:$O$15='Liste de course'!A23)*('Recette phase 2'!$N$6:$N$15))*'Recette phase 2'!$M$4)+(SUMPRODUCT(('Recette phase 2'!$C$19:$C$31='Liste de course'!A23)*('Recette phase 2'!$B$19:$B$31))*'Recette phase 2'!$A$17)+(SUMPRODUCT(('Recette phase 2'!$F$19:$F$31='Liste de course'!A23)*('Recette phase 2'!$E$19:$E$31))*'Recette phase 2'!$D$17)+(SUMPRODUCT(('Recette phase 2'!$I$19:$I$31='Liste de course'!A23)*('Recette phase 2'!$H$19:$H$31))*'Recette phase 2'!$G$17)+(SUMPRODUCT(('Recette phase 2'!$C$36:$C$50='Liste de course'!A23)*('Recette phase 2'!$B$36:$B$50))*'Recette phase 2'!$A$34)+(SUMPRODUCT(('Recette phase 2'!$F$36:$F$50='Liste de course'!A23)*('Recette phase 2'!$E$36:$E$50))*'Recette phase 2'!$D$34)+(SUMPRODUCT(('Recette phase 2'!$I$36:$I$50='Liste de course'!A23)*('Recette phase 2'!$H$36:$H$50))*'Recette phase 2'!$G$34)+(SUMPRODUCT(('Recette phase 2'!$L$36:$L$50='Liste de course'!A23)*('Recette phase 2'!$K$36:$K$50))*'Recette phase 2'!$J$34)+(SUMPRODUCT(('Recette phase 2'!$O$36:$O$50='Liste de course'!A23)*('Recette phase 2'!$N$36:$N$50))*'Recette phase 2'!$M$34)+(SUMPRODUCT(('Recette phase 2'!$C$54:$C$64='Liste de course'!A23)*('Recette phase 2'!$B$54:$B$64))*'Recette phase 2'!$A$52)+(SUMPRODUCT(('Recette phase 2'!$F$54:$F$64='Liste de course'!A23)*('Recette phase 2'!$E$54:$E$64))*'Recette phase 2'!$D$52)+(SUMPRODUCT(('Recette phase 2'!$I$54:$I$64='Liste de course'!A23)*('Recette phase 2'!$H$54:$H$64))*'Recette phase 2'!$G$52)+(SUMPRODUCT(('Recette phase 2'!$L$54:$L$64='Liste de course'!A23)*('Recette phase 2'!$K$54:$K$64))*'Recette phase 2'!$J$52)+(SUMPRODUCT(('Recette phase 2'!$O$54:$O$64='Liste de course'!A23)*('Recette phase 2'!$N$54:$N$64))*'Recette phase 2'!$M$52)+(SUMPRODUCT(('Recette phase 2'!$C$69:$C$85='Liste de course'!A23)*('Recette phase 2'!$B$69:$B$85))*'Recette phase 2'!$A$67)+(SUMPRODUCT(('Recette phase 2'!$F$69:$F$85='Liste de course'!A23)*('Recette phase 2'!$E$69:$E$85))*'Recette phase 2'!$D$67)+(SUMPRODUCT(('Recette phase 2'!$I$69:$I$85='Liste de course'!A23)*('Recette phase 2'!$H$69:$H$85))*'Recette phase 2'!$G$67)+(SUMPRODUCT(('Recette phase 2'!$L$69:$L$85='Liste de course'!A23)*('Recette phase 2'!$K$69:$K$85))*'Recette phase 2'!$J$67)+(SUMPRODUCT(('Recette phase 2'!$C$89:$C$104='Liste de course'!A23)*('Recette phase 2'!$B$89:$B$104))*'Recette phase 2'!$A$87)+(SUMPRODUCT(('Recette phase 2'!$F$89:$F$104='Liste de course'!A23)*('Recette phase 2'!$E$89:$E$104))*'Recette phase 2'!$D$87)+(SUMPRODUCT(('Recette phase 2'!$I$89:$I$104='Liste de course'!A23)*('Recette phase 2'!$H$89:$H$104))*'Recette phase 2'!$G$87)+(SUMPRODUCT(('Recette phase 2'!$L$89:$L$104='Liste de course'!A23)*('Recette phase 2'!$K$89:$K$104))*'Recette phase 2'!$J$87)+(SUMPRODUCT(('Recette phase 2'!$C$109:$C$119='Liste de course'!A23)*('Recette phase 2'!$B$109:$B$119))*'Recette phase 2'!$A$107)+(SUMPRODUCT(('Recette phase 2'!$F$109:$F$119='Liste de course'!A23)*('Recette phase 2'!$E$109:$E$119))*'Recette phase 2'!$D$107)+(SUMPRODUCT(('Recette phase 2'!$I$109:$I$119='Liste de course'!A23)*('Recette phase 2'!$H$109:$H$119))*'Recette phase 2'!$G$107)+(SUMPRODUCT(('Recette phase 2'!$L$109:$L$119='Liste de course'!A23)*('Recette phase 2'!$K$109:$K$119))*'Recette phase 2'!$J$107)+(SUMPRODUCT(('Recette phase 2'!$C$123:$C$128='Liste de course'!A23)*('Recette phase 2'!$B$123:$B$128))*'Recette phase 2'!$A$121)+(SUMPRODUCT(('Recette phase 2'!$F$123:$F$128='Liste de course'!A23)*('Recette phase 2'!$E$123:$E$128))*'Recette phase 2'!$D$121)+(SUMPRODUCT(('Recette phase 2'!$I$123:$I$128='Liste de course'!A23)*('Recette phase 2'!$H$123:$H$128))*'Recette phase 2'!$G$121)+(SUMPRODUCT(('Recette phase 2'!$L$123:$L$128='Liste de course'!A23)*('Recette phase 2'!$K$123:$K$128))*'Recette phase 2'!$J$121) -> 0 | C23: =(SUMPRODUCT(('Liste de course'!B23)-(Stock!B23))) -> -4 | D23: Choux fleur | E23: =(SUMPRODUCT(('Recette phase 2'!$C$6:$C$15='Liste de course'!D23)*('Recette phase 2'!$B$6:$B$15))*'Recette phase 2'!$A$4)+(SUMPRODUCT(('Recette phase 2'!$F$6:$F$15='Liste de course'!D23)*('Recette phase 2'!$E$6:$E$15))*'Recette phase 2'!$D$4)+(SUMPRODUCT(('Recette phase 2'!$I$6:$I$15='Liste de course'!D23)*('Recette phase 2'!$H$6:$H$15))*'Recette phase 2'!$G$4)+(SUMPRODUCT(('Recette phase 2'!$K$6:$K$15='Liste de course'!D23)*('Recette phase 2'!$K$6:$K$15))*'Recette phase 2'!$J$4)+(SUMPRODUCT(('Recette phase 2'!$O$6:$O$15='Liste de course'!D23)*('Recette phase 2'!$N$6:$N$15))*'Recette phase 2'!$M$4)+(SUMPRODUCT(('Recette phase 2'!$C$19:$C$31='Liste de course'!D23)*('Recette phase 2'!$B$19:$B$31))*'Recette phase 2'!$A$17)+(SUMPRODUCT(('Recette phase 2'!$F$19:$F$31='Liste de course'!D23)*('Recette phase 2'!$E$19:$E$31))*'Recette phase 2'!$D$17)+(SUMPRODUCT(('Recette phase 2'!$I$19:$I$31='Liste de course'!D23)*('Recette phase 2'!$H$19:$H$31))*'Recette phase 2'!$G$17)+(SUMPRODUCT(('Recette phase 2'!$C$36:$C$50='Liste de course'!D23)*('Recette phase 2'!$B$36:$B$50))*'Recette phase 2'!$A$34)+(SUMPRODUCT(('Recette phase 2'!$F$36:$F$50='Liste de course'!D23)*('Recette phase 2'!$E$36:$E$50))*'Recette phase 2'!$D$34)+(SUMPRODUCT(('Recette phase 2'!$I$36:$I$50='Liste de course'!D23)*('Recette phase 2'!$H$36:$H$50))*'Recette phase 2'!$G$34)+(SUMPRODUCT(('Recette phase 2'!$L$36:$L$50='Liste de course'!D23)*('Recette phase 2'!$K$36:$K$50))*'Recette phase 2'!$J$34)+(SUMPRODUCT(('Recette phase 2'!$O$36:$O$50='Liste de course'!D23)*('Recette phase 2'!$N$36:$N$50))*'Recette phase 2'!$M$34)+(SUMPRODUCT(('Recette phase 2'!$C$54:$C$64='Liste de course'!D23)*('Recette phase 2'!$B$54:$B$64))*'Recette phase 2'!$A$52)+(SUMPRODUCT(('Recette phase 2'!$F$54:$F$64='Liste de course'!D23)*('Recette phase 2'!$E$54:$E$64))*'Recette phase 2'!$D$52)+(SUMPRODUCT(('Recette phase 2'!$I$54:$I$64='Liste de course'!D23)*('Recette phase 2'!$H$54:$H$64))*'Recette phase 2'!$G$52)+(SUMPRODUCT(('Recette phase 2'!$L$54:$L$64='Liste de course'!D23)*('Recette phase 2'!$K$54:$K$64))*'Recette phase 2'!$J$52)+(SUMPRODUCT(('Recette phase 2'!$O$54:$O$64='Liste de course'!D23)*('Recette phase 2'!$N$54:$N$64))*'Recette phase 2'!$M$52)+(SUMPRODUCT(('Recette phase 2'!$C$69:$C$85='Liste de course'!D23)*('Recette phase 2'!$B$69:$B$85))*'Recette phase 2'!$A$67)+(SUMPRODUCT(('Recette phase 2'!$F$69:$F$85='Liste de course'!D23)*('Recette phase 2'!$E$69:$E$85))*'Recette phase 2'!$D$67)+(SUMPRODUCT(('Recette phase 2'!$I$69:$I$85='Liste de course'!D23)*('Recette phase 2'!$H$69:$H$85))*'Recette phase 2'!$G$67)+(SUMPRODUCT(('Recette phase 2'!$L$69:$L$85='Liste de course'!D23)*('Recette phase 2'!$K$69:$K$85))*'Recette phase 2'!$J$67)+(SUMPRODUCT(('Recette phase 2'!$C$89:$C$104='Liste de course'!D23)*('Recette phase 2'!$B$89:$B$104))*'Recette phase 2'!$A$87)+(SUMPRODUCT(('Recette phase 2'!$F$89:$F$104='Liste de course'!D23)*('Recette phase 2'!$E$89:$E$104))*'Recette phase 2'!$D$87)+(SUMPRODUCT(('Recette phase 2'!$I$89:$I$104='Liste de course'!D23)*('Recette phase 2'!$H$89:$H$104))*'Recette phase 2'!$G$87)+(SUMPRODUCT(('Recette phase 2'!$L$89:$L$104='Liste de course'!D23)*('Recette phase 2'!$K$89:$K$104))*'Recette phase 2'!$J$87)+(SUMPRODUCT(('Recette phase 2'!$C$109:$C$119='Liste de course'!D23)*('Recette phase 2'!$B$109:$B$119))*'Recette phase 2'!$A$107)+(SUMPRODUCT(('Recette phase 2'!$F$109:$F$119='Liste de course'!D23)*('Recette phase 2'!$E$109:$E$119))*'Recette phase 2'!$D$107)+(SUMPRODUCT(('Recette phase 2'!$I$109:$I$119='Liste de course'!D23)*('Recette phase 2'!$H$109:$H$119))*'Recette phase 2'!$G$107)+(SUMPRODUCT(('Recette phase 2'!$L$109:$L$119='Liste de course'!D23)*('Recette phase 2'!$K$109:$K$119))*'Recette phase 2'!$J$107)+(SUMPRODUCT(('Recette phase 2'!$C$123:$C$128='Liste de course'!D23)*('Recette phase 2'!$B$123:$B$128))*'Recette phase 2'!$A$121)+(SUMPRODUCT(('Recette phase 2'!$F$123:$F$128='Liste de course'!D23)*('Recette phase 2'!$E$123:$E$128))*'Recette phase 2'!$D$121)+(SUMPRODUCT(('Recette phase 2'!$I$123:$I$128='Liste de course'!D23)*('Recette phase 2'!$H$123:$H$128))*'Recette phase 2'!$G$121)+(SUMPRODUCT(('Recette phase 2'!$L$123:$L$128='Liste de course'!D23)*('Recette phase 2'!$K$123:$K$128))*'Recette phase 2'!$J$121) -> 0 | F23: =(SUMPRODUCT(('Liste de course'!E23)-(Stock!D23))) -> 0
A24: Poisson blanc | B24: =(SUMPRODUCT(('Recette phase 2'!$C$6:$C$15='Liste de course'!A24)*('Recette phase 2'!$B$6:$B$15))*'Recette phase 2'!$A$4)+(SUMPRODUCT(('Recette phase 2'!$F$6:$F$15='Liste de course'!A24)*('Recette phase 2'!$E$6:$E$15))*'Recette phase 2'!$D$4)+(SUMPRODUCT(('Recette phase 2'!$I$6:$I$15='Liste de course'!A24)*('Recette phase 2'!$H$6:$H$15))*'Recette phase 2'!$G$4)+(SUMPRODUCT(('Recette phase 2'!$K$6:$K$15='Liste de course'!A24)*('Recette phase 2'!$K$6:$K$15))*'Recette phase 2'!$J$4)+(SUMPRODUCT(('Recette phase 2'!$O$6:$O$15='Liste de course'!A24)*('Recette phase 2'!$N$6:$N$15))*'Recette phase 2'!$M$4)+(SUMPRODUCT(('Recette phase 2'!$C$19:$C$31='Liste de course'!A24)*('Recette phase 2'!$B$19:$B$31))*'Recette phase 2'!$A$17)+(SUMPRODUCT(('Recette phase 2'!$F$19:$F$31='Liste de course'!A24)*('Recette phase 2'!$E$19:$E$31))*'Recette phase 2'!$D$17)+(SUMPRODUCT(('Recette phase 2'!$I$19:$I$31='Liste de course'!A24)*('Recette phase 2'!$H$19:$H$31))*'Recette phase 2'!$G$17)+(SUMPRODUCT(('Recette phase 2'!$C$36:$C$50='Liste de course'!A24)*('Recette phase 2'!$B$36:$B$50))*'Recette phase 2'!$A$34)+(SUMPRODUCT(('Recette phase 2'!$F$36:$F$50='Liste de course'!A24)*('Recette phase 2'!$E$36:$E$50))*'Recette phase 2'!$D$34)+(SUMPRODUCT(('Recette phase 2'!$I$36:$I$50='Liste de course'!A24)*('Recette phase 2'!$H$36:$H$50))*'Recette phase 2'!$G$34)+(SUMPRODUCT(('Recette phase 2'!$L$36:$L$50='Liste de course'!A24)*('Recette phase 2'!$K$36:$K$50))*'Recette phase 2'!$J$34)+(SUMPRODUCT(('Recette phase 2'!$O$36:$O$50='Liste de course'!A24)*('Recette phase 2'!$N$36:$N$50))*'Recette phase 2'!$M$34)+(SUMPRODUCT(('Recette phase 2'!$C$54:$C$64='Liste de course'!A24)*('Recette phase 2'!$B$54:$B$64))*'Recette phase 2'!$A$52)+(SUMPRODUCT(('Recette phase 2'!$F$54:$F$64='Liste de course'!A24)*('Recette phase 2'!$E$54:$E$64))*'Recette phase 2'!$D$52)+(SUMPRODUCT(('Recette phase 2'!$I$54:$I$64='Liste de course'!A24)*('Recette phase 2'!$H$54:$H$64))*'Recette phase 2'!$G$52)+(SUMPRODUCT(('Recette phase 2'!$L$54:$L$64='Liste de course'!A24)*('Recette phase 2'!$K$54:$K$64))*'Recette phase 2'!$J$52)+(SUMPRODUCT(('Recette phase 2'!$O$54:$O$64='Liste de course'!A24)*('Recette phase 2'!$N$54:$N$64))*'Recette phase 2'!$M$52)+(SUMPRODUCT(('Recette phase 2'!$C$69:$C$85='Liste de course'!A24)*('Recette phase 2'!$B$69:$B$85))*'Recette phase 2'!$A$67)+(SUMPRODUCT(('Recette phase 2'!$F$69:$F$85='Liste de course'!A24)*('Recette phase 2'!$E$69:$E$85))*'Recette phase 2'!$D$67)+(SUMPRODUCT(('Recette phase 2'!$I$69:$I$85='Liste de course'!A24)*('Recette phase 2'!$H$69:$H$85))*'Recette phase 2'!$G$67)+(SUMPRODUCT(('Recette phase 2'!$L$69:$L$85='Liste de course'!A24)*('Recette phase 2'!$K$69:$K$85))*'Recette phase 2'!$J$67)+(SUMPRODUCT(('Recette phase 2'!$C$89:$C$104='Liste de course'!A24)*('Recette phase 2'!$B$89:$B$104))*'Recette phase 2'!$A$87)+(SUMPRODUCT(('Recette phase 2'!$F$89:$F$104='Liste de course'!A24)*('Recette phase 2'!$E$89:$E$104))*'Recette phase 2'!$D$87)+(SUMPRODUCT(('Recette phase 2'!$I$89:$I$104='Liste de course'!A24)*('Recette phase 2'!$H$89:$H$104))*'Recette phase 2'!$G$87)+(SUMPRODUCT(('Recette phase 2'!$L$89:$L$104='Liste de course'!A24)*('Recette phase 2'!$K$89:$K$104))*'Recette phase 2'!$J$87)+(SUMPRODUCT(('Recette phase 2'!$C$109:$C$119='Liste de course'!A24)*('Recette phase 2'!$B$109:$B$119))*'Recette phase 2'!$A$107)+(SUMPRODUCT(('Recette phase 2'!$F$109:$F$119='Liste de course'!A24)*('Recette phase 2'!$E$109:$E$119))*'Recette phase 2'!$D$107)+(SUMPRODUCT(('Recette phase 2'!$I$109:$I$119='Liste de course'!A24)*('Recette phase 2'!$H$109:$H$119))*'Recette phase 2'!$G$107)+(SUMPRODUCT(('Recette phase 2'!$L$109:$L$119='Liste de course'!A24)*('Recette phase 2'!$K$109:$K$119))*'Recette phase 2'!$J$107)+(SUMPRODUCT(('Recette phase 2'!$C$123:$C$128='Liste de course'!A24)*('Recette phase 2'!$B$123:$B$128))*'Recette phase 2'!$A$121)+(SUMPRODUCT(('Recette phase 2'!$F$123:$F$128='Liste de course'!A24)*('Recette phase 2'!$E$123:$E$128))*'Recette phase 2'!$D$121)+(SUMPRODUCT(('Recette phase 2'!$I$123:$I$128='Liste de course'!A24)*('Recette phase 2'!$H$123:$H$128))*'Recette phase 2'!$G$121)+(SUMPRODUCT(('Recette phase 2'!$L$123:$L$128='Liste de course'!A24)*('Recette phase 2'!$K$123:$K$128))*'Recette phase 2'!$J$121) -> 0 | C24: =(SUMPRODUCT(('Liste de course'!B24)-(Stock!B24))) -> -800 | D24: Courge butternut | E24: =(SUMPRODUCT(('Recette phase 2'!$C$6:$C$15='Liste de course'!D24)*('Recette phase 2'!$B$6:$B$15))*'Recette phase 2'!$A$4)+(SUMPRODUCT(('Recette phase 2'!$F$6:$F$15='Liste de course'!D24)*('Recette phase 2'!$E$6:$E$15))*'Recette phase 2'!$D$4)+(SUMPRODUCT(('Recette phase 2'!$I$6:$I$15='Liste de course'!D24)*('Recette phase 2'!$H$6:$H$15))*'Recette phase 2'!$G$4)+(SUMPRODUCT(('Recette phase 2'!$K$6:$K$15='Liste de course'!D24)*('Recette phase 2'!$K$6:$K$15))*'Recette phase 2'!$J$4)+(SUMPRODUCT(('Recette phase 2'!$O$6:$O$15='Liste de course'!D24)*('Recette phase 2'!$N$6:$N$15))*'Recette phase 2'!$M$4)+(SUMPRODUCT(('Recette phase 2'!$C$19:$C$31='Liste de course'!D24)*('Recette phase 2'!$B$19:$B$31))*'Recette phase 2'!$A$17)+(SUMPRODUCT(('Recette phase 2'!$F$19:$F$31='Liste de course'!D24)*('Recette phase 2'!$E$19:$E$31))*'Recette phase 2'!$D$17)+(SUMPRODUCT(('Recette phase 2'!$I$19:$I$31='Liste de course'!D24)*('Recette phase 2'!$H$19:$H$31))*'Recette phase 2'!$G$17)+(SUMPRODUCT(('Recette phase 2'!$C$36:$C$50='Liste de course'!D24)*('Recette phase 2'!$B$36:$B$50))*'Recette phase 2'!$A$34)+(SUMPRODUCT(('Recette phase 2'!$F$36:$F$50='Liste de course'!D24)*('Recette phase 2'!$E$36:$E$50))*'Recette phase 2'!$D$34)+(SUMPRODUCT(('Recette phase 2'!$I$36:$I$50='Liste de course'!D24)*('Recette phase 2'!$H$36:$H$50))*'Recette phase 2'!$G$34)+(SUMPRODUCT(('Recette phase 2'!$L$36:$L$50='Liste de course'!D24)*('Recette phase 2'!$K$36:$K$50))*'Recette phase 2'!$J$34)+(SUMPRODUCT(('Recette phase 2'!$O$36:$O$50='Liste de course'!D24)*('Recette phase 2'!$N$36:$N$50))*'Recette phase 2'!$M$34)+(SUMPRODUCT(('Recette phase 2'!$C$54:$C$64='Liste de course'!D24)*('Recette phase 2'!$B$54:$B$64))*'Recette phase 2'!$A$52)+(SUMPRODUCT(('Recette phase 2'!$F$54:$F$64='Liste de course'!D24)*('Recette phase 2'!$E$54:$E$64))*'Recette phase 2'!$D$52)+(SUMPRODUCT(('Recette phase 2'!$I$54:$I$64='Liste de course'!D24)*('Recette phase 2'!$H$54:$H$64))*'Recette phase 2'!$G$52)+(SUMPRODUCT(('Recette phase 2'!$L$54:$L$64='Liste de course'!D24)*('Recette phase 2'!$K$54:$K$64))*'Recette phase 2'!$J$52)+(SUMPRODUCT(('Recette phase 2'!$O$54:$O$64='Liste de course'!D24)*('Recette phase 2'!$N$54:$N$64))*'Recette phase 2'!$M$52)+(SUMPRODUCT(('Recette phase 2'!$C$69:$C$85='Liste de course'!D24)*('Recette phase 2'!$B$69:$B$85))*'Recette phase 2'!$A$67)+(SUMPRODUCT(('Recette phase 2'!$F$69:$F$85='Liste de course'!D24)*('Recette phase 2'!$E$69:$E$85))*'Recette phase 2'!$D$67)+(SUMPRODUCT(('Recette phase 2'!$I$69:$I$85='Liste de course'!D24)*('Recette phase 2'!$H$69:$H$85))*'Recette phase 2'!$G$67)+(SUMPRODUCT(('Recette phase 2'!$L$69:$L$85='Liste de course'!D24)*('Recette phase 2'!$K$69:$K$85))*'Recette phase 2'!$J$67)+(SUMPRODUCT(('Recette phase 2'!$C$89:$C$104='Liste de course'!D24)*('Recette phase 2'!$B$89:$B$104))*'Recette phase 2'!$A$87)+(SUMPRODUCT(('Recette phase 2'!$F$89:$F$104='Liste de course'!D24)*('Recette phase 2'!$E$89:$E$104))*'Recette phase 2'!$D$87)+(SUMPRODUCT(('Recette phase 2'!$I$89:$I$104='Liste de course'!D24)*('Recette phase 2'!$H$89:$H$104))*'Recette phase 2'!$G$87)+(SUMPRODUCT(('Recette phase 2'!$L$89:$L$104='Liste de course'!D24)*('Recette phase 2'!$K$89:$K$104))*'Recette phase 2'!$J$87)+(SUMPRODUCT(('Recette phase 2'!$C$109:$C$119='Liste de course'!D24)*('Recette phase 2'!$B$109:$B$119))*'Recette phase 2'!$A$107)+(SUMPRODUCT(('Recette phase 2'!$F$109:$F$119='Liste de course'!D24)*('Recette phase 2'!$E$109:$E$119))*'Recette phase 2'!$D$107)+(SUMPRODUCT(('Recette phase 2'!$I$109:$I$119='Liste de course'!D24)*('Recette phase 2'!$H$109:$H$119))*'Recette phase 2'!$G$107)+(SUMPRODUCT(('Recette phase 2'!$L$109:$L$119='Liste de course'!D24)*('Recette phase 2'!$K$109:$K$119))*'Recette phase 2'!$J$107)+(SUMPRODUCT(('Recette phase 2'!$C$123:$C$128='Liste de course'!D24)*('Recette phase 2'!$B$123:$B$128))*'Recette phase 2'!$A$121)+(SUMPRODUCT(('Recette phase 2'!$F$123:$F$128='Liste de course'!D24)*('Recette phase 2'!$E$123:$E$128))*'Recette phase 2'!$D$121)+(SUMPRODUCT(('Recette phase 2'!$I$123:$I$128='Liste de course'!D24)*('Recette phase 2'!$H$123:$H$128))*'Recette phase 2'!$G$121)+(SUMPRODUCT(('Recette phase 2'!$L$123:$L$128='Liste de course'!D24)*('Recette phase 2'!$K$123:$K$128))*'Recette phase 2'!$J$121) -> 0 | F24: =(SUMPRODUCT(('Liste de course'!E24)-(Stock!D24))) -> 0
A25: Saucisse soja saveur paprika | B25: =(SUMPRODUCT(('Recette phase 2'!$C$6:$C$15='Liste de course'!A25)*('Recette phase 2'!$B$6:$B$15))*'Recette phase 2'!$A$4)+(SUMPRODUCT(('Recette phase 2'!$F$6:$F$15='Liste de course'!A25)*('Recette phase 2'!$E$6:$E$15))*'Recette phase 2'!$D$4)+(SUMPRODUCT(('Recette phase 2'!$I$6:$I$15='Liste de course'!A25)*('Recette phase 2'!$H$6:$H$15))*'Recette phase 2'!$G$4)+(SUMPRODUCT(('Recette phase 2'!$K$6:$K$15='Liste de course'!A25)*('Recette phase 2'!$K$6:$K$15))*'Recette phase 2'!$J$4)+(SUMPRODUCT(('Recette phase 2'!$O$6:$O$15='Liste de course'!A25)*('Recette phase 2'!$N$6:$N$15))*'Recette phase 2'!$M$4)+(SUMPRODUCT(('Recette phase 2'!$C$19:$C$31='Liste de course'!A25)*('Recette phase 2'!$B$19:$B$31))*'Recette phase 2'!$A$17)+(SUMPRODUCT(('Recette phase 2'!$F$19:$F$31='Liste de course'!A25)*('Recette phase 2'!$E$19:$E$31))*'Recette phase 2'!$D$17)+(SUMPRODUCT(('Recette phase 2'!$I$19:$I$31='Liste de course'!A25)*('Recette phase 2'!$H$19:$H$31))*'Recette phase 2'!$G$17)+(SUMPRODUCT(('Recette phase 2'!$C$36:$C$50='Liste de course'!A25)*('Recette phase 2'!$B$36:$B$50))*'Recette phase 2'!$A$34)+(SUMPRODUCT(('Recette phase 2'!$F$36:$F$50='Liste de course'!A25)*('Recette phase 2'!$E$36:$E$50))*'Recette phase 2'!$D$34)+(SUMPRODUCT(('Recette phase 2'!$I$36:$I$50='Liste de course'!A25)*('Recette phase 2'!$H$36:$H$50))*'Recette phase 2'!$G$34)+(SUMPRODUCT(('Recette phase 2'!$L$36:$L$50='Liste de course'!A25)*('Recette phase 2'!$K$36:$K$50))*'Recette phase 2'!$J$34)+(SUMPRODUCT(('Recette phase 2'!$O$36:$O$50='Liste de course'!A25)*('Recette phase 2'!$N$36:$N$50))*'Recette phase 2'!$M$34)+(SUMPRODUCT(('Recette phase 2'!$C$54:$C$64='Liste de course'!A25)*('Recette phase 2'!$B$54:$B$64))*'Recette phase 2'!$A$52)+(SUMPRODUCT(('Recette phase 2'!$F$54:$F$64='Liste de course'!A25)*('Recette phase 2'!$E$54:$E$64))*'Recette phase 2'!$D$52)+(SUMPRODUCT(('Recette phase 2'!$I$54:$I$64='Liste de course'!A25)*('Recette phase 2'!$H$54:$H$64))*'Recette phase 2'!$G$52)+(SUMPRODUCT(('Recette phase 2'!$L$54:$L$64='Liste de course'!A25)*('Recette phase 2'!$K$54:$K$64))*'Recette phase 2'!$J$52)+(SUMPRODUCT(('Recette phase 2'!$O$54:$O$64='Liste de course'!A25)*('Recette phase 2'!$N$54:$N$64))*'Recette phase 2'!$M$52)+(SUMPRODUCT(('Recette phase 2'!$C$69:$C$85='Liste de course'!A25)*('Recette phase 2'!$B$69:$B$85))*'Recette phase 2'!$A$67)+(SUMPRODUCT(('Recette phase 2'!$F$69:$F$85='Liste de course'!A25)*('Recette phase 2'!$E$69:$E$85))*'Recette phase 2'!$D$67)+(SUMPRODUCT(('Recette phase 2'!$I$69:$I$85='Liste de course'!A25)*('Recette phase 2'!$H$69:$H$85))*'Recette phase 2'!$G$67)+(SUMPRODUCT(('Recette phase 2'!$L$69:$L$85='Liste de course'!A25)*('Recette phase 2'!$K$69:$K$85))*'Recette phase 2'!$J$67)+(SUMPRODUCT(('Recette phase 2'!$C$89:$C$104='Liste de course'!A25)*('Recette phase 2'!$B$89:$B$104))*'Recette phase 2'!$A$87)+(SUMPRODUCT(('Recette phase 2'!$F$89:$F$104='Liste de course'!A25)*('Recette phase 2'!$E$89:$E$104))*'Recette phase 2'!$D$87)+(SUMPRODUCT(('Recette phase 2'!$I$89:$I$104='Liste de course'!A25)*('Recette phase 2'!$H$89:$H$104))*'Recette phase 2'!$G$87)+(SUMPRODUCT(('Recette phase 2'!$L$89:$L$104='Liste de course'!A25)*('Recette phase 2'!$K$89:$K$104))*'Recette phase 2'!$J$87)+(SUMPRODUCT(('Recette phase 2'!$C$109:$C$119='Liste de course'!A25)*('Recette phase 2'!$B$109:$B$119))*'Recette phase 2'!$A$107)+(SUMPRODUCT(('Recette phase 2'!$F$109:$F$119='Liste de course'!A25)*('Recette phase 2'!$E$109:$E$119))*'Recette phase 2'!$D$107)+(SUMPRODUCT(('Recette phase 2'!$I$109:$I$119='Liste de course'!A25)*('Recette phase 2'!$H$109:$H$119))*'Recette phase 2'!$G$107)+(SUMPRODUCT(('Recette phase 2'!$L$109:$L$119='Liste de course'!A25)*('Recette phase 2'!$K$109:$K$119))*'Recette phase 2'!$J$107)+(SUMPRODUCT(('Recette phase 2'!$C$123:$C$128='Liste de course'!A25)*('Recette phase 2'!$B$123:$B$128))*'Recette phase 2'!$A$121)+(SUMPRODUCT(('Recette phase 2'!$F$123:$F$128='Liste de course'!A25)*('Recette phase 2'!$E$123:$E$128))*'Recette phase 2'!$D$121)+(SUMPRODUCT(('Recette phase 2'!$I$123:$I$128='Liste de course'!A25)*('Recette phase 2'!$H$123:$H$128))*'Recette phase 2'!$G$121)+(SUMPRODUCT(('Recette phase 2'!$L$123:$L$128='Liste de course'!A25)*('Recette phase 2'!$K$123:$K$128))*'Recette phase 2'!$J$121) -> 0 | C25: =(SUMPRODUCT(('Liste de course'!B25)-(Stock!B25))) -> 0 | D25: Epinards frais | E25: =(SUMPRODUCT(('Recette phase 2'!$C$6:$C$15='Liste de course'!D25)*('Recette phase 2'!$B$6:$B$15))*'Recette phase 2'!$A$4)+(SUMPRODUCT(('Recette phase 2'!$F$6:$F$15='Liste de course'!D25)*('Recette phase 2'!$E$6:$E$15))*'Recette phase 2'!$D$4)+(SUMPRODUCT(('Recette phase 2'!$I$6:$I$15='Liste de course'!D25)*('Recette phase 2'!$H$6:$H$15))*'Recette phase 2'!$G$4)+(SUMPRODUCT(('Recette phase 2'!$K$6:$K$15='Liste de course'!D25)*('Recette phase 2'!$K$6:$K$15))*'Recette phase 2'!$J$4)+(SUMPRODUCT(('Recette phase 2'!$O$6:$O$15='Liste de course'!D25)*('Recette phase 2'!$N$6:$N$15))*'Recette phase 2'!$M$4)+(SUMPRODUCT(('Recette phase 2'!$C$19:$C$31='Liste de course'!D25)*('Recette phase 2'!$B$19:$B$31))*'Recette phase 2'!$A$17)+(SUMPRODUCT(('Recette phase 2'!$F$19:$F$31='Liste de course'!D25)*('Recette phase 2'!$E$19:$E$31))*'Recette phase 2'!$D$17)+(SUMPRODUCT(('Recette phase 2'!$I$19:$I$31='Liste de course'!D25)*('Recette phase 2'!$H$19:$H$31))*'Recette phase 2'!$G$17)+(SUMPRODUCT(('Recette phase 2'!$C$36:$C$50='Liste de course'!D25)*('Recette phase 2'!$B$36:$B$50))*'Recette phase 2'!$A$34)+(SUMPRODUCT(('Recette phase 2'!$F$36:$F$50='Liste de course'!D25)*('Recette phase 2'!$E$36:$E$50))*'Recette phase 2'!$D$34)+(SUMPRODUCT(('Recette phase 2'!$I$36:$I$50='Liste de course'!D25)*('Recette phase 2'!$H$36:$H$50))*'Recette phase 2'!$G$34)+(SUMPRODUCT(('Recette phase 2'!$L$36:$L$50='Liste de course'!D25)*('Recette phase 2'!$K$36:$K$50))*'Recette phase 2'!$J$34)+(SUMPRODUCT(('Recette phase 2'!$O$36:$O$50='Liste de course'!D25)*('Recette phase 2'!$N$36:$N$50))*'Recette phase 2'!$M$34)+(SUMPRODUCT(('Recette phase 2'!$C$54:$C$64='Liste de course'!D25)*('Recette phase 2'!$B$54:$B$64))*'Recette phase 2'!$A$52)+(SUMPRODUCT(('Recette phase 2'!$F$54:$F$64='Liste de course'!D25)*('Recette phase 2'!$E$54:$E$64))*'Recette phase 2'!$D$52)+(SUMPRODUCT(('Recette phase 2'!$I$54:$I$64='Liste de course'!D25)*('Recette phase 2'!$H$54:$H$64))*'Recette phase 2'!$G$52)+(SUMPRODUCT(('Recette phase 2'!$L$54:$L$64='Liste de course'!D25)*('Recette phase 2'!$K$54:$K$64))*'Recette phase 2'!$J$52)+(SUMPRODUCT(('Recette phase 2'!$O$54:$O$64='Liste de course'!D25)*('Recette phase 2'!$N$54:$N$64))*'Recette phase 2'!$M$52)+(SUMPRODUCT(('Recette phase 2'!$C$69:$C$85='Liste de course'!D25)*('Recette phase 2'!$B$69:$B$85))*'Recette phase 2'!$A$67)+(SUMPRODUCT(('Recette phase 2'!$F$69:$F$85='Liste de course'!D25)*('Recette phase 2'!$E$69:$E$85))*'Recette phase 2'!$D$67)+(SUMPRODUCT(('Recette phase 2'!$I$69:$I$85='Liste de course'!D25)*('Recette phase 2'!$H$69:$H$85))*'Recette phase 2'!$G$67)+(SUMPRODUCT(('Recette phase 2'!$L$69:$L$85='Liste de course'!D25)*('Recette phase 2'!$K$69:$K$85))*'Recette phase 2'!$J$67)+(SUMPRODUCT(('Recette phase 2'!$C$89:$C$104='Liste de course'!D25)*('Recette phase 2'!$B$89:$B$104))*'Recette phase 2'!$A$87)+(SUMPRODUCT(('Recette phase 2'!$F$89:$F$104='Liste de course'!D25)*('Recette phase 2'!$E$89:$E$104))*'Recette phase 2'!$D$87)+(SUMPRODUCT(('Recette phase 2'!$I$89:$I$104='Liste de course'!D25)*('Recette phase 2'!$H$89:$H$104))*'Recette phase 2'!$G$87)+(SUMPRODUCT(('Recette phase 2'!$L$89:$L$104='Liste de course'!D25)*('Recette phase 2'!$K$89:$K$104))*'Recette phase 2'!$J$87)+(SUMPRODUCT(('Recette phase 2'!$C$109:$C$119='Liste de course'!D25)*('Recette phase 2'!$B$109:$B$119))*'Recette phase 2'!$A$107)+(SUMPRODUCT(('Recette phase 2'!$F$109:$F$119='Liste de course'!D25)*('Recette phase 2'!$E$109:$E$119))*'Recette phase 2'!$D$107)+(SUMPRODUCT(('Recette phase 2'!$I$109:$I$119='Liste de course'!D25)*('Recette phase 2'!$H$109:$H$119))*'Recette phase 2'!$G$107)+(SUMPRODUCT(('Recette phase 2'!$L$109:$L$119='Liste de course'!D25)*('Recette phase 2'!$K$109:$K$119))*'Recette phase 2'!$J$107)+(SUMPRODUCT(('Recette phase 2'!$C$123:$C$128='Liste de course'!D25)*('Recette phase 2'!$B$123:$B$128))*'Recette phase 2'!$A$121)+(SUMPRODUCT(('Recette phase 2'!$F$123:$F$128='Liste de course'!D25)*('Recette phase 2'!$E$123:$E$128))*'Recette phase 2'!$D$121)+(SUMPRODUCT(('Recette phase 2'!$I$123:$I$128='Liste de course'!D25)*('Recette phase 2'!$H$123:$H$128))*'Recette phase 2'!$G$121)+(SUMPRODUCT(('Recette phase 2'!$L$123:$L$128='Liste de course'!D25)*('Recette phase 2'!$K$123:$K$128))*'Recette phase 2'!$J$121) -> 0 | F25: =(SUMPRODUCT(('Liste de course'!E25)-(Stock!D25))) -> -515
A26: Saumon fumé | B26: =(SUMPRODUCT(('Recette phase 2'!$C$6:$C$15='Liste de course'!A26)*('Recette phase 2'!$B$6:$B$15))*'Recette phase 2'!$A$4)+(SUMPRODUCT(('Recette phase 2'!$F$6:$F$15='Liste de course'!A26)*('Recette phase 2'!$E$6:$E$15))*'Recette phase 2'!$D$4)+(SUMPRODUCT(('Recette phase 2'!$I$6:$I$15='Liste de course'!A26)*('Recette phase 2'!$H$6:$H$15))*'Recette phase 2'!$G$4)+(SUMPRODUCT(('Recette phase 2'!$K$6:$K$15='Liste de course'!A26)*('Recette phase 2'!$K$6:$K$15))*'Recette phase 2'!$J$4)+(SUMPRODUCT(('Recette phase 2'!$O$6:$O$15='Liste de course'!A26)*('Recette phase 2'!$N$6:$N$15))*'Recette phase 2'!$M$4)+(SUMPRODUCT(('Recette phase 2'!$C$19:$C$31='Liste de course'!A26)*('Recette phase 2'!$B$19:$B$31))*'Recette phase 2'!$A$17)+(SUMPRODUCT(('Recette phase 2'!$F$19:$F$31='Liste de course'!A26)*('Recette phase 2'!$E$19:$E$31))*'Recette phase 2'!$D$17)+(SUMPRODUCT(('Recette phase 2'!$I$19:$I$31='Liste de course'!A26)*('Recette phase 2'!$H$19:$H$31))*'Recette phase 2'!$G$17)+(SUMPRODUCT(('Recette phase 2'!$C$36:$C$50='Liste de course'!A26)*('Recette phase 2'!$B$36:$B$50))*'Recette phase 2'!$A$34)+(SUMPRODUCT(('Recette phase 2'!$F$36:$F$50='Liste de course'!A26)*('Recette phase 2'!$E$36:$E$50))*'Recette phase 2'!$D$34)+(SUMPRODUCT(('Recette phase 2'!$I$36:$I$50='Liste de course'!A26)*('Recette phase 2'!$H$36:$H$50))*'Recette phase 2'!$G$34)+(SUMPRODUCT(('Recette phase 2'!$L$36:$L$50='Liste de course'!A26)*('Recette phase 2'!$K$36:$K$50))*'Recette phase 2'!$J$34)+(SUMPRODUCT(('Recette phase 2'!$O$36:$O$50='Liste de course'!A26)*('Recette phase 2'!$N$36:$N$50))*'Recette phase 2'!$M$34)+(SUMPRODUCT(('Recette phase 2'!$C$54:$C$64='Liste de course'!A26)*('Recette phase 2'!$B$54:$B$64))*'Recette phase 2'!$A$52)+(SUMPRODUCT(('Recette phase 2'!$F$54:$F$64='Liste de course'!A26)*('Recette phase 2'!$E$54:$E$64))*'Recette phase 2'!$D$52)+(SUMPRODUCT(('Recette phase 2'!$I$54:$I$64='Liste de course'!A26)*('Recette phase 2'!$H$54:$H$64))*'Recette phase 2'!$G$52)+(SUMPRODUCT(('Recette phase 2'!$L$54:$L$64='Liste de course'!A26)*('Recette phase 2'!$K$54:$K$64))*'Recette phase 2'!$J$52)+(SUMPRODUCT(('Recette phase 2'!$O$54:$O$64='Liste de course'!A26)*('Recette phase 2'!$N$54:$N$64))*'Recette phase 2'!$M$52)+(SUMPRODUCT(('Recette phase 2'!$C$69:$C$85='Liste de course'!A26)*('Recette phase 2'!$B$69:$B$85))*'Recette phase 2'!$A$67)+(SUMPRODUCT(('Recette phase 2'!$F$69:$F$85='Liste de course'!A26)*('Recette phase 2'!$E$69:$E$85))*'Recette phase 2'!$D$67)+(SUMPRODUCT(('Recette phase 2'!$I$69:$I$85='Liste de course'!A26)*('Recette phase 2'!$H$69:$H$85))*'Recette phase 2'!$G$67)+(SUMPRODUCT(('Recette phase 2'!$L$69:$L$85='Liste de course'!A26)*('Recette phase 2'!$K$69:$K$85))*'Recette phase 2'!$J$67)+(SUMPRODUCT(('Recette phase 2'!$C$89:$C$104='Liste de course'!A26)*('Recette phase 2'!$B$89:$B$104))*'Recette phase 2'!$A$87)+(SUMPRODUCT(('Recette phase 2'!$F$89:$F$104='Liste de course'!A26)*('Recette phase 2'!$E$89:$E$104))*'Recette phase 2'!$D$87)+(SUMPRODUCT(('Recette phase 2'!$I$89:$I$104='Liste de course'!A26)*('Recette phase 2'!$H$89:$H$104))*'Recette phase 2'!$G$87)+(SUMPRODUCT(('Recette phase 2'!$L$89:$L$104='Liste de course'!A26)*('Recette phase 2'!$K$89:$K$104))*'Recette phase 2'!$J$87)+(SUMPRODUCT(('Recette phase 2'!$C$109:$C$119='Liste de course'!A26)*('Recette phase 2'!$B$109:$B$119))*'Recette phase 2'!$A$107)+(SUMPRODUCT(('Recette phase 2'!$F$109:$F$119='Liste de course'!A26)*('Recette phase 2'!$E$109:$E$119))*'Recette phase 2'!$D$107)+(SUMPRODUCT(('Recette phase 2'!$I$109:$I$119='Liste de course'!A26)*('Recette phase 2'!$H$109:$H$119))*'Recette phase 2'!$G$107)+(SUMPRODUCT(('Recette phase 2'!$L$109:$L$119='Liste de course'!A26)*('Recette phase 2'!$K$109:$K$119))*'Recette phase 2'!$J$107)+(SUMPRODUCT(('Recette phase 2'!$C$123:$C$128='Liste de course'!A26)*('Recette phase 2'!$B$123:$B$128))*'Recette phase 2'!$A$121)+(SUMPRODUCT(('Recette phase 2'!$F$123:$F$128='Liste de course'!A26)*('Recette phase 2'!$E$123:$E$128))*'Recette phase 2'!$D$121)+(SUMPRODUCT(('Recette phase 2'!$I$123:$I$128='Liste de course'!A26)*('Recette phase 2'!$H$123:$H$128))*'Recette phase 2'!$G$121)+(SUMPRODUCT(('Recette phase 2'!$L$123:$L$128='Liste de course'!A26)*('Recette phase 2'!$K$123:$K$128))*'Recette phase 2'!$J$121) -> 0 | C26: =(SUMPRODUCT(('Liste de course'!B26)-(Stock!B26))) -> 0 | D26: Gousse d'ail | E26: =(SUMPRODUCT(('Recette phase 2'!$C$6:$C$15='Liste de course'!D26)*('Recette phase 2'!$B$6:$B$15))*'Recette phase 2'!$A$4)+(SUMPRODUCT(('Recette phase 2'!$F$6:$F$15='Liste de course'!D26)*('Recette phase 2'!$E$6:$E$15))*'Recette phase 2'!$D$4)+(SUMPRODUCT(('Recette phase 2'!$I$6:$I$15='Liste de course'!D26)*('Recette phase 2'!$H$6:$H$15))*'Recette phase 2'!$G$4)+(SUMPRODUCT(('Recette phase 2'!$K$6:$K$15='Liste de course'!D26)*('Recette phase 2'!$K$6:$K$15))*'Recette phase 2'!$J$4)+(SUMPRODUCT(('Recette phase 2'!$O$6:$O$15='Liste de course'!D26)*('Recette phase 2'!$N$6:$N$15))*'Recette phase 2'!$M$4)+(SUMPRODUCT(('Recette phase 2'!$C$19:$C$31='Liste de course'!D26)*('Recette phase 2'!$B$19:$B$31))*'Recette phase 2'!$A$17)+(SUMPRODUCT(('Recette phase 2'!$F$19:$F$31='Liste de course'!D26)*('Recette phase 2'!$E$19:$E$31))*'Recette phase 2'!$D$17)+(SUMPRODUCT(('Recette phase 2'!$I$19:$I$31='Liste de course'!D26)*('Recette phase 2'!$H$19:$H$31))*'Recette phase 2'!$G$17)+(SUMPRODUCT(('Recette phase 2'!$C$36:$C$50='Liste de course'!D26)*('Recette phase 2'!$B$36:$B$50))*'Recette phase 2'!$A$34)+(SUMPRODUCT(('Recette phase 2'!$F$36:$F$50='Liste de course'!D26)*('Recette phase 2'!$E$36:$E$50))*'Recette phase 2'!$D$34)+(SUMPRODUCT(('Recette phase 2'!$I$36:$I$50='Liste de course'!D26)*('Recette phase 2'!$H$36:$H$50))*'Recette phase 2'!$G$34)+(SUMPRODUCT(('Recette phase 2'!$L$36:$L$50='Liste de course'!D26)*('Recette phase 2'!$K$36:$K$50))*'Recette phase 2'!$J$34)+(SUMPRODUCT(('Recette phase 2'!$O$36:$O$50='Liste de course'!D26)*('Recette phase 2'!$N$36:$N$50))*'Recette phase 2'!$M$34)+(SUMPRODUCT(('Recette phase 2'!$C$54:$C$64='Liste de course'!D26)*('Recette phase 2'!$B$54:$B$64))*'Recette phase 2'!$A$52)+(SUMPRODUCT(('Recette phase 2'!$F$54:$F$64='Liste de course'!D26)*('Recette phase 2'!$E$54:$E$64))*'Recette phase 2'!$D$52)+(SUMPRODUCT(('Recette phase 2'!$I$54:$I$64='Liste de course'!D26)*('Recette phase 2'!$H$54:$H$64))*'Recette phase 2'!$G$52)+(SUMPRODUCT(('Recette phase 2'!$L$54:$L$64='Liste de course'!D26)*('Recette phase 2'!$K$54:$K$64))*'Recette phase 2'!$J$52)+(SUMPRODUCT(('Recette phase 2'!$O$54:$O$64='Liste de course'!D26)*('Recette phase 2'!$N$54:$N$64))*'Recette phase 2'!$M$52)+(SUMPRODUCT(('Recette phase 2'!$C$69:$C$85='Liste de course'!D26)*('Recette phase 2'!$B$69:$B$85))*'Recette phase 2'!$A$67)+(SUMPRODUCT(('Recette phase 2'!$F$69:$F$85='Liste de course'!D26)*('Recette phase 2'!$E$69:$E$85))*'Recette phase 2'!$D$67)+(SUMPRODUCT(('Recette phase 2'!$I$69:$I$85='Liste de course'!D26)*('Recette phase 2'!$H$69:$H$85))*'Recette phase 2'!$G$67)+(SUMPRODUCT(('Recette phase 2'!$L$69:$L$85='Liste de course'!D26)*('Recette phase 2'!$K$69:$K$85))*'Recette phase 2'!$J$67)+(SUMPRODUCT(('Recette phase 2'!$C$89:$C$104='Liste de course'!D26)*('Recette phase 2'!$B$89:$B$104))*'Recette phase 2'!$A$87)+(SUMPRODUCT(('Recette phase 2'!$F$89:$F$104='Liste de course'!D26)*('Recette phase 2'!$E$89:$E$104))*'Recette phase 2'!$D$87)+(SUMPRODUCT(('Recette phase 2'!$I$89:$I$104='Liste de course'!D26)*('Recette phase 2'!$H$89:$H$104))*'Recette phase 2'!$G$87)+(SUMPRODUCT(('Recette phase 2'!$L$89:$L$104='Liste de course'!D26)*('Recette phase 2'!$K$89:$K$104))*'Recette phase 2'!$J$87)+(SUMPRODUCT(('Recette phase 2'!$C$109:$C$119='Liste de course'!D26)*('Recette phase 2'!$B$109:$B$119))*'Recette phase 2'!$A$107)+(SUMPRODUCT(('Recette phase 2'!$F$109:$F$119='Liste de course'!D26)*('Recette phase 2'!$E$109:$E$119))*'Recette phase 2'!$D$107)+(SUMPRODUCT(('Recette phase 2'!$I$109:$I$119='Liste de course'!D26)*('Recette phase 2'!$H$109:$H$119))*'Recette phase 2'!$G$107)+(SUMPRODUCT(('Recette phase 2'!$L$109:$L$119='Liste de course'!D26)*('Recette phase 2'!$K$109:$K$119))*'Recette phase 2'!$J$107)+(SUMPRODUCT(('Recette phase 2'!$C$123:$C$128='Liste de course'!D26)*('Recette phase 2'!$B$123:$B$128))*'Recette phase 2'!$A$121)+(SUMPRODUCT(('Recette phase 2'!$F$123:$F$128='Liste de course'!D26)*('Recette phase 2'!$E$123:$E$128))*'Recette phase 2'!$D$121)+(SUMPRODUCT(('Recette phase 2'!$I$123:$I$128='Liste de course'!D26)*('Recette phase 2'!$H$123:$H$128))*'Recette phase 2'!$G$121)+(SUMPRODUCT(('Recette phase 2'!$L$123:$L$128='Liste de course'!D26)*('Recette phase 2'!$K$123:$K$128))*'Recette phase 2'!$J$121) -> 0 | F26: =(SUMPRODUCT(('Liste de course'!E26)-(Stock!D26))) -> 0
