Workbook
Name A: [1]Client!#REF!
Name CatégoriesDépenses: [1]!EvBP[Dépenses]
Name DécaissementsDébut: [1]!Décaissements[[#Totals],[Colonne2]]
Name EncaissementsDébut: [1]!Encaissements[[#Totals],[Colonne2]]
Name ÉtiquettesDonnées: OFFSET(ÉtiquettesDonnéesDébut,,TotalPointsDonnées-1,1,-TotalPointsDonnées)
Name ÉtiquettesDonnéesDébut: '[1]Trésorerie 2022'!$B$4
Name ExerciceComptable: '[1]Trésorerie 2022'!$P$2
Name mmm: [1]Client!#REF!
Name SituationTrésorerieDébut: '[1]Trésorerie 2022'!$B$9
Name TitreColonne10: [1]!DépAoû[[#Headers],[BIC]]
Name TitreColonne11: [1]!DépSep[[#Headers],[BIC]]
Name TitreColonne12: [1]!DépOct[[#Headers],[BIC]]
Name TitreColonne13: [1]!DépNov[[#Headers],[BIC]]
Name TitreColonne14: [1]!DépDéc[[#Headers],[BIC]]
Name TitreColonne2: [1]!EvBP[[#Headers],[Dépenses]]
Name TitreColonne3: [1]!DépJan[[#Headers],[BIC]]
Name TitreColonne4: [1]!DépFév[[#Headers],[BIC]]
Name TitreColonne5: [1]!DépMar[[#Headers],[BIC]]
Name TitreColonne6: [1]!DépAvr[[#Headers],[BIC]]
Name TitreColonne7: [1]!DépMai[[#Headers],[BIC]]
Name TitreColonne8: [1]!DépJuin[[#Headers],[BIC]]
Name TitreColonne9: [1]!DépJuil[[#Headers],[BIC]]
Name ValeursDonnéesDécaissements: #N/A
Name ValeursDonnéesEncaissements: #N/A
Name ValeursDonnéesSituationTrésorerie: #N/A

Sheet C.A
G1: =SUBTOTAL(9,G3:G33) -> 86706.04 | J1: =SUBTOTAL(9,J3:J33) -> -32732.86 | K1: =+J1/G1 -> -0.37751534 | Q1: =+SUBTOTAL(9,Q2:Q33) -> 1155.28 | R1: =+SUBTOTAL(101,R2:R33) -> 45.105263 | S1: =+SUBTOTAL(101,S2:S33) -> 0.64705882
A2: N° facture | B2: N° BL | C2: Port | D2: Commercial | E2: Code Client | F2: Client | G2: base HT | H2: Base TTC | I2: Montant PRR | J2: Marge € | K2: Marge % | L2: Date | M2: Date d'échance | N2: Date Règlement Compta | O2: Date règlt Banque | P2: Échéance | Q2: Créance | R2: Délai Paiement | S2: Retard | T2: =+TODAY() -> 44734
A3: 18069855 | B3: 18073949 | C3: Livre | D3: ABA | E3: C000 | F3: WW | G3: 1159.48 | H3: 1391.38 | I3: 873.74 | J3: 285.74 | K3: 0.24643806 | L3: 44694 | M3: 44694 | N3: 44712 | O3: =IFERROR(INDEX([1]Délai!$L:$L,MATCH(C.Affaire[[#This Row],[N° facture]],[1]Délai!$A:$A,0)),"") -> 0 | P3: =+C.Affaire[[#This Row],[Date d''échance]]-C.Affaire[[#This Row],[Date ]] -> 0 | Q3: =IF(C.Affaire[[#This Row],[Date règlt Banque]]<>0,"",C.Affaire[[#This Row],[Base TTC]]) -> 1391.38 | R3: =(IF(OR(C.Affaire[[#This Row],[Base TTC]]<=0,C.Affaire[[#This Row],[Date d''échance]]>T$2,C.Affaire[[#This Row],[Date d''échance]]=C.Affaire[[#This Row],[Date ]],C.Affaire[[#This Row],[Code Client]]="C000"),"",IF(AND(C.Affaire[[#This Row],[Date règlt Banque]]=0,C.Affaire[[#This Row],[Date d''échance]]<=T$2),T$2-C.Affaire[[#This Row],[Date ]],C.Affaire[[#This Row],[Date règlt Banque]]-C.Affaire[[#This Row],[Date ]]))) | S3: =IF(OR(C.Affaire[[#This Row],[Délai Paiement]]="",C.Affaire[[#This Row],[Délai Paiement]]<C.Affaire[[#This Row],[Échéance]]),"",C.Affaire[[#This Row],[Délai Paiement]]-C.Affaire[[#This Row],[Échéance]])
A4: 18069850 | B4: 18074044 | C4: Enlevé | D4: ABA | E4: C000 | F4: YY | G4: 5.73 | H4: 6.88 | I4: 5.46 | J4: 0.27 | K4: 0.047120419 | L4: 44697 | M4: 44697 | N4: 44697 | O4: =IFERROR(INDEX([1]Délai!$L:$L,MATCH(C.Affaire[[#This Row],[N° facture]],[1]Délai!$A:$A,0)),"") -> 0 | P4: =+C.Affaire[[#This Row],[Date d''échance]]-C.Affaire[[#This Row],[Date ]] -> 0 | Q4: =IF(C.Affaire[[#This Row],[Date règlt Banque]]<>0,"",C.Affaire[[#This Row],[Base TTC]]) -> 6.88 | R4: =(IF(OR(C.Affaire[[#This Row],[Base TTC]]<=0,C.Affaire[[#This Row],[Date d''échance]]>T$2,C.Affaire[[#This Row],[Date d''échance]]=C.Affaire[[#This Row],[Date ]],C.Affaire[[#This Row],[Code Client]]="C000"),"",IF(AND(C.Affaire[[#This Row],[Date règlt Banque]]=0,C.Affaire[[#This Row],[Date d''échance]]<=T$2),T$2-C.Affaire[[#This Row],[Date ]],C.Affaire[[#This Row],[Date règlt Banque]]-C.Affaire[[#This Row],[Date ]]))) | S4: =IF(OR(C.Affaire[[#This Row],[Délai Paiement]]="",C.Affaire[[#This Row],[Délai Paiement]]<C.Affaire[[#This Row],[Échéance]]),"",C.Affaire[[#This Row],[Délai Paiement]]-C.Affaire[[#This Row],[Échéance]])
A5: 18069853 | B5: 18074070 | C5: Direct | D5: ABA | E5: C000 | F5: ZZ | G5: 734.2 | H5: 881.04 | I5: 759.19 | J5: -24.99 | K5: -0.034037047 | L5: 44694 | M5: 44694 | N5: 44720 | O5: =IFERROR(INDEX([1]Délai!$L:$L,MATCH(C.Affaire[[#This Row],[N° facture]],[1]Délai!$A:$A,0)),"") -> 0 | P5: =+C.Affaire[[#This Row],[Date d''échance]]-C.Affaire[[#This Row],[Date ]] -> 0 | Q5: =IF(C.Affaire[[#This Row],[Date règlt Banque]]<>0,"",C.Affaire[[#This Row],[Base TTC]]) -> 881.04 | R5: =(IF(OR(C.Affaire[[#This Row],[Base TTC]]<=0,C.Affaire[[#This Row],[Date d''échance]]>T$2,C.Affaire[[#This Row],[Date d''échance]]=C.Affaire[[#This Row],[Date ]],C.Affaire[[#This Row],[Code Client]]="C000"),"",IF(AND(C.Affaire[[#This Row],[Date règlt Banque]]=0,C.Affaire[[#This Row],[Date d''échance]]<=T$2),T$2-C.Affaire[[#This Row],[Date ]],C.Affaire[[#This Row],[Date règlt Banque]]-C.Affaire[[#This Row],[Date ]]))) | S5: =IF(OR(C.Affaire[[#This Row],[Délai Paiement]]="",C.Affaire[[#This Row],[Délai Paiement]]<C.Affaire[[#This Row],[Échéance]]),"",C.Affaire[[#This Row],[Délai Paiement]]-C.Affaire[[#This Row],[Échéance]])
A6: 18068448 | B6: 18073272 | C6: Direct | D6: AGE | E6: C000 | F6: TT | G6: 701.76 | H6: 842.11 | I6: 718.08 | J6: -16.32 | K6: -0.023255814 | L6: 44656 | M6: 44656 | N6: 44684 | O6: =IFERROR(INDEX([1]Délai!$L:$L,MATCH(C.Affaire[[#This Row],[N° facture]],[1]Délai!$A:$A,0)),"") -> 44684 | P6: =+C.Affaire[[#This Row],[Date d''échance]]-C.Affaire[[#This Row],[Date ]] -> 0 | Q6: =IF(C.Affaire[[#This Row],[Date règlt Banque]]<>0,"",C.Affaire[[#This Row],[Base TTC]]) | R6: =(IF(OR(C.Affaire[[#This Row],[Base TTC]]<=0,C.Affaire[[#This Row],[Date d''échance]]>T$2,C.Affaire[[#This Row],[Date d''échance]]=C.Affaire[[#This Row],[Date ]],C.Affaire[[#This Row],[Code Client]]="C000"),"",IF(AND(C.Affaire[[#This Row],[Date règlt Banque]]="",C.Affaire[[#This Row],[Date d''échance]]<T$2),T$2-C.Affaire[[#This Row],[Date ]],IF(AND(C.Affaire[[#This Row],[Date règlt Banque]]=0,C.Affaire[[#This Row],[Date d''échance]]<T$2),T$2-C.Affaire[[#This Row],[Date ]],C.Affaire[[#This Row],[Date règlt Banque]]-C.Affaire[[#This Row],[Date ]])))) | S6: =IF(OR(C.Affaire[[#This Row],[Délai Paiement]]="",C.Affaire[[#This Row],[Délai Paiement]]<C.Affaire[[#This Row],[Échéance]]),"",C.Affaire[[#This Row],[Délai Paiement]]-C.Affaire[[#This Row],[Échéance]])
A7: 18062750 | B7: 18066998 | C7: Enlevé | D7: AGE | E7: C000 | F7: UU | G7: -401.36 | H7: -481.63 | I7: -382.33 | J7: -19.03 | K7: 0.047413793 | L7: 44564 | M7: 44564 | O7: =IFERROR(INDEX([1]Délai!$L:$L,MATCH(C.Affaire[[#This Row],[N° facture]],[1]Délai!$A:$A,0)),"") -> 0 | P7: =+C.Affaire[[#This Row],[Date d''échance]]-C.Affaire[[#This Row],[Date ]] -> 0 | Q7: =IF(C.Affaire[[#This Row],[Date règlt Banque]]<>0,"",C.Affaire[[#This Row],[Base TTC]]) -> -481.63 | R7: =(IF(OR(C.Affaire[[#This Row],[Base TTC]]<=0,C.Affaire[[#This Row],[Date d''échance]]>T$2,C.Affaire[[#This Row],[Date d''échance]]=C.Affaire[[#This Row],[Date ]],C.Affaire[[#This Row],[Code Client]]="C000"),"",IF(AND(C.Affaire[[#This Row],[Date règlt Banque]]=0,C.Affaire[[#This Row],[Date d''échance]]<=T$2),T$2-C.Affaire[[#This Row],[Date ]],C.Affaire[[#This Row],[Date règlt Banque]]-C.Affaire[[#This Row],[Date ]]))) | S7: =IF(OR(C.Affaire[[#This Row],[Délai Paiement]]="",C.Affaire[[#This Row],[Délai Paiement]]<C.Affaire[[#This Row],[Échéance]]),"",C.Affaire[[#This Row],[Délai Paiement]]-C.Affaire[[#This Row],[Échéance]])
A8: 18063971 | B8: 18067359 | C8: Enlevé | D8: AGE | E8: C000 | F8: VV | G8: -467.81 | H8: -561.37 | I8: -569.51 | J8: 101.7 | K8: -0.21739595 | L8: 44572 | M8: 44572 | O8: =IFERROR(INDEX([1]Délai!$L:$L,MATCH(C.Affaire[[#This Row],[N° facture]],[1]Délai!$A:$A,0)),"") -> 0 | P8: =+C.Affaire[[#This Row],[Date d''échance]]-C.Affaire[[#This Row],[Date ]] -> 0 | Q8: =IF(C.Affaire[[#This Row],[Date règlt Banque]]<>0,"",C.Affaire[[#This Row],[Base TTC]]) -> -561.37 | R8: =(IF(OR(C.Affaire[[#This Row],[Base TTC]]<=0,C.Affaire[[#This Row],[Date d''échance]]>T$2,C.Affaire[[#This Row],[Date d''échance]]=C.Affaire[[#This Row],[Date ]],C.Affaire[[#This Row],[Code Client]]="C000"),"",IF(AND(C.Affaire[[#This Row],[Date règlt Banque]]=0,C.Affaire[[#This Row],[Date d''échance]]<=T$2),T$2-C.Affaire[[#This Row],[Date ]],C.Affaire[[#This Row],[Date règlt Banque]]-C.Affaire[[#This Row],[Date ]]))) | S8: =IF(OR(C.Affaire[[#This Row],[Délai Paiement]]="",C.Affaire[[#This Row],[Délai Paiement]]<C.Affaire[[#This Row],[Échéance]]),"",C.Affaire[[#This Row],[Délai Paiement]]-C.Affaire[[#This Row],[Échéance]])
A9: 18064039 | B9: 18068234 | C9: Enlevé | D9: AGE | E9: C000 | F9: WW | G9: -67.52 | H9: -81.02 | I9: -51.94 | J9: -15.58 | K9: 0.23074645 | L9: 44588 | M9: 44588 | O9: =IFERROR(INDEX([1]Délai!$L:$L,MATCH(C.Affaire[[#This Row],[N° facture]],[1]Délai!$A:$A,0)),"") -> 0 | P9: =+C.Affaire[[#This Row],[Date d''échance]]-C.Affaire[[#This Row],[Date ]] -> 0 | Q9: =IF(C.Affaire[[#This Row],[Date règlt Banque]]<>0,"",C.Affaire[[#This Row],[Base TTC]]) -> -81.02 | R9: =(IF(OR(C.Affaire[[#This Row],[Base TTC]]<=0,C.Affaire[[#This Row],[Date d''échance]]>T$2,C.Affaire[[#This Row],[Date d''échance]]=C.Affaire[[#This Row],[Date ]],C.Affaire[[#This Row],[Code Client]]="C000"),"",IF(AND(C.Affaire[[#This Row],[Date règlt Banque]]=0,C.Affaire[[#This Row],[Date d''échance]]<=T$2),T$2-C.Affaire[[#This Row],[Date ]],C.Affaire[[#This Row],[Date règlt Banque]]-C.Affaire[[#This Row],[Date ]]))) | S9: =IF(OR(C.Affaire[[#This Row],[Délai Paiement]]="",C.Affaire[[#This Row],[Délai Paiement]]<C.Affaire[[#This Row],[Échéance]]),"",C.Affaire[[#This Row],[Délai Paiement]]-C.Affaire[[#This Row],[Échéance]])
A10: 18062913 | B10: 18066837 | C10: Franco | D10: GIMEL | E10: C008 | F10: A | G10: 1500.25 | H10: 1800.3 | I10: 1162.33 | J10: 337.92 | K10: 0.22524246 | L10: 44561 | M10: 44607 | N10: 44575 | O10: =IFERROR(INDEX([1]Délai!$L:$L,MATCH(C.Affaire[[#This Row],[N° facture]],[1]Délai!$A:$A,0)),"") -> 44607 | P10: =+C.Affaire[[#This Row],[Date d''échance]]-C.Affaire[[#This Row],[Date ]] -> 46 | Q10: =IF(C.Affaire[[#This Row],[Date règlt Banque]]<>0,"",C.Affaire[[#This Row],[Base TTC]]) | R10: =(IF(OR(C.Affaire[[#This Row],[Base TTC]]<=0,C.Affaire[[#This Row],[Date d''échance]]>T$2,C.Affaire[[#This Row],[Date d''échance]]=C.Affaire[[#This Row],[Date ]],C.Affaire[[#This Row],[Code Client]]="C000"),"",IF(AND(C.Affaire[[#This Row],[Date règlt Banque]]=0,C.Affaire[[#This Row],[Date d''échance]]<=T$2),T$2-C.Affaire[[#This Row],[Date ]],C.Affaire[[#This Row],[Date règlt Banque]]-C.Affaire[[#This Row],[Date ]]))) -> 46 | S10: =IF(OR(C.Affaire[[#This Row],[Délai Paiement]]="",C.Affaire[[#This Row],[Délai Paiement]]<C.Affaire[[#This Row],[Échéance]]),"",C.Affaire[[#This Row],[Délai Paiement]]-C.Affaire[[#This Row],[Échéance]]) -> 0
A11: 18061413 | B11: 18064257 | C11: Direct | D11: GDS | E11: C008 | F11: A | G11: 3199.3 | H11: 3839.16 | I11: 2988.5 | J11: 210.8 | K11: 0.065889413 | L11: 44530 | M11: 44576 | N11: 44539 | O11: =IFERROR(INDEX([1]Délai!$L:$L,MATCH(C.Affaire[[#This Row],[N° facture]],[1]Délai!$A:$A,0)),"") -> 44576 | P11: =+C.Affaire[[#This Row],[Date d''échance]]-C.Affaire[[#This Row],[Date ]] -> 46 | Q11: =IF(C.Affaire[[#This Row],[Date règlt Banque]]<>0,"",C.Affaire[[#This Row],[Base TTC]]) | R11: =(IF(OR(C.Affaire[[#This Row],[Base TTC]]<=0,C.Affaire[[#This Row],[Date d''échance]]>T$2,C.Affaire[[#This Row],[Date d''échance]]=C.Affaire[[#This Row],[Date ]],C.Affaire[[#This Row],[Code Client]]="C000"),"",IF(AND(C.Affaire[[#This Row],[Date règlt Banque]]=0,C.Affaire[[#This Row],[Date d''échance]]<=T$2),T$2-C.Affaire[[#This Row],[Date ]],C.Affaire[[#This Row],[Date règlt Banque]]-C.Affaire[[#This Row],[Date ]]))) -> 46 | S11: =IF(OR(C.Affaire[[#This Row],[Délai Paiement]]="",C.Affaire[[#This Row],[Délai Paiement]]<C.Affaire[[#This Row],[Échéance]]),"",C.Affaire[[#This Row],[Délai Paiement]]-C.Affaire[[#This Row],[Échéance]]) -> 0
A12: 18064026 | B12: 18068113 | C12: Gratuit | D12: GDS | E12: C008 | F12: A | G12: -21545.7 | H12: -25854.84 | I12: 0 | J12: -21545.7 | K12: 1 | L12: 44587 | M12: 44635 | N12: 44593 | O12: =IFERROR(INDEX([1]Délai!$L:$L,MATCH(C.Affaire[[#This Row],[N° facture]],[1]Délai!$A:$A,0)),"") -> 44635 | P12: =+C.Affaire[[#This Row],[Date d''échance]]-C.Affaire[[#This Row],[Date ]] -> 48 | Q12: =IF(C.Affaire[[#This Row],[Date règlt Banque]]<>0,"",C.Affaire[[#This Row],[Base TTC]]) | R12: =(IF(OR(C.Affaire[[#This Row],[Base TTC]]<=0,C.Affaire[[#This Row],[Date d''échance]]>T$2,C.Affaire[[#This Row],[Date d''échance]]=C.Affaire[[#This Row],[Date ]],C.Affaire[[#This Row],[Code Client]]="C000"),"",IF(AND(C.Affaire[[#This Row],[Date règlt Banque]]=0,C.Affaire[[#This Row],[Date d''échance]]<=T$2),T$2-C.Affaire[[#This Row],[Date ]],C.Affaire[[#This Row],[Date règlt Banque]]-C.Affaire[[#This Row],[Date ]]))) | S12: =IF(OR(C.Affaire[[#This Row],[Délai Paiement]]="",C.Affaire[[#This Row],[Délai Paiement]]<C.Affaire[[#This Row],[Échéance]]),"",C.Affaire[[#This Row],[Délai Paiement]]-C.Affaire[[#This Row],[Échéance]])
A13: 18064027 | B13: 18068115 | C13: Gratuit | D13: GDS | E13: C008 | F13: A | G13: -22362.7 | H13: -26835.24 | I13: 0 | J13: -22362.7 | K13: 1 | L13: 44587 | M13: 44635 | N13: 44593 | O13: =IFERROR(INDEX([1]Délai!$L:$L,MATCH(C.Affaire[[#This Row],[N° facture]],[1]Délai!$A:$A,0)),"") -> 44635 | P13: =+C.Affaire[[#This Row],[Date d''échance]]-C.Affaire[[#This Row],[Date ]] -> 48 | Q13: =IF(C.Affaire[[#This Row],[Date règlt Banque]]<>0,"",C.Affaire[[#This Row],[Base TTC]]) | R13: =(IF(OR(C.Affaire[[#This Row],[Base TTC]]<=0,C.Affaire[[#This Row],[Date d''échance]]>T$2,C.Affaire[[#This Row],[Date d''échance]]=C.Affaire[[#This Row],[Date ]],C.Affaire[[#This Row],[Code Client]]="C000"),"",IF(AND(C.Affaire[[#This Row],[Date règlt Banque]]=0,C.Affaire[[#This Row],[Date d''échance]]<=T$2),T$2-C.Affaire[[#This Row],[Date ]],C.Affaire[[#This Row],[Date règlt Banque]]-C.Affaire[[#This Row],[Date ]]))) | S13: =IF(OR(C.Affaire[[#This Row],[Délai Paiement]]="",C.Affaire[[#This Row],[Délai Paiement]]<C.Affaire[[#This Row],[Échéance]]),"",C.Affaire[[#This Row],[Délai Paiement]]-C.Affaire[[#This Row],[Échéance]])
A14: 18064196 | B14: 18067176 | C14: Franco | D14: GDS | E14: C008 | F14: A | G14: 1806 | H14: 2167.2 | I14: 1735.8 | J14: 70.2 | K14: 0.038870432 | L14: 44592 | M14: 44635 | N14: 44602 | O14: =IFERROR(INDEX([1]Délai!$L:$L,MATCH(C.Affaire[[#This Row],[N° facture]],[1]Délai!$A:$A,0)),"") -> 44635 | P14: =+C.Affaire[[#This Row],[Date d''échance]]-C.Affaire[[#This Row],[Date ]] -> 43 | Q14: =IF(C.Affaire[[#This Row],[Date règlt Banque]]<>0,"",C.Affaire[[#This Row],[Base TTC]]) | R14: =(IF(OR(C.Affaire[[#This Row],[Base TTC]]<=0,C.Affaire[[#This Row],[Date d''échance]]>T$2,C.Affaire[[#This Row],[Date d''échance]]=C.Affaire[[#This Row],[Date ]],C.Affaire[[#This Row],[Code Client]]="C000"),"",IF(AND(C.Affaire[[#This Row],[Date règlt Banque]]=0,C.Affaire[[#This Row],[Date d''échance]]<=T$2),T$2-C.Affaire[[#This Row],[Date ]],C.Affaire[[#This Row],[Date règlt Banque]]-C.Affaire[[#This Row],[Date ]]))) -> 43 | S14: =IF(OR(C.Affaire[[#This Row],[Délai Paiement]]="",C.Affaire[[#This Row],[Délai Paiement]]<C.Affaire[[#This Row],[Échéance]]),"",C.Affaire[[#This Row],[Délai Paiement]]-C.Affaire[[#This Row],[Échéance]]) -> 0
A15: 18064199 | B15: 18067578 | C15: Franco | D15: GDS | E15: C008 | F15: A | G15: 5903.84 | H15: 7084.61 | I15: 5031.88 | J15: 871.96 | K15: 0.1476937 | L15: 44592 | M15: 44635 | N15: 44602 | O15: =IFERROR(INDEX([1]Délai!$L:$L,MATCH(C.Affaire[[#This Row],[N° facture]],[1]Délai!$A:$A,0)),"") -> 44635 | P15: =+C.Affaire[[#This Row],[Date d''échance]]-C.Affaire[[#This Row],[Date ]] -> 43 | Q15: =IF(C.Affaire[[#This Row],[Date règlt Banque]]<>0,"",C.Affaire[[#This Row],[Base TTC]]) | R15: =(IF(OR(C.Affaire[[#This Row],[Base TTC]]<=0,C.Affaire[[#This Row],[Date d''échance]]>T$2,C.Affaire[[#This Row],[Date d''échance]]=C.Affaire[[#This Row],[Date ]],C.Affaire[[#This Row],[Code Client]]="C000"),"",IF(AND(C.Affaire[[#This Row],[Date règlt Banque]]=0,C.Affaire[[#This Row],[Date d''échance]]<=T$2),T$2-C.Affaire[[#This Row],[Date ]],C.Affaire[[#This Row],[Date règlt Banque]]-C.Affaire[[#This Row],[Date ]]))) -> 43 | S15: =IF(OR(C.Affaire[[#This Row],[Délai Paiement]]="",C.Affaire[[#This Row],[Délai Paiement]]<C.Affaire[[#This Row],[Échéance]]),"",C.Affaire[[#This Row],[Délai Paiement]]-C.Affaire[[#This Row],[Échéance]]) -> 0
A16: 18064202 | B16: 18067712 | C16: Franco | D16: GDS | E16: C008 | F16: A | G16: 1608.59 | H16: 1930.31 | I16: 1399.01 | J16: 209.58 | K16: 0.13028802 | L16: 44592 | M16: 44635 | N16: 44602 | O16: =IFERROR(INDEX([1]Délai!$L:$L,MATCH(C.Affaire[[#This Row],[N° facture]],[1]Délai!$A:$A,0)),"") -> 44635 | P16: =+C.Affaire[[#This Row],[Date d''échance]]-C.Affaire[[#This Row],[Date ]] -> 43 | Q16: =IF(C.Affaire[[#This Row],[Date règlt Banque]]<>0,"",C.Affaire[[#This Row],[Base TTC]]) | R16: =(IF(OR(C.Affaire[[#This Row],[Base TTC]]<=0,C.Affaire[[#This Row],[Date d''échance]]>T$2,C.Affaire[[#This Row],[Date d''échance]]=C.Affaire[[#This Row],[Date ]],C.Affaire[[#This Row],[Code Client]]="C000"),"",IF(AND(C.Affaire[[#This Row],[Date règlt Banque]]=0,C.Affaire[[#This Row],[Date d''échance]]<=T$2),T$2-C.Affaire[[#This Row],[Date ]],C.Affaire[[#This Row],[Date règlt Banque]]-C.Affaire[[#This Row],[Date ]]))) -> 43 | S16: =IF(OR(C.Affaire[[#This Row],[Délai Paiement]]="",C.Affaire[[#This Row],[Délai Paiement]]<C.Affaire[[#This Row],[Échéance]]),"",C.Affaire[[#This Row],[Délai Paiement]]-C.Affaire[[#This Row],[Échéance]]) -> 0
A17: 18064204 | B17: 18067944 | C17: Franco | D17: GDS | E17: C008 | F17: A | G17: 5097.27 | H17: 6116.72 | I17: 4654.58 | J17: 442.69 | K17: 0.08684845 | L17: 44592 | M17: 44635 | N17: 44602 | O17: =IFERROR(INDEX([1]Délai!$L:$L,MATCH(C.Affaire[[#This Row],[N° facture]],[1]Délai!$A:$A,0)),"") -> 44635 | P17: =+C.Affaire[[#This Row],[Date d''échance]]-C.Affaire[[#This Row],[Date ]] -> 43 | Q17: =IF(C.Affaire[[#This Row],[Date règlt Banque]]<>0,"",C.Affaire[[#This Row],[Base TTC]]) | R17: =(IF(OR(C.Affaire[[#This Row],[Base TTC]]<=0,C.Affaire[[#This Row],[Date d''échance]]>T$2,C.Affaire[[#This Row],[Date d''échance]]=C.Affaire[[#This Row],[Date ]],C.Affaire[[#This Row],[Code Client]]="C000"),"",IF(AND(C.Affaire[[#This Row],[Date règlt Banque]]=0,C.Affaire[[#This Row],[Date d''échance]]<=T$2),T$2-C.Affaire[[#This Row],[Date ]],C.Affaire[[#This Row],[Date règlt Banque]]-C.Affaire[[#This Row],[Date ]]))) -> 43 | S17: =IF(OR(C.Affaire[[#This Row],[Délai Paiement]]="",C.Affaire[[#This Row],[Délai Paiement]]<C.Affaire[[#This Row],[Échéance]]),"",C.Affaire[[#This Row],[Délai Paiement]]-C.Affaire[[#This Row],[Échéance]]) -> 0
A18: 18064205 | B18: 18068075 | C18: Franco | D18: GIMEL | E18: C008 | F18: A | G18: 10676.79 | H18: 12812.15 | I18: 8897.29 | J18: 1779.5 | K18: 0.16666994 | L18: 44592 | M18: 44635 | N18: 44602 | O18: =IFERROR(INDEX([1]Délai!$L:$L,MATCH(C.Affaire[[#This Row],[N° facture]],[1]Délai!$A:$A,0)),"") -> 44635 | P18: =+C.Affaire[[#This Row],[Date d''échance]]-C.Affaire[[#This Row],[Date ]] -> 43 | Q18: =IF(C.Affaire[[#This Row],[Date règlt Banque]]<>0,"",C.Affaire[[#This Row],[Base TTC]]) | R18: =(IF(OR(C.Affaire[[#This Row],[Base TTC]]<=0,C.Affaire[[#This Row],[Date d''échance]]>T$2,C.Affaire[[#This Row],[Date d''échance]]=C.Affaire[[#This Row],[Date ]],C.Affaire[[#This Row],[Code Client]]="C000"),"",IF(AND(C.Affaire[[#This Row],[Date règlt Banque]]=0,C.Affaire[[#This Row],[Date d''échance]]<=T$2),T$2-C.Affaire[[#This Row],[Date ]],C.Affaire[[#This Row],[Date règlt Banque]]-C.Affaire[[#This Row],[Date ]]))) -> 43 | S18: =IF(OR(C.Affaire[[#This Row],[Délai Paiement]]="",C.Affaire[[#This Row],[Délai Paiement]]<C.Affaire[[#This Row],[Échéance]]),"",C.Affaire[[#This Row],[Délai Paiement]]-C.Affaire[[#This Row],[Échéance]]) -> 0
A19: 18067795 | B19: 18071236 | C19: Enlevé | D19: FRO | E19: C371 | F19: B | G19: 26.14 | H19: 31.37 | I19: 19.5 | J19: 6.64 | K19: 0.25401683 | L19: 44651 | M19: 44696 | N19: 44697 | O19: =IFERROR(INDEX([1]Délai!$L:$L,MATCH(C.Affaire[[#This Row],[N° facture]],[1]Délai!$A:$A,0)),"") -> 44696 | P19: =+C.Affaire[[#This Row],[Date d''échance]]-C.Affaire[[#This Row],[Date ]] -> 45 | Q19: =IF(C.Affaire[[#This Row],[Date règlt Banque]]<>0,"",C.Affaire[[#This Row],[Base TTC]]) | R19: =(IF(OR(C.Affaire[[#This Row],[Base TTC]]<=0,C.Affaire[[#This Row],[Date d''échance]]>T$2,C.Affaire[[#This Row],[Date d''échance]]=C.Affaire[[#This Row],[Date ]],C.Affaire[[#This Row],[Code Client]]="C000"),"",IF(AND(C.Affaire[[#This Row],[Date règlt Banque]]="",C.Affaire[[#This Row],[Date d''échance]]<T$2),T$2-C.Affaire[[#This Row],[Date ]],IF(AND(C.Affaire[[#This Row],[Date règlt Banque]]=0,C.Affaire[[#This Row],[Date d''échance]]<T$2),T$2-C.Affaire[[#This Row],[Date ]],C.Affaire[[#This Row],[Date règlt Banque]]-C.Affaire[[#This Row],[Date ]])))) -> 45 | S19: =IF(OR(C.Affaire[[#This Row],[Délai Paiement]]="",C.Affaire[[#This Row],[Délai Paiement]]<C.Affaire[[#This Row],[Échéance]]),"",C.Affaire[[#This Row],[Délai Paiement]]-C.Affaire[[#This Row],[Échéance]]) -> 0
A20: 18070856 | B20: 18074176 | C20: Enlevé | D20: FRO | E20: C371 | F20: B | G20: 333.5 | H20: 400.2 | I20: 202.5 | J20: 131 | K20: 0.3928036 | L20: 44712 | M20: 44757 | N20: 44720 | O20: =IFERROR(INDEX([1]Délai!$L:$L,MATCH(C.Affaire[[#This Row],[N° facture]],[1]Délai!$A:$A,0)),"") -> 44757 | P20: =+C.Affaire[[#This Row],[Date d''échance]]-C.Affaire[[#This Row],[Date ]] -> 45 | Q20: =IF(C.Affaire[[#This Row],[Date règlt Banque]]<>0,"",C.Affaire[[#This Row],[Base TTC]]) | R20: =(IF(OR(C.Affaire[[#This Row],[Base TTC]]<=0,C.Affaire[[#This Row],[Date d''échance]]>T$2,C.Affaire[[#This Row],[Date d''échance]]=C.Affaire[[#This Row],[Date ]],C.Affaire[[#This Row],[Code Client]]="C000"),"",IF(AND(C.Affaire[[#This Row],[Date règlt Banque]]="",C.Affaire[[#This Row],[Date d''échance]]<T$2),T$2-C.Affaire[[#This Row],[Date ]],IF(AND(C.Affaire[[#This Row],[Date règlt Banque]]=0,C.Affaire[[#This Row],[Date d''échance]]<T$2),T$2-C.Affaire[[#This Row],[Date ]],C.Affaire[[#This Row],[Date règlt Banque]]-C.Affaire[[#This Row],[Date ]])))) | S20: =IF(OR(C.Affaire[[#This Row],[Délai Paiement]]="",C.Affaire[[#This Row],[Délai Paiement]]<C.Affaire[[#This Row],[Échéance]]),"",C.Affaire[[#This Row],[Délai Paiement]]-C.Affaire[[#This Row],[Échéance]])
A21: 18070857 | B21: 18074294 | C21: Enlevé | D21: FRO | E21: C371 | F21: B | G21: 215.77 | H21: 258.92 | I21: 175.64 | J21: 40.13 | K21: 0.18598508 | L21: 44712 | M21: 44757 | N21: 44720 | O21: =IFERROR(INDEX([1]Délai!$L:$L,MATCH(C.Affaire[[#This Row],[N° facture]],[1]Délai!$A:$A,0)),"") -> 44757 | P21: =+C.Affaire[[#This Row],[Date d''échance]]-C.Affaire[[#This Row],[Date ]] -> 45 | Q21: =IF(C.Affaire[[#This Row],[Date règlt Banque]]<>0,"",C.Affaire[[#This Row],[Base TTC]]) | R21: =(IF(OR(C.Affaire[[#This Row],[Base TTC]]<=0,C.Affaire[[#This Row],[Date d''échance]]>T$2,C.Affaire[[#This Row],[Date d''échance]]=C.Affaire[[#This Row],[Date ]],C.Affaire[[#This Row],[Code Client]]="C000"),"",IF(AND(C.Affaire[[#This Row],[Date règlt Banque]]="",C.Affaire[[#This Row],[Date d''échance]]<T$2),T$2-C.Affaire[[#This Row],[Date ]],IF(AND(C.Affaire[[#This Row],[Date règlt Banque]]=0,C.Affaire[[#This Row],[Date d''échance]]<T$2),T$2-C.Affaire[[#This Row],[Date ]],C.Affaire[[#This Row],[Date règlt Banque]]-C.Affaire[[#This Row],[Date ]])))) | S21: =IF(OR(C.Affaire[[#This Row],[Délai Paiement]]="",C.Affaire[[#This Row],[Délai Paiement]]<C.Affaire[[#This Row],[Échéance]]),"",C.Affaire[[#This Row],[Délai Paiement]]-C.Affaire[[#This Row],[Échéance]])
A22: 18062658 | B22: 18065754 | C22: Direct | D22: LCL | E22: C372 | F22: C | G22: -6344.3 | H22: -7613.16 | I22: -6042.21 | J22: -302.09 | K22: 0.04761597 | L22: 44533 | M22: 44607 | N22: 44576 | O22: =IFERROR(INDEX([1]Délai!$L:$L,MATCH(C.Affaire[[#This Row],[N° facture]],[1]Délai!$A:$A,0)),"") -> 44608 | P22: =+C.Affaire[[#This Row],[Date d''échance]]-C.Affaire[[#This Row],[Date ]] -> 74 | Q22: =IF(C.Affaire[[#This Row],[Date règlt Banque]]<>0,"",C.Affaire[[#This Row],[Base TTC]]) | R22: =(IF(OR(C.Affaire[[#This Row],[Base TTC]]<=0,C.Affaire[[#This Row],[Date d''échance]]>T$2,C.Affaire[[#This Row],[Date d''échance]]=C.Affaire[[#This Row],[Date ]],C.Affaire[[#This Row],[Code Client]]="C000"),"",IF(AND(C.Affaire[[#This Row],[Date règlt Banque]]="",C.Affaire[[#This Row],[Date d''échance]]<T$2),T$2-C.Affaire[[#This Row],[Date ]],IF(AND(C.Affaire[[#This Row],[Date règlt Banque]]=0,C.Affaire[[#This Row],[Date d''échance]]<T$2),T$2-C.Affaire[[#This Row],[Date ]],C.Affaire[[#This Row],[Date règlt Banque]]-C.Affaire[[#This Row],[Date ]])))) | S22: =IF(OR(C.Affaire[[#This Row],[Délai Paiement]]="",C.Affaire[[#This Row],[Délai Paiement]]<C.Affaire[[#This Row],[Échéance]]),"",C.Affaire[[#This Row],[Délai Paiement]]-C.Affaire[[#This Row],[Échéance]])
A23: 18062140 | B23: 18065002 | C23: Direct | D23: LCL | E23: C372 | F23: C | G23: 13003.82 | H23: 15604.58 | I23: 12312.74 | J23: 691.08 | K23: 0.053144384 | L23: 44530 | M23: 44576 | N23: 44576 | O23: =IFERROR(INDEX([1]Délai!$L:$L,MATCH(C.Affaire[[#This Row],[N° facture]],[1]Délai!$A:$A,0)),"") -> 44575 | P23: =+C.Affaire[[#This Row],[Date d''échance]]-C.Affaire[[#This Row],[Date ]] -> 46 | Q23: =IF(C.Affaire[[#This Row],[Date règlt Banque]]<>0,"",C.Affaire[[#This Row],[Base TTC]]) | R23: =(IF(OR(C.Affaire[[#This Row],[Base TTC]]<=0,C.Affaire[[#This Row],[Date d''échance]]>T$2,C.Affaire[[#This Row],[Date d''échance]]=C.Affaire[[#This Row],[Date ]],C.Affaire[[#This Row],[Code Client]]="C000"),"",IF(AND(C.Affaire[[#This Row],[Date règlt Banque]]=0,C.Affaire[[#This Row],[Date d''échance]]<=T$2),T$2-C.Affaire[[#This Row],[Date ]],C.Affaire[[#This Row],[Date règlt Banque]]-C.Affaire[[#This Row],[Date ]]))) -> 45 | S23: =IF(OR(C.Affaire[[#This Row],[Délai Paiement]]="",C.Affaire[[#This Row],[Délai Paiement]]<C.Affaire[[#This Row],[Échéance]]),"",C.Affaire[[#This Row],[Délai Paiement]]-C.Affaire[[#This Row],[Échéance]])
A24: 18067801 | B24: 18071530 | C24: Direct | D24: LCL | E24: C372 | F24: C | G24: 7682.65 | H24: 9219.18 | I24: 7187.14 | J24: 495.51 | K24: 0.064497276 | L24: 44651 | M24: 44696 | N24: 44698 | O24: =IFERROR(INDEX([1]Délai!$L:$L,MATCH(C.Affaire[[#This Row],[N° facture]],[1]Délai!$A:$A,0)),"") -> 44698 | P24: =+C.Affaire[[#This Row],[Date d''échance]]-C.Affaire[[#This Row],[Date ]] -> 45 | Q24: =IF(C.Affaire[[#This Row],[Date règlt Banque]]<>0,"",C.Affaire[[#This Row],[Base TTC]]) | R24: =(IF(OR(C.Affaire[[#This Row],[Base TTC]]<=0,C.Affaire[[#This Row],[Date d''échance]]>T$2,C.Affaire[[#This Row],[Date d''échance]]=C.Affaire[[#This Row],[Date ]],C.Affaire[[#This Row],[Code Client]]="C000"),"",IF(AND(C.Affaire[[#This Row],[Date règlt Banque]]="",C.Affaire[[#This Row],[Date d''échance]]<T$2),T$2-C.Affaire[[#This Row],[Date ]],IF(AND(C.Affaire[[#This Row],[Date règlt Banque]]=0,C.Affaire[[#This Row],[Date d''échance]]<T$2),T$2-C.Affaire[[#This Row],[Date ]],C.Affaire[[#This Row],[Date règlt Banque]]-C.Affaire[[#This Row],[Date ]])))) -> 47 | S24: =IF(OR(C.Affaire[[#This Row],[Délai Paiement]]="",C.Affaire[[#This Row],[Délai Paiement]]<C.Affaire[[#This Row],[Échéance]]),"",C.Affaire[[#This Row],[Délai Paiement]]-C.Affaire[[#This Row],[Échéance]]) -> 2
A25: 18069327 | B25: 18072383 | C25: Direct | D25: LCL | E25: C372 | F25: C | G25: 9354.93 | H25: 11225.92 | I25: 8747.3 | J25: 607.63 | K25: 0.064952918 | L25: 44681 | M25: 44727 | N25: 44727 | O25: =IFERROR(INDEX([1]Délai!$L:$L,MATCH(C.Affaire[[#This Row],[N° facture]],[1]Délai!$A:$A,0)),"") -> 44727 | P25: =+C.Affaire[[#This Row],[Date d''échance]]-C.Affaire[[#This Row],[Date ]] -> 46 | Q25: =IF(C.Affaire[[#This Row],[Date règlt Banque]]<>0,"",C.Affaire[[#This Row],[Base TTC]]) | R25: =(IF(OR(C.Affaire[[#This Row],[Base TTC]]<=0,C.Affaire[[#This Row],[Date d''échance]]>T$2,C.Affaire[[#This Row],[Date d''échance]]=C.Affaire[[#This Row],[Date ]],C.Affaire[[#This Row],[Code Client]]="C000"),"",IF(AND(C.Affaire[[#This Row],[Date règlt Banque]]=0,C.Affaire[[#This Row],[Date d''échance]]<=T$2),T$2-C.Affaire[[#This Row],[Date ]],C.Affaire[[#This Row],[Date règlt Banque]]-C.Affaire[[#This Row],[Date ]]))) -> 46 | S25: =IF(OR(C.Affaire[[#This Row],[Délai Paiement]]="",C.Affaire[[#This Row],[Délai Paiement]]<C.Affaire[[#This Row],[Échéance]]),"",C.Affaire[[#This Row],[Délai Paiement]]-C.Affaire[[#This Row],[Échéance]]) -> 0
A26: 18069329 | B26: 18072948 | C26: Direct | D26: LCL | E26: C372 | F26: C | G26: 333.52 | H26: 400.22 | I26: 311.84 | J26: 21.68 | K26: 0.065003598 | L26: 44681 | M26: 44727 | N26: 44727 | O26: =IFERROR(INDEX([1]Délai!$L:$L,MATCH(C.Affaire[[#This Row],[N° facture]],[1]Délai!$A:$A,0)),"") -> 44727 | P26: =+C.Affaire[[#This Row],[Date d''échance]]-C.Affaire[[#This Row],[Date ]] -> 46 | Q26: =IF(C.Affaire[[#This Row],[Date règlt Banque]]<>0,"",C.Affaire[[#This Row],[Base TTC]]) | R26: =(IF(OR(C.Affaire[[#This Row],[Base TTC]]<=0,C.Affaire[[#This Row],[Date d''échance]]>T$2,C.Affaire[[#This Row],[Date d''échance]]=C.Affaire[[#This Row],[Date ]],C.Affaire[[#This Row],[Code Client]]="C000"),"",IF(AND(C.Affaire[[#This Row],[Date règlt Banque]]="",C.Affaire[[#This Row],[Date d''échance]]<T$2),T$2-C.Affaire[[#This Row],[Date ]],IF(AND(C.Affaire[[#This Row],[Date règlt Banque]]=0,C.Affaire[[#This Row],[Date d''échance]]<T$2),T$2-C.Affaire[[#This Row],[Date ]],C.Affaire[[#This Row],[Date règlt Banque]]-C.Affaire[[#This Row],[Date ]])))) -> 46 | S26: =IF(OR(C.Affaire[[#This Row],[Délai Paiement]]="",C.Affaire[[#This Row],[Délai Paiement]]<C.Affaire[[#This Row],[Échéance]]),"",C.Affaire[[#This Row],[Délai Paiement]]-C.Affaire[[#This Row],[Échéance]]) -> 0
A27: 18067796 | B27: 18070218 | C27: Direct | D27: GIMEL | E27: C372 | F27: C | G27: 16243.07 | H27: 19491.68 | I27: 15182.86 | J27: 1060.21 | K27: 0.065271528 | L27: 44651 | M27: 44696 | N27: 44698 | O27: =IFERROR(INDEX([1]Délai!$L:$L,MATCH(C.Affaire[[#This Row],[N° facture]],[1]Délai!$A:$A,0)),"") -> 44698 | P27: =+C.Affaire[[#This Row],[Date d''échance]]-C.Affaire[[#This Row],[Date ]] -> 45 | Q27: =IF(C.Affaire[[#This Row],[Date règlt Banque]]<>0,"",C.Affaire[[#This Row],[Base TTC]]) | R27: =(IF(OR(C.Affaire[[#This Row],[Base TTC]]<=0,C.Affaire[[#This Row],[Date d''échance]]>T$2,C.Affaire[[#This Row],[Date d''échance]]=C.Affaire[[#This Row],[Date ]],C.Affaire[[#This Row],[Code Client]]="C000"),"",IF(AND(C.Affaire[[#This Row],[Date règlt Banque]]="",C.Affaire[[#This Row],[Date d''échance]]<T$2),T$2-C.Affaire[[#This Row],[Date ]],IF(AND(C.Affaire[[#This Row],[Date règlt Banque]]=0,C.Affaire[[#This Row],[Date d''échance]]<T$2),T$2-C.Affaire[[#This Row],[Date ]],C.Affaire[[#This Row],[Date règlt Banque]]-C.Affaire[[#This Row],[Date ]])))) -> 47 | S27: =IF(OR(C.Affaire[[#This Row],[Délai Paiement]]="",C.Affaire[[#This Row],[Délai Paiement]]<C.Affaire[[#This Row],[Échéance]]),"",C.Affaire[[#This Row],[Délai Paiement]]-C.Affaire[[#This Row],[Échéance]]) -> 2
A28: 18067802 | B28: 18071604 | C28: Direct | D28: LCL | E28: C372 | F28: C | G28: 17174.61 | H28: 20609.53 | I28: 16052.99 | J28: 1121.62 | K28: 0.065306869 | L28: 44651 | M28: 44696 | N28: 44698 | O28: =IFERROR(INDEX([1]Délai!$L:$L,MATCH(C.Affaire[[#This Row],[N° facture]],[1]Délai!$A:$A,0)),"") -> 44698 | P28: =+C.Affaire[[#This Row],[Date d''échance]]-C.Affaire[[#This Row],[Date ]] -> 45 | Q28: =IF(C.Affaire[[#This Row],[Date règlt Banque]]<>0,"",C.Affaire[[#This Row],[Base TTC]]) | R28: =(IF(OR(C.Affaire[[#This Row],[Base TTC]]<=0,C.Affaire[[#This Row],[Date d''échance]]>T$2,C.Affaire[[#This Row],[Date d''échance]]=C.Affaire[[#This Row],[Date ]],C.Affaire[[#This Row],[Code Client]]="C000"),"",IF(AND(C.Affaire[[#This Row],[Date règlt Banque]]="",C.Affaire[[#This Row],[Date d''échance]]<T$2),T$2-C.Affaire[[#This Row],[Date ]],IF(AND(C.Affaire[[#This Row],[Date règlt Banque]]=0,C.Affaire[[#This Row],[Date d''échance]]<T$2),T$2-C.Affaire[[#This Row],[Date ]],C.Affaire[[#This Row],[Date règlt Banque]]-C.Affaire[[#This Row],[Date ]])))) -> 47 | S28: =IF(OR(C.Affaire[[#This Row],[Délai Paiement]]="",C.Affaire[[#This Row],[Délai Paiement]]<C.Affaire[[#This Row],[Échéance]]),"",C.Affaire[[#This Row],[Délai Paiement]]-C.Affaire[[#This Row],[Échéance]]) -> 2
A29: 18063515 | B29: 18066066 | C29: Livre | D29: LCL | E29: C372 | F29: C | G29: 7089.34 | H29: 8507.21 | I29: 6310.84 | J29: 778.5 | K29: 0.10981276 | L29: 44561 | M29: 44607 | N29: 44608 | O29: =IFERROR(INDEX([1]Délai!$L:$L,MATCH(C.Affaire[[#This Row],[N° facture]],[1]Délai!$A:$A,0)),"") -> 44608 | P29: =+C.Affaire[[#This Row],[Date d''échance]]-C.Affaire[[#This Row],[Date ]] -> 46 | Q29: =IF(C.Affaire[[#This Row],[Date règlt Banque]]<>0,"",C.Affaire[[#This Row],[Base TTC]]) | R29: =(IF(OR(C.Affaire[[#This Row],[Base TTC]]<=0,C.Affaire[[#This Row],[Date d''échance]]>T$2,C.Affaire[[#This Row],[Date d''échance]]=C.Affaire[[#This Row],[Date ]],C.Affaire[[#This Row],[Code Client]]="C000"),"",IF(AND(C.Affaire[[#This Row],[Date règlt Banque]]=0,C.Affaire[[#This Row],[Date d''échance]]<=T$2),T$2-C.Affaire[[#This Row],[Date ]],C.Affaire[[#This Row],[Date règlt Banque]]-C.Affaire[[#This Row],[Date ]]))) -> 47 | S29: =IF(OR(C.Affaire[[#This Row],[Délai Paiement]]="",C.Affaire[[#This Row],[Délai Paiement]]<C.Affaire[[#This Row],[Échéance]]),"",C.Affaire[[#This Row],[Délai Paiement]]-C.Affaire[[#This Row],[Échéance]]) -> 1
A30: 18064849 | B30: 18068278 | C30: Direct | D30: GIMEL | E30: C372 | F30: C | G30: 8744.11 | H30: 10492.93 | I30: 8159.01 | J30: 585.1 | K30: 0.066913614 | L30: 44592 | M30: 44635 | N30: 44636 | O30: =IFERROR(INDEX([1]Délai!$L:$L,MATCH(C.Affaire[[#This Row],[N° facture]],[1]Délai!$A:$A,0)),"") -> 44636 | P30: =+C.Affaire[[#This Row],[Date d''échance]]-C.Affaire[[#This Row],[Date ]] -> 43 | Q30: =IF(C.Affaire[[#This Row],[Date règlt Banque]]<>0,"",C.Affaire[[#This Row],[Base TTC]]) | R30: =(IF(OR(C.Affaire[[#This Row],[Base TTC]]<=0,C.Affaire[[#This Row],[Date d''échance]]>T$2,C.Affaire[[#This Row],[Date d''échance]]=C.Affaire[[#This Row],[Date ]],C.Affaire[[#This Row],[Code Client]]="C000"),"",IF(AND(C.Affaire[[#This Row],[Date règlt Banque]]="",C.Affaire[[#This Row],[Date d''échance]]<T$2),T$2-C.Affaire[[#This Row],[Date ]],IF(AND(C.Affaire[[#This Row],[Date règlt Banque]]=0,C.Affaire[[#This Row],[Date d''échance]]<T$2),T$2-C.Affaire[[#This Row],[Date ]],C.Affaire[[#This Row],[Date règlt Banque]]-C.Affaire[[#This Row],[Date ]])))) -> 44 | S30: =IF(OR(C.Affaire[[#This Row],[Délai Paiement]]="",C.Affaire[[#This Row],[Délai Paiement]]<C.Affaire[[#This Row],[Échéance]]),"",C.Affaire[[#This Row],[Délai Paiement]]-C.Affaire[[#This Row],[Échéance]]) -> 1
A31: 18064848 | B31: 18068274 | C31: Direct | D31: LCL | E31: C372 | F31: C | G31: 9685.35 | H31: 11622.42 | I31: 9035.82 | J31: 649.53 | K31: 0.067063142 | L31: 44592 | M31: 44635 | N31: 44636 | O31: =IFERROR(INDEX([1]Délai!$L:$L,MATCH(C.Affaire[[#This Row],[N° facture]],[1]Délai!$A:$A,0)),"") -> 44636 | P31: =+C.Affaire[[#This Row],[Date d''échance]]-C.Affaire[[#This Row],[Date ]] -> 43 | Q31: =IF(C.Affaire[[#This Row],[Date règlt Banque]]<>0,"",C.Affaire[[#This Row],[Base TTC]]) | R31: =(IF(OR(C.Affaire[[#This Row],[Base TTC]]<=0,C.Affaire[[#This Row],[Date d''échance]]>T$2,C.Affaire[[#This Row],[Date d''échance]]=C.Affaire[[#This Row],[Date ]],C.Affaire[[#This Row],[Code Client]]="C000"),"",IF(AND(C.Affaire[[#This Row],[Date règlt Banque]]="",C.Affaire[[#This Row],[Date d''échance]]<T$2),T$2-C.Affaire[[#This Row],[Date ]],IF(AND(C.Affaire[[#This Row],[Date règlt Banque]]=0,C.Affaire[[#This Row],[Date d''échance]]<T$2),T$2-C.Affaire[[#This Row],[Date ]],C.Affaire[[#This Row],[Date règlt Banque]]-C.Affaire[[#This Row],[Date ]])))) -> 44 | S31: =IF(OR(C.Affaire[[#This Row],[Délai Paiement]]="",C.Affaire[[#This Row],[Délai Paiement]]<C.Affaire[[#This Row],[Échéance]]),"",C.Affaire[[#This Row],[Délai Paiement]]-C.Affaire[[#This Row],[Échéance]]) -> 1
A32: 18066255 | B32: 18069549 | C32: Direct | D32: LCL | E32: C372 | F32: C | G32: 8113.02 | H32: 9735.62 | I32: 7565.81 | J32: 547.21 | K32: 0.067448373 | L32: 44620 | M32: 44666 | N32: 44665 | O32: =IFERROR(INDEX([1]Délai!$L:$L,MATCH(C.Affaire[[#This Row],[N° facture]],[1]Délai!$A:$A,0)),"") -> 44665 | P32: =+C.Affaire[[#This Row],[Date d''échance]]-C.Affaire[[#This Row],[Date ]] -> 46 | Q32: =IF(C.Affaire[[#This Row],[Date règlt Banque]]<>0,"",C.Affaire[[#This Row],[Base TTC]]) | R32: =(IF(OR(C.Affaire[[#This Row],[Base TTC]]<=0,C.Affaire[[#This Row],[Date d''échance]]>T$2,C.Affaire[[#This Row],[Date d''échance]]=C.Affaire[[#This Row],[Date ]],C.Affaire[[#This Row],[Code Client]]="C000"),"",IF(AND(C.Affaire[[#This Row],[Date règlt Banque]]="",C.Affaire[[#This Row],[Date d''échance]]<T$2),T$2-C.Affaire[[#This Row],[Date ]],IF(AND(C.Affaire[[#This Row],[Date règlt Banque]]=0,C.Affaire[[#This Row],[Date d''échance]]<T$2),T$2-C.Affaire[[#This Row],[Date ]],C.Affaire[[#This Row],[Date règlt Banque]]-C.Affaire[[#This Row],[Date ]])))) -> 45 | S32: =IF(OR(C.Affaire[[#This Row],[Délai Paiement]]="",C.Affaire[[#This Row],[Délai Paiement]]<C.Affaire[[#This Row],[Échéance]]),"",C.Affaire[[#This Row],[Délai Paiement]]-C.Affaire[[#This Row],[Échéance]])
A33: 18067798 | B33: 18070253 | C33: Direct | D33: LCL | E33: C372 | F33: C | G33: 7502.39 | H33: 9002.87 | I33: 6995.04 | J33: 507.35 | K33: 0.067625117 | L33: 44651 | M33: 44696 | N33: 44698 | O33: =IFERROR(INDEX([1]Délai!$L:$L,MATCH(C.Affaire[[#This Row],[N° facture]],[1]Délai!$A:$A,0)),"") -> 44698 | P33: =+C.Affaire[[#This Row],[Date d''échance]]-C.Affaire[[#This Row],[Date ]] -> 45 | Q33: =IF(C.Affaire[[#This Row],[Date règlt Banque]]<>0,"",C.Affaire[[#This Row],[Base TTC]]) | R33: =(IF(OR(C.Affaire[[#This Row],[Base TTC]]<=0,C.Affaire[[#This Row],[Date d''échance]]>T$2,C.Affaire[[#This Row],[Date d''échance]]=C.Affaire[[#This Row],[Date ]],C.Affaire[[#This Row],[Code Client]]="C000"),"",IF(AND(C.Affaire[[#This Row],[Date règlt Banque]]="",C.Affaire[[#This Row],[Date d''échance]]<T$2),T$2-C.Affaire[[#This Row],[Date ]],IF(AND(C.Affaire[[#This Row],[Date règlt Banque]]=0,C.Affaire[[#This Row],[Date d''échance]]<T$2),T$2-C.Affaire[[#This Row],[Date ]],C.Affaire[[#This Row],[Date règlt Banque]]-C.Affaire[[#This Row],[Date ]])))) -> 47 | S33: =IF(OR(C.Affaire[[#This Row],[Délai Paiement]]="",C.Affaire[[#This Row],[Délai Paiement]]<C.Affaire[[#This Row],[Échéance]]),"",C.Affaire[[#This Row],[Délai Paiement]]-C.Affaire[[#This Row],[Échéance]]) -> 2
