Workbook
Name Segment_Port: #N/A

Sheet TCD
A1: Port | B1: (Tous)
A3: Article | B3: Marge totale | C3: Qté | D3: Marge P.U | E3: C.A Client | F3: % Marge
A4: 024923 - Réso cornière souple 24x24 CSE 24 blanc | B4: 8.85 | C4: 0 | D4: 0.59 | E4: =SUMIFS(PQ!E:E,PQ!A:A,TCD!A4,PQ!B:B,"=C*") -> 64.35 | F4: =IF(OR(B4<=0,C4<0),"",B4/E4) -> 0.13752914 | G4: =IF(LEFT($B4,1)="F",$C4,"")
A5: 1020Beige - Protektor cornière d'angle galva perf. + jonc PVC 2.50ml 1020 Beige | B5: 1897.5 | C5: 1650 | D5: 1.15 | E5: =SUMIFS(PQ!E:E,PQ!A:A,TCD!A5,PQ!B:B,"=C*") -> 1897.5 | F5: =IF(OR(B5<=0,C5<0),"",B5/E5) -> 1 | G5: =IF(LEFT($B5,1)="F",$C5,"")
A6: 1020Beige - Protektor corniere d'angle galva perf.+ jonc PVC 2.50ml Beige | B6: -1897.5 | C6: -1650 | D6: -1.15 | E6: =SUMIFS(PQ!E:E,PQ!A:A,TCD!A6,PQ!B:B,"=C*") -> -1897.5 | F6: =IF(OR(B6<=0,C6<0),"",B6/E6) | G6: =IF(LEFT($B6,1)="F",$C6,"")
A7: 33FGUB - MEP fond goutt. Universel à coller PVC blanc 1/2R de 33 | B7: 8.4 | C7: 0 | D7: 0.21 | E7: =SUMIFS(PQ!E:E,PQ!A:A,TCD!A7,PQ!B:B,"=C*") -> 51.2 | F7: =IF(OR(B7<=0,C7<0),"",B7/E7) -> 0.1640625 | G7: =IF(LEFT($B7,1)="F",$C7,"")
A8: 371011 - GRAF Réhausse télesc. verte 600mm Maxi Piétons, avec couvercle | B8: -168.3 | C8: -1 | D8: -168.3 | E8: =SUMIFS(PQ!E:E,PQ!A:A,TCD!A8,PQ!B:B,"=C*") -> 0 | F8: =IF(OR(B8<=0,C8<0),"",B8/E8) | G8: =IF(LEFT($B8,1)="F",$C8,"")
A9: 763717 - Roto ZUB TFB Q/Rx L 1170-1900 | B9: 19.05 | C9: 0 | D9: 6.35 | E9: =SUMIFS(PQ!E:E,PQ!A:A,TCD!A9,PQ!B:B,"=C*") -> 98.43 | F9: =IF(OR(B9<=0,C9<0),"",B9/E9) -> 0.19353856 | G9: =IF(LEFT($B9,1)="F",$C9,"")
A10: F0020125 - Prégyplac STD BA18 S 0,90 x 2,50 m | B10: 1690.7 | C10: 326.25 | D10: 25.910131 | E10: =SUMIFS(PQ!E:E,PQ!A:A,TCD!A10,PQ!B:B,"=C*") -> 1690.7 | F10: =IF(OR(B10<=0,C10<0),"",B10/E10) -> 1 | G10: =IF(LEFT($B10,1)="F",$C10,"")
A11: F0340204 - RZK Tuyau Zinc Patina Naturel Tulipe de 80 2,00m | B11: 1453.54 | C11: 208 | D11: 34.890202 | E11: =SUMIFS(PQ!E:E,PQ!A:A,TCD!A11,PQ!B:B,"=C*") -> 1453.54 | F11: =IF(OR(B11<=0,C11<0),"",B11/E11) -> 1 | G11: =IF(LEFT($B11,1)="F",$C11,"")
A12: F075 - Pouj Cadre de fixation FSB STP SHP TCP | B12: -188.2 | C12: -10 | D12: 29.768352 | E12: =SUMIFS(PQ!E:E,PQ!A:A,TCD!A12,PQ!B:B,"=C*") -> 426.39 | F12: =IF(OR(B12<=0,C12<0),"",B12/E12) | G12: =IF(LEFT($B12,1)="F",$C12,"")
A13: F075 - Pouj Cadre fixation FSB STP SHP TCP | B13: -19 | C13: -1 | D13: -19 | E13: =SUMIFS(PQ!E:E,PQ!A:A,TCD!A13,PQ!B:B,"=C*") -> 0 | F13: =IF(OR(B13<=0,C13<0),"",B13/E13) | G13: =IF(LEFT($B13,1)="F",$C13,"")
A14: F075 - Pouj Cadre fixation TCP PGI 100/150 | B14: 2.95 | C14: 0 | D14: 2.95 | E14: =SUMIFS(PQ!E:E,PQ!A:A,TCD!A14,PQ!B:B,"=C*") -> 26.12 | F14: =IF(OR(B14<=0,C14<0),"",B14/E14) -> 0.11294028 | G14: =IF(LEFT($B14,1)="F",$C14,"")
A15: F075 - Pouj Chapeau aspirateur Galactic Noir D230 | B15: 18.67 | C15: 0 | D15: 18.67 | E15: =SUMIFS(PQ!E:E,PQ!A:A,TCD!A15,PQ!B:B,"=C*") -> 165.4 | F15: =IF(OR(B15<=0,C15<0),"",B15/E15) -> 0.11287787 | G15: =IF(LEFT($B15,1)="F",$C15,"")
... A17: F1410702 - JRE Rail R48-30/5,4 3,00 m | B17: 1902.68 | C17: 35.88 | D17: 318.71128 | E17: =SUMIFS(PQ!E:E,PQ!A:A,TCD!A17,PQ!B:B,"=C*") -> 1902.68 | F17: =IF(OR(B17<=0,C17<0),"",B17/E17) -> 1 | G17: =IF(LEFT($B17,1)="F",$C17,"")
E18: =SUMIFS(PQ!E:E,PQ!A:A,TCD!A18,PQ!B:B,"=C*") -> 0 | F18: =IF(OR(B18<=0,C18<0),"",B18/E18) | G18: =IF(LEFT($B18,1)="F",$C18,"")
E19: =SUMIFS(PQ!E:E,PQ!A:A,TCD!A19,PQ!B:B,"=C*") -> 0 | F19: =IF(OR(B19<=0,C19<0),"",B19/E19) | G19: =IF(LEFT($B19,1)="F",$C19,"")
E20: =SUMIFS(PQ!E:E,PQ!A:A,TCD!A20,PQ!B:B,"=C*") -> 0 | F20: =IF(OR(B20<=0,C20<0),"",B20/E20) | G20: =IF(LEFT($B20,1)="F",$C20,"")
E21: =SUMIFS(PQ!E:E,PQ!A:A,TCD!A21,PQ!B:B,"=C*") -> 0 | F21: =IF(OR(B21<=0,C21<0),"",B21/E21) | G21: =IF(LEFT($B21,1)="F",$C21,"")
E22: =SUMIFS(PQ!E:E,PQ!A:A,TCD!A22,PQ!B:B,"=C*") -> 0 | F22: =IF(OR(B22<=0,C22<0),"",B22/E22) | G22: =IF(LEFT($B22,1)="F",$C22,"")
E23: =SUMIFS(PQ!E:E,PQ!A:A,TCD!A23,PQ!B:B,"=C*") -> 0 | F23: =IF(OR(B23<=0,C23<0),"",B23/E23) | G23: =IF(LEFT($B23,1)="F",$C23,"")
E24: =SUMIFS(PQ!E:E,PQ!A:A,TCD!A24,PQ!B:B,"=C*") -> 0 | F24: =IF(OR(B24<=0,C24<0),"",B24/E24) | G24: =IF(LEFT($B24,1)="F",$C24,"")
E25: =SUMIFS(PQ!E:E,PQ!A:A,TCD!A25,PQ!B:B,"=C*") -> 0 | F25: =IF(OR(B25<=0,C25<0),"",B25/E25) | G25: =IF(LEFT($B25,1)="F",$C25,"")
E26: =SUMIFS(PQ!E:E,PQ!A:A,TCD!A26,PQ!B:B,"=C*") -> 0 | F26: =IF(OR(B26<=0,C26<0),"",B26/E26) | G26: =IF(LEFT($B26,1)="F",$C26,"")
E27: =SUMIFS(PQ!E:E,PQ!A:A,TCD!A27,PQ!B:B,"=C*") -> 0 | F27: =IF(OR(B27<=0,C27<0),"",B27/E27) | G27: =IF(LEFT($B27,1)="F",$C27,"")
E28: =SUMIFS(PQ!E:E,PQ!A:A,TCD!A28,PQ!B:B,"=C*") -> 0 | F28: =IF(OR(B28<=0,C28<0),"",B28/E28) | G28: =IF(LEFT($B28,1)="F",$C28,"")
E29: =SUMIFS(PQ!E:E,PQ!A:A,TCD!A29,PQ!B:B,"=C*") -> 0 | F29: =IF(OR(B29<=0,C29<0),"",B29/E29) | G29: =IF(LEFT($B29,1)="F",$C29,"")
... E5159: =SUMIFS(PQ!E:E,PQ!A:A,TCD!A5159,PQ!B:B,"=C*") -> 0 | F5159: =IF(OR(B5159<=0,C5159<0),"",B5159/E5159) | G5159: =IF(LEFT($B5159,1)="F",$C5159,"")
F5160: =IF(LEFT($B5160,1)="C",$C5160,"") | G5160: =IF(LEFT($B5160,1)="F",$C5160,"")
F5161: =IF(LEFT($B5161,1)="C",$C5161,"") | G5161: =IF(LEFT($B5161,1)="F",$C5161,"")
F5162: =IF(LEFT($B5162,1)="C",$C5162,"") | G5162: =IF(LEFT($B5162,1)="F",$C5162,"")
F5163: =IF(LEFT($B5163,1)="C",$C5163,"") | G5163: =IF(LEFT($B5163,1)="F",$C5163,"")
F5164: =IF(LEFT($B5164,1)="C",$C5164,"") | G5164: =IF(LEFT($B5164,1)="F",$C5164,"")
F5165: =IF(LEFT($B5165,1)="C",$C5165,"") | G5165: =IF(LEFT($B5165,1)="F",$C5165,"")
F5166: =IF(LEFT($B5166,1)="C",$C5166,"") | G5166: =IF(LEFT($B5166,1)="F",$C5166,"")
F5167: =IF(LEFT($B5167,1)="C",$C5167,"") | G5167: =IF(LEFT($B5167,1)="F",$C5167,"")
F5168: =IF(LEFT($B5168,1)="C",$C5168,"") | G5168: =IF(LEFT($B5168,1)="F",$C5168,"")
F5169: =IF(LEFT($B5169,1)="C",$C5169,"") | G5169: =IF(LEFT($B5169,1)="F",$C5169,"")
F5170: =IF(LEFT($B5170,1)="C",$C5170,"") | G5170: =IF(LEFT($B5170,1)="F",$C5170,"")
F5171: =IF(LEFT($B5171,1)="C",$C5171,"") | G5171: =IF(LEFT($B5171,1)="F",$C5171,"")
... F20036: =IF(LEFT($B20036,1)="C",$C20036,"") | G20036: =IF(LEFT($B20036,1)="F",$C20036,"")
F20037: =IF(ISNUMBER(SEARCH("C",$B20037)),GETPIVOTDATA("Somme de CA Total",$A$3,"Article","024923 - Réso cornière souple 24x24 CSE 24 blanc","Client /Fournisseur","C401 - REZIG ARCHITECTURE TEXTILE"),"") | G20037: =IF(ISNUMBER(SEARCH("F",$B20037)),GETPIVOTDATA("Somme de CA Total",$A$3,"Article","024923 - Réso cornière souple 24x24 CSE 24 blanc","Client /Fournisseur","C401 - REZIG ARCHITECTURE TEXTILE"),"")
F20038: =IF(ISNUMBER(SEARCH("C",$B20038)),GETPIVOTDATA("Somme de CA Total",$A$3,"Article","024923 - Réso cornière souple 24x24 CSE 24 blanc","Client /Fournisseur","C401 - REZIG ARCHITECTURE TEXTILE"),"") | G20038: =IF(ISNUMBER(SEARCH("F",$B20038)),GETPIVOTDATA("Somme de CA Total",$A$3,"Article","024923 - Réso cornière souple 24x24 CSE 24 blanc","Client /Fournisseur","C401 - REZIG ARCHITECTURE TEXTILE"),"")
F20039: =IF(ISNUMBER(SEARCH("C",$B20039)),GETPIVOTDATA("Somme de CA Total",$A$3,"Article","024923 - Réso cornière souple 24x24 CSE 24 blanc","Client /Fournisseur","C401 - REZIG ARCHITECTURE TEXTILE"),"") | G20039: =IF(ISNUMBER(SEARCH("F",$B20039)),GETPIVOTDATA("Somme de CA Total",$A$3,"Article","024923 - Réso cornière souple 24x24 CSE 24 blanc","Client /Fournisseur","C401 - REZIG ARCHITECTURE TEXTILE"),"")
F20040: =IF(ISNUMBER(SEARCH("C",$B20040)),GETPIVOTDATA("Somme de CA Total",$A$3,"Article","024923 - Réso cornière souple 24x24 CSE 24 blanc","Client /Fournisseur","C401 - REZIG ARCHITECTURE TEXTILE"),"") | G20040: =IF(ISNUMBER(SEARCH("F",$B20040)),GETPIVOTDATA("Somme de CA Total",$A$3,"Article","024923 - Réso cornière souple 24x24 CSE 24 blanc","Client /Fournisseur","C401 - REZIG ARCHITECTURE TEXTILE"),"")
F20041: =IF(ISNUMBER(SEARCH("C",$B20041)),GETPIVOTDATA("Somme de CA Total",$A$3,"Article","024923 - Réso cornière souple 24x24 CSE 24 blanc","Client /Fournisseur","C401 - REZIG ARCHITECTURE TEXTILE"),"") | G20041: =IF(ISNUMBER(SEARCH("F",$B20041)),GETPIVOTDATA("Somme de CA Total",$A$3,"Article","024923 - Réso cornière souple 24x24 CSE 24 blanc","Client /Fournisseur","C401 - REZIG ARCHITECTURE TEXTILE"),"")
F20042: =IF(ISNUMBER(SEARCH("C",$B20042)),GETPIVOTDATA("Somme de CA Total",$A$3,"Article","024923 - Réso cornière souple 24x24 CSE 24 blanc","Client /Fournisseur","C401 - REZIG ARCHITECTURE TEXTILE"),"") | G20042: =IF(ISNUMBER(SEARCH("F",$B20042)),GETPIVOTDATA("Somme de CA Total",$A$3,"Article","024923 - Réso cornière souple 24x24 CSE 24 blanc","Client /Fournisseur","C401 - REZIG ARCHITECTURE TEXTILE"),"")
F20043: =IF(ISNUMBER(SEARCH("C",$B20043)),GETPIVOTDATA("Somme de CA Total",$A$3,"Article","024923 - Réso cornière souple 24x24 CSE 24 blanc","Client /Fournisseur","C401 - REZIG ARCHITECTURE TEXTILE"),"") | G20043: =IF(ISNUMBER(SEARCH("F",$B20043)),GETPIVOTDATA("Somme de CA Total",$A$3,"Article","024923 - Réso cornière souple 24x24 CSE 24 blanc","Client /Fournisseur","C401 - REZIG ARCHITECTURE TEXTILE"),"")
F20044: =IF(ISNUMBER(SEARCH("C",$B20044)),GETPIVOTDATA("Somme de CA Total",$A$3,"Article","024923 - Réso cornière souple 24x24 CSE 24 blanc","Client /Fournisseur","C401 - REZIG ARCHITECTURE TEXTILE"),"") | G20044: =IF(ISNUMBER(SEARCH("F",$B20044)),GETPIVOTDATA("Somme de CA Total",$A$3,"Article","024923 - Réso cornière souple 24x24 CSE 24 blanc","Client /Fournisseur","C401 - REZIG ARCHITECTURE TEXTILE"),"")
F20045: =IF(ISNUMBER(SEARCH("C",$B20045)),GETPIVOTDATA("Somme de CA Total",$A$3,"Article","024923 - Réso cornière souple 24x24 CSE 24 blanc","Client /Fournisseur","C401 - REZIG ARCHITECTURE TEXTILE"),"") | G20045: =IF(ISNUMBER(SEARCH("F",$B20045)),GETPIVOTDATA("Somme de CA Total",$A$3,"Article","024923 - Réso cornière souple 24x24 CSE 24 blanc","Client /Fournisseur","C401 - REZIG ARCHITECTURE TEXTILE"),"")
F20046: =IF(ISNUMBER(SEARCH("C",$B20046)),GETPIVOTDATA("Somme de CA Total",$A$3,"Article","024923 - Réso cornière souple 24x24 CSE 24 blanc","Client /Fournisseur","C401 - REZIG ARCHITECTURE TEXTILE"),"") | G20046: =IF(ISNUMBER(SEARCH("F",$B20046)),GETPIVOTDATA("Somme de CA Total",$A$3,"Article","024923 - Réso cornière souple 24x24 CSE 24 blanc","Client /Fournisseur","C401 - REZIG ARCHITECTURE TEXTILE"),"")
F20047: =IF(ISNUMBER(SEARCH("C",$B20047)),GETPIVOTDATA("Somme de CA Total",$A$3,"Article","024923 - Réso cornière souple 24x24 CSE 24 blanc","Client /Fournisseur","C401 - REZIG ARCHITECTURE TEXTILE"),"") | G20047: =IF(ISNUMBER(SEARCH("F",$B20047)),GETPIVOTDATA("Somme de CA Total",$A$3,"Article","024923 - Réso cornière souple 24x24 CSE 24 blanc","Client /Fournisseur","C401 - REZIG ARCHITECTURE TEXTILE"),"")
F20048: =IF(ISNUMBER(SEARCH("C",$B20048)),GETPIVOTDATA("Somme de CA Total",$A$3,"Article","024923 - Réso cornière souple 24x24 CSE 24 blanc","Client /Fournisseur","C401 - REZIG ARCHITECTURE TEXTILE"),"") | G20048: =IF(ISNUMBER(SEARCH("F",$B20048)),GETPIVOTDATA("Somme de CA Total",$A$3,"Article","024923 - Réso cornière souple 24x24 CSE 24 blanc","Client /Fournisseur","C401 - REZIG ARCHITECTURE TEXTILE"),"")
... F20080: =IF(ISNUMBER(SEARCH("C",$B20080)),GETPIVOTDATA("Somme de CA Total",$A$3,"Article","024923 - Réso cornière souple 24x24 CSE 24 blanc","Client /Fournisseur","C401 - REZIG ARCHITECTURE TEXTILE"),"") | G20080: =IF(ISNUMBER(SEARCH("F",$B20080)),GETPIVOTDATA("Somme de CA Total",$A$3,"Article","024923 - Réso cornière souple 24x24 CSE 24 blanc","Client /Fournisseur","C401 - REZIG ARCHITECTURE TEXTILE"),"")

Sheet PQ
D1: =+SUBTOTAL(9,E4:E5226) -> 4863.3 | E1: =+SUM(#REF!) -> #REF!
A3: Article | B3: Client /Fournisseur | C3: Port | D3: Qte Totale | E3: CA Total | F3: CA/Qte | G3: CA janvier 2019 | H3: Qte janvier 2019 | I3: CA février 2019 | J3: Qte février 2019 | K3: CA mars 2019 | L3: Qte mars 2019 | M3: CA avril 2019 | N3: Qte avril 2019 | O3: CA mai 2019 | P3: Qte mai 2019 | Q3: CA juin 2019 | R3: Qte juin 2019 | S3: CA juillet 2019 | T3: Qte juillet 2019 | U3: CA août 2019 | V3: Qte août 2019 | W3: CA septembre 2019 | X3: Qte septembre 2019 | Y3: CA octobre 2019 | Z3: Qte octobre 2019
A4: 024923 - Réso cornière souple 24x24 CSE 24 blanc | B4: C401 | C4: Enlevé (BL) | D4: 15 | E4: 64.35 | F4: 4.29 | G4: 0 | H4: 0 | I4: 0 | J4: 0 | K4: 0 | L4: 0 | M4: 0 | N4: 0 | O4: 0 | P4: 0 | Q4: 64.35 | R4: 15 | S4: 0 | T4: 0 | U4: 0 | V4: 0 | W4: 0 | X4: 0 | Y4: 0 | Z4: 0
A5: 024923 - Réso cornière souple 24x24 CSE 24 blanc | B5: F246 | C5: Livre (Entree) | D5: -15 | E5: -55.5 | F5: -3.7 | G5: 0 | H5: 0 | I5: 0 | J5: 0 | K5: 0 | L5: 0 | M5: 0 | N5: 0 | O5: 0 | P5: 0 | Q5: -55.5 | R5: -15 | S5: 0 | T5: 0 | U5: 0 | V5: 0 | W5: 0 | X5: 0 | Y5: 0 | Z5: 0
A6: 1020Beige - Protektor cornière d'angle galva perf. + jonc PVC 2.50ml 1020 Beige | B6: C001 | C6: Direct (BL) | D6: 1650 | E6: 1897.5 | F6: 1.15 | G6: 0 | H6: 0 | I6: 0 | J6: 0 | K6: 1897.5 | L6: 1650 | M6: 0 | N6: 0 | O6: 0 | P6: 0 | Q6: 0 | R6: 0 | S6: 0 | T6: 0 | U6: 0 | V6: 0 | W6: 0 | X6: 0 | Y6: 0 | Z6: 0
A7: 1020Beige - Protektor corniere d'angle galva perf.+ jonc PVC 2.50ml Beige | B7: C001 | C7: Direct (BL) | D7: -1650 | E7: -1897.5 | F7: -1.15 | G7: 0 | H7: 0 | I7: 0 | J7: 0 | K7: -1897.5 | L7: -1650 | M7: 0 | N7: 0 | O7: 0 | P7: 0 | Q7: 0 | R7: 0 | S7: 0 | T7: 0 | U7: 0 | V7: 0 | W7: 0 | X7: 0 | Y7: 0 | Z7: 0
A8: 33FGUB - MEP fond goutt. Universel à coller PVC blanc 1/2R de 33 | B8: C106 | C8: Direct (BL) | D8: 40 | E8: 51.2 | F8: 1.28 | G8: 0 | H8: 0 | I8: 0 | J8: 0 | K8: 0 | L8: 0 | M8: 0 | N8: 0 | O8: 0 | P8: 0 | Q8: 0 | R8: 0 | S8: 51.2 | T8: 40 | U8: 0 | V8: 0 | W8: 0 | X8: 0 | Y8: 0 | Z8: 0
A9: 33FGUB - MEP fond goutt. Universel à coller PVC blanc 1/2R de 33 | B9: F096 | C9: Direct (Entree) | D9: -40 | E9: -42.8 | F9: -1.07 | G9: 0 | H9: 0 | I9: 0 | J9: 0 | K9: 0 | L9: 0 | M9: 0 | N9: 0 | O9: 0 | P9: 0 | Q9: 0 | R9: 0 | S9: -42.8 | T9: -40 | U9: 0 | V9: 0 | W9: 0 | X9: 0 | Y9: 0 | Z9: 0
A10: 371011 - GRAF Réhausse télesc. verte 600mm Maxi Piétons, avec couvercle | B10: F163 | C10: Livre (Entree) | D10: -1 | E10: -168.3 | F10: -168.3 | G10: 0 | H10: 0 | I10: 0 | J10: 0 | K10: 0 | L10: 0 | M10: 0 | N10: 0 | O10: 0 | P10: 0 | Q10: 0 | R10: 0 | S10: -168.3 | T10: -1 | U10: 0 | V10: 0 | W10: 0 | X10: 0 | Y10: 0 | Z10: 0
A11: 763717 - Roto ZUB TFB Q/Rx L 1170-1900 | B11: C402 | C11: Enlevé (BL) | D11: 3 | E11: 98.43 | F11: 32.81 | G11: 0 | H11: 0 | I11: 0 | J11: 0 | K11: 0 | L11: 0 | M11: 0 | N11: 0 | O11: 0 | P11: 0 | Q11: 0 | R11: 0 | S11: 98.43 | T11: 3 | U11: 0 | V11: 0 | W11: 0 | X11: 0 | Y11: 0 | Z11: 0
A12: 763717 - Roto ZUB TFB Q/Rx L 1170-1900 | B12: F015 | C12: Livre (Entree) | D12: -3 | E12: -79.38 | F12: -26.46 | G12: 0 | H12: 0 | I12: 0 | J12: 0 | K12: 0 | L12: 0 | M12: 0 | N12: 0 | O12: 0 | P12: 0 | Q12: 0 | R12: 0 | S12: -79.38 | T12: -3 | U12: 0 | V12: 0 | W12: 0 | X12: 0 | Y12: 0 | Z12: 0
A13: F0020125 - Prégyplac STD BA18 S 0,90 x 2,50 m | B13: C349 | C13: Enlevé (BL) | D13: 72 | E13: 367.2 | F13: 5.1 | G13: 0 | H13: 0 | I13: 0 | J13: 0 | K13: 0 | L13: 0 | M13: 0 | N13: 0 | O13: 367.2 | P13: 72 | Q13: 0 | R13: 0 | S13: 0 | T13: 0 | U13: 0 | V13: 0 | W13: 0 | X13: 0 | Y13: 0 | Z13: 0
A14: F0020125 - Prégyplac STD BA18 S 0,90 x 2,50 m | B14: C037 | C14: Enlevé (BL) | D14: 72 | E14: 372.96 | F14: 5.18 | G14: 0 | H14: 0 | I14: 0 | J14: 0 | K14: 372.96 | L14: 72 | M14: 0 | N14: 0 | O14: 0 | P14: 0 | Q14: 0 | R14: 0 | S14: 0 | T14: 0 | U14: 0 | V14: 0 | W14: 0 | X14: 0 | Y14: 0 | Z14: 0
A15: F0020125 - Prégyplac STD BA18 S 0,90 x 2,50 m | B15: C011 | C15: Enlevé (BL) | D15: 38.25 | E15: 198.14 | F15: 5.1801307 | G15: 0 | H15: 0 | I15: 0 | J15: 0 | K15: 0 | L15: 0 | M15: 0 | N15: 0 | O15: 0 | P15: 0 | Q15: 0 | R15: 0 | S15: 0 | T15: 0 | U15: 0 | V15: 0 | W15: 198.14 | X15: 38.25 | Y15: 0 | Z15: 0
... A39: F1410702 - JRE Rail R48-30/5,4 3,00 m | B39: C000 | C39: Livre (BL) | D39: 0.6 | E39: 31.98 | F39: 53.3 | G39: 0 | H39: 0 | I39: 0 | J39: 0 | K39: 0 | L39: 0 | M39: 0 | N39: 0 | O39: 0 | P39: 0 | Q39: 0 | R39: 0 | S39: 0 | T39: 0 | U39: 0 | V39: 0 | W39: 31.98 | X39: 0.6 | Y39: 0 | Z39: 0
