Workbook
Name cliquez_ici_pour_faire_votre_choix: #REF!
Name colorisk768k769: [1]Feuil1!$AG$5:$AG$7
Name colorisk768k769: [2]Feuil1!$AG$5:$AG$7
Name colorisk790k789: [1]Feuil1!$AE$5:$AE$7
Name colorisk790k789: [2]Feuil1!$AE$5:$AE$7
Name colorismarquagescoeur: [1]Feuil1!$A$21:$A$26
Name colorismarquagescoeur: [2]Feuil1!$A$21:$A$26
Name Print_Area: Animation_Clubs!$A$3:$O$36
Name Print_Area: 'BDC RECAP'!$A$1:$R$27
Name Print_Area: Chemiserie!$A$1:$Q$30
Name Print_Area: 'Coupe vent_Softshell_Parka'!$A$3:$O$31
Name Print_Area: Jupe_Pantalon_Bermuda_casquette!$A$1:$T$61
Name Print_Area: 'Polos_Tshirt_Débardeur FEMME'!$A$1:$N$47
Name Print_Area: 'Polos_Tshirt_Débardeur HOMME'!$A$1:$P$50
Name Print_Area: Sauveteurs!$A$3:$N$26
Name Print_Area: Sweat_Polaire_Bodywarmer_FEMME!$C$3:$Q$44
Name Print_Area: Sweat_Polaire_Bodywarmer_HOMME!$C$3:$Q$44

Sheet Chemiserie
A1: Merci de renseigner les champs VERTS ci-dessous, uniquement sur cette première page.
A3: NOM DU SITE : | F3: INTERLOCUTEUR | L3: DATE DE COMMANDE :
A5: Genre | B5: Produits | C5: Référence | D5: Coloris vêtement | E5: XS | F5: S | G5: M | H5: L | I5: XL | J5: XXL | K5: 3XL | L5: 4XL | M5: 5XL | N5: 6XL | O5: TOTAL QTE | P5: P.U. H.T. | Q5: TOTAL H.T.
A6: FEMME | B6: Chemisier femme col mao | C6: KBK514 | D6: White | O6: =SUM(E6:K6) -> 0 | P6: 20 | Q6: =O6*P6 -> 0
B7: Chemisier femme chevrons manches courtes | C7: RUR963F | D7: White | O7: =SUM(E7:L7) -> 0 | P7: 25.5 | Q7: =O7*P7 -> 0
B8: Chemisier femme chevrons manches courtes | C8: RUR963F | D8: Light Blue | O8: =SUM(E8:L8) -> 0 | P8: 25.5 | Q8: =O8*P8 -> 0
B9: Chemisier femme chevrons manches longues | C9: RUR962F | D9: White | O9: =SUM(E9:L9) -> 0 | P9: 27.5 | Q9: =O9*P9 -> 0
B10: Chemisier femme chevrons manches longues | C10: RUR962F | D10: Light Blue | O10: =SUM(E10:L10) -> 0 | P10: 27.5 | Q10: =O10*P10 -> 0
B11: Chemisier femme popeline manches courtes | C11: KBK548 | D11: White | O11: =SUM(E11:L11) -> 0 | P11: 16.5 | Q11: =O11*P11 -> 0
B12: Chemisier femme popeline manches courtes | C12: KBK548 | D12: Bright Sky | O12: =SUM(E12:L12) -> 0 | P12: 16.5 | Q12: =O12*P12 -> 0
B13: Chemisier femme popeline manches longues | C13: KBKR49 | D13: White | O13: =SUM(E13:L13) -> 0 | P13: 16.5 | Q13: =O13*P13 -> 0
B14: Chemisier femme popeline manches longues | C14: KBKR49 | D14: Bright Sky | O14: =SUM(E14:L14) -> 0 | P14: 16.5 | Q14: =O14*P14 -> 0
B15: Pull femme col V | C15: KBK966 | D15: Grey | O15: =SUM(E15:L15) -> 0 | P15: 25 | Q15: =O15*P15 -> 0
B16: Pull femme col V | C16: KBK966 | D16: Light Royal Blue | O16: =SUM(E16:L16) -> 0 | P16: 25 | Q16: =O16*P16 -> 0
A17: HOMME | B17: Produits | C17: Référence | D17: Coloris vêtement | E17: XS | F17: S | G17: M | H17: L | I17: XL | J17: XXL | K17: 3XL | L17: 4XL | M17: 5XL | N17: 6XL | O17: TOTAL QTE | P17: P.U. H.T. | Q17: TOTAL H.T.
B18: Chemise homme chevrons manches courtes | C18: RUR963M | D18: White | O18: =SUM(F18:L18) -> 0 | P18: 27.5 | Q18: =O18*P18 -> 0
B19: Chemise homme chevrons manches courtes | C19: RUR963M | D19: Light Blue | O19: =SUM(F19:L19) -> 0 | P19: 27.5 | Q19: =O19*P19 -> 0
B20: Chemise homme chevrons manches longues | C20: RUR962M | D20: White | O20: =SUM(F20:L20) -> 0 | P20: 28.5 | Q20: =O20*P20 -> 0
B21: Chemise homme chevrons manches longues | C21: RUR962M | D21: Light Blue | O21: =SUM(F21:L21) -> 0 | P21: 28.5 | Q21: =O21*P21 -> 0
B22: Chemise homme popeline manches courtes | C22: KBK551 | D22: White | O22: =SUM(E22:N22) -> 0 | P22: 16.5 | Q22: =O22*P22 -> 0
B23: Chemise homme popeline manches courtes | C23: KBK551 | D23: Bright Sky | O23: =SUM(E23:N23) -> 0 | P23: 16.5 | Q23: =O23*P23 -> 0
B24: Chemise homme popeline manches longues | C24: KBK545 | D24: White | O24: =SUM(E24:N24) -> 0 | P24: 17.5 | Q24: =O24*P24 -> 0
B25: Chemise homme popeline manches longues | C25: KBK545 | D25: Bright Sky | O25: =SUM(E25:N25) -> 0 | P25: 17.5 | Q25: =O25*P25 -> 0
B26: Pull homme col V | C26: KBK965 | D26: Grey | O26: =SUM(E26:L26) -> 0 | P26: 26 | Q26: =O26*P26 -> 0
B27: Pull homme col V | C27: KBK965 | D27: Light Royal Blue | O27: =SUM(E27:L27) -> 0 | P27: 26 | Q27: =O27*P27 -> 0
O28: TOTAL H.T. | Q28: =SUM(Q6:Q27) -> 0
O29: TVA 20% | Q29: =Q28*0.2 -> 0
O30: TOTAL T.T.C. | Q30: =SUM(Q28:Q29) -> 0

Sheet Polos_Tshirt_Débardeur FEMME
B1: =Chemiserie!C3 -> 0 | E1: =Chemiserie!H3 -> 0 | L1: =Chemiserie!P3 -> 0
A3: FEMMES
A5: Genre | B5: Produits | C5: Référence | D5: Coloris vêtement | E5: XS | F5: S | G5: M | H5: L | I5: XL | J5: XXL | K5: 3XL | L5: TOTAL QTE | M5: P.U. H.T. | N5: TOTAL H.T.
A6: FEMME | B6: Polo femme manches courtes | C6: FL630300 | D6: White | L6: =SUM(E6:J6) -> 0 | M6: 12 | N6: =L6*M6 -> 0
B7: Polo femme manches courtes | C7: FL630300 | D7: Light Pink | L7: =SUM(E7:J7) -> 0 | M7: 12 | N7: =L7*M7 -> 0
B8: Polo femme manches courtes | C8: FL630300 | D8: Fushia | L8: =SUM(E8:J8) -> 0 | M8: 12 | N8: =L8*M8 -> 0
B9: Polo femme manches courtes | C9: FL630300 | D9: Sky Blue | L9: =SUM(E9:J9) -> 0 | M9: 12 | N9: =L9*M9 -> 0
B10: Polo femme manches courtes | C10: FL630300 | D10: Azure Blue | L10: =SUM(E10:J10) -> 0 | M10: 12 | N10: =L10*M10 -> 0
B11: Polo femme manches courtes | C11: FL630300 | D11: Deep navy | L11: =SUM(E11:J11) -> 0 | M11: 12 | N11: =L11*M11 -> 0
B12: Polo femme manches courtes | C12: FL630300 | D12: Royal Blue | L12: =SUM(E12:J12) -> 0 | M12: 12 | N12: =L12*M12 -> 0
B13: Polo femme manches courtes | C13: FL630300 | D13: Khaki | L13: =SUM(E13:J13) -> 0 | M13: 12 | N13: =L13*M13 -> 0
B14: Polo femme manches longues | C14: KBK257 | D14: White | L14: =SUM(F14:J14) -> 0 | M14: 15 | N14: =L14*M14 -> 0
B15: Polo femme manches longues | C15: KBK257 | D15: Fushia | L15: =SUM(F15:J15) -> 0 | M15: 15 | N15: =L15*M15 -> 0
B16: Polo femme manches longues | C16: KBK257 | D16: Sky Blue | L16: =SUM(F16:J16) -> 0 | M16: 15 | N16: =L16*M16 -> 0
B17: Polo femme manches longues | C17: KBK257 | D17: Tropical Blue | L17: =SUM(F17:J17) -> 0 | M17: 15 | N17: =L17*M17 -> 0
B18: Polo femme insert vichy (mc) | C18: JNJN969 | D18: Pourpre / Blanc | L18: =SUM(F18:J18) -> 0 | M18: 18.5 | N18: =L18*M18 -> 0
B19: Polo femme insert vichy (mc) | C19: JNJN969 | D19: Bleu glacier / Blanc | L19: =SUM(F19:J19) -> 0 | M19: 18.5 | N19: =L19*M19 -> 0
B20: Polo femme insert vichy (mc) | C20: JNJN969 | D20: Blanc / Denim | L20: =SUM(F20:J20) -> 0 | M20: 18.5 | N20: =L20*M20 -> 0
B21: Polo femme insert vichy (ml) | C21: JNJN713 | D21: Pourpre / Blanc | L21: =SUM(F21:J21) -> 0 | M21: 24 | N21: =L21*M21 -> 0
B22: Polo femme insert vichy (ml) | C22: JNJN713 | D22: Bleu glacier / Blanc | L22: =SUM(F22:J22) -> 0 | M22: 24 | N22: =L22*M22 -> 0
B23: Polo femme insert vichy (ml) | C23: JNJN713 | D23: Blanc / Denim | L23: =SUM(F23:J23) -> 0 | M23: 24 | N23: =L23*M23 -> 0
B24: Tee-shirt femme leger | C24: CGTW02T | D24: White | L24: =SUM(E24:J24) -> 0 | M24: 8.5 | N24: =L24*M24 -> 0
B25: Tee-shirt femme leger | C25: CGTW02T | D25: Fushia | L25: =SUM(E25:J25) -> 0 | M25: 8.5 | N25: =L25*M25 -> 0
B26: Tee-shirt femme leger | C26: CGTW02T | D26: Azure Blue | L26: =SUM(E26:J26) -> 0 | M26: 8.5 | N26: =L26*M26 -> 0
B27: Tee-shirt femme leger | C27: CGTW02T | D27: Sky Blue | L27: =SUM(E27:J27) -> 0 | M27: 8.5 | N27: =L27*M27 -> 0
B28: Tee-shirt femme leger | C28: CGTW02T | D28: Atoll | L28: =SUM(E28:J28) -> 0 | M28: 8.5 | N28: =L28*M28 -> 0
B29: Tee-shirt femme leger | C29: CGTW02T | D29: Royal Blue | L29: =SUM(E29:J29) -> 0 | M29: 8.5 | N29: =L29*M29 -> 0
B30: Tee-shirt col rond manches courtes | C30: FL613720 | D30: White | L30: =SUM(E30:J30) -> 0 | M30: 6.5 | N30: =L30*M30 -> 0
B31: Tee-shirt col rond manches courtes | C31: FL613720 | D31: Fushia | L31: =SUM(E31:J31) -> 0 | M31: 6.5 | N31: =L31*M31 -> 0
B32: Tee-shirt col rond manches courtes | C32: FL613720 | D32: Light Pink | L32: =SUM(E32:J32) -> 0 | M32: 6.5 | N32: =L32*M32 -> 0
B33: Tee-shirt col rond manches courtes | C33: FL613720 | D33: Sky Blue | L33: =SUM(E33:J33) -> 0 | M33: 6.5 | N33: =L33*M33 -> 0
B34: Tee-shirt col rond manches courtes | C34: FL613720 | D34: Azure Blue | L34: =SUM(E34:J34) -> 0 | M34: 6.5 | N34: =L34*M34 -> 0
B35: Tee-shirt col rond manches courtes | C35: FL613720 | D35: Deep navy | L35: =SUM(E35:J35) -> 0 | M35: 6.5 | N35: =L35*M35 -> 0
B36: Tee-shirt col rond manches courtes | C36: FL613720 | D36: Royal Blue | L36: =SUM(E36:J36) -> 0 | M36: 6.5 | N36: =L36*M36 -> 0
B37: Tee-shirt sport col rond manches courtes | C37: PRPA439 | D37: White | L37: =SUM(E37:I37) -> 0 | M37: 8 | N37: =L37*M37 -> 0
B38: Tee-shirt sport col rond manches courtes | C38: PRPA439 | D38: Fushia | L38: =SUM(E38:I38) -> 0 | M38: 8 | N38: =L38*M38 -> 0
B39: Tee-shirt sport col rond manches courtes | C39: PRPA439 | D39: Sky Blue | L39: =SUM(E39:I39) -> 0 | M39: 8 | N39: =L39*M39 -> 0
B40: Tee-shirt sport col rond manches courtes | C40: PRPA439 | D40: Aqua Blue | L40: =SUM(E40:I40) -> 0 | M40: 8 | N40: =L40*M40 -> 0
B41: Tee-shirt sport col rond manches courtes | C41: PRPA439 | D41: Sporty royal blue | L41: =SUM(E41:I41) -> 0 | M41: 8 | N41: =L41*M41 -> 0
B42: Tee-shirt sport col rond manches courtes | C42: PRPA439 | D42: Sporty Navy | L42: =SUM(E42:I42) -> 0 | M42: 8 | N42: =L42*M42 -> 0
B43: Tee-shirt sport col rond manches courtes | C43: PRPA439 | D43: Sand | L43: =SUM(E43:I43) -> 0 | M43: 8 | N43: =L43*M43 -> 0
B44: Débardeur col rond | C44: JNJN902 | D44: White | L44: =SUM(F44:J44) -> 0 | M44: 8 | N44: =L44*M44 -> 0
L45: TOTAL H.T. | N45: =SUM(N6:N44) -> 0
L46: TVA 20% | N46: =N45*0.2 -> 0
L47: TOTAL T.T.C. | N47: =SUM(N45:N46) -> 0
B52: aqua blue
B53: fuchsia
B54: white
B55: navy
B56: sand
B57: royal
B58: dark pink
B60: royal
B61: navy

Sheet Polos_Tshirt_Débardeur HOMME
B1: =Chemiserie!C3 -> 0 | E1: =Chemiserie!H3 -> 0 | N1: =Chemiserie!P3 -> 0
A3: HOMMES
A5: Genre | B5: Produits | C5: Référence | D5: Coloris vêtement | E5: XS | F5: S | G5: M | H5: L | I5: XL | J5: XXL | K5: 3XL | L5: 4XL | M5: 5XL | N5: TOTAL QTE | O5: P.U. H.T. | P5: TOTAL H.T.
A6: HOMME | B6: Polo homme manches courtes | C6: FL632180 | D6: White | N6: =SUM(F6:K6) -> 0 | O6: 12 | P6: =N6*O6 -> 0
B7: Polo homme manches courtes | C7: FL632180 | D7: Light Pink | N7: =SUM(F7:K7) -> 0 | O7: 12 | P7: =N7*O7 -> 0
B8: Polo homme manches courtes | C8: FL632180 | D8: Fushia | N8: =SUM(F8:K8) -> 0 | O8: 12 | P8: =N8*O8 -> 0
B9: Polo homme manches courtes | C9: FL632180 | D9: Sky Blue | N9: =SUM(F9:K9) -> 0 | O9: 12 | P9: =N9*O9 -> 0
B10: Polo homme manches courtes | C10: FL632180 | D10: Azure Blue | N10: =SUM(F10:K10) -> 0 | O10: 12 | P10: =N10*O10 -> 0
B11: Polo homme manches courtes | C11: FL632180 | D11: Deep navy | N11: =SUM(F11:K11) -> 0 | O11: 12 | P11: =N11*O11 -> 0
B12: Polo homme manches courtes | C12: FL632180 | D12: Royal Blue | N12: =SUM(F12:K12) -> 0 | O12: 12 | P12: =N12*O12 -> 0
B13: Polo homme manches courtes | C13: FL632180 | D13: Khaki | N13: =SUM(F13:K13) -> 0 | O13: 12 | P13: =N13*O13 -> 0
B14: Polo homme manches longues | C14: KBK256 | D14: White | N14: =SUM(F14:J14) -> 0 | O14: 15 | P14: =N14*O14 -> 0
B15: Polo homme manches longues | C15: KBK256 | D15: Fushia | N15: =SUM(F15:J15) -> 0 | O15: 15 | P15: =N15*O15 -> 0
B16: Polo homme manches longues | C16: KBK256 | D16: Sky Blue | N16: =SUM(F16:J16) -> 0 | O16: 15 | P16: =N16*O16 -> 0
B17: Polo homme manches longues | C17: KBK256 | D17: Azure Blue | N17: =SUM(F17:J17) -> 0 | O17: 15 | P17: =N17*O17 -> 0
B18: Polo homme insert vichy | C18: JNJN964 | D18: Pourpre / Blanc | N18: =SUM(F18:K18) -> 0 | O18: 18.5 | P18: =N18*O18 -> 0
B19: Polo homme insert vichy | C19: JNJN964 | D19: Bleu glacier / Blanc | N19: =SUM(F19:K19) -> 0 | O19: 18.5 | P19: =N19*O19 -> 0
B20: Polo homme insert vichy | C20: JNJN964 | D20: Blanc / Denim | N20: =SUM(F20:K20) -> 0 | O20: 18.5 | P20: =N20*O20 -> 0
B21: Polo homme insert vichy (ml) | C21: JNJN714 | D21: Rouge / Bleu blanc | N21: =SUM(F21:J21) -> 0 | O21: 24 | P21: =N21*O21 -> 0
B22: Polo homme insert vichy (ml) | C22: JNJN714 | D22: Marine / Blanc bleu clair | N22: =SUM(F22:J22) -> 0 | O22: 24 | P22: =N22*O22 -> 0
B23: Polo homme insert vichy (ml) | C23: JNJN714 | D23: Blanc / Marine & blanc | N23: =SUM(F23:J23) -> 0 | O23: 24 | P23: =N23*O23 -> 0
B24: Tee-shirt homme léger | C24: CGTU01T | D24: White | N24: =SUM(F24:J24) -> 0 | O24: 8.5 | P24: =N24*O24 -> 0
B25: Tee-shirt homme léger | C25: CGTU01T | D25: Fushia | N25: =SUM(F25:J25) -> 0 | O25: 8.5 | P25: =N25*O25 -> 0
B26: Tee-shirt homme léger | C26: CGTU01T | D26: Azure Blue | N26: =SUM(F26:J26) -> 0 | O26: 8.5 | P26: =N26*O26 -> 0
B27: Tee-shirt homme léger | C27: CGTU01T | D27: Sky Blue | N27: =SUM(F27:J27) -> 0 | O27: 8.5 | P27: =N27*O27 -> 0
B28: Tee-shirt homme léger | C28: CGTU01T | D28: Atoll | N28: =SUM(F28:J28) -> 0 | O28: 8.5 | P28: =N28*O28 -> 0
B29: Tee-shirt homme léger | C29: CGTU01T | D29: Royal Blue | N29: =SUM(F29:J29) -> 0 | O29: 8.5 | P29: =N29*O29 -> 0
B30: Tee-shirt col rond manches courtes | C30: FL610360 | D30: White | N30: =SUM(F30:J30) -> 0 | O30: 6.5 | P30: =N30*O30 -> 0
B31: Tee-shirt col rond manches courtes | C31: FL610360 | D31: Fushia | N31: =SUM(F31:J31) -> 0 | O31: 6.5 | P31: =N31*O31 -> 0
B32: Tee-shirt col rond manches courtes | C32: FL610360 | D32: Light Pink | N32: =SUM(F32:J32) -> 0 | O32: 6.5 | P32: =N32*O32 -> 0
... B35: Tee-shirt col rond manches courtes | C35: FL610360 | D35: Deep navy | N35: =SUM(F35:J35) -> 0 | O35: 6.5 | P35: =N35*O35 -> 0
B36: Tee-shirt col rond manches courtes | C36: FL610360 | D36: Royal Blue | N36: 0 | O36: 6.5
B37: Tee-shirt col rond manches courtes | C37: FL610360 | D37: Khaki | N37: =SUM(F37:J37) -> 0 | O37: 6.5 | P37: =N37*O37 -> 0
B38: Tee-shirt sport col rond manches courtes | C38: PRPA438 | D38: White | N38: =SUM(E38:K38) -> 0 | O38: 8 | P38: =N38*O38 -> 0
B39: Tee-shirt sport col rond manches courtes | C39: PRPA438 | D39: Fushia | N39: =SUM(E39:K39) -> 0 | O39: 8 | P39: =N39*O39 -> 0
B40: Tee-shirt sport col rond manches courtes | C40: PRPA438 | D40: Sky Blue | N40: =SUM(E40:K40) -> 0 | O40: 8 | P40: =N40*O40 -> 0
B41: Tee-shirt sport col rond manches courtes | C41: PRPA438 | D41: Aqua Blue | N41: =SUM(E41:K41) -> 0 | O41: 8 | P41: =N41*O41 -> 0
B42: Tee-shirt sport col rond manches courtes | C42: PRPA438 | D42: Sporty royal blue | N42: =SUM(E42:K42) -> 0 | O42: 7.5 | P42: =N42*O42 -> 0
B43: Tee-shirt sport col rond manches courtes | C43: PRPA438 | D43: Sporty Navy | N43: =SUM(E43:K43) -> 0 | O43: 7.5 | P43: =N43*O43 -> 0
B44: Tee-shirt sport col rond manches courtes | C44: PRPA438 | D44: Sand | N44: =SUM(E44:K44) -> 0 | O44: 7.5 | P44: =N44*O44 -> 0
B45: Débardeur col rond | C45: BCTM200 | D45: White | N45: =SUM(G45:J45) -> 0 | O45: 8 | P45: =N45*O45 -> 0
B46: Débardeur col rond | C46: BCTM200 | D46: Royal Blue | N46: =SUM(G46:J46) -> 0 | O46: 8 | P46: =N46*O46 -> 0
B47: Débardeur col rond | C47: BCTM200 | D47: Navy | N47: =SUM(G47:J47) -> 0 | O47: 8 | P47: =N47*O47 -> 0
N48: TOTAL H.T. | P48: =SUM(P6:P47) -> 0
N49: TVA 20% | P49: =P48*0.2 -> 0
N50: TOTAL T.T.C. | P50: =SUM(P48:P49) -> 0

Sheet Sweat_Polaire_Bodywarmer_FEMME
B1: =Chemiserie!C3 -> 0 | D1: ='Polos_Tshirt_Débardeur HOMME'!B1 -> 0 | H1: =Chemiserie!H3 -> 0 | M1: =Chemiserie!P3 -> 0
C3: Genre | D3: Produits | E3: Référence | F3: Coloris vêtement | G3: XS | H3: S | I3: M | J3: L | K3: XL | L3: XXL | M3: 3XL | N3: 4XL | O3: TOTAL QTE | P3: P.U. H.T. | Q3: TOTAL H.T.
C4: MIXTE | D4: Veste sweat-shirt full zip mixte | E4: FL621600 | F4: White | O4: =SUM(H4:L4) -> 0 | P4: 17.5 | Q4: =O4*P4 -> 0
D5: Veste sweat-shirt full zip mixte | E5: FL621600 | F5: Azure Blue | O5: =SUM(H5:L5) -> 0 | P5: 17.5 | Q5: =O5*P5 -> 0
D6: Veste sweat-shirt full zip mixte | E6: FL621600 | F6: Fushia | O6: =SUM(H6:L6) -> 0 | P6: 17.5 | Q6: =O6*P6 -> 0
D7: Veste sweat-shirt full zip mixte | E7: FL621600 | F7: Royal | O7: 0 | P7: 17.5 | Q7: =O7*P7 -> 0
D8: Veste sweat-shirt full zip mixte | E8: FL621600 | F8: Navy | O8: =SUM(H8:L8) -> 0 | P8: 17.5 | Q8: =O8*P8 -> 0
C9: Genre | D9: Produits | E9: Référence | F9: Coloris vêtement | G9: XS | H9: S | I9: M | J9: L | K9: XL | L9: XXL | M9: 3XL | N9: 4XL | O9: TOTAL QTE | P9: P.U. H.T. | Q9: TOTAL H.T.
A10: FEMME | D10: Pull femme Col V | E10: KBK966 | F10: Light royal blue | O10: =SUM(H10:N10) -> 0 | P10: 26 | Q10: =O10*P10 -> 0
D11: Pull femme Col V | E11: KBK966 | F11: Grey | O11: =SUM(H11:N11) -> 0 | P11: 26 | Q11: =O11*P11 -> 0
D12: Sweat-shirt col rond | E12: FL621460 | F12: White | O12: =SUM(G12:L12) -> 0 | P12: 12.5 | Q12: =O12*P12 -> 0
D13: Sweat-shirt col rond | E13: FL621460 | F13: Azure Blue | O13: =SUM(G13:L13) -> 0 | P13: 12.5 | Q13: =O13*P13 -> 0
D14: Sweat-shirt col rond | E14: FL621460 | F14: Fushia | O14: =SUM(G14:L14) -> 0 | P14: 12.5 | Q14: =O14*P14 -> 0
D15: Sweat-shirt col rond | E15: FL621460 | F15: Royal | O15: 0 | P15: 12.5 | Q15: =O15*P15 -> 0
D16: Sweat-shirt col rond | E16: FL621460 | F16: Deep navy | O16: =SUM(G16:L16) -> 0 | P16: 12.5 | Q16: =O16*P16 -> 0
D17: Sweat-shirt capuche poche ventrale | E17: FL620380 | F17: White | O17: =SUM(G17:L17) -> 0 | P17: 16.5 | Q17: =O17*P17 -> 0
D18: Sweat-shirt capuche poche ventrale | E18: FL620380 | F18: Azure Blue | O18: =SUM(G18:L18) -> 0 | P18: 16.5 | Q18: =O18*P18 -> 0
D19: Sweat-shirt capuche poche ventrale | E19: FL620380 | F19: Fushia | O19: =SUM(G19:L19) -> 0 | P19: 16.5 | Q19: =O19*P19 -> 0
D20: Sweat-shirt capuche poche ventrale | E20: FL620380 | F20: Royal | O20: 0 | P20: 16.5 | Q20: =O20*P20 -> 0
D21: Sweat-shirt capuche poche ventrale | E21: FL620380 | F21: Deep navy | O21: =SUM(G21:L21) -> 0 | P21: 16.5 | Q21: =O21*P21 -> 0
D22: Sweat-shirt zippé capuche | E22: FL621500 | F22: White | O22: =SUM(G22:L22) -> 0 | P22: 16 | Q22: =O22*P22 -> 0
D23: Sweat-shirt zippé capuche | E23: FL621500 | F23: Azure Blue | O23: =SUM(G23:L23) -> 0 | P23: 16 | Q23: =O23*P23 -> 0
D24: Sweat-shirt zippé capuche | E24: FL621500 | F24: Fushia | O24: =SUM(G24:L24) -> 0 | P24: 16 | Q24: =O24*P24 -> 0
D25: Sweat-shirt zippé capuche | E25: FL621500 | F25: Royal | O25: 0 | P25: 16 | Q25: =O25*P25 -> 0
D26: Sweat-shirt zippé capuche | E26: FL621500 | F26: Deep Navy | O26: =SUM(G26:L26) -> 0 | P26: 16 | Q26: =O26*P26 -> 0
D27: Veste softshell full zip | E27: KBK400 | F27: White | O27: =SUM(H27:N27) -> 0 | P27: 36.5 | Q27: =O27*P27 -> 0
D28: Veste softshell full zip | E28: KBK400 | F28: Aqua Blue | O28: =SUM(H28:N28) -> 0 | P28: 36.5 | Q28: =O28*P28 -> 0
D29: Bodywarmer softshell | E29: KBK404 | F29: White | O29: =SUM(H29:N29) -> 0 | P29: 30 | Q29: =O29*P29 -> 0
D30: Bodywarmer softshell | E30: KBK404 | F30: Aqua Blue | O30: =SUM(H30:N30) -> 0 | P30: 30 | Q30: =O30*P30 -> 0
D31: Bodywarmer softshell | E31: KBK404 | F31: Navy | O31: =SUM(H31:N31) -> 0 | P31: 30 | Q31: =O31*P31 -> 0
D32: Veste polaire full zip | E32: KBK907 | F32: Naturel | O32: =SUM(H32:N32) -> 0 | P32: 18.5 | Q32: =O32*P32 -> 0
D33: Veste polaire full zip | E33: KBK907 | F33: Fushia | O33: =SUM(H33:N33) -> 0 | P33: 18.5 | Q33: =O33*P33 -> 0
D34: Veste polaire full zip | E34: KBK907 | F34: Tropical Blue | O34: =SUM(H34:N34) -> 0 | P34: 18.5 | Q34: =O34*P34 -> 0
D35: Veste polaire full zip | E35: KBK907 | F35: Royal | O35: =SUM(H35:N35) -> 0 | P35: 18.5 | Q35: =O35*P35 -> 0
D36: Veste polaire full zip | E36: KBK907 | F36: Navy | O36: =SUM(H36:N36) -> 0 | P36: 18.5 | Q36: =O36*P36 -> 0
D37: Gilet polaire sans manches | E37: KBK906 | F37: Naturel | O37: =SUM(H37:N37) -> 0 | P37: 16 | Q37: =O37*P37 -> 0
D38: Gilet polaire sans manches | E38: KBK906 | F38: Fushia | O38: =SUM(H38:N38) -> 0 | P38: 16 | Q38: =O38*P38 -> 0
... D41: Gilet polaire sans manches | E41: KBK906 | F41: Navy | O41: =SUM(H41:N41) -> 0 | P41: 16 | Q41: =O41*P41 -> 0
O42: TOTAL H.T. | Q42: =SUM(Q4:Q41) -> 0
O43: TVA 20% | Q43: =Q42*0.2 -> 0
O44: TOTAL T.T.C. | Q44: =SUM(Q42:Q43) -> 0
D49: white
D50: navy
D51: aqua blue
D56: sand
D57: light pink

Sheet Sweat_Polaire_Bodywarmer_HOMME
B1: =Chemiserie!C3 -> 0 | D1: ='Polos_Tshirt_Débardeur HOMME'!B1 -> 0 | H1: =Chemiserie!H3 -> 0 | M1: =Chemiserie!P3 -> 0
C3: Genre | D3: Produits | E3: Référence | F3: Coloris vêtement | G3: XS | H3: S | I3: M | J3: L | K3: XL | L3: XXL | M3: 3XL | N3: 4XL | O3: TOTAL QTE | P3: P.U. H.T. | Q3: TOTAL H.T.
C4: MIXTE | D4: Veste sweat-shirt full zip mixte | E4: FL621600 | F4: White | O4: =SUM(H4:N4) -> 0 | P4: 17.5 | Q4: =O4*P4 -> 0
D5: Veste sweat-shirt full zip mixte | E5: FL621600 | F5: Azure Blue | O5: =SUM(H5:N5) -> 0 | P5: 17.5 | Q5: =O5*P5 -> 0
D6: Veste sweat-shirt full zip mixte | E6: FL621600 | F6: Fushia | O6: =SUM(H6:N6) -> 0 | P6: 17.5 | Q6: =O6*P6 -> 0
D7: Veste sweat-shirt full zip mixte | E7: FL621600 | F7: Royal | O7: =SUM(H7:N7) -> 0 | P7: 17.5 | Q7: =O7*P7 -> 0
D8: Veste sweat-shirt full zip mixte | E8: FL621600 | F8: Navy | O8: =SUM(H8:N8) -> 0 | P8: 17.5 | Q8: =O8*P8 -> 0
C9: HOMME | D9: Produits | E9: Référence | F9: Coloris vêtement | G9: XS | H9: S | I9: M | J9: L | K9: XL | L9: XXL | M9: 3XL | N9: 4XL | O9: TOTAL QTE | P9: P.U. H.T. | Q9: TOTAL H.T.
D10: Pull homme Col V | E10: KBK965 | F10: Light royal blue | O10: =SUM(H10:N10) -> 0 | P10: 26 | Q10: =O10*P10 -> 0
D11: Pull homme Col V | E11: KBK965 | F11: Grey | O11: =SUM(H11:N11) -> 0 | P11: 26 | Q11: =O11*P11 -> 0
D12: Sweat-shirt col rond | E12: FL621380 | F12: White | O12: =SUM(H12:N12) -> 0 | P12: 12.5 | Q12: =O12*P12 -> 0
D13: Sweat-shirt col rond | E13: FL621380 | F13: Azure Blue | O13: =SUM(H13:N13) -> 0 | P13: 12.5 | Q13: =O13*P13 -> 0
D14: Sweat-shirt col rond | E14: FL621380 | F14: Fushia | O14: =SUM(H14:N14) -> 0 | P14: 12.5 | Q14: =O14*P14 -> 0
D15: Sweat-shirt col rond | E15: FL621380 | F15: Deep Navy | O15: =SUM(H15:N15) -> 0 | P15: 12.5 | Q15: =O15*P15 -> 0
D16: Sweat-shirt col rond | E16: GI18000 | F16: Sand | O16: =SUM(H16:N16) -> 0 | P16: 12.5 | Q16: =O16*P16 -> 0
D17: Sweat-shirt col rond | E17: GI18000 | F17: Light Pink | O17: =SUM(H17:N17) -> 0 | P17: 12.5 | Q17: =O17*P17 -> 0
D18: Sweat-shirt capuche poche ventrale | E18: FL622080 | F18: White | O18: =SUM(H18:N18) -> 0 | P18: 16.5 | Q18: =O18*P18 -> 0
D19: Sweat-shirt capuche poche ventrale | E19: FL622080 | F19: Azure Blue | O19: =SUM(H19:N19) -> 0 | P19: 16.5 | Q19: =O19*P19 -> 0
D20: Sweat-shirt capuche poche ventrale | E20: FL622080 | F20: Deep Navy | O20: =SUM(H20:N20) -> 0 | P20: 16.5 | Q20: =O20*P20 -> 0
D21: Sweat-shirt capuche poche ventrale | E21: FL622080 | F21: Royal | O21: =SUM(H21:N21) -> 0 | P21: 16.5 | Q21: =O21*P21 -> 0
... D41: Gilet polaire sans manches | E41: KBK913 | F41: Navy | O41: =SUM(H41:N41) -> 0 | P41: 17 | Q41: =O41*P41 -> 0
O42: TOTAL H.T. | Q42: =SUM(Q4:Q41) -> 0
O43: TVA 20% | Q43: =Q42*0.2 -> 0
O44: TOTAL T.T.C. | Q44: =SUM(Q42:Q43) -> 0
D49: white
D50: navy
D51: aqua blue
D56: sand
D57: light pink

Sheet Coupe vent_Softshell_Parka
B1: =Chemiserie!C3 -> 0 | F1: =Sweat_Polaire_Bodywarmer_HOMME!H1 -> 0 | L1: =Sweat_Polaire_Bodywarmer_HOMME!M1 -> 0
A3: Genre | B3: Produits | C3: Référence | D3: Coloris vêtement | E3: XS | F3: S | G3: M | H3: L | I3: XL | J3: XXL | K3: 3XL | L3: 4XL | M3: TOTAL QTE | N3: P.U. H.T. | O3: TOTAL H.T.
A4: FEMME | B4: Coupe vent non doublé | C4: BCJW902 | D4: White | M4: =SUM(E4:J4) -> 0 | N4: 13.5 | O4: =M4*N4 -> 0
B5: Coupe vent non doublé | C5: BCJW902 | D5: Royal | M5: =SUM(E5:J5) -> 0 | N5: 13.5 | O5: =M5*N5 -> 0
B6: Coupe vent non doublé | C6: BCJW902 | D6: Navy | M6: =SUM(E6:J6) -> 0 | N6: 13.5 | O6: =M6*N6 -> 0
B7: Coupe vent doublé | C7: BCJW826 | D7: White | M7: =SUM(E7:J7) -> 0 | N7: 32 | O7: =M7*N7 -> 0
B8: Coupe vent doublé | C8: BCJW826 | D8: Atoll | M8: =SUM(E8:J8) -> 0 | N8: 32 | O8: =M8*N8 -> 0
B9: Coupe vent doublé | C9: BCJW826 | D9: Navy | M9: =SUM(E9:J9) -> 0 | N9: 32 | O9: =M9*N9 -> 0
B10: Veste softshell full zip | C10: KBK400 | D10: White | M10: =SUM(F10:L10) -> 0 | N10: 36.5 | O10: =M10*N10 -> 0
B11: Veste softshell full zip | C11: KBK400 | D11: Aqua Blue | M11: =SUM(F11:L11) -> 0 | N11: 36.5 | O11: =M11*N11 -> 0
B12: Veste softshell full zip | C12: KBK400 | D12: Navy | M12: =SUM(F12:L12) -> 0 | N12: 36.5 | O12: =M12*N12 -> 0
B13: Parka doudoune légère femme | C13: KBK6129 | D13: Black | M13: =SUM(E13:J13) -> 0 | N13: 59 | O13: =M13*N13 -> 0
B14: Parka doudoune légère femme | C14: KBK6129 | D14: Navy | M14: =SUM(E14:J14) -> 0 | N14: 59 | O14: =M14*N14 -> 0
A15: HOMME & MIXTE | B15: Produits | C15: Référence | D15: Coloris vêtement | E15: S | F15: S | G15: M | H15: L | I15: XL | J15: XXL | K15: 3XL | L15: 4XL | M15: TOTAL QTE | N15: P.U. H.T. | O15: TOTAL H.T.
B16: Coupe vent non doublé | C16: BCJU800 | D16: White | M16: =SUM(F16:J16) -> 0 | N16: 13.5 | O16: =M16*N16 -> 0
B17: Coupe vent non doublé | C17: BCJU800 | D17: Royal | M17: =SUM(F17:J17) -> 0 | N17: 13.5 | O17: =M17*N17 -> 0
B18: Coupe vent non doublé | C18: BCJU800 | D18: Navy | M18: =SUM(F18:J18) -> 0 | N18: 13.5 | O18: =M18*N18 -> 0
B19: Coupe vent doublé | C19: BCJM825 | D19: White | M19: =SUM(F19:K19) -> 0 | N19: 32 | O19: =M19*N19 -> 0
B20: Coupe vent doublé | C20: BCJM825 | D20: Atoll | M20: =SUM(F20:K20) -> 0 | N20: 32 | O20: =M20*N20 -> 0
B21: Coupe vent doublé | C21: BCJM825 | D21: Navy | M21: =SUM(F21:K21) -> 0 | N21: 32 | O21: =M21*N21 -> 0
B22: Veste softshell full zip | C22: KBK401 | D22: White | M22: =SUM(F22:L22) -> 0 | N22: 38 | O22: =M22*N22 -> 0
B23: Veste softshell full zip | C23: KBK401 | D23: Aqua Blue | M23: =SUM(F23:L23) -> 0 | N23: 38 | O23: =M23*N23 -> 0
B24: Veste softshell full zip | C24: KBK401 | D24: Navy | M24: =SUM(F24:L24) -> 0 | N24: 38 | O24: =M24*N24 -> 0
B25: Parka doudoune légère homme | C25: KBK6128 | D25: Black | M25: =SUM(F25:K25) -> 0 | N25: 59 | O25: =M25*N25 -> 0
B26: Parka doudoune légère homme | C26: KBK6128 | D26: Navy | M26: =SUM(F26:K26) -> 0 | N26: 59 | O26: =M26*N26 -> 0
B27: Coupe vent doublé | C27: RATRW461 | D27: Navy | M27: =SUM(E27:K27) -> 0 | N27: 36.5 | O27: =M27*N27 -> 0
B28: Coupe vent doublé | C28: RATRW461 | D28: Oxford Blue | M28: =SUM(E28:K28) -> 0 | N28: 36.5 | O28: =M28*N28 -> 0
M29: TOTAL H.T. | O29: =SUM(O6:O28) -> 0
M30: TVA 20% | O30: =O29*0.2 -> 0
M31: TOTAL T.T.C. | O31: =SUM(O29:O30) -> 0
B36: white
B37: navy
B38: aqua blue
B43: sand
B44: light pink

Sheet Jupe_Pantalon_Bermuda_casquette
B1: =Chemiserie!C3 -> 0 | G1: =Chemiserie!H3 -> 0 | M1: =Chemiserie!P3 -> 0
A3: PRODUITS NON MARQUES sauf CASQUETTE BAHIA
A5: Genre | B5: Produits | C5: Référence | D5: Coloris vêtement | E5: XS | F5: S | G5: M | H5: L | I5: XL | J5: XXL | K5: 3XL | L5: 4XL | M5: 50 | N5: 52 | O5: 54 | P5: 56 | Q5: 58 | R5: TOTAL QTE | S5: P.U. H.T. | T5: TOTAL H.T.
A6: MIXTE | B6: Casquette BAHIA | C6: KP013 | D6: White | R6: =SUM(F6:Q6) -> 0 | S6: 7 | T6: =R6*S6 -> 0
B7: Casquette BAHIA | C7: KP013 | D7: Sky Blue | R7: =SUM(F7:Q7) -> 0 | S7: 7 | T7: =R7*S7 -> 0
B8: Casquette BAHIA | C8: KP013 | D8: Royal Blue | R8: =SUM(F8:Q8) -> 0 | S8: 7 | T8: =R8*S8 -> 0
B9: Casquette BAHIA | C9: KP013 | D9: Forest Green | R9: =SUM(F9:Q9) -> 0 | S9: 7 | T9: =R9*S9 -> 0
B10: Casquette BAHIA | C10: KP013 | D10: Fuchsia | R10: =SUM(F10:Q10) -> 0 | S10: 7 | T10: =R10*S10 -> 0
B11: Pantalon ménage mixte | C11: PRPA186 | D11: Black | R11: =SUM(E11:L11) -> 0 | S11: 19 | T11: =R11*S11 -> 0
B12: Pantalon ménage mixte | C12: PRPA186 | D12: Dark Grey | R12: =SUM(E12:L12) -> 0 | S12: 19 | T12: =R12*S12 -> 0
B13: Pantalon ménage mixte | C13: PRPA186 | D13: Light royal Blue | R13: =SUM(E13:L13) -> 0 | S13: 19 | T13: =R13*S13 -> 0
B14: Pantalon ménage mixte | C14: PRPA186 | D14: Navy | R14: =SUM(E14:L14) -> 0 | S14: 19 | T14: =R14*S14 -> 0
B15: Pantalon ménage mixte | C15: PRPA186 | D15: Oxford grey | R15: =SUM(E15:L15) -> 0 | S15: 19 | T15: =R15*S15 -> 0
B16: Produits | C16: Référence | D16: Coloris vêtement | E16: 34 | F16: 36 | G16: 38 | H16: 40 | I16: 42 | J16: 44 | K16: 46 | L16: 48 | M16: 50 | N16: 52 | O16: 54 | P16: 56 | Q16: 58 | R16: TOTAL QTE | S16: P.U. H.T. | T16: TOTAL H.T.
B17: Pantalon de travail mixte | C17: DIDED247 | D17: Beige / Black | R17: =SUM(F17:O17) -> 0 | S17: 26.5 | T17: =S17*R17 -> 0
B18: Pantalon de travail mixte | C18: DIDED247 | D18: Navy / Grey | R18: =SUM(F18:O18) -> 0 | S18: 26.5 | T18: =S18*R18 -> 0
B19: Pantalon de travail mixte | C19: DIDED247 | D19: Grey / Black | R19: =SUM(F19:O19) -> 0 | S19: 26.5 | T19: =S19*R19 -> 0
B20: Produits | C20: Référence | D20: Coloris vêtement | F20: T0 (36/38) | H20: T1 (40/42) | J20: T2 (44/46) | L20: T3 (48/50) | N20: T4 (52/54) | P20: T5 (65/58) | R20: TOTAL QTE | S20: P.U. H.T. | T20: TOTAL H.T.
B21: Pantalon de travail mixte | C21: CE90549883 | D21: Gris Charcoal | R21: =SUM(F21:Q21) -> 0 | S21: 46 | T21: =S21*R21 -> 0
B22: Pantalon de travail mixte | C22: CE90549883 | D22: Savane | R22: =SUM(F22:Q22) -> 0 | S22: 46 | T22: =S22*R22 -> 0
B23: Pantalon de travail mixte | C23: CE90549883 | D23: Marron | R23: =SUM(F23:Q23) -> 0 | S23: 46 | T23: =S23*R23 -> 0
B24: Pantalon de travail mixte | C24: CE90549883 | D24: Gris Convoy | R24: =SUM(F24:Q24) -> 0 | S24: 46 | T24: =S24*R24 -> 0
B25: Pantalon de travail mixte | C25: CE90698053 | D25: Gris graphite | R25: =SUM(F25:Q25) -> 0 | S25: 36 | T25: =S25*R25 -> 0
B26: Pantalon de travail mixte | C26: CE90698053 | D26: Beige | R26: =SUM(F26:Q26) -> 0 | S26: 36 | T26: =S26*R26 -> 0
B27: Pantalon de travail mixte | C27: CE90698053 | D27: Noir | R27: =SUM(F27:Q27) -> 0 | S27: 36 | T27: =S27*R27 -> 0
B28: Bermuda de travail mixte | C28: CE98519883 | D28: Savane | R28: =SUM(F28:Q28) -> 0 | S28: 29 | T28: =S28*R28 -> 0
B29: Bermuda de travail mixte | C29: CE98519883 | D29: Marron | R29: =SUM(F29:Q29) -> 0 | S29: 29 | T29: =S29*R29 -> 0
B30: Bermuda de travail mixte | C30: CE98519883 | D30: Gris Convoy | R30: =SUM(F30:Q30) -> 0 | S30: 29 | T30: =S30*R30 -> 0
A31: Genre | B31: Produits | C31: Référence | D31: Coloris vêtement | E31: 34 | F31: 36 | G31: 38 | H31: 40 | I31: 42 | J31: 44 | K31: 46 | L31: 48 | M31: 50 | N31: 52 | O31: 54 | P31: 56 | Q31: 58 | R31: TOTAL QTE | S31: P.U. H.T. | T31: TOTAL H.T.
A32: FEMME | B32: Pantalon chino | C32: KBK741 | D32: Beige | R32: =SUM(E32:L32) -> 0 | S32: 25 | T32: =R32*S32 -> 0
B33: Pantalon chino | C33: KBK741 | D33: Dark Navy | R33: =SUM(E33:L33) -> 0 | S33: 25 | T33: =R33*S33 -> 0
B34: Pantalon chino | C34: KBK741 | D34: Black | R34: =SUM(E34:L34) -> 0 | S34: 25 | T34: =R34*S34 -> 0
B35: Bermuda chino | C35: KBK751 | D35: Beige | R35: =SUM(E35:L35) -> 0 | S35: 20.5 | T35: =R35*S35 -> 0
B36: Bermuda chino | C36: KBK751 | D36: Dark Navy | R36: =SUM(E36:L36) -> 0 | S36: 20.5 | T36: =R36*S36 -> 0
B37: Bermuda chino | C37: KBK751 | D37: Black | R37: =SUM(E37:L37) -> 0 | S37: 20.5 | T37: =R37*S37 -> 0
B38: Bermuda femme | C38: KBK764 | D38: Washed Blue | R38: =SUM(E38:L38) -> 0 | S38: 28 | T38: =R38*S38 -> 0
B39: Bermuda femme | C39: KBK764 | D39: Washed Navy | R39: =SUM(E39:L39) -> 0 | S39: 28 | T39: =R39*S39 -> 0
B40: Bermuda femme | C40: KBK764 | D40: Washed White | R40: =SUM(E40:L40) -> 0 | S40: 28 | T40: =R40*S40 -> 0
B41: Jupe Chino AUSTIN | C41: BV2302 | D41: Navy | R41: =SUM(E41:L41) -> 0 | S41: 35 | T41: =R41*S41 -> 0
B42: Jupe Chino AUSTIN | C42: BV2302 | D42: Beige | R42: =SUM(E42:L42) -> 0 | S42: 35 | T42: =R42*S42 -> 0
B43: Jupe Chino AUSTIN | C43: BV2302 | D43: Grey | R43: =SUM(E43:L43) -> 0 | S43: 35 | T43: =R43*S43 -> 0
B44: Jupe Chino AUSTIN | C44: BV2302 | D44: Black | R44: =SUM(E44:L44) -> 0 | S44: 35 | T44: =R44*S44 -> 0
... B46: Pantalon ménage FEMME | C46: PRPA536 | D46: Grey Heather | R46: =SUM(E46:L46) -> 0 | S46: 25 | T46: =R46*S46 -> 0
B47: Produits | C47: Référence | D47: Coloris vêtement | E47: XS | F47: S | G47: M | H47: L | I47: XL | J47: XXL | K47: 3XL | L47: 4XL | M47: 50 | N47: 52 | O47: 54 | P47: 56 | Q47: 58 | R47: TOTAL QTE | S47: P.U. H.T. | T47: TOTAL H.T.
B48: Pantalon ménage FEMME | C48: PRPA1003 | D48: Black | R48: =SUM(E48:L48) -> 0 | S48: 35 | T48: =R48*S48 -> 0
A49: HOMME | B49: Produits | C49: Référence | D49: Coloris vêtement | E49: 34 | F49: 36 | G49: 38 | H49: 40 | I49: 42 | J49: 44 | K49: 46 | L49: 48 | M49: 50 | N49: 52 | O49: 54 | P49: 56 | Q49: 58 | R49: TOTAL QTE | S49: P.U. H.T.
B50: Pantalon chino | C50: KBK740 | D50: Beige | R50: =SUM(G50:O50) -> 0 | S50: 25 | T50: =R50*S50 -> 0
B51: Pantalon chino | C51: KBK740 | D51: Dark Navy | R51: =SUM(G51:O51) -> 0 | S51: 25 | T51: =R51*S51 -> 0
B52: Pantalon chino | C52: KBK740 | D52: Black | R52: =SUM(G52:O52) -> 0 | S52: 25 | T52: =R52*S52 -> 0
B53: Bermuda chino | C53: KBK750 | D53: Beige | R53: =SUM(G53:O53) -> 0 | S53: 20.5 | T53: =R53*S53 -> 0
B54: Bermuda chino | C54: KBK750 | D54: Dark Navy | R54: =SUM(G54:O54) -> 0 | S54: 20.5 | T54: =R54*S54 -> 0
B55: Bermuda chino | C55: KBK750 | D55: Black | R55: =SUM(G55:O55) -> 0 | S55: 20.5 | T55: =R55*S55 -> 0
B56: Bermuda chino | C56: KBK765 | D56: Washed Blue | R56: =SUM(G56:O56) -> 0 | S56: 30 | T56: =R56*S56 -> 0
B57: Bermuda chino | C57: KBK765 | D57: Washed Navy | R57: =SUM(G57:O57) -> 0 | S57: 30 | T57: =R57*S57 -> 0
B58: Bermuda chino | C58: KBK765 | D58: Washed White | R58: =SUM(G58:O58) -> 0 | S58: 30 | T58: =R58*S58 -> 0
R59: TOTAL H.T. | T59: =SUM(T34:T58) -> 0
R60: TVA 20% | T60: =T59*0.2 -> 0
R61: TOTAL T.T.C. | T61: =SUM(T59:T60) -> 0
B67: gris graphite/noir | C67: navy/noir
B68: beige/noir | C68: savane/noir
B69: noir/gris graphite | C69: marron/noir
C70: gris convoy/noir
B72: savane/noir
B73: marron/noir
B74: gris convoy

Sheet Animation_Clubs
B1: =Chemiserie!C3 -> 0 | F1: =Sweat_Polaire_Bodywarmer_HOMME!H1 -> 0 | L1: =Sweat_Polaire_Bodywarmer_HOMME!M1 -> 0
A3: Club | B3: Produits | C3: Références | D3: Coloris vêtements | E3: XS | F3: S | G3: M | H3: L | I3: XL | J3: XXL | K3: 3XL | L3: 4XL | M3: TOTAL QTE | N3: P.U. H.T. | O3: TOTAL H.T.
A4: CLUB PIRATES | B4: Débardeur femme Pirates | C4: JNJN902 | D4: bleu royal | M4: =SUM(F4:J4) -> 0 | N4: 12 | O4: =M4*N4 -> 0
B5: Débardeur femme Pirates | C5: BE8780 | D5: light pink | M5: =SUM(F5:I5) -> 0 | N5: 17 | O5: =M5*N5 -> 0
B6: Débardeur homme Pirates | C6: BCTM200 | D6: royal blue | M6: =SUM(G6:J6) -> 0 | N6: 11.5 | O6: =M6*N6 -> 0
B7: Tee-shirt femme Pirates | C7: FL613720 | D7: light pink | M7: =SUM(E7:J7) -> 0 | N7: 10.5 | O7: =M7*N7 -> 0
B8: Tee-shirt femme Pirates | C8: FL613720 | D8: royal blue | M8: =SUM(E8:J8) -> 0 | N8: 10.5 | O8: =M8*N8 -> 0
B9: Tee-shirt homme Pirates | C9: FL610360 | D9: light pink | M9: =SUM(F9:J9) -> 0 | N9: 10.5 | O9: =M9*N9 -> 0
B10: Tee-shirt homme Pirates | C10: FL610360 | D10: royal blue | M10: =SUM(F10:J10) -> 0 | N10: 10.5 | O10: =M10*N10 -> 0
B11: Sweat mxite full zip Pirates | C11: FL621600 | D11: royal blue | M11: =SUM(F11:J11) -> 0 | N11: 20.5 | O11: =M11*N11 -> 0
B12: Sweat capuche femme full zip Pirates | C12: FL621500 | D12: royal blue | M12: =SUM(E12:J12) -> 0 | N12: 20 | O12: =M12*N12 -> 0
B13: Sweat capuche homme full zip Pirates | C13: FL621440 | D13: royal blue | M13: =SUM(F13:J13) -> 0 | N13: 21 | O13: =M13*N13 -> 0
A14: CLUB BUBBLES | B14: Débardeur femme Bubbles | C14: JNJN902 | D14: bleu royal | M14: =SUM(F14:J14) -> 0 | N14: 12 | O14: =M14*N14 -> 0
B15: Débardeur femme Bubbles | C15: BE8780 | D15: light pink | M15: =SUM(F15:I15) -> 0 | N15: 17 | O15: =M15*N15 -> 0
B16: Débardeur homme Bubbles | C16: BCTM200 | D16: royal blue | M16: =SUM(G16:J16) -> 0 | N16: 11.5 | O16: =M16*N16 -> 0
B17: Tee-shirt femme Bubbles | C17: FL613720 | D17: light pink | M17: =SUM(E17:J17) -> 0 | N17: 10.5 | O17: =M17*N17 -> 0
B18: Tee-shirt femme Bubbles | C18: FL613720 | D18: royal blue | M18: =SUM(E18:J18) -> 0 | N18: 10.5 | O18: =M18*N18 -> 0
B19: Tee-shirt homme Bubbles | C19: FL610360 | D19: light pink | M19: =SUM(F19:J19) -> 0 | N19: 10.5 | O19: =M19*N19 -> 0
B20: Tee-shirt homme Bubbles | C20: FL610360 | D20: royal blue | M20: =SUM(F20:J20) -> 0 | N20: 10.5 | O20: =M20*N20 -> 0
B21: Sweat mxite full zip Bubbles | C21: FL621600 | D21: royal blue | M21: =SUM(F21:J21) -> 0 | N21: 20.5 | O21: =M21*N21 -> 0
B22: Sweat capuche femme full zip Bubbles | C22: FL621500 | D22: royal blue | M22: =SUM(E22:J22) -> 0 | N22: 20 | O22: =M22*N22 -> 0
B23: Sweat capuche homme full zip Bubbles | C23: FL621440 | D23: royal blue | M23: =SUM(F23:J23) -> 0 | N23: 21 | O23: =M23*N23 -> 0
A24: CLUB BARRACUDAS | B24: Débardeur femme Barracudas | C24: JNJN902 | D24: bleu royal | M24: =SUM(F24:J24) -> 0 | N24: 12 | O24: =M24*N24 -> 0
B25: Débardeur femme Barracudas | C25: BE8780 | D25: light pink | M25: =SUM(F25:I25) -> 0 | N25: 17 | O25: =M25*N25 -> 0
B26: Débardeur homme Barracudas | C26: BCTM200 | D26: royal blue | M26: =SUM(G26:J26) -> 0 | N26: 11.5 | O26: =M26*N26 -> 0
B27: Tee-shirt femme Barracudas | C27: FL613720 | D27: light pink | M27: =SUM(E27:J27) -> 0 | N27: 10.5 | O27: =M27*N27 -> 0
B28: Tee-shirt femme Barracudas | C28: FL613720 | D28: royal blue | M28: =SUM(E28:J28) -> 0 | N28: 10.5 | O28: =M28*N28 -> 0
B29: Tee-shirt homme Barracudas | C29: FL610360 | D29: light pink | M29: =SUM(F29:J29) -> 0 | N29: 10.5 | O29: =M29*N29 -> 0
B30: Tee-shirt homme Barracudas | C30: FL610360 | D30: royal blue | M30: =SUM(F30:J30) -> 0 | N30: 10.5 | O30: =M30*N30 -> 0
B31: Sweat mxite full zip Barracudas | C31: FL621600 | D31: royal blue | M31: =SUM(F31:J31) -> 0 | N31: 20.5 | O31: =M31*N31 -> 0
B32: Sweat capuche femme full zip Barracudas | C32: FL621500 | D32: royal blue | M32: =SUM(E32:J32) -> 0 | N32: 20 | O32: =M32*N32 -> 0
B33: Sweat capuche homme full zip Barracudas | C33: FL621440 | D33: royal blue | M33: =SUM(F33:J33) -> 0 | N33: 20 | O33: =M33*N33 -> 0
M34: TOTAL H.T | O34: =SUM(O4:O33) -> 0
M35: TVA 20% | O35: =O34*0.2 -> 0
M36: TOTAL TTC. | O36: =O34+O35 -> 0

Sheet Sauveteurs
B1: =Chemiserie!C3 -> 0 | F1: =Sweat_Polaire_Bodywarmer_HOMME!H1 -> 0 | L1: =Sweat_Polaire_Bodywarmer_HOMME!M1 -> 0
A3: Genre | B3: Produits | C3: Références | D3: Coloris vêtements | E3: XS | F3: S | G3: M | H3: L | I3: XL | J3: XXL | K3: 3XL | L3: TOTAL QTE | M3: P.U. H.T. | N3: TOTAL H.T.
A4: MIXTE | B4: Tee-shirt manches longues sport MNS | C4: PR PA443 | D4: rouge | L4: =SUM(E4:J4) -> 0 | M4: 11.9 | N4: =L4*M4 -> 0
B5: Survêtement veste + pantalon MNS | C5: JNJN486 | D5: rouge/blanc | L5: =SUM(F5:J5) -> 0 | M5: 64 | N5: =L5*M5 -> 0
A6: FEMME | B6: Débardeur 100% coton MNS | C6: FL613760 | D6: rouge | L6: =SUM(E6:J6) -> 0 | M6: 8.5 | N6: =L6*M6 -> 0
B7: Débardeur sport MNS | C7: PRPA442 | D7: rouge | L7: =SUM(E7:I7) -> 0 | M7: 9.9 | N7: =L7*M7 -> 0
B8: Tee-shirt manches courtes 100% coton MNS | C8: BCTW012 | D8: rouge | L8: =SUM(E8:I8) -> 0 | M8: 8.9 | N8: =L8*M8 -> 0
B9: Tee-shirt manches courtes sport MNS | C9: PRPA439 | D9: rouge | L9: =SUM(E9:I9) -> 0 | M9: 9.9 | N9: =L9*M9 -> 0
B10: Polo manches courtes sport MNS | C10: PR PA483 | D10: rouge | L10: =SUM(F10:I10) -> 0 | M10: 15.9 | N10: =L10*M10 -> 0
B11: Sweat-shirt capuche full zip MNS | C11: CL021035 | D11: rouge | L11: =SUM(E11:J11) -> 0 | M11: 23 | N11: =L11*M11 -> 0
B12: Coupe-vent non doublé MNS | C12: BCJW902 | D12: rouge | L12: =SUM(E12:J12) -> 0 | M12: 16.5 | N12: =L12*M12 -> 0
B13: Coupe-vent doublé MNS | C13: BCJW962 | D13: rouge | L13: =SUM(E13:J13) -> 0 | M13: 42 | N13: =L13*M13 -> 0
B14: Short MNS | C14: SKSK069 | D14: rouge/blanc | L14: =SUM(E14:I14) -> 0 | M14: 8 | N14: =L14*M14 -> 0
A15: HOMME | B15: Débardeur 100% coton MNS | C15: FL610980 | D15: rouge | L15: =SUM(F15:J15) -> 0 | M15: 8.9 | N15: =L15*M15 -> 0
B16: Débardeur sport MNS | C16: PRPA441 | D16: rouge | L16: =SUM(E16:J16) -> 0 | M16: 9.9 | N16: =L16*M16 -> 0
B17: Tee-shirt manches courtes 100% coton MNS | C17: BCTU002 | D17: rouge | L17: =SUM(E17:J17) -> 0 | M17: 8.9 | N17: =L17*M17 -> 0
B18: Tee-shirt manches courtes sport MNS | C18: PRPA438 | D18: rouge | L18: =SUM(E18:K18) -> 0 | M18: 9.9 | N18: =L18*M18 -> 0
B19: Polo manches courtes sport MNS | C19: PRPA482 | D19: rouge | L19: =SUM(F19:K19) -> 0 | M19: 16.9 | N19: =L19*M19 -> 0
B20: Sweat-shirt capuche full zip MNS | C20: CL021034 | D20: rouge | L20: =SUM(E20:J20) -> 0 | M20: 23 | N20: =L20*M20 -> 0
B21: Coupe-vent non doublé MNS | C21: BCJU800 | D21: rouge | L21: =SUM(F21:J21) -> 0 | M21: 16.5 | N21: =L21*M21 -> 0
B22: Coupe-vent doublé MNS | C22: BCJM961 | D22: rouge | L22: =SUM(F22:K22) -> 0 | M22: 42 | N22: =L22*M22 -> 0
B23: Short de bain MNS | C23: PRPA119 | D23: rouge | L23: =SUM(E23:K23) -> 0 | M23: 12.5 | N23: =L23*M23 -> 0
L24: TOTAL H.T | N24: =SUM(N6:N23) -> 0
L25: TVA 20% | N25: =N24*0.2 -> 0
L26: TOTAL TTC. | N26: =N24+N25 -> 0

Sheet BDC RECAP
E3: RECAPITULATIF COMMANDE 2019
C9: NOM DU SITE : | D9: =Sauveteurs!B1 -> 0
C11: INTERLOCUTEUR : | D11: =Sauveteurs!F1 -> 0 | M11: DATE DE COMMANDE : | R11: =Sauveteurs!L1 -> 0
A13: RUBRIQUE | R13: HT
A14: Chemiserie | R14: =Chemiserie!Q28 -> 0
A15: Polos - Tee-shirts - Débardeurs - FEMME | R15: ='Polos_Tshirt_Débardeur FEMME'!N45 -> 0
A16: Polos - Tee-shirts - Débardeurs - HOMME | R16: ='Polos_Tshirt_Débardeur HOMME'!P48 -> 0
A17: Sweat - Polaires - Bodywarmer - FEMME | R17: =Sweat_Polaire_Bodywarmer_FEMME!Q42 -> 0
A18: Sweat - Polaires - Bodywarmer - HOMME | R18: =Sweat_Polaire_Bodywarmer_HOMME!Q42 -> 0
A19: Coupe vent - Softshell - Parka | R19: ='Coupe vent_Softshell_Parka'!O29 -> 0
A20: Jupe - Pantalon - Bermuda - Casquette | R20: =Jupe_Pantalon_Bermuda_casquette!T59 -> 0
A21: Animation Clubs | R21: =Animation_Clubs!O34 -> 0
A22: Sauveteurs Lifeguards | R22: =Sauveteurs!N24 -> 0
A24: TOTAL H.T. | R24: =SUM(R14:R23) -> 0
A25: TVA 20% | R25: =R24*0.2 -> 0
A26: TOTAL T.T.C. | R26: =R25+R24 -> 0
