Workbook
Name Adresse: #REF!
Name Excel_BuiltIn__FilterDatabase_1: '[1]Contacts Sc 1 & 2'!#REF!
Name Excel_BuiltIn_Print_Titles_1_1: ('[1]Contacts Sc 1 & 2'!$B:$C,'[1]Contacts Sc 1 & 2'!$A$5:$IL$6)
Name Excel_BuiltIn_Print_Titles_2_1: ('[1]Logistique Sc 1 & 2'!$B:$C,'[1]Logistique Sc 1 & 2'!$3:$5)
Name Excel_BuiltIn_Print_Titles_2_1_1: ('[1]Logistique Sc 1 & 2'!$B:$C,'[1]Logistique Sc 1 & 2'!$3:$5)
Name HOTEL: #REF!
Name kmdejvl: ('[1]Logistique Sc 1 & 2'!$B:$C,'[1]Logistique Sc 1 & 2'!$3:$5)
Name NOM: Listes!$D$2:$D$17
Name TEL: #REF!
Name test: '[1]Contacts Sc 1 & 2'!#REF!

Sheet INFOS GROUPES
A1: 1 | B1: =A1+1 -> 2 | C1: =B1+1 -> 3 | D1: =C1+1 -> 4 | E1: =D1+1 -> 5 | F1: =E1+1 -> 6 | G1: =F1+1 -> 7 | H1: =G1+1 -> 8 | I1: =H1+1 -> 9 | ... M1: =L1+1 -> 13 | N1: =#REF!+1 -> #REF!
A2: DATE | B2: NOM | C2: GET IN | D2: INSTALL | F2: LINECHECK | H2: HORAIRE PDJ | I2: HORAIRE DEJEUNER | J2: HORAIRE DINER | K2: SHOW | M2: DURÉE SET | N2: Arrivée
A3: 43658 | B3: NOM 1 | C3: =IF(B3=0,0,IF(H3<>0,H3,IF(I3<>0,MOD(I3-Listes!$A$6,1),MOD('INFOS GROUPES'!D3-Listes!$A$12,1)))) -> 0.6875 | D3: =IF(B3=0,0,MOD(E3-Listes!$A$15,1)) -> 0.72916667 | E3: =F3 -> 0.78125 | F3: =IF(B3=0,0,MOD(G3-Listes!$A$15,1)) -> 0.78125 | G3: =K3 -> 0.83333333 | H3: =IF(B3=0,0,IF(AND(N3<Listes!$C$5,'INFOS GROUPES'!N3<>0),Listes!$C$5,IF(AND(N3<Listes!$C$1,'INFOS GROUPES'!N3<>0),N3,0))) -> 0 | I3: =IF(B3=0,0,IF('INFOS GROUPES'!D3<=Listes!$C$2,MOD('INFOS GROUPES'!D3-Listes!$A$12,1),IF(AND('INFOS GROUPES'!N3<=Listes!$C$1,'INFOS GROUPES'!N3<>0),Listes!$C$6,IF(AND('INFOS GROUPES'!N3<=Listes!$C$2,'INFOS GROUPES'!N3<>0),'INFOS GROUPES'!N3,0)))) -> 0 | J3: =IF(B3=0,0,IF((IF(D3>Listes!$C$3,MOD('INFOS GROUPES'!D3-Listes!$A$12,1),MOD('INFOS GROUPES'!L3+Listes!$A$9,1)))<Listes!$C$4,Listes!$C$4,IF(D3>Listes!$C$3,MOD('INFOS GROUPES'!D3-Listes!$A$12,1),MOD('INFOS GROUPES'!L3+Listes!$A$9,1)))) -> 0.90625 | K3: 0.83333333 | L3: =K3+M3 -> 0.875 | M3: 0.041666667
A4: 43658 | B4: NOM 2 | C4: =IF(B4=0,0,IF(H4<>0,H4,IF(I4<>0,MOD(I4-Listes!$A$6,1),MOD('INFOS GROUPES'!D4-Listes!$A$12,1)))) -> 0.78125 | D4: =IF(B4=0,0,MOD(E4-Listes!$A$15,1)) -> 0.82291667 | E4: =F4 -> 0.875 | F4: =IF(B4=0,0,MOD(G4-Listes!$A$15,1)) -> 0.875 | G4: =K4 -> 43658.927 | H4: =IF(B4=0,0,IF(AND(N4<Listes!$C$5,'INFOS GROUPES'!N4<>0),Listes!$C$5,IF(AND(N4<Listes!$C$1,'INFOS GROUPES'!N4<>0),N4,0))) -> 0 | I4: =IF(B4=0,0,IF('INFOS GROUPES'!D4<=Listes!$C$2,MOD('INFOS GROUPES'!D4-Listes!$A$12,1),IF(AND('INFOS GROUPES'!N4<=Listes!$C$1,'INFOS GROUPES'!N4<>0),Listes!$C$6,IF(AND('INFOS GROUPES'!N4<=Listes!$C$2,'INFOS GROUPES'!N4<>0),'INFOS GROUPES'!N4,0)))) -> 0 | J4: =IF(B4=0,0,IF((IF(D4>Listes!$C$3,MOD('INFOS GROUPES'!D4-Listes!$A$12,1),MOD('INFOS GROUPES'!L4+Listes!$A$9,1)))<Listes!$C$4,Listes!$C$4,IF(D4>Listes!$C$3,MOD('INFOS GROUPES'!D4-Listes!$A$12,1),MOD('INFOS GROUPES'!L4+Listes!$A$9,1)))) -> 0.78125 | K4: 43658.927 | L4: =K4+M4 -> 43658.969 | M4: 0.041666667
A5: 43658 | B5: NOM 3 | C5: =IF(B5=0,0,IF(H5<>0,H5,IF(I5<>0,MOD(I5-Listes!$A$6,1),MOD('INFOS GROUPES'!D5-Listes!$A$12,1)))) -> 0.875 | D5: =IF(B5=0,0,MOD(E5-Listes!$A$15,1)) -> 0.91666667 | E5: =F5 -> 0.96875 | F5: =IF(B5=0,0,MOD(G5-Listes!$A$15,1)) -> 0.96875 | G5: =K5 -> 43659.021 | H5: =IF(B5=0,0,IF(AND(N5<Listes!$C$5,'INFOS GROUPES'!N5<>0),Listes!$C$5,IF(AND(N5<Listes!$C$1,'INFOS GROUPES'!N5<>0),N5,0))) -> 0 | I5: =IF(B5=0,0,IF('INFOS GROUPES'!D5<=Listes!$C$2,MOD('INFOS GROUPES'!D5-Listes!$A$12,1),IF(AND('INFOS GROUPES'!N5<=Listes!$C$1,'INFOS GROUPES'!N5<>0),Listes!$C$6,IF(AND('INFOS GROUPES'!N5<=Listes!$C$2,'INFOS GROUPES'!N5<>0),'INFOS GROUPES'!N5,0)))) -> 0 | J5: =IF(B5=0,0,IF((IF(D5>Listes!$C$3,MOD('INFOS GROUPES'!D5-Listes!$A$12,1),MOD('INFOS GROUPES'!L5+Listes!$A$9,1)))<Listes!$C$4,Listes!$C$4,IF(D5>Listes!$C$3,MOD('INFOS GROUPES'!D5-Listes!$A$12,1),MOD('INFOS GROUPES'!L5+Listes!$A$9,1)))) -> 0.875 | K5: 43659.021 | L5: =K5+M5 -> 43659.062 | M5: 0.041666667
A6: 43658 | B6: NOM 4 | C6: =IF(B6=0,0,IF(H6<>0,H6,IF(I6<>0,MOD(I6-Listes!$A$6,1),MOD('INFOS GROUPES'!D6-Listes!$A$12,1)))) -> 0.72916667 | D6: =IF(B6=0,0,MOD(E6-Listes!$A$15,1)) -> 0.77083333 | E6: =F6 -> 0.82291667 | F6: =IF(B6=0,0,MOD(G6-Listes!$A$15,1)) -> 0.82291667 | G6: =K6 -> 0.875 | H6: =IF(B6=0,0,IF(AND(N6<Listes!$C$5,'INFOS GROUPES'!N6<>0),Listes!$C$5,IF(AND(N6<Listes!$C$1,'INFOS GROUPES'!N6<>0),N6,0))) -> 0 | I6: =IF(B6=0,0,IF('INFOS GROUPES'!D6<=Listes!$C$2,MOD('INFOS GROUPES'!D6-Listes!$A$12,1),IF(AND('INFOS GROUPES'!N6<=Listes!$C$1,'INFOS GROUPES'!N6<>0),Listes!$C$6,IF(AND('INFOS GROUPES'!N6<=Listes!$C$2,'INFOS GROUPES'!N6<>0),'INFOS GROUPES'!N6,0)))) -> 0 | J6: =IF(B6=0,0,IF((IF(D6>Listes!$C$3,MOD('INFOS GROUPES'!D6-Listes!$A$12,1),MOD('INFOS GROUPES'!L6+Listes!$A$9,1)))<Listes!$C$4,Listes!$C$4,IF(D6>Listes!$C$3,MOD('INFOS GROUPES'!D6-Listes!$A$12,1),MOD('INFOS GROUPES'!L6+Listes!$A$9,1)))) -> 0.94791667 | K6: 0.875 | L6: =K6+M6 -> 0.91666667 | M6: 0.041666667
A7: 43658 | B7: NOM 5 | C7: =IF(B7=0,0,IF(H7<>0,H7,IF(I7<>0,MOD(I7-Listes!$A$6,1),MOD('INFOS GROUPES'!D7-Listes!$A$12,1)))) -> 0.83333333 | D7: =IF(B7=0,0,MOD(E7-Listes!$A$15,1)) -> 0.875 | E7: =F7 -> 0.92708333 | F7: =IF(B7=0,0,MOD(G7-Listes!$A$15,1)) -> 0.92708333 | G7: =K7 -> 0.97916667 | H7: =IF(B7=0,0,IF(AND(N7<Listes!$C$5,'INFOS GROUPES'!N7<>0),Listes!$C$5,IF(AND(N7<Listes!$C$1,'INFOS GROUPES'!N7<>0),N7,0))) -> 0 | I7: =IF(B7=0,0,IF('INFOS GROUPES'!D7<=Listes!$C$2,MOD('INFOS GROUPES'!D7-Listes!$A$12,1),IF(AND('INFOS GROUPES'!N7<=Listes!$C$1,'INFOS GROUPES'!N7<>0),Listes!$C$6,IF(AND('INFOS GROUPES'!N7<=Listes!$C$2,'INFOS GROUPES'!N7<>0),'INFOS GROUPES'!N7,0)))) -> 0 | J7: =IF(B7=0,0,IF((IF(D7>Listes!$C$3,MOD('INFOS GROUPES'!D7-Listes!$A$12,1),MOD('INFOS GROUPES'!L7+Listes!$A$9,1)))<Listes!$C$4,Listes!$C$4,IF(D7>Listes!$C$3,MOD('INFOS GROUPES'!D7-Listes!$A$12,1),MOD('INFOS GROUPES'!L7+Listes!$A$9,1)))) -> 0.83333333 | K7: 0.97916667 | L7: =K7+M7 -> 1.0208333 | M7: 0.041666667
C8: =IF(B8=0,0,IF(H8<>0,H8,IF(I8<>0,MOD(I8-Listes!$A$6,1),MOD('INFOS GROUPES'!D8-Listes!$A$12,1)))) -> 0 | D8: =IF(B8=0,0,MOD(E8-Listes!$A$15,1)) -> 0 | E8: =F8 -> 0 | F8: =IF(B8=0,0,MOD(G8-Listes!$A$15,1)) -> 0 | G8: =K8 -> 0 | H8: =IF(B8=0,0,IF(AND(N8<Listes!$C$5,'INFOS GROUPES'!N8<>0),Listes!$C$5,IF(AND(N8<Listes!$C$1,'INFOS GROUPES'!N8<>0),N8,0))) -> 0 | I8: =IF(B8=0,0,IF('INFOS GROUPES'!D8<=Listes!$C$2,MOD('INFOS GROUPES'!D8-Listes!$A$12,1),IF(AND('INFOS GROUPES'!N8<=Listes!$C$1,'INFOS GROUPES'!N8<>0),Listes!$C$6,IF(AND('INFOS GROUPES'!N8<=Listes!$C$2,'INFOS GROUPES'!N8<>0),'INFOS GROUPES'!N8,0)))) -> 0 | J8: =IF(B8=0,0,IF((IF(D8>Listes!$C$3,MOD('INFOS GROUPES'!D8-Listes!$A$12,1),MOD('INFOS GROUPES'!L8+Listes!$A$9,1)))<Listes!$C$4,Listes!$C$4,IF(D8>Listes!$C$3,MOD('INFOS GROUPES'!D8-Listes!$A$12,1),MOD('INFOS GROUPES'!L8+Listes!$A$9,1)))) -> 0
C9: =IF(B9=0,0,IF(H9<>0,H9,IF(I9<>0,MOD(I9-Listes!$A$6,1),MOD('INFOS GROUPES'!D9-Listes!$A$12,1)))) -> 0 | D9: =IF(B9=0,0,MOD(E9-Listes!$A$15,1)) -> 0 | E9: =F9 -> 0 | F9: =IF(B9=0,0,MOD(G9-Listes!$A$15,1)) -> 0 | G9: =K9 -> 0 | H9: =IF(B9=0,0,IF(AND(N9<Listes!$C$5,'INFOS GROUPES'!N9<>0),Listes!$C$5,IF(AND(N9<Listes!$C$1,'INFOS GROUPES'!N9<>0),N9,0))) -> 0 | I9: =IF(B9=0,0,IF('INFOS GROUPES'!D9<=Listes!$C$2,MOD('INFOS GROUPES'!D9-Listes!$A$12,1),IF(AND('INFOS GROUPES'!N9<=Listes!$C$1,'INFOS GROUPES'!N9<>0),Listes!$C$6,IF(AND('INFOS GROUPES'!N9<=Listes!$C$2,'INFOS GROUPES'!N9<>0),'INFOS GROUPES'!N9,0)))) -> 0 | J9: =IF(B9=0,0,IF((IF(D9>Listes!$C$3,MOD('INFOS GROUPES'!D9-Listes!$A$12,1),MOD('INFOS GROUPES'!L9+Listes!$A$9,1)))<Listes!$C$4,Listes!$C$4,IF(D9>Listes!$C$3,MOD('INFOS GROUPES'!D9-Listes!$A$12,1),MOD('INFOS GROUPES'!L9+Listes!$A$9,1)))) -> 0
C10: =IF(B10=0,0,IF(H10<>0,H10,IF(I10<>0,MOD(I10-Listes!$A$6,1),MOD('INFOS GROUPES'!D10-Listes!$A$12,1)))) -> 0 | D10: =IF(B10=0,0,MOD(E10-Listes!$A$15,1)) -> 0 | E10: =F10 -> 0 | F10: =IF(B10=0,0,MOD(G10-Listes!$A$15,1)) -> 0 | G10: =K10 -> 0 | H10: =IF(B10=0,0,IF(AND(N10<Listes!$C$5,'INFOS GROUPES'!N10<>0),Listes!$C$5,IF(AND(N10<Listes!$C$1,'INFOS GROUPES'!N10<>0),N10,0))) -> 0 | I10: =IF(B10=0,0,IF('INFOS GROUPES'!D10<=Listes!$C$2,MOD('INFOS GROUPES'!D10-Listes!$A$12,1),IF(AND('INFOS GROUPES'!N10<=Listes!$C$1,'INFOS GROUPES'!N10<>0),Listes!$C$6,IF(AND('INFOS GROUPES'!N10<=Listes!$C$2,'INFOS GROUPES'!N10<>0),'INFOS GROUPES'!N10,0)))) -> 0 | J10: =IF(B10=0,0,IF((IF(D10>Listes!$C$3,MOD('INFOS GROUPES'!D10-Listes!$A$12,1),MOD('INFOS GROUPES'!L10+Listes!$A$9,1)))<Listes!$C$4,Listes!$C$4,IF(D10>Listes!$C$3,MOD('INFOS GROUPES'!D10-Listes!$A$12,1),MOD('INFOS GROUPES'!L10+Listes!$A$9,1)))) -> 0
C11: =IF(B11=0,0,IF(H11<>0,H11,IF(I11<>0,MOD(I11-Listes!$A$6,1),MOD('INFOS GROUPES'!D11-Listes!$A$12,1)))) -> 0 | D11: =IF(B11=0,0,MOD(E11-Listes!$A$15,1)) -> 0 | E11: =F11 -> 0 | F11: =IF(B11=0,0,MOD(G11-Listes!$A$15,1)) -> 0 | G11: =K11 -> 0 | H11: =IF(B11=0,0,IF(AND(N11<Listes!$C$5,'INFOS GROUPES'!N11<>0),Listes!$C$5,IF(AND(N11<Listes!$C$1,'INFOS GROUPES'!N11<>0),N11,0))) -> 0 | I11: =IF(B11=0,0,IF('INFOS GROUPES'!D11<=Listes!$C$2,MOD('INFOS GROUPES'!D11-Listes!$A$12,1),IF(AND('INFOS GROUPES'!N11<=Listes!$C$1,'INFOS GROUPES'!N11<>0),Listes!$C$6,IF(AND('INFOS GROUPES'!N11<=Listes!$C$2,'INFOS GROUPES'!N11<>0),'INFOS GROUPES'!N11,0)))) -> 0 | J11: =IF(B11=0,0,IF((IF(D11>Listes!$C$3,MOD('INFOS GROUPES'!D11-Listes!$A$12,1),MOD('INFOS GROUPES'!L11+Listes!$A$9,1)))<Listes!$C$4,Listes!$C$4,IF(D11>Listes!$C$3,MOD('INFOS GROUPES'!D11-Listes!$A$12,1),MOD('INFOS GROUPES'!L11+Listes!$A$9,1)))) -> 0
C12: =IF(B12=0,0,IF(H12<>0,H12,IF(I12<>0,MOD(I12-Listes!$A$6,1),MOD('INFOS GROUPES'!D12-Listes!$A$12,1)))) -> 0 | D12: =IF(B12=0,0,MOD(E12-Listes!$A$15,1)) -> 0 | E12: =F12 -> 0 | F12: =IF(B12=0,0,MOD(G12-Listes!$A$15,1)) -> 0 | G12: =K12 -> 0 | H12: =IF(B12=0,0,IF(AND(N12<Listes!$C$5,'INFOS GROUPES'!N12<>0),Listes!$C$5,IF(AND(N12<Listes!$C$1,'INFOS GROUPES'!N12<>0),N12,0))) -> 0 | I12: =IF(B12=0,0,IF('INFOS GROUPES'!D12<=Listes!$C$2,MOD('INFOS GROUPES'!D12-Listes!$A$12,1),IF(AND('INFOS GROUPES'!N12<=Listes!$C$1,'INFOS GROUPES'!N12<>0),Listes!$C$6,IF(AND('INFOS GROUPES'!N12<=Listes!$C$2,'INFOS GROUPES'!N12<>0),'INFOS GROUPES'!N12,0)))) -> 0 | J12: =IF(B12=0,0,IF((IF(D12>Listes!$C$3,MOD('INFOS GROUPES'!D12-Listes!$A$12,1),MOD('INFOS GROUPES'!L12+Listes!$A$9,1)))<Listes!$C$4,Listes!$C$4,IF(D12>Listes!$C$3,MOD('INFOS GROUPES'!D12-Listes!$A$12,1),MOD('INFOS GROUPES'!L12+Listes!$A$9,1)))) -> 0
C13: =IF(B13=0,0,IF(H13<>0,H13,IF(I13<>0,MOD(I13-Listes!$A$6,1),MOD('INFOS GROUPES'!D13-Listes!$A$12,1)))) -> 0 | D13: =IF(B13=0,0,MOD(E13-Listes!$A$15,1)) -> 0 | E13: =F13 -> 0 | F13: =IF(B13=0,0,MOD(G13-Listes!$A$15,1)) -> 0 | G13: =K13 -> 0 | H13: =IF(B13=0,0,IF(AND(N13<Listes!$C$5,'INFOS GROUPES'!N13<>0),Listes!$C$5,IF(AND(N13<Listes!$C$1,'INFOS GROUPES'!N13<>0),N13,0))) -> 0 | I13: =IF(B13=0,0,IF('INFOS GROUPES'!D13<=Listes!$C$2,MOD('INFOS GROUPES'!D13-Listes!$A$12,1),IF(AND('INFOS GROUPES'!N13<=Listes!$C$1,'INFOS GROUPES'!N13<>0),Listes!$C$6,IF(AND('INFOS GROUPES'!N13<=Listes!$C$2,'INFOS GROUPES'!N13<>0),'INFOS GROUPES'!N13,0)))) -> 0 | J13: =IF(B13=0,0,IF((IF(D13>Listes!$C$3,MOD('INFOS GROUPES'!D13-Listes!$A$12,1),MOD('INFOS GROUPES'!L13+Listes!$A$9,1)))<Listes!$C$4,Listes!$C$4,IF(D13>Listes!$C$3,MOD('INFOS GROUPES'!D13-Listes!$A$12,1),MOD('INFOS GROUPES'!L13+Listes!$A$9,1)))) -> 0
C14: =IF(B14=0,0,IF(H14<>0,H14,IF(I14<>0,MOD(I14-Listes!$A$6,1),MOD('INFOS GROUPES'!D14-Listes!$A$12,1)))) -> 0 | D14: =IF(B14=0,0,MOD(E14-Listes!$A$15,1)) -> 0 | E14: =F14 -> 0 | F14: =IF(B14=0,0,MOD(G14-Listes!$A$15,1)) -> 0 | G14: =K14 -> 0 | H14: =IF(B14=0,0,IF(AND(N14<Listes!$C$5,'INFOS GROUPES'!N14<>0),Listes!$C$5,IF(AND(N14<Listes!$C$1,'INFOS GROUPES'!N14<>0),N14,0))) -> 0 | I14: =IF(B14=0,0,IF('INFOS GROUPES'!D14<=Listes!$C$2,MOD('INFOS GROUPES'!D14-Listes!$A$12,1),IF(AND('INFOS GROUPES'!N14<=Listes!$C$1,'INFOS GROUPES'!N14<>0),Listes!$C$6,IF(AND('INFOS GROUPES'!N14<=Listes!$C$2,'INFOS GROUPES'!N14<>0),'INFOS GROUPES'!N14,0)))) -> 0 | J14: =IF(B14=0,0,IF((IF(D14>Listes!$C$3,MOD('INFOS GROUPES'!D14-Listes!$A$12,1),MOD('INFOS GROUPES'!L14+Listes!$A$9,1)))<Listes!$C$4,Listes!$C$4,IF(D14>Listes!$C$3,MOD('INFOS GROUPES'!D14-Listes!$A$12,1),MOD('INFOS GROUPES'!L14+Listes!$A$9,1)))) -> 0
C15: =IF(B15=0,0,IF(H15<>0,H15,IF(I15<>0,MOD(I15-Listes!$A$6,1),MOD('INFOS GROUPES'!D15-Listes!$A$12,1)))) -> 0 | D15: =IF(B15=0,0,MOD(E15-Listes!$A$15,1)) -> 0 | E15: =F15 -> 0 | F15: =IF(B15=0,0,MOD(G15-Listes!$A$15,1)) -> 0 | G15: =K15 -> 0 | H15: =IF(B15=0,0,IF(AND(N15<Listes!$C$5,'INFOS GROUPES'!N15<>0),Listes!$C$5,IF(AND(N15<Listes!$C$1,'INFOS GROUPES'!N15<>0),N15,0))) -> 0 | I15: =IF(B15=0,0,IF('INFOS GROUPES'!D15<=Listes!$C$2,MOD('INFOS GROUPES'!D15-Listes!$A$12,1),IF(AND('INFOS GROUPES'!N15<=Listes!$C$1,'INFOS GROUPES'!N15<>0),Listes!$C$6,IF(AND('INFOS GROUPES'!N15<=Listes!$C$2,'INFOS GROUPES'!N15<>0),'INFOS GROUPES'!N15,0)))) -> 0 | J15: =IF(B15=0,0,IF((IF(D15>Listes!$C$3,MOD('INFOS GROUPES'!D15-Listes!$A$12,1),MOD('INFOS GROUPES'!L15+Listes!$A$9,1)))<Listes!$C$4,Listes!$C$4,IF(D15>Listes!$C$3,MOD('INFOS GROUPES'!D15-Listes!$A$12,1),MOD('INFOS GROUPES'!L15+Listes!$A$9,1)))) -> 0
C16: =IF(B16=0,0,IF(H16<>0,H16,IF(I16<>0,MOD(I16-Listes!$A$6,1),MOD('INFOS GROUPES'!D16-Listes!$A$12,1)))) -> 0 | D16: =IF(B16=0,0,MOD(E16-Listes!$A$15,1)) -> 0 | E16: =F16 -> 0 | F16: =IF(B16=0,0,MOD(G16-Listes!$A$15,1)) -> 0 | G16: =K16 -> 0 | H16: =IF(B16=0,0,IF(AND(N16<Listes!$C$5,'INFOS GROUPES'!N16<>0),Listes!$C$5,IF(AND(N16<Listes!$C$1,'INFOS GROUPES'!N16<>0),N16,0))) -> 0 | I16: =IF(B16=0,0,IF('INFOS GROUPES'!D16<=Listes!$C$2,MOD('INFOS GROUPES'!D16-Listes!$A$12,1),IF(AND('INFOS GROUPES'!N16<=Listes!$C$1,'INFOS GROUPES'!N16<>0),Listes!$C$6,IF(AND('INFOS GROUPES'!N16<=Listes!$C$2,'INFOS GROUPES'!N16<>0),'INFOS GROUPES'!N16,0)))) -> 0 | J16: =IF(B16=0,0,IF((IF(D16>Listes!$C$3,MOD('INFOS GROUPES'!D16-Listes!$A$12,1),MOD('INFOS GROUPES'!L16+Listes!$A$9,1)))<Listes!$C$4,Listes!$C$4,IF(D16>Listes!$C$3,MOD('INFOS GROUPES'!D16-Listes!$A$12,1),MOD('INFOS GROUPES'!L16+Listes!$A$9,1)))) -> 0
C17: =IF(B17=0,0,IF(H17<>0,H17,IF(I17<>0,MOD(I17-Listes!$A$6,1),MOD('INFOS GROUPES'!D17-Listes!$A$12,1)))) -> 0 | D17: =IF(B17=0,0,MOD(E17-Listes!$A$15,1)) -> 0 | E17: =F17 -> 0 | F17: =IF(B17=0,0,MOD(G17-Listes!$A$15,1)) -> 0 | G17: =K17 -> 0 | H17: =IF(B17=0,0,IF(AND(N17<Listes!$C$5,'INFOS GROUPES'!N17<>0),Listes!$C$5,IF(AND(N17<Listes!$C$1,'INFOS GROUPES'!N17<>0),N17,0))) -> 0 | I17: =IF(B17=0,0,IF('INFOS GROUPES'!D17<=Listes!$C$2,MOD('INFOS GROUPES'!D17-Listes!$A$12,1),IF(AND('INFOS GROUPES'!N17<=Listes!$C$1,'INFOS GROUPES'!N17<>0),Listes!$C$6,IF(AND('INFOS GROUPES'!N17<=Listes!$C$2,'INFOS GROUPES'!N17<>0),'INFOS GROUPES'!N17,0)))) -> 0 | J17: =IF(B17=0,0,IF((IF(D17>Listes!$C$3,MOD('INFOS GROUPES'!D17-Listes!$A$12,1),MOD('INFOS GROUPES'!L17+Listes!$A$9,1)))<Listes!$C$4,Listes!$C$4,IF(D17>Listes!$C$3,MOD('INFOS GROUPES'!D17-Listes!$A$12,1),MOD('INFOS GROUPES'!L17+Listes!$A$9,1)))) -> 0
C18: =IF(B18=0,0,IF(H18<>0,H18,IF(I18<>0,MOD(I18-Listes!$A$6,1),MOD('INFOS GROUPES'!D18-Listes!$A$12,1)))) -> 0 | D18: =IF(B18=0,0,MOD(E18-Listes!$A$15,1)) -> 0 | E18: =F18 -> 0 | F18: =IF(B18=0,0,MOD(G18-Listes!$A$15,1)) -> 0 | G18: =K18 -> 0 | H18: =IF(B18=0,0,IF(AND(N18<Listes!$C$5,'INFOS GROUPES'!N18<>0),Listes!$C$5,IF(AND(N18<Listes!$C$1,'INFOS GROUPES'!N18<>0),N18,0))) -> 0 | I18: =IF(B18=0,0,IF('INFOS GROUPES'!D18<=Listes!$C$2,MOD('INFOS GROUPES'!D18-Listes!$A$12,1),IF(AND('INFOS GROUPES'!N18<=Listes!$C$1,'INFOS GROUPES'!N18<>0),Listes!$C$6,IF(AND('INFOS GROUPES'!N18<=Listes!$C$2,'INFOS GROUPES'!N18<>0),'INFOS GROUPES'!N18,0)))) -> 0 | J18: =IF(B18=0,0,IF((IF(D18>Listes!$C$3,MOD('INFOS GROUPES'!D18-Listes!$A$12,1),MOD('INFOS GROUPES'!L18+Listes!$A$9,1)))<Listes!$C$4,Listes!$C$4,IF(D18>Listes!$C$3,MOD('INFOS GROUPES'!D18-Listes!$A$12,1),MOD('INFOS GROUPES'!L18+Listes!$A$9,1)))) -> 0
C19: =IF(B19=0,0,IF(H19<>0,H19,IF(I19<>0,MOD(I19-Listes!$A$6,1),MOD('INFOS GROUPES'!D19-Listes!$A$12,1)))) -> 0 | D19: =IF(B19=0,0,MOD(E19-Listes!$A$15,1)) -> 0 | E19: =F19 -> 0 | F19: =IF(B19=0,0,MOD(G19-Listes!$A$15,1)) -> 0 | G19: =K19 -> 0 | H19: =IF(B19=0,0,IF(AND(N19<Listes!$C$5,'INFOS GROUPES'!N19<>0),Listes!$C$5,IF(AND(N19<Listes!$C$1,'INFOS GROUPES'!N19<>0),N19,0))) -> 0 | I19: =IF(B19=0,0,IF('INFOS GROUPES'!D19<=Listes!$C$2,MOD('INFOS GROUPES'!D19-Listes!$A$12,1),IF(AND('INFOS GROUPES'!N19<=Listes!$C$1,'INFOS GROUPES'!N19<>0),Listes!$C$6,IF(AND('INFOS GROUPES'!N19<=Listes!$C$2,'INFOS GROUPES'!N19<>0),'INFOS GROUPES'!N19,0)))) -> 0 | J19: =IF(B19=0,0,IF((IF(D19>Listes!$C$3,MOD('INFOS GROUPES'!D19-Listes!$A$12,1),MOD('INFOS GROUPES'!L19+Listes!$A$9,1)))<Listes!$C$4,Listes!$C$4,IF(D19>Listes!$C$3,MOD('INFOS GROUPES'!D19-Listes!$A$12,1),MOD('INFOS GROUPES'!L19+Listes!$A$9,1)))) -> 0
... C36: =IF(B36=0,0,IF(H36<>0,H36,IF(I36<>0,MOD(I36-Listes!$A$6,1),MOD('INFOS GROUPES'!D36-Listes!$A$12,1)))) -> 0 | D36: =IF(B36=0,0,MOD(E36-Listes!$A$15,1)) -> 0 | E36: =F36 -> 0 | F36: =IF(B36=0,0,MOD(G36-Listes!$A$15,1)) -> 0 | G36: =K36 -> 0 | H36: =IF(B36=0,0,IF(AND(N36<Listes!$C$5,'INFOS GROUPES'!N36<>0),Listes!$C$5,IF(AND(N36<Listes!$C$1,'INFOS GROUPES'!N36<>0),N36,0))) -> 0 | I36: =IF(B36=0,0,IF('INFOS GROUPES'!D36<=Listes!$C$2,MOD('INFOS GROUPES'!D36-Listes!$A$12,1),IF(AND('INFOS GROUPES'!N36<=Listes!$C$1,'INFOS GROUPES'!N36<>0),Listes!$C$6,IF(AND('INFOS GROUPES'!N36<=Listes!$C$2,'INFOS GROUPES'!N36<>0),'INFOS GROUPES'!N36,0)))) -> 0 | J36: =IF(B36=0,0,IF((IF(D36>Listes!$C$3,MOD('INFOS GROUPES'!D36-Listes!$A$12,1),MOD('INFOS GROUPES'!L36+Listes!$A$9,1)))<Listes!$C$4,Listes!$C$4,IF(D36>Listes!$C$3,MOD('INFOS GROUPES'!D36-Listes!$A$12,1),MOD('INFOS GROUPES'!L36+Listes!$A$9,1)))) -> 0
C37: =IF(B37=0,0,IF(H37<>0,H37,IF(I37<>0,MOD(I37-Listes!$A$6,1),MOD('INFOS GROUPES'!D37-Listes!$A$12,1)))) -> 0 | H37: =IF(B37=0,0,IF(AND(N37<Listes!$C$5,'INFOS GROUPES'!N37<>0),Listes!$C$5,IF(AND(N37<Listes!$C$1,'INFOS GROUPES'!N37<>0),N37,0))) -> 0 | I37: =IF(B37=0,0,IF('INFOS GROUPES'!D37<=Listes!$C$2,MOD('INFOS GROUPES'!D37-Listes!$A$12,1),IF(AND('INFOS GROUPES'!N37<=Listes!$C$1,'INFOS GROUPES'!N37<>0),Listes!$C$6,IF(AND('INFOS GROUPES'!N37<=Listes!$C$2,'INFOS GROUPES'!N37<>0),'INFOS GROUPES'!N37,0)))) -> 0
C38: =IF(B38=0,0,IF(H38<>0,H38,IF(I38<>0,MOD(I38-Listes!$A$6,1),MOD('INFOS GROUPES'!D38-Listes!$A$12,1)))) -> 0 | H38: =IF(B38=0,0,IF(AND(N38<Listes!$C$5,'INFOS GROUPES'!N38<>0),Listes!$C$5,IF(AND(N38<Listes!$C$1,'INFOS GROUPES'!N38<>0),N38,0))) -> 0 | I38: =IF(B38=0,0,IF('INFOS GROUPES'!D38<=Listes!$C$2,MOD('INFOS GROUPES'!D38-Listes!$A$12,1),IF(AND('INFOS GROUPES'!N38<=Listes!$C$1,'INFOS GROUPES'!N38<>0),Listes!$C$6,IF(AND('INFOS GROUPES'!N38<=Listes!$C$2,'INFOS GROUPES'!N38<>0),'INFOS GROUPES'!N38,0)))) -> 0
C39: =IF(B39=0,0,IF(H39<>0,H39,IF(I39<>0,MOD(I39-Listes!$A$6,1),MOD('INFOS GROUPES'!D39-Listes!$A$12,1)))) -> 0 | H39: =IF(B39=0,0,IF(AND(N39<Listes!$C$5,'INFOS GROUPES'!N39<>0),Listes!$C$5,IF(AND(N39<Listes!$C$1,'INFOS GROUPES'!N39<>0),N39,0))) -> 0 | I39: =IF(B39=0,0,IF('INFOS GROUPES'!D39<=Listes!$C$2,MOD('INFOS GROUPES'!D39-Listes!$A$12,1),IF(AND('INFOS GROUPES'!N39<=Listes!$C$1,'INFOS GROUPES'!N39<>0),Listes!$C$6,IF(AND('INFOS GROUPES'!N39<=Listes!$C$2,'INFOS GROUPES'!N39<>0),'INFOS GROUPES'!N39,0)))) -> 0
C40: =IF(B40=0,0,IF(H40<>0,H40,IF(I40<>0,MOD(I40-Listes!$A$6,1),MOD('INFOS GROUPES'!D40-Listes!$A$12,1)))) -> 0 | H40: =IF(B40=0,0,IF(AND(N40<Listes!$C$5,'INFOS GROUPES'!N40<>0),Listes!$C$5,IF(AND(N40<Listes!$C$1,'INFOS GROUPES'!N40<>0),N40,0))) -> 0 | I40: =IF(B40=0,0,IF('INFOS GROUPES'!D40<=Listes!$C$2,MOD('INFOS GROUPES'!D40-Listes!$A$12,1),IF(AND('INFOS GROUPES'!N40<=Listes!$C$1,'INFOS GROUPES'!N40<>0),Listes!$C$6,IF(AND('INFOS GROUPES'!N40<=Listes!$C$2,'INFOS GROUPES'!N40<>0),'INFOS GROUPES'!N40,0)))) -> 0
C41: =IF(B41=0,0,IF(H41<>0,H41,IF(I41<>0,MOD(I41-Listes!$A$6,1),MOD('INFOS GROUPES'!D41-Listes!$A$12,1)))) -> 0 | I41: =IF(B41=0,0,IF('INFOS GROUPES'!D41<=Listes!$C$2,MOD('INFOS GROUPES'!D41-Listes!$A$12,1),IF(AND('INFOS GROUPES'!N41<=Listes!$C$1,'INFOS GROUPES'!N41<>0),Listes!$C$6,IF(AND('INFOS GROUPES'!N41<=Listes!$C$2,'INFOS GROUPES'!N41<>0),'INFOS GROUPES'!N41,0)))) -> 0
C42: =IF(B42=0,0,IF(H42<>0,H42,IF(I42<>0,MOD(I42-Listes!$A$6,1),MOD('INFOS GROUPES'!D42-Listes!$A$12,1)))) -> 0 | I42: =IF(B42=0,0,IF('INFOS GROUPES'!D42<=Listes!$C$2,MOD('INFOS GROUPES'!D42-Listes!$A$12,1),IF(AND('INFOS GROUPES'!N42<=Listes!$C$1,'INFOS GROUPES'!N42<>0),Listes!$C$6,IF(AND('INFOS GROUPES'!N42<=Listes!$C$2,'INFOS GROUPES'!N42<>0),'INFOS GROUPES'!N42,0)))) -> 0
C43: =IF(B43=0,0,IF(H43<>0,H43,IF(I43<>0,MOD(I43-Listes!$A$6,1),MOD('INFOS GROUPES'!D43-Listes!$A$12,1)))) -> 0 | I43: =IF(B43=0,0,IF('INFOS GROUPES'!D43<=Listes!$C$2,MOD('INFOS GROUPES'!D43-Listes!$A$12,1),IF(AND('INFOS GROUPES'!N43<=Listes!$C$1,'INFOS GROUPES'!N43<>0),Listes!$C$6,IF(AND('INFOS GROUPES'!N43<=Listes!$C$2,'INFOS GROUPES'!N43<>0),'INFOS GROUPES'!N43,0)))) -> 0
C44: =IF(B44=0,0,IF(H44<>0,H44,IF(I44<>0,MOD(I44-Listes!$A$6,1),MOD('INFOS GROUPES'!D44-Listes!$A$12,1)))) -> 0
C45: =IF(B45=0,0,IF(IF(N45=0,MOD(D45-Listes!$A$12,1),MIN((MOD(D45-Listes!$A$12,1)),N45))<Listes!$C$5,Listes!$C$5,IF(N45=0,MOD(D45-Listes!$A$12,1),MIN((MOD(D45-Listes!$A$12,1)))))) -> 0
C46: =IF(B46=0,0,IF(IF(N46=0,MOD(D46-Listes!$A$12,1),MIN((MOD(D46-Listes!$A$12,1)),N46))<Listes!$C$5,Listes!$C$5,IF(N46=0,MOD(D46-Listes!$A$12,1),MIN((MOD(D46-Listes!$A$12,1)))))) -> 0
C47: =IF(B47=0,0,IF(IF(N47=0,MOD(D47-Listes!$A$12,1),MIN((MOD(D47-Listes!$A$12,1)),N47))<Listes!$C$5,Listes!$C$5,IF(N47=0,MOD(D47-Listes!$A$12,1),MIN((MOD(D47-Listes!$A$12,1)))))) -> 0
C48: =IF(B48=0,0,IF(IF(N48=0,MOD(D48-Listes!$A$12,1),MIN((MOD(D48-Listes!$A$12,1)),N48))<Listes!$C$5,Listes!$C$5,IF(N48=0,MOD(D48-Listes!$A$12,1),MIN((MOD(D48-Listes!$A$12,1)))))) -> 0
C49: =IF(B49=0,0,IF(IF(N49=0,MOD(D49-Listes!$A$12,1),MIN((MOD(D49-Listes!$A$12,1)),N49))<Listes!$C$5,Listes!$C$5,IF(N49=0,MOD(D49-Listes!$A$12,1),MIN((MOD(D49-Listes!$A$12,1)))))) -> 0
C50: =IF(B50=0,0,IF(IF(N50=0,MOD(D50-Listes!$A$12,1),MIN((MOD(D50-Listes!$A$12,1)),N50))<Listes!$C$5,Listes!$C$5,IF(N50=0,MOD(D50-Listes!$A$12,1),MIN((MOD(D50-Listes!$A$12,1)))))) -> 0

Sheet Listes
A1: 0.0034722222 | C1: 0.47916667
A2: =A1+A$1 -> 0.0069444444 | C2: 0.625
A3: =A2+A$1 -> 0.010416667 | C3: 0.82291667
A4: =A3+A$1 -> 0.013888889 | C4: 0.78125
A5: =A4+A$1 -> 0.017361111 | C5: 0.375
A6: =A5+A$1 -> 0.020833333 | C6: 0.54166667
A7: =A6+A$1 -> 0.024305556
A8: =A7+A$1 -> 0.027777778
A9: =A8+A$1 -> 0.03125
A10: =A9+A$1 -> 0.034722222
A11: =A10+A$1 -> 0.038194444
A12: =A11+A$1 -> 0.041666667
A13: =A12+A$1 -> 0.045138889
A14: =A13+A$1 -> 0.048611111
A15: =A14+A$1 -> 0.052083333
A16: =A15+A$1 -> 0.055555556
A17: =A16+A$1 -> 0.059027778
A18: =A17+A$1 -> 0.0625
... A31: =A30+A$1 -> 0.10763889
