Workbook
Name Avancement: Tables!$Z$2:$Z$6
Name Axe_Filieres: Tables!$U$2:$U$8
Name Axe_Note_Cadrage: Tables!$W$2:$W$7
Name Base: Tables!$A$17:$N$155
Name BASEDATA: DATA!$C$2:$U$298
Name BASESERVICE: Tableau1[[Matricule ]:[Calendrier de réalisation]]
Name Calendrier: Tables!$X$2:$X$5
Name Managers: Tables!$S$2:$T$27
Name Priorité_mger: Tables!$V$2:$V$4
Name Service: Tables!$Q$2:$R$27
Name Typologie: Tables!$Y$2:$Y$3

Sheet Plan 2019 consolidé
F1: Plan de formation 2019 - SEA -
D3: Effectif | F3: Réalisation plan | H3: Nb actions | K3: Nb H | L3: Coûts pédago. | M3: Coûts salariaux | N3: Coûts totaux | Q3: Type de formation | Y3: Total | Z3: Plan | AA3: PP | AB3: DIF
C4: Totaux | D4: =COUNTA(DATA!A2:A379) -> 236 | F4: ='Calcul Indicateurs'!F39 -> 0.75806452 | H4: =COUNTA(H12:H193) -> 0 | K4: =SUM(K12:K193) -> 0 | L4: =SUM(L12:L193) -> 0 | M4: =SUM(V12:V193) -> 0 | N4: =L4+M4 -> 0 | Q4: Interne | R4: Interne Groupe | S4: Externe | T4: TOTAL | X4: Cotisations ADEFIM | Y4: =SUM(Z4:AB4) -> 43893.59 | AA4: 36577.99 | AB4: 7315.6
P5: Nb personnes | T5: =SUM(Q5:S5) -> 0 | X5: Financement ADEFIM | Y5: =SUBTOTAL(9,Y12:Y191) -> 0 | Z5: =SUBTOTAL(9,Z12:Z191) -> 0 | AA5: =SUBTOTAL(9,AA12:AA191) -> 0 | AB5: =SUBTOTAL(9,AB12:AB191) -> 0
C6: Sous-Totaux | H6: =SUBTOTAL(3,H12:H193) -> 0 | K6: =SUBTOTAL(9,K12:K193) -> 0 | L6: =SUBTOTAL(9,L12:L193) -> 0 | M6: =SUBTOTAL(9,V12:V193) -> 0 | N6: =L6+M6 -> 0 | P6: Nb actions | R6: =GETPIVOTDATA("Intitulé",#REF!,"Organisme","Interne - Groupe") -> #REF! | S6: =GETPIVOTDATA("Intitulé",#REF!) -> #REF! | T6: =SUM(Q6:S6) -> #REF! | X6: Ecart | Y6: =Y4-Y5 -> 43893.59 | Z6: =Z4-Z5 -> 0 | AA6: =AA4-AA5 -> 36577.99 | AB6: =AB4-AB5 -> 7315.6
C7: Rapports | H7: =IFERROR(H6/H4,"") | K7: =IFERROR(K6/K4,"") | L7: =IFERROR(L6/L4,"") | M7: =IFERROR(M6/M4,"") | N7: =IFERROR(N6/N4,"") | P7: Nb heures | R7: =SUMIF(J12:J193,"Interne - Groupe",K12:K193) -> 0 | S7: =-(Q7+R7)+SUM(K12:K193) -> 0 | T7: =SUM(Q7:S7) -> 0
A10: SERVICE | D10: COLLABORATEUR | G10: FORMATION | M10: PLAN DE FORMATION 2019 | Y10: FINANCEMENT ADEFIM
A11: Service /Division | B11: Site | C11: Manager | D11: Matricule | E11: Nom | F11: Prénom | G11: Axe (Filières) | H11: Intitulé | I11: Priorité mger | J11: Organisme | K11: Durée H | L11: Coût péda. | M11: Dispositif (Plan / DIF /PP) | N11: Axe (note cadrage) | O11: Validation (Oui/Non) | P11: Calendrier de réalisation | Q11: Réalisation | R11: Typologie d'action | S11: Sexe | T11: CSP | U11: Taux horaire brut | V11: Coûts salariaux chargés | W11: Age | X11: Ancienneté | Y11: Montant Total Financement ADEFIM | Z11: Financement au titre du Plan | AA11: Financement au titre de la PP | AB11: Financement au titre du DIF | AC11: Frais déplac. / héberg.
A12: =IF(Tableau43[[#This Row],[Nom ]]<>"",VLOOKUP(Tableau43[[#This Row],[Matricule ]],BASEDATA,5,FALSE),"") | B12: =IF(Tableau43[[#This Row],[Nom ]]<>"",VLOOKUP(Tableau43[[#This Row],[Matricule ]],BASEDATA,3,FALSE),"") | C12: =IF(Tableau43[[#This Row],[Nom ]]<>"",VLOOKUP(Tableau43[[#This Row],[Matricule ]],BASEDATA,2,FALSE),"") | D12: =IF(Tableau43[[#This Row],[Nom ]]<>"",VLOOKUP(E12,DATA!A:U,3,FALSE),"") | S12: =IF(ISNA(VLOOKUP($D12,Base,5,FALSE))," ",+VLOOKUP($D12,Base,5,FALSE)) | T12: =IF(ISNA(VLOOKUP($D12,Base,6,FALSE))," ",+VLOOKUP($D12,Base,6,FALSE)) | U12: =IF(ISNA(VLOOKUP($D12,Base,11,FALSE))," ",+VLOOKUP($D12,Base,11,FALSE)) | V12: =IF(ISNA(VLOOKUP($D12,Base,12,FALSE))," ",+VLOOKUP($D12,Base,12,FALSE)) | W12: =IF(ISNA(VLOOKUP($D12,Base,7,FALSE))," ",+VLOOKUP($D12,Base,7,FALSE)) | X12: =IF(ISNA(VLOOKUP($D12,Base,8,FALSE))," ",+VLOOKUP($D12,Base,8,FALSE))
A13: =IF(Tableau43[[#This Row],[Nom ]]<>"",VLOOKUP(Tableau43[[#This Row],[Matricule ]],BASEDATA,5,FALSE),"") | B13: =IF(Tableau43[[#This Row],[Nom ]]<>"",VLOOKUP(Tableau43[[#This Row],[Matricule ]],BASEDATA,3,FALSE),"") | C13: =IF(Tableau43[[#This Row],[Nom ]]<>"",VLOOKUP(Tableau43[[#This Row],[Matricule ]],BASEDATA,2,FALSE),"") | D13: =IF(Tableau43[[#This Row],[Nom ]]<>"",VLOOKUP(E13,DATA!A:U,3,FALSE),"") | F13: =IF(Tableau43[[#This Row],[Nom ]]<>"",VLOOKUP(E13,DATA!A:U,2,FALSE),"") | G13: =IF(Tableau43[[#This Row],[Nom ]]<>"",VLOOKUP(Tableau43[[#This Row],[Matricule ]],BASESERVICE,4,FALSE),"") | X13: =IF(ISNA(VLOOKUP($D13,Base,8,FALSE))," ",+VLOOKUP($D13,Base,8,FALSE))
A14: =IF(Tableau43[[#This Row],[Nom ]]<>"",VLOOKUP(Tableau43[[#This Row],[Matricule ]],BASEDATA,5,FALSE),"") | B14: =IF(Tableau43[[#This Row],[Nom ]]<>"",VLOOKUP(Tableau43[[#This Row],[Matricule ]],BASEDATA,3,FALSE),"") | C14: =IF(Tableau43[[#This Row],[Nom ]]<>"",VLOOKUP(Tableau43[[#This Row],[Matricule ]],BASEDATA,2,FALSE),"") | D14: =IF(Tableau43[[#This Row],[Nom ]]<>"",VLOOKUP(E14,DATA!A:U,3,FALSE),"") | F14: =IF(Tableau43[[#This Row],[Nom ]]<>"",VLOOKUP(E14,DATA!A:U,2,FALSE),"") | G14: =IF(Tableau43[[#This Row],[Nom ]]<>"",VLOOKUP(Tableau43[[#This Row],[Matricule ]],BASESERVICE,4,FALSE),"") | X14: =IF(ISNA(VLOOKUP($D14,Base,8,FALSE))," ",+VLOOKUP($D14,Base,8,FALSE))
A15: =IF(Tableau43[[#This Row],[Nom ]]<>"",VLOOKUP(Tableau43[[#This Row],[Matricule ]],BASEDATA,5,FALSE),"") | B15: =IF(Tableau43[[#This Row],[Nom ]]<>"",VLOOKUP(Tableau43[[#This Row],[Matricule ]],BASEDATA,3,FALSE),"") | C15: =IF(Tableau43[[#This Row],[Nom ]]<>"",VLOOKUP(Tableau43[[#This Row],[Matricule ]],BASEDATA,2,FALSE),"") | D15: =IF(Tableau43[[#This Row],[Nom ]]<>"",VLOOKUP(E15,DATA!A:U,3,FALSE),"") | F15: =IF(Tableau43[[#This Row],[Nom ]]<>"",VLOOKUP(E15,DATA!A:U,2,FALSE),"") | G15: =IF(Tableau43[[#This Row],[Nom ]]<>"",VLOOKUP(Tableau43[[#This Row],[Matricule ]],BASESERVICE,4,FALSE),"") | X15: =IF(ISNA(VLOOKUP($D15,Base,8,FALSE))," ",+VLOOKUP($D15,Base,8,FALSE))
A16: =IF(Tableau43[[#This Row],[Nom ]]<>"",VLOOKUP(Tableau43[[#This Row],[Matricule ]],BASEDATA,5,FALSE),"") | B16: =IF(Tableau43[[#This Row],[Nom ]]<>"",VLOOKUP(Tableau43[[#This Row],[Matricule ]],BASEDATA,3,FALSE),"") | C16: =IF(Tableau43[[#This Row],[Nom ]]<>"",VLOOKUP(Tableau43[[#This Row],[Matricule ]],BASEDATA,2,FALSE),"") | D16: =IF(Tableau43[[#This Row],[Nom ]]<>"",VLOOKUP(E16,DATA!A:U,3,FALSE),"") | F16: =IF(Tableau43[[#This Row],[Nom ]]<>"",VLOOKUP(E16,DATA!A:U,2,FALSE),"") | G16: =IF(Tableau43[[#This Row],[Nom ]]<>"",VLOOKUP(Tableau43[[#This Row],[Matricule ]],BASESERVICE,4,FALSE),"") | X16: =IF(ISNA(VLOOKUP($D16,Base,8,FALSE))," ",+VLOOKUP($D16,Base,8,FALSE))
A17: =IF(Tableau43[[#This Row],[Nom ]]<>"",VLOOKUP(Tableau43[[#This Row],[Matricule ]],BASEDATA,5,FALSE),"") | B17: =IF(Tableau43[[#This Row],[Nom ]]<>"",VLOOKUP(Tableau43[[#This Row],[Matricule ]],BASEDATA,3,FALSE),"") | C17: =IF(Tableau43[[#This Row],[Nom ]]<>"",VLOOKUP(Tableau43[[#This Row],[Matricule ]],BASEDATA,2,FALSE),"") | D17: =IF(Tableau43[[#This Row],[Nom ]]<>"",VLOOKUP(E17,DATA!A:U,3,FALSE),"") | F17: =IF(Tableau43[[#This Row],[Nom ]]<>"",VLOOKUP(E17,DATA!A:U,2,FALSE),"") | G17: =IF(Tableau43[[#This Row],[Nom ]]<>"",VLOOKUP(Tableau43[[#This Row],[Matricule ]],BASESERVICE,4,FALSE),"") | X17: =IF(ISNA(VLOOKUP($D17,Base,8,FALSE))," ",+VLOOKUP($D17,Base,8,FALSE))
A18: =IF(Tableau43[[#This Row],[Nom ]]<>"",VLOOKUP(Tableau43[[#This Row],[Matricule ]],BASEDATA,5,FALSE),"") | B18: =IF(Tableau43[[#This Row],[Nom ]]<>"",VLOOKUP(Tableau43[[#This Row],[Matricule ]],BASEDATA,3,FALSE),"") | C18: =IF(Tableau43[[#This Row],[Nom ]]<>"",VLOOKUP(Tableau43[[#This Row],[Matricule ]],BASEDATA,2,FALSE),"") | D18: =IF(Tableau43[[#This Row],[Nom ]]<>"",VLOOKUP(E18,DATA!A:U,3,FALSE),"") | F18: =IF(Tableau43[[#This Row],[Nom ]]<>"",VLOOKUP(E18,DATA!A:U,2,FALSE),"") | G18: =IF(Tableau43[[#This Row],[Nom ]]<>"",VLOOKUP(Tableau43[[#This Row],[Matricule ]],BASESERVICE,4,FALSE),"") | X18: =IF(ISNA(VLOOKUP($D18,Base,8,FALSE))," ",+VLOOKUP($D18,Base,8,FALSE))
A19: =IF(Tableau43[[#This Row],[Nom ]]<>"",VLOOKUP(Tableau43[[#This Row],[Matricule ]],BASEDATA,5,FALSE),"") | B19: =IF(Tableau43[[#This Row],[Nom ]]<>"",VLOOKUP(Tableau43[[#This Row],[Matricule ]],BASEDATA,3,FALSE),"") | C19: =IF(Tableau43[[#This Row],[Nom ]]<>"",VLOOKUP(Tableau43[[#This Row],[Matricule ]],BASEDATA,2,FALSE),"") | D19: =IF(Tableau43[[#This Row],[Nom ]]<>"",VLOOKUP(E19,DATA!A:U,3,FALSE),"") | F19: =IF(Tableau43[[#This Row],[Nom ]]<>"",VLOOKUP(E19,DATA!A:U,2,FALSE),"") | G19: =IF(Tableau43[[#This Row],[Nom ]]<>"",VLOOKUP(Tableau43[[#This Row],[Matricule ]],BASESERVICE,4,FALSE),"") | X19: =IF(ISNA(VLOOKUP($D19,Base,8,FALSE))," ",+VLOOKUP($D19,Base,8,FALSE))
A20: =IF(Tableau43[[#This Row],[Nom ]]<>"",VLOOKUP(Tableau43[[#This Row],[Matricule ]],BASEDATA,5,FALSE),"") | B20: =IF(Tableau43[[#This Row],[Nom ]]<>"",VLOOKUP(Tableau43[[#This Row],[Matricule ]],BASEDATA,3,FALSE),"") | C20: =IF(Tableau43[[#This Row],[Nom ]]<>"",VLOOKUP(Tableau43[[#This Row],[Matricule ]],BASEDATA,2,FALSE),"") | D20: =IF(Tableau43[[#This Row],[Nom ]]<>"",VLOOKUP(E20,DATA!A:U,3,FALSE),"") | F20: =IF(Tableau43[[#This Row],[Nom ]]<>"",VLOOKUP(E20,DATA!A:U,2,FALSE),"") | G20: =IF(Tableau43[[#This Row],[Nom ]]<>"",VLOOKUP(Tableau43[[#This Row],[Matricule ]],BASESERVICE,4,FALSE),"") | X20: =IF(ISNA(VLOOKUP($D20,Base,8,FALSE))," ",+VLOOKUP($D20,Base,8,FALSE))
A21: =IF(Tableau43[[#This Row],[Nom ]]<>"",VLOOKUP(Tableau43[[#This Row],[Matricule ]],BASEDATA,5,FALSE),"") | B21: =IF(Tableau43[[#This Row],[Nom ]]<>"",VLOOKUP(Tableau43[[#This Row],[Matricule ]],BASEDATA,3,FALSE),"") | C21: =IF(Tableau43[[#This Row],[Nom ]]<>"",VLOOKUP(Tableau43[[#This Row],[Matricule ]],BASEDATA,2,FALSE),"") | D21: =IF(Tableau43[[#This Row],[Nom ]]<>"",VLOOKUP(E21,DATA!A:U,3,FALSE),"") | F21: =IF(Tableau43[[#This Row],[Nom ]]<>"",VLOOKUP(E21,DATA!A:U,2,FALSE),"") | G21: =IF(Tableau43[[#This Row],[Nom ]]<>"",VLOOKUP(Tableau43[[#This Row],[Matricule ]],BASESERVICE,4,FALSE),"") | X21: =IF(ISNA(VLOOKUP($D21,Base,8,FALSE))," ",+VLOOKUP($D21,Base,8,FALSE))
A22: =IF(Tableau43[[#This Row],[Nom ]]<>"",VLOOKUP(Tableau43[[#This Row],[Matricule ]],BASEDATA,5,FALSE),"") | B22: =IF(Tableau43[[#This Row],[Nom ]]<>"",VLOOKUP(Tableau43[[#This Row],[Matricule ]],BASEDATA,3,FALSE),"") | C22: =IF(Tableau43[[#This Row],[Nom ]]<>"",VLOOKUP(Tableau43[[#This Row],[Matricule ]],BASEDATA,2,FALSE),"") | D22: =IF(Tableau43[[#This Row],[Nom ]]<>"",VLOOKUP(E22,DATA!A:U,3,FALSE),"") | F22: =IF(Tableau43[[#This Row],[Nom ]]<>"",VLOOKUP(E22,DATA!A:U,2,FALSE),"") | G22: =IF(Tableau43[[#This Row],[Nom ]]<>"",VLOOKUP(Tableau43[[#This Row],[Matricule ]],BASESERVICE,4,FALSE),"") | X22: =IF(ISNA(VLOOKUP($D22,Base,8,FALSE))," ",+VLOOKUP($D22,Base,8,FALSE))
A23: =IF(Tableau43[[#This Row],[Nom ]]<>"",VLOOKUP(Tableau43[[#This Row],[Matricule ]],BASEDATA,5,FALSE),"") | B23: =IF(Tableau43[[#This Row],[Nom ]]<>"",VLOOKUP(Tableau43[[#This Row],[Matricule ]],BASEDATA,3,FALSE),"") | C23: =IF(Tableau43[[#This Row],[Nom ]]<>"",VLOOKUP(Tableau43[[#This Row],[Matricule ]],BASEDATA,2,FALSE),"") | D23: =IF(Tableau43[[#This Row],[Nom ]]<>"",VLOOKUP(E23,DATA!A:U,3,FALSE),"") | F23: =IF(Tableau43[[#This Row],[Nom ]]<>"",VLOOKUP(E23,DATA!A:U,2,FALSE),"") | G23: =IF(Tableau43[[#This Row],[Nom ]]<>"",VLOOKUP(Tableau43[[#This Row],[Matricule ]],BASESERVICE,4,FALSE),"") | X23: =IF(ISNA(VLOOKUP($D23,Base,8,FALSE))," ",+VLOOKUP($D23,Base,8,FALSE))
A24: =IF(Tableau43[[#This Row],[Nom ]]<>"",VLOOKUP(Tableau43[[#This Row],[Matricule ]],BASEDATA,5,FALSE),"") | B24: =IF(Tableau43[[#This Row],[Nom ]]<>"",VLOOKUP(Tableau43[[#This Row],[Matricule ]],BASEDATA,3,FALSE),"") | C24: =IF(Tableau43[[#This Row],[Nom ]]<>"",VLOOKUP(Tableau43[[#This Row],[Matricule ]],BASEDATA,2,FALSE),"") | D24: =IF(Tableau43[[#This Row],[Nom ]]<>"",VLOOKUP(E24,DATA!A:U,3,FALSE),"") | F24: =IF(Tableau43[[#This Row],[Nom ]]<>"",VLOOKUP(E24,DATA!A:U,2,FALSE),"") | G24: =IF(Tableau43[[#This Row],[Nom ]]<>"",VLOOKUP(Tableau43[[#This Row],[Matricule ]],BASESERVICE,4,FALSE),"")
A25: =IF(Tableau43[[#This Row],[Nom ]]<>"",VLOOKUP(Tableau43[[#This Row],[Matricule ]],BASEDATA,5,FALSE),"") | B25: =IF(Tableau43[[#This Row],[Nom ]]<>"",VLOOKUP(Tableau43[[#This Row],[Matricule ]],BASEDATA,3,FALSE),"") | C25: =IF(Tableau43[[#This Row],[Nom ]]<>"",VLOOKUP(Tableau43[[#This Row],[Matricule ]],BASEDATA,2,FALSE),"") | D25: =IF(Tableau43[[#This Row],[Nom ]]<>"",VLOOKUP(E25,DATA!A:U,3,FALSE),"") | F25: =IF(Tableau43[[#This Row],[Nom ]]<>"",VLOOKUP(E25,DATA!A:U,2,FALSE),"") | G25: =IF(Tableau43[[#This Row],[Nom ]]<>"",VLOOKUP(Tableau43[[#This Row],[Matricule ]],BASESERVICE,4,FALSE),"")
A26: =IF(Tableau43[[#This Row],[Nom ]]<>"",VLOOKUP(Tableau43[[#This Row],[Matricule ]],BASEDATA,5,FALSE),"") | B26: =IF(Tableau43[[#This Row],[Nom ]]<>"",VLOOKUP(Tableau43[[#This Row],[Matricule ]],BASEDATA,3,FALSE),"") | C26: =IF(Tableau43[[#This Row],[Nom ]]<>"",VLOOKUP(Tableau43[[#This Row],[Matricule ]],BASEDATA,2,FALSE),"") | D26: =IF(Tableau43[[#This Row],[Nom ]]<>"",VLOOKUP(E26,DATA!A:U,3,FALSE),"") | F26: =IF(Tableau43[[#This Row],[Nom ]]<>"",VLOOKUP(E26,DATA!A:U,2,FALSE),"") | G26: =IF(Tableau43[[#This Row],[Nom ]]<>"",VLOOKUP(Tableau43[[#This Row],[Matricule ]],BASESERVICE,4,FALSE),"")
A27: =IF(Tableau43[[#This Row],[Nom ]]<>"",VLOOKUP(Tableau43[[#This Row],[Matricule ]],BASEDATA,5,FALSE),"") | B27: =IF(Tableau43[[#This Row],[Nom ]]<>"",VLOOKUP(Tableau43[[#This Row],[Matricule ]],BASEDATA,3,FALSE),"") | C27: =IF(Tableau43[[#This Row],[Nom ]]<>"",VLOOKUP(Tableau43[[#This Row],[Matricule ]],BASEDATA,2,FALSE),"") | D27: =IF(Tableau43[[#This Row],[Nom ]]<>"",VLOOKUP(E27,DATA!A:U,3,FALSE),"") | F27: =IF(Tableau43[[#This Row],[Nom ]]<>"",VLOOKUP(E27,DATA!A:U,2,FALSE),"") | G27: =IF(Tableau43[[#This Row],[Nom ]]<>"",VLOOKUP(Tableau43[[#This Row],[Matricule ]],BASESERVICE,4,FALSE),"")
A28: =IF(Tableau43[[#This Row],[Nom ]]<>"",VLOOKUP(Tableau43[[#This Row],[Matricule ]],BASEDATA,5,FALSE),"") | B28: =IF(Tableau43[[#This Row],[Nom ]]<>"",VLOOKUP(Tableau43[[#This Row],[Matricule ]],BASEDATA,3,FALSE),"") | C28: =IF(Tableau43[[#This Row],[Nom ]]<>"",VLOOKUP(Tableau43[[#This Row],[Matricule ]],BASEDATA,2,FALSE),"") | D28: =IF(Tableau43[[#This Row],[Nom ]]<>"",VLOOKUP(E28,DATA!A:U,3,FALSE),"") | F28: =IF(Tableau43[[#This Row],[Nom ]]<>"",VLOOKUP(E28,DATA!A:U,2,FALSE),"") | G28: =IF(Tableau43[[#This Row],[Nom ]]<>"",VLOOKUP(Tableau43[[#This Row],[Matricule ]],BASESERVICE,4,FALSE),"")
A29: =IF(Tableau43[[#This Row],[Nom ]]<>"",VLOOKUP(Tableau43[[#This Row],[Matricule ]],BASEDATA,5,FALSE),"") | B29: =IF(Tableau43[[#This Row],[Nom ]]<>"",VLOOKUP(Tableau43[[#This Row],[Matricule ]],BASEDATA,3,FALSE),"") | C29: =IF(Tableau43[[#This Row],[Nom ]]<>"",VLOOKUP(Tableau43[[#This Row],[Matricule ]],BASEDATA,2,FALSE),"") | D29: =IF(Tableau43[[#This Row],[Nom ]]<>"",VLOOKUP(E29,DATA!A:U,3,FALSE),"") | F29: =IF(Tableau43[[#This Row],[Nom ]]<>"",VLOOKUP(E29,DATA!A:U,2,FALSE),"") | G29: =IF(Tableau43[[#This Row],[Nom ]]<>"",VLOOKUP(Tableau43[[#This Row],[Matricule ]],BASESERVICE,4,FALSE),"")
A30: =IF(Tableau43[[#This Row],[Nom ]]<>"",VLOOKUP(Tableau43[[#This Row],[Matricule ]],BASEDATA,5,FALSE),"") | B30: =IF(Tableau43[[#This Row],[Nom ]]<>"",VLOOKUP(Tableau43[[#This Row],[Matricule ]],BASEDATA,3,FALSE),"") | C30: =IF(Tableau43[[#This Row],[Nom ]]<>"",VLOOKUP(Tableau43[[#This Row],[Matricule ]],BASEDATA,2,FALSE),"") | D30: =IF(Tableau43[[#This Row],[Nom ]]<>"",VLOOKUP(E30,DATA!A:U,3,FALSE),"") | F30: =IF(Tableau43[[#This Row],[Nom ]]<>"",VLOOKUP(E30,DATA!A:U,2,FALSE),"") | G30: =IF(Tableau43[[#This Row],[Nom ]]<>"",VLOOKUP(Tableau43[[#This Row],[Matricule ]],BASESERVICE,4,FALSE),"")
A31: =IF(Tableau43[[#This Row],[Nom ]]<>"",VLOOKUP(Tableau43[[#This Row],[Matricule ]],BASEDATA,5,FALSE),"") | B31: =IF(Tableau43[[#This Row],[Nom ]]<>"",VLOOKUP(Tableau43[[#This Row],[Matricule ]],BASEDATA,3,FALSE),"") | C31: =IF(Tableau43[[#This Row],[Nom ]]<>"",VLOOKUP(Tableau43[[#This Row],[Matricule ]],BASEDATA,2,FALSE),"") | D31: =IF(Tableau43[[#This Row],[Nom ]]<>"",VLOOKUP(E31,DATA!A:U,3,FALSE),"") | F31: =IF(Tableau43[[#This Row],[Nom ]]<>"",VLOOKUP(E31,DATA!A:U,2,FALSE),"") | G31: =IF(Tableau43[[#This Row],[Nom ]]<>"",VLOOKUP(Tableau43[[#This Row],[Matricule ]],BASESERVICE,4,FALSE),"")
A32: =IF(Tableau43[[#This Row],[Nom ]]<>"",VLOOKUP(Tableau43[[#This Row],[Matricule ]],BASEDATA,5,FALSE),"") | B32: =IF(Tableau43[[#This Row],[Nom ]]<>"",VLOOKUP(Tableau43[[#This Row],[Matricule ]],BASEDATA,3,FALSE),"") | C32: =IF(Tableau43[[#This Row],[Nom ]]<>"",VLOOKUP(Tableau43[[#This Row],[Matricule ]],BASEDATA,2,FALSE),"") | D32: =IF(Tableau43[[#This Row],[Nom ]]<>"",VLOOKUP(E32,DATA!A:U,3,FALSE),"") | F32: =IF(Tableau43[[#This Row],[Nom ]]<>"",VLOOKUP(E32,DATA!A:U,2,FALSE),"") | G32: =IF(Tableau43[[#This Row],[Nom ]]<>"",VLOOKUP(Tableau43[[#This Row],[Matricule ]],BASESERVICE,4,FALSE),"")
A33: =IF(Tableau43[[#This Row],[Nom ]]<>"",VLOOKUP(Tableau43[[#This Row],[Matricule ]],BASEDATA,5,FALSE),"") | B33: =IF(Tableau43[[#This Row],[Nom ]]<>"",VLOOKUP(Tableau43[[#This Row],[Matricule ]],BASEDATA,3,FALSE),"") | C33: =IF(Tableau43[[#This Row],[Nom ]]<>"",VLOOKUP(Tableau43[[#This Row],[Matricule ]],BASEDATA,2,FALSE),"") | D33: =IF(Tableau43[[#This Row],[Nom ]]<>"",VLOOKUP(E33,DATA!A:U,3,FALSE),"") | F33: =IF(Tableau43[[#This Row],[Nom ]]<>"",VLOOKUP(E33,DATA!A:U,2,FALSE),"") | G33: =IF(Tableau43[[#This Row],[Nom ]]<>"",VLOOKUP(Tableau43[[#This Row],[Matricule ]],BASESERVICE,4,FALSE),"")
A34: =IF(Tableau43[[#This Row],[Nom ]]<>"",VLOOKUP(Tableau43[[#This Row],[Matricule ]],BASEDATA,5,FALSE),"") | B34: =IF(Tableau43[[#This Row],[Nom ]]<>"",VLOOKUP(Tableau43[[#This Row],[Matricule ]],BASEDATA,3,FALSE),"") | C34: =IF(Tableau43[[#This Row],[Nom ]]<>"",VLOOKUP(Tableau43[[#This Row],[Matricule ]],BASEDATA,2,FALSE),"") | D34: =IF(Tableau43[[#This Row],[Nom ]]<>"",VLOOKUP(E34,DATA!A:U,3,FALSE),"") | F34: =IF(Tableau43[[#This Row],[Nom ]]<>"",VLOOKUP(E34,DATA!A:U,2,FALSE),"") | G34: =IF(Tableau43[[#This Row],[Nom ]]<>"",VLOOKUP(Tableau43[[#This Row],[Matricule ]],BASESERVICE,4,FALSE),"")
A35: =IF(Tableau43[[#This Row],[Nom ]]<>"",VLOOKUP(Tableau43[[#This Row],[Matricule ]],BASEDATA,5,FALSE),"") | B35: =IF(Tableau43[[#This Row],[Nom ]]<>"",VLOOKUP(Tableau43[[#This Row],[Matricule ]],BASEDATA,3,FALSE),"") | C35: =IF(Tableau43[[#This Row],[Nom ]]<>"",VLOOKUP(Tableau43[[#This Row],[Matricule ]],BASEDATA,2,FALSE),"") | D35: =IF(Tableau43[[#This Row],[Nom ]]<>"",VLOOKUP(E35,DATA!A:U,3,FALSE),"") | F35: =IF(Tableau43[[#This Row],[Nom ]]<>"",VLOOKUP(E35,DATA!A:U,2,FALSE),"") | G35: =IF(Tableau43[[#This Row],[Nom ]]<>"",VLOOKUP(Tableau43[[#This Row],[Matricule ]],BASESERVICE,4,FALSE),"")
... A177: =IF(Tableau43[[#This Row],[Nom ]]<>"",VLOOKUP(Tableau43[[#This Row],[Matricule ]],BASEDATA,5,FALSE),"") | B177: =IF(Tableau43[[#This Row],[Nom ]]<>"",VLOOKUP(Tableau43[[#This Row],[Matricule ]],BASEDATA,3,FALSE),"") | C177: =IF(Tableau43[[#This Row],[Nom ]]<>"",VLOOKUP(Tableau43[[#This Row],[Matricule ]],BASEDATA,2,FALSE),"") | D177: =IF(Tableau43[[#This Row],[Nom ]]<>"",VLOOKUP(E177,DATA!A:U,3,FALSE),"") | F177: =IF(Tableau43[[#This Row],[Nom ]]<>"",VLOOKUP(E177,DATA!A:U,2,FALSE),"") | G177: =IF(Tableau43[[#This Row],[Nom ]]<>"",VLOOKUP(Tableau43[[#This Row],[Matricule ]],BASESERVICE,4,FALSE),"")
A178: =IF(Tableau43[[#This Row],[Nom ]]<>"",VLOOKUP(Tableau43[[#This Row],[Matricule ]],BASEDATA,5,FALSE),"") | B178: =IF(Tableau43[[#This Row],[Nom ]]<>"",VLOOKUP(Tableau43[[#This Row],[Matricule ]],BASEDATA,3,FALSE),"") | C178: =IF(Tableau43[[#This Row],[Nom ]]<>"",VLOOKUP(Tableau43[[#This Row],[Matricule ]],BASEDATA,2,FALSE),"") | D178: =IF(Tableau43[[#This Row],[Nom ]]<>"",VLOOKUP(E178,DATA!A:U,3,FALSE),"") | F178: =IF(Tableau43[[#This Row],[Nom ]]<>"",VLOOKUP(E178,DATA!A:U,2,FALSE),"") | G178: =IF(Tableau43[[#This Row],[Nom ]]<>"",VLOOKUP(Tableau43[[#This Row],[Matricule ]],BASESERVICE,4,FALSE),"") | S178: =IF(ISNA(VLOOKUP($D178,Base,5,FALSE))," ",+VLOOKUP($D178,Base,5,FALSE)) | T178: =IF(ISNA(VLOOKUP($D178,Base,6,FALSE))," ",+VLOOKUP($D178,Base,6,FALSE)) | U178: =IF(ISNA(VLOOKUP($D178,Base,11,FALSE))," ",+VLOOKUP($D178,Base,11,FALSE)) | V178: =IF(ISNA(VLOOKUP($D178,Base,12,FALSE))," ",+VLOOKUP($D178,Base,12,FALSE)) | W178: =IF(ISNA(VLOOKUP($D178,Base,7,FALSE))," ",+VLOOKUP($D178,Base,7,FALSE)) | X178: =IF(ISNA(VLOOKUP($D178,Base,8,FALSE))," ",+VLOOKUP($D178,Base,8,FALSE))
A179: =IF(Tableau43[[#This Row],[Nom ]]<>"",VLOOKUP(Tableau43[[#This Row],[Matricule ]],BASEDATA,5,FALSE),"") | B179: =IF(Tableau43[[#This Row],[Nom ]]<>"",VLOOKUP(Tableau43[[#This Row],[Matricule ]],BASEDATA,3,FALSE),"") | C179: =IF(Tableau43[[#This Row],[Nom ]]<>"",VLOOKUP(Tableau43[[#This Row],[Matricule ]],BASEDATA,2,FALSE),"") | D179: =IF(Tableau43[[#This Row],[Nom ]]<>"",VLOOKUP(E179,DATA!A:U,3,FALSE),"") | F179: =IF(Tableau43[[#This Row],[Nom ]]<>"",VLOOKUP(E179,DATA!A:U,2,FALSE),"") | G179: =IF(Tableau43[[#This Row],[Nom ]]<>"",VLOOKUP(Tableau43[[#This Row],[Matricule ]],BASESERVICE,4,FALSE),"") | S179: =IF(ISNA(VLOOKUP($D179,Base,5,FALSE))," ",+VLOOKUP($D179,Base,5,FALSE)) | T179: =IF(ISNA(VLOOKUP($D179,Base,6,FALSE))," ",+VLOOKUP($D179,Base,6,FALSE)) | U179: =IF(ISNA(VLOOKUP($D179,Base,11,FALSE))," ",+VLOOKUP($D179,Base,11,FALSE)) | V179: =IF(ISNA(VLOOKUP($D179,Base,12,FALSE))," ",+VLOOKUP($D179,Base,12,FALSE)) | W179: =IF(ISNA(VLOOKUP($D179,Base,7,FALSE))," ",+VLOOKUP($D179,Base,7,FALSE)) | X179: =IF(ISNA(VLOOKUP($D179,Base,8,FALSE))," ",+VLOOKUP($D179,Base,8,FALSE))
A180: =IF(Tableau43[[#This Row],[Nom ]]<>"",VLOOKUP(Tableau43[[#This Row],[Matricule ]],BASEDATA,5,FALSE),"") | B180: =IF(Tableau43[[#This Row],[Nom ]]<>"",VLOOKUP(Tableau43[[#This Row],[Matricule ]],BASEDATA,3,FALSE),"") | C180: =IF(Tableau43[[#This Row],[Nom ]]<>"",VLOOKUP(Tableau43[[#This Row],[Matricule ]],BASEDATA,2,FALSE),"") | D180: =IF(Tableau43[[#This Row],[Nom ]]<>"",VLOOKUP(E180,DATA!A:U,3,FALSE),"") | F180: =IF(Tableau43[[#This Row],[Nom ]]<>"",VLOOKUP(E180,DATA!A:U,2,FALSE),"") | G180: =IF(Tableau43[[#This Row],[Nom ]]<>"",VLOOKUP(Tableau43[[#This Row],[Matricule ]],BASESERVICE,4,FALSE),"") | S180: =IF(ISNA(VLOOKUP($D180,Base,5,FALSE))," ",+VLOOKUP($D180,Base,5,FALSE)) | T180: =IF(ISNA(VLOOKUP($D180,Base,6,FALSE))," ",+VLOOKUP($D180,Base,6,FALSE)) | U180: =IF(ISNA(VLOOKUP($D180,Base,11,FALSE))," ",+VLOOKUP($D180,Base,11,FALSE)) | V180: =IF(ISNA(VLOOKUP($D180,Base,12,FALSE))," ",+VLOOKUP($D180,Base,12,FALSE)) | W180: =IF(ISNA(VLOOKUP($D180,Base,7,FALSE))," ",+VLOOKUP($D180,Base,7,FALSE)) | X180: =IF(ISNA(VLOOKUP($D180,Base,8,FALSE))," ",+VLOOKUP($D180,Base,8,FALSE))
A181: =IF(Tableau43[[#This Row],[Nom ]]<>"",VLOOKUP(Tableau43[[#This Row],[Matricule ]],BASEDATA,5,FALSE),"") | B181: =IF(Tableau43[[#This Row],[Nom ]]<>"",VLOOKUP(Tableau43[[#This Row],[Matricule ]],BASEDATA,3,FALSE),"") | C181: =IF(Tableau43[[#This Row],[Nom ]]<>"",VLOOKUP(Tableau43[[#This Row],[Matricule ]],BASEDATA,2,FALSE),"") | D181: =IF(Tableau43[[#This Row],[Nom ]]<>"",VLOOKUP(E181,DATA!A:U,3,FALSE),"") | F181: =IF(Tableau43[[#This Row],[Nom ]]<>"",VLOOKUP(E181,DATA!A:U,2,FALSE),"") | G181: =IF(Tableau43[[#This Row],[Nom ]]<>"",VLOOKUP(Tableau43[[#This Row],[Matricule ]],BASESERVICE,4,FALSE),"") | S181: =IF(ISNA(VLOOKUP($D181,Base,5,FALSE))," ",+VLOOKUP($D181,Base,5,FALSE)) | T181: =IF(ISNA(VLOOKUP($D181,Base,6,FALSE))," ",+VLOOKUP($D181,Base,6,FALSE)) | U181: =IF(ISNA(VLOOKUP($D181,Base,11,FALSE))," ",+VLOOKUP($D181,Base,11,FALSE)) | V181: =IF(ISNA(VLOOKUP($D181,Base,12,FALSE))," ",+VLOOKUP($D181,Base,12,FALSE)) | W181: =IF(ISNA(VLOOKUP($D181,Base,7,FALSE))," ",+VLOOKUP($D181,Base,7,FALSE)) | X181: =IF(ISNA(VLOOKUP($D181,Base,8,FALSE))," ",+VLOOKUP($D181,Base,8,FALSE))
A182: =IF(Tableau43[[#This Row],[Nom ]]<>"",VLOOKUP(Tableau43[[#This Row],[Matricule ]],BASEDATA,5,FALSE),"") | B182: =IF(Tableau43[[#This Row],[Nom ]]<>"",VLOOKUP(Tableau43[[#This Row],[Matricule ]],BASEDATA,3,FALSE),"") | C182: =IF(Tableau43[[#This Row],[Nom ]]<>"",VLOOKUP(Tableau43[[#This Row],[Matricule ]],BASEDATA,2,FALSE),"") | D182: =IF(Tableau43[[#This Row],[Nom ]]<>"",VLOOKUP(E182,DATA!A:U,3,FALSE),"") | F182: =IF(Tableau43[[#This Row],[Nom ]]<>"",VLOOKUP(E182,DATA!A:U,2,FALSE),"") | G182: =IF(Tableau43[[#This Row],[Nom ]]<>"",VLOOKUP(Tableau43[[#This Row],[Matricule ]],BASESERVICE,4,FALSE),"") | S182: =IF(ISNA(VLOOKUP($D182,Base,5,FALSE))," ",+VLOOKUP($D182,Base,5,FALSE)) | T182: =IF(ISNA(VLOOKUP($D182,Base,6,FALSE))," ",+VLOOKUP($D182,Base,6,FALSE)) | U182: =IF(ISNA(VLOOKUP($D182,Base,11,FALSE))," ",+VLOOKUP($D182,Base,11,FALSE)) | V182: =IF(ISNA(VLOOKUP($D182,Base,12,FALSE))," ",+VLOOKUP($D182,Base,12,FALSE)) | W182: =IF(ISNA(VLOOKUP($D182,Base,7,FALSE))," ",+VLOOKUP($D182,Base,7,FALSE)) | X182: =IF(ISNA(VLOOKUP($D182,Base,8,FALSE))," ",+VLOOKUP($D182,Base,8,FALSE))
A183: =IF(Tableau43[[#This Row],[Nom ]]<>"",VLOOKUP(Tableau43[[#This Row],[Matricule ]],BASEDATA,5,FALSE),"") | B183: =IF(Tableau43[[#This Row],[Nom ]]<>"",VLOOKUP(Tableau43[[#This Row],[Matricule ]],BASEDATA,3,FALSE),"") | C183: =IF(Tableau43[[#This Row],[Nom ]]<>"",VLOOKUP(Tableau43[[#This Row],[Matricule ]],BASEDATA,2,FALSE),"") | D183: =IF(Tableau43[[#This Row],[Nom ]]<>"",VLOOKUP(E183,DATA!A:U,3,FALSE),"") | F183: =IF(Tableau43[[#This Row],[Nom ]]<>"",VLOOKUP(E183,DATA!A:U,2,FALSE),"") | G183: =IF(Tableau43[[#This Row],[Nom ]]<>"",VLOOKUP(Tableau43[[#This Row],[Matricule ]],BASESERVICE,4,FALSE),"") | S183: =IF(ISNA(VLOOKUP($D183,Base,5,FALSE))," ",+VLOOKUP($D183,Base,5,FALSE)) | T183: =IF(ISNA(VLOOKUP($D183,Base,6,FALSE))," ",+VLOOKUP($D183,Base,6,FALSE)) | U183: =IF(ISNA(VLOOKUP($D183,Base,11,FALSE))," ",+VLOOKUP($D183,Base,11,FALSE)) | V183: =IF(ISNA(VLOOKUP($D183,Base,12,FALSE))," ",+VLOOKUP($D183,Base,12,FALSE)) | W183: =IF(ISNA(VLOOKUP($D183,Base,7,FALSE))," ",+VLOOKUP($D183,Base,7,FALSE)) | X183: =IF(ISNA(VLOOKUP($D183,Base,8,FALSE))," ",+VLOOKUP($D183,Base,8,FALSE))
A184: =IF(Tableau43[[#This Row],[Nom ]]<>"",VLOOKUP(Tableau43[[#This Row],[Matricule ]],BASEDATA,5,FALSE),"") | B184: =IF(Tableau43[[#This Row],[Nom ]]<>"",VLOOKUP(Tableau43[[#This Row],[Matricule ]],BASEDATA,3,FALSE),"") | C184: =IF(Tableau43[[#This Row],[Nom ]]<>"",VLOOKUP(Tableau43[[#This Row],[Matricule ]],BASEDATA,2,FALSE),"") | D184: =IF(Tableau43[[#This Row],[Nom ]]<>"",VLOOKUP(E184,DATA!A:U,3,FALSE),"") | F184: =IF(Tableau43[[#This Row],[Nom ]]<>"",VLOOKUP(E184,DATA!A:U,2,FALSE),"") | G184: =IF(Tableau43[[#This Row],[Nom ]]<>"",VLOOKUP(Tableau43[[#This Row],[Matricule ]],BASESERVICE,4,FALSE),"") | S184: =IF(ISNA(VLOOKUP($D184,Base,5,FALSE))," ",+VLOOKUP($D184,Base,5,FALSE)) | T184: =IF(ISNA(VLOOKUP($D184,Base,6,FALSE))," ",+VLOOKUP($D184,Base,6,FALSE)) | U184: =IF(ISNA(VLOOKUP($D184,Base,11,FALSE))," ",+VLOOKUP($D184,Base,11,FALSE)) | V184: =IF(ISNA(VLOOKUP($D184,Base,12,FALSE))," ",+VLOOKUP($D184,Base,12,FALSE)) | W184: =IF(ISNA(VLOOKUP($D184,Base,7,FALSE))," ",+VLOOKUP($D184,Base,7,FALSE)) | X184: =IF(ISNA(VLOOKUP($D184,Base,8,FALSE))," ",+VLOOKUP($D184,Base,8,FALSE))
...

Sheet Service
F1: Plan de formation 2019 - Service
D3: Effectif | E3: Nb actions | F3: Nb H | G3: Coûts pédago. | H3: Coûts salariaux | I3: Coûts totaux
C4: Totaux | D4: =COUNTA(DATA!A2:A379) -> 236 | E4: =COUNTA(H12:H643) -> 308 | F4: =SUM(K12:K643) -> 1726 | G4: =SUM(L12:L643) -> 38115 | H4: =SUM(V12:V191) -> 0 | I4: =G4+H4 -> 38115
C6: Sous-Totaux | E6: =SUBTOTAL(3,H12:H643) -> 308 | F6: =SUBTOTAL(9,K12:K643) -> 1726 | G6: =SUBTOTAL(9,L12:L643) -> 38115 | H6: =SUBTOTAL(9,V12:V191) -> 0 | I6: =G6+H6 -> 38115
C7: Rapports | E7: =IFERROR(E6/E4,"") -> 1 | F7: =IFERROR(F6/F4,"") -> 1 | G7: =IFERROR(G6/G4,"") -> 1 | H7: =IFERROR(H6/H4,"") | I7: =IFERROR(I6/I4,"") -> 1
A10: SERVICE | D10: COLLABORATEUR | G10: FORMATION | M10: PLAN DE FORMATION 2019
A11: Service | B11: Site | C11: Manager | D11: Matricule | E11: Nom | F11: Prénom | G11: Axe (Filières) | H11: Intitulé | I11: Priorité mger | J11: Organisme | K11: Durée H | L11: Coût péda. | M11: Dispositif (Plan / DIF) | N11: Axe (note cadrage) | O11: Validation (Oui/Non) | P11: Calendrier de réalisation
A12: =IF(Tableau1[[#This Row],[Nom ]]<>"",VLOOKUP(Tableau1[[#This Row],[Matricule ]],BASEDATA,5,FALSE),"") -> DVC | B12: =IF(Tableau1[[#This Row],[Nom ]]<>"",VLOOKUP(Tableau1[[#This Row],[Matricule ]],BASEDATA,3,FALSE),"") -> Aub. | C12: =IF(Tableau1[[#This Row],[Nom ]]<>"",VLOOKUP(Tableau1[[#This Row],[Matricule ]],BASEDATA,2,FALSE),"") -> ALIX | D12: =IF(Tableau1[[#This Row],[Nom ]]<>"",VLOOKUP(E12,DATA!A:U,3,FALSE),"") -> 102933 | E12: AIT HELLAL | F12: =IF(Tableau1[[#This Row],[Nom ]]<>"",VLOOKUP(E12,DATA!A:U,2,FALSE),"") -> Yazid | G12: Sécurité | H12: Incendie | J12: APAVE | K12: 1.5 | L12: 53 | M12: Plan | N12: Formation obligatoire
A13: =IF(Tableau1[[#This Row],[Nom ]]<>"",VLOOKUP(Tableau1[[#This Row],[Matricule ]],BASEDATA,5,FALSE),"") -> DVC | B13: =IF(Tableau1[[#This Row],[Nom ]]<>"",VLOOKUP(Tableau1[[#This Row],[Matricule ]],BASEDATA,3,FALSE),"") -> Aub. | C13: =IF(Tableau1[[#This Row],[Nom ]]<>"",VLOOKUP(Tableau1[[#This Row],[Matricule ]],BASEDATA,2,FALSE),"") -> ALIX | D13: =IF(Tableau1[[#This Row],[Nom ]]<>"",VLOOKUP(E13,DATA!A:U,3,FALSE),"") -> 102933 | E13: AIT HELLAL | F13: =IF(Tableau1[[#This Row],[Nom ]]<>"",VLOOKUP(E13,DATA!A:U,2,FALSE),"") -> Yazid | G13: Sécurité | H13: Recyclage SST | J13: CFSP | K13: 7 | L13: 117 | M13: Plan | N13: Formation obligatoire
A14: =IF(Tableau1[[#This Row],[Nom ]]<>"",VLOOKUP(Tableau1[[#This Row],[Matricule ]],BASEDATA,5,FALSE),"") -> DVC | B14: =IF(Tableau1[[#This Row],[Nom ]]<>"",VLOOKUP(Tableau1[[#This Row],[Matricule ]],BASEDATA,3,FALSE),"") -> STG | C14: =IF(Tableau1[[#This Row],[Nom ]]<>"",VLOOKUP(Tableau1[[#This Row],[Matricule ]],BASEDATA,2,FALSE),"") -> XUEREB | D14: =IF(Tableau1[[#This Row],[Nom ]]<>"",VLOOKUP(E14,DATA!A:U,3,FALSE),"") -> 104634 | E14: ALVES | F14: =IF(Tableau1[[#This Row],[Nom ]]<>"",VLOOKUP(E14,DATA!A:U,2,FALSE),"") -> Paolo | G14: Sécurité | H14: Incendie | J14: APAVE | K14: 1.5 | L14: 53 | M14: Plan | N14: Formation obligatoire
A15: =IF(Tableau1[[#This Row],[Nom ]]<>"",VLOOKUP(Tableau1[[#This Row],[Matricule ]],BASEDATA,5,FALSE),"") -> DVC | B15: =IF(Tableau1[[#This Row],[Nom ]]<>"",VLOOKUP(Tableau1[[#This Row],[Matricule ]],BASEDATA,3,FALSE),"") -> STG | C15: =IF(Tableau1[[#This Row],[Nom ]]<>"",VLOOKUP(Tableau1[[#This Row],[Matricule ]],BASEDATA,2,FALSE),"") -> XUEREB | D15: =IF(Tableau1[[#This Row],[Nom ]]<>"",VLOOKUP(E15,DATA!A:U,3,FALSE),"") -> 104634 | E15: ALVES | F15: =IF(Tableau1[[#This Row],[Nom ]]<>"",VLOOKUP(E15,DATA!A:U,2,FALSE),"") -> Paolo | G15: Sécurité | H15: Risques chimiques | J15: APAVE | K15: 7 | L15: 162 | M15: Plan | N15: Formation obligatoire
A16: =IF(Tableau1[[#This Row],[Nom ]]<>"",VLOOKUP(Tableau1[[#This Row],[Matricule ]],BASEDATA,5,FALSE),"") -> DVC | B16: =IF(Tableau1[[#This Row],[Nom ]]<>"",VLOOKUP(Tableau1[[#This Row],[Matricule ]],BASEDATA,3,FALSE),"") -> STG | C16: =IF(Tableau1[[#This Row],[Nom ]]<>"",VLOOKUP(Tableau1[[#This Row],[Matricule ]],BASEDATA,2,FALSE),"") -> XUEREB | D16: =IF(Tableau1[[#This Row],[Nom ]]<>"",VLOOKUP(E16,DATA!A:U,3,FALSE),"") -> 104634 | E16: ALVES | F16: =IF(Tableau1[[#This Row],[Nom ]]<>"",VLOOKUP(E16,DATA!A:U,2,FALSE),"") -> Paolo | G16: Sécurité | H16: Recyclage pont rou | J16: APAVE | K16: 7 | L16: 165 | M16: Plan | N16: Formation obligatoire
A17: =IF(Tableau1[[#This Row],[Nom ]]<>"",VLOOKUP(Tableau1[[#This Row],[Matricule ]],BASEDATA,5,FALSE),"") -> DVC | B17: =IF(Tableau1[[#This Row],[Nom ]]<>"",VLOOKUP(Tableau1[[#This Row],[Matricule ]],BASEDATA,3,FALSE),"") -> STG | C17: =IF(Tableau1[[#This Row],[Nom ]]<>"",VLOOKUP(Tableau1[[#This Row],[Matricule ]],BASEDATA,2,FALSE),"") -> XUEREB | D17: =IF(Tableau1[[#This Row],[Nom ]]<>"",VLOOKUP(E17,DATA!A:U,3,FALSE),"") -> 104692 | E17: ARNAUD JOUFFREY | F17: =IF(Tableau1[[#This Row],[Nom ]]<>"",VLOOKUP(E17,DATA!A:U,2,FALSE),"") -> Jean-Marc | G17: Sécurité | H17: Incendie | J17: APAVE | K17: 1.5 | L17: 53 | M17: Plan | N17: Formation obligatoire
A18: =IF(Tableau1[[#This Row],[Nom ]]<>"",VLOOKUP(Tableau1[[#This Row],[Matricule ]],BASEDATA,5,FALSE),"") -> DVC | B18: =IF(Tableau1[[#This Row],[Nom ]]<>"",VLOOKUP(Tableau1[[#This Row],[Matricule ]],BASEDATA,3,FALSE),"") -> STG | C18: =IF(Tableau1[[#This Row],[Nom ]]<>"",VLOOKUP(Tableau1[[#This Row],[Matricule ]],BASEDATA,2,FALSE),"") -> XUEREB | D18: =IF(Tableau1[[#This Row],[Nom ]]<>"",VLOOKUP(E18,DATA!A:U,3,FALSE),"") -> 104692 | E18: ARNAUD JOUFFREY | F18: =IF(Tableau1[[#This Row],[Nom ]]<>"",VLOOKUP(E18,DATA!A:U,2,FALSE),"") -> Jean-Marc | G18: Sécurité | H18: Risques chimiques | J18: APAVE | K18: 7 | L18: 162 | M18: Plan | N18: Formation obligatoire
A19: =IF(Tableau1[[#This Row],[Nom ]]<>"",VLOOKUP(Tableau1[[#This Row],[Matricule ]],BASEDATA,5,FALSE),"") -> DVC | B19: =IF(Tableau1[[#This Row],[Nom ]]<>"",VLOOKUP(Tableau1[[#This Row],[Matricule ]],BASEDATA,3,FALSE),"") -> Aub. | C19: =IF(Tableau1[[#This Row],[Nom ]]<>"",VLOOKUP(Tableau1[[#This Row],[Matricule ]],BASEDATA,2,FALSE),"") -> SAVY | D19: =IF(Tableau1[[#This Row],[Nom ]]<>"",VLOOKUP(E19,DATA!A:U,3,FALSE),"") -> 102936 | E19: ARNAUDE | F19: =IF(Tableau1[[#This Row],[Nom ]]<>"",VLOOKUP(E19,DATA!A:U,2,FALSE),"") -> Emmanuel | G19: Sécurité | H19: Incendie | J19: APAVE | K19: 1.5 | L19: 53 | M19: Plan | N19: Formation obligatoire
A20: =IF(Tableau1[[#This Row],[Nom ]]<>"",VLOOKUP(Tableau1[[#This Row],[Matricule ]],BASEDATA,5,FALSE),"") -> DVC | B20: =IF(Tableau1[[#This Row],[Nom ]]<>"",VLOOKUP(Tableau1[[#This Row],[Matricule ]],BASEDATA,3,FALSE),"") -> Aub. | C20: =IF(Tableau1[[#This Row],[Nom ]]<>"",VLOOKUP(Tableau1[[#This Row],[Matricule ]],BASEDATA,2,FALSE),"") -> SAVY | D20: =IF(Tableau1[[#This Row],[Nom ]]<>"",VLOOKUP(E20,DATA!A:U,3,FALSE),"") -> 102936 | E20: ARNAUDE | F20: =IF(Tableau1[[#This Row],[Nom ]]<>"",VLOOKUP(E20,DATA!A:U,2,FALSE),"") -> Emmanuel | G20: Sécurité | H20: Recyclage SST | J20: CFSP | K20: 7 | L20: 117 | M20: Plan | N20: Formation obligatoire
A21: =IF(Tableau1[[#This Row],[Nom ]]<>"",VLOOKUP(Tableau1[[#This Row],[Matricule ]],BASEDATA,5,FALSE),"") -> DVC | B21: =IF(Tableau1[[#This Row],[Nom ]]<>"",VLOOKUP(Tableau1[[#This Row],[Matricule ]],BASEDATA,3,FALSE),"") -> Aub. | C21: =IF(Tableau1[[#This Row],[Nom ]]<>"",VLOOKUP(Tableau1[[#This Row],[Matricule ]],BASEDATA,2,FALSE),"") -> PIFFAUT | D21: =IF(Tableau1[[#This Row],[Nom ]]<>"",VLOOKUP(E21,DATA!A:U,3,FALSE),"") -> 103038 | E21: ARNAUDJL | F21: =IF(Tableau1[[#This Row],[Nom ]]<>"",VLOOKUP(E21,DATA!A:U,2,FALSE),"") -> Jean-Luc | G21: Sécurité | H21: Incendie | J21: APAVE | K21: 1.5 | L21: 53 | M21: Plan | N21: Formation obligatoire
A22: =IF(Tableau1[[#This Row],[Nom ]]<>"",VLOOKUP(Tableau1[[#This Row],[Matricule ]],BASEDATA,5,FALSE),"") -> DVC | B22: =IF(Tableau1[[#This Row],[Nom ]]<>"",VLOOKUP(Tableau1[[#This Row],[Matricule ]],BASEDATA,3,FALSE),"") -> Aub. | C22: =IF(Tableau1[[#This Row],[Nom ]]<>"",VLOOKUP(Tableau1[[#This Row],[Matricule ]],BASEDATA,2,FALSE),"") -> PIFFAUT | D22: =IF(Tableau1[[#This Row],[Nom ]]<>"",VLOOKUP(E22,DATA!A:U,3,FALSE),"") -> 103038 | E22: ARNAUDJL | F22: =IF(Tableau1[[#This Row],[Nom ]]<>"",VLOOKUP(E22,DATA!A:U,2,FALSE),"") -> Jean-Luc | G22: Sécurité | H22: Recyclage CACES3 | J22: APAVE | K22: 14 | L22: 297 | M22: Plan | N22: Formation obligatoire
A23: =IF(Tableau1[[#This Row],[Nom ]]<>"",VLOOKUP(Tableau1[[#This Row],[Matricule ]],BASEDATA,5,FALSE),"") -> DVC | B23: =IF(Tableau1[[#This Row],[Nom ]]<>"",VLOOKUP(Tableau1[[#This Row],[Matricule ]],BASEDATA,3,FALSE),"") -> Aub. | C23: =IF(Tableau1[[#This Row],[Nom ]]<>"",VLOOKUP(Tableau1[[#This Row],[Matricule ]],BASEDATA,2,FALSE),"") -> PIFFAUT | D23: =IF(Tableau1[[#This Row],[Nom ]]<>"",VLOOKUP(E23,DATA!A:U,3,FALSE),"") -> 103038 | E23: ARNAUDJL | F23: =IF(Tableau1[[#This Row],[Nom ]]<>"",VLOOKUP(E23,DATA!A:U,2,FALSE),"") -> Jean-Luc | G23: Sécurité | H23: Recyclage SST | J23: CFSP | K23: 7 | L23: 117 | M23: Plan | N23: Formation obligatoire
... A58: =IF(Tableau1[[#This Row],[Nom ]]<>"",VLOOKUP(Tableau1[[#This Row],[Matricule ]],BASEDATA,5,FALSE),"") -> DVC | B58: =IF(Tableau1[[#This Row],[Nom ]]<>"",VLOOKUP(Tableau1[[#This Row],[Matricule ]],BASEDATA,3,FALSE),"") -> Aub. | C58: =IF(Tableau1[[#This Row],[Nom ]]<>"",VLOOKUP(Tableau1[[#This Row],[Matricule ]],BASEDATA,2,FALSE),"") -> SENEPART | D58: =IF(Tableau1[[#This Row],[Nom ]]<>"",VLOOKUP(E58,DATA!A:U,3,FALSE),"") -> 103039 | E58: BRANJONNEAU | F58: =IF(Tableau1[[#This Row],[Nom ]]<>"",VLOOKUP(E58,DATA!A:U,2,FALSE),"") -> Didier | G58: Sécurité | H58: Gestes et postures | J58: APAVE | K58: 7 | L58: 124 | M58: Plan | N58: Formation obligatoire
A59: =IF(Tableau1[[#This Row],[Nom ]]<>"",VLOOKUP(Tableau1[[#This Row],[Matricule ]],BASEDATA,5,FALSE),"") -> DVC | B59: =IF(Tableau1[[#This Row],[Nom ]]<>"",VLOOKUP(Tableau1[[#This Row],[Matricule ]],BASEDATA,3,FALSE),"") -> STG | C59: =IF(Tableau1[[#This Row],[Nom ]]<>"",VLOOKUP(Tableau1[[#This Row],[Matricule ]],BASEDATA,2,FALSE),"") -> XUEREB | D59: =IF(Tableau1[[#This Row],[Nom ]]<>"",VLOOKUP(E59,DATA!A:U,3,FALSE),"") -> 10559261 | E59: BRISARD | F59: =IF(Tableau1[[#This Row],[Nom ]]<>"",VLOOKUP(E59,DATA!A:U,2,FALSE),"") -> Simon | G59: Sécurité | H59: Gestes et postures | J59: APAVE | K59: 7 | L59: 124 | M59: Plan | N59: Formation obligatoire | O59: Oui | P59: 2019-Q2
A60: =IF(Tableau1[[#This Row],[Nom ]]<>"",VLOOKUP(Tableau1[[#This Row],[Matricule ]],BASEDATA,5,FALSE),"") -> DVC | B60: =IF(Tableau1[[#This Row],[Nom ]]<>"",VLOOKUP(Tableau1[[#This Row],[Matricule ]],BASEDATA,3,FALSE),"") -> STG | C60: =IF(Tableau1[[#This Row],[Nom ]]<>"",VLOOKUP(Tableau1[[#This Row],[Matricule ]],BASEDATA,2,FALSE),"") -> XUEREB | D60: =IF(Tableau1[[#This Row],[Nom ]]<>"",VLOOKUP(E60,DATA!A:U,3,FALSE),"") -> 10559261 | E60: BRISARD | F60: =IF(Tableau1[[#This Row],[Nom ]]<>"",VLOOKUP(E60,DATA!A:U,2,FALSE),"") -> Simon | G60: Sécurité | H60: Incendie | J60: APAVE | K60: 1.5 | L60: 53 | M60: Plan | N60: Formation obligatoire
A61: =IF(Tableau1[[#This Row],[Nom ]]<>"",VLOOKUP(Tableau1[[#This Row],[Matricule ]],BASEDATA,5,FALSE),"") -> DVC | B61: =IF(Tableau1[[#This Row],[Nom ]]<>"",VLOOKUP(Tableau1[[#This Row],[Matricule ]],BASEDATA,3,FALSE),"") -> STG | C61: =IF(Tableau1[[#This Row],[Nom ]]<>"",VLOOKUP(Tableau1[[#This Row],[Matricule ]],BASEDATA,2,FALSE),"") -> FOUASSIER | D61: =IF(Tableau1[[#This Row],[Nom ]]<>"",VLOOKUP(E61,DATA!A:U,3,FALSE),"") -> 104658 | E61: BRUN | F61: =IF(Tableau1[[#This Row],[Nom ]]<>"",VLOOKUP(E61,DATA!A:U,2,FALSE),"") -> Christian | G61: Sécurité | H61: Incendie | J61: APAVE | K61: 1.5 | L61: 53 | M61: Plan | N61: Formation obligatoire
A62: =IF(Tableau1[[#This Row],[Nom ]]<>"",VLOOKUP(Tableau1[[#This Row],[Matricule ]],BASEDATA,5,FALSE),"") -> DVC | B62: =IF(Tableau1[[#This Row],[Nom ]]<>"",VLOOKUP(Tableau1[[#This Row],[Matricule ]],BASEDATA,3,FALSE),"") -> STG | C62: =IF(Tableau1[[#This Row],[Nom ]]<>"",VLOOKUP(Tableau1[[#This Row],[Matricule ]],BASEDATA,2,FALSE),"") -> FOUASSIER | D62: =IF(Tableau1[[#This Row],[Nom ]]<>"",VLOOKUP(E62,DATA!A:U,3,FALSE),"") -> 104658 | E62: BRUN | F62: =IF(Tableau1[[#This Row],[Nom ]]<>"",VLOOKUP(E62,DATA!A:U,2,FALSE),"") -> Christian | G62: Sécurité | H62: Risques chimiques | J62: APAVE | K62: 7 | L62: 162 | M62: Plan | N62: Formation obligatoire
A63: =IF(Tableau1[[#This Row],[Nom ]]<>"",VLOOKUP(Tableau1[[#This Row],[Matricule ]],BASEDATA,5,FALSE),"") -> DVC | B63: =IF(Tableau1[[#This Row],[Nom ]]<>"",VLOOKUP(Tableau1[[#This Row],[Matricule ]],BASEDATA,3,FALSE),"") -> Aub. | C63: =IF(Tableau1[[#This Row],[Nom ]]<>"",VLOOKUP(Tableau1[[#This Row],[Matricule ]],BASEDATA,2,FALSE),"") -> ALIX | D63: =IF(Tableau1[[#This Row],[Nom ]]<>"",VLOOKUP(E63,DATA!A:U,3,FALSE),"") -> 115869 | E63: BRUNEL | F63: =IF(Tableau1[[#This Row],[Nom ]]<>"",VLOOKUP(E63,DATA!A:U,2,FALSE),"") -> Xavier | G63: Sécurité | H63: Recyclage SST | J63: CFSP | K63: 7 | L63: 117 | M63: Plan | N63: Formation obligatoire
A64: =IF(Tableau1[[#This Row],[Nom ]]<>"",VLOOKUP(Tableau1[[#This Row],[Matricule ]],BASEDATA,5,FALSE),"") -> DVC | B64: =IF(Tableau1[[#This Row],[Nom ]]<>"",VLOOKUP(Tableau1[[#This Row],[Matricule ]],BASEDATA,3,FALSE),"") -> Aub. | C64: =IF(Tableau1[[#This Row],[Nom ]]<>"",VLOOKUP(Tableau1[[#This Row],[Matricule ]],BASEDATA,2,FALSE),"") -> ALIX | D64: =IF(Tableau1[[#This Row],[Nom ]]<>"",VLOOKUP(E64,DATA!A:U,3,FALSE),"") -> 115869 | E64: BRUNEL | F64: =IF(Tableau1[[#This Row],[Nom ]]<>"",VLOOKUP(E64,DATA!A:U,2,FALSE),"") -> Xavier | G64: Sécurité | H64: HAB ELEC | J64: SEEF | K64: 10.5 | L64: 260 | M64: Plan | N64: Formation obligatoire
A65: =IF(Tableau1[[#This Row],[Nom ]]<>"",VLOOKUP(Tableau1[[#This Row],[Matricule ]],BASEDATA,5,FALSE),"") -> DVC | B65: =IF(Tableau1[[#This Row],[Nom ]]<>"",VLOOKUP(Tableau1[[#This Row],[Matricule ]],BASEDATA,3,FALSE),"") -> STG | C65: =IF(Tableau1[[#This Row],[Nom ]]<>"",VLOOKUP(Tableau1[[#This Row],[Matricule ]],BASEDATA,2,FALSE),"") -> FOUASSIER | D65: =IF(Tableau1[[#This Row],[Nom ]]<>"",VLOOKUP(E65,DATA!A:U,3,FALSE),"") -> 104784 | E65: BUISSON | F65: =IF(Tableau1[[#This Row],[Nom ]]<>"",VLOOKUP(E65,DATA!A:U,2,FALSE),"") -> Florian | G65: Sécurité | H65: Incendie | J65: APAVE | K65: 1.5 | L65: 53 | M65: Plan | N65: Formation obligatoire
A66: =IF(Tableau1[[#This Row],[Nom ]]<>"",VLOOKUP(Tableau1[[#This Row],[Matricule ]],BASEDATA,5,FALSE),"") -> DVC | B66: =IF(Tableau1[[#This Row],[Nom ]]<>"",VLOOKUP(Tableau1[[#This Row],[Matricule ]],BASEDATA,3,FALSE),"") -> STG | C66: =IF(Tableau1[[#This Row],[Nom ]]<>"",VLOOKUP(Tableau1[[#This Row],[Matricule ]],BASEDATA,2,FALSE),"") -> FOUASSIER | D66: =IF(Tableau1[[#This Row],[Nom ]]<>"",VLOOKUP(E66,DATA!A:U,3,FALSE),"") -> 104784 | E66: BUISSON | F66: =IF(Tableau1[[#This Row],[Nom ]]<>"",VLOOKUP(E66,DATA!A:U,2,FALSE),"") -> Florian | G66: Sécurité | H66: Recyclage SST | J66: CFSP | K66: 7 | L66: 117 | M66: Plan | N66: Formation obligatoire
A67: =IF(Tableau1[[#This Row],[Nom ]]<>"",VLOOKUP(Tableau1[[#This Row],[Matricule ]],BASEDATA,5,FALSE),"") -> DVC | B67: =IF(Tableau1[[#This Row],[Nom ]]<>"",VLOOKUP(Tableau1[[#This Row],[Matricule ]],BASEDATA,3,FALSE),"") -> STG | C67: =IF(Tableau1[[#This Row],[Nom ]]<>"",VLOOKUP(Tableau1[[#This Row],[Matricule ]],BASEDATA,2,FALSE),"") -> FOUASSIER | D67: =IF(Tableau1[[#This Row],[Nom ]]<>"",VLOOKUP(E67,DATA!A:U,3,FALSE),"") -> 104784 | E67: BUISSON | F67: =IF(Tableau1[[#This Row],[Nom ]]<>"",VLOOKUP(E67,DATA!A:U,2,FALSE),"") -> Florian | G67: Sécurité | H67: HAB ELEC | J67: SEEF | K67: 10.5 | L67: 260 | M67: Plan | N67: Formation obligatoire
A68: =IF(Tableau1[[#This Row],[Nom ]]<>"",VLOOKUP(Tableau1[[#This Row],[Matricule ]],BASEDATA,5,FALSE),"") -> DVC | B68: =IF(Tableau1[[#This Row],[Nom ]]<>"",VLOOKUP(Tableau1[[#This Row],[Matricule ]],BASEDATA,3,FALSE),"") -> STG | C68: =IF(Tableau1[[#This Row],[Nom ]]<>"",VLOOKUP(Tableau1[[#This Row],[Matricule ]],BASEDATA,2,FALSE),"") -> XUEREB | D68: =IF(Tableau1[[#This Row],[Nom ]]<>"",VLOOKUP(E68,DATA!A:U,3,FALSE),"") -> 135347 | E68: BUNEL | F68: =IF(Tableau1[[#This Row],[Nom ]]<>"",VLOOKUP(E68,DATA!A:U,2,FALSE),"") -> Stephane | G68: Sécurité | H68: Incendie | J68: APAVE | K68: 1.5 | L68: 53 | M68: Plan | N68: Formation obligatoire
A69: =IF(Tableau1[[#This Row],[Nom ]]<>"",VLOOKUP(Tableau1[[#This Row],[Matricule ]],BASEDATA,5,FALSE),"") -> DVC | B69: =IF(Tableau1[[#This Row],[Nom ]]<>"",VLOOKUP(Tableau1[[#This Row],[Matricule ]],BASEDATA,3,FALSE),"") -> STG | C69: =IF(Tableau1[[#This Row],[Nom ]]<>"",VLOOKUP(Tableau1[[#This Row],[Matricule ]],BASEDATA,2,FALSE),"") -> XUEREB | D69: =IF(Tableau1[[#This Row],[Nom ]]<>"",VLOOKUP(E69,DATA!A:U,3,FALSE),"") -> 135347 | E69: BUNEL | F69: =IF(Tableau1[[#This Row],[Nom ]]<>"",VLOOKUP(E69,DATA!A:U,2,FALSE),"") -> Stephane | G69: Sécurité | H69: Recyclage SST | J69: CFSP | K69: 7 | L69: 117 | M69: Plan | N69: Formation obligatoire
A70: =IF(Tableau1[[#This Row],[Nom ]]<>"",VLOOKUP(Tableau1[[#This Row],[Matricule ]],BASEDATA,5,FALSE),"") -> DVC | B70: =IF(Tableau1[[#This Row],[Nom ]]<>"",VLOOKUP(Tableau1[[#This Row],[Matricule ]],BASEDATA,3,FALSE),"") -> STG | C70: =IF(Tableau1[[#This Row],[Nom ]]<>"",VLOOKUP(Tableau1[[#This Row],[Matricule ]],BASEDATA,2,FALSE),"") -> XUEREB | D70: =IF(Tableau1[[#This Row],[Nom ]]<>"",VLOOKUP(E70,DATA!A:U,3,FALSE),"") -> 135347 | E70: BUNEL | F70: =IF(Tableau1[[#This Row],[Nom ]]<>"",VLOOKUP(E70,DATA!A:U,2,FALSE),"") -> Stephane | G70: Sécurité | H70: HAB ELEC | J70: SEEF | K70: 10.5 | L70: 260 | M70: Plan | N70: Formation obligatoire
A71: =IF(Tableau1[[#This Row],[Nom ]]<>"",VLOOKUP(Tableau1[[#This Row],[Matricule ]],BASEDATA,5,FALSE),"") -> DVC | B71: =IF(Tableau1[[#This Row],[Nom ]]<>"",VLOOKUP(Tableau1[[#This Row],[Matricule ]],BASEDATA,3,FALSE),"") -> Lattes | C71: =IF(Tableau1[[#This Row],[Nom ]]<>"",VLOOKUP(Tableau1[[#This Row],[Matricule ]],BASEDATA,2,FALSE),"") -> VERNE | D71: =IF(Tableau1[[#This Row],[Nom ]]<>"",VLOOKUP(E71,DATA!A:U,3,FALSE),"") -> 191775 | E71: CABANE | F71: =IF(Tableau1[[#This Row],[Nom ]]<>"",VLOOKUP(E71,DATA!A:U,2,FALSE),"") -> Sylvie | G71: Sécurité | H71: Gestes et postures | J71: APAVE | K71: 7 | L71: 124 | M71: Plan | N71: Formation obligatoire
... A319: =IF(Tableau1[[#This Row],[Nom ]]<>"",VLOOKUP(Tableau1[[#This Row],[Matricule ]],BASEDATA,5,FALSE),"") -> DVC | B319: =IF(Tableau1[[#This Row],[Nom ]]<>"",VLOOKUP(Tableau1[[#This Row],[Matricule ]],BASEDATA,3,FALSE),"") -> STG | C319: =IF(Tableau1[[#This Row],[Nom ]]<>"",VLOOKUP(Tableau1[[#This Row],[Matricule ]],BASEDATA,2,FALSE),"") -> XUEREB | D319: =IF(Tableau1[[#This Row],[Nom ]]<>"",VLOOKUP(E319,DATA!A:U,3,FALSE),"") -> 288570 | E319: ZAYOUT | F319: =IF(Tableau1[[#This Row],[Nom ]]<>"",VLOOKUP(E319,DATA!A:U,2,FALSE),"") -> Larbi | G319: Sécurité | H319: HAB ELEC | J319: SEEF | K319: 10.5 | L319: 260 | M319: Plan | N319: Formation obligatoire
A320: =IF(Tableau1[[#This Row],[Nom ]]<>"",VLOOKUP(Tableau1[[#This Row],[Matricule ]],BASEDATA,5,FALSE),"") | B320: =IF(Tableau1[[#This Row],[Nom ]]<>"",VLOOKUP(Tableau1[[#This Row],[Matricule ]],BASEDATA,3,FALSE),"") | C320: =IF(Tableau1[[#This Row],[Nom ]]<>"",VLOOKUP(Tableau1[[#This Row],[Matricule ]],BASEDATA,2,FALSE),"") | D320: =IF(Tableau1[[#This Row],[Nom ]]<>"",VLOOKUP(E320,DATA!A:U,3,FALSE),"") | F320: =IF(Tableau1[[#This Row],[Nom ]]<>"",VLOOKUP(E320,DATA!A:U,2,FALSE),"") | G320: Sécurité
A321: =IF(Tableau1[[#This Row],[Nom ]]<>"",VLOOKUP(Tableau1[[#This Row],[Matricule ]],BASEDATA,5,FALSE),"") | B321: =IF(Tableau1[[#This Row],[Nom ]]<>"",VLOOKUP(Tableau1[[#This Row],[Matricule ]],BASEDATA,3,FALSE),"") | C321: =IF(Tableau1[[#This Row],[Nom ]]<>"",VLOOKUP(Tableau1[[#This Row],[Matricule ]],BASEDATA,2,FALSE),"") | D321: =IF(Tableau1[[#This Row],[Nom ]]<>"",VLOOKUP(E321,DATA!A:U,3,FALSE),"") | F321: =IF(Tableau1[[#This Row],[Nom ]]<>"",VLOOKUP(E321,DATA!A:U,2,FALSE),"") | G321: Sécurité
A322: =IF(Tableau1[[#This Row],[Nom ]]<>"",VLOOKUP(Tableau1[[#This Row],[Matricule ]],BASEDATA,5,FALSE),"") | B322: =IF(Tableau1[[#This Row],[Nom ]]<>"",VLOOKUP(Tableau1[[#This Row],[Matricule ]],BASEDATA,3,FALSE),"") | C322: =IF(Tableau1[[#This Row],[Nom ]]<>"",VLOOKUP(Tableau1[[#This Row],[Matricule ]],BASEDATA,2,FALSE),"") | D322: =IF(Tableau1[[#This Row],[Nom ]]<>"",VLOOKUP(E322,DATA!A:U,3,FALSE),"") | F322: =IF(Tableau1[[#This Row],[Nom ]]<>"",VLOOKUP(E322,DATA!A:U,2,FALSE),"") | G322: Sécurité
A323: =IF(Tableau1[[#This Row],[Nom ]]<>"",VLOOKUP(Tableau1[[#This Row],[Matricule ]],BASEDATA,5,FALSE),"") | B323: =IF(Tableau1[[#This Row],[Nom ]]<>"",VLOOKUP(Tableau1[[#This Row],[Matricule ]],BASEDATA,3,FALSE),"") | C323: =IF(Tableau1[[#This Row],[Nom ]]<>"",VLOOKUP(Tableau1[[#This Row],[Matricule ]],BASEDATA,2,FALSE),"") | D323: =IF(Tableau1[[#This Row],[Nom ]]<>"",VLOOKUP(E323,DATA!A:U,3,FALSE),"") | F323: =IF(Tableau1[[#This Row],[Nom ]]<>"",VLOOKUP(E323,DATA!A:U,2,FALSE),"") | G323: Sécurité
A324: =IF(Tableau1[[#This Row],[Nom ]]<>"",VLOOKUP(Tableau1[[#This Row],[Matricule ]],BASEDATA,5,FALSE),"") | B324: =IF(Tableau1[[#This Row],[Nom ]]<>"",VLOOKUP(Tableau1[[#This Row],[Matricule ]],BASEDATA,3,FALSE),"") | C324: =IF(Tableau1[[#This Row],[Nom ]]<>"",VLOOKUP(Tableau1[[#This Row],[Matricule ]],BASEDATA,2,FALSE),"") | D324: =IF(Tableau1[[#This Row],[Nom ]]<>"",VLOOKUP(E324,DATA!A:U,3,FALSE),"") | F324: =IF(Tableau1[[#This Row],[Nom ]]<>"",VLOOKUP(E324,DATA!A:U,2,FALSE),"") | G324: Sécurité
A325: =IF(Tableau1[[#This Row],[Nom ]]<>"",VLOOKUP(Tableau1[[#This Row],[Matricule ]],BASEDATA,5,FALSE),"") | B325: =IF(Tableau1[[#This Row],[Nom ]]<>"",VLOOKUP(Tableau1[[#This Row],[Matricule ]],BASEDATA,3,FALSE),"") | C325: =IF(Tableau1[[#This Row],[Nom ]]<>"",VLOOKUP(Tableau1[[#This Row],[Matricule ]],BASEDATA,2,FALSE),"") | D325: =IF(Tableau1[[#This Row],[Nom ]]<>"",VLOOKUP(E325,DATA!A:U,3,FALSE),"") | F325: =IF(Tableau1[[#This Row],[Nom ]]<>"",VLOOKUP(E325,DATA!A:U,2,FALSE),"") | G325: Sécurité
...

Sheet Tableaux IRP
C1: Plan de formation 2011 - site de -----
A4: Analyse par typologie d'action
A6: Réalisation | B6: (Plusieurs éléments)
A7: Typologie d'action | B7: Nombre d'actions | C7: Durée en heures | D7: Coûts pédagogiques | E7: Coûts salariaux chargés | F7: Coûts totaux
B8: Valeurs
A9: Étiquettes de lignes | B9: Nombre de Intitulé | C9: Somme de Durée | D9: Somme de Coût | E9: Somme de Coûts
A10: Adaptation au poste / Maintien dans l’emploi | B10: 38 | C10: 456 | D10: 3332.25 | E10: 391.68 | F10: =D10+E10 -> 3723.93
A11: Développement des compétences | B11: 56 | C11: 1159 | D11: 25297 | E11: 587.52 | F11: =D11+E11 -> 25884.52
A12: (vide) | E12: 0 | F12: =D12+E12 -> 0
A13: Total général | B13: 94 | C13: 1615 | D13: 28629.25 | E13: 979.2 | F13: =D13+E13 -> 29608.45
A17: Analyse par filières
A19: Réalisation | B19: (Plusieurs éléments)
A20: Axe (Filières) | B20: Nombre d'actions | C20: Durée en heures | D20: Coûts pédagogiques | E20: Coûts salariaux chargés | F20: Coûts totaux
B21: Valeurs
A22: Étiquettes de lignes | B22: Nombre de Intitulé | C22: Somme de Durée | D22: Somme de Coût | E22: Somme de Coûts
A23: Commercial | B23: 40 | C23: 560 | E23: 435.2 | F23: =D23+E23 -> 435.2
A24: Divers | B24: 1 | C24: 42 | D24: 1140 | E24: 10.88 | F24: =D24+E24 -> 1150.88
A25: Langues | B25: 1 | C25: 18 | D25: 75.25 | E25: 0 | F25: =D25+E25 -> 75.25
A26: Management | B26: 30 | C26: 372 | D26: 12345 | E26: 304.64 | F26: =D26+E26 -> 12649.64
A27: Sécurité | B27: 9 | C27: 154 | D27: 3509 | E27: 97.92 | F27: =D27+E27 -> 3606.92
A28: Technique | B28: 13 | C28: 469 | D28: 11560 | E28: 130.56 | F28: =D28+E28 -> 11690.56
A29: (vide) | E29: 0 | F29: =D29+E29 -> 0
A30: Total général | B30: 94 | C30: 1615 | D30: 28629.25 | E30: 979.2 | F30: =D30+E30 -> 29608.45
A34: Statistiques globales
A36: Réalisation | B36: (Plusieurs éléments)
A37: CSP / Sexe | B37: Nombre d'actions | C37: Durée en heures | D37: Coûts pédagogiques | E37: Coûts salariaux chargés | F37: Coûts totaux
B38: Valeurs
A39: Étiquettes de lignes | B39: Nombre de Intitulé | C39: Somme de Durée | D39: Somme de Coût | E39: Somme de Coûts
B40: 4 | C40: 58 | D40: 1058.11 | E40: 0 | F40: =D40+E40 -> 1058.11
B41: 4 | C41: 58 | D41: 1058.11 | E41: 0 | F41: =D41+E41 -> 1058.11
A42: Cadre | B42: 72 | C42: 1216 | D42: 17572.14 | E42: 783.36 | F42: =D42+E42 -> 18355.5
A43: F | B43: 10 | C43: 255 | D43: 3892.86 | E43: 108.8 | F43: =D43+E43 -> 4001.66
A44: M | B44: 62 | C44: 961 | D44: 13679.28 | E44: 674.56 | F44: =D44+E44 -> 14353.84
A45: Employé / Technicien | B45: 18 | C45: 341 | D45: 9999 | E45: 195.84 | F45: =D45+E45 -> 10194.84
A46: M | B46: 18 | C46: 341 | D46: 9999 | E46: 195.84 | F46: =D46+E46 -> 10194.84
A47: Total général | B47: 94 | C47: 1615 | D47: 28629.25 | E47: 979.2 | F47: =D47+E47 -> 29608.45

Sheet Graphiques
B1: Plan de formation 2011 - site de -----
A6: Nb heures par filières
A7: Réalisation | B7: (Plusieurs éléments)
A9: Étiquettes de lignes | B9: Somme de Durée
A10: Commercial | B10: 560
A11: Divers | B11: 42
A12: Langues | B12: 18
A13: Management | B13: 372
A14: Sécurité | B14: 154
A15: Technique | B15: 469
A16: Total général | B16: 1615
A24: Coûts par filières
A25: Réalisation | B25: (Plusieurs éléments)
A27: Étiquettes de lignes | B27: Somme de Coût
A28: Commercial
A29: Divers | B29: 1140
A30: Langues | B30: 75.25
A31: Management | B31: 12345
A32: Sécurité | B32: 3509
A33: Technique | B33: 11560
A34: Total général | B34: 28629.25
A43: Coûts par CSP
A44: Réalisation | B44: (Plusieurs éléments)
A46: Étiquettes de lignes | B46: Somme de Coût
A47: Cadre | B47: 17572.14
A48: Employé / Technicien | B48: 9999
A49: Total général | B49: 27571.14
A57: Nb heures par CSP
A58: Réalisation | B58: (Plusieurs éléments)
A60: Étiquettes de lignes | B60: Somme de Durée
A61: Cadre | B61: 1216
A62: Employé / Technicien | B62: 341
A63: Total général | B63: 1557
A72: Coûts par sexes
A73: Réalisation | B73: (Plusieurs éléments)
A75: Étiquettes de lignes | B75: Somme de Coût
A76: F | B76: 3892.86
A77: M | B77: 23678.28
A78: Total général | B78: 27571.14
A87: Nb heures par sexes
...

Sheet Indicateurs
C1: Indicateurs complémentaires plan de formation 2011 - site de -----
A4: 1 - Taux de formation de l'entité | D4: (= nb de personnes ayant suivi une formation dans l'année / effectif de l'entité) par CSP
F5: Dont taux pour les 50 ans et plus au 01/01/2011
A7: CSP | B7: Effectif entité | C7: Effectif en formation | D7: Taux de formation | F7: CSP | G7: Effectif + 50 ans entité | H7: Effectif + 50 ans en formation | I7: Taux de formation des + 50 ans
A8: Cadres | D8: % | F8: Cadres | I8: %
A9: Etam | D9: % | F9: Etam | I9: %
A10: Ouvrier | D10: % | F10: Ouvrier | I10: %
A11: Total | D11: % | F11: Total | I11: %
A15: 2 - Les non formations de l'entité | D15: (= personnes n'ayant suivi aucune formation dans l'année)
A17: Nom - Prénom | B17: CSP | C17: Emploi/métier | D17: Sce/Dpt
A21: Total : | B21: n personnes
A25: 3 - Indicateur qualité issu des évaluations des formation | F25: (= à définir)

Sheet Calcul Indicateurs
A8: Structure des effectifs de l'entité | H8: Effectif de plus de 50 ans
H10: Age | I10: (Plusieurs éléments)
A11: Nombre de Matricule | B11: Étiquettes de colonnes
A12: Étiquettes de lignes | B12: F | C12: M | D12: Total général | H12: Étiquettes de lignes | I12: Nombre de Matricule
A13: Cadre | B13: 17 | C13: 74 | D13: 91 | H13: Cadre | I13: 28
A14: Employé / Technicien | B14: 16 | C14: 30 | D14: 46 | H14: Employé / Technicien | I14: 12
A15: Hors Bilan Social | B15: 2 | C15: 1 | D15: 3 | H15: Total général | I15: 40
A16: Total général | B16: 35 | C16: 105 | D16: 140
A20: Nbre de personne ayant suivie une formation par rapport à l'effectif total
A23: Durée moyenne des formations par personne / CSP
A26: Nombre de personne sans formation dans l'année
A29: Taux de formation des + de 50 ans par rapport à l'effectif des + de 50 ans
A33: Taux de réalisation du plan de formation par trimestre
A35: Calendrier de réalisation | B35: (Tous)
A37: Nombre de Validation (Oui/Non) | B37: Étiquettes de colonnes
A38: Étiquettes de lignes | B38: En-cours | C38: Non | D38: Oui | E38: Total général
A39: Oui | B39: 9 | C39: 30 | D39: 85 | E39: 124 | F39: =(B39+D39)/E39 -> 0.75806452
A40: Non | C40: 7 | E40: 7
A41: Total général | B41: 9 | C41: 37 | D41: 85 | E41: 131

Sheet Tables
O1: Horaire | P1: Taux charges | Q1: Service | S1: Managers | U1: Axe (Filières) | V1: Priorité mger | W1: Axe (note d'orienttaion formation) | X1: Calendrier de réalisation | Y1: Typologie d'action | Z1: Avancement
O2: 151.66 | P2: 0.5 | Q2: 12 | R2: SSO | S2: 12 | T2: PT Marc | U2: Commercial | V2: 1 | W2: Formation obligatoire | X2: 2019-Q1 | Y2: Adaptation au poste / Maintien dans l’emploi | Z2: Oui
D3: EFFECTIFS AU : | E3: 43430 | Q3: 13 | R3: COMPTABILITE | S3: 13 | T3: HL Michelle | U3: Technique | V3: 2 | W3: Maintien de l'emploi | X3: 2019-Q2 | Y3: Développement des compétences | Z3: Non
Q4: 22 | R4: INFORMATIQUE | S4: 22 | T4: CT Jean-Pierre | U4: Management | V4: 3 | W4: Adaptation au poste | X4: 2019-Q3 | Z4: En-cours
Q5: 23 | R5: PAIE | S5: 23 | T5: MZ Virginie | U5: Sécurité | X5: 2019-Q4 | Z5: Annulé
Q6: 26 | R6: ACHATS | S6: 26 | T6: PT Marc | U6: Langues | Z6: Reporté
Q7: 100 | R7: DETACHES | S7: 100 | T7: N/A | U7: Bureautique
Q8: 103 | R8: DETACHES | S8: 103 | T8: N/A | U8: Divers
Q9: 104 | R9: DETACHES | S9: 104 | T9: N/A
Q10: ADV | R10: ADV | S10: ADV | T10: BR Amandine
Q11: CSC | R11: ALFARESPONSE | S11: CSC | T11: MZ Marie
Q12: DGE | R12: DGE | S12: DGE | T12: MS Guillaume
Q13: ECF | R13: EIE | S13: ECF | T13: PE Sylvain
Q14: EFU | R14: EIE | S14: EFU | T14: DE Pierre
Q15: EMC | R15: PTD CS | S15: EMC | T15: FO Michel
A16: Matricule | B16: Imputation | C16: Nom | D16: Prénom | E16: Sexe | F16: CSP | G16: Age | H16: Ancienneté | I16: Salaire mensuel/forfait | J16: Prime ancienneté | K16: Taux horaire brut | L16: Taux horaire chargé | M16: DVC/NDVC | N16: Manager | Q16: EOE | R16: EIE | S16: EOE | T16: GN Alain
A17: 00102933 | B17: Aub. | C17: AIT HELLAL | D17: YAZID | E17: M | F17: IQPF | G17: 47 | H17: 11 | K17: =+ROUND((+$I17+$J17)/$O$2,2) -> 0 | L17: =+ROUND($K17*(1+$P$2),2) -> 0 | M17: DVC | N17: ALIX | Q17: ERC | R17: EIE | S17: ERC | T17: LE Jean-Pierre
A18: 10521382 | B18: Aub. | C18: ALCALA | D18: ARNAUD | E18: M | F18: ALTERNANT MAINTENANCE AUTOMATISME | G18: 24 | H18: 2 | K18: =+ROUND((+$I18+$J18)/$O$2,2) -> 0 | L18: =+ROUND($K18*(1+$P$2),2) -> 0 | M18: Non DVC | N18: PIFFAUT | Q18: ESE | R18: SANITARY | S18: ESE | T18: CR Laurent
A19: 00103045 | B19: Aub. | C19: ALIX | D19: CLAUDE | E19: M | F19: REF | G19: 51 | H19: 28 | K19: =+ROUND((+$I19+$J19)/$O$2,2) -> 0 | L19: =+ROUND($K19*(1+$P$2),2) -> 0 | M19: Non DVC | N19: CHATAIGNER | Q19: MAG | R19: ADV | S19: MAG | T19: BR Amandine
A20: 00102936 | B20: Aub. | C20: ARNAUDE | D20: EMMANUEL | E20: M | F20: AGENT LOGISTIQUE MULTIFLUX | G20: 43 | H20: 12 | K20: =+ROUND((+$I20+$J20)/$O$2,2) -> 0 | L20: =+ROUND($K20*(1+$P$2),2) -> 0 | M20: DVC | N20: SAVY | Q20: PEE | R20: PTD CS | S20: PEE | T20: MR Pierre-Yves
A21: 00103038 | B21: Aub. | C21: ARNAUDJL | D21: JEAN-LUC | E21: M | F21: TECHNICIEN MAINTENANCE | G21: 52 | H21: 32 | K21: =+ROUND((+$I21+$J21)/$O$2,2) -> 0 | L21: =+ROUND($K21*(1+$P$2),2) -> 0 | M21: DVC | N21: PIFFAUT | Q21: PFT | R21: PTD CS | S21: PFT | T21: DE Ghyslain
A22: 00103021 | B22: Aub. | C22: ARTIGE | D22: JEAN-PIERRE | E22: M | F22: PILOTE TECHNIQUE | G22: 56 | H22: 27 | K22: =+ROUND((+$I22+$J22)/$O$2,2) -> 0 | L22: =+ROUND($K22*(1+$P$2),2) -> 0 | M22: Non DVC | N22: HAON | Q22: PLS | R22: PTD CS | S22: PLS | T22: MT Patrice
A23: 00103070 | B23: Aub. | C23: AUBERT | D23: HERVE | E23: M | F23: MONTEUR | G23: 55 | H23: 35 | K23: =+ROUND((+$I23+$J23)/$O$2,2) -> 0 | L23: =+ROUND($K23*(1+$P$2),2) -> 0 | M23: DVC | N23: SAVY | Q23: PPI | R23: PTD CS | S23: PPI | T23: BT Damien
A24: 00102998 | B24: Aub. | C24: AVOUAC | D24: EMMANUEL | E24: M | F24: ROF Amont | G24: 47 | H24: 23 | K24: =+ROUND((+$I24+$J24)/$O$2,2) -> 0 | L24: =+ROUND($K24*(1+$P$2),2) -> 0 | M24: Non DVC | N24: RICCARDI | Q24: PPS | R24: P&S | S24: PPS | T24: TN Xavier
A25: 00103009 | B25: Aub. | C25: AYGLON | D25: DOMINIQUE | E25: M | F25: MONTEUR | G25: 51 | H25: 11 | K25: =+ROUND((+$I25+$J25)/$O$2,2) -> 0 | L25: =+ROUND($K25*(1+$P$2),2) -> 0 | M25: DVC | N25: ALIX | Q25: REA | R25: Equipe projets | S25: REA | T25: JT Xavier
A26: 00104383 | B26: Aub. | C26: BARBERA | D26: JEREMY | E26: M | F26: IQPF | G26: 37 | H26: 10 | K26: =+ROUND((+$I26+$J26)/$O$2,2) -> 0 | L26: =+ROUND($K26*(1+$P$2),2) -> 0 | M26: DVC | N26: SENEPART | Q26: SAR | R26: SAV | S26: SAR | T26: FS Bernard
A27: 00102944 | B27: Aub. | C27: BAZIZ | D27: DIDINE | E27: M | F27: AGENT LOGISTIQUE MULTIFLUX | G27: 49 | H27: 12 | K27: =+ROUND((+$I27+$J27)/$O$2,2) -> 0 | L27: =+ROUND($K27*(1+$P$2),2) -> 0 | M27: DVC | N27: SAVY | Q27: SCP | R27: Service Center | S27: SCP | T27: DE Olivier
A28: 00103071 | B28: Aub. | C28: BEAUMEL | D28: CLAUDINE | E28: F | F28: VERIFICATEUR | G28: 59 | H28: 35 | K28: =+ROUND((+$I28+$J28)/$O$2,2) -> 0 | L28: =+ROUND($K28*(1+$P$2),2) -> 0 | M28: DVC | N28: FUENTES
A29: 00102925 | B29: Aub. | C29: BENCHEIKH | D29: MOHAMMED | E29: M | F29: CONTROLEUR/CONDUCTEUR | G29: 52 | H29: 12 | K29: =+ROUND((+$I29+$J29)/$O$2,2) -> 0 | L29: =+ROUND($K29*(1+$P$2),2) -> 0 | M29: DVC | N29: SENEPART
A30: 00102971 | B30: Aub. | C30: BLACHON | D30: HENRI | E30: M | F30: CONTROLEUR | G30: 52 | H30: 17 | K30: =+ROUND((+$I30+$J30)/$O$2,2) -> 0 | L30: =+ROUND($K30*(1+$P$2),2) -> 0 | M30: DVC | N30: ALIX
