Workbook
Name ch: [1]Etude!#REF!
Name Chien_Chat: Etude!#REF!
Name ChoisChienChat: [2]Etude!#REF!
Name ChoisChienChat: [2]Etude!#REF!
Name ChoisChienChat: Etude!#REF!

Sheet Etude
A2: Marque (EN MAJUSCULES) | B2: Images produit | C2: Type | D2: Gamme | E2: Quantité par PCB | F2: Poids PCB | G2: Poids unitaire en Kg | H2: code EAN UNITÉ | I2: code EAN PCB | J2: Désignation produit | K2: Désignation produit courte | L2: REF
A3: APPLAWS | C3: Boîte | D3: Chaton | E3: 24 | F3: =IF(G3*E3=0,"",G3*E3) -> 1.68 | G3: 0.07 | H3: 5060122490009 | I3: 5060122492263 | J3: Applaws Cat Tin 1x(24x70g) Kitten - Chicken Breast | K3: 1001 APC Tin 70g | L3: =LEFT(A3,3)&RIGHT(H3,5) -> APP90009
A4: APPLAWS | C4: Boîte | D4: Chat | E4: 24 | F4: =IF(G4*E4=0,"",G4*E4) -> 1.68 | G4: 0.07 | H4: 5060122490016 | I4: 5060122492324 | J4: Applaws Cat Tin 1x(24x70g) Chicken Breast | K4: 1002 APC Tin 70g | L4: =LEFT(A4,3)&RIGHT(H4,5) -> APP90016
A5: APPLAWS | C5: Boîte | D5: Chat | E5: 24 | F5: =IF(G5*E5=0,"",G5*E5) -> 1.68 | G5: 0.07 | H5: 5060122490023 | I5: 5060122492294 | J5: Applaws Cat Tin 1x(24x70g) Tuna Fillet | K5: 1003 APC Tin 70g | L5: =LEFT(A5,3)&RIGHT(H5,5) -> APP90023
A6: APPLAWS | C6: Boîte | D6: Chat | E6: 24 | F6: =IF(G6*E6=0,"",G6*E6) -> 1.68 | G6: 0.07 | H6: 5060122490047 | I6: 5060122492270 | J6: Applaws Cat Tin 1x(24x70g) Ocean Fish | K6: 1005 APC Tin 70g | L6: =LEFT(A6,3)&RIGHT(H6,5) -> APP90047
A7: APPLAWS | C7: Boîte | D7: Chat | E7: 24 | F7: =IF(G7*E7=0,"",G7*E7) -> 1.68 | G7: 0.07 | H7: 5060122490054 | I7: 5060122492348 | J7: Applaws Cat Tin 1x(24x70g) Chicken Breast with Cheese | K7: 1006 APC Tin 70g | L7: =LEFT(A7,3)&RIGHT(H7,5) -> APP90054
A8: APPLAWS | C8: Boîte | D8: Chat | E8: 24 | F8: =IF(G8*E8=0,"",G8*E8) -> 1.68 | G8: 0.07 | H8: 5060122490061 | I8: 5060122492287 | J8: Applaws Cat Tin 1x(24x70g) Tuna Fillet with Cheese | K8: 1007 APC Tin 70g | L8: =LEFT(A8,3)&RIGHT(H8,5) -> APP90061
A9: APPLAWS | C9: Boîte | D9: Chat | E9: 24 | F9: =IF(G9*E9=0,"",G9*E9) -> 1.68 | G9: 0.07 | H9: 5060122490078 | I9: 5060122492317 | J9: Applaws Cat Tin 1x(24x70g) Tuna Fillet with Prawn | K9: 1008 APC Tin 70g | L9: =LEFT(A9,3)&RIGHT(H9,5) -> APP90078
A10: APPLAWS | C10: Boîte | D10: Chat | E10: 24 | F10: =IF(G10*E10=0,"",G10*E10) -> 1.68 | G10: 0.07 | H10: 5060122490405 | I10: 5060122492300 | J10: Applaws Cat Tin 1x(24x70g) Tuna Fillet with Seaweed | K10: 1009 APC Tin 70g | L10: =LEFT(A10,3)&RIGHT(H10,5) -> APP90405
A11: APPLAWS | C11: Boîte | D11: Chat | E11: 24 | F11: =IF(G11*E11=0,"",G11*E11) -> 1.68 | G11: 0.07 | H11: 5060122490412 | I11: 5060122492331 | J11: Applaws Cat Tin 1x(24x70g) Chicken Breast with Pumpkin | K11: 1010 APC Tin 70g | L11: =LEFT(A11,3)&RIGHT(H11,5) -> APP90412
A12: APPLAWS | C12: Boîte | D12: Chat | E12: 24 | F12: =IF(G12*E12=0,"",G12*E12) -> 1.68 | G12: 0.07 | H12: 5060333433451 | I12: 5060333433628 | J12: Applaws Cat Tin 1x(24x70g) Mackerel with Sardine | K12: 1015 APC Tin 70g | L12: =LEFT(A12,3)&RIGHT(H12,5) -> APP33451
A13: APPLAWS | C13: Boîte | D13: Chat | E13: 4 | F13: =IF(G13*E13=0,"",G13*E13) -> 3.36 | G13: 0.84 | H13: 5060333437374 | I13: 5060333438098 | J13: Applaws Cat Tin Multipack 4x(12x70g) Chicken Collection | K13: 1017 APC Tin 12x70g | L13: =LEFT(A13,3)&RIGHT(H13,5) -> APP37374
A14: APPLAWS | C14: Boîte | D14: Chat | E14: 4 | F14: =IF(G14*E14=0,"",G14*E14) -> 3.36 | G14: 0.84 | H14: 5060333437381 | I14: 5060333438104 | J14: Applaws Cat Tin Multipack 4x(12x70g) Fish Collection | K14: 1018 APC Tin 12x70g | L14: =LEFT(A14,3)&RIGHT(H14,5) -> APP37381
... A139: APPLAWS | C139: Boîte | D139: Chien | E139: 4 | F139: =IF(G139*E139=0,"",G139*E139) -> 6 | G139: 1.5 | H139: 5060481898652 | I139: 5060481898669 | J139: Applaws Chien Boites Multipack 4x(8x156g) Sélection en Ragoût | K139: 3500TT APD Tin 8x156g | L139: =LEFT(A139,3)&RIGHT(H139,5) -> APP98652
A140: GHEDA | C140: Sec Chien | D140: Dog&Dog Wild | E140: 1 | F140: =IF(G140*E140=0,"",G140*E140) -> 12 | G140: 12 | H140: 8001541004627 | J140: Dog&Dog Wild Natural Instinct 12 kg | K140: GH D&D Nat Inst 12k | L140: =LEFT(A140,3)&RIGHT(H140,5) -> GHE04627
A141: GHEDA | C141: Sec Chien | D141: Dog&Dog Wild | E141: 5 | F141: =IF(G141*E141=0,"",G141*E141) -> 10 | G141: 2 | H141: 8001541004610 | J141: Dog&Dog Wild Natural Instinct 2 kg | K141: GH D&D Nat Inst 2k | L141: =LEFT(A141,3)&RIGHT(H141,5) -> GHE04610
A142: GHEDA | C142: Sec Chien | D142: Dog&Dog Wild | E142: 1 | F142: =IF(G142*E142=0,"",G142*E142) -> 12 | G142: 12 | H142: 8001541004665 | J142: Dog&Dog Wild Regional Farm 12 kg | K142: GH D&D Reg Farm 12k | L142: =LEFT(A142,3)&RIGHT(H142,5) -> GHE04665
A143: GHEDA | C143: Sec Chien | D143: Dog&Dog Wild | E143: 5 | F143: =IF(G143*E143=0,"",G143*E143) -> 10 | G143: 2 | H143: 8001541004658 | J143: Dog&Dog Wild Regional Farm 2 kg | K143: GH D&D Reg Farm 2k | L143: =LEFT(A143,3)&RIGHT(H143,5) -> GHE04658
A144: GHEDA | C144: Sec Chien | D144: Dog&Dog Wild | E144: 1 | F144: =IF(G144*E144=0,"",G144*E144) -> 12 | G144: 12 | H144: 8001541004689 | J144: Dog&Dog Wild Regional Forest 12 kg | K144: GH D&D Reg For 12k | L144: =LEFT(A144,3)&RIGHT(H144,5) -> GHE04689
A145: GHEDA | C145: Sec Chien | D145: Dog&Dog Wild | E145: 5 | F145: =IF(G145*E145=0,"",G145*E145) -> 10 | G145: 2 | H145: 8001541004672 | J145: Dog&Dog Wild Regional Forest 2 kg | K145: GH D&D Reg For 2k | L145: =LEFT(A145,3)&RIGHT(H145,5) -> GHE04672
A146: GHEDA | C146: Sec Chien | D146: Dog&Dog Wild | E146: 1 | F146: =IF(G146*E146=0,"",G146*E146) -> 12 | G146: 12 | H146: 8001541004641 | J146: Dog&Dog Wild Regional Grassland 12 kg | K146: GH D&D Reg Gras 12k | L146: =LEFT(A146,3)&RIGHT(H146,5) -> GHE04641
A147: GHEDA | C147: Sec Chien | D147: Dog&Dog Wild | E147: 5 | F147: =IF(G147*E147=0,"",G147*E147) -> 10 | G147: 2 | H147: 8001541004634 | J147: Dog&Dog Wild Regional Grassland 2 kg | K147: GH D&D Reg Gras 2k | L147: =LEFT(A147,3)&RIGHT(H147,5) -> GHE04634
A148: GHEDA | C148: Sec Chien | D148: Dog&Dog Wild | E148: 1 | F148: =IF(G148*E148=0,"",G148*E148) -> 12 | G148: 12 | H148: 8001541004702 | J148: Dog&Dog Wild Regional Ocean 12 kg | K148: GH D&D Reg Oce 12k | L148: =LEFT(A148,3)&RIGHT(H148,5) -> GHE04702
A149: GHEDA | C149: Sec Chien | D149: Dog&Dog Wild | E149: 5 | F149: =IF(G149*E149=0,"",G149*E149) -> 10 | G149: 2 | H149: 8001541004696 | J149: Dog&Dog Wild Regional Ocean 2 kg | K149: GH D&D Reg Oce 2k | L149: =LEFT(A149,3)&RIGHT(H149,5) -> GHE04696
A150: GHEDA | C150: Sec Chien | D150: Unica Natura Unico | E150: 1 | F150: =IF(G150*E150=0,"",G150*E150) -> 12 | G150: 12 | H150: 8001541004504 | J150: Unica Natura Unico Maxi Duck 12 kg | K150: GH Uni Maxi Duck 12k | L150: =LEFT(A150,3)&RIGHT(H150,5) -> GHE04504
A151: GHEDA | C151: Sec Chien | D151: Unica Natura Unico | E151: 5 | F151: =IF(G151*E151=0,"",G151*E151) -> 12.5 | G151: 2.5 | H151: 8001541004498 | J151: Unica Natura Unico Maxi Duck 2,5 kg | K151: GH Uni Maxi Duck2,5k | L151: =LEFT(A151,3)&RIGHT(H151,5) -> GHE04498
... A180: GHEDA | C180: Sec Chien | D180: Unica Class | E180: 1 | F180: =IF(G180*E180=0,"",G180*E180) -> 12 | G180: 12 | H180: 8001541006546 | J180: Unica Class Adult All Breeds HE - Beef 12 kg | K180: GH Class HE Beef 12k | L180: =LEFT(A180,3)&RIGHT(H180,5) -> GHE06546
A181: GHEDA | C181: Sec Chien | D181: Dog&Dog Wild | E181: 50 | F181: =IF(G181*E181=0,"",G181*E181) -> 5 | G181: 0.1 | J181: Gheda Chien Dog&Dog Wild Echantillons 50x100gr | L181: =LEFT(A181,3)&RIGHT(H181,5) -> GHE
A182: GHEDA | C182: Sec Chien | D182: Unica Natura Unico | E182: 50 | F182: =IF(G182*E182=0,"",G182*E182) -> 5 | G182: 0.1 | J182: Gheda Chien Unica Natura Echantillons 50x100gr | L182: =LEFT(A182,3)&RIGHT(H182,5) -> GHE
A183: GHEDA | C183: Sec Chat | D183: Unica Natura | E183: 50 | F183: =IF(G183*E183=0,"",G183*E183) -> 2.5 | G183: 0.05 | J183: Gheda Chat Unica Natura Echantillons 50x50gr | L183: =LEFT(A183,3)&RIGHT(H183,5) -> GHE
A184: GHEDA | C184: Sec Chien | D184: Dog&Dog Expert | E184: 1 | F184: =IF(G184*E184=0,"",G184*E184) -> 20 | G184: 20 | H184: 8001541005792 | J184: Gheda Chien Dog&Dog Expert High Premium - Select agneau 20kg | K184: GH D&D exp HP agn 20k | L184: =LEFT(A184,3)&RIGHT(H184,5) -> GHE05792
A185: GHEDA | C185: Sec Chien | D185: Ciuffi | E185: 10 | F185: =IF(G185*E185=0,"",G185*E185) -> 15 | G185: 1.5 | H185: 8001541004405 | J185: Gheda Chien Adulte Minuto 1,5kg | K185: GH Ciu CN Minuto 1,5 | L185: =LEFT(A185,3)&RIGHT(H185,5) -> GHE04405
A186: GHEDA | C186: Sec Chien | D186: Ciuffi | E186: 5 | F186: =IF(G186*E186=0,"",G186*E186) -> 20 | G186: 4 | H186: 8001541105041 | J186: Gheda Chien Adulte Robusto 4kg | K186: GH Ciu CN robust 4k | L186: =LEFT(A186,3)&RIGHT(H186,5) -> GHE05041
A187: GHEDA | C187: Sec Chien | D187: Ciuffi | E187: 1 | F187: =IF(G187*E187=0,"",G187*E187) -> 10 | G187: 10 | H187: 8001541105102 | J187: Gheda Chien Adulte Robusto 10kg | K187: GH Ciu CN robust 10k | L187: =LEFT(A187,3)&RIGHT(H187,5) -> GHE05102
A188: GHEDA | C188: Sec Chien | D188: Ciuffi | E188: 1 | F188: =IF(G188*E188=0,"",G188*E188) -> 20 | G188: 20 | H188: 8001541004412 | J188: Gheda Chien Adulte Robusto 20kg | K188: GH Ciu CN robust 20k | L188: =LEFT(A188,3)&RIGHT(H188,5) -> GHE04412
A189: GHEDA | C189: Sec Chien | D189: Ciuffi | E189: 5 | F189: =IF(G189*E189=0,"",G189*E189) -> 20 | G189: 4 | H189: 8001541104044 | J189: Gheda Chien Adulte Atletico 4Kg | K189: GH Ciu CN atletic 4k | L189: =LEFT(A189,3)&RIGHT(H189,5) -> GHE04044
A190: GHEDA | C190: Sec Chien | D190: Ciuffi | E190: 1 | F190: =IF(G190*E190=0,"",G190*E190) -> 10 | G190: 10 | H190: 8001541001206 | J190: Gheda Chien Adulte Atletico 10Kg | K190: GH Ciu CN atlet 10k | L190: =LEFT(A190,3)&RIGHT(H190,5) -> GHE01206
A191: GHEDA | C191: Sec Chat | D191: Ciuffi | E191: 1 | F191: =IF(G191*E191=0,"",G191*E191) -> 15 | G191: 15 | H191: 8001541607828 | J191: Gheda Chaton Giocoso - Playful Kitten 15Kg | K191: GH Ciu CT kitten 15k | L191: =LEFT(A191,3)&RIGHT(H191,5) -> GHE07828
A192: GHEDA | C192: Sec Chat | D192: Ciuffi | E192: 8 | F192: =IF(G192*E192=0,"",G192*E192) -> 16 | G192: 2 | H192: 8001541001275 | J192: Gheda Chat Adulte Sornione 2kg | K192: GH Ciu CT sormio 5k | L192: =LEFT(A192,3)&RIGHT(H192,5) -> GHE01275
A193: GHEDA | C193: Sec Chat | D193: Ciuffi | E193: 1 | F193: =IF(G193*E193=0,"",G193*E193) -> 15 | G193: 15 | H193: 8001541607811 | J193: Gheda Chat Adulte Sornione Sterilized 15kg | K193: GH Ciu CT sor ste 15k | L193: =LEFT(A193,3)&RIGHT(H193,5) -> GHE07811
A194: GHEDA | C194: Sec Chat | D194: Ciuffi | E194: 8 | F194: =IF(G194*E194=0,"",G194*E194) -> 16 | G194: 2 | H194: 8001541001299 | J194: Gheda Chat Adulte Esploratore 2kg | K194: GH Ciu CT explo 2k | L194: =LEFT(A194,3)&RIGHT(H194,5) -> GHE01299
A195: GHEDA | C195: Sec Chat | D195: Ciuffi | E195: 8 | F195: =IF(G195*E195=0,"",G195*E195) -> 16 | G195: 2 | H195: 8001541001251 | J195: Gheda Chat Adulte Raffinato 2kg | K195: GH Ciu CT rafin 2k | L195: =LEFT(A195,3)&RIGHT(H195,5) -> GHE01251
... A217: EDEN | C217: Friandises chien et chat | D217: Treats | E217: 6 | F217: =IF(G217*E217=0,"",G217*E217) -> 0.6 | G217: 0.1 | H217: 5060438810485 | J217: Lamb And Game Treat - 100G | K217: ED Friandi Lamb 100g | L217: =LEFT(A217,3)&RIGHT(H217,5) -> EDE10485
F218: =IF(G218*E218=0,"",G218*E218) | L218: =LEFT(A218,3)&RIGHT(H218,5)
F219: =IF(G219*E219=0,"",G219*E219) | L219: =LEFT(A219,3)&RIGHT(H219,5)
F220: =IF(G220*E220=0,"",G220*E220) | L220: =LEFT(A220,3)&RIGHT(H220,5)
F221: =IF(G221*E221=0,"",G221*E221) | L221: =LEFT(A221,3)&RIGHT(H221,5)
F222: =IF(G222*E222=0,"",G222*E222) | L222: =LEFT(A222,3)&RIGHT(H222,5)
F223: =IF(G223*E223=0,"",G223*E223) | L223: =LEFT(A223,3)&RIGHT(H223,5)
F224: =IF(G224*E224=0,"",G224*E224) | L224: =LEFT(A224,3)&RIGHT(H224,5)
F225: =IF(G225*E225=0,"",G225*E225) | L225: =LEFT(A225,3)&RIGHT(H225,5)
F226: =IF(G226*E226=0,"",G226*E226) | L226: =LEFT(A226,3)&RIGHT(H226,5)
F227: =IF(G227*E227=0,"",G227*E227) | L227: =LEFT(A227,3)&RIGHT(H227,5)
F228: =IF(G228*E228=0,"",G228*E228) | L228: =LEFT(A228,3)&RIGHT(H228,5)
F229: =IF(G229*E229=0,"",G229*E229) | L229: =LEFT(A229,3)&RIGHT(H229,5)
... F298: =IF(G298*E298=0,"",G298*E298) | L298: =LEFT(A298,3)&RIGHT(H298,5)

Sheet test 1
A1: Désignation produit | B1: Désignation produit courte | C1: REF | D1: code EAN UNITÉ | E1: PA unitaire HT en £ (hors frais annexes) | F1: Taux de convertion £ --> € | G1: PA HT en € (hors frais annexes)
A2: =IF(Etude!A3="EDEN",Etude!J3,"") | B2: =IF(Etude!A3="EDEN",Etude!K4,"") | C2: =IF(Etude!A3="EDEN",Etude!L4,"") | D2: =IF(Etude!A3="EDEN",Etude!H4,"") | G2: =MROUND(E2*F2,0.01) -> 0
A3: =IF(Etude!A4="EDEN",Etude!J4,"") | B3: =IF(Etude!A4="EDEN",Etude!K5,"") | C3: =IF(Etude!A4="EDEN",Etude!L5,"") | D3: =IF(Etude!A4="EDEN",Etude!H5,"") | G3: =MROUND(E3*F3,0.01) -> 0
A4: =IF(Etude!A5="EDEN",Etude!J5,"") | B4: =IF(Etude!A5="EDEN",Etude!K6,"") | C4: =IF(Etude!A5="EDEN",Etude!L6,"") | D4: =IF(Etude!A5="EDEN",Etude!H6,"") | G4: =MROUND(E4*F4,0.01) -> 0
A5: =IF(Etude!A6="EDEN",Etude!J6,"") | B5: =IF(Etude!A6="EDEN",Etude!K7,"") | C5: =IF(Etude!A6="EDEN",Etude!L7,"") | D5: =IF(Etude!A6="EDEN",Etude!H7,"") | G5: =MROUND(E5*F5,0.01) -> 0
A6: =IF(Etude!A7="EDEN",Etude!J7,"") | B6: =IF(Etude!A7="EDEN",Etude!K8,"") | C6: =IF(Etude!A7="EDEN",Etude!L8,"") | D6: =IF(Etude!A7="EDEN",Etude!H8,"") | G6: =MROUND(E6*F6,0.01) -> 0
A7: =IF(Etude!A8="EDEN",Etude!J8,"") | B7: =IF(Etude!A8="EDEN",Etude!K9,"") | C7: =IF(Etude!A8="EDEN",Etude!L9,"") | D7: =IF(Etude!A8="EDEN",Etude!H9,"") | G7: =MROUND(E7*F7,0.01) -> 0
A8: =IF(Etude!A9="EDEN",Etude!J9,"") | B8: =IF(Etude!A9="EDEN",Etude!K10,"") | C8: =IF(Etude!A9="EDEN",Etude!L10,"") | D8: =IF(Etude!A9="EDEN",Etude!H10,"") | G8: =MROUND(E8*F8,0.01) -> 0
A9: =IF(Etude!A10="EDEN",Etude!J10,"") | B9: =IF(Etude!A10="EDEN",Etude!K11,"") | C9: =IF(Etude!A10="EDEN",Etude!L11,"") | D9: =IF(Etude!A10="EDEN",Etude!H11,"") | G9: =MROUND(E9*F9,0.01) -> 0
A10: =IF(Etude!A11="EDEN",Etude!J11,"") | B10: =IF(Etude!A11="EDEN",Etude!K12,"") | C10: =IF(Etude!A11="EDEN",Etude!L12,"") | D10: =IF(Etude!A11="EDEN",Etude!H12,"") | G10: =MROUND(E10*F10,0.01) -> 0
A11: =IF(Etude!A12="EDEN",Etude!J12,"") | B11: =IF(Etude!A12="EDEN",Etude!K13,"") | C11: =IF(Etude!A12="EDEN",Etude!L13,"") | D11: =IF(Etude!A12="EDEN",Etude!H13,"") | G11: =MROUND(E11*F11,0.01) -> 0
A12: =IF(Etude!A13="EDEN",Etude!J13,"") | B12: =IF(Etude!A13="EDEN",Etude!K14,"") | C12: =IF(Etude!A13="EDEN",Etude!L14,"") | D12: =IF(Etude!A13="EDEN",Etude!H14,"") | G12: =MROUND(E12*F12,0.01) -> 0
A13: =IF(Etude!A14="EDEN",Etude!J14,"") | B13: =IF(Etude!A14="EDEN",Etude!K15,"") | C13: =IF(Etude!A14="EDEN",Etude!L15,"") | D13: =IF(Etude!A14="EDEN",Etude!H15,"") | G13: =MROUND(E13*F13,0.01) -> 0
... A298: =IF(Etude!A299="EDEN",Etude!J299,"") | B298: =IF(Etude!A299="EDEN",Etude!K300,"") | C298: =IF(Etude!A299="EDEN",Etude!L300,"") | D298: =IF(Etude!A299="EDEN",Etude!H300,"") | G298: =MROUND(E298*F298,0.01) -> 0

Sheet test 2
A1: Désignation produit | B1: Désignation produit courte | C1: REF | D1: code EAN UNITÉ | E1: PA unitaire HT en £ (hors frais annexes) | F1: Taux de convertion £ --> € | G1: PA HT en € (hors frais annexes)
A2: =INDEX(Etude!$A$3:$L$298,MATCH("EDEN",Etude!$A$3:$A$298,0),10) -> Eden 85/15 Original Cuisine For Cats - 1,5Kg | G2: =MROUND(E2*F2,0.01) -> 0
A3: =INDEX(Etude!$A$3:$L$298,MATCH("EDEN",Etude!$A$3:$A$298,0),10) -> Eden 85/15 Original Cuisine For Cats - 1,5Kg | G3: =MROUND(E3*F3,0.01) -> 0
A4: =INDEX(Etude!$A$3:$L$298,MATCH("EDEN",Etude!$A$3:$A$298,0),10) -> Eden 85/15 Original Cuisine For Cats - 1,5Kg | G4: =MROUND(E4*F4,0.01) -> 0
A5: =INDEX(Etude!$A$3:$L$298,MATCH("EDEN",Etude!$A$3:$A$298,0),10) -> Eden 85/15 Original Cuisine For Cats - 1,5Kg | G5: =MROUND(E5*F5,0.01) -> 0
A6: =INDEX(Etude!$A$3:$L$298,MATCH("EDEN",Etude!$A$3:$A$298,0),10) -> Eden 85/15 Original Cuisine For Cats - 1,5Kg | G6: =MROUND(E6*F6,0.01) -> 0
A7: =INDEX(Etude!$A$3:$L$298,MATCH("EDEN",Etude!$A$3:$A$298,0),10) -> Eden 85/15 Original Cuisine For Cats - 1,5Kg | G7: =MROUND(E7*F7,0.01) -> 0
A8: =INDEX(Etude!$A$3:$L$298,MATCH("EDEN",Etude!$A$3:$A$298,0),10) -> Eden 85/15 Original Cuisine For Cats - 1,5Kg | G8: =MROUND(E8*F8,0.01) -> 0
A9: =INDEX(Etude!$A$3:$L$298,MATCH("EDEN",Etude!$A$3:$A$298,0),10) -> Eden 85/15 Original Cuisine For Cats - 1,5Kg | G9: =MROUND(E9*F9,0.01) -> 0
A10: =INDEX(Etude!$A$3:$L$298,MATCH("EDEN",Etude!$A$3:$A$298,0),10) -> Eden 85/15 Original Cuisine For Cats - 1,5Kg | G10: =MROUND(E10*F10,0.01) -> 0
A11: =INDEX(Etude!$A$3:$L$298,MATCH("EDEN",Etude!$A$3:$A$298,0),10) -> Eden 85/15 Original Cuisine For Cats - 1,5Kg | G11: =MROUND(E11*F11,0.01) -> 0
A12: =INDEX(Etude!$A$3:$L$298,MATCH("EDEN",Etude!$A$3:$A$298,0),10) -> Eden 85/15 Original Cuisine For Cats - 1,5Kg | G12: =MROUND(E12*F12,0.01) -> 0
A13: =INDEX(Etude!$A$3:$L$298,MATCH("EDEN",Etude!$A$3:$A$298,0),10) -> Eden 85/15 Original Cuisine For Cats - 1,5Kg | G13: =MROUND(E13*F13,0.01) -> 0
... A298: =INDEX(Etude!$A$3:$L$298,MATCH("EDEN",Etude!$A$3:$A$298,0),10) -> Eden 85/15 Original Cuisine For Cats - 1,5Kg | G298: =MROUND(E298*F298,0.01) -> 0
