Workbook
Name Largeur: Feuil1!$B:$B
Name ListeInitialeType: Feuil2!$B$1:$B$3
Name ListeType: Feuil2!$A$1:$A$3
Name Référence: Feuil1!$A:$A
Name Type: Feuil1!$C:$C

Sheet Feuil1
A1: =CONCATENATE("Réf ",B1,"m ",INDEX(ListeInitialeType,MATCH(Feuil1!C1,ListeType,0),1)) -> Réf 2,5m T | B1: 2.5 | C1: Thermique | E1: Recherche par valeur exact | H1: Recherche par valeur supérieur
A2: =CONCATENATE("Réf ",B2,"m ",INDEX(ListeInitialeType,MATCH(Feuil1!C2,ListeType,0),1)) -> Réf 3m T | B2: 3 | C2: Thermique | E2: Référence: | F2: {=INDEX(Référence,MATCH((ROUNDUP(F3,0))&F4,Largeur&Type,0))} -> #N/A | H2: Référence: | I2: {=INDEX(Référence,MATCH((ROUNDUP(F3,0))&F4,Largeur&Type,0))} -> #N/A
A3: =CONCATENATE("Réf ",B3,"m ",INDEX(ListeInitialeType,MATCH(Feuil1!C3,ListeType,0),1)) -> Réf 4,5m T | B3: 4.5 | C3: Thermique | E3: Largeur: | F3: 2.5
A4: =CONCATENATE("Réf ",B4,"m ",INDEX(ListeInitialeType,MATCH(Feuil1!C4,ListeType,0),1)) -> Réf 6,5m T | B4: 6.5 | C4: Thermique | E4: Type: | F4: Diffusant
A5: =CONCATENATE("Réf ",B5,"m ",INDEX(ListeInitialeType,MATCH(Feuil1!C5,ListeType,0),1)) -> Réf 8,8m T | B5: 8.8 | C5: Thermique
A6: =CONCATENATE("Réf ",B6,"m ",INDEX(ListeInitialeType,MATCH(Feuil1!C6,ListeType,0),1)) -> Réf 10,5m T | B6: 10.5 | C6: Thermique
A7: =CONCATENATE("Réf ",B7,"m ",INDEX(ListeInitialeType,MATCH(Feuil1!C7,ListeType,0),1)) -> Réf 11,2m T | B7: 11.2 | C7: Thermique
A8: =CONCATENATE("Réf ",B8,"m ",INDEX(ListeInitialeType,MATCH(Feuil1!C8,ListeType,0),1)) -> Réf 12,5m T | B8: 12.5 | C8: Thermique
A9: =CONCATENATE("Réf ",B9,"m ",INDEX(ListeInitialeType,MATCH(Feuil1!C9,ListeType,0),1)) -> Réf 13,5m T | B9: 13.5 | C9: Thermique
A10: =CONCATENATE("Réf ",B10,"m ",INDEX(ListeInitialeType,MATCH(Feuil1!C10,ListeType,0),1)) -> Réf 15m T | B10: 15 | C10: Thermique
A11: =CONCATENATE("Réf ",B11,"m ",INDEX(ListeInitialeType,MATCH(Feuil1!C11,ListeType,0),1)) -> Réf 8,8m D | B11: 8.8 | C11: Diffusant
A12: =CONCATENATE("Réf ",B12,"m ",INDEX(ListeInitialeType,MATCH(Feuil1!C12,ListeType,0),1)) -> Réf 10,5m D | B12: 10.5 | C12: Diffusant
A13: =CONCATENATE("Réf ",B13,"m ",INDEX(ListeInitialeType,MATCH(Feuil1!C13,ListeType,0),1)) -> Réf 11,2m D | B13: 11.2 | C13: Diffusant
A14: =CONCATENATE("Réf ",B14,"m ",INDEX(ListeInitialeType,MATCH(Feuil1!C14,ListeType,0),1)) -> Réf 13,5m D | B14: 13.5 | C14: Diffusant
A15: =CONCATENATE("Réf ",B15,"m ",INDEX(ListeInitialeType,MATCH(Feuil1!C15,ListeType,0),1)) -> Réf 15m D | B15: 15 | C15: Diffusant
A16: =CONCATENATE("Réf ",B16,"m ",INDEX(ListeInitialeType,MATCH(Feuil1!C16,ListeType,0),1)) -> Réf 10,5m B | B16: 10.5 | C16: Bâtiment
... A19: =CONCATENATE("Réf ",B19,"m ",INDEX(ListeInitialeType,MATCH(Feuil1!C19,ListeType,0),1)) -> Réf 16m B | B19: 16 | C19: Bâtiment

Sheet Feuil2
A1: Thermique | B1: T
A2: Diffusant | B2: D
A3: Bâtiment | B3: B

Sheet Feuil3
