Workbook

Sheet Annexe
A9: n° Infoprod | B9: Référence interne | C9: Nb composants
A11: V190204D 01 | B11: 3010100 00 | C11: =COUNTIF([1]BOM!$L$2:$L$174,B11) -> 2
B12: =VLOOKUP(B11,'TCD BOM'!$A$2:$K$108,COLUMN()+0,0) -> 2090363 00 | C12: =COUNTIF([1]BOM!$L$2:$L$174,B12) -> 0
B13: =VLOOKUP(B11,'TCD BOM'!$A$2:$K$108,COLUMN()+1,0) -> 2090370 00 | C13: =COUNTIF([1]BOM!$L$2:$L$174,B13) -> 0
C14: =COUNTIF([1]BOM!$L$2:$L$174,B14) -> 0
A15: V190204D 02 | B15: 3010300 00 | C15: =COUNTIF([1]BOM!$L$2:$L$174,B15) -> 3
B16: =VLOOKUP(B15,'TCD BOM'!$A$2:$K$108,COLUMN()+0,0) -> 2090363 00 | C16: =COUNTIF([1]BOM!$L$2:$L$174,B16) -> 0
B17: =VLOOKUP(B15,'TCD BOM'!$A$2:$K$108,COLUMN()+1,0) -> 300170G 00 | C17: =COUNTIF([1]BOM!$L$2:$L$174,B17) -> 0
B18: =VLOOKUP(B15,'TCD BOM'!$A$2:$K$108,COLUMN()+2,0) -> 300176G 00 | C18: =COUNTIF([1]BOM!$L$2:$L$174,B18) -> 0
C19: =COUNTIF([1]BOM!$L$2:$L$174,B19) -> 0
A20: V190204D 03 | B20: 300097G 00 | C20: =COUNTIF([1]BOM!$L$2:$L$174,B20) -> 0
C21: =COUNTIF([1]BOM!$L$2:$L$174,B21) -> 0
A22: V190204D 07 | B22: 913185P 00 | C22: =COUNTIF([1]BOM!$L$2:$L$174,B22) -> 0
C23: =COUNTIF([1]BOM!$L$2:$L$174,B23) -> 0
A24: V190204D 08 | B24: 916003P 00 | C24: =COUNTIF([1]BOM!$L$2:$L$174,B24) -> 0
C25: =COUNTIF([1]BOM!$L$2:$L$174,B25) -> 0
A26: V190204D 09 | B26: 300103G 00 | C26: =COUNTIF([1]BOM!$L$2:$L$174,B26) -> 0

Sheet BOM
A1: fatype | B1: ref | C1: SREF | D1: PANIV | E1: PACOMP | F1: PASCOMP | G1: PASCOMP 10 digits | H1: INT_EXT | I1: DESCOMP | J1: DESSREF | K1: QTE | L1: ref 10 digits2 | M1: PASCOMP 10 digits2
A2: P | B2: 000919G | C2: 00 | D2: 01 | E2: 17201CH | F2: 10 | G2: =CONCATENATE(E2," ",F2) -> 17201CH 10 | H2: I | I2: 17201CH SYST REPOSITION TABL M | J2: STOCK NUMBER UU | K2: 40 | L2: =CONCATENATE(B2," ",C2) -> 000919G 00 | M2: =CONCATENATE(E2," ",F2) -> 17201CH 10
A3: P | B3: 000919G | C3: 00 | D3: 01 | E3: 17202CH | F3: 10 | G3: =CONCATENATE(E3," ",F3) -> 17202CH 10 | H3: I | I3: 17202CH SYST REPOSITION TABLEA | J3: STOCK NUMBER UU | K3: 20 | L3: =CONCATENATE(B3," ",C3) -> 000919G 00 | M3: =CONCATENATE(E3," ",F3) -> 17202CH 10
A4: P | B4: 000919G | C4: 00 | D4: 01 | E4: 17206BL | F4: 10 | G4: =CONCATENATE(E4," ",F4) -> 17206BL 10 | H4: I | I4: 17206 LANGUETTE FIXATION GM BL | J4: STOCK NUMBER UU | K4: 10 | L4: =CONCATENATE(B4," ",C4) -> 000919G 00 | M4: =CONCATENATE(E4," ",F4) -> 17206BL 10
A5: P | B5: 000919G | C5: 00 | D5: 01 | E5: 17207BL | F5: 10 | G5: =CONCATENATE(E5," ",F5) -> 17207BL 10 | H5: I | I5: 17207 LANGUET FIXAT CADRE FIN | J5: STOCK NUMBER UU | K5: 10 | L5: =CONCATENATE(B5," ",C5) -> 000919G 00 | M5: =CONCATENATE(E5," ",F5) -> 17207BL 10
A6: P | B6: 000966G | C6: 00 | D6: 01 | E6: 7634NAG | F6: 75 | G6: =CONCATENATE(E6," ",F6) -> 7634NAG 75 | H6: I | I6: SAFETY WALK INT/EXT NOIR RL X1 | J6: 4,5MX25MM | K6: 1 | L6: =CONCATENATE(B6," ",C6) -> 000966G 00 | M6: =CONCATENATE(E6," ",F6) -> 7634NAG 75
A7: P | B7: 000967G | C7: 00 | D7: 01 | E7: 7646NAG | F7: 71 | G7: =CONCATENATE(E7," ",F7) -> 7646NAG 71 | H7: I | I7: SAF.WALK INT/EX GRIS4.5MMX25MM | J7: 70-0705-4270-2 | K7: 1 | L7: =CONCATENATE(B7," ",C7) -> 000967G 00 | M7: =CONCATENATE(E7," ",F7) -> 7646NAG 71
A8: P | B8: 000986G | C8: 00 | D8: 01 | E8: RF67301 | F8: 01 | G8: =CONCATENATE(E8," ",F8) -> RF67301 01 | H8: I | K8: 1 | L8: =CONCATENATE(B8," ",C8) -> 000986G 00 | M8: =CONCATENATE(E8," ",F8) -> RF67301 01
A9: P | B9: 000987G | C9: 00 | D9: 01 | E9: RF67311 | F9: 76 | G9: =CONCATENATE(E9," ",F9) -> RF67311 76 | H9: I | K9: 1 | L9: =CONCATENATE(B9," ",C9) -> 000987G 00 | M9: =CONCATENATE(E9," ",F9) -> RF67311 76
A10: P | B10: 000988G | C10: 00 | D10: 01 | E10: 449215M | F10: 00 | G10: =CONCATENATE(E10," ",F10) -> 449215M 00 | H10: I | I10: DF MIROIR ROULEAU 19MM X 1,5M | K10: 1 | L10: =CONCATENATE(B10," ",C10) -> 000988G 00 | M10: =CONCATENATE(E10," ",F10) -> 449215M 00
A11: P | B11: 000989G | C11: 00 | D11: 01 | E11: 4941STM | F11: 00 | G11: =CONCATENATE(E11," ",F11) -> 4941STM 00 | H11: I | I11: DF EXTREME BANDES 25MM X 75MM | K11: 1 | L11: =CONCATENATE(B11," ",C11) -> 000989G 00 | M11: =CONCATENATE(E11," ",F11) -> 4941STM 00
A12: P | B12: 000990G | C12: 00 | D12: 01 | E12: 494115M | F12: 00 | G12: =CONCATENATE(E12," ",F12) -> 494115M 00 | H12: I | I12: DF EXTREME ROULEAU 19MM X 1,5M | K12: 1 | L12: =CONCATENATE(B12," ",C12) -> 000990G 00 | M12: =CONCATENATE(E12," ",F12) -> 494115M 00
A13: P | B13: 055728G | C13: 00 | D13: 01 | E13: 17006CL | F13: 10 | G13: =CONCATENATE(E13," ",F13) -> 17006CL 10 | H13: I | I13: 17006CLR FGN UTI HKS 6HKS+8S/U | J13: UU008566208 | K13: 24 | L13: =CONCATENATE(B13," ",C13) -> 055728G 00 | M13: =CONCATENATE(E13," ",F13) -> 17006CL 10
A14: P | B14: 055728G | C14: 00 | D14: 01 | E14: 17026CL | F14: 10 | G14: =CONCATENATE(E14," ",F14) -> 17026CL 10 | H14: I | I14: 17026CLR FGN DECO CLP | J14: UU008566182 | K14: 48 | L14: =CONCATENATE(B14," ",C14) -> 055728G 00 | M14: =CONCATENATE(E14," ",F14) -> 17026CL 10
A15: P | B15: 055728G | C15: 00 | D15: 01 | E15: 17067CL | F15: 10 | G15: =CONCATENATE(E15," ",F15) -> 17067CL 10 | H15: I | I15: CROCH CLEAR POINTE METAL PM CL | J15: UU008566190 | K15: 18 | L15: =CONCATENATE(B15," ",C15) -> 055728G 00 | M15: =CONCATENATE(E15," ",F15) -> 17067CL 10
A16: P | B16: 055733G | C16: 00 | D16: 01 | E16: 17206BL | F16: 10 | G16: =CONCATENATE(E16," ",F16) -> 17206BL 10 | H16: I | I16: 17206 LANGUETTE FIXATION GM BL | J16: STOCK NUMBER UU | K16: 1 | L16: =CONCATENATE(B16," ",C16) -> 055733G 00 | M16: =CONCATENATE(E16," ",F16) -> 17206BL 10
A17: P | B17: 055739G | C17: 00 | D17: 01 | E17: 17201CH | F17: 10 | G17: =CONCATENATE(E17," ",F17) -> 17201CH 10 | H17: I | I17: 17201CH SYST REPOSITION TABL M | J17: STOCK NUMBER UU | K17: 40 | L17: =CONCATENATE(B17," ",C17) -> 055739G 00 | M17: =CONCATENATE(E17," ",F17) -> 17201CH 10
A18: P | B18: 055740G | C18: 00 | D18: 01 | E18: 17201CH | F18: 10 | G18: =CONCATENATE(E18," ",F18) -> 17201CH 10 | H18: I | I18: 17201CH SYST REPOSITION TABL M | J18: STOCK NUMBER UU | K18: 40 | L18: =CONCATENATE(B18," ",C18) -> 055740G 00 | M18: =CONCATENATE(E18," ",F18) -> 17201CH 10
A19: P | B19: 055740G | C19: 00 | D19: 01 | E19: 17202CH | F19: 10 | G19: =CONCATENATE(E19," ",F19) -> 17202CH 10 | H19: I | I19: 17202CH SYST REPOSITION TABLEA | J19: STOCK NUMBER UU | K19: 40 | L19: =CONCATENATE(B19," ",C19) -> 055740G 00 | M19: =CONCATENATE(E19," ",F19) -> 17202CH 10
A20: P | B20: 055740G | C20: 00 | D20: 01 | E20: 17206BL | F20: 10 | G20: =CONCATENATE(E20," ",F20) -> 17206BL 10 | H20: I | I20: 17206 LANGUETTE FIXATION GM BL | J20: STOCK NUMBER UU | K20: 40 | L20: =CONCATENATE(B20," ",C20) -> 055740G 00 | M20: =CONCATENATE(E20," ",F20) -> 17206BL 10
A21: P | B21: 055740G | C21: 00 | D21: 01 | E21: 17207BL | F21: 10 | G21: =CONCATENATE(E21," ",F21) -> 17207BL 10 | H21: I | I21: 17207 LANGUET FIXAT CADRE FIN | J21: STOCK NUMBER UU | K21: 40 | L21: =CONCATENATE(B21," ",C21) -> 055740G 00 | M21: =CONCATENATE(E21," ",F21) -> 17207BL 10
A22: P | B22: 055741G | C22: 00 | D22: 01 | E22: 17201CH | F22: 10 | G22: =CONCATENATE(E22," ",F22) -> 17201CH 10 | H22: I | I22: 17201CH SYST REPOSITION TABL M | J22: STOCK NUMBER UU | K22: 40 | L22: =CONCATENATE(B22," ",C22) -> 055741G 00 | M22: =CONCATENATE(E22," ",F22) -> 17201CH 10
A23: P | B23: 055741G | C23: 00 | D23: 01 | E23: 17202CH | F23: 10 | G23: =CONCATENATE(E23," ",F23) -> 17202CH 10 | H23: I | I23: 17202CH SYST REPOSITION TABLEA | J23: STOCK NUMBER UU | K23: 20 | L23: =CONCATENATE(B23," ",C23) -> 055741G 00 | M23: =CONCATENATE(E23," ",F23) -> 17202CH 10
A24: P | B24: 055741G | C24: 00 | D24: 01 | E24: 17206BL | F24: 10 | G24: =CONCATENATE(E24," ",F24) -> 17206BL 10 | H24: I | I24: 17206 LANGUETTE FIXATION GM BL | J24: STOCK NUMBER UU | K24: 10 | L24: =CONCATENATE(B24," ",C24) -> 055741G 00 | M24: =CONCATENATE(E24," ",F24) -> 17206BL 10
... A54: P | B54: 055763G | C54: 00 | D54: 01 | E54: 17006CL | F54: 04 | G54: =CONCATENATE(E54," ",F54) -> 17006CL 04 | H54: I | I54: CROCH CLEAR TRANSP MINI | J54: CLR FRGENL V2 | K54: 1 | L54: =CONCATENATE(B54," ",C54) -> 055763G 00 | M54: =CONCATENATE(E54," ",F54) -> 17006CL 04
A55: P | B55: 055770G | C55: 00 | D55: 01 | E55: 17026CL | F55: 10 | G55: =CONCATENATE(E55," ",F55) -> 17026CL 10 | H55: I | K55: 1 | L55: =CONCATENATE(B55," ",C55) -> 055770G 00 | M55: =CONCATENATE(E55," ",F55) -> 17026CL 10
A56: P | B56: 055772G | C56: 00 | D56: 01 | E56: 17022NM | F56: 00 | G56: =CONCATENATE(E56," ",F56) -> 17022NM 00 | H56: I | I56: 17022NFGN ADHES STRIPS S 12S/P | J56: UU009075134 | K56: 1 | L56: =CONCATENATE(B56," ",C56) -> 055772G 00 | M56: =CONCATENATE(E56," ",F56) -> 17022NM 00
A57: P | B57: 055773G | C57: 00 | D57: 01 | E57: 17021NM | F57: 00 | G57: =CONCATENATE(E57," ",F57) -> 17021NM 00 | H57: I | I57: 17021NFGN ADHES STRIPS M 8S/PK | J57: UU009075076 | K57: 1 | L57: =CONCATENATE(B57," ",C57) -> 055773G 00 | M57: =CONCATENATE(E57," ",F57) -> 17021NM 00
A58: P | B58: 055774G | C58: 00 | D58: 01 | E58: 17202FM | F58: 00 | G58: =CONCATENATE(E58," ",F58) -> 17202FM 00 | H58: I | I58: 17202F0 10 FR PHS S FRAME AISL | J58: UU008298349 | K58: 1 | L58: =CONCATENATE(B58," ",C58) -> 055774G 00 | M58: =CONCATENATE(E58," ",F58) -> 17202FM 00
A59: P | B59: 055775G | C59: 00 | D59: 01 | E59: 17201FM | F59: 00 | G59: =CONCATENATE(E59," ",F59) -> 17201FM 00 | H59: I | I59: 17201F0 10 FR PHS M FRAME AISL | J59: UU008298596 | K59: 1 | L59: =CONCATENATE(B59," ",C59) -> 055775G 00 | M59: =CONCATENATE(E59," ",F59) -> 17201FM 00
A60: P | B60: 055776G | C60: 00 | D60: 01 | E60: 055733M | F60: 00 | G60: =CONCATENATE(E60," ",F60) -> 055733M 00 | H60: I | I60: 055733G 00 FR PHS L FRAME AISL | J60: UU008298356 | K60: 1 | L60: =CONCATENATE(B60," ",C60) -> 055776G 00 | M60: =CONCATENATE(E60," ",F60) -> 055733M 00
A61: P | B61: 055778G | C61: 00 | D61: 01 | E61: 17202CH | F61: 10 | G61: =CONCATENATE(E61," ",F61) -> 17202CH 10 | H61: I | I61: 17202CH SYST REPOSITION TABLEA | J61: STOCK NUMBER UU | K61: 1 | L61: =CONCATENATE(B61," ",C61) -> 055778G 00 | M61: =CONCATENATE(E61," ",F61) -> 17202CH 10
A62: P | B62: 055779G | C62: 00 | D62: 01 | E62: 172014P | F62: 00 | G62: =CONCATENATE(E62," ",F62) -> 172014P 00 | H62: I | I62: 17201-4PK FR PHS WHIT M 10PCK/ | J62: UU008568865 | K62: 1 | L62: =CONCATENATE(B62," ",C62) -> 055779G 00 | M62: =CONCATENATE(E62," ",F62) -> 172014P 00
A63: P | B63: 055780G | C63: 00 | D63: 01 | E63: 17206BL | F63: 10 | G63: =CONCATENATE(E63," ",F63) -> 17206BL 10 | H63: I | I63: 17206 LANGUETTE FIXATION GM BL | J63: STOCK NUMBER UU | K63: 1 | L63: =CONCATENATE(B63," ",C63) -> 055780G 00 | M63: =CONCATENATE(E63," ",F63) -> 17206BL 10
A64: P | B64: 100007G | C64: 00 | D64: 01 | E64: 8078190 | F64: 00 | G64: =CONCATENATE(E64," ",F64) -> 8078190 00 | H64: I | I64: JT MOUSSE ECO NN 10X12 | J64: DRAW/51981 SPEC | K64: 24 | L64: =CONCATENATE(B64," ",C64) -> 100007G 00 | M64: =CONCATENATE(E64," ",F64) -> 8078190 00
A65: P | B65: 100007G | C65: 00 | D65: 01 | E65: BLACB00 | F65: 00 | G65: =CONCATENATE(E65," ",F65) -> BLACB00 00 | H65: I | I65: BDP SOL LISSE ADH CLASSIQUE BL | J65: BLACB | K65: 10 | L65: =CONCATENATE(B65," ",C65) -> 100007G 00 | M65: =CONCATENATE(E65," ",F65) -> BLACB00 00
A66: P | B66: 100007G | C66: 00 | D66: 01 | E66: BLACM00 | F66: 00 | G66: =CONCATENATE(E66," ",F66) -> BLACM00 00 | H66: I | I66: BDP SOL LISSE ADH CLASSIQUE MA | K66: 10 | L66: =CONCATENATE(B66," ",C66) -> 100007G 00 | M66: =CONCATENATE(E66," ",F66) -> BLACM00 00
A67: P | B67: 100007G | C67: 00 | D67: 01 | E67: BLMCRD0 | F67: 00 | G67: =CONCATENATE(E67," ",F67) -> BLMCRD0 00 | H67: I | I67: BDP SOL LISSE MINUTE CLASSIQUE | J67: MINI DOUBLE ROL | K67: 10 | L67: =CONCATENATE(B67," ",C67) -> 100007G 00 | M67: =CONCATENATE(E67," ",F67) -> BLMCRD0 00
A68: P | B68: 100007G | C68: 00 | D68: 01 | E68: JBECB00 | F68: 00 | G68: =CONCATENATE(E68," ",F68) -> JBECB00 00 | H68: I | I68: JOINT BON ETAT CLASSIQUE BLANC | J68: HIGH PERFORMANC | K68: 6 | L68: =CONCATENATE(B68," ",C68) -> 100007G 00 | M68: =CONCATENATE(E68," ",F68) -> JBECB00 00
A69: P | B69: 100007G | C69: 00 | D69: 01 | E69: JBECM00 | F69: 00 | G69: =CONCATENATE(E69," ",F69) -> JBECM00 00 | H69: I | I69: JOINT BON ETAT CLASSIQUE MARRO | J69: HIGH PERFORMANC | K69: 6 | L69: =CONCATENATE(B69," ",C69) -> 100007G 00 | M69: =CONCATENATE(E69," ",F69) -> JBECM00 00
A70: P | B70: 100007G | C70: 00 | D70: 01 | E70: JMECB00 | F70: 00 | G70: =CONCATENATE(E70," ",F70) -> JMECB00 00 | H70: I | I70: JOINT MAUVAIS ETAT CLASSIQUE B | J70: HIGH PERFORMANC | K70: 6 | L70: =CONCATENATE(B70," ",C70) -> 100007G 00 | M70: =CONCATENATE(E70," ",F70) -> JMECB00 00
A71: P | B71: 100007G | C71: 00 | D71: 01 | E71: JMECM00 | F71: 00 | G71: =CONCATENATE(E71," ",F71) -> JMECM00 00 | H71: I | I71: JOINT MAUVAIS ETAT CLASSIQUE M | J71: HIGH PERFORMANC | K71: 6 | L71: =CONCATENATE(B71," ",C71) -> 100007G 00 | M71: =CONCATENATE(E71," ",F71) -> JMECM00 00
A72: P | B72: 100007G | C72: 00 | D72: 01 | E72: JTMCB00 | F72: 00 | G72: =CONCATENATE(E72," ",F72) -> JTMCB00 00 | H72: I | I72: JOINT TRES MAUVAIS ETAT CLASSI | J72: HIGH PERFORMANC | K72: 6 | L72: =CONCATENATE(B72," ",C72) -> 100007G 00 | M72: =CONCATENATE(E72," ",F72) -> JTMCB00 00
A73: P | B73: 100007G | C73: 00 | D73: 01 | E73: JTMCM00 | F73: 00 | G73: =CONCATENATE(E73," ",F73) -> JTMCM00 00 | H73: I | I73: JOINT TRES MAUVAIS ETAT CLASSI | J73: HIGH PERFORMANC | K73: 6 | L73: =CONCATENATE(B73," ",C73) -> 100007G 00 | M73: =CONCATENATE(E73," ",F73) -> JTMCM00 00
A74: P | B74: 100008G | C74: 00 | D74: 01 | E74: JMECB00 | F74: 00 | G74: =CONCATENATE(E74," ",F74) -> JMECB00 00 | H74: I | K74: 12 | L74: =CONCATENATE(B74," ",C74) -> 100008G 00 | M74: =CONCATENATE(E74," ",F74) -> JMECB00 00
A75: P | B75: 100008G | C75: 00 | D75: 01 | E75: JMECM00 | F75: 00 | G75: =CONCATENATE(E75," ",F75) -> JMECM00 00 | H75: I | K75: 12 | L75: =CONCATENATE(B75," ",C75) -> 100008G 00 | M75: =CONCATENATE(E75," ",F75) -> JMECM00 00
A76: P | B76: 100009G | C76: 00 | D76: 01 | E76: JBECB00 | F76: 00 | G76: =CONCATENATE(E76," ",F76) -> JBECB00 00 | H76: I | I76: JOINT BON ETAT CLASSIQUE BLANC | J76: HIGH PERFORMANC | K76: 12 | L76: =CONCATENATE(B76," ",C76) -> 100009G 00 | M76: =CONCATENATE(E76," ",F76) -> JBECB00 00
A77: P | B77: 100009G | C77: 00 | D77: 01 | E77: JBECM00 | F77: 00 | G77: =CONCATENATE(E77," ",F77) -> JBECM00 00 | H77: I | I77: JOINT BON ETAT CLASSIQUE MARRO | J77: HIGH PERFORMANC | K77: 12 | L77: =CONCATENATE(B77," ",C77) -> 100009G 00 | M77: =CONCATENATE(E77," ",F77) -> JBECM00 00
A78: P | B78: 100009G | C78: 00 | D78: 01 | E78: JMECB00 | F78: 00 | G78: =CONCATENATE(E78," ",F78) -> JMECB00 00 | H78: I | I78: JOINT MAUVAIS ETAT CLASSIQUE B | J78: HIGH PERFORMANC | K78: 24 | L78: =CONCATENATE(B78," ",C78) -> 100009G 00 | M78: =CONCATENATE(E78," ",F78) -> JMECB00 00
A79: P | B79: 100009G | C79: 00 | D79: 01 | E79: JMECM00 | F79: 00 | G79: =CONCATENATE(E79," ",F79) -> JMECM00 00 | H79: I | I79: JOINT MAUVAIS ETAT CLASSIQUE M | J79: HIGH PERFORMANC | K79: 24 | L79: =CONCATENATE(B79," ",C79) -> 100009G 00 | M79: =CONCATENATE(E79," ",F79) -> JMECM00 00
A80: P | B80: 100009G | C80: 00 | D80: 01 | E80: JTMCB00 | F80: 00 | G80: =CONCATENATE(E80," ",F80) -> JTMCB00 00 | H80: I | I80: JOINT TRES MAUVAIS ETAT CLASSI | J80: HIGH PERFORMANC | K80: 20 | L80: =CONCATENATE(B80," ",C80) -> 100009G 00 | M80: =CONCATENATE(E80," ",F80) -> JTMCB00 00
A81: P | B81: 100009G | C81: 00 | D81: 01 | E81: JTMCM00 | F81: 00 | G81: =CONCATENATE(E81," ",F81) -> JTMCM00 00 | H81: I | I81: JOINT TRES MAUVAIS ETAT CLASSI | J81: HIGH PERFORMANC | K81: 20 | L81: =CONCATENATE(B81," ",C81) -> 100009G 00 | M81: =CONCATENATE(E81," ",F81) -> JTMCM00 00
A82: P | B82: 100009G | C82: 00 | D82: 01 | E82: JTMPS00 | F82: 00 | G82: =CONCATENATE(E82," ",F82) -> JTMPS00 00 | H82: I | I82: JOINT TRES MAUVAIS ETAT PREMIU | J82: UNI SILICONE 9 | K82: 12 | L82: =CONCATENATE(B82," ",C82) -> 100009G 00 | M82: =CONCATENATE(E82," ",F82) -> JTMPS00 00
A83: P | B83: 100010G | C83: 00 | D83: 01 | E83: JBEPB00 | F83: 00 | G83: =CONCATENATE(E83," ",F83) -> JBEPB00 00 | H83: I | I83: JOINT BON ETAT PREMIUM BLANC P | J83: K-PROFILE TLT 9 | K83: 12 | L83: =CONCATENATE(B83," ",C83) -> 100010G 00 | M83: =CONCATENATE(E83," ",F83) -> JBEPB00 00
A84: P | B84: 100010G | C84: 00 | D84: 01 | E84: JBEPM00 | F84: 00 | G84: =CONCATENATE(E84," ",F84) -> JBEPM00 00 | H84: I | I84: JOINT BON ETAT PREMIUM MARRON | J84: K-PROFILE TLT 9 | K84: 12 | L84: =CONCATENATE(B84," ",C84) -> 100010G 00 | M84: =CONCATENATE(E84," ",F84) -> JBEPM00 00
A85: P | B85: 100010G | C85: 00 | D85: 01 | E85: JMEPB00 | F85: 00 | G85: =CONCATENATE(E85," ",F85) -> JMEPB00 00 | H85: I | I85: JOINT MAUVAIS ETAT PREMIUM BLA | J85: P-PROFILE TLT 9 | K85: 24 | L85: =CONCATENATE(B85," ",C85) -> 100010G 00 | M85: =CONCATENATE(E85," ",F85) -> JMEPB00 00
A86: P | B86: 100010G | C86: 00 | D86: 01 | E86: JMEPM00 | F86: 00 | G86: =CONCATENATE(E86," ",F86) -> JMEPM00 00 | H86: I | I86: JOINT MAUVAIS ETAT PREMIUM MAR | J86: P-PROFILE TLT 9 | K86: 24 | L86: =CONCATENATE(B86," ",C86) -> 100010G 00 | M86: =CONCATENATE(E86," ",F86) -> JMEPM00 00
A87: P | B87: 100010G | C87: 00 | D87: 01 | E87: JTMPB00 | F87: 00 | G87: =CONCATENATE(E87," ",F87) -> JTMPB00 00 | H87: I | I87: JOINT TRES MAUVAIS ETAT PREMIU | J87: D-PROFILE TLT 9 | K87: 18 | L87: =CONCATENATE(B87," ",C87) -> 100010G 00 | M87: =CONCATENATE(E87," ",F87) -> JTMPB00 00
... A97: P | B97: 100015G | C97: 00 | D97: 01 | E97: JTMPS00 | F97: 00 | G97: =CONCATENATE(E97," ",F97) -> JTMPS00 00 | H97: I | I97: JOINT TRES MAUVAIS ETAT PREMIU | J97: UNI SILICONE 9 | K97: 42 | L97: =CONCATENATE(B97," ",C97) -> 100015G 00 | M97: =CONCATENATE(E97," ",F97) -> JTMPS00 00
A98: P | B98: 100016G | C98: 00 | D98: 01 | E98: JTMCB00 | F98: 00 | G98: =CONCATENATE(E98," ",F98) -> JTMCB00 00 | H98: I | K98: 10 | L98: =CONCATENATE(B98," ",C98) -> 100016G 00 | M98: =CONCATENATE(E98," ",F98) -> JTMCB00 00
A99: P | B99: 100016G | C99: 00 | D99: 01 | E99: JTMCM00 | F99: 00 | G99: =CONCATENATE(E99," ",F99) -> JTMCM00 00 | H99: I | K99: 10 | L99: =CONCATENATE(B99," ",C99) -> 100016G 00 | M99: =CONCATENATE(E99," ",F99) -> JTMCM00 00
A100: P | B100: 300017G | C100: 00 | D100: 01 | E100: 199432M | F100: 00 | G100: =CONCATENATE(E100," ",F100) -> 199432M 00 | H100: I | I100: MASQUAGE SURF.DELIC.50MX24 BLE | J100: 310034 963080 1 | K100: 1 | L100: =CONCATENATE(B100," ",C100) -> 300017G 00 | M100: =CONCATENATE(E100," ",F100) -> 199432M 00
A101: P | B101: 300018G | C101: 00 | D101: 01 | E101: 199437M | F101: 00 | G101: =CONCATENATE(E101," ",F101) -> 199437M 00 | H101: I | I101: MASQUAGE SURF.DELIC.50MX36 BLE | J101: 310034 963081 8 | K101: 1 | L101: =CONCATENATE(B101," ",C101) -> 300018G 00 | M101: =CONCATENATE(E101," ",F101) -> 199437M 00
A102: P | B102: 300021G | C102: 00 | D102: 01 | E102: 199440M | F102: 00 | G102: =CONCATENATE(E102," ",F102) -> 199440M 00 | H102: I | I102: MASQUAGE SURF.LISSE 50MX24 BLE | J102: 404671 963061 5 | K102: 1 | L102: =CONCATENATE(B102," ",C102) -> 300021G 00 | M102: =CONCATENATE(E102," ",F102) -> 199440M 00
A103: P | B103: 300184G | C103: 00 | D103: 01 | E103: 300170G | F103: 00 | G103: =CONCATENATE(E103," ",F103) -> 300170G 00 | H103: I | I103: 2080 FR MASK 36MMX41M SCOTCHBL | K103: 1 | L103: =CONCATENATE(B103," ",C103) -> 300184G 00 | M103: =CONCATENATE(E103," ",F103) -> 300170G 00
A104: P | B104: 300211G | C104: 00 | D104: 01 | E104: 300202G | F104: 00 | G104: =CONCATENATE(E104," ",F104) -> 300202G 00 | H104: I | I104: MASQ SURF DELICATES 2080 SCOTC | J104: SN : UU00924360 | K104: 1 | L104: =CONCATENATE(B104," ",C104) -> 300211G 00 | M104: =CONCATENATE(E104," ",F104) -> 300202G 00
A105: P | B105: 300217G | C105: 00 | D105: 01 | E105: 300202G | F105: 00 | G105: =CONCATENATE(E105," ",F105) -> 300202G 00 | H105: I | I105: MASQ SURF DELICATES 2080 SCOTC | J105: SN : UU00924360 | K105: 1 | L105: =CONCATENATE(B105," ",C105) -> 300217G 00 | M105: =CONCATENATE(E105," ",F105) -> 300202G 00
A106: P | B106: 300218G | C106: 00 | D106: 01 | E106: 300204G | F106: 00 | G106: =CONCATENATE(E106," ",F106) -> 300204G 00 | H106: I | I106: MASQ FINITION PARFAITE 2093 SC | J106: SN = UU00926212 | K106: 1 | L106: =CONCATENATE(B106," ",C106) -> 300218G 00 | M106: =CONCATENATE(E106," ",F106) -> 300204G 00
A107: P | B107: 300221G | C107: 00 | D107: 01 | E107: 300179G | F107: 00 | G107: =CONCATENATE(E107," ",F107) -> 300179G 00 | H107: I | I107: LOT 2 MASK S DELICAT 41X36 D | J107: SN 3M:195002185 | K107: 18 | L107: =CONCATENATE(B107," ",C107) -> 300221G 00 | M107: =CONCATENATE(E107," ",F107) -> 300179G 00
A108: P | B108: 300228G | C108: 00 | D108: 01 | E108: 300204G | F108: 00 | G108: =CONCATENATE(E108," ",F108) -> 300204G 00 | H108: I | I108: MASQ FINITION PARFAITE 2093 SC | J108: SN = UU00926212 | K108: 1 | L108: =CONCATENATE(B108," ",C108) -> 300228G 00 | M108: =CONCATENATE(E108," ",F108) -> 300204G 00
A109: P | B109: 300229G | C109: 00 | D109: 01 | E109: 300202G | F109: 00 | G109: =CONCATENATE(E109," ",F109) -> 300202G 00 | H109: I | I109: MASQ SURF DELICATES 2080 SCOTC | J109: SN : UU00924360 | K109: 18 | L109: =CONCATENATE(B109," ",C109) -> 300229G 00 | M109: =CONCATENATE(E109," ",F109) -> 300202G 00
A110: P | B110: 300229G | C110: 00 | D110: 01 | E110: 300223G | F110: 00 | G110: =CONCATENATE(E110," ",F110) -> 300223G 00 | H110: I | I110: RUBAN MASQ MULTI-SURF SCOTCHBL | J110: SN = UU00926215 | K110: 12 | L110: =CONCATENATE(B110," ",C110) -> 300229G 00 | M110: =CONCATENATE(E110," ",F110) -> 300223G 00
A111: P | B111: 30100KF | C111: 00 | D111: 01 | E111: 2090365 | F111: 00 | G111: =CONCATENATE(E111," ",F111) -> 2090365 00 | H111: I | I111: 2090 KF MASK ORIGINAL 55MX36MM | J111: SN 3M UU0097128 | K111: 48 | L111: =CONCATENATE(B111," ",C111) -> 30100KF 00 | M111: =CONCATENATE(E111," ",F111) -> 2090365 00
A112: P | B112: 30100KF | C112: 00 | D112: 01 | E112: 2090370 | F112: 00 | G112: =CONCATENATE(E112," ",F112) -> 2090370 00 | H112: I | I112: APPLICATEUR MASQUAGE SCOTCHBLU | J112: SN 3M 700091071 | K112: 24 | L112: =CONCATENATE(B112," ",C112) -> 30100KF 00 | M112: =CONCATENATE(E112," ",F112) -> 2090370 00
A113: P | B113: 3010100 | C113: 00 | D113: 01 | E113: 2090363 | F113: 00 | G113: =CONCATENATE(E113," ",F113) -> 2090363 00 | H113: I | I113: 2090 MS SCOTCHBLUE 41X36 CC | J113: 3M SN UU0092757 | K113: 48 | L113: =CONCATENATE(B113," ",C113) -> 3010100 00 | M113: =CONCATENATE(E113," ",F113) -> 2090363 00
A114: P | B114: 3010100 | C114: 00 | D114: 01 | E114: 2090370 | F114: 00 | G114: =CONCATENATE(E114," ",F114) -> 2090370 00 | H114: I | I114: APPLICATEUR MASQUAGE SCOTCHBLU | J114: SN 3M 700091071 | K114: 24 | L114: =CONCATENATE(B114," ",C114) -> 3010100 00 | M114: =CONCATENATE(E114," ",F114) -> 2090370 00
A115: P | B115: 30102KF | C115: 00 | D115: 01 | E115: 2080365 | F115: 00 | G115: =CONCATENATE(E115," ",F115) -> 2080365 00 | H115: I | I115: 2080 KF MASK DELICAT 55MX36MM | J115: SN 3M UU0097128 | K115: 24 | L115: =CONCATENATE(B115," ",C115) -> 30102KF 00 | M115: =CONCATENATE(E115," ",F115) -> 2080365 00
A116: P | B116: 30102KF | C116: 00 | D116: 01 | E116: 2090365 | F116: 00 | G116: =CONCATENATE(E116," ",F116) -> 2090365 00 | H116: I | I116: 2090 KF MASK ORIGINAL 55MX36MM | J116: SN 3M UU0097128 | K116: 48 | L116: =CONCATENATE(B116," ",C116) -> 30102KF 00 | M116: =CONCATENATE(E116," ",F116) -> 2090365 00
A117: P | B117: 30102KF | C117: 00 | D117: 01 | E117: 2093365 | F117: 00 | G117: =CONCATENATE(E117," ",F117) -> 2093365 00 | H117: I | I117: 2093 KF MASK PERFECTLINE 55X36 | J117: SN 3M UU0097080 | K117: 24 | L117: =CONCATENATE(B117," ",C117) -> 30102KF 00 | M117: =CONCATENATE(E117," ",F117) -> 2093365 00
A118: P | B118: 3010300 | C118: 00 | D118: 01 | E118: 2090363 | F118: 00 | G118: =CONCATENATE(E118," ",F118) -> 2090363 00 | H118: I | I118: 2090 MS SCOTCHBLUE 41X36 CC | J118: 3M SN UU0092757 | K118: 48 | L118: =CONCATENATE(B118," ",C118) -> 3010300 00 | M118: =CONCATENATE(E118," ",F118) -> 2090363 00
A119: P | B119: 3010300 | C119: 00 | D119: 01 | E119: 300170G | F119: 00 | G119: =CONCATENATE(E119," ",F119) -> 300170G 00 | H119: I | K119: 24 | L119: =CONCATENATE(B119," ",C119) -> 3010300 00 | M119: =CONCATENATE(E119," ",F119) -> 300170G 00
A120: P | B120: 3010300 | C120: 00 | D120: 01 | E120: 300176G | F120: 00 | G120: =CONCATENATE(E120," ",F120) -> 300176G 00 | H120: I | K120: 24 | L120: =CONCATENATE(B120," ",C120) -> 3010300 00 | M120: =CONCATENATE(E120," ",F120) -> 300176G 00
A121: P | B121: 30104KF | C121: 00 | D121: 01 | E121: 2090483 | F121: 00 | G121: =CONCATENATE(E121," ",F121) -> 2090483 00 | H121: I | I121: 2090 KF LOT 3 MASK ORIG 55X48 | J121: SCOTCHBLUE | K121: 1 | L121: =CONCATENATE(B121," ",C121) -> 30104KF 00 | M121: =CONCATENATE(E121," ",F121) -> 2090483 00
A122: P | B122: 30105KF | C122: 00 | D122: 01 | E122: 2090365 | F122: 00 | G122: =CONCATENATE(E122," ",F122) -> 2090365 00 | H122: I | I122: 2090 KF MASK ORIGINAL 55MX36MM | J122: SN 3M UU0097128 | K122: 1 | L122: =CONCATENATE(B122," ",C122) -> 30105KF 00 | M122: =CONCATENATE(E122," ",F122) -> 2090365 00
A123: P | B123: 30106KF | C123: 00 | D123: 01 | E123: 2080365 | F123: 00 | G123: =CONCATENATE(E123," ",F123) -> 2080365 00 | H123: I | I123: 2080 KF MASK DELICAT 55MX36MM | J123: SN 3M UU0097128 | K123: 1 | L123: =CONCATENATE(B123," ",C123) -> 30106KF 00 | M123: =CONCATENATE(E123," ",F123) -> 2080365 00
A124: P | B124: 30107KF | C124: 00 | D124: 01 | E124: 2090483 | F124: 00 | G124: =CONCATENATE(E124," ",F124) -> 2090483 00 | H124: I | I124: 2090 KF LOT 3 MASK ORIG 55X48 | J124: SCOTCHBLUE | K124: 1 | L124: =CONCATENATE(B124," ",C124) -> 30107KF 00 | M124: =CONCATENATE(E124," ",F124) -> 2090483 00
A125: P | B125: 30108KF | C125: 00 | D125: 01 | E125: 917032P | F125: 00 | G125: =CONCATENATE(E125," ",F125) -> 917032P 00 | H125: I | I125: LOT 2 TOILES ORANGE 25X48 | J125: SN 3M:195002205 | K125: 1 | L125: =CONCATENATE(B125," ",C125) -> 30108KF 00 | M125: =CONCATENATE(E125," ",F125) -> 917032P 00
A126: P | B126: 30109KF | C126: 00 | D126: 01 | E126: 917033P | F126: 00 | G126: =CONCATENATE(E126," ",F126) -> 917033P 00 | H126: I | I126: LOT 2 DF MOQUETTES 25X48 | J126: MOQ HM | K126: 1 | L126: =CONCATENATE(B126," ",C126) -> 30109KF 00 | M126: =CONCATENATE(E126," ",F126) -> 917033P 00
A127: P | B127: 30110LM | C127: 00 | D127: 01 | E127: 4032195 | F127: 00 | G127: =CONCATENATE(E127," ",F127) -> 4032195 00 | H127: I | I127: 4032F DF SDB & MIROIR 5X19 | J127: SN 3M UU0097222 | K127: 1 | L127: =CONCATENATE(B127," ",C127) -> 30110LM 00 | M127: =CONCATENATE(E127," ",F127) -> 4032195 00
A128: P | B128: 30111LM | C128: 00 | D128: 01 | E128: 4941194 | F128: 00 | G128: =CONCATENATE(E128," ",F128) -> 4941194 00 | H128: I | I128: 4941F DF EXTREME EXT 1.5X19 | J128: SCOTCH | K128: 1 | L128: =CONCATENATE(B128," ",C128) -> 30111LM 00 | M128: =CONCATENATE(E128," ",F128) -> 4941194 00
A129: P | B129: 3011200 | C129: 00 | D129: 01 | E129: 913109P | F129: 00 | G129: =CONCATENATE(E129," ",F129) -> 913109P 00 | H129: I | I129: DF MIROIR 1,5M X 19MM | J129: SN 3M :UU009325 | K129: 1 | L129: =CONCATENATE(B129," ",C129) -> 3011200 00 | M129: =CONCATENATE(E129," ",F129) -> 913109P 00
A130: P | B130: 3011300 | C130: 00 | D130: 01 | E130: 914141P | F130: 00 | G130: =CONCATENATE(E130," ",F130) -> 914141P 00 | H130: I | I130: DOUBLE FACE EXTREME | K130: 1 | L130: =CONCATENATE(B130," ",C130) -> 3011300 00 | M130: =CONCATENATE(E130," ",F130) -> 914141P 00
A131: P | B131: 3011400 | C131: 00 | D131: 01 | E131: 4032191 | F131: 50 | G131: =CONCATENATE(E131," ",F131) -> 4032191 50 | H131: I | I131: MOUNTING MIRROR 1,5MX19 1RL/PK | J131: SN 3M : UU00829 | K131: 1 | L131: =CONCATENATE(B131," ",C131) -> 3011400 00 | M131: =CONCATENATE(E131," ",F131) -> 4032191 50
A132: P | B132: 500390G | C132: 00 | D132: 01 | E132: 050003G | F132: 87 | G132: =CONCATENATE(E132," ",F132) -> 050003G 87 | H132: I | I132: GLISSEUR TOUT TERRAIN ADH. 65 | J132: GRIS METAL | K132: 10 | L132: =CONCATENATE(B132," ",C132) -> 500390G 00 | M132: =CONCATENATE(E132," ",F132) -> 050003G 87
A133: P | B133: 500390G | C133: 00 | D133: 01 | E133: 050010G | F133: 70 | G133: =CONCATENATE(E133," ",F133) -> 050010G 70 | H133: I | I133: GLISSEUR ALVEOLE ADHESIF 24X24 | J133: GRIS | K133: 24 | L133: =CONCATENATE(B133," ",C133) -> 500390G 00 | M133: =CONCATENATE(E133," ",F133) -> 050010G 70
A134: P | B134: 500390G | C134: 00 | D134: 01 | E134: 050017G | F134: 70 | G134: =CONCATENATE(E134," ",F134) -> 050017G 70 | H134: I | I134: GLISSEUR ALVEOLE ADH. 50 X 50 | J134: GRIS | K134: 20 | L134: =CONCATENATE(B134," ",C134) -> 500390G 00 | M134: =CONCATENATE(E134," ",F134) -> 050017G 70
A135: P | B135: 500390G | C135: 00 | D135: 01 | E135: 050018G | F135: 32 | G135: =CONCATENATE(E135," ",F135) -> 050018G 32 | H135: I | I135: GLISSEUR ALVEOLE A CLOUER 19 | J135: MARRON | K135: 28 | L135: =CONCATENATE(B135," ",C135) -> 500390G 00 | M135: =CONCATENATE(E135," ",F135) -> 050018G 32
A136: P | B136: 500390G | C136: 00 | D136: 01 | E136: 050020G | F136: 32 | G136: =CONCATENATE(E136," ",F136) -> 050020G 32 | H136: I | I136: GLISSEUR ALVEOLE A CLOUER 25 | J136: MARRON | K136: 24 | L136: =CONCATENATE(B136," ",C136) -> 500390G 00 | M136: =CONCATENATE(E136," ",F136) -> 050020G 32
A137: P | B137: 500393G | C137: 00 | D137: 01 | E137: 500061G | F137: 30 | G137: =CONCATENATE(E137," ",F137) -> 500061G 30 | H137: I | I137: PATIN FEUT LAINE ADH SCOTCH 25 | J137: BEIGE | K137: 1 | L137: =CONCATENATE(B137," ",C137) -> 500393G 00 | M137: =CONCATENATE(E137," ",F137) -> 500061G 30
A138: P | B138: 500394G | C138: 00 | D138: 01 | E138: 500147G | F138: 70 | G138: =CONCATENATE(E138," ",F138) -> 500147G 70 | H138: I | I138: PAT FEUT BI-MAT ADH ARRONDI 25 | J138: GRIS/BLANC | K138: 1 | L138: =CONCATENATE(B138," ",C138) -> 500394G 00 | M138: =CONCATENATE(E138," ",F138) -> 500147G 70
...

Sheet TCD BOM
A1: ref 10 digits | B1: Composant.1 | C1: Composant.2 | D1: Composant.3 | E1: Composant.4 | F1: Composant.5 | G1: Composant.6 | H1: Composant.7 | I1: Composant.8 | J1: Composant.9 | K1: Composant.10
A2: 000919G 00 | B2: 17201CH 10 | C2: 17202CH 10 | D2: 17206BL 10 | E2: 17207BL 10
A3: 000966G 00 | B3: 7634NAG 75
A4: 000967G 00 | B4: 7646NAG 71
A5: 000986G 00 | B5: RF67301 01
A6: 000987G 00 | B6: RF67311 76
A7: 000988G 00 | B7: 449215M 00
A8: 000989G 00 | B8: 4941STM 00
A9: 000990G 00 | B9: 494115M 00
A10: 055728G 00 | B10: 17006CL 10 | C10: 17026CL 10 | D10: 17067CL 10
A11: 055733G 00 | B11: 17206BL 10
A12: 055739G 00 | B12: 17201CH 10
A13: 055740G 00 | B13: 17201CH 10 | C13: 17202CH 10 | D13: 17206BL 10 | E13: 17207BL 10
A14: 055741G 00 | B14: 17201CH 10 | C14: 17202CH 10 | D14: 17206BL 10 | E14: 17207BL 10
A15: 055742G 00 | B15: 17201F0 10 | C15: 17202F0 10
A16: 055744G 00 | B16: 17201CH 10 | C16: 17202CH 10 | D16: 17206BL 10
A17: 055745G 00 | B17: 17201CH 10 | C17: 17202CH 10 | D17: 17206BL 10
A18: 055747G 00 | B18: 17026CL 10
A19: 055748G 00 | B19: 17026CL 10
A20: 055749G 00 | B20: 17202F0 10
A21: 055750G 00 | B21: 17201F0 10
A22: 055753G 00 | B22: 17201F0 10
A23: 055754G 00 | B23: 055733G 00 | C23: 17201F0 10 | D23: 17202F0 10 | E23: 17207BL 10
A24: 055755G 00 | B24: 17067FM 00 | C24: 17082FM 00 | D24: 17086QM 00 | E24: 17201FM 00 | F24: MR01BWM 00
A25: 055757G 00 | B25: 055733G 00
A26: 055758G 00 | B26: 1702200 10
A27: 055759G 00 | B27: 1702100 10
A28: 055760G 00 | B28: W170820 10
A29: 055761G 00 | B29: W170670 10
A30: 055762G 00 | B30: MR01BC0 71
A31: 055763G 00 | B31: 17006CL 04
A32: 055770G 00 | B32: 17026CL 10
A33: 055772G 00 | B33: 17022NM 00
A34: 055773G 00 | B34: 17021NM 00
A35: 055774G 00 | B35: 17202FM 00
A36: 055775G 00 | B36: 17201FM 00
... A40: 055780G 00 | B40: 17206BL 10
A41: 100007G 00 | B41: 8078190 00 | C41: BLACB00 00 | D41: BLACM00 00 | E41: BLMCRD0 00 | F41: JBECB00 00 | G41: JBECM00 00 | H41: JMECB00 00 | I41: JMECM00 00 | J41: JTMCB00 00 | K41: JTMCM00 00
A42: 100008G 00 | B42: JMECB00 00 | C42: JMECM00 00
A43: 100009G 00 | B43: JBECB00 00 | C43: JBECM00 00 | D43: JMECB00 00 | E43: JMECM00 00 | F43: JTMCB00 00 | G43: JTMCM00 00 | H43: JTMPS00 00
A44: 100010G 00 | B44: JBEPB00 00 | C44: JBEPM00 00 | D44: JMEPB00 00 | E44: JMEPM00 00 | F44: JTMPB00 00 | G44: JTMPM00 00 | H44: JTMPS00 00
A45: 100011G 00 | B45: JGC0000 00
A46: 100012G 00 | B46: JBEPB00 00 | C46: JBEPM00 00
A47: 100013G 00 | B47: JMEPB00 00 | C47: JMEPM00 00
A48: 100014G 00 | B48: JTMPB00 00 | C48: JTMPM00 00
A49: 100015G 00 | B49: JTMPS00 00
A50: 100016G 00 | B50: JTMCB00 00 | C50: JTMCM00 00
A51: 300017G 00 | B51: 199432M 00
A52: 300018G 00 | B52: 199437M 00
A53: 300021G 00 | B53: 199440M 00
A54: 300184G 00 | B54: 300170G 00
A55: 300211G 00 | B55: 300202G 00
A56: 300217G 00 | B56: 300202G 00
A57: 300218G 00 | B57: 300204G 00
A58: 300221G 00 | B58: 300179G 00
A59: 300228G 00 | B59: 300204G 00
A60: 300229G 00 | B60: 300202G 00 | C60: 300223G 00
A61: 30100KF 00 | B61: 2090365 00 | C61: 2090370 00
A62: 3010100 00 | B62: 2090363 00 | C62: 2090370 00
A63: 30102KF 00 | B63: 2080365 00 | C63: 2090365 00 | D63: 2093365 00
A64: 3010300 00 | B64: 2090363 00 | C64: 300170G 00 | D64: 300176G 00
A65: 30104KF 00 | B65: 2090483 00
A66: 30105KF 00 | B66: 2090365 00
A67: 30106KF 00 | B67: 2080365 00
A68: 30107KF 00 | B68: 2090483 00
A69: 30108KF 00 | B69: 917032P 00
A70: 30109KF 00 | B70: 917033P 00
A71: 30110LM 00 | B71: 4032195 00
A72: 30111LM 00 | B72: 4941194 00
A73: 3011200 00 | B73: 913109P 00
A74: 3011300 00 | B74: 914141P 00
A75: 3011400 00 | B75: 4032191 50
A76: 500390G 00 | B76: 050003G 87 | C76: 050010G 70 | D76: 050017G 70 | E76: 050018G 32 | F76: 050020G 32
A77: 500393G 00 | B77: 500061G 30
A78: 500394G 00 | B78: 500147G 70
A79: 500395G 00 | B79: 500341G 11
A80: 9093180 00 | B80: 914055P 00
A81: 914099P 00 | B81: PF88330 00
A82: 915163P 00 | B82: 914055P 00
A83: 916020P 00 | B83: 4251A00 00
A84: 916024P 00 | B84: 8822C30 00
A85: 916027P 00 | B85: 4279PLM 00
A86: 916029P 00 | B86: 2790C00 00
A87: 916600G 00 | B87: 8822C3M 00
A88: 916601G 00 | B88: X2AC10M 00
... A98: 917027P 00 | B98: 916127M 00
A99: 917048P 00 | B99: 300147G 00 | C99: 916180P 00 | D99: 916187P 00
A100: 917067P 00 | B100: 917051M 00
A101: 917068P 00 | B101: 300166G 00
A102: 917069P 00 | B102: BP9670M 00
A103: 917077P 00 | B103: 913185P 00
A104: 917078P 00 | B104: 916003P 00
A105: 999999G 00 | B105: 999999G 00
A106: MARCUSP 00 | B106: 7146230 00
A107: NETTOYA 01 | B107: NETTOYA 01
A108: RF77300 00 | B108: RF37100 76 | C108: RF37300 76 | D108: RF37400 76 | E108: RF37810 76 | F108: RF37820 76
