Workbook

Sheet Annexe
A9: n° Infoprod | B9: Référence interne | C9: Nb composants
A11: V190204D 01 | B11: 3010100 00 | C11: =COUNTIF([1]BOM!$L$2:$L$174,B11) -> 2
B12: =VLOOKUP(B11,'TCD BOM'!$A$2:$K$108,COLUMN()+0,0) -> 2090363 00 | C12: =COUNTIF([1]BOM!$L$2:$L$174,B12) -> 0
B13: =VLOOKUP(B11,'TCD BOM'!$A$2:$K$108,COLUMN()+1,0) -> 2090370 00 | C13: =COUNTIF([1]BOM!$L$2:$L$174,B13) -> 0
C14: =COUNTIF([1]BOM!$L$2:$L$174,B14) -> 0
A15: V190204D 02 | B15: 3010300 00 | C15: =COUNTIF([1]BOM!$L$2:$L$174,B15) -> 3
B16: =VLOOKUP(B15,'TCD BOM'!$A$2:$K$108,COLUMN()+0,0) -> 2090363 00 | C16: =COUNTIF([1]BOM!$L$2:$L$174,B16) -> 0
B17: =VLOOKUP(B15,'TCD BOM'!$A$2:$K$108,COLUMN()+1,0) -> 300170G 00 | C17: =COUNTIF([1]BOM!$L$2:$L$174,B17) -> 0
B18: =VLOOKUP(B15,'TCD BOM'!$A$2:$K$108,COLUMN()+2,0) -> 300176G 00 | C18: =COUNTIF([1]BOM!$L$2:$L$174,B18) -> 0
C19: =COUNTIF([1]BOM!$L$2:$L$174,B19) -> 0
A20: V190204D 03 | B20: 300097G 00 | C20: =COUNTIF([1]BOM!$L$2:$L$174,B20) -> 0
C21: =COUNTIF([1]BOM!$L$2:$L$174,B21) -> 0
A22: V190204D 07 | B22: 913185P 00 | C22: =COUNTIF([1]BOM!$L$2:$L$174,B22) -> 0
C23: =COUNTIF([1]BOM!$L$2:$L$174,B23) -> 0
A24: V190204D 08 | B24: 916003P 00 | C24: =COUNTIF([1]BOM!$L$2:$L$174,B24) -> 0
C25: =COUNTIF([1]BOM!$L$2:$L$174,B25) -> 0
A26: V190204D 09 | B26: 300103G 00 | C26: =COUNTIF([1]BOM!$L$2:$L$174,B26) -> 0

Sheet BOM
A1: fatype | B1: ref | C1: SREF | D1: PANIV | E1: PACOMP | F1: PASCOMP | G1: PASCOMP 10 digits | H1: INT_EXT | I1: DESCOMP | J1: DESSREF | K1: QTE | L1: ref 10 digits2 | M1: PASCOMP 10 digits2
A2: P | B2: 000919G | C2: 00 | D2: 01 | E2: 17201CH | F2: 10 | G2: =CONCATENATE(E2," ",F2) -> 17201CH 10 | H2: I | I2: 17201CH SYST REPOSITION TABL M | J2: STOCK NUMBER UU | K2: 40 | L2: =CONCATENATE(B2," ",C2) -> 000919G 00 | M2: =CONCATENATE(E2," ",F2) -> 17201CH 10
A3: P | B3: 000919G | C3: 00 | D3: 01 | E3: 17202CH | F3: 10 | G3: =CONCATENATE(E3," ",F3) -> 17202CH 10 | H3: I | I3: 17202CH SYST REPOSITION TABLEA | J3: STOCK NUMBER UU | K3: 20 | L3: =CONCATENATE(B3," ",C3) -> 000919G 00 | M3: =CONCATENATE(E3," ",F3) -> 17202CH 10
A4: P | B4: 000919G | C4: 00 | D4: 01 | E4: 17206BL | F4: 10 | G4: =CONCATENATE(E4," ",F4) -> 17206BL 10 | H4: I | I4: 17206 LANGUETTE FIXATION GM BL | J4: STOCK NUMBER UU | K4: 10 | L4: =CONCATENATE(B4," ",C4) -> 000919G 00 | M4: =CONCATENATE(E4," ",F4) -> 17206BL 10
A5: P | B5: 000919G | C5: 00 | D5: 01 | E5: 17207BL | F5: 10 | G5: =CONCATENATE(E5," ",F5) -> 17207BL 10 | H5: I | I5: 17207 LANGUET FIXAT CADRE FIN | J5: STOCK NUMBER UU | K5: 10 | L5: =CONCATENATE(B5," ",C5) -> 000919G 00 | M5: =CONCATENATE(E5," ",F5) -> 17207BL 10
A6: P | B6: 000966G | C6: 00 | D6: 01 | E6: 7634NAG | F6: 75 | G6: =CONCATENATE(E6," ",F6) -> 7634NAG 75 | H6: I | I6: SAFETY WALK INT/EXT NOIR RL X1 | J6: 4,5MX25MM | K6: 1 | L6: =CONCATENATE(B6," ",C6) -> 000966G 00 | M6: =CONCATENATE(E6," ",F6) -> 7634NAG 75
A7: P | B7: 000967G | C7: 00 | D7: 01 | E7: 7646NAG | F7: 71 | G7: =CONCATENATE(E7," ",F7) -> 7646NAG 71 | H7: I | I7: SAF.WALK INT/EX GRIS4.5MMX25MM | J7: 70-0705-4270-2 | K7: 1 | L7: =CONCATENATE(B7," ",C7) -> 000967G 00 | M7: =CONCATENATE(E7," ",F7) -> 7646NAG 71
A8: P | B8: 000986G | C8: 00 | D8: 01 | E8: RF67301 | F8: 01 | G8: =CONCATENATE(E8," ",F8) -> RF67301 01 | H8: I | K8: 1 | L8: =CONCATENATE(B8," ",C8) -> 000986G 00 | M8: =CONCATENATE(E8," ",F8) -> RF67301 01
A9: P | B9: 000987G | C9: 00 | D9: 01 | E9: RF67311 | F9: 76 | G9: =CONCATENATE(E9," ",F9) -> RF67311 76 | H9: I | K9: 1 | L9: =CONCATENATE(B9," ",C9) -> 000987G 00 | M9: =CONCATENATE(E9," ",F9) -> RF67311 76
A10: P | B10: 000988G | C10: 00 | D10: 01 | E10: 449215M | F10: 00 | G10: =CONCATENATE(E10," ",F10) -> 449215M 00 | H10: I | I10: DF MIROIR ROULEAU 19MM X 1,5M | K10: 1 | L10: =CONCATENATE(B10," ",C10) -> 000988G 00 | M10: =CONCATENATE(E10," ",F10) -> 449215M 00
A11: P | B11: 000989G | C11: 00 | D11: 01 | E11: 4941STM | F11: 00 | G11: =CONCATENATE(E11," ",F11) -> 4941STM 00 | H11: I | I11: DF EXTREME BANDES 25MM X 75MM | K11: 1 | L11: =CONCATENATE(B11," ",C11) -> 000989G 00 | M11: =CONCATENATE(E11," ",F11) -> 4941STM 00
A12: P | B12: 000990G | C12: 00 | D12: 01 | E12: 494115M | F12: 00 | G12: =CONCATENATE(E12," ",F12) -> 494115M 00 | H12: I | I12: DF EXTREME ROULEAU 19MM X 1,5M | K12: 1 | L12: =CONCATENATE(B12," ",C12) -> 000990G 00 | M12: =CONCATENATE(E12," ",F12) -> 494115M 00
A13: P | B13: 055728G | C13: 00 | D13: 01 | E13: 17006CL | F13: 10 | G13: =CONCATENATE(E13," ",F13) -> 17006CL 10 | H13: I | I13: 17006CLR FGN UTI HKS 6HKS+8S/U | J13: UU008566208 | K13: 24 | L13: =CONCATENATE(B13," ",C13) -> 055728G 00 | M13: =CONCATENATE(E13," ",F13) -> 17006CL 10
A14: P | B14: 055728G | C14: 00 | D14: 01 | E14: 17026CL | F14: 10 | G14: =CONCATENATE(E14," ",F14) -> 17026CL 10 | H14: I | I14: 17026CLR FGN DECO CLP | J14: UU008566182 | K14: 48 | L14: =CONCATENATE(B14," ",C14) -> 055728G 00 | M14: =CONCATENATE(E14," ",F14) -> 17026CL 10
A15: P | B15: 055728G | C15: 00 | D15: 01 | E15: 17067CL | F15: 10 | G15: =CONCATENATE(E15," ",F15) -> 17067CL 10 | H15: I | I15: CROCH CLEAR POINTE METAL PM CL | J15: UU008566190 | K15: 18 | L15: =CONCATENATE(B15," ",C15) -> 055728G 00 | M15: =CONCATENATE(E15," ",F15) -> 17067CL 10
A16: P | B16: 055733G | C16: 00 | D16: 01 | E16: 17206BL | F16: 10 | G16: =CONCATENATE(E16," ",F16) -> 17206BL 10 | H16: I | I16: 17206 LANGUETTE FIXATION GM BL | J16: STOCK NUMBER UU | K16: 1 | L16: =CONCATENATE(B16," ",C16) -> 055733G 00 | M16: =CONCATENATE(E16," ",F16) -> 17206BL 10
A17: P | B17: 055739G | C17: 00 | D17: 01 | E17: 17201CH | F17: 10 | G17: =CONCATENATE(E17," ",F17) -> 17201CH 10 | H17: I | I17: 17201CH SYST REPOSITION TABL M | J17: STOCK NUMBER UU | K17: 40 | L17: =CONCATENATE(B17," ",C17) -> 055739G 00 | M17: =CONCATENATE(E17," ",F17) -> 17201CH 10
A18: P | B18: 055740G | C18: 00 | D18: 01 | E18: 17201CH | F18: 10 | G18: =CONCATENATE(E18," ",F18) -> 17201CH 10 | H18: I | I18: 17201CH SYST REPOSITION TABL M | J18: STOCK NUMBER UU | K18: 40 | L18: =CONCATENATE(B18," ",C18) -> 055740G 00 | M18: =CONCATENATE(E18," ",F18) -> 17201CH 10
A19: P | B19: 055740G | C19: 00 | D19: 01 | E19: 17202CH | F19: 10 | G19: =CONCATENATE(E19," ",F19) -> 17202CH 10 | H19: I | I19: 17202CH SYST REPOSITION TABLEA | J19: STOCK NUMBER UU | K19: 40 | L19: =CONCATENATE(B19," ",C19) -> 055740G 00 | M19: =CONCATENATE(E19," ",F19) -> 17202CH 10
A20: P | B20: 055740G | C20: 00 | D20: 01 | E20: 17206BL | F20: 10 | G20: =CONCATENATE(E20," ",F20) -> 17206BL 10 | H20: I | I20: 17206 LANGUETTE FIXATION GM BL | J20: STOCK NUMBER UU | K20: 40 | L20: =CONCATENATE(B20," ",C20) -> 055740G 00 | M20: =CONCATENATE(E20," ",F20) -> 17206BL 10
A21: P | B21: 055740G | C21: 00 | D21: 01 | E21: 17207BL | F21: 10 | G21: =CONCATENATE(E21," ",F21) -> 17207BL 10 | H21: I | I21: 17207 LANGUET FIXAT CADRE FIN | J21: STOCK NUMBER UU | K21: 40 | L21: =CONCATENATE(B21," ",C21) -> 055740G 00 | M21: =CONCATENATE(E21," ",F21) -> 17207BL 10
A22: P | B22: 055741G | C22: 00 | D22: 01 | E22: 17201CH | F22: 10 | G22: =CONCATENATE(E22," ",F22) -> 17201CH 10 | H22: I | I22: 17201CH SYST REPOSITION TABL M | J22: STOCK NUMBER UU | K22: 40 | L22: =CONCATENATE(B22," ",C22) -> 055741G 00 | M22: =CONCATENATE(E22," ",F22) -> 17201CH 10
A23: P | B23: 055741G | C23: 00 | D23: 01 | E23: 17202CH | F23: 10 | G23: =CONCATENATE(E23," ",F23) -> 17202CH 10 | H23: I | I23: 17202CH SYST REPOSITION TABLEA | J23: STOCK NUMBER UU | K23: 20 | L23: =CONCATENATE(B23," ",C23) -> 055741G 00 | M23: =CONCATENATE(E23," ",F23) -> 17202CH 10
A24: P | B24: 055741G | C24: 00 | D24: 01 | E24: 17206BL | F24: 10 | G24: =CONCATENATE(E24," ",F24) -> 17206BL 10 | H24: I | I24: 17206 LANGUETTE FIXATION GM BL | J24: STOCK NUMBER UU | K24: 10 | L24: =CONCATENATE(B24," ",C24) -> 055741G 00 | M24: =CONCATENATE(E24," ",F24) -> 17206BL 10
... A54: P | B54: 055763G | C54: 00 | D54: 01 | E54: 17006CL | F54: 04 | G54: =CONCATENATE(E54," ",F54) -> 17006CL 04 | H54: I | I54: CROCH CLEAR TRANSP MINI | J54: CLR FRGENL V2 | K54: 1 | L54: =CONCATENATE(B54," ",C54) -> 055763G 00 | M54: =CONCATENATE(E54," ",F54) -> 17006CL 04
A55: P | B55: 055770G | C55: 00 | D55: 01 | E55: 17026CL | F55: 10 | G55: =CONCATENATE(E55," ",F55) -> 17026CL 10 | H55: I | K55: 1 | L55: =CONCATENATE(B55," ",C55) -> 055770G 00 | M55: =CONCATENATE(E55," ",F55) -> 17026CL 10
A56: P | B56: 055772G | C56: 00 | D56: 01 | E56: 17022NM | F56: 00 | G56: =CONCATENATE(E56," ",F56) -> 17022NM 00 | H56: I | I56: 17022NFGN ADHES STRIPS S 12S/P | J56: UU009075134 | K56: 1 | L56: =CONCATENATE(B56," ",C56) -> 055772G 00 | M56: =CONCATENATE(E56," ",F56) -> 17022NM 00
A57: P | B57: 055773G | C57: 00 | D57: 01 | E57: 17021NM | F57: 00 | G57: =CONCATENATE(E57," ",F57) -> 17021NM 00 | H57: I | I57: 17021NFGN ADHES STRIPS M 8S/PK | J57: UU009075076 | K57: 1 | L57: =CONCATENATE(B57," ",C57) -> 055773G 00 | M57: =CONCATENATE(E57," ",F57) -> 17021NM 00
A58: P | B58: 055774G | C58: 00 | D58: 01 | E58: 17202FM | F58: 00 | G58: =CONCATENATE(E58," ",F58) -> 17202FM 00 | H58: I | I58: 17202F0 10 FR PHS S FRAME AISL | J58: UU008298349 | K58: 1 | L58: =CONCATENATE(B58," ",C58) -> 055774G 00 | M58: =CONCATENATE(E58," ",F58) -> 17202FM 00
A59: P | B59: 055775G | C59: 00 | D59: 01 | E59: 17201FM | F59: 00 | G59: =CONCATENATE(E59," ",F59) -> 17201FM 00 | H59: I | I59: 17201F0 10 FR PHS M FRAME AISL | J59: UU008298596 | K59: 1 | L59: =CONCATENATE(B59," ",C59) -> 055775G 00 | M59: =CONCATENATE(E59," ",F59) -> 17201FM 00
A60: P | B60: 055776G | C60: 00 | D60: 01 | E60: 055733M | F60: 00 | G60: =CONCATENATE(E60," ",F60) -> 055733M 00 | H60: I | I60: 055733G 00 FR PHS L FRAME AISL | J60: UU008298356 | K60: 1 | L60: =CONCATENATE(B60," ",C60) -> 055776G 00 | M60: =CONCATENATE(E60," ",F60) -> 055733M 00
A61: P | B61: 055778G | C61: 00 | D61: 01 | E61: 17202CH | F61: 10 | G61: =CONCATENATE(E61," ",F61) -> 17202CH 10 | H61: I | I61: 17202CH SYST REPOSITION TABLEA | J61: STOCK NUMBER UU | K61: 1 | L61: =CONCATENATE(B61," ",C61) -> 055778G 00 | M61: =CONCATENATE(E61," ",F61) -> 17202CH 10
A62: P | B62: 055779G | C62: 00 | D62: 01 | E62: 172014P | F62: 00 | G62: =CONCATENATE(E62," ",F62) -> 172014P 00 | H62: I | I62: 17201-4PK FR PHS WHIT M 10PCK/ | J62: UU008568865 | K62: 1 | L62: =CONCATENATE(B62," ",C62) -> 055779G 00 | M62: =CONCATENATE(E62," ",F62) -> 172014P 00
A63: P | B63: 055780G | C63: 00 | D63: 01 | E63: 17206BL | F63: 10 | G63: =CONCATENATE(E63," ",F63) -> 17206BL 10 | H63: I | I63: 17206 LANGUETTE FIXATION GM BL | J63: STOCK NUMBER UU | K63: 1 | L63: =CONCATENATE(B63," ",C63) -> 055780G 00 | M63: =CONCATENATE(E63," ",F63) -> 17206BL 10
A64: P | B64: 100007G | C64: 00 | D64: 01 | E64: 8078190 | F64: 00 | G64: =CONCATENATE(E64," ",F64) -> 8078190 00 | H64: I | I64: JT MOUSSE ECO NN 10X12 | J64: DRAW/51981 SPEC | K64: 24 | L64: =CONCATENATE(B64," ",C64) -> 100007G 00 | M64: =CONCATENATE(E64," ",F64) -> 8078190 00
A65: P | B65: 100007G | C65: 00 | D65: 01 | E65: BLACB00 | F65: 00 | G65: =CONCATENATE(E65," ",F65) -> BLACB00 00 | H65: I | I65: BDP SOL LISSE ADH CLASSIQUE BL | J65: BLACB | K65: 10 | L65: =CONCATENATE(B65," ",C65) -> 100007G 00 | M65: =CONCATENATE(E65," ",F65) -> BLACB00 00
A66: P | B66: 100007G | C66: 00 | D66: 01 | E66: BLACM00 | F66: 00 | G66: =CONCATENATE(E66," ",F66) -> BLACM00 00 | H66: I | I66: BDP SOL LISSE ADH CLASSIQUE MA | K66: 10 | L66: =CONCATENATE(B66," ",C66) -> 100007G 00 | M66: =CONCATENATE(E66," ",F66) -> BLACM00 00
A67: P | B67: 100007G | C67: 00 | D67: 01 | E67: BLMCRD0 | F67: 00 | G67: =CONCATENATE(E67," ",F67) -> BLMCRD0 00 | H67: I | I67: BDP SOL LISSE MINUTE CLASSIQUE | J67: MINI DOUBLE ROL | K67: 10 | L67: =CONCATENATE(B67," ",C67) -> 100007G 00 | M67: =CONCATENATE(E67," ",F67) -> BLMCRD0 00
A68: P | B68: 100007G | C68: 00 | D68: 01 | E68: JBECB00 | F68: 00 | G68: =CONCATENATE(E68," ",F68) -> JBECB00 00 | H68: I | I68: JOINT BON ETAT CLASSIQUE BLANC | J68: HIGH PERFORMANC | K68: 6 | L68: =CONCATENATE(B68," ",C68) -> 100007G 00 | M68: =CONCATENATE(E68," ",F68) -> JBECB00 00
A69: P | B69: 100007G | C69: 00 | D69: 01 | E69: JBECM00 | F69: 00 | G69: =CONCATENATE(E69," ",F69) -> JBECM00 00 | H69: I | I69: JOINT BON ETAT CLASSIQUE MARRO | J69: HIGH PERFORMANC | K69: 6 | L69: =CONCATENATE(B69," ",C69) -> 100007G 00 | M69: =CONCATENATE(E69," ",F69) -> JBECM00 00
...

Sheet TCD BOM
A1: ref 10 digits | B1: Composant.1 | C1: Composant.2 | D1: Composant.3 | E1: Composant.4 | F1: Composant.5 | G1: Composant.6 | H1: Composant.7 | I1: Composant.8 | J1: Composant.9 | K1: Composant.10
A2: 000919G 00 | B2: 17201CH 10 | C2: 17202CH 10 | D2: 17206BL 10 | E2: 17207BL 10
A3: 000966G 00 | B3: 7634NAG 75
A4: 000967G 00 | B4: 7646NAG 71
A5: 000986G 00 | B5: RF67301 01
A6: 000987G 00 | B6: RF67311 76
A7: 000988G 00 | B7: 449215M 00
A8: 000989G 00 | B8: 4941STM 00
A9: 000990G 00 | B9: 494115M 00
A10: 055728G 00 | B10: 17006CL 10 | C10: 17026CL 10 | D10: 17067CL 10
A11: 055733G 00 | B11: 17206BL 10
A12: 055739G 00 | B12: 17201CH 10
A13: 055740G 00 | B13: 17201CH 10 | C13: 17202CH 10 | D13: 17206BL 10 | E13: 17207BL 10
A14: 055741G 00 | B14: 17201CH 10 | C14: 17202CH 10 | D14: 17206BL 10 | E14: 17207BL 10
A15: 055742G 00 | B15: 17201F0 10 | C15: 17202F0 10
A16: 055744G 00 | B16: 17201CH 10 | C16: 17202CH 10 | D16: 17206BL 10
A17: 055745G 00 | B17: 17201CH 10 | C17: 17202CH 10 | D17: 17206BL 10
A18: 055747G 00 | B18: 17026CL 10
A19: 055748G 00 | B19: 17026CL 10
A20: 055749G 00 | B20: 17202F0 10
A21: 055750G 00 | B21: 17201F0 10
A22: 055753G 00 | B22: 17201F0 10
A23: 055754G 00 | B23: 055733G 00 | C23: 17201F0 10 | D23: 17202F0 10 | E23: 17207BL 10
A24: 055755G 00 | B24: 17067FM 00 | C24: 17082FM 00 | D24: 17086QM 00 | E24: 17201FM 00 | F24: MR01BWM 00
A25: 055757G 00 | B25: 055733G 00
A26: 055758G 00 | B26: 1702200 10
A27: 055759G 00 | B27: 1702100 10
A28: 055760G 00 | B28: W170820 10
A29: 055761G 00 | B29: W170670 10
A30: 055762G 00 | B30: MR01BC0 71
A31: 055763G 00 | B31: 17006CL 04
A32: 055770G 00 | B32: 17026CL 10
A33: 055772G 00 | B33: 17022NM 00
A34: 055773G 00 | B34: 17021NM 00
A35: 055774G 00 | B35: 17202FM 00
A36: 055775G 00 | B36: 17201FM 00
... A40: 055780G 00 | B40: 17206BL 10
A41: 100007G 00 | B41: 8078190 00 | C41: BLACB00 00 | D41: BLACM00 00 | E41: BLMCRD0 00 | F41: JBECB00 00 | G41: JBECM00 00 | H41: JMECB00 00 | I41: JMECM00 00 | J41: JTMCB00 00 | K41: JTMCM00 00
A42: 100008G 00 | B42: JMECB00 00 | C42: JMECM00 00
A43: 100009G 00 | B43: JBECB00 00 | C43: JBECM00 00 | D43: JMECB00 00 | E43: JMECM00 00 | F43: JTMCB00 00 | G43: JTMCM00 00 | H43: JTMPS00 00
...
