Workbook

Sheet  saisies notes  cat A
B5: Nom - Prénom | C5: CLUB | D5: Année naissance | E5: NOTE FINALE | F5: CERCEAU
F7: D1 | G7: D2 | H7: D3 | I7: Moy D | J7: A1 | K7: A2 | L7: Moy A | M7: E1 | N7: E2 | O7: E3 | P7: Moy E | Q7: Pen | R7: TOTAL
A8: 1 | B8: A | E8: =R8 -> 12 | F8: 3 | I8: =AVERAGE(F8:H8) -> 3 | J8: 1 | L8: =AVERAGE(J8:K8) -> 1 | M8: 2 | P8: =10-(AVERAGE(M8:O8)) -> 8 | R8: =(I8+L8+P8)-Q8 -> 12
A9: 2 | B9: B | E9: =R9 -> 11 | F9: 2 | I9: =AVERAGE(F9:H9) -> 2 | J9: 2 | L9: =AVERAGE(J9:K9) -> 2 | M9: 3 | P9: =10-(AVERAGE(M9:O9)) -> 7 | R9: =(I9+L9+P9)-Q9 -> 11
A10: 3 | B10: C | E10: =R10 -> 15 | F10: 4 | I10: =AVERAGE(F10:H10) -> 4 | J10: 3 | L10: =AVERAGE(J10:K10) -> 3 | M10: 2 | P10: =10-(AVERAGE(M10:O10)) -> 8 | R10: =(I10+L10+P10)-Q10 -> 15
A11: 4 | B11: D | E11: =R11 -> 16 | F11: 7 | I11: =AVERAGE(F11:H11) -> 7 | J11: 4 | L11: =AVERAGE(J11:K11) -> 4 | M11: 4 | P11: =10-(AVERAGE(M11:O11)) -> 6 | Q11: 1 | R11: =(I11+L11+P11)-Q11 -> 16
A12: 5 | B12: E | E12: =R12 -> 14 | F12: 6 | I12: =AVERAGE(F12:H12) -> 6 | J12: 1 | L12: =AVERAGE(J12:K12) -> 1 | M12: 3 | P12: =10-(AVERAGE(M12:O12)) -> 7 | R12: =(I12+L12+P12)-Q12 -> 14
A13: 6 | B13: F | E13: =R13 -> 10 | F13: 3 | I13: =AVERAGE(F13:H13) -> 3 | J13: 2 | L13: =AVERAGE(J13:K13) -> 2 | M13: 5 | P13: =10-(AVERAGE(M13:O13)) -> 5 | R13: =(I13+L13+P13)-Q13 -> 10
A14: 7 | B14: G | E14: =R14 -> 12.5 | F14: 4 | I14: =AVERAGE(F14:H14) -> 4 | J14: 3 | L14: =AVERAGE(J14:K14) -> 3 | M14: 4 | P14: =10-(AVERAGE(M14:O14)) -> 6 | Q14: 0.5 | R14: =(I14+L14+P14)-Q14 -> 12.5
A15: 8 | B15: H | E15: =R15 -> 13 | F15: 3 | I15: =AVERAGE(F15:H15) -> 3 | J15: 3 | L15: =AVERAGE(J15:K15) -> 3 | M15: 3 | P15: =10-(AVERAGE(M15:O15)) -> 7 | R15: =(I15+L15+P15)-Q15 -> 13
A16: 9 | E16: =R16 -> #DIV/0! | I16: =AVERAGE(F16:H16) -> #DIV/0! | L16: =AVERAGE(J16:K16) -> #DIV/0! | P16: =10-(AVERAGE(M16:O16)) -> #DIV/0! | R16: =(I16+L16+P16)-Q16 -> #DIV/0!
A17: 10 | E17: =R17 -> #DIV/0! | I17: =AVERAGE(F17:H17) -> #DIV/0! | L17: =AVERAGE(J17:K17) -> #DIV/0! | P17: =10-(AVERAGE(M17:O17)) -> #DIV/0! | R17: =(I17+L17+P17)-Q17 -> #DIV/0!
A18: 11 | E18: =R18 -> #DIV/0! | I18: =AVERAGE(F18:H18) -> #DIV/0! | L18: =AVERAGE(J18:K18) -> #DIV/0! | P18: =10-(AVERAGE(M18:O18)) -> #DIV/0! | R18: =(I18+L18+P18)-Q18 -> #DIV/0!
A19: 12 | E19: =R19 -> #DIV/0! | I19: =AVERAGE(F19:H19) -> #DIV/0! | L19: =AVERAGE(J19:K19) -> #DIV/0! | P19: =10-(AVERAGE(M19:O19)) -> #DIV/0! | R19: =(I19+L19+P19)-Q19 -> #DIV/0!
A20: 13 | E20: =R20 -> #DIV/0! | I20: =AVERAGE(F20:H20) -> #DIV/0! | L20: =AVERAGE(J20:K20) -> #DIV/0! | P20: =10-(AVERAGE(M20:O20)) -> #DIV/0! | R20: =(I20+L20+P20)-Q20 -> #DIV/0!
A21: 14 | E21: =R21 -> #DIV/0! | I21: =AVERAGE(F21:H21) -> #DIV/0! | L21: =AVERAGE(J21:K21) -> #DIV/0! | P21: =10-(AVERAGE(M21:O21)) -> #DIV/0! | R21: =(I21+L21+P21)-Q21 -> #DIV/0!
A22: 15 | E22: =R22 -> #DIV/0! | I22: =AVERAGE(F22:H22) -> #DIV/0! | L22: =AVERAGE(J22:K22) -> #DIV/0! | P22: =10-(AVERAGE(M22:O22)) -> #DIV/0! | R22: =(I22+L22+P22)-Q22 -> #DIV/0!
A23: 16 | E23: =R23 -> #DIV/0! | I23: =AVERAGE(F23:H23) -> #DIV/0! | L23: =AVERAGE(J23:K23) -> #DIV/0! | P23: =10-(AVERAGE(M23:O23)) -> #DIV/0! | R23: =(I23+L23+P23)-Q23 -> #DIV/0!
A24: 17 | E24: =R24 -> #DIV/0! | I24: =AVERAGE(F24:H24) -> #DIV/0! | L24: =AVERAGE(J24:K24) -> #DIV/0! | P24: =10-(AVERAGE(M24:O24)) -> #DIV/0! | R24: =(I24+L24+P24)-Q24 -> #DIV/0!
A25: 18 | E25: =R25 -> #DIV/0! | I25: =AVERAGE(F25:H25) -> #DIV/0! | L25: =AVERAGE(J25:K25) -> #DIV/0! | P25: =10-(AVERAGE(M25:O25)) -> #DIV/0! | R25: =(I25+L25+P25)-Q25 -> #DIV/0!
A26: 19 | E26: =R26 -> #DIV/0! | I26: =AVERAGE(F26:H26) -> #DIV/0! | L26: =AVERAGE(J26:K26) -> #DIV/0! | P26: =10-(AVERAGE(M26:O26)) -> #DIV/0! | R26: =(I26+L26+P26)-Q26 -> #DIV/0!
A27: 20 | E27: =R27 -> #DIV/0! | I27: =AVERAGE(F27:H27) -> #DIV/0! | L27: =AVERAGE(J27:K27) -> #DIV/0! | P27: =10-(AVERAGE(M27:O27)) -> #DIV/0! | R27: =(I27+L27+P27)-Q27 -> #DIV/0!
... A32: 25 | E32: =R32 -> #DIV/0! | I32: =AVERAGE(F32:H32) -> #DIV/0! | L32: =AVERAGE(J32:K32) -> #DIV/0! | P32: =10-(AVERAGE(M32:O32)) -> #DIV/0! | R32: =(I32+L32+P32)-Q32 -> #DIV/0!

Sheet  palmares cat A
B8: Classt | C8: Nom - Prénom | D8: CLUB | E8: Année naissance | F8: NOTE FINALE
G10: Moy D | H10: Moy A | I10: Moy E | J10: Pénalités | K10: TOTAL
B11: 1 | C11: =' saisies notes cat A'!B8 -> A | D11: =' saisies notes cat A'!C8 -> 0 | E11: =' saisies notes cat A'!D8 -> 0 | F11: =K11 -> 12 | G11: =' saisies notes cat A'!I8 -> 3 | H11: =' saisies notes cat A'!L8 -> 1 | I11: =' saisies notes cat A'!P8 -> 8 | J11: =' saisies notes cat A'!Q8 -> 0 | K11: =' saisies notes cat A'!R8 -> 12
B12: 2 | C12: =' saisies notes cat A'!B9 -> B | D12: =' saisies notes cat A'!C9 -> 0 | E12: =' saisies notes cat A'!D9 -> 0 | F12: =K12 -> 11 | G12: =' saisies notes cat A'!I9 -> 2 | H12: =' saisies notes cat A'!L9 -> 2 | I12: =' saisies notes cat A'!P9 -> 7 | J12: =' saisies notes cat A'!Q9 -> 0 | K12: =' saisies notes cat A'!R9 -> 11
B13: 3 | C13: =' saisies notes cat A'!B10 -> C | D13: =' saisies notes cat A'!C10 -> 0 | E13: =' saisies notes cat A'!D10 -> 0 | F13: =K13 -> 15 | G13: =' saisies notes cat A'!I10 -> 4 | H13: =' saisies notes cat A'!L10 -> 3 | I13: =' saisies notes cat A'!P10 -> 8 | J13: =' saisies notes cat A'!Q10 -> 0 | K13: =' saisies notes cat A'!R10 -> 15
B14: 4 | C14: =' saisies notes cat A'!B11 -> D | D14: =' saisies notes cat A'!C11 -> 0 | E14: =' saisies notes cat A'!D11 -> 0 | F14: =K14 -> 16 | G14: =' saisies notes cat A'!I11 -> 7 | H14: =' saisies notes cat A'!L11 -> 4 | I14: =' saisies notes cat A'!P11 -> 6 | J14: =' saisies notes cat A'!Q11 -> 1 | K14: =' saisies notes cat A'!R11 -> 16
B15: 5 | C15: =' saisies notes cat A'!B12 -> E | D15: =' saisies notes cat A'!C12 -> 0 | E15: =' saisies notes cat A'!D12 -> 0 | F15: =K15 -> 14 | G15: =' saisies notes cat A'!I12 -> 6 | H15: =' saisies notes cat A'!L12 -> 1 | I15: =' saisies notes cat A'!P12 -> 7 | J15: =' saisies notes cat A'!Q12 -> 0 | K15: =' saisies notes cat A'!R12 -> 14
B16: 6 | C16: =' saisies notes cat A'!B13 -> F | D16: =' saisies notes cat A'!C13 -> 0 | E16: =' saisies notes cat A'!D13 -> 0 | F16: =K16 -> 10 | G16: =' saisies notes cat A'!I13 -> 3 | H16: =' saisies notes cat A'!L13 -> 2 | I16: =' saisies notes cat A'!P13 -> 5 | J16: =' saisies notes cat A'!Q13 -> 0 | K16: =' saisies notes cat A'!R13 -> 10
B17: 7 | C17: =' saisies notes cat A'!B14 -> G | D17: =' saisies notes cat A'!C14 -> 0 | E17: =' saisies notes cat A'!D14 -> 0 | F17: =K17 -> 12.5 | G17: =' saisies notes cat A'!I14 -> 4 | H17: =' saisies notes cat A'!L14 -> 3 | I17: =' saisies notes cat A'!P14 -> 6 | J17: =' saisies notes cat A'!Q14 -> 0.5 | K17: =' saisies notes cat A'!R14 -> 12.5
B18: 8 | C18: =' saisies notes cat A'!B15 -> H | D18: =' saisies notes cat A'!C15 -> 0 | E18: =' saisies notes cat A'!D15 -> 0 | F18: =K18 -> 13 | G18: =' saisies notes cat A'!I15 -> 3 | H18: =' saisies notes cat A'!L15 -> 3 | I18: =' saisies notes cat A'!P15 -> 7 | J18: =' saisies notes cat A'!Q15 -> 0 | K18: =' saisies notes cat A'!R15 -> 13
B19: 9 | C19: =' saisies notes cat A'!B16 -> 0 | D19: =' saisies notes cat A'!C16 -> 0 | E19: =' saisies notes cat A'!D16 -> 0 | F19: =K19 -> #DIV/0! | G19: =' saisies notes cat A'!I16 -> #DIV/0! | H19: =' saisies notes cat A'!L16 -> #DIV/0! | I19: =' saisies notes cat A'!P16 -> #DIV/0! | J19: =' saisies notes cat A'!Q16 -> 0 | K19: =' saisies notes cat A'!R16 -> #DIV/0!
B20: 10 | C20: =' saisies notes cat A'!B17 -> 0 | D20: =' saisies notes cat A'!C17 -> 0 | E20: =' saisies notes cat A'!D17 -> 0 | F20: =K20 -> #DIV/0! | G20: =' saisies notes cat A'!I17 -> #DIV/0! | H20: =' saisies notes cat A'!L17 -> #DIV/0! | I20: =' saisies notes cat A'!P17 -> #DIV/0! | J20: =' saisies notes cat A'!Q17 -> 0 | K20: =' saisies notes cat A'!R17 -> #DIV/0!
B21: 11 | C21: =' saisies notes cat A'!B18 -> 0 | D21: =' saisies notes cat A'!C18 -> 0 | E21: =' saisies notes cat A'!D18 -> 0 | F21: =K21 -> #DIV/0! | G21: =' saisies notes cat A'!I18 -> #DIV/0! | H21: =' saisies notes cat A'!L18 -> #DIV/0! | I21: =' saisies notes cat A'!P18 -> #DIV/0! | J21: =' saisies notes cat A'!Q18 -> 0 | K21: =' saisies notes cat A'!R18 -> #DIV/0!
B22: 12 | C22: =' saisies notes cat A'!B19 -> 0 | D22: =' saisies notes cat A'!C19 -> 0 | E22: =' saisies notes cat A'!D19 -> 0 | F22: =K22 -> #DIV/0! | G22: =' saisies notes cat A'!I19 -> #DIV/0! | H22: =' saisies notes cat A'!L19 -> #DIV/0! | I22: =' saisies notes cat A'!P19 -> #DIV/0! | J22: =' saisies notes cat A'!Q19 -> 0 | K22: =' saisies notes cat A'!R19 -> #DIV/0!
... B35: 25 | C35: =' saisies notes cat A'!B32 -> 0 | D35: =' saisies notes cat A'!C32 -> 0 | E35: =' saisies notes cat A'!D32 -> 0 | F35: =K35 -> #DIV/0! | G35: =' saisies notes cat A'!I32 -> #DIV/0! | H35: =' saisies notes cat A'!L32 -> #DIV/0! | I35: =' saisies notes cat A'!P32 -> #DIV/0! | J35: =' saisies notes cat A'!Q32 -> 0 | K35: =' saisies notes cat A'!R32 -> #DIV/0!

Sheet  saisies notes  cat B
B8: Nom - Prénom | C8: CLUB | D8: Année naissance | E8: NOTE FINALE
F10: D1 | G10: D2 | H10: D3 | I10: Moy D | J10: A1 | K10: A2 | L10: Moy A | M10: E1 | N10: E2 | O10: E3 | P10: Moy E | Q10: Pen | R10: TOTAL
A11: 1 | B11: A | E11: =R11 -> 19 | F11: 5 | I11: =AVERAGE(F11:H11) -> 5 | J11: 6 | L11: =AVERAGE(J11:K11) -> 6 | M11: 2 | P11: =10-(AVERAGE(M11:O11)) -> 8 | R11: =(I11+L11+P11)-Q11 -> 19
A12: 2 | B12: B | E12: =R12 -> 16 | F12: 5 | I12: =AVERAGE(F12:H12) -> 5 | J12: 4 | L12: =AVERAGE(J12:K12) -> 4 | M12: 3 | P12: =10-(AVERAGE(M12:O12)) -> 7 | R12: =(I12+L12+P12)-Q12 -> 16
A13: 3 | B13: C | E13: =R13 -> 16 | F13: 3 | I13: =AVERAGE(F13:H13) -> 3 | J13: 5 | L13: =AVERAGE(J13:K13) -> 5 | M13: 2 | P13: =10-(AVERAGE(M13:O13)) -> 8 | R13: =(I13+L13+P13)-Q13 -> 16
A14: 4 | B14: D | E14: =R14 -> 17 | F14: 4 | I14: =AVERAGE(F14:H14) -> 4 | J14: 7 | L14: =AVERAGE(J14:K14) -> 7 | M14: 4 | P14: =10-(AVERAGE(M14:O14)) -> 6 | R14: =(I14+L14+P14)-Q14 -> 17
A15: 5 | B15: E | E15: =R15 -> 15 | F15: 5 | I15: =AVERAGE(F15:H15) -> 5 | J15: 2 | L15: =AVERAGE(J15:K15) -> 2 | M15: 2 | P15: =10-(AVERAGE(M15:O15)) -> 8 | R15: =(I15+L15+P15)-Q15 -> 15
A16: 6 | B16: F | E16: =R16 -> 17 | F16: 6 | I16: =AVERAGE(F16:H16) -> 6 | J16: 6 | L16: =AVERAGE(J16:K16) -> 6 | M16: 5 | P16: =10-(AVERAGE(M16:O16)) -> 5 | R16: =(I16+L16+P16)-Q16 -> 17
A17: 7 | B17: G | E17: =R17 -> 15 | F17: 7 | I17: =AVERAGE(F17:H17) -> 7 | J17: 4 | L17: =AVERAGE(J17:K17) -> 4 | M17: 6 | P17: =10-(AVERAGE(M17:O17)) -> 4 | R17: =(I17+L17+P17)-Q17 -> 15
A18: 8 | B18: H | E18: =R18 -> 18 | F18: 8 | I18: =AVERAGE(F18:H18) -> 8 | J18: 7 | L18: =AVERAGE(J18:K18) -> 7 | M18: 7 | P18: =10-(AVERAGE(M18:O18)) -> 3 | R18: =(I18+L18+P18)-Q18 -> 18
A19: 9 | E19: =R19 -> #DIV/0! | I19: =AVERAGE(F19:H19) -> #DIV/0! | L19: =AVERAGE(J19:K19) -> #DIV/0! | P19: =10-(AVERAGE(M19:O19)) -> #DIV/0! | R19: =(I19+L19+P19)-Q19 -> #DIV/0!
A20: 10 | E20: =R20 -> #DIV/0! | I20: =AVERAGE(F20:H20) -> #DIV/0! | L20: =AVERAGE(J20:K20) -> #DIV/0! | P20: =10-(AVERAGE(M20:O20)) -> #DIV/0! | R20: =(I20+L20+P20)-Q20 -> #DIV/0!
A21: 11 | E21: =R21 -> #DIV/0! | I21: =AVERAGE(F21:H21) -> #DIV/0! | L21: =AVERAGE(J21:K21) -> #DIV/0! | P21: =10-(AVERAGE(M21:O21)) -> #DIV/0! | R21: =(I21+L21+P21)-Q21 -> #DIV/0!
A22: 12 | E22: =R22 -> #DIV/0! | I22: =AVERAGE(F22:H22) -> #DIV/0! | L22: =AVERAGE(J22:K22) -> #DIV/0! | P22: =10-(AVERAGE(M22:O22)) -> #DIV/0! | R22: =(I22+L22+P22)-Q22 -> #DIV/0!
A23: 13 | E23: =R23 -> #DIV/0! | I23: =AVERAGE(F23:H23) -> #DIV/0! | L23: =AVERAGE(J23:K23) -> #DIV/0! | P23: =10-(AVERAGE(M23:O23)) -> #DIV/0! | R23: =(I23+L23+P23)-Q23 -> #DIV/0!
A24: 14 | E24: =R24 -> #DIV/0! | I24: =AVERAGE(F24:H24) -> #DIV/0! | L24: =AVERAGE(J24:K24) -> #DIV/0! | P24: =10-(AVERAGE(M24:O24)) -> #DIV/0! | R24: =(I24+L24+P24)-Q24 -> #DIV/0!
A25: 15 | E25: =R25 -> #DIV/0! | I25: =AVERAGE(F25:H25) -> #DIV/0! | L25: =AVERAGE(J25:K25) -> #DIV/0! | P25: =10-(AVERAGE(M25:O25)) -> #DIV/0! | R25: =(I25+L25+P25)-Q25 -> #DIV/0!
A26: 16 | E26: =R26 -> #DIV/0! | I26: =AVERAGE(F26:H26) -> #DIV/0! | L26: =AVERAGE(J26:K26) -> #DIV/0! | P26: =10-(AVERAGE(M26:O26)) -> #DIV/0! | R26: =(I26+L26+P26)-Q26 -> #DIV/0!
A27: 17 | E27: =R27 -> #DIV/0! | I27: =AVERAGE(F27:H27) -> #DIV/0! | L27: =AVERAGE(J27:K27) -> #DIV/0! | P27: =10-(AVERAGE(M27:O27)) -> #DIV/0! | R27: =(I27+L27+P27)-Q27 -> #DIV/0!
A28: 18 | E28: =R28 -> #DIV/0! | I28: =AVERAGE(F28:H28) -> #DIV/0! | L28: =AVERAGE(J28:K28) -> #DIV/0! | P28: =10-(AVERAGE(M28:O28)) -> #DIV/0! | R28: =(I28+L28+P28)-Q28 -> #DIV/0!
A29: 19 | E29: =R29 -> #DIV/0! | I29: =AVERAGE(F29:H29) -> #DIV/0! | L29: =AVERAGE(J29:K29) -> #DIV/0! | P29: =10-(AVERAGE(M29:O29)) -> #DIV/0! | R29: =(I29+L29+P29)-Q29 -> #DIV/0!
A30: 20 | E30: =R30 -> #DIV/0! | I30: =AVERAGE(F30:H30) -> #DIV/0! | L30: =AVERAGE(J30:K30) -> #DIV/0! | P30: =10-(AVERAGE(M30:O30)) -> #DIV/0! | R30: =(I30+L30+P30)-Q30 -> #DIV/0!
... A35: 25 | E35: =R35 -> #DIV/0! | I35: =AVERAGE(F35:H35) -> #DIV/0! | L35: =AVERAGE(J35:K35) -> #DIV/0! | P35: =10-(AVERAGE(M35:O35)) -> #DIV/0! | R35: =(I35+L35+P35)-Q35 -> #DIV/0!

Sheet  palmares cat B
B8: Classt | C8: Nom - Prénom | D8: CLUB | E8: Année naissance | F8: NOTE FINALE
G10: Moy D | H10: Moy A | I10: Moy E | J10: Pénalités | K10: TOTAL
B11: 1 | C11: =' saisies notes cat B'!B11 -> A | D11: =' saisies notes cat B'!C11 -> 0 | E11: =' saisies notes cat B'!D11 -> 0 | F11: =K11 -> 19 | G11: =' saisies notes cat B'!I11 -> 5 | H11: =' saisies notes cat B'!L11 -> 6 | I11: =' saisies notes cat B'!P11 -> 8 | J11: =' saisies notes cat B'!Q11 -> 0 | K11: =' saisies notes cat B'!R11 -> 19
B12: 2 | C12: =' saisies notes cat B'!B12 -> B | D12: =' saisies notes cat B'!C12 -> 0 | E12: =' saisies notes cat B'!D12 -> 0 | F12: =K12 -> 16 | G12: =' saisies notes cat B'!I12 -> 5 | H12: =' saisies notes cat B'!L12 -> 4 | I12: =' saisies notes cat B'!P12 -> 7 | J12: =' saisies notes cat B'!Q12 -> 0 | K12: =' saisies notes cat B'!R12 -> 16
B13: 3 | C13: =' saisies notes cat B'!B13 -> C | D13: =' saisies notes cat B'!C13 -> 0 | E13: =' saisies notes cat B'!D13 -> 0 | F13: =K13 -> 16 | G13: =' saisies notes cat B'!I13 -> 3 | H13: =' saisies notes cat B'!L13 -> 5 | I13: =' saisies notes cat B'!P13 -> 8 | J13: =' saisies notes cat B'!Q13 -> 0 | K13: =' saisies notes cat B'!R13 -> 16
B14: 4 | C14: =' saisies notes cat B'!B14 -> D | D14: =' saisies notes cat B'!C14 -> 0 | E14: =' saisies notes cat B'!D14 -> 0 | F14: =K14 -> 17 | G14: =' saisies notes cat B'!I14 -> 4 | H14: =' saisies notes cat B'!L14 -> 7 | I14: =' saisies notes cat B'!P14 -> 6 | J14: =' saisies notes cat B'!Q14 -> 0 | K14: =' saisies notes cat B'!R14 -> 17
B15: 5 | C15: =' saisies notes cat B'!B15 -> E | D15: =' saisies notes cat B'!C15 -> 0 | E15: =' saisies notes cat B'!D15 -> 0 | F15: =K15 -> 15 | G15: =' saisies notes cat B'!I15 -> 5 | H15: =' saisies notes cat B'!L15 -> 2 | I15: =' saisies notes cat B'!P15 -> 8 | J15: =' saisies notes cat B'!Q15 -> 0 | K15: =' saisies notes cat B'!R15 -> 15
B16: 6 | C16: =' saisies notes cat B'!B16 -> F | D16: =' saisies notes cat B'!C16 -> 0 | E16: =' saisies notes cat B'!D16 -> 0 | F16: =K16 -> 17 | G16: =' saisies notes cat B'!I16 -> 6 | H16: =' saisies notes cat B'!L16 -> 6 | I16: =' saisies notes cat B'!P16 -> 5 | J16: =' saisies notes cat B'!Q16 -> 0 | K16: =' saisies notes cat B'!R16 -> 17
B17: 7 | C17: =' saisies notes cat B'!B17 -> G | D17: =' saisies notes cat B'!C17 -> 0 | E17: =' saisies notes cat B'!D17 -> 0 | F17: =K17 -> 15 | G17: =' saisies notes cat B'!I17 -> 7 | H17: =' saisies notes cat B'!L17 -> 4 | I17: =' saisies notes cat B'!P17 -> 4 | J17: =' saisies notes cat B'!Q17 -> 0 | K17: =' saisies notes cat B'!R17 -> 15
B18: 8 | C18: =' saisies notes cat B'!B18 -> H | D18: =' saisies notes cat B'!C18 -> 0 | E18: =' saisies notes cat B'!D18 -> 0 | F18: =K18 -> 18 | G18: =' saisies notes cat B'!I18 -> 8 | H18: =' saisies notes cat B'!L18 -> 7 | I18: =' saisies notes cat B'!P18 -> 3 | J18: =' saisies notes cat B'!Q18 -> 0 | K18: =' saisies notes cat B'!R18 -> 18
B19: 9 | C19: =' saisies notes cat B'!B19 -> 0 | D19: =' saisies notes cat B'!C19 -> 0 | E19: =' saisies notes cat B'!D19 -> 0 | F19: =K19 -> #DIV/0! | G19: =' saisies notes cat B'!I19 -> #DIV/0! | H19: =' saisies notes cat B'!L19 -> #DIV/0! | I19: =' saisies notes cat B'!P19 -> #DIV/0! | J19: =' saisies notes cat B'!Q19 -> 0 | K19: =' saisies notes cat B'!R19 -> #DIV/0!
B20: 10 | C20: =' saisies notes cat B'!B20 -> 0 | D20: =' saisies notes cat B'!C20 -> 0 | E20: =' saisies notes cat B'!D20 -> 0 | F20: =K20 -> #DIV/0! | G20: =' saisies notes cat B'!I20 -> #DIV/0! | H20: =' saisies notes cat B'!L20 -> #DIV/0! | I20: =' saisies notes cat B'!P20 -> #DIV/0! | J20: =' saisies notes cat B'!Q20 -> 0 | K20: =' saisies notes cat B'!R20 -> #DIV/0!
B21: 11 | C21: =' saisies notes cat B'!B21 -> 0 | D21: =' saisies notes cat B'!C21 -> 0 | E21: =' saisies notes cat B'!D21 -> 0 | F21: =K21 -> #DIV/0! | G21: =' saisies notes cat B'!I21 -> #DIV/0! | H21: =' saisies notes cat B'!L21 -> #DIV/0! | I21: =' saisies notes cat B'!P21 -> #DIV/0! | J21: =' saisies notes cat B'!Q21 -> 0 | K21: =' saisies notes cat B'!R21 -> #DIV/0!
B22: 12 | C22: =' saisies notes cat B'!B22 -> 0 | D22: =' saisies notes cat B'!C22 -> 0 | E22: =' saisies notes cat B'!D22 -> 0 | F22: =K22 -> #DIV/0! | G22: =' saisies notes cat B'!I22 -> #DIV/0! | H22: =' saisies notes cat B'!L22 -> #DIV/0! | I22: =' saisies notes cat B'!P22 -> #DIV/0! | J22: =' saisies notes cat B'!Q22 -> 0 | K22: =' saisies notes cat B'!R22 -> #DIV/0!
... B35: 25 | C35: =' saisies notes cat B'!B35 -> 0 | D35: =' saisies notes cat B'!C35 -> 0 | E35: =' saisies notes cat B'!D35 -> 0 | F35: =K35 -> #DIV/0! | G35: =' saisies notes cat B'!I35 -> #DIV/0! | H35: =' saisies notes cat B'!L35 -> #DIV/0! | I35: =' saisies notes cat B'!P35 -> #DIV/0! | J35: =' saisies notes cat B'!Q35 -> 0 | K35: =' saisies notes cat B'!R35 -> #DIV/0!
