Workbook

Sheet BDD
H3: CDD
B4: NOM | C4: PRENOM | D4: MATRICULE | E4: EMPLOI | F4: AGENCE INTERIM | H4: CDI
H5: INTERIM
H6: SURCROIT
F10: MASQUE HORAIRE
B15: NOM | C15: PRENOM | D15: MATRICULE | F15: LUNDI M | G15: LUNDI S | H15: MARDI | I15: MERCREDI | J15: JEUDI | K15: VENDREDI | L15: TOTAL
F16: REPOS | G16: 0.76041667 | H16: 0.78125 | I16: 0.79166667 | J16: 0.79166667 | K16: 0.79166667
F17: REPOS | G17: 0.88541667 | H17: 0.88541667 | I17: 0.88541667 | J17: 0.88541667 | K17: 0.88541667 | L17: =G20+H20+I20+J20+K20 -> 35
F18: REPOS | G18: 0.91666667 | H18: 0.91666667 | I18: 0.91666667 | J18: 0.91666667 | K18: 0.91666667
F19: REPOS | G19: 1.1145833 | H19: 1.1041667 | I19: 1.1041667 | J19: 1.1041667 | K19: 1.1041667
F20: 0 | G20: =((G19-G18)+G17-G16)*24 -> 7.75 | H20: =((H19-H18)+H17-H16)*24 -> 7 | I20: =((I19-I18)+I17-I16)*24 -> 6.75 | J20: =((J19-J18)+J17-J16)*24 -> 6.75 | K20: =((K19-K18)+K17-K16)*24 -> 6.75
F21: LUNDI M | G21: LUNDI S | H21: MARDI | I21: MERCREDI | J21: JEUDI | K21: VENDREDI | L21: TOTAL
F22: 0 | G22: REPOS | H22: 0.78125 | I22: 0.79166667 | J22: 0.79166667 | K22: 0.79166667
F23: 0.072916667 | G23: REPOS | H23: 0.88541667 | I23: 0.88541667 | J23: 0.88541667 | K23: 0.88541667 | L23: =F26+G26+H26+I26+J26+K26 -> 35
F24: 0.10416667 | G24: REPOS | H24: 0.91666667 | I24: 0.91666667 | J24: 0.91666667 | K24: 0.91666667
F25: 0.27083333 | G25: REPOS | H25: 1.125 | I25: 1.125 | J25: 1.125 | K25: 1.125
F26: =((F25-F24)+F23-F22)*24 -> 5.75 | G26: 0 | H26: =((H25-H24)+H23-H22)*24 -> 7.5 | I26: =((I25-I24)+I23-I22)*24 -> 7.25 | J26: =((J25-J24)+J23-J22)*24 -> 7.25 | K26: =((K25-K24)+K23-K22)*24 -> 7.25
F27: LUNDI M | G27: LUNDI S | H27: MARDI | I27: MERCREDI | J27: JEUDI | K27: VENDREDI | L27: TOTAL
F28: 0 | G28: 0.76041667 | H28: REPOS | I28: 0.79166667 | J28: 0.79166667 | K28: 0.79166667
F29: 0.072916667 | G29: 0.88541667 | H29: REPOS | I29: 0.88541667 | J29: 0.88541667 | K29: 0.88541667 | L29: =F32+G32+H32+I32+J32+K32 -> 35
F30: 0.10416667 | G30: 0.91666667 | H30: REPOS | I30: 0.91666667 | J30: 0.91666667 | K30: 0.91666667
F31: 0.27083333 | G31: 1.125 | H31: REPOS | I31: 1.1041667 | J31: 1.125 | K31: 1.125
F32: =((F31-F30)+F29-F28)*24 -> 5.75 | G32: =((G31-G30)+G29-G28)*24 -> 8 | H32: 0 | I32: =((I31-I30)+I29-I28)*24 -> 6.75 | J32: =((J31-J30)+J29-J28)*24 -> 7.25 | K32: =((K31-K30)+K29-K28)*24 -> 7.25
F33: LUNDI M | G33: LUNDI S | H33: MARDI | I33: MERCREDI | J33: JEUDI | K33: VENDREDI | L33: TOTAL
F34: 0 | G34: 0.76041667 | H34: 0.78125 | I34: REPOS | J34: 0.79166667 | K34: 0.79166667
F35: 0.072916667 | G35: 0.88541667 | H35: 0.88541667 | I35: REPOS | J35: 0.88541667 | K35: 0.88541667 | L35: =F38+G38+H38+I38+J38+K38 -> 35
F36: 0.10416667 | G36: 0.91666667 | H36: 0.91666667 | I36: REPOS | J36: 0.91666667 | K36: 0.91666667
F37: 0.27083333 | G37: 1.125 | H37: 1.125 | I37: REPOS | J37: 1.1041667 | K37: 1.1145833
F38: =((F37-F36)+F35-F34)*24 -> 5.75 | G38: =((G37-G36)+G35-G34)*24 -> 8 | H38: =((H37-H36)+H35-H34)*24 -> 7.5 | I38: 0 | J38: =((J37-J36)+J35-J34)*24 -> 6.75 | K38: =((K37-K36)+K35-K34)*24 -> 7
F39: LUNDI M | G39: LUNDI S | H39: MARDI | I39: MERCREDI | J39: JEUDI | K39: VENDREDI | L39: TOTAL
F40: 0 | G40: 0.76041667 | H40: 0.78125 | I40: 0.79166667 | J40: REPOS | K40: 0.79166667
F41: 0.072916667 | G41: 0.88541667 | H41: 0.88541667 | I41: 0.88541667 | J41: REPOS | K41: 0.88541667 | L41: =F44+G44+H44+I44+J44+K44 -> 35
F42: 0.10416667 | G42: 0.91666667 | H42: 0.91666667 | I42: 0.91666667 | J42: REPOS | K42: 0.91666667
F43: 0.27083333 | G43: 1.125 | H43: 1.125 | I43: 1.1041667 | J43: REPOS | K43: 1.1145833
F44: =((F43-F42)+F41-F40)*24 -> 5.75 | G44: =((G43-G42)+G41-G40)*24 -> 8 | H44: =((H43-H42)+H41-H40)*24 -> 7.5 | I44: =((I43-I42)+I41-I40)*24 -> 6.75 | J44: 0 | K44: =((K43-K42)+K41-K40)*24 -> 7
F45: LUNDI M | G45: LUNDI S | H45: MARDI | I45: MERCREDI | J45: JEUDI | K45: VENDREDI | L45: TOTAL
F46: 0 | G46: 0.76041667 | H46: 0.78125 | I46: 0.79166667 | J46: 0.79166667 | K46: REPOS
F47: 0.072916667 | G47: 0.88541667 | H47: 0.88541667 | I47: 0.88541667 | J47: 0.88541667 | K47: REPOS | L47: =F50+G50+H50+I50+J50+K50 -> 35
F48: 0.10416667 | G48: 0.91666667 | H48: 0.91666667 | I48: 0.91666667 | J48: 0.91666667 | K48: REPOS
F49: 0.27083333 | G49: 1.125 | H49: 1.125 | I49: 1.1145833 | J49: 1.1041667 | K49: REPOS
...

Sheet Janvier
H1: 0.875
H2: 0.25
A4: CREATION ou MODIFICATION d'un CONTRAT de TRAVAIL | O4: CDD
O5: CDI
O6: SURCROIT
O7: INTERIM
A8: NOM | B8: =BDD!B7 -> 0 | C8: PRENOM | D8: =BDD!C7 -> 0 | E8: MATRICULE | F8: =BDD!D7 -> 0
A10: EMPLOI | B10: =BDD!E7 -> 0 | D10: SERVICE | E10: 220/603 MAGASIN | H10: CDD
H11: CDI
H12: SURCROIT
A13: TYPE DE CONTRAT | C13: CDD | D13: =BDD!F7 -> 0 | J13: 220/603 MAGASIN | K13: MAG NUIT
H14: OUI | J14: 220/703 LIVRAISON | K14: LIV NUIT
A15: MOTIF du CONTRAT | C15: Date de debut | E15: Date de fin | H15: NON
A17: REMPLACEMENT de: | D17: Motifs | E17: du | F17: au | H17: MALADIE
H18: C.PAYES
H19: RTT
H20: ABS AUT.
H21: ABS AUT(RCN).
H22: FORMATION
H23: CACES
H24: C PARENTAL
A25: HORAIRE HEBDO TRAVAILLE | D25: =A28+B28+C28+D28+E28+F28 -> 0 | H25: SURCROIT
A27: LUNDI M | B27: LUNDI S | C27: MARDI | D27: MERCREDI | E27: JEUDI | F27: VENDREDI
A28: =((A37-A36)+A35-A34)*24 -> 0 | B28: =((B37-B36)+B35-B34)*24 -> 0 | C28: =((C37-C36)+C35-C34)*24 -> 0 | D28: =((D37-D36)+D35-D34)*24 -> 0 | E28: =((E37-E36)+E35-E34)*24 -> 0 | F28: =((F37-F36)+F35-F34)*24 -> 0
A29: =(((A35-A34)+H2-A36)*24) -> 6 | B29: =(IF(SUM(B34:B37)=0,"0",(B37-$H1)))*24 -> 0 | C29: =(IF(SUM(C34:C37)=0,"0",(C37-$H1)))*24 -> 0 | D29: =(IF(SUM(D34:D37)=0,"0",(D37-$H1)))*24 -> 0 | E29: =(IF(SUM(E34:E37)=0,"0",(E37-$H1)))*24 -> 0 | F29: =(IF(SUM(F34:F37)=0,"0",(F37-$H1)))*24 -> 0 | M29: mettre 25:00 pour 01h00
M30: mettre 26:00 pour 02h00
A31: HORAIRES | M31: mettre 26:15 pour 02h15
M32: mettre 26:30 pour 02h30
A33: LUNDI M | B33: LUNDI S | C33: MARDI | D33: MERCREDI | E33: JEUDI | F33: VENDREDI | M33: mettre 27:00 pour 03h00
A39: NB HEURES DE NUIT | C39: =A29+B29+C29+D29+E29+F29 -> 6 | D39: Pause payée | F39: NON
A43: NOM | B43: =B8 -> 0 | C43: PRENOM | D43: =D8 -> 0
A45: HORAIRES | C45: Date de debut | D45: =D15 -> 0 | E45: Date de fin | F45: =F15 -> 0
A47: LUNDI M | B47: LUNDI S | C47: MARDI | D47: MERCREDI | E47: JEUDI | F47: VENDREDI
A48: =A34 -> 0 | B48: =B34 -> 0 | C48: =C34 -> 0 | D48: =D34 -> 0 | E48: =E34 -> 0 | F48: =F34 -> 0
A49: =A35 -> 0 | B49: =B35 -> 0 | C49: =C35 -> 0 | D49: =D35 -> 0 | E49: =E35 -> 0 | F49: =F35 -> 0
A50: =A36 -> 0 | B50: =B36 -> 0 | C50: =C36 -> 0 | D50: =D36 -> 0 | E50: =E36 -> 0 | F50: =F36 -> 0
A51: =A37 -> 0 | B51: =B37 -> 0 | C51: =C37 -> 0 | D51: =D37 -> 0 | E51: =E37 -> 0 | F51: =F37 -> 0

Sheet Sem01
H1: 0.875
H2: 0.25
A4: CREATION ou MODIFICATION d'un CONTRAT de TRAVAIL
A8: NOM | B8: =BDD!B7 -> 0 | C8: PRENOM | D8: =BDD!C7 -> 0 | E8: MATRICULE | F8: =BDD!D7 -> 0
A10: EMPLOI | B10: =BDD!E7 -> 0 | D10: SERVICE | E10: 220/603 MAGASIN | H10: CDD
H11: CDI
H12: INTERIM
A13: TYPE DE CONTRAT | D13: =BDD!F7 -> 0 | J13: 220/603 MAGASIN | K13: MAG NUIT
H14: OUI | J14: 220/703 LIVRAISON | K14: LIV NUIT
A15: MOTIF du CONTRAT | C15: Date de debut | E15: Date de fin | H15: NON
A17: REMPLACEMENT de: | D17: Motifs | E17: du | F17: au | H17: MALADIE
H18: C.PAYES
H19: RTT
H20: ABS AUT.
H21: ABS AUT(RCN).
H22: FORMATION
H23: CACES
H24: C PARENTAL
A25: HORAIRE HEBDO TRAVAILLE | D25: =A28+B28+C28+D28+E28+F28 -> 0 | H25: SURCROIT
A27: LUNDI M | B27: LUNDI S | C27: MARDI | D27: MERCREDI | E27: JEUDI | F27: VENDREDI
A28: =((A37-A36)+A35-A34)*24 -> 0 | B28: =((B37-B36)+B35-B34)*24 -> 0 | C28: =((C37-C36)+C35-C34)*24 -> 0 | D28: =((D37-D36)+D35-D34)*24 -> 0 | E28: =((E37-E36)+E35-E34)*24 -> 0 | F28: =((F37-F36)+F35-F34)*24 -> 0
A29: =(((A35-A34)+H2-A36)*24) -> 6 | B29: =(IF(SUM(B34:B37)=0,"0",(B37-$H1)))*24 -> 0 | C29: =(IF(SUM(C34:C37)=0,"0",(C37-$H1)))*24 -> 0 | D29: =(IF(SUM(D34:D37)=0,"0",(D37-$H1)))*24 -> 0 | E29: =(IF(SUM(E34:E37)=0,"0",(E37-$H1)))*24 -> 0 | F29: =(IF(SUM(F34:F37)=0,"0",(F37-$H1)))*24 -> 0 | M29: mettre 25:00 pour 01h00
M30: mettre 26:00 pour 02h00
A31: HORAIRES | M31: mettre 26:15 pour 02h15
M32: mettre 26:30 pour 02h30
A33: LUNDI M | B33: LUNDI S | C33: MARDI | D33: MERCREDI | E33: JEUDI | F33: VENDREDI | M33: mettre 27:00 pour 03h00
A39: NB HEURES DE NUIT | C39: =A29+B29+C29+D29+E29+F29 -> 6 | D39: Pause payée | F39: NON
A43: NOM | B43: =B8 -> 0 | C43: PRENOM | D43: =D8 -> 0
A45: HORAIRES | C45: Date de debut | D45: =D15 -> 0 | E45: Date de fin | F45: =F15 -> 0
A47: LUNDI M | B47: LUNDI S | C47: MARDI | D47: MERCREDI | E47: JEUDI | F47: VENDREDI
A48: =A34 -> 0 | B48: =B34 -> 0 | C48: =C34 -> 0 | D48: =D34 -> 0 | E48: =E34 -> 0 | F48: =F34 -> 0
A49: =A35 -> 0 | B49: =B35 -> 0 | C49: =C35 -> 0 | D49: =D35 -> 0 | E49: =E35 -> 0 | F49: =F35 -> 0
A50: =A36 -> 0 | B50: =B36 -> 0 | C50: =C36 -> 0 | D50: =D36 -> 0 | E50: =E36 -> 0 | F50: =F36 -> 0
A51: =A37 -> 0 | B51: =B37 -> 0 | C51: =C37 -> 0 | D51: =D37 -> 0 | E51: =E37 -> 0 | F51: =F37 -> 0

Sheet Sem02
H1: 0.875
H2: 0.25
A4: CREATION ou MODIFICATION d'un CONTRAT de TRAVAIL
A8: NOM | B8: =BDD!B7 -> 0 | C8: PRENOM | D8: =BDD!C7 -> 0 | E8: MATRICULE | F8: =BDD!D7 -> 0
A10: EMPLOI | B10: =BDD!E7 -> 0 | D10: SERVICE | E10: 220/603 MAGASIN | H10: CDD
H11: CDI
H12: SURCROIT
A13: TYPE DE CONTRAT | C13: CDD | D13: =BDD!F7 -> 0 | J13: 220/603 MAGASIN | K13: MAG NUIT
H14: OUI | J14: 220/703 LIVRAISON | K14: LIV NUIT
A15: MOTIF du CONTRAT | C15: Date de debut | E15: Date de fin | H15: NON
A17: REMPLACEMENT de: | D17: Motifs | E17: du | F17: au | H17: MALADIE
H18: C.PAYES
H19: RTT
H20: ABS AUT.
H21: ABS AUT(RCN).
H22: FORMATION
H23: CACES
H24: C PARENTAL
A25: HORAIRE HEBDO TRAVAILLE | D25: =A28+B28+C28+D28+E28+F28 -> 0 | H25: SURCROIT
A27: LUNDI M | B27: LUNDI S | C27: MARDI | D27: MERCREDI | E27: JEUDI | F27: VENDREDI
A28: =((A37-A36)+A35-A34)*24 -> 0 | B28: =((B37-B36)+B35-B34)*24 -> 0 | C28: =((C37-C36)+C35-C34)*24 -> 0 | D28: =((D37-D36)+D35-D34)*24 -> 0 | E28: =((E37-E36)+E35-E34)*24 -> 0 | F28: =((F37-F36)+F35-F34)*24 -> 0
A29: =(((A35-A34)+H2-A36)*24) -> 6 | B29: =(IF(SUM(B34:B37)=0,"0",(B37-$H1)))*24 -> 0 | C29: =(IF(SUM(C34:C37)=0,"0",(C37-$H1)))*24 -> 0 | D29: =(IF(SUM(D34:D37)=0,"0",(D37-$H1)))*24 -> 0 | E29: =(IF(SUM(E34:E37)=0,"0",(E37-$H1)))*24 -> 0 | F29: =(IF(SUM(F34:F37)=0,"0",(F37-$H1)))*24 -> 0 | M29: mettre 25:00 pour 01h00
M30: mettre 26:00 pour 02h00
A31: HORAIRES | M31: mettre 26:15 pour 02h15
M32: mettre 26:30 pour 02h30
A33: LUNDI M | B33: LUNDI S | C33: MARDI | D33: MERCREDI | E33: JEUDI | F33: VENDREDI | M33: mettre 27:00 pour 03h00
A39: NB HEURES DE NUIT | C39: =A29+B29+C29+D29+E29+F29 -> 6 | D39: Pause payée | F39: NON
A43: NOM | B43: =B8 -> 0 | C43: PRENOM | D43: =D8 -> 0
A45: HORAIRES | C45: Date de debut | D45: =D15 -> 0 | E45: Date de fin | F45: =F15 -> 0
A47: LUNDI M | B47: LUNDI S | C47: MARDI | D47: MERCREDI | E47: JEUDI | F47: VENDREDI
A48: =A34 -> 0 | B48: =B34 -> 0 | C48: =C34 -> 0 | D48: =D34 -> 0 | E48: =E34 -> 0 | F48: =F34 -> 0
A49: =A35 -> 0 | B49: =B35 -> 0 | C49: =C35 -> 0 | D49: =D35 -> 0 | E49: =E35 -> 0 | F49: =F35 -> 0
A50: =A36 -> 0 | B50: =B36 -> 0 | C50: =C36 -> 0 | D50: =D36 -> 0 | E50: =E36 -> 0 | F50: =F36 -> 0
A51: =A37 -> 0 | B51: =B37 -> 0 | C51: =C37 -> 0 | D51: =D37 -> 0 | E51: =E37 -> 0 | F51: =F37 -> 0

Sheet Sem03
H1: 0.875
H2: 0.25
A4: CREATION ou MODIFICATION d'un CONTRAT de TRAVAIL
A8: NOM | B8: =BDD!B7 -> 0 | C8: PRENOM | D8: =BDD!C7 -> 0 | E8: MATRICULE | F8: =BDD!D7 -> 0
A10: EMPLOI | B10: =BDD!E7 -> 0 | D10: SERVICE | E10: 220/603 MAGASIN | H10: CDD
H11: CDI
H12: SURCROIT
A13: TYPE DE CONTRAT | C13: CDD | D13: =BDD!F7 -> 0 | J13: 220/603 MAGASIN | K13: MAG NUIT
H14: OUI | J14: 220/703 LIVRAISON | K14: LIV NUIT
A15: MOTIF du CONTRAT | C15: Date de debut | E15: Date de fin | H15: NON
A17: REMPLACEMENT de: | D17: Motifs | E17: du | F17: au | H17: MALADIE
H18: C.PAYES
H19: RTT
H20: ABS AUT.
H21: ABS AUT(RCN).
H22: FORMATION
H23: CACES
H24: C PARENTAL
A25: HORAIRE HEBDO TRAVAILLE | D25: =A28+B28+C28+D28+E28+F28 -> 0 | H25: SURCROIT
A27: LUNDI M | B27: LUNDI S | C27: MARDI | D27: MERCREDI | E27: JEUDI | F27: VENDREDI
A28: =((A37-A36)+A35-A34)*24 -> 0 | B28: =((B37-B36)+B35-B34)*24 -> 0 | C28: =((C37-C36)+C35-C34)*24 -> 0 | D28: =((D37-D36)+D35-D34)*24 -> 0 | E28: =((E37-E36)+E35-E34)*24 -> 0 | F28: =((F37-F36)+F35-F34)*24 -> 0
A29: =(((A35-A34)+H2-A36)*24) -> 6 | B29: =(IF(SUM(B34:B37)=0,"0",(B37-$H1)))*24 -> 0 | C29: =(IF(SUM(C34:C37)=0,"0",(C37-$H1)))*24 -> 0 | D29: =(IF(SUM(D34:D37)=0,"0",(D37-$H1)))*24 -> 0 | E29: =(IF(SUM(E34:E37)=0,"0",(E37-$H1)))*24 -> 0 | F29: =(IF(SUM(F34:F37)=0,"0",(F37-$H1)))*24 -> 0 | M29: mettre 25:00 pour 01h00
M30: mettre 26:00 pour 02h00
A31: HORAIRES | M31: mettre 26:15 pour 02h15
M32: mettre 26:30 pour 02h30
A33: LUNDI M | B33: LUNDI S | C33: MARDI | D33: MERCREDI | E33: JEUDI | F33: VENDREDI | M33: mettre 27:00 pour 03h00
A39: NB HEURES DE NUIT | C39: =A29+B29+C29+D29+E29+F29 -> 6 | D39: Pause payée | F39: NON
A43: NOM | B43: =B8 -> 0 | C43: PRENOM | D43: =D8 -> 0
A45: HORAIRES | C45: Date de debut | D45: =D15 -> 0 | E45: Date de fin | F45: =F15 -> 0
A47: LUNDI M | B47: LUNDI S | C47: MARDI | D47: MERCREDI | E47: JEUDI | F47: VENDREDI
A48: =A34 -> 0 | B48: =B34 -> 0 | C48: =C34 -> 0 | D48: =D34 -> 0 | E48: =E34 -> 0 | F48: =F34 -> 0
A49: =A35 -> 0 | B49: =B35 -> 0 | C49: =C35 -> 0 | D49: =D35 -> 0 | E49: =E35 -> 0 | F49: =F35 -> 0
A50: =A36 -> 0 | B50: =B36 -> 0 | C50: =C36 -> 0 | D50: =D36 -> 0 | E50: =E36 -> 0 | F50: =F36 -> 0
A51: =A37 -> 0 | B51: =B37 -> 0 | C51: =C37 -> 0 | D51: =D37 -> 0 | E51: =E37 -> 0 | F51: =F37 -> 0

Sheet Sem04
H1: 0.875
H2: 0.25
A4: CREATION ou MODIFICATION d'un CONTRAT de TRAVAIL
A8: NOM | B8: =BDD!B7 -> 0 | C8: PRENOM | D8: =BDD!C7 -> 0 | E8: MATRICULE | F8: =BDD!D7 -> 0
A10: EMPLOI | B10: =BDD!E7 -> 0 | D10: SERVICE | E10: 220/603 MAGASIN | H10: CDD
H11: CDI
H12: SURCROIT
A13: TYPE DE CONTRAT | C13: CDD | D13: =BDD!F7 -> 0 | J13: 220/603 MAGASIN | K13: MAG NUIT
H14: OUI | J14: 220/703 LIVRAISON | K14: LIV NUIT
A15: MOTIF du CONTRAT | C15: Date de debut | E15: Date de fin | H15: NON
A17: REMPLACEMENT de: | D17: Motifs | E17: du | F17: au | H17: MALADIE
H18: C.PAYES
H19: RTT
H20: ABS AUT.
H21: ABS AUT(RCN).
H22: FORMATION
H23: CACES
H24: C PARENTAL
A25: HORAIRE HEBDO TRAVAILLE | D25: =A28+B28+C28+D28+E28+F28 -> 0 | H25: SURCROIT
A27: LUNDI M | B27: LUNDI S | C27: MARDI | D27: MERCREDI | E27: JEUDI | F27: VENDREDI
A28: =((A37-A36)+A35-A34)*24 -> 0 | B28: =((B37-B36)+B35-B34)*24 -> 0 | C28: =((C37-C36)+C35-C34)*24 -> 0 | D28: =((D37-D36)+D35-D34)*24 -> 0 | E28: =((E37-E36)+E35-E34)*24 -> 0 | F28: =((F37-F36)+F35-F34)*24 -> 0
A29: =(((A35-A34)+H2-A36)*24) -> 6 | B29: =(IF(SUM(B34:B37)=0,"0",(B37-$H1)))*24 -> 0 | C29: =(IF(SUM(C34:C37)=0,"0",(C37-$H1)))*24 -> 0 | D29: =(IF(SUM(D34:D37)=0,"0",(D37-$H1)))*24 -> 0 | E29: =(IF(SUM(E34:E37)=0,"0",(E37-$H1)))*24 -> 0 | F29: =(IF(SUM(F34:F37)=0,"0",(F37-$H1)))*24 -> 0 | M29: mettre 25:00 pour 01h00
M30: mettre 26:00 pour 02h00
A31: HORAIRES | M31: mettre 26:15 pour 02h15
M32: mettre 26:30 pour 02h30
A33: LUNDI M | B33: LUNDI S | C33: MARDI | D33: MERCREDI | E33: JEUDI | F33: VENDREDI | M33: mettre 27:00 pour 03h00
A39: NB HEURES DE NUIT | C39: =A29+B29+C29+D29+E29+F29 -> 6 | D39: Pause payée | F39: NON
A43: NOM | B43: =B8 -> 0 | C43: PRENOM | D43: =D8 -> 0
A45: HORAIRES | C45: Date de debut | D45: =D15 -> 0 | E45: Date de fin | F45: =F15 -> 0
A47: LUNDI M | B47: LUNDI S | C47: MARDI | D47: MERCREDI | E47: JEUDI | F47: VENDREDI
A48: =A34 -> 0 | B48: =B34 -> 0 | C48: =C34 -> 0 | D48: =D34 -> 0 | E48: =E34 -> 0 | F48: =F34 -> 0
A49: =A35 -> 0 | B49: =B35 -> 0 | C49: =C35 -> 0 | D49: =D35 -> 0 | E49: =E35 -> 0 | F49: =F35 -> 0
A50: =A36 -> 0 | B50: =B36 -> 0 | C50: =C36 -> 0 | D50: =D36 -> 0 | E50: =E36 -> 0 | F50: =F36 -> 0
A51: =A37 -> 0 | B51: =B37 -> 0 | C51: =C37 -> 0 | D51: =D37 -> 0 | E51: =E37 -> 0 | F51: =F37 -> 0

Sheet Fevrier
H1: 0.875
H2: 0.25
A4: CREATION ou MODIFICATION d'un CONTRAT de TRAVAIL
A8: NOM | B8: =BDD!B7 -> 0 | C8: PRENOM | D8: =BDD!C7 -> 0 | E8: MATRICULE | F8: =BDD!D7 -> 0
A10: EMPLOI | B10: =BDD!E7 -> 0 | D10: SERVICE | E10: 220/603 MAGASIN | H10: CDD
H11: CDI
H12: SURCROIT
A13: TYPE DE CONTRAT | C13: CDD | D13: =BDD!F7 -> 0 | J13: 220/603 MAGASIN | K13: MAG NUIT
H14: OUI | J14: 220/703 LIVRAISON | K14: LIV NUIT
A15: MOTIF du CONTRAT | C15: Date de debut | E15: Date de fin | H15: NON
A17: REMPLACEMENT de: | D17: Motifs | E17: du | F17: au | H17: MALADIE
H18: C.PAYES
H19: RTT
H20: ABS AUT.
H21: ABS AUT(RCN).
H22: FORMATION
H23: CACES
H24: C PARENTAL
A25: HORAIRE HEBDO TRAVAILLE | D25: =A28+B28+C28+D28+E28+F28 -> 0 | H25: SURCROIT
A27: LUNDI M | B27: LUNDI S | C27: MARDI | D27: MERCREDI | E27: JEUDI | F27: VENDREDI
A28: =((A37-A36)+A35-A34)*24 -> 0 | B28: =((B37-B36)+B35-B34)*24 -> 0 | C28: =((C37-C36)+C35-C34)*24 -> 0 | D28: =((D37-D36)+D35-D34)*24 -> 0 | E28: =((E37-E36)+E35-E34)*24 -> 0 | F28: =((F37-F36)+F35-F34)*24 -> 0
A29: =(((A35-A34)+H2-A36)*24) -> 6 | B29: =(IF(SUM(B34:B37)=0,"0",(B37-$H1)))*24 -> 0 | C29: =(IF(SUM(C34:C37)=0,"0",(C37-$H1)))*24 -> 0 | D29: =(IF(SUM(D34:D37)=0,"0",(D37-$H1)))*24 -> 0 | E29: =(IF(SUM(E34:E37)=0,"0",(E37-$H1)))*24 -> 0 | F29: =(IF(SUM(F34:F37)=0,"0",(F37-$H1)))*24 -> 0 | M29: mettre 25:00 pour 01h00
M30: mettre 26:00 pour 02h00
A31: HORAIRES | M31: mettre 26:15 pour 02h15
M32: mettre 26:30 pour 02h30
A33: LUNDI M | B33: LUNDI S | C33: MARDI | D33: MERCREDI | E33: JEUDI | F33: VENDREDI | M33: mettre 27:00 pour 03h00
A39: NB HEURES DE NUIT | C39: =A29+B29+C29+D29+E29+F29 -> 6 | D39: Pause payée | F39: NON
A43: NOM | B43: =B8 -> 0 | C43: PRENOM | D43: =D8 -> 0
A45: HORAIRES | C45: Date de debut | D45: =D15 -> 0 | E45: Date de fin | F45: =F15 -> 0
A47: LUNDI M | B47: LUNDI S | C47: MARDI | D47: MERCREDI | E47: JEUDI | F47: VENDREDI
A48: =A34 -> 0 | B48: =B34 -> 0 | C48: =C34 -> 0 | D48: =D34 -> 0 | E48: =E34 -> 0 | F48: =F34 -> 0
A49: =A35 -> 0 | B49: =B35 -> 0 | C49: =C35 -> 0 | D49: =D35 -> 0 | E49: =E35 -> 0 | F49: =F35 -> 0
A50: =A36 -> 0 | B50: =B36 -> 0 | C50: =C36 -> 0 | D50: =D36 -> 0 | E50: =E36 -> 0 | F50: =F36 -> 0
A51: =A37 -> 0 | B51: =B37 -> 0 | C51: =C37 -> 0 | D51: =D37 -> 0 | E51: =E37 -> 0 | F51: =F37 -> 0

Sheet Sem05
H1: 0.875
H2: 0.25
A4: CREATION ou MODIFICATION d'un CONTRAT de TRAVAIL
A8: NOM | B8: =BDD!B7 -> 0 | C8: PRENOM | D8: =BDD!C7 -> 0 | E8: MATRICULE | F8: =BDD!D7 -> 0
A10: EMPLOI | B10: =BDD!E7 -> 0 | D10: SERVICE | E10: 220/603 MAGASIN | H10: CDD
H11: CDI
H12: SURCROIT
A13: TYPE DE CONTRAT | C13: CDD | D13: =BDD!F7 -> 0 | J13: 220/603 MAGASIN | K13: MAG NUIT
H14: OUI | J14: 220/703 LIVRAISON | K14: LIV NUIT
A15: MOTIF du CONTRAT | C15: Date de debut | E15: Date de fin | H15: NON
A17: REMPLACEMENT de: | D17: Motifs | E17: du | F17: au | H17: MALADIE
H18: C.PAYES
H19: RTT
H20: ABS AUT.
H21: ABS AUT(RCN).
H22: FORMATION
H23: CACES
H24: C PARENTAL
A25: HORAIRE HEBDO TRAVAILLE | D25: =A28+B28+C28+D28+E28+F28 -> 0 | H25: SURCROIT
A27: LUNDI M | B27: LUNDI S | C27: MARDI | D27: MERCREDI | E27: JEUDI | F27: VENDREDI
A28: =((A37-A36)+A35-A34)*24 -> 0 | B28: =((B37-B36)+B35-B34)*24 -> 0 | C28: =((C37-C36)+C35-C34)*24 -> 0 | D28: =((D37-D36)+D35-D34)*24 -> 0 | E28: =((E37-E36)+E35-E34)*24 -> 0 | F28: =((F37-F36)+F35-F34)*24 -> 0
A29: =(((A35-A34)+H2-A36)*24) -> 6 | B29: =(IF(SUM(B34:B37)=0,"0",(B37-$H1)))*24 -> 0 | C29: =(IF(SUM(C34:C37)=0,"0",(C37-$H1)))*24 -> 0 | D29: =(IF(SUM(D34:D37)=0,"0",(D37-$H1)))*24 -> 0 | E29: =(IF(SUM(E34:E37)=0,"0",(E37-$H1)))*24 -> 0 | F29: =(IF(SUM(F34:F37)=0,"0",(F37-$H1)))*24 -> 0 | M29: mettre 25:00 pour 01h00
M30: mettre 26:00 pour 02h00
A31: HORAIRES | M31: mettre 26:15 pour 02h15
M32: mettre 26:30 pour 02h30
A33: LUNDI M | B33: LUNDI S | C33: MARDI | D33: MERCREDI | E33: JEUDI | F33: VENDREDI | M33: mettre 27:00 pour 03h00
A39: NB HEURES DE NUIT | C39: =A29+B29+C29+D29+E29+F29 -> 6 | D39: Pause payée | F39: NON
A43: NOM | B43: =B8 -> 0 | C43: PRENOM | D43: =D8 -> 0
A45: HORAIRES | C45: Date de debut | D45: =D15 -> 0 | E45: Date de fin | F45: =F15 -> 0
A47: LUNDI M | B47: LUNDI S | C47: MARDI | D47: MERCREDI | E47: JEUDI | F47: VENDREDI
A48: =A34 -> 0 | B48: =B34 -> 0 | C48: =C34 -> 0 | D48: =D34 -> 0 | E48: =E34 -> 0 | F48: =F34 -> 0
A49: =A35 -> 0 | B49: =B35 -> 0 | C49: =C35 -> 0 | D49: =D35 -> 0 | E49: =E35 -> 0 | F49: =F35 -> 0
A50: =A36 -> 0 | B50: =B36 -> 0 | C50: =C36 -> 0 | D50: =D36 -> 0 | E50: =E36 -> 0 | F50: =F36 -> 0
A51: =A37 -> 0 | B51: =B37 -> 0 | C51: =C37 -> 0 | D51: =D37 -> 0 | E51: =E37 -> 0 | F51: =F37 -> 0

Sheet Sem06
H1: 0.875
H2: 0.25
A4: CREATION ou MODIFICATION d'un CONTRAT de TRAVAIL
A8: NOM | B8: =BDD!B7 -> 0 | C8: PRENOM | D8: =BDD!C7 -> 0 | E8: MATRICULE | F8: =BDD!D7 -> 0
A10: EMPLOI | B10: =BDD!E7 -> 0 | D10: SERVICE | E10: 220/603 MAGASIN | H10: CDD
H11: CDI
H12: SURCROIT
A13: TYPE DE CONTRAT | C13: CDD | D13: =BDD!F7 -> 0 | J13: 220/603 MAGASIN | K13: MAG NUIT
H14: OUI | J14: 220/703 LIVRAISON | K14: LIV NUIT
A15: MOTIF du CONTRAT | C15: Date de debut | E15: Date de fin | H15: NON
A17: REMPLACEMENT de: | D17: Motifs | E17: du | F17: au | H17: MALADIE
H18: C.PAYES
H19: RTT
H20: ABS AUT.
H21: ABS AUT(RCN).
H22: FORMATION
H23: CACES
H24: C PARENTAL
A25: HORAIRE HEBDO TRAVAILLE | D25: =A28+B28+C28+D28+E28+F28 -> 0 | H25: SURCROIT
A27: LUNDI M | B27: LUNDI S | C27: MARDI | D27: MERCREDI | E27: JEUDI | F27: VENDREDI
A28: =((A37-A36)+A35-A34)*24 -> 0 | B28: =((B37-B36)+B35-B34)*24 -> 0 | C28: =((C37-C36)+C35-C34)*24 -> 0 | D28: =((D37-D36)+D35-D34)*24 -> 0 | E28: =((E37-E36)+E35-E34)*24 -> 0 | F28: =((F37-F36)+F35-F34)*24 -> 0
A29: =(((A35-A34)+H2-A36)*24) -> 6 | B29: =(IF(SUM(B34:B37)=0,"0",(B37-$H1)))*24 -> 0 | C29: =(IF(SUM(C34:C37)=0,"0",(C37-$H1)))*24 -> 0 | D29: =(IF(SUM(D34:D37)=0,"0",(D37-$H1)))*24 -> 0 | E29: =(IF(SUM(E34:E37)=0,"0",(E37-$H1)))*24 -> 0 | F29: =(IF(SUM(F34:F37)=0,"0",(F37-$H1)))*24 -> 0 | M29: mettre 25:00 pour 01h00
M30: mettre 26:00 pour 02h00
A31: HORAIRES | M31: mettre 26:15 pour 02h15
M32: mettre 26:30 pour 02h30
A33: LUNDI M | B33: LUNDI S | C33: MARDI | D33: MERCREDI | E33: JEUDI | F33: VENDREDI | M33: mettre 27:00 pour 03h00
A39: NB HEURES DE NUIT | C39: =A29+B29+C29+D29+E29+F29 -> 6 | D39: Pause payée | F39: NON
A43: NOM | B43: =B8 -> 0 | C43: PRENOM | D43: =D8 -> 0
A45: HORAIRES | C45: Date de debut | D45: =D15 -> 0 | E45: Date de fin | F45: =F15 -> 0
A47: LUNDI M | B47: LUNDI S | C47: MARDI | D47: MERCREDI | E47: JEUDI | F47: VENDREDI
A48: =A34 -> 0 | B48: =B34 -> 0 | C48: =C34 -> 0 | D48: =D34 -> 0 | E48: =E34 -> 0 | F48: =F34 -> 0
A49: =A35 -> 0 | B49: =B35 -> 0 | C49: =C35 -> 0 | D49: =D35 -> 0 | E49: =E35 -> 0 | F49: =F35 -> 0
A50: =A36 -> 0 | B50: =B36 -> 0 | C50: =C36 -> 0 | D50: =D36 -> 0 | E50: =E36 -> 0 | F50: =F36 -> 0
A51: =A37 -> 0 | B51: =B37 -> 0 | C51: =C37 -> 0 | D51: =D37 -> 0 | E51: =E37 -> 0 | F51: =F37 -> 0

Sheet Sem07
H1: 0.875
H2: 0.25
A4: CREATION ou MODIFICATION d'un CONTRAT de TRAVAIL
A8: NOM | B8: =BDD!B7 -> 0 | C8: PRENOM | D8: =BDD!C7 -> 0 | E8: MATRICULE | F8: =BDD!D7 -> 0
A10: EMPLOI | B10: =BDD!E7 -> 0 | D10: SERVICE | E10: 220/603 MAGASIN | H10: CDD
H11: CDI
H12: SURCROIT
A13: TYPE DE CONTRAT | C13: CDD | D13: =BDD!F7 -> 0 | J13: 220/603 MAGASIN | K13: MAG NUIT
H14: OUI | J14: 220/703 LIVRAISON | K14: LIV NUIT
A15: MOTIF du CONTRAT | C15: Date de debut | E15: Date de fin | H15: NON
A17: REMPLACEMENT de: | D17: Motifs | E17: du | F17: au | H17: MALADIE
H18: C.PAYES
H19: RTT
H20: ABS AUT.
H21: ABS AUT(RCN).
H22: FORMATION
H23: CACES
H24: C PARENTAL
A25: HORAIRE HEBDO TRAVAILLE | D25: =A28+B28+C28+D28+E28+F28 -> 0 | H25: SURCROIT
A27: LUNDI M | B27: LUNDI S | C27: MARDI | D27: MERCREDI | E27: JEUDI | F27: VENDREDI
A28: =((A37-A36)+A35-A34)*24 -> 0 | B28: =((B37-B36)+B35-B34)*24 -> 0 | C28: =((C37-C36)+C35-C34)*24 -> 0 | D28: =((D37-D36)+D35-D34)*24 -> 0 | E28: =((E37-E36)+E35-E34)*24 -> 0 | F28: =((F37-F36)+F35-F34)*24 -> 0
A29: =(((A35-A34)+H2-A36)*24) -> 6 | B29: =(IF(SUM(B34:B37)=0,"0",(B37-$H1)))*24 -> 0 | C29: =(IF(SUM(C34:C37)=0,"0",(C37-$H1)))*24 -> 0 | D29: =(IF(SUM(D34:D37)=0,"0",(D37-$H1)))*24 -> 0 | E29: =(IF(SUM(E34:E37)=0,"0",(E37-$H1)))*24 -> 0 | F29: =(IF(SUM(F34:F37)=0,"0",(F37-$H1)))*24 -> 0 | M29: mettre 25:00 pour 01h00
M30: mettre 26:00 pour 02h00
A31: HORAIRES | M31: mettre 26:15 pour 02h15
M32: mettre 26:30 pour 02h30
A33: LUNDI M | B33: LUNDI S | C33: MARDI | D33: MERCREDI | E33: JEUDI | F33: VENDREDI | M33: mettre 27:00 pour 03h00
A39: NB HEURES DE NUIT | C39: =A29+B29+C29+D29+E29+F29 -> 6 | D39: Pause payée | F39: NON
A43: NOM | B43: =B8 -> 0 | C43: PRENOM | D43: =D8 -> 0
A45: HORAIRES | C45: Date de debut | D45: =D15 -> 0 | E45: Date de fin | F45: =F15 -> 0
A47: LUNDI M | B47: LUNDI S | C47: MARDI | D47: MERCREDI | E47: JEUDI | F47: VENDREDI
A48: =A34 -> 0 | B48: =B34 -> 0 | C48: =C34 -> 0 | D48: =D34 -> 0 | E48: =E34 -> 0 | F48: =F34 -> 0
A49: =A35 -> 0 | B49: =B35 -> 0 | C49: =C35 -> 0 | D49: =D35 -> 0 | E49: =E35 -> 0 | F49: =F35 -> 0
A50: =A36 -> 0 | B50: =B36 -> 0 | C50: =C36 -> 0 | D50: =D36 -> 0 | E50: =E36 -> 0 | F50: =F36 -> 0
A51: =A37 -> 0 | B51: =B37 -> 0 | C51: =C37 -> 0 | D51: =D37 -> 0 | E51: =E37 -> 0 | F51: =F37 -> 0

Sheet Sem08
H1: 0.875
H2: 0.25
A4: CREATION ou MODIFICATION d'un CONTRAT de TRAVAIL
A8: NOM | B8: =BDD!B7 -> 0 | C8: PRENOM | D8: =BDD!C7 -> 0 | E8: MATRICULE | F8: =BDD!D7 -> 0
A10: EMPLOI | B10: =BDD!E7 -> 0 | D10: SERVICE | E10: 220/603 MAGASIN | H10: CDD
H11: CDI
H12: SURCROIT
A13: TYPE DE CONTRAT | C13: CDD | D13: =BDD!F7 -> 0 | J13: 220/603 MAGASIN | K13: MAG NUIT
H14: OUI | J14: 220/703 LIVRAISON | K14: LIV NUIT
A15: MOTIF du CONTRAT | C15: Date de debut | E15: Date de fin | H15: NON
A17: REMPLACEMENT de: | D17: Motifs | E17: du | F17: au | H17: MALADIE
H18: C.PAYES
H19: RTT
H20: ABS AUT.
H21: ABS AUT(RCN).
H22: FORMATION
H23: CACES
H24: C PARENTAL
A25: HORAIRE HEBDO TRAVAILLE | D25: =A28+B28+C28+D28+E28+F28 -> 0 | H25: SURCROIT
A27: LUNDI M | B27: LUNDI S | C27: MARDI | D27: MERCREDI | E27: JEUDI | F27: VENDREDI
A28: =((A37-A36)+A35-A34)*24 -> 0 | B28: =((B37-B36)+B35-B34)*24 -> 0 | C28: =((C37-C36)+C35-C34)*24 -> 0 | D28: =((D37-D36)+D35-D34)*24 -> 0 | E28: =((E37-E36)+E35-E34)*24 -> 0 | F28: =((F37-F36)+F35-F34)*24 -> 0
A29: =(((A35-A34)+H2-A36)*24) -> 6 | B29: =(IF(SUM(B34:B37)=0,"0",(B37-$H1)))*24 -> 0 | C29: =(IF(SUM(C34:C37)=0,"0",(C37-$H1)))*24 -> 0 | D29: =(IF(SUM(D34:D37)=0,"0",(D37-$H1)))*24 -> 0 | E29: =(IF(SUM(E34:E37)=0,"0",(E37-$H1)))*24 -> 0 | F29: =(IF(SUM(F34:F37)=0,"0",(F37-$H1)))*24 -> 0 | M29: mettre 25:00 pour 01h00
M30: mettre 26:00 pour 02h00
A31: HORAIRES | M31: mettre 26:15 pour 02h15
M32: mettre 26:30 pour 02h30
A33: LUNDI M | B33: LUNDI S | C33: MARDI | D33: MERCREDI | E33: JEUDI | F33: VENDREDI | M33: mettre 27:00 pour 03h00
A39: NB HEURES DE NUIT | C39: =A29+B29+C29+D29+E29+F29 -> 6 | D39: Pause payée | F39: NON
A43: NOM | B43: =B8 -> 0 | C43: PRENOM | D43: =D8 -> 0
A45: HORAIRES | C45: Date de debut | D45: =D15 -> 0 | E45: Date de fin | F45: =F15 -> 0
A47: LUNDI M | B47: LUNDI S | C47: MARDI | D47: MERCREDI | E47: JEUDI | F47: VENDREDI
A48: =A34 -> 0 | B48: =B34 -> 0 | C48: =C34 -> 0 | D48: =D34 -> 0 | E48: =E34 -> 0 | F48: =F34 -> 0
A49: =A35 -> 0 | B49: =B35 -> 0 | C49: =C35 -> 0 | D49: =D35 -> 0 | E49: =E35 -> 0 | F49: =F35 -> 0
A50: =A36 -> 0 | B50: =B36 -> 0 | C50: =C36 -> 0 | D50: =D36 -> 0 | E50: =E36 -> 0 | F50: =F36 -> 0
A51: =A37 -> 0 | B51: =B37 -> 0 | C51: =C37 -> 0 | D51: =D37 -> 0 | E51: =E37 -> 0 | F51: =F37 -> 0

Sheet Mars
H1: 0.875
H2: 0.25
A4: CREATION ou MODIFICATION d'un CONTRAT de TRAVAIL
A8: NOM | B8: =BDD!B7 -> 0 | C8: PRENOM | D8: =BDD!C7 -> 0 | E8: MATRICULE | F8: =BDD!D7 -> 0
A10: EMPLOI | B10: =BDD!E7 -> 0 | D10: SERVICE | E10: 220/603 MAGASIN | H10: CDD
H11: CDI
H12: SURCROIT
A13: TYPE DE CONTRAT | C13: CDD | D13: =BDD!F7 -> 0 | J13: 220/603 MAGASIN | K13: MAG NUIT
H14: OUI | J14: 220/703 LIVRAISON | K14: LIV NUIT
A15: MOTIF du CONTRAT | C15: Date de debut | E15: Date de fin | H15: NON
A17: REMPLACEMENT de: | D17: Motifs | E17: du | F17: au | H17: MALADIE
H18: C.PAYES
H19: RTT
H20: ABS AUT.
H21: ABS AUT(RCN).
H22: FORMATION
H23: CACES
H24: C PARENTAL
A25: HORAIRE HEBDO TRAVAILLE | D25: =A28+B28+C28+D28+E28+F28 -> 0 | H25: SURCROIT
A27: LUNDI M | B27: LUNDI S | C27: MARDI | D27: MERCREDI | E27: JEUDI | F27: VENDREDI
A28: =((A37-A36)+A35-A34)*24 -> 0 | B28: =((B37-B36)+B35-B34)*24 -> 0 | C28: =((C37-C36)+C35-C34)*24 -> 0 | D28: =((D37-D36)+D35-D34)*24 -> 0 | E28: =((E37-E36)+E35-E34)*24 -> 0 | F28: =((F37-F36)+F35-F34)*24 -> 0
A29: =(((A35-A34)+H2-A36)*24) -> 6 | B29: =(IF(SUM(B34:B37)=0,"0",(B37-$H1)))*24 -> 0 | C29: =(IF(SUM(C34:C37)=0,"0",(C37-$H1)))*24 -> 0 | D29: =(IF(SUM(D34:D37)=0,"0",(D37-$H1)))*24 -> 0 | E29: =(IF(SUM(E34:E37)=0,"0",(E37-$H1)))*24 -> 0 | F29: =(IF(SUM(F34:F37)=0,"0",(F37-$H1)))*24 -> 0 | M29: mettre 25:00 pour 01h00
M30: mettre 26:00 pour 02h00
A31: HORAIRES | M31: mettre 26:15 pour 02h15
M32: mettre 26:30 pour 02h30
A33: LUNDI M | B33: LUNDI S | C33: MARDI | D33: MERCREDI | E33: JEUDI | F33: VENDREDI | M33: mettre 27:00 pour 03h00
A39: NB HEURES DE NUIT | C39: =A29+B29+C29+D29+E29+F29 -> 6 | D39: Pause payée | F39: NON
A43: NOM | B43: =B8 -> 0 | C43: PRENOM | D43: =D8 -> 0
A45: HORAIRES | C45: Date de debut | D45: =D15 -> 0 | E45: Date de fin | F45: =F15 -> 0
A47: LUNDI M | B47: LUNDI S | C47: MARDI | D47: MERCREDI | E47: JEUDI | F47: VENDREDI
A48: =A34 -> 0 | B48: =B34 -> 0 | C48: =C34 -> 0 | D48: =D34 -> 0 | E48: =E34 -> 0 | F48: =F34 -> 0
A49: =A35 -> 0 | B49: =B35 -> 0 | C49: =C35 -> 0 | D49: =D35 -> 0 | E49: =E35 -> 0 | F49: =F35 -> 0
A50: =A36 -> 0 | B50: =B36 -> 0 | C50: =C36 -> 0 | D50: =D36 -> 0 | E50: =E36 -> 0 | F50: =F36 -> 0
A51: =A37 -> 0 | B51: =B37 -> 0 | C51: =C37 -> 0 | D51: =D37 -> 0 | E51: =E37 -> 0 | F51: =F37 -> 0

Sheet Sem09
H1: 0.875
H2: 0.25
A4: CREATION ou MODIFICATION d'un CONTRAT de TRAVAIL
A8: NOM | B8: =BDD!B7 -> 0 | C8: PRENOM | D8: =BDD!C7 -> 0 | E8: MATRICULE | F8: =BDD!D7 -> 0
A10: EMPLOI | B10: =BDD!E7 -> 0 | D10: SERVICE | E10: 220/603 MAGASIN | H10: CDD
H11: CDI
H12: SURCROIT
A13: TYPE DE CONTRAT | C13: CDD | D13: =BDD!F7 -> 0 | J13: 220/603 MAGASIN | K13: MAG NUIT
H14: OUI | J14: 220/703 LIVRAISON | K14: LIV NUIT
A15: MOTIF du CONTRAT | C15: Date de debut | E15: Date de fin | H15: NON
A17: REMPLACEMENT de: | D17: Motifs | E17: du | F17: au | H17: MALADIE
H18: C.PAYES
H19: RTT
H20: ABS AUT.
H21: ABS AUT(RCN).
H22: FORMATION
H23: CACES
H24: C PARENTAL
A25: HORAIRE HEBDO TRAVAILLE | D25: =A28+B28+C28+D28+E28+F28 -> 0 | H25: SURCROIT
A27: LUNDI M | B27: LUNDI S | C27: MARDI | D27: MERCREDI | E27: JEUDI | F27: VENDREDI
A28: =((A37-A36)+A35-A34)*24 -> 0 | B28: =((B37-B36)+B35-B34)*24 -> 0 | C28: =((C37-C36)+C35-C34)*24 -> 0 | D28: =((D37-D36)+D35-D34)*24 -> 0 | E28: =((E37-E36)+E35-E34)*24 -> 0 | F28: =((F37-F36)+F35-F34)*24 -> 0
A29: =(((A35-A34)+H2-A36)*24) -> 6 | B29: =(IF(SUM(B34:B37)=0,"0",(B37-$H1)))*24 -> 0 | C29: =(IF(SUM(C34:C37)=0,"0",(C37-$H1)))*24 -> 0 | D29: =(IF(SUM(D34:D37)=0,"0",(D37-$H1)))*24 -> 0 | E29: =(IF(SUM(E34:E37)=0,"0",(E37-$H1)))*24 -> 0 | F29: =(IF(SUM(F34:F37)=0,"0",(F37-$H1)))*24 -> 0 | M29: mettre 25:00 pour 01h00
M30: mettre 26:00 pour 02h00
A31: HORAIRES | M31: mettre 26:15 pour 02h15
M32: mettre 26:30 pour 02h30
A33: LUNDI M | B33: LUNDI S | C33: MARDI | D33: MERCREDI | E33: JEUDI | F33: VENDREDI | M33: mettre 27:00 pour 03h00
A39: NB HEURES DE NUIT | C39: =A29+B29+C29+D29+E29+F29 -> 6 | D39: Pause payée | F39: NON
A43: NOM | B43: =B8 -> 0 | C43: PRENOM | D43: =D8 -> 0
A45: HORAIRES | C45: Date de debut | D45: =D15 -> 0 | E45: Date de fin | F45: =F15 -> 0
A47: LUNDI M | B47: LUNDI S | C47: MARDI | D47: MERCREDI | E47: JEUDI | F47: VENDREDI
A48: =A34 -> 0 | B48: =B34 -> 0 | C48: =C34 -> 0 | D48: =D34 -> 0 | E48: =E34 -> 0 | F48: =F34 -> 0
A49: =A35 -> 0 | B49: =B35 -> 0 | C49: =C35 -> 0 | D49: =D35 -> 0 | E49: =E35 -> 0 | F49: =F35 -> 0
A50: =A36 -> 0 | B50: =B36 -> 0 | C50: =C36 -> 0 | D50: =D36 -> 0 | E50: =E36 -> 0 | F50: =F36 -> 0
A51: =A37 -> 0 | B51: =B37 -> 0 | C51: =C37 -> 0 | D51: =D37 -> 0 | E51: =E37 -> 0 | F51: =F37 -> 0

Sheet Sem10
H1: 0.875
H2: 0.25
A4: CREATION ou MODIFICATION d'un CONTRAT de TRAVAIL
A8: NOM | B8: =BDD!B7 -> 0 | C8: PRENOM | D8: =BDD!C7 -> 0 | E8: MATRICULE | F8: =BDD!D7 -> 0
A10: EMPLOI | B10: =BDD!E7 -> 0 | D10: SERVICE | E10: 220/603 MAGASIN | H10: CDD
H11: CDI
H12: SURCROIT
A13: TYPE DE CONTRAT | C13: CDD | D13: =BDD!F7 -> 0 | J13: 220/603 MAGASIN | K13: MAG NUIT
H14: OUI | J14: 220/703 LIVRAISON | K14: LIV NUIT
A15: MOTIF du CONTRAT | C15: Date de debut | E15: Date de fin | H15: NON
A17: REMPLACEMENT de: | D17: Motifs | E17: du | F17: au | H17: MALADIE
H18: C.PAYES
H19: RTT
H20: ABS AUT.
H21: ABS AUT(RCN).
H22: FORMATION
H23: CACES
H24: C PARENTAL
A25: HORAIRE HEBDO TRAVAILLE | D25: =A28+B28+C28+D28+E28+F28 -> 0 | H25: SURCROIT
A27: LUNDI M | B27: LUNDI S | C27: MARDI | D27: MERCREDI | E27: JEUDI | F27: VENDREDI
A28: =((A37-A36)+A35-A34)*24 -> 0 | B28: =((B37-B36)+B35-B34)*24 -> 0 | C28: =((C37-C36)+C35-C34)*24 -> 0 | D28: =((D37-D36)+D35-D34)*24 -> 0 | E28: =((E37-E36)+E35-E34)*24 -> 0 | F28: =((F37-F36)+F35-F34)*24 -> 0
A29: =(((A35-A34)+H2-A36)*24) -> 6 | B29: =(IF(SUM(B34:B37)=0,"0",(B37-$H1)))*24 -> 0 | C29: =(IF(SUM(C34:C37)=0,"0",(C37-$H1)))*24 -> 0 | D29: =(IF(SUM(D34:D37)=0,"0",(D37-$H1)))*24 -> 0 | E29: =(IF(SUM(E34:E37)=0,"0",(E37-$H1)))*24 -> 0 | F29: =(IF(SUM(F34:F37)=0,"0",(F37-$H1)))*24 -> 0 | M29: mettre 25:00 pour 01h00
M30: mettre 26:00 pour 02h00
A31: HORAIRES | M31: mettre 26:15 pour 02h15
M32: mettre 26:30 pour 02h30
A33: LUNDI M | B33: LUNDI S | C33: MARDI | D33: MERCREDI | E33: JEUDI | F33: VENDREDI | M33: mettre 27:00 pour 03h00
A39: NB HEURES DE NUIT | C39: =A29+B29+C29+D29+E29+F29 -> 6 | D39: Pause payée | F39: NON
A43: NOM | B43: =B8 -> 0 | C43: PRENOM | D43: =D8 -> 0
A45: HORAIRES | C45: Date de debut | D45: =D15 -> 0 | E45: Date de fin | F45: =F15 -> 0
A47: LUNDI M | B47: LUNDI S | C47: MARDI | D47: MERCREDI | E47: JEUDI | F47: VENDREDI
A48: =A34 -> 0 | B48: =B34 -> 0 | C48: =C34 -> 0 | D48: =D34 -> 0 | E48: =E34 -> 0 | F48: =F34 -> 0
A49: =A35 -> 0 | B49: =B35 -> 0 | C49: =C35 -> 0 | D49: =D35 -> 0 | E49: =E35 -> 0 | F49: =F35 -> 0
A50: =A36 -> 0 | B50: =B36 -> 0 | C50: =C36 -> 0 | D50: =D36 -> 0 | E50: =E36 -> 0 | F50: =F36 -> 0
A51: =A37 -> 0 | B51: =B37 -> 0 | C51: =C37 -> 0 | D51: =D37 -> 0 | E51: =E37 -> 0 | F51: =F37 -> 0

Sheet Sem11
H1: 0.875
H2: 0.25
A4: CREATION ou MODIFICATION d'un CONTRAT de TRAVAIL
A8: NOM | B8: =BDD!B7 -> 0 | C8: PRENOM | D8: =BDD!C7 -> 0 | E8: MATRICULE | F8: =BDD!D7 -> 0
A10: EMPLOI | B10: =BDD!E7 -> 0 | D10: SERVICE | E10: 220/603 MAGASIN | H10: CDD
H11: CDI
H12: SURCROIT
A13: TYPE DE CONTRAT | C13: CDD | D13: =BDD!F7 -> 0 | J13: 220/603 MAGASIN | K13: MAG NUIT
H14: OUI | J14: 220/703 LIVRAISON | K14: LIV NUIT
A15: MOTIF du CONTRAT | C15: Date de debut | E15: Date de fin | H15: NON
A17: REMPLACEMENT de: | D17: Motifs | E17: du | F17: au | H17: MALADIE
H18: C.PAYES
H19: RTT
H20: ABS AUT.
H21: ABS AUT(RCN).
H22: FORMATION
H23: CACES
H24: C PARENTAL
A25: HORAIRE HEBDO TRAVAILLE | D25: =A28+B28+C28+D28+E28+F28 -> 0 | H25: SURCROIT
A27: LUNDI M | B27: LUNDI S | C27: MARDI | D27: MERCREDI | E27: JEUDI | F27: VENDREDI
A28: =((A37-A36)+A35-A34)*24 -> 0 | B28: =((B37-B36)+B35-B34)*24 -> 0 | C28: =((C37-C36)+C35-C34)*24 -> 0 | D28: =((D37-D36)+D35-D34)*24 -> 0 | E28: =((E37-E36)+E35-E34)*24 -> 0 | F28: =((F37-F36)+F35-F34)*24 -> 0
A29: =(((A35-A34)+H2-A36)*24) -> 6 | B29: =(IF(SUM(B34:B37)=0,"0",(B37-$H1)))*24 -> 0 | C29: =(IF(SUM(C34:C37)=0,"0",(C37-$H1)))*24 -> 0 | D29: =(IF(SUM(D34:D37)=0,"0",(D37-$H1)))*24 -> 0 | E29: =(IF(SUM(E34:E37)=0,"0",(E37-$H1)))*24 -> 0 | F29: =(IF(SUM(F34:F37)=0,"0",(F37-$H1)))*24 -> 0 | M29: mettre 25:00 pour 01h00
M30: mettre 26:00 pour 02h00
A31: HORAIRES | M31: mettre 26:15 pour 02h15
M32: mettre 26:30 pour 02h30
A33: LUNDI M | B33: LUNDI S | C33: MARDI | D33: MERCREDI | E33: JEUDI | F33: VENDREDI | M33: mettre 27:00 pour 03h00
A39: NB HEURES DE NUIT | C39: =A29+B29+C29+D29+E29+F29 -> 6 | D39: Pause payée | F39: NON
A43: NOM | B43: =B8 -> 0 | C43: PRENOM | D43: =D8 -> 0
A45: HORAIRES | C45: Date de debut | D45: =D15 -> 0 | E45: Date de fin | F45: =F15 -> 0
A47: LUNDI M | B47: LUNDI S | C47: MARDI | D47: MERCREDI | E47: JEUDI | F47: VENDREDI
A48: =A34 -> 0 | B48: =B34 -> 0 | C48: =C34 -> 0 | D48: =D34 -> 0 | E48: =E34 -> 0 | F48: =F34 -> 0
A49: =A35 -> 0 | B49: =B35 -> 0 | C49: =C35 -> 0 | D49: =D35 -> 0 | E49: =E35 -> 0 | F49: =F35 -> 0
A50: =A36 -> 0 | B50: =B36 -> 0 | C50: =C36 -> 0 | D50: =D36 -> 0 | E50: =E36 -> 0 | F50: =F36 -> 0
A51: =A37 -> 0 | B51: =B37 -> 0 | C51: =C37 -> 0 | D51: =D37 -> 0 | E51: =E37 -> 0 | F51: =F37 -> 0

Sheet Sem12
H1: 0.875
H2: 0.25
A4: CREATION ou MODIFICATION d'un CONTRAT de TRAVAIL
A8: NOM | B8: =BDD!B7 -> 0 | C8: PRENOM | D8: =BDD!C7 -> 0 | E8: MATRICULE | F8: =BDD!D7 -> 0
A10: EMPLOI | B10: =BDD!E7 -> 0 | D10: SERVICE | E10: 220/603 MAGASIN | H10: CDD
H11: CDI
H12: SURCROIT
A13: TYPE DE CONTRAT | C13: CDD | D13: =BDD!F7 -> 0 | J13: 220/603 MAGASIN | K13: MAG NUIT
H14: OUI | J14: 220/703 LIVRAISON | K14: LIV NUIT
A15: MOTIF du CONTRAT | C15: Date de debut | E15: Date de fin | H15: NON
A17: REMPLACEMENT de: | D17: Motifs | E17: du | F17: au | H17: MALADIE
H18: C.PAYES
H19: RTT
H20: ABS AUT.
H21: ABS AUT(RCN).
H22: FORMATION
H23: CACES
H24: C PARENTAL
A25: HORAIRE HEBDO TRAVAILLE | D25: =A28+B28+C28+D28+E28+F28 -> 0 | H25: SURCROIT
A27: LUNDI M | B27: LUNDI S | C27: MARDI | D27: MERCREDI | E27: JEUDI | F27: VENDREDI
A28: =((A37-A36)+A35-A34)*24 -> 0 | B28: =((B37-B36)+B35-B34)*24 -> 0 | C28: =((C37-C36)+C35-C34)*24 -> 0 | D28: =((D37-D36)+D35-D34)*24 -> 0 | E28: =((E37-E36)+E35-E34)*24 -> 0 | F28: =((F37-F36)+F35-F34)*24 -> 0
A29: =(((A35-A34)+H2-A36)*24) -> 6 | B29: =(IF(SUM(B34:B37)=0,"0",(B37-$H1)))*24 -> 0 | C29: =(IF(SUM(C34:C37)=0,"0",(C37-$H1)))*24 -> 0 | D29: =(IF(SUM(D34:D37)=0,"0",(D37-$H1)))*24 -> 0 | E29: =(IF(SUM(E34:E37)=0,"0",(E37-$H1)))*24 -> 0 | F29: =(IF(SUM(F34:F37)=0,"0",(F37-$H1)))*24 -> 0 | M29: mettre 25:00 pour 01h00
M30: mettre 26:00 pour 02h00
A31: HORAIRES | M31: mettre 26:15 pour 02h15
M32: mettre 26:30 pour 02h30
A33: LUNDI M | B33: LUNDI S | C33: MARDI | D33: MERCREDI | E33: JEUDI | F33: VENDREDI | M33: mettre 27:00 pour 03h00
A39: NB HEURES DE NUIT | C39: =A29+B29+C29+D29+E29+F29 -> 6 | D39: Pause payée | F39: NON
A43: NOM | B43: =B8 -> 0 | C43: PRENOM | D43: =D8 -> 0
A45: HORAIRES | C45: Date de debut | D45: =D15 -> 0 | E45: Date de fin | F45: =F15 -> 0
A47: LUNDI M | B47: LUNDI S | C47: MARDI | D47: MERCREDI | E47: JEUDI | F47: VENDREDI
A48: =A34 -> 0 | B48: =B34 -> 0 | C48: =C34 -> 0 | D48: =D34 -> 0 | E48: =E34 -> 0 | F48: =F34 -> 0
A49: =A35 -> 0 | B49: =B35 -> 0 | C49: =C35 -> 0 | D49: =D35 -> 0 | E49: =E35 -> 0 | F49: =F35 -> 0
A50: =A36 -> 0 | B50: =B36 -> 0 | C50: =C36 -> 0 | D50: =D36 -> 0 | E50: =E36 -> 0 | F50: =F36 -> 0
A51: =A37 -> 0 | B51: =B37 -> 0 | C51: =C37 -> 0 | D51: =D37 -> 0 | E51: =E37 -> 0 | F51: =F37 -> 0

Sheet Avril
H1: 0.875
H2: 0.25
A4: CREATION ou MODIFICATION d'un CONTRAT de TRAVAIL
A8: NOM | B8: =BDD!B7 -> 0 | C8: PRENOM | D8: =BDD!C7 -> 0 | E8: MATRICULE | F8: =BDD!D7 -> 0
A10: EMPLOI | B10: =BDD!E7 -> 0 | D10: SERVICE | E10: 220/603 MAGASIN | H10: CDD
H11: CDI
H12: SURCROIT
A13: TYPE DE CONTRAT | C13: CDD | D13: =BDD!F7 -> 0 | J13: 220/603 MAGASIN | K13: MAG NUIT
H14: OUI | J14: 220/703 LIVRAISON | K14: LIV NUIT
A15: MOTIF du CONTRAT | C15: Date de debut | E15: Date de fin | H15: NON
A17: REMPLACEMENT de: | D17: Motifs | E17: du | F17: au | H17: MALADIE
H18: C.PAYES
H19: RTT
H20: ABS AUT.
H21: ABS AUT(RCN).
H22: FORMATION
H23: CACES
H24: C PARENTAL
A25: HORAIRE HEBDO TRAVAILLE | D25: =A28+B28+C28+D28+E28+F28 -> 0 | H25: SURCROIT
A27: LUNDI M | B27: LUNDI S | C27: MARDI | D27: MERCREDI | E27: JEUDI | F27: VENDREDI
A28: =((A37-A36)+A35-A34)*24 -> 0 | B28: =((B37-B36)+B35-B34)*24 -> 0 | C28: =((C37-C36)+C35-C34)*24 -> 0 | D28: =((D37-D36)+D35-D34)*24 -> 0 | E28: =((E37-E36)+E35-E34)*24 -> 0 | F28: =((F37-F36)+F35-F34)*24 -> 0
A29: =(((A35-A34)+H2-A36)*24) -> 6 | B29: =(IF(SUM(B34:B37)=0,"0",(B37-$H1)))*24 -> 0 | C29: =(IF(SUM(C34:C37)=0,"0",(C37-$H1)))*24 -> 0 | D29: =(IF(SUM(D34:D37)=0,"0",(D37-$H1)))*24 -> 0 | E29: =(IF(SUM(E34:E37)=0,"0",(E37-$H1)))*24 -> 0 | F29: =(IF(SUM(F34:F37)=0,"0",(F37-$H1)))*24 -> 0 | M29: mettre 25:00 pour 01h00
M30: mettre 26:00 pour 02h00
A31: HORAIRES | M31: mettre 26:15 pour 02h15
M32: mettre 26:30 pour 02h30
A33: LUNDI M | B33: LUNDI S | C33: MARDI | D33: MERCREDI | E33: JEUDI | F33: VENDREDI | M33: mettre 27:00 pour 03h00
A39: NB HEURES DE NUIT | C39: =A29+B29+C29+D29+E29+F29 -> 6 | D39: Pause payée | F39: NON
A43: NOM | B43: =B8 -> 0 | C43: PRENOM | D43: =D8 -> 0
A45: HORAIRES | C45: Date de debut | D45: =D15 -> 0 | E45: Date de fin | F45: =F15 -> 0
A47: LUNDI M | B47: LUNDI S | C47: MARDI | D47: MERCREDI | E47: JEUDI | F47: VENDREDI
A48: =A34 -> 0 | B48: =B34 -> 0 | C48: =C34 -> 0 | D48: =D34 -> 0 | E48: =E34 -> 0 | F48: =F34 -> 0
A49: =A35 -> 0 | B49: =B35 -> 0 | C49: =C35 -> 0 | D49: =D35 -> 0 | E49: =E35 -> 0 | F49: =F35 -> 0
A50: =A36 -> 0 | B50: =B36 -> 0 | C50: =C36 -> 0 | D50: =D36 -> 0 | E50: =E36 -> 0 | F50: =F36 -> 0
A51: =A37 -> 0 | B51: =B37 -> 0 | C51: =C37 -> 0 | D51: =D37 -> 0 | E51: =E37 -> 0 | F51: =F37 -> 0

Sheet Sem13
H1: 0.875
H2: 0.25
A4: CREATION ou MODIFICATION d'un CONTRAT de TRAVAIL
A8: NOM | B8: =BDD!B7 -> 0 | C8: PRENOM | D8: =BDD!C7 -> 0 | E8: MATRICULE | F8: =BDD!D7 -> 0
A10: EMPLOI | B10: =BDD!E7 -> 0 | D10: SERVICE | E10: 220/603 MAGASIN | H10: CDD
H11: CDI
H12: SURCROIT
A13: TYPE DE CONTRAT | C13: CDD | D13: =BDD!F7 -> 0 | J13: 220/603 MAGASIN | K13: MAG NUIT
H14: OUI | J14: 220/703 LIVRAISON | K14: LIV NUIT
A15: MOTIF du CONTRAT | C15: Date de debut | E15: Date de fin | H15: NON
A17: REMPLACEMENT de: | D17: Motifs | E17: du | F17: au | H17: MALADIE
H18: C.PAYES
H19: RTT
H20: ABS AUT.
H21: ABS AUT(RCN).
H22: FORMATION
H23: CACES
H24: C PARENTAL
A25: HORAIRE HEBDO TRAVAILLE | D25: =A28+B28+C28+D28+E28+F28 -> 0 | H25: SURCROIT
A27: LUNDI M | B27: LUNDI S | C27: MARDI | D27: MERCREDI | E27: JEUDI | F27: VENDREDI
A28: =((A37-A36)+A35-A34)*24 -> 0 | B28: =((B37-B36)+B35-B34)*24 -> 0 | C28: =((C37-C36)+C35-C34)*24 -> 0 | D28: =((D37-D36)+D35-D34)*24 -> 0 | E28: =((E37-E36)+E35-E34)*24 -> 0 | F28: =((F37-F36)+F35-F34)*24 -> 0
A29: =(((A35-A34)+H2-A36)*24) -> 6 | B29: =(IF(SUM(B34:B37)=0,"0",(B37-$H1)))*24 -> 0 | C29: =(IF(SUM(C34:C37)=0,"0",(C37-$H1)))*24 -> 0 | D29: =(IF(SUM(D34:D37)=0,"0",(D37-$H1)))*24 -> 0 | E29: =(IF(SUM(E34:E37)=0,"0",(E37-$H1)))*24 -> 0 | F29: =(IF(SUM(F34:F37)=0,"0",(F37-$H1)))*24 -> 0 | M29: mettre 25:00 pour 01h00
M30: mettre 26:00 pour 02h00
A31: HORAIRES | M31: mettre 26:15 pour 02h15
M32: mettre 26:30 pour 02h30
A33: LUNDI M | B33: LUNDI S | C33: MARDI | D33: MERCREDI | E33: JEUDI | F33: VENDREDI | M33: mettre 27:00 pour 03h00
A39: NB HEURES DE NUIT | C39: =A29+B29+C29+D29+E29+F29 -> 6 | D39: Pause payée | F39: NON
A43: NOM | B43: =B8 -> 0 | C43: PRENOM | D43: =D8 -> 0
A45: HORAIRES | C45: Date de debut | D45: =D15 -> 0 | E45: Date de fin | F45: =F15 -> 0
A47: LUNDI M | B47: LUNDI S | C47: MARDI | D47: MERCREDI | E47: JEUDI | F47: VENDREDI
A48: =A34 -> 0 | B48: =B34 -> 0 | C48: =C34 -> 0 | D48: =D34 -> 0 | E48: =E34 -> 0 | F48: =F34 -> 0
A49: =A35 -> 0 | B49: =B35 -> 0 | C49: =C35 -> 0 | D49: =D35 -> 0 | E49: =E35 -> 0 | F49: =F35 -> 0
A50: =A36 -> 0 | B50: =B36 -> 0 | C50: =C36 -> 0 | D50: =D36 -> 0 | E50: =E36 -> 0 | F50: =F36 -> 0
A51: =A37 -> 0 | B51: =B37 -> 0 | C51: =C37 -> 0 | D51: =D37 -> 0 | E51: =E37 -> 0 | F51: =F37 -> 0

Sheet Sem14
H1: 0.875
H2: 0.25
A4: CREATION ou MODIFICATION d'un CONTRAT de TRAVAIL
A8: NOM | B8: =BDD!B7 -> 0 | C8: PRENOM | D8: =BDD!C7 -> 0 | E8: MATRICULE | F8: =BDD!D7 -> 0
A10: EMPLOI | B10: =BDD!E7 -> 0 | D10: SERVICE | E10: 220/603 MAGASIN | H10: CDD
H11: CDI
H12: SURCROIT
A13: TYPE DE CONTRAT | C13: CDD | D13: =BDD!F7 -> 0 | J13: 220/603 MAGASIN | K13: MAG NUIT
H14: OUI | J14: 220/703 LIVRAISON | K14: LIV NUIT
A15: MOTIF du CONTRAT | C15: Date de debut | E15: Date de fin | H15: NON
A17: REMPLACEMENT de: | D17: Motifs | E17: du | F17: au | H17: MALADIE
H18: C.PAYES
H19: RTT
H20: ABS AUT.
H21: ABS AUT(RCN).
H22: FORMATION
H23: CACES
H24: C PARENTAL
A25: HORAIRE HEBDO TRAVAILLE | D25: =A28+B28+C28+D28+E28+F28 -> 0 | H25: SURCROIT
A27: LUNDI M | B27: LUNDI S | C27: MARDI | D27: MERCREDI | E27: JEUDI | F27: VENDREDI
A28: =((A37-A36)+A35-A34)*24 -> 0 | B28: =((B37-B36)+B35-B34)*24 -> 0 | C28: =((C37-C36)+C35-C34)*24 -> 0 | D28: =((D37-D36)+D35-D34)*24 -> 0 | E28: =((E37-E36)+E35-E34)*24 -> 0 | F28: =((F37-F36)+F35-F34)*24 -> 0
A29: =(((A35-A34)+H2-A36)*24) -> 6 | B29: =(IF(SUM(B34:B37)=0,"0",(B37-$H1)))*24 -> 0 | C29: =(IF(SUM(C34:C37)=0,"0",(C37-$H1)))*24 -> 0 | D29: =(IF(SUM(D34:D37)=0,"0",(D37-$H1)))*24 -> 0 | E29: =(IF(SUM(E34:E37)=0,"0",(E37-$H1)))*24 -> 0 | F29: =(IF(SUM(F34:F37)=0,"0",(F37-$H1)))*24 -> 0 | M29: mettre 25:00 pour 01h00
M30: mettre 26:00 pour 02h00
A31: HORAIRES | M31: mettre 26:15 pour 02h15
M32: mettre 26:30 pour 02h30
A33: LUNDI M | B33: LUNDI S | C33: MARDI | D33: MERCREDI | E33: JEUDI | F33: VENDREDI | M33: mettre 27:00 pour 03h00
A39: NB HEURES DE NUIT | C39: =A29+B29+C29+D29+E29+F29 -> 6 | D39: Pause payée | F39: NON
A43: NOM | B43: =B8 -> 0 | C43: PRENOM | D43: =D8 -> 0
A45: HORAIRES | C45: Date de debut | D45: =D15 -> 0 | E45: Date de fin | F45: =F15 -> 0
A47: LUNDI M | B47: LUNDI S | C47: MARDI | D47: MERCREDI | E47: JEUDI | F47: VENDREDI
A48: =A34 -> 0 | B48: =B34 -> 0 | C48: =C34 -> 0 | D48: =D34 -> 0 | E48: =E34 -> 0 | F48: =F34 -> 0
A49: =A35 -> 0 | B49: =B35 -> 0 | C49: =C35 -> 0 | D49: =D35 -> 0 | E49: =E35 -> 0 | F49: =F35 -> 0
A50: =A36 -> 0 | B50: =B36 -> 0 | C50: =C36 -> 0 | D50: =D36 -> 0 | E50: =E36 -> 0 | F50: =F36 -> 0
A51: =A37 -> 0 | B51: =B37 -> 0 | C51: =C37 -> 0 | D51: =D37 -> 0 | E51: =E37 -> 0 | F51: =F37 -> 0

Sheet Sem15
H1: 0.875
H2: 0.25
A4: CREATION ou MODIFICATION d'un CONTRAT de TRAVAIL
A8: NOM | B8: =BDD!B7 -> 0 | C8: PRENOM | D8: =BDD!C7 -> 0 | E8: MATRICULE | F8: =BDD!D7 -> 0
A10: EMPLOI | B10: =BDD!E7 -> 0 | D10: SERVICE | E10: 220/603 MAGASIN | H10: CDD
H11: CDI
H12: SURCROIT
A13: TYPE DE CONTRAT | C13: CDD | D13: =BDD!F7 -> 0 | J13: 220/603 MAGASIN | K13: MAG NUIT
H14: OUI | J14: 220/703 LIVRAISON | K14: LIV NUIT
A15: MOTIF du CONTRAT | C15: Date de debut | E15: Date de fin | H15: NON
A17: REMPLACEMENT de: | D17: Motifs | E17: du | F17: au | H17: MALADIE
H18: C.PAYES
H19: RTT
H20: ABS AUT.
H21: ABS AUT(RCN).
H22: FORMATION
H23: CACES
H24: C PARENTAL
A25: HORAIRE HEBDO TRAVAILLE | D25: =A28+B28+C28+D28+E28+F28 -> 0 | H25: SURCROIT
A27: LUNDI M | B27: LUNDI S | C27: MARDI | D27: MERCREDI | E27: JEUDI | F27: VENDREDI
A28: =((A37-A36)+A35-A34)*24 -> 0 | B28: =((B37-B36)+B35-B34)*24 -> 0 | C28: =((C37-C36)+C35-C34)*24 -> 0 | D28: =((D37-D36)+D35-D34)*24 -> 0 | E28: =((E37-E36)+E35-E34)*24 -> 0 | F28: =((F37-F36)+F35-F34)*24 -> 0
A29: =(((A35-A34)+H2-A36)*24) -> 6 | B29: =(IF(SUM(B34:B37)=0,"0",(B37-$H1)))*24 -> 0 | C29: =(IF(SUM(C34:C37)=0,"0",(C37-$H1)))*24 -> 0 | D29: =(IF(SUM(D34:D37)=0,"0",(D37-$H1)))*24 -> 0 | E29: =(IF(SUM(E34:E37)=0,"0",(E37-$H1)))*24 -> 0 | F29: =(IF(SUM(F34:F37)=0,"0",(F37-$H1)))*24 -> 0 | M29: mettre 25:00 pour 01h00
M30: mettre 26:00 pour 02h00
A31: HORAIRES | M31: mettre 26:15 pour 02h15
M32: mettre 26:30 pour 02h30
A33: LUNDI M | B33: LUNDI S | C33: MARDI | D33: MERCREDI | E33: JEUDI | F33: VENDREDI | M33: mettre 27:00 pour 03h00
A39: NB HEURES DE NUIT | C39: =A29+B29+C29+D29+E29+F29 -> 6 | D39: Pause payée | F39: NON
A43: NOM | B43: =B8 -> 0 | C43: PRENOM | D43: =D8 -> 0
A45: HORAIRES | C45: Date de debut | D45: =D15 -> 0 | E45: Date de fin | F45: =F15 -> 0
A47: LUNDI M | B47: LUNDI S | C47: MARDI | D47: MERCREDI | E47: JEUDI | F47: VENDREDI
A48: =A34 -> 0 | B48: =B34 -> 0 | C48: =C34 -> 0 | D48: =D34 -> 0 | E48: =E34 -> 0 | F48: =F34 -> 0
A49: =A35 -> 0 | B49: =B35 -> 0 | C49: =C35 -> 0 | D49: =D35 -> 0 | E49: =E35 -> 0 | F49: =F35 -> 0
A50: =A36 -> 0 | B50: =B36 -> 0 | C50: =C36 -> 0 | D50: =D36 -> 0 | E50: =E36 -> 0 | F50: =F36 -> 0
A51: =A37 -> 0 | B51: =B37 -> 0 | C51: =C37 -> 0 | D51: =D37 -> 0 | E51: =E37 -> 0 | F51: =F37 -> 0

Sheet Sem16
H1: 0.875
H2: 0.25
A4: CREATION ou MODIFICATION d'un CONTRAT de TRAVAIL
A8: NOM | B8: =BDD!B7 -> 0 | C8: PRENOM | D8: =BDD!C7 -> 0 | E8: MATRICULE | F8: =BDD!D7 -> 0
A10: EMPLOI | B10: =BDD!E7 -> 0 | D10: SERVICE | E10: 220/603 MAGASIN | H10: CDD
H11: CDI
H12: SURCROIT
A13: TYPE DE CONTRAT | C13: CDD | D13: =BDD!F7 -> 0 | J13: 220/603 MAGASIN | K13: MAG NUIT
H14: OUI | J14: 220/703 LIVRAISON | K14: LIV NUIT
A15: MOTIF du CONTRAT | C15: Date de debut | E15: Date de fin | H15: NON
A17: REMPLACEMENT de: | D17: Motifs | E17: du | F17: au | H17: MALADIE
H18: C.PAYES
H19: RTT
H20: ABS AUT.
H21: ABS AUT(RCN).
H22: FORMATION
H23: CACES
H24: C PARENTAL
A25: HORAIRE HEBDO TRAVAILLE | D25: =A28+B28+C28+D28+E28+F28 -> 0 | H25: SURCROIT
A27: LUNDI M | B27: LUNDI S | C27: MARDI | D27: MERCREDI | E27: JEUDI | F27: VENDREDI
A28: =((A37-A36)+A35-A34)*24 -> 0 | B28: =((B37-B36)+B35-B34)*24 -> 0 | C28: =((C37-C36)+C35-C34)*24 -> 0 | D28: =((D37-D36)+D35-D34)*24 -> 0 | E28: =((E37-E36)+E35-E34)*24 -> 0 | F28: =((F37-F36)+F35-F34)*24 -> 0
A29: =(((A35-A34)+H2-A36)*24) -> 6 | B29: =(IF(SUM(B34:B37)=0,"0",(B37-$H1)))*24 -> 0 | C29: =(IF(SUM(C34:C37)=0,"0",(C37-$H1)))*24 -> 0 | D29: =(IF(SUM(D34:D37)=0,"0",(D37-$H1)))*24 -> 0 | E29: =(IF(SUM(E34:E37)=0,"0",(E37-$H1)))*24 -> 0 | F29: =(IF(SUM(F34:F37)=0,"0",(F37-$H1)))*24 -> 0 | M29: mettre 25:00 pour 01h00
M30: mettre 26:00 pour 02h00
A31: HORAIRES | M31: mettre 26:15 pour 02h15
M32: mettre 26:30 pour 02h30
A33: LUNDI M | B33: LUNDI S | C33: MARDI | D33: MERCREDI | E33: JEUDI | F33: VENDREDI | M33: mettre 27:00 pour 03h00
A39: NB HEURES DE NUIT | C39: =A29+B29+C29+D29+E29+F29 -> 6 | D39: Pause payée | F39: NON
A43: NOM | B43: =B8 -> 0 | C43: PRENOM | D43: =D8 -> 0
A45: HORAIRES | C45: Date de debut | D45: =D15 -> 0 | E45: Date de fin | F45: =F15 -> 0
A47: LUNDI M | B47: LUNDI S | C47: MARDI | D47: MERCREDI | E47: JEUDI | F47: VENDREDI
A48: =A34 -> 0 | B48: =B34 -> 0 | C48: =C34 -> 0 | D48: =D34 -> 0 | E48: =E34 -> 0 | F48: =F34 -> 0
A49: =A35 -> 0 | B49: =B35 -> 0 | C49: =C35 -> 0 | D49: =D35 -> 0 | E49: =E35 -> 0 | F49: =F35 -> 0
A50: =A36 -> 0 | B50: =B36 -> 0 | C50: =C36 -> 0 | D50: =D36 -> 0 | E50: =E36 -> 0 | F50: =F36 -> 0
A51: =A37 -> 0 | B51: =B37 -> 0 | C51: =C37 -> 0 | D51: =D37 -> 0 | E51: =E37 -> 0 | F51: =F37 -> 0

Sheet Mai
H1: 0.875
H2: 0.25
A4: CREATION ou MODIFICATION d'un CONTRAT de TRAVAIL
A8: NOM | B8: =BDD!B7 -> 0 | C8: PRENOM | D8: =BDD!C7 -> 0 | E8: MATRICULE | F8: =BDD!D7 -> 0
A10: EMPLOI | B10: =BDD!E7 -> 0 | D10: SERVICE | E10: 220/603 MAGASIN | H10: CDD
H11: CDI
H12: SURCROIT
A13: TYPE DE CONTRAT | C13: CDD | D13: =BDD!F7 -> 0 | J13: 220/603 MAGASIN | K13: MAG NUIT
H14: OUI | J14: 220/703 LIVRAISON | K14: LIV NUIT
A15: MOTIF du CONTRAT | C15: Date de debut | E15: Date de fin | H15: NON
A17: REMPLACEMENT de: | D17: Motifs | E17: du | F17: au | H17: MALADIE
H18: C.PAYES
H19: RTT
H20: ABS AUT.
H21: ABS AUT(RCN).
H22: FORMATION
H23: CACES
H24: C PARENTAL
A25: HORAIRE HEBDO TRAVAILLE | D25: =A28+B28+C28+D28+E28+F28 -> 0 | H25: SURCROIT
A27: LUNDI M | B27: LUNDI S | C27: MARDI | D27: MERCREDI | E27: JEUDI | F27: VENDREDI
A28: =((A37-A36)+A35-A34)*24 -> 0 | B28: =((B37-B36)+B35-B34)*24 -> 0 | C28: =((C37-C36)+C35-C34)*24 -> 0 | D28: =((D37-D36)+D35-D34)*24 -> 0 | E28: =((E37-E36)+E35-E34)*24 -> 0 | F28: =((F37-F36)+F35-F34)*24 -> 0
A29: =(((A35-A34)+H2-A36)*24) -> 6 | B29: =(IF(SUM(B34:B37)=0,"0",(B37-$H1)))*24 -> 0 | C29: =(IF(SUM(C34:C37)=0,"0",(C37-$H1)))*24 -> 0 | D29: =(IF(SUM(D34:D37)=0,"0",(D37-$H1)))*24 -> 0 | E29: =(IF(SUM(E34:E37)=0,"0",(E37-$H1)))*24 -> 0 | F29: =(IF(SUM(F34:F37)=0,"0",(F37-$H1)))*24 -> 0 | M29: mettre 25:00 pour 01h00
M30: mettre 26:00 pour 02h00
A31: HORAIRES | M31: mettre 26:15 pour 02h15
M32: mettre 26:30 pour 02h30
A33: LUNDI M | B33: LUNDI S | C33: MARDI | D33: MERCREDI | E33: JEUDI | F33: VENDREDI | M33: mettre 27:00 pour 03h00
A39: NB HEURES DE NUIT | C39: =A29+B29+C29+D29+E29+F29 -> 6 | D39: Pause payée | F39: NON
A43: NOM | B43: =B8 -> 0 | C43: PRENOM | D43: =D8 -> 0
A45: HORAIRES | C45: Date de debut | D45: =D15 -> 0 | E45: Date de fin | F45: =F15 -> 0
A47: LUNDI M | B47: LUNDI S | C47: MARDI | D47: MERCREDI | E47: JEUDI | F47: VENDREDI
A48: =A34 -> 0 | B48: =B34 -> 0 | C48: =C34 -> 0 | D48: =D34 -> 0 | E48: =E34 -> 0 | F48: =F34 -> 0
A49: =A35 -> 0 | B49: =B35 -> 0 | C49: =C35 -> 0 | D49: =D35 -> 0 | E49: =E35 -> 0 | F49: =F35 -> 0
A50: =A36 -> 0 | B50: =B36 -> 0 | C50: =C36 -> 0 | D50: =D36 -> 0 | E50: =E36 -> 0 | F50: =F36 -> 0
A51: =A37 -> 0 | B51: =B37 -> 0 | C51: =C37 -> 0 | D51: =D37 -> 0 | E51: =E37 -> 0 | F51: =F37 -> 0

Sheet Sem17
H1: 0.875
H2: 0.25
A4: CREATION ou MODIFICATION d'un CONTRAT de TRAVAIL
A8: NOM | B8: =BDD!B7 -> 0 | C8: PRENOM | D8: =BDD!C7 -> 0 | E8: MATRICULE | F8: =BDD!D7 -> 0
A10: EMPLOI | B10: =BDD!E7 -> 0 | D10: SERVICE | E10: 220/603 MAGASIN | H10: CDD
H11: CDI
H12: SURCROIT
A13: TYPE DE CONTRAT | C13: CDD | D13: =BDD!F7 -> 0 | J13: 220/603 MAGASIN | K13: MAG NUIT
H14: OUI | J14: 220/703 LIVRAISON | K14: LIV NUIT
A15: MOTIF du CONTRAT | C15: Date de debut | E15: Date de fin | H15: NON
A17: REMPLACEMENT de: | D17: Motifs | E17: du | F17: au | H17: MALADIE
H18: C.PAYES
H19: RTT
H20: ABS AUT.
H21: ABS AUT(RCN).
H22: FORMATION
H23: CACES
H24: C PARENTAL
A25: HORAIRE HEBDO TRAVAILLE | D25: =A28+B28+C28+D28+E28+F28 -> 0 | H25: SURCROIT
A27: LUNDI M | B27: LUNDI S | C27: MARDI | D27: MERCREDI | E27: JEUDI | F27: VENDREDI
A28: =((A37-A36)+A35-A34)*24 -> 0 | B28: =((B37-B36)+B35-B34)*24 -> 0 | C28: =((C37-C36)+C35-C34)*24 -> 0 | D28: =((D37-D36)+D35-D34)*24 -> 0 | E28: =((E37-E36)+E35-E34)*24 -> 0 | F28: =((F37-F36)+F35-F34)*24 -> 0
A29: =(((A35-A34)+H2-A36)*24) -> 6 | B29: =(IF(SUM(B34:B37)=0,"0",(B37-$H1)))*24 -> 0 | C29: =(IF(SUM(C34:C37)=0,"0",(C37-$H1)))*24 -> 0 | D29: =(IF(SUM(D34:D37)=0,"0",(D37-$H1)))*24 -> 0 | E29: =(IF(SUM(E34:E37)=0,"0",(E37-$H1)))*24 -> 0 | F29: =(IF(SUM(F34:F37)=0,"0",(F37-$H1)))*24 -> 0 | M29: mettre 25:00 pour 01h00
M30: mettre 26:00 pour 02h00
A31: HORAIRES | M31: mettre 26:15 pour 02h15
M32: mettre 26:30 pour 02h30
A33: LUNDI M | B33: LUNDI S | C33: MARDI | D33: MERCREDI | E33: JEUDI | F33: VENDREDI | M33: mettre 27:00 pour 03h00
A39: NB HEURES DE NUIT | C39: =A29+B29+C29+D29+E29+F29 -> 6 | D39: Pause payée | F39: NON
A43: NOM | B43: =B8 -> 0 | C43: PRENOM | D43: =D8 -> 0
A45: HORAIRES | C45: Date de debut | D45: =D15 -> 0 | E45: Date de fin | F45: =F15 -> 0
A47: LUNDI M | B47: LUNDI S | C47: MARDI | D47: MERCREDI | E47: JEUDI | F47: VENDREDI
A48: =A34 -> 0 | B48: =B34 -> 0 | C48: =C34 -> 0 | D48: =D34 -> 0 | E48: =E34 -> 0 | F48: =F34 -> 0
A49: =A35 -> 0 | B49: =B35 -> 0 | C49: =C35 -> 0 | D49: =D35 -> 0 | E49: =E35 -> 0 | F49: =F35 -> 0
A50: =A36 -> 0 | B50: =B36 -> 0 | C50: =C36 -> 0 | D50: =D36 -> 0 | E50: =E36 -> 0 | F50: =F36 -> 0
A51: =A37 -> 0 | B51: =B37 -> 0 | C51: =C37 -> 0 | D51: =D37 -> 0 | E51: =E37 -> 0 | F51: =F37 -> 0

Sheet Sem18
H1: 0.875
H2: 0.25
A4: CREATION ou MODIFICATION d'un CONTRAT de TRAVAIL
A8: NOM | B8: =BDD!B7 -> 0 | C8: PRENOM | D8: =BDD!C7 -> 0 | E8: MATRICULE | F8: =BDD!D7 -> 0
A10: EMPLOI | B10: =BDD!E7 -> 0 | D10: SERVICE | E10: 220/603 MAGASIN | H10: CDD
H11: CDI
H12: SURCROIT
A13: TYPE DE CONTRAT | C13: CDD | D13: =BDD!F7 -> 0 | J13: 220/603 MAGASIN | K13: MAG NUIT
H14: OUI | J14: 220/703 LIVRAISON | K14: LIV NUIT
A15: MOTIF du CONTRAT | C15: Date de debut | E15: Date de fin | H15: NON
A17: REMPLACEMENT de: | D17: Motifs | E17: du | F17: au | H17: MALADIE
H18: C.PAYES
H19: RTT
H20: ABS AUT.
H21: ABS AUT(RCN).
H22: FORMATION
H23: CACES
H24: C PARENTAL
A25: HORAIRE HEBDO TRAVAILLE | D25: =A28+B28+C28+D28+E28+F28 -> 0 | H25: SURCROIT
A27: LUNDI M | B27: LUNDI S | C27: MARDI | D27: MERCREDI | E27: JEUDI | F27: VENDREDI
A28: =((A37-A36)+A35-A34)*24 -> 0 | B28: =((B37-B36)+B35-B34)*24 -> 0 | C28: =((C37-C36)+C35-C34)*24 -> 0 | D28: =((D37-D36)+D35-D34)*24 -> 0 | E28: =((E37-E36)+E35-E34)*24 -> 0 | F28: =((F37-F36)+F35-F34)*24 -> 0
A29: =(((A35-A34)+H2-A36)*24) -> 6 | B29: =(IF(SUM(B34:B37)=0,"0",(B37-$H1)))*24 -> 0 | C29: =(IF(SUM(C34:C37)=0,"0",(C37-$H1)))*24 -> 0 | D29: =(IF(SUM(D34:D37)=0,"0",(D37-$H1)))*24 -> 0 | E29: =(IF(SUM(E34:E37)=0,"0",(E37-$H1)))*24 -> 0 | F29: =(IF(SUM(F34:F37)=0,"0",(F37-$H1)))*24 -> 0 | M29: mettre 25:00 pour 01h00
M30: mettre 26:00 pour 02h00
A31: HORAIRES | M31: mettre 26:15 pour 02h15
M32: mettre 26:30 pour 02h30
A33: LUNDI M | B33: LUNDI S | C33: MARDI | D33: MERCREDI | E33: JEUDI | F33: VENDREDI | M33: mettre 27:00 pour 03h00
A39: NB HEURES DE NUIT | C39: =A29+B29+C29+D29+E29+F29 -> 6 | D39: Pause payée | F39: NON
A43: NOM | B43: =B8 -> 0 | C43: PRENOM | D43: =D8 -> 0
A45: HORAIRES | C45: Date de debut | D45: =D15 -> 0 | E45: Date de fin | F45: =F15 -> 0
A47: LUNDI M | B47: LUNDI S | C47: MARDI | D47: MERCREDI | E47: JEUDI | F47: VENDREDI
A48: =A34 -> 0 | B48: =B34 -> 0 | C48: =C34 -> 0 | D48: =D34 -> 0 | E48: =E34 -> 0 | F48: =F34 -> 0
A49: =A35 -> 0 | B49: =B35 -> 0 | C49: =C35 -> 0 | D49: =D35 -> 0 | E49: =E35 -> 0 | F49: =F35 -> 0
A50: =A36 -> 0 | B50: =B36 -> 0 | C50: =C36 -> 0 | D50: =D36 -> 0 | E50: =E36 -> 0 | F50: =F36 -> 0
A51: =A37 -> 0 | B51: =B37 -> 0 | C51: =C37 -> 0 | D51: =D37 -> 0 | E51: =E37 -> 0 | F51: =F37 -> 0

Sheet Sem19
H1: 0.875
H2: 0.25
A4: CREATION ou MODIFICATION d'un CONTRAT de TRAVAIL
A8: NOM | B8: =BDD!B7 -> 0 | C8: PRENOM | D8: =BDD!C7 -> 0 | E8: MATRICULE | F8: =BDD!D7 -> 0
A10: EMPLOI | B10: =BDD!E7 -> 0 | D10: SERVICE | E10: 220/603 MAGASIN | H10: CDD
H11: CDI
H12: SURCROIT
A13: TYPE DE CONTRAT | C13: CDD | D13: =BDD!F7 -> 0 | J13: 220/603 MAGASIN | K13: MAG NUIT
H14: OUI | J14: 220/703 LIVRAISON | K14: LIV NUIT
A15: MOTIF du CONTRAT | C15: Date de debut | E15: Date de fin | H15: NON
A17: REMPLACEMENT de: | D17: Motifs | E17: du | F17: au | H17: MALADIE
H18: C.PAYES
H19: RTT
H20: ABS AUT.
H21: ABS AUT(RCN).
H22: FORMATION
H23: CACES
H24: C PARENTAL
A25: HORAIRE HEBDO TRAVAILLE | D25: =A28+B28+C28+D28+E28+F28 -> 0 | H25: SURCROIT
A27: LUNDI M | B27: LUNDI S | C27: MARDI | D27: MERCREDI | E27: JEUDI | F27: VENDREDI
A28: =((A37-A36)+A35-A34)*24 -> 0 | B28: =((B37-B36)+B35-B34)*24 -> 0 | C28: =((C37-C36)+C35-C34)*24 -> 0 | D28: =((D37-D36)+D35-D34)*24 -> 0 | E28: =((E37-E36)+E35-E34)*24 -> 0 | F28: =((F37-F36)+F35-F34)*24 -> 0
A29: =(((A35-A34)+H2-A36)*24) -> 6 | B29: =(IF(SUM(B34:B37)=0,"0",(B37-$H1)))*24 -> 0 | C29: =(IF(SUM(C34:C37)=0,"0",(C37-$H1)))*24 -> 0 | D29: =(IF(SUM(D34:D37)=0,"0",(D37-$H1)))*24 -> 0 | E29: =(IF(SUM(E34:E37)=0,"0",(E37-$H1)))*24 -> 0 | F29: =(IF(SUM(F34:F37)=0,"0",(F37-$H1)))*24 -> 0 | M29: mettre 25:00 pour 01h00
M30: mettre 26:00 pour 02h00
A31: HORAIRES | M31: mettre 26:15 pour 02h15
M32: mettre 26:30 pour 02h30
A33: LUNDI M | B33: LUNDI S | C33: MARDI | D33: MERCREDI | E33: JEUDI | F33: VENDREDI | M33: mettre 27:00 pour 03h00
A39: NB HEURES DE NUIT | C39: =A29+B29+C29+D29+E29+F29 -> 6 | D39: Pause payée | F39: NON
A43: NOM | B43: =B8 -> 0 | C43: PRENOM | D43: =D8 -> 0
A45: HORAIRES | C45: Date de debut | D45: =D15 -> 0 | E45: Date de fin | F45: =F15 -> 0
A47: LUNDI M | B47: LUNDI S | C47: MARDI | D47: MERCREDI | E47: JEUDI | F47: VENDREDI
A48: =A34 -> 0 | B48: =B34 -> 0 | C48: =C34 -> 0 | D48: =D34 -> 0 | E48: =E34 -> 0 | F48: =F34 -> 0
A49: =A35 -> 0 | B49: =B35 -> 0 | C49: =C35 -> 0 | D49: =D35 -> 0 | E49: =E35 -> 0 | F49: =F35 -> 0
A50: =A36 -> 0 | B50: =B36 -> 0 | C50: =C36 -> 0 | D50: =D36 -> 0 | E50: =E36 -> 0 | F50: =F36 -> 0
A51: =A37 -> 0 | B51: =B37 -> 0 | C51: =C37 -> 0 | D51: =D37 -> 0 | E51: =E37 -> 0 | F51: =F37 -> 0

Sheet Sem20
H1: 0.875
H2: 0.25
A4: CREATION ou MODIFICATION d'un CONTRAT de TRAVAIL
A8: NOM | B8: =BDD!B7 -> 0 | C8: PRENOM | D8: =BDD!C7 -> 0 | E8: MATRICULE | F8: =BDD!D7 -> 0
A10: EMPLOI | B10: =BDD!E7 -> 0 | D10: SERVICE | E10: 220/603 MAGASIN | H10: CDD
H11: CDI
H12: SURCROIT
