Workbook

Sheet BDD
H3: CDD
B4: NOM | C4: PRENOM | D4: MATRICULE | E4: EMPLOI | F4: AGENCE INTERIM | H4: CDI
H5: INTERIM
H6: SURCROIT
F10: MASQUE HORAIRE
B15: NOM | C15: PRENOM | D15: MATRICULE | F15: LUNDI M | G15: LUNDI S | H15: MARDI | I15: MERCREDI | J15: JEUDI | K15: VENDREDI | L15: TOTAL
F16: REPOS | G16: 0.76041667 | H16: 0.78125 | I16: 0.79166667 | J16: 0.79166667 | K16: 0.79166667
F17: REPOS | G17: 0.88541667 | H17: 0.88541667 | I17: 0.88541667 | J17: 0.88541667 | K17: 0.88541667 | L17: =G20+H20+I20+J20+K20 -> 35
F18: REPOS | G18: 0.91666667 | H18: 0.91666667 | I18: 0.91666667 | J18: 0.91666667 | K18: 0.91666667
F19: REPOS | G19: 1.1145833 | H19: 1.1041667 | I19: 1.1041667 | J19: 1.1041667 | K19: 1.1041667
F20: 0 | G20: =((G19-G18)+G17-G16)*24 -> 7.75 | H20: =((H19-H18)+H17-H16)*24 -> 7 | I20: =((I19-I18)+I17-I16)*24 -> 6.75 | J20: =((J19-J18)+J17-J16)*24 -> 6.75 | K20: =((K19-K18)+K17-K16)*24 -> 6.75
F21: LUNDI M | G21: LUNDI S | H21: MARDI | I21: MERCREDI | J21: JEUDI | K21: VENDREDI | L21: TOTAL
F22: 0 | G22: REPOS | H22: 0.78125 | I22: 0.79166667 | J22: 0.79166667 | K22: 0.79166667
F23: 0.072916667 | G23: REPOS | H23: 0.88541667 | I23: 0.88541667 | J23: 0.88541667 | K23: 0.88541667 | L23: =F26+G26+H26+I26+J26+K26 -> 35
F24: 0.10416667 | G24: REPOS | H24: 0.91666667 | I24: 0.91666667 | J24: 0.91666667 | K24: 0.91666667
F25: 0.27083333 | G25: REPOS | H25: 1.125 | I25: 1.125 | J25: 1.125 | K25: 1.125
F26: =((F25-F24)+F23-F22)*24 -> 5.75 | G26: 0 | H26: =((H25-H24)+H23-H22)*24 -> 7.5 | I26: =((I25-I24)+I23-I22)*24 -> 7.25 | J26: =((J25-J24)+J23-J22)*24 -> 7.25 | K26: =((K25-K24)+K23-K22)*24 -> 7.25
F27: LUNDI M | G27: LUNDI S | H27: MARDI | I27: MERCREDI | J27: JEUDI | K27: VENDREDI | L27: TOTAL
F28: 0 | G28: 0.76041667 | H28: REPOS | I28: 0.79166667 | J28: 0.79166667 | K28: 0.79166667
F29: 0.072916667 | G29: 0.88541667 | H29: REPOS | I29: 0.88541667 | J29: 0.88541667 | K29: 0.88541667 | L29: =F32+G32+H32+I32+J32+K32 -> 35
F30: 0.10416667 | G30: 0.91666667 | H30: REPOS | I30: 0.91666667 | J30: 0.91666667 | K30: 0.91666667
F31: 0.27083333 | G31: 1.125 | H31: REPOS | I31: 1.1041667 | J31: 1.125 | K31: 1.125
F32: =((F31-F30)+F29-F28)*24 -> 5.75 | G32: =((G31-G30)+G29-G28)*24 -> 8 | H32: 0 | I32: =((I31-I30)+I29-I28)*24 -> 6.75 | J32: =((J31-J30)+J29-J28)*24 -> 7.25 | K32: =((K31-K30)+K29-K28)*24 -> 7.25
F33: LUNDI M | G33: LUNDI S | H33: MARDI | I33: MERCREDI | J33: JEUDI | K33: VENDREDI | L33: TOTAL
F34: 0 | G34: 0.76041667 | H34: 0.78125 | I34: REPOS | J34: 0.79166667 | K34: 0.79166667
F35: 0.072916667 | G35: 0.88541667 | H35: 0.88541667 | I35: REPOS | J35: 0.88541667 | K35: 0.88541667 | L35: =F38+G38+H38+I38+J38+K38 -> 35
F36: 0.10416667 | G36: 0.91666667 | H36: 0.91666667 | I36: REPOS | J36: 0.91666667 | K36: 0.91666667
F37: 0.27083333 | G37: 1.125 | H37: 1.125 | I37: REPOS | J37: 1.1041667 | K37: 1.1145833
F38: =((F37-F36)+F35-F34)*24 -> 5.75 | G38: =((G37-G36)+G35-G34)*24 -> 8 | H38: =((H37-H36)+H35-H34)*24 -> 7.5 | I38: 0 | J38: =((J37-J36)+J35-J34)*24 -> 6.75 | K38: =((K37-K36)+K35-K34)*24 -> 7
F39: LUNDI M | G39: LUNDI S | H39: MARDI | I39: MERCREDI | J39: JEUDI | K39: VENDREDI | L39: TOTAL
F40: 0 | G40: 0.76041667 | H40: 0.78125 | I40: 0.79166667 | J40: REPOS | K40: 0.79166667
F41: 0.072916667 | G41: 0.88541667 | H41: 0.88541667 | I41: 0.88541667 | J41: REPOS | K41: 0.88541667 | L41: =F44+G44+H44+I44+J44+K44 -> 35
F42: 0.10416667 | G42: 0.91666667 | H42: 0.91666667 | I42: 0.91666667 | J42: REPOS | K42: 0.91666667
F43: 0.27083333 | G43: 1.125 | H43: 1.125 | I43: 1.1041667 | J43: REPOS | K43: 1.1145833
F44: =((F43-F42)+F41-F40)*24 -> 5.75 | G44: =((G43-G42)+G41-G40)*24 -> 8 | H44: =((H43-H42)+H41-H40)*24 -> 7.5 | I44: =((I43-I42)+I41-I40)*24 -> 6.75 | J44: 0 | K44: =((K43-K42)+K41-K40)*24 -> 7
F45: LUNDI M | G45: LUNDI S | H45: MARDI | I45: MERCREDI | J45: JEUDI | K45: VENDREDI | L45: TOTAL
F46: 0 | G46: 0.76041667 | H46: 0.78125 | I46: 0.79166667 | J46: 0.79166667 | K46: REPOS
F47: 0.072916667 | G47: 0.88541667 | H47: 0.88541667 | I47: 0.88541667 | J47: 0.88541667 | K47: REPOS | L47: =F50+G50+H50+I50+J50+K50 -> 35
F48: 0.10416667 | G48: 0.91666667 | H48: 0.91666667 | I48: 0.91666667 | J48: 0.91666667 | K48: REPOS
F49: 0.27083333 | G49: 1.125 | H49: 1.125 | I49: 1.1145833 | J49: 1.1041667 | K49: REPOS
F50: =((F49-F48)+F47-F46)*24 -> 5.75 | G50: =((G49-G48)+G47-G46)*24 -> 8 | H50: =((H49-H48)+H47-H46)*24 -> 7.5 | I50: =((I49-I48)+I47-I46)*24 -> 7 | J50: =((J49-J48)+J47-J46)*24 -> 6.75 | K50: 0
E51: LUNDI M | F51: LUNDI S | G51: MARDI M | H51: MARDI S | I51: MERCREDI | J51: JEUDI | K51: VENDREDI | L51: TOTAL
E52: FERIE | F52: FERIE | G52: 0 | H52: 0.78125 | I52: 0.79166667 | J52: 0.79166667 | K52: 0.79166667
E53: FERIE | F53: FERIE | G53: 0.09375 | H53: 0.88541667 | I53: 0.88541667 | J53: 0.88541667 | K53: 0.88541667 | L53: =E56+F56+G56+H56+I56+J56+K56 -> 35
E54: FERIE | F54: FERIE | G54: 0.125 | H54: 0.91666667 | I54: 0.91666667 | J54: 0.91666667 | K54: 0.91666667
E55: FERIE | F55: FERIE | G55: 0.3125 | H55: 1.1041667 | I55: 1.1145833 | J55: 1.125 | K55: 1.1145833
E56: 0 | F56: 0 | G56: =((G55-G54)+G53-G52)*24 -> 6.75 | H56: =((H55-H54)+H53-H52)*24 -> 7 | I56: =((I55-I54)+I53-I52)*24 -> 7 | J56: =((J55-J54)+J53-J52)*24 -> 7.25 | K56: =((K55-K54)+K53-K52)*24 -> 7
E57: LUNDI M | F57: LUNDI S | G57: MARDI | H57: MERCREDI M | I57: MERCREDI S | J57: JEUDI | K57: VENDREDI | L57: TOTAL
E58: 0 | F58: FERIE | G58: FERIE | H58: 0 | I58: 0.79166667 | J58: 0.79166667 | K58: 0.79166667
E59: 0.072916667 | F59: FERIE | G59: FERIE | H59: 0.09375 | I59: 0.88541667 | J59: 0.88541667 | K59: 0.88541667 | L59: =E62+F62+G62+H62+I62+J62+K62 -> 35
E60: 0.10416667 | F60: FERIE | G60: FERIE | H60: 0.125 | I60: 0.91666667 | J60: 0.91666667 | K60: 0.91666667
E61: 0.27083333 | F61: FERIE | G61: FERIE | H61: 0.3125 | I61: 1.1354167 | J61: 1.1354167 | K61: 1.1354167
E62: =((E61-E60)+E59-E58)*24 -> 5.75 | F62: 0 | G62: 0 | H62: =((H61-H60)+H59-H58)*24 -> 6.75 | I62: =((I61-I60)+I59-I58)*24 -> 7.5 | J62: =((J61-J60)+J59-J58)*24 -> 7.5 | K62: =((K61-K60)+K59-K58)*24 -> 7.5
E63: LUNDI M | F63: LUNDI S | G63: MARDI | H63: MERCREDI | I63: JEUDI M | J63: JEUDI S | K63: VENDREDI | L63: TOTAL
E64: 0 | F64: 0.76041667 | G64: FERIE | H64: FERIE | I64: 0 | J64: 0.79166667 | K64: 0.79166667
E65: 0.072916667 | F65: 0.88541667 | G65: FERIE | H65: FERIE | I65: 0.09375 | J65: 0.88541667 | K65: 0.88541667 | L65: =E68+F68+G68+H68+I68+J68+K68 -> 35
E66: 0.10416667 | F66: 0.91666667 | G66: FERIE | H66: FERIE | I66: 0.125 | J66: 0.91666667 | K66: 0.91666667
E67: 0.27083333 | F67: 1.1354167 | G67: FERIE | H67: FERIE | I67: 0.3125 | J67: 1.1354167 | K67: 1.1041667
E68: =((E67-E66)+E65-E64)*24 -> 5.75 | F68: =((F67-F66)+F65-F64)*24 -> 8.25 | G68: 0 | H68: 0 | I68: =((I67-I66)+I65-I64)*24 -> 6.75 | J68: =((J67-J66)+J65-J64)*24 -> 7.5 | K68: =((K67-K66)+K65-K64)*24 -> 6.75
E69: LUNDI M | F69: LUNDI S | G69: MARDI | H69: MERCREDI | I69: JEUDI | J69: VENDREDI M | K69: VENDREDI S | L69: TOTAL
E70: 0 | F70: 0.76041667 | G70: 0.78125 | H70: FERIE | I70: FERIE | J70: 0 | K70: 0.79166667
E71: 0.072916667 | F71: 0.88541667 | G71: 0.88541667 | H71: FERIE | I71: FERIE | J71: 0.09375 | K71: 0.88541667 | L71: =E74+F74+G74+H74+I74+J74+K74 -> 35
E72: 0.10416667 | F72: 0.91666667 | G72: 0.91666667 | H72: FERIE | I72: FERIE | J72: 0.125 | K72: 0.91666667
E73: 0.27083333 | F73: 1.125 | G73: 1.1041667 | H73: FERIE | I73: FERIE | J73: 0.3125 | K73: 1.1354167
E74: =((E73-E72)+E71-E70)*24 -> 5.75 | F74: =((F73-F72)+F71-F70)*24 -> 8 | G74: =((G73-G72)+G71-G70)*24 -> 7 | H74: 0 | I74: 0 | J74: =((J73-J72)+J71-J70)*24 -> 6.75 | K74: =((K73-K72)+K71-K70)*24 -> 7.5
E75: LUNDI M | F75: LUNDI S | G75: MARDI | H75: MERCREDI | I75: JEUDI | J75: VENDREDI | K75: SAMEDI M | L75: TOTAL
E76: 0 | F76: 0.76041667 | G76: 0.78125 | H76: 0.79166667 | I76: FERIE | J76: FERIE | K76: 0
E77: 0.072916667 | F77: 0.88541667 | G77: 0.88541667 | H77: 0.88541667 | I77: FERIE | J77: FERIE | K77: 0.09375 | L77: =E80+F80+G80+H80+I80+J80+K80 -> 35
E78: 0.10416667 | F78: 0.91666667 | G78: 0.91666667 | H78: 0.91666667 | I78: FERIE | J78: FERIE | K78: 0.125
E79: 0.27083333 | F79: 1.125 | G79: 1.125 | H79: 1.1145833 | I79: FERIE | J79: FERIE | K79: 0.3125
E80: =((E79-E78)+E77-E76)*24 -> 5.75 | F80: =((F79-F78)+F77-F76)*24 -> 8 | G80: =((G79-G78)+G77-G76)*24 -> 7.5 | H80: =((H79-H78)+H77-H76)*24 -> 7 | I80: 0 | J80: 0 | K80: =((K79-K78)+K77-K76)*24 -> 6.75

Sheet Janvier
H1: 0.875
H2: 0.25
A4: CREATION ou MODIFICATION d'un CONTRAT de TRAVAIL | O4: CDD
O5: CDI
O6: SURCROIT
O7: INTERIM
A8: NOM | B8: =BDD!B7 -> 0 | C8: PRENOM | D8: =BDD!C7 -> 0 | E8: MATRICULE | F8: =BDD!D7 -> 0
A10: EMPLOI | B10: =BDD!E7 -> 0 | D10: SERVICE | E10: 220/603 MAGASIN | H10: CDD
H11: CDI
H12: SURCROIT
A13: TYPE DE CONTRAT | C13: CDD | D13: =BDD!F7 -> 0 | J13: 220/603 MAGASIN | K13: MAG NUIT
H14: OUI | J14: 220/703 LIVRAISON | K14: LIV NUIT
A15: MOTIF du CONTRAT | C15: Date de debut | E15: Date de fin | H15: NON
A17: REMPLACEMENT de: | D17: Motifs | E17: du | F17: au | H17: MALADIE
H18: C.PAYES
H19: RTT
H20: ABS AUT.
H21: ABS AUT(RCN).
H22: FORMATION
H23: CACES
H24: C PARENTAL
A25: HORAIRE HEBDO TRAVAILLE | D25: =A28+B28+C28+D28+E28+F28 -> 0 | H25: SURCROIT
A27: LUNDI M | B27: LUNDI S | C27: MARDI | D27: MERCREDI | E27: JEUDI | F27: VENDREDI
A28: =((A37-A36)+A35-A34)*24 -> 0 | B28: =((B37-B36)+B35-B34)*24 -> 0 | C28: =((C37-C36)+C35-C34)*24 -> 0 | D28: =((D37-D36)+D35-D34)*24 -> 0 | E28: =((E37-E36)+E35-E34)*24 -> 0 | F28: =((F37-F36)+F35-F34)*24 -> 0
A29: =(((A35-A34)+H2-A36)*24) -> 6 | B29: =(IF(SUM(B34:B37)=0,"0",(B37-$H1)))*24 -> 0 | C29: =(IF(SUM(C34:C37)=0,"0",(C37-$H1)))*24 -> 0 | D29: =(IF(SUM(D34:D37)=0,"0",(D37-$H1)))*24 -> 0 | E29: =(IF(SUM(E34:E37)=0,"0",(E37-$H1)))*24 -> 0 | F29: =(IF(SUM(F34:F37)=0,"0",(F37-$H1)))*24 -> 0 | M29: mettre 25:00 pour 01h00
M30: mettre 26:00 pour 02h00
A31: HORAIRES | M31: mettre 26:15 pour 02h15
M32: mettre 26:30 pour 02h30
A33: LUNDI M | B33: LUNDI S | C33: MARDI | D33: MERCREDI | E33: JEUDI | F33: VENDREDI | M33: mettre 27:00 pour 03h00
A39: NB HEURES DE NUIT | C39: =A29+B29+C29+D29+E29+F29 -> 6 | D39: Pause payée | F39: NON
A43: NOM | B43: =B8 -> 0 | C43: PRENOM | D43: =D8 -> 0
A45: HORAIRES | C45: Date de debut | D45: =D15 -> 0 | E45: Date de fin | F45: =F15 -> 0
A47: LUNDI M | B47: LUNDI S | C47: MARDI | D47: MERCREDI | E47: JEUDI | F47: VENDREDI
A48: =A34 -> 0 | B48: =B34 -> 0 | C48: =C34 -> 0 | D48: =D34 -> 0 | E48: =E34 -> 0 | F48: =F34 -> 0
A49: =A35 -> 0 | B49: =B35 -> 0 | C49: =C35 -> 0 | D49: =D35 -> 0 | E49: =E35 -> 0 | F49: =F35 -> 0
A50: =A36 -> 0 | B50: =B36 -> 0 | C50: =C36 -> 0 | D50: =D36 -> 0 | E50: =E36 -> 0 | F50: =F36 -> 0
A51: =A37 -> 0 | B51: =B37 -> 0 | C51: =C37 -> 0 | D51: =D37 -> 0 | E51: =E37 -> 0 | F51: =F37 -> 0

Sheet Sem01
H1: 0.875
H2: 0.25
A4: CREATION ou MODIFICATION d'un CONTRAT de TRAVAIL
A8: NOM | B8: =BDD!B7 -> 0 | C8: PRENOM | D8: =BDD!C7 -> 0 | E8: MATRICULE | F8: =BDD!D7 -> 0
A10: EMPLOI | B10: =BDD!E7 -> 0 | D10: SERVICE | E10: 220/603 MAGASIN | H10: CDD
H11: CDI
H12: INTERIM
A13: TYPE DE CONTRAT | D13: =BDD!F7 -> 0 | J13: 220/603 MAGASIN | K13: MAG NUIT
H14: OUI | J14: 220/703 LIVRAISON | K14: LIV NUIT
A15: MOTIF du CONTRAT | C15: Date de debut | E15: Date de fin | H15: NON
A17: REMPLACEMENT de: | D17: Motifs | E17: du | F17: au | H17: MALADIE
H18: C.PAYES
H19: RTT
H20: ABS AUT.
H21: ABS AUT(RCN).
H22: FORMATION
H23: CACES
H24: C PARENTAL
A25: HORAIRE HEBDO TRAVAILLE | D25: =A28+B28+C28+D28+E28+F28 -> 0 | H25: SURCROIT
A27: LUNDI M | B27: LUNDI S | C27: MARDI | D27: MERCREDI | E27: JEUDI | F27: VENDREDI
A28: =((A37-A36)+A35-A34)*24 -> 0 | B28: =((B37-B36)+B35-B34)*24 -> 0 | C28: =((C37-C36)+C35-C34)*24 -> 0 | D28: =((D37-D36)+D35-D34)*24 -> 0 | E28: =((E37-E36)+E35-E34)*24 -> 0 | F28: =((F37-F36)+F35-F34)*24 -> 0
A29: =(((A35-A34)+H2-A36)*24) -> 6 | B29: =(IF(SUM(B34:B37)=0,"0",(B37-$H1)))*24 -> 0 | C29: =(IF(SUM(C34:C37)=0,"0",(C37-$H1)))*24 -> 0 | D29: =(IF(SUM(D34:D37)=0,"0",(D37-$H1)))*24 -> 0 | E29: =(IF(SUM(E34:E37)=0,"0",(E37-$H1)))*24 -> 0 | F29: =(IF(SUM(F34:F37)=0,"0",(F37-$H1)))*24 -> 0 | M29: mettre 25:00 pour 01h00
M30: mettre 26:00 pour 02h00
A31: HORAIRES | M31: mettre 26:15 pour 02h15
M32: mettre 26:30 pour 02h30
A33: LUNDI M | B33: LUNDI S | C33: MARDI | D33: MERCREDI | E33: JEUDI | F33: VENDREDI | M33: mettre 27:00 pour 03h00
A39: NB HEURES DE NUIT | C39: =A29+B29+C29+D29+E29+F29 -> 6 | D39: Pause payée | F39: NON
A43: NOM | B43: =B8 -> 0 | C43: PRENOM | D43: =D8 -> 0
A45: HORAIRES | C45: Date de debut | D45: =D15 -> 0 | E45: Date de fin | F45: =F15 -> 0
A47: LUNDI M | B47: LUNDI S | C47: MARDI | D47: MERCREDI | E47: JEUDI | F47: VENDREDI
A48: =A34 -> 0 | B48: =B34 -> 0 | C48: =C34 -> 0 | D48: =D34 -> 0 | E48: =E34 -> 0 | F48: =F34 -> 0
A49: =A35 -> 0 | B49: =B35 -> 0 | C49: =C35 -> 0 | D49: =D35 -> 0 | E49: =E35 -> 0 | F49: =F35 -> 0
A50: =A36 -> 0 | B50: =B36 -> 0 | C50: =C36 -> 0 | D50: =D36 -> 0 | E50: =E36 -> 0 | F50: =F36 -> 0
A51: =A37 -> 0 | B51: =B37 -> 0 | C51: =C37 -> 0 | D51: =D37 -> 0 | E51: =E37 -> 0 | F51: =F37 -> 0

Sheet Sem02
H1: 0.875
H2: 0.25
A4: CREATION ou MODIFICATION d'un CONTRAT de TRAVAIL
A8: NOM | B8: =BDD!B7 -> 0 | C8: PRENOM | D8: =BDD!C7 -> 0 | E8: MATRICULE | F8: =BDD!D7 -> 0
A10: EMPLOI | B10: =BDD!E7 -> 0 | D10: SERVICE | E10: 220/603 MAGASIN | H10: CDD
H11: CDI
H12: SURCROIT
A13: TYPE DE CONTRAT | C13: CDD | D13: =BDD!F7 -> 0 | J13: 220/603 MAGASIN | K13: MAG NUIT
H14: OUI | J14: 220/703 LIVRAISON | K14: LIV NUIT
A15: MOTIF du CONTRAT | C15: Date de debut | E15: Date de fin | H15: NON
A17: REMPLACEMENT de: | D17: Motifs | E17: du | F17: au | H17: MALADIE
H18: C.PAYES
H19: RTT
H20: ABS AUT.
H21: ABS AUT(RCN).
H22: FORMATION
H23: CACES
H24: C PARENTAL
A25: HORAIRE HEBDO TRAVAILLE | D25: =A28+B28+C28+D28+E28+F28 -> 0 | H25: SURCROIT
A27: LUNDI M | B27: LUNDI S | C27: MARDI | D27: MERCREDI | E27: JEUDI | F27: VENDREDI
A28: =((A37-A36)+A35-A34)*24 -> 0 | B28: =((B37-B36)+B35-B34)*24 -> 0 | C28: =((C37-C36)+C35-C34)*24 -> 0 | D28: =((D37-D36)+D35-D34)*24 -> 0 | E28: =((E37-E36)+E35-E34)*24 -> 0 | F28: =((F37-F36)+F35-F34)*24 -> 0
A29: =(((A35-A34)+H2-A36)*24) -> 6 | B29: =(IF(SUM(B34:B37)=0,"0",(B37-$H1)))*24 -> 0 | C29: =(IF(SUM(C34:C37)=0,"0",(C37-$H1)))*24 -> 0 | D29: =(IF(SUM(D34:D37)=0,"0",(D37-$H1)))*24 -> 0 | E29: =(IF(SUM(E34:E37)=0,"0",(E37-$H1)))*24 -> 0 | F29: =(IF(SUM(F34:F37)=0,"0",(F37-$H1)))*24 -> 0 | M29: mettre 25:00 pour 01h00
M30: mettre 26:00 pour 02h00
A31: HORAIRES | M31: mettre 26:15 pour 02h15
M32: mettre 26:30 pour 02h30
A33: LUNDI M | B33: LUNDI S | C33: MARDI | D33: MERCREDI | E33: JEUDI | F33: VENDREDI | M33: mettre 27:00 pour 03h00
A39: NB HEURES DE NUIT | C39: =A29+B29+C29+D29+E29+F29 -> 6 | D39: Pause payée | F39: NON
A43: NOM | B43: =B8 -> 0 | C43: PRENOM | D43: =D8 -> 0
A45: HORAIRES | C45: Date de debut | D45: =D15 -> 0 | E45: Date de fin | F45: =F15 -> 0
A47: LUNDI M | B47: LUNDI S | C47: MARDI | D47: MERCREDI | E47: JEUDI | F47: VENDREDI
A48: =A34 -> 0 | B48: =B34 -> 0 | C48: =C34 -> 0 | D48: =D34 -> 0 | E48: =E34 -> 0 | F48: =F34 -> 0
A49: =A35 -> 0 | B49: =B35 -> 0 | C49: =C35 -> 0 | D49: =D35 -> 0 | E49: =E35 -> 0 | F49: =F35 -> 0
A50: =A36 -> 0 | B50: =B36 -> 0 | C50: =C36 -> 0 | D50: =D36 -> 0 | E50: =E36 -> 0 | F50: =F36 -> 0
A51: =A37 -> 0 | B51: =B37 -> 0 | C51: =C37 -> 0 | D51: =D37 -> 0 | E51: =E37 -> 0 | F51: =F37 -> 0

Sheet Sem03
H1: 0.875
H2: 0.25
A4: CREATION ou MODIFICATION d'un CONTRAT de TRAVAIL
A8: NOM | B8: =BDD!B7 -> 0 | C8: PRENOM | D8: =BDD!C7 -> 0 | E8: MATRICULE | F8: =BDD!D7 -> 0
A10: EMPLOI | B10: =BDD!E7 -> 0 | D10: SERVICE | E10: 220/603 MAGASIN | H10: CDD
H11: CDI
H12: SURCROIT
A13: TYPE DE CONTRAT | C13: CDD | D13: =BDD!F7 -> 0 | J13: 220/603 MAGASIN | K13: MAG NUIT
H14: OUI | J14: 220/703 LIVRAISON | K14: LIV NUIT
A15: MOTIF du CONTRAT | C15: Date de debut | E15: Date de fin | H15: NON
A17: REMPLACEMENT de: | D17: Motifs | E17: du | F17: au | H17: MALADIE
H18: C.PAYES
H19: RTT
H20: ABS AUT.
H21: ABS AUT(RCN).
H22: FORMATION
H23: CACES
H24: C PARENTAL
A25: HORAIRE HEBDO TRAVAILLE | D25: =A28+B28+C28+D28+E28+F28 -> 0 | H25: SURCROIT
A27: LUNDI M | B27: LUNDI S | C27: MARDI | D27: MERCREDI | E27: JEUDI | F27: VENDREDI
A28: =((A37-A36)+A35-A34)*24 -> 0 | B28: =((B37-B36)+B35-B34)*24 -> 0 | C28: =((C37-C36)+C35-C34)*24 -> 0 | D28: =((D37-D36)+D35-D34)*24 -> 0 | E28: =((E37-E36)+E35-E34)*24 -> 0 | F28: =((F37-F36)+F35-F34)*24 -> 0
A29: =(((A35-A34)+H2-A36)*24) -> 6 | B29: =(IF(SUM(B34:B37)=0,"0",(B37-$H1)))*24 -> 0 | C29: =(IF(SUM(C34:C37)=0,"0",(C37-$H1)))*24 -> 0 | D29: =(IF(SUM(D34:D37)=0,"0",(D37-$H1)))*24 -> 0 | E29: =(IF(SUM(E34:E37)=0,"0",(E37-$H1)))*24 -> 0 | F29: =(IF(SUM(F34:F37)=0,"0",(F37-$H1)))*24 -> 0 | M29: mettre 25:00 pour 01h00
M30: mettre 26:00 pour 02h00
A31: HORAIRES | M31: mettre 26:15 pour 02h15
M32: mettre 26:30 pour 02h30
A33: LUNDI M | B33: LUNDI S | C33: MARDI | D33: MERCREDI | E33: JEUDI | F33: VENDREDI | M33: mettre 27:00 pour 03h00
A39: NB HEURES DE NUIT | C39: =A29+B29+C29+D29+E29+F29 -> 6 | D39: Pause payée | F39: NON
A43: NOM | B43: =B8 -> 0 | C43: PRENOM | D43: =D8 -> 0
A45: HORAIRES | C45: Date de debut | D45: =D15 -> 0 | E45: Date de fin | F45: =F15 -> 0
A47: LUNDI M | B47: LUNDI S | C47: MARDI | D47: MERCREDI | E47: JEUDI | F47: VENDREDI
A48: =A34 -> 0 | B48: =B34 -> 0 | C48: =C34 -> 0 | D48: =D34 -> 0 | E48: =E34 -> 0 | F48: =F34 -> 0
A49: =A35 -> 0 | B49: =B35 -> 0 | C49: =C35 -> 0 | D49: =D35 -> 0 | E49: =E35 -> 0 | F49: =F35 -> 0
A50: =A36 -> 0 | B50: =B36 -> 0 | C50: =C36 -> 0 | D50: =D36 -> 0 | E50: =E36 -> 0 | F50: =F36 -> 0
A51: =A37 -> 0 | B51: =B37 -> 0 | C51: =C37 -> 0 | D51: =D37 -> 0 | E51: =E37 -> 0 | F51: =F37 -> 0

Sheet Sem04
H1: 0.875
H2: 0.25
A4: CREATION ou MODIFICATION d'un CONTRAT de TRAVAIL
A8: NOM | B8: =BDD!B7 -> 0 | C8: PRENOM | D8: =BDD!C7 -> 0 | E8: MATRICULE | F8: =BDD!D7 -> 0
A10: EMPLOI | B10: =BDD!E7 -> 0 | D10: SERVICE | E10: 220/603 MAGASIN | H10: CDD
H11: CDI
H12: SURCROIT
A13: TYPE DE CONTRAT | C13: CDD | D13: =BDD!F7 -> 0 | J13: 220/603 MAGASIN | K13: MAG NUIT
H14: OUI | J14: 220/703 LIVRAISON | K14: LIV NUIT
A15: MOTIF du CONTRAT | C15: Date de debut | E15: Date de fin | H15: NON
A17: REMPLACEMENT de: | D17: Motifs | E17: du | F17: au | H17: MALADIE
H18: C.PAYES
H19: RTT
H20: ABS AUT.
H21: ABS AUT(RCN).
H22: FORMATION
H23: CACES
H24: C PARENTAL
A25: HORAIRE HEBDO TRAVAILLE | D25: =A28+B28+C28+D28+E28+F28 -> 0 | H25: SURCROIT
A27: LUNDI M | B27: LUNDI S | C27: MARDI | D27: MERCREDI | E27: JEUDI | F27: VENDREDI
A28: =((A37-A36)+A35-A34)*24 -> 0 | B28: =((B37-B36)+B35-B34)*24 -> 0 | C28: =((C37-C36)+C35-C34)*24 -> 0 | D28: =((D37-D36)+D35-D34)*24 -> 0 | E28: =((E37-E36)+E35-E34)*24 -> 0 | F28: =((F37-F36)+F35-F34)*24 -> 0
A29: =(((A35-A34)+H2-A36)*24) -> 6 | B29: =(IF(SUM(B34:B37)=0,"0",(B37-$H1)))*24 -> 0 | C29: =(IF(SUM(C34:C37)=0,"0",(C37-$H1)))*24 -> 0 | D29: =(IF(SUM(D34:D37)=0,"0",(D37-$H1)))*24 -> 0 | E29: =(IF(SUM(E34:E37)=0,"0",(E37-$H1)))*24 -> 0 | F29: =(IF(SUM(F34:F37)=0,"0",(F37-$H1)))*24 -> 0 | M29: mettre 25:00 pour 01h00
M30: mettre 26:00 pour 02h00
A31: HORAIRES | M31: mettre 26:15 pour 02h15
M32: mettre 26:30 pour 02h30
A33: LUNDI M | B33: LUNDI S | C33: MARDI | D33: MERCREDI | E33: JEUDI | F33: VENDREDI | M33: mettre 27:00 pour 03h00
A39: NB HEURES DE NUIT | C39: =A29+B29+C29+D29+E29+F29 -> 6 | D39: Pause payée | F39: NON
A43: NOM | B43: =B8 -> 0 | C43: PRENOM | D43: =D8 -> 0
A45: HORAIRES | C45: Date de debut | D45: =D15 -> 0 | E45: Date de fin | F45: =F15 -> 0
A47: LUNDI M | B47: LUNDI S | C47: MARDI | D47: MERCREDI | E47: JEUDI | F47: VENDREDI
A48: =A34 -> 0 | B48: =B34 -> 0 | C48: =C34 -> 0 | D48: =D34 -> 0 | E48: =E34 -> 0 | F48: =F34 -> 0
A49: =A35 -> 0 | B49: =B35 -> 0 | C49: =C35 -> 0 | D49: =D35 -> 0 | E49: =E35 -> 0 | F49: =F35 -> 0
A50: =A36 -> 0 | B50: =B36 -> 0 | C50: =C36 -> 0 | D50: =D36 -> 0 | E50: =E36 -> 0 | F50: =F36 -> 0
A51: =A37 -> 0 | B51: =B37 -> 0 | C51: =C37 -> 0 | D51: =D37 -> 0 | E51: =E37 -> 0 | F51: =F37 -> 0

Sheet Fevrier
H1: 0.875
H2: 0.25
A4: CREATION ou MODIFICATION d'un CONTRAT de TRAVAIL
A8: NOM | B8: =BDD!B7 -> 0 | C8: PRENOM | D8: =BDD!C7 -> 0 | E8: MATRICULE | F8: =BDD!D7 -> 0
A10: EMPLOI | B10: =BDD!E7 -> 0 | D10: SERVICE | E10: 220/603 MAGASIN | H10: CDD
H11: CDI
H12: SURCROIT
A13: TYPE DE CONTRAT | C13: CDD | D13: =BDD!F7 -> 0 | J13: 220/603 MAGASIN | K13: MAG NUIT
H14: OUI | J14: 220/703 LIVRAISON | K14: LIV NUIT
A15: MOTIF du CONTRAT | C15: Date de debut | E15: Date de fin | H15: NON
A17: REMPLACEMENT de: | D17: Motifs | E17: du | F17: au | H17: MALADIE
H18: C.PAYES
H19: RTT
H20: ABS AUT.
H21: ABS AUT(RCN).
H22: FORMATION
H23: CACES
H24: C PARENTAL
A25: HORAIRE HEBDO TRAVAILLE | D25: =A28+B28+C28+D28+E28+F28 -> 0 | H25: SURCROIT
A27: LUNDI M | B27: LUNDI S | C27: MARDI | D27: MERCREDI | E27: JEUDI | F27: VENDREDI
A28: =((A37-A36)+A35-A34)*24 -> 0 | B28: =((B37-B36)+B35-B34)*24 -> 0 | C28: =((C37-C36)+C35-C34)*24 -> 0 | D28: =((D37-D36)+D35-D34)*24 -> 0 | E28: =((E37-E36)+E35-E34)*24 -> 0 | F28: =((F37-F36)+F35-F34)*24 -> 0
A29: =(((A35-A34)+H2-A36)*24) -> 6 | B29: =(IF(SUM(B34:B37)=0,"0",(B37-$H1)))*24 -> 0 | C29: =(IF(SUM(C34:C37)=0,"0",(C37-$H1)))*24 -> 0 | D29: =(IF(SUM(D34:D37)=0,"0",(D37-$H1)))*24 -> 0 | E29: =(IF(SUM(E34:E37)=0,"0",(E37-$H1)))*24 -> 0 | F29: =(IF(SUM(F34:F37)=0,"0",(F37-$H1)))*24 -> 0 | M29: mettre 25:00 pour 01h00
M30: mettre 26:00 pour 02h00
A31: HORAIRES | M31: mettre 26:15 pour 02h15
M32: mettre 26:30 pour 02h30
A33: LUNDI M | B33: LUNDI S | C33: MARDI | D33: MERCREDI | E33: JEUDI | F33: VENDREDI | M33: mettre 27:00 pour 03h00
A39: NB HEURES DE NUIT | C39: =A29+B29+C29+D29+E29+F29 -> 6 | D39: Pause payée | F39: NON
A43: NOM | B43: =B8 -> 0 | C43: PRENOM | D43: =D8 -> 0
A45: HORAIRES | C45: Date de debut | D45: =D15 -> 0 | E45: Date de fin | F45: =F15 -> 0
A47: LUNDI M | B47: LUNDI S | C47: MARDI | D47: MERCREDI | E47: JEUDI | F47: VENDREDI
A48: =A34 -> 0 | B48: =B34 -> 0 | C48: =C34 -> 0 | D48: =D34 -> 0 | E48: =E34 -> 0 | F48: =F34 -> 0
A49: =A35 -> 0 | B49: =B35 -> 0 | C49: =C35 -> 0 | D49: =D35 -> 0 | E49: =E35 -> 0 | F49: =F35 -> 0
A50: =A36 -> 0 | B50: =B36 -> 0 | C50: =C36 -> 0 | D50: =D36 -> 0 | E50: =E36 -> 0 | F50: =F36 -> 0
A51: =A37 -> 0 | B51: =B37 -> 0 | C51: =C37 -> 0 | D51: =D37 -> 0 | E51: =E37 -> 0 | F51: =F37 -> 0

Sheet Sem05
H1: 0.875
H2: 0.25
A4: CREATION ou MODIFICATION d'un CONTRAT de TRAVAIL
A8: NOM | B8: =BDD!B7 -> 0 | C8: PRENOM | D8: =BDD!C7 -> 0 | E8: MATRICULE | F8: =BDD!D7 -> 0
A10: EMPLOI | B10: =BDD!E7 -> 0 | D10: SERVICE | E10: 220/603 MAGASIN | H10: CDD
H11: CDI
H12: SURCROIT
A13: TYPE DE CONTRAT | C13: CDD | D13: =BDD!F7 -> 0 | J13: 220/603 MAGASIN | K13: MAG NUIT
H14: OUI | J14: 220/703 LIVRAISON | K14: LIV NUIT
A15: MOTIF du CONTRAT | C15: Date de debut | E15: Date de fin | H15: NON
A17: REMPLACEMENT de: | D17: Motifs | E17: du | F17: au | H17: MALADIE
H18: C.PAYES
H19: RTT
H20: ABS AUT.
H21: ABS AUT(RCN).
H22: FORMATION
H23: CACES
H24: C PARENTAL
A25: HORAIRE HEBDO TRAVAILLE | D25: =A28+B28+C28+D28+E28+F28 -> 0 | H25: SURCROIT
A27: LUNDI M | B27: LUNDI S | C27: MARDI | D27: MERCREDI | E27: JEUDI | F27: VENDREDI
A28: =((A37-A36)+A35-A34)*24 -> 0 | B28: =((B37-B36)+B35-B34)*24 -> 0 | C28: =((C37-C36)+C35-C34)*24 -> 0 | D28: =((D37-D36)+D35-D34)*24 -> 0 | E28: =((E37-E36)+E35-E34)*24 -> 0 | F28: =((F37-F36)+F35-F34)*24 -> 0
A29: =(((A35-A34)+H2-A36)*24) -> 6 | B29: =(IF(SUM(B34:B37)=0,"0",(B37-$H1)))*24 -> 0 | C29: =(IF(SUM(C34:C37)=0,"0",(C37-$H1)))*24 -> 0 | D29: =(IF(SUM(D34:D37)=0,"0",(D37-$H1)))*24 -> 0 | E29: =(IF(SUM(E34:E37)=0,"0",(E37-$H1)))*24 -> 0 | F29: =(IF(SUM(F34:F37)=0,"0",(F37-$H1)))*24 -> 0 | M29: mettre 25:00 pour 01h00
M30: mettre 26:00 pour 02h00
A31: HORAIRES | M31: mettre 26:15 pour 02h15
M32: mettre 26:30 pour 02h30
A33: LUNDI M | B33: LUNDI S | C33: MARDI | D33: MERCREDI | E33: JEUDI | F33: VENDREDI | M33: mettre 27:00 pour 03h00
A39: NB HEURES DE NUIT | C39: =A29+B29+C29+D29+E29+F29 -> 6 | D39: Pause payée | F39: NON
A43: NOM | B43: =B8 -> 0 | C43: PRENOM | D43: =D8 -> 0
A45: HORAIRES | C45: Date de debut | D45: =D15 -> 0 | E45: Date de fin | F45: =F15 -> 0
A47: LUNDI M | B47: LUNDI S | C47: MARDI | D47: MERCREDI | E47: JEUDI | F47: VENDREDI
A48: =A34 -> 0 | B48: =B34 -> 0 | C48: =C34 -> 0 | D48: =D34 -> 0 | E48: =E34 -> 0 | F48: =F34 -> 0
A49: =A35 -> 0 | B49: =B35 -> 0 | C49: =C35 -> 0 | D49: =D35 -> 0 | E49: =E35 -> 0 | F49: =F35 -> 0
A50: =A36 -> 0 | B50: =B36 -> 0 | C50: =C36 -> 0 | D50: =D36 -> 0 | E50: =E36 -> 0 | F50: =F36 -> 0
A51: =A37 -> 0 | B51: =B37 -> 0 | C51: =C37 -> 0 | D51: =D37 -> 0 | E51: =E37 -> 0 | F51: =F37 -> 0

Sheet Sem06
H1: 0.875
H2: 0.25
A4: CREATION ou MODIFICATION d'un CONTRAT de TRAVAIL
A8: NOM | B8: =BDD!B7 -> 0 | C8: PRENOM | D8: =BDD!C7 -> 0 | E8: MATRICULE | F8: =BDD!D7 -> 0
A10: EMPLOI | B10: =BDD!E7 -> 0 | D10: SERVICE | E10: 220/603 MAGASIN | H10: CDD
H11: CDI
H12: SURCROIT
A13: TYPE DE CONTRAT | C13: CDD | D13: =BDD!F7 -> 0 | J13: 220/603 MAGASIN | K13: MAG NUIT
H14: OUI | J14: 220/703 LIVRAISON | K14: LIV NUIT
A15: MOTIF du CONTRAT | C15: Date de debut | E15: Date de fin | H15: NON
A17: REMPLACEMENT de: | D17: Motifs | E17: du | F17: au | H17: MALADIE
H18: C.PAYES
H19: RTT
H20: ABS AUT.
H21: ABS AUT(RCN).
H22: FORMATION
H23: CACES
H24: C PARENTAL
A25: HORAIRE HEBDO TRAVAILLE | D25: =A28+B28+C28+D28+E28+F28 -> 0 | H25: SURCROIT
A27: LUNDI M | B27: LUNDI S | C27: MARDI | D27: MERCREDI | E27: JEUDI | F27: VENDREDI
A28: =((A37-A36)+A35-A34)*24 -> 0 | B28: =((B37-B36)+B35-B34)*24 -> 0 | C28: =((C37-C36)+C35-C34)*24 -> 0 | D28: =((D37-D36)+D35-D34)*24 -> 0 | E28: =((E37-E36)+E35-E34)*24 -> 0 | F28: =((F37-F36)+F35-F34)*24 -> 0
A29: =(((A35-A34)+H2-A36)*24) -> 6 | B29: =(IF(SUM(B34:B37)=0,"0",(B37-$H1)))*24 -> 0 | C29: =(IF(SUM(C34:C37)=0,"0",(C37-$H1)))*24 -> 0 | D29: =(IF(SUM(D34:D37)=0,"0",(D37-$H1)))*24 -> 0 | E29: =(IF(SUM(E34:E37)=0,"0",(E37-$H1)))*24 -> 0 | F29: =(IF(SUM(F34:F37)=0,"0",(F37-$H1)))*24 -> 0 | M29: mettre 25:00 pour 01h00
M30: mettre 26:00 pour 02h00
A31: HORAIRES | M31: mettre 26:15 pour 02h15
M32: mettre 26:30 pour 02h30
A33: LUNDI M | B33: LUNDI S | C33: MARDI | D33: MERCREDI | E33: JEUDI | F33: VENDREDI | M33: mettre 27:00 pour 03h00
A39: NB HEURES DE NUIT | C39: =A29+B29+C29+D29+E29+F29 -> 6 | D39: Pause payée | F39: NON
A43: NOM | B43: =B8 -> 0 | C43: PRENOM | D43: =D8 -> 0
A45: HORAIRES | C45: Date de debut | D45: =D15 -> 0 | E45: Date de fin | F45: =F15 -> 0
A47: LUNDI M | B47: LUNDI S | C47: MARDI | D47: MERCREDI | E47: JEUDI | F47: VENDREDI
A48: =A34 -> 0 | B48: =B34 -> 0 | C48: =C34 -> 0 | D48: =D34 -> 0 | E48: =E34 -> 0 | F48: =F34 -> 0
A49: =A35 -> 0 | B49: =B35 -> 0 | C49: =C35 -> 0 | D49: =D35 -> 0 | E49: =E35 -> 0 | F49: =F35 -> 0
A50: =A36 -> 0 | B50: =B36 -> 0 | C50: =C36 -> 0 | D50: =D36 -> 0 | E50: =E36 -> 0 | F50: =F36 -> 0
A51: =A37 -> 0 | B51: =B37 -> 0 | C51: =C37 -> 0 | D51: =D37 -> 0 | E51: =E37 -> 0 | F51: =F37 -> 0

Sheet Sem07
H1: 0.875
H2: 0.25
A4: CREATION ou MODIFICATION d'un CONTRAT de TRAVAIL
A8: NOM | B8: =BDD!B7 -> 0 | C8: PRENOM | D8: =BDD!C7 -> 0 | E8: MATRICULE | F8: =BDD!D7 -> 0
A10: EMPLOI | B10: =BDD!E7 -> 0 | D10: SERVICE | E10: 220/603 MAGASIN | H10: CDD
H11: CDI
H12: SURCROIT
A13: TYPE DE CONTRAT | C13: CDD | D13: =BDD!F7 -> 0 | J13: 220/603 MAGASIN | K13: MAG NUIT
H14: OUI | J14: 220/703 LIVRAISON | K14: LIV NUIT
A15: MOTIF du CONTRAT | C15: Date de debut | E15: Date de fin | H15: NON
A17: REMPLACEMENT de: | D17: Motifs | E17: du | F17: au | H17: MALADIE
H18: C.PAYES
H19: RTT
H20: ABS AUT.
H21: ABS AUT(RCN).
H22: FORMATION
H23: CACES
H24: C PARENTAL
A25: HORAIRE HEBDO TRAVAILLE | D25: =A28+B28+C28+D28+E28+F28 -> 0 | H25: SURCROIT
A27: LUNDI M | B27: LUNDI S | C27: MARDI | D27: MERCREDI | E27: JEUDI | F27: VENDREDI
A28: =((A37-A36)+A35-A34)*24 -> 0 | B28: =((B37-B36)+B35-B34)*24 -> 0 | C28: =((C37-C36)+C35-C34)*24 -> 0 | D28: =((D37-D36)+D35-D34)*24 -> 0 | E28: =((E37-E36)+E35-E34)*24 -> 0 | F28: =((F37-F36)+F35-F34)*24 -> 0
A29: =(((A35-A34)+H2-A36)*24) -> 6 | B29: =(IF(SUM(B34:B37)=0,"0",(B37-$H1)))*24 -> 0 | C29: =(IF(SUM(C34:C37)=0,"0",(C37-$H1)))*24 -> 0 | D29: =(IF(SUM(D34:D37)=0,"0",(D37-$H1)))*24 -> 0 | E29: =(IF(SUM(E34:E37)=0,"0",(E37-$H1)))*24 -> 0 | F29: =(IF(SUM(F34:F37)=0,"0",(F37-$H1)))*24 -> 0 | M29: mettre 25:00 pour 01h00
M30: mettre 26:00 pour 02h00
A31: HORAIRES | M31: mettre 26:15 pour 02h15
M32: mettre 26:30 pour 02h30
A33: LUNDI M | B33: LUNDI S | C33: MARDI | D33: MERCREDI | E33: JEUDI | F33: VENDREDI | M33: mettre 27:00 pour 03h00
A39: NB HEURES DE NUIT | C39: =A29+B29+C29+D29+E29+F29 -> 6 | D39: Pause payée | F39: NON
A43: NOM | B43: =B8 -> 0 | C43: PRENOM | D43: =D8 -> 0
A45: HORAIRES | C45: Date de debut | D45: =D15 -> 0 | E45: Date de fin | F45: =F15 -> 0
A47: LUNDI M | B47: LUNDI S | C47: MARDI | D47: MERCREDI | E47: JEUDI | F47: VENDREDI
A48: =A34 -> 0 | B48: =B34 -> 0 | C48: =C34 -> 0 | D48: =D34 -> 0 | E48: =E34 -> 0 | F48: =F34 -> 0
A49: =A35 -> 0 | B49: =B35 -> 0 | C49: =C35 -> 0 | D49: =D35 -> 0 | E49: =E35 -> 0 | F49: =F35 -> 0
A50: =A36 -> 0 | B50: =B36 -> 0 | C50: =C36 -> 0 | D50: =D36 -> 0 | E50: =E36 -> 0 | F50: =F36 -> 0
A51: =A37 -> 0 | B51: =B37 -> 0 | C51: =C37 -> 0 | D51: =D37 -> 0 | E51: =E37 -> 0 | F51: =F37 -> 0

Sheet Sem08
H1: 0.875
H2: 0.25
A4: CREATION ou MODIFICATION d'un CONTRAT de TRAVAIL
A8: NOM | B8: =BDD!B7 -> 0 | C8: PRENOM | D8: =BDD!C7 -> 0 | E8: MATRICULE | F8: =BDD!D7 -> 0
A10: EMPLOI | B10: =BDD!E7 -> 0 | D10: SERVICE | E10: 220/603 MAGASIN | H10: CDD
H11: CDI
H12: SURCROIT
A13: TYPE DE CONTRAT | C13: CDD | D13: =BDD!F7 -> 0 | J13: 220/603 MAGASIN | K13: MAG NUIT
H14: OUI | J14: 220/703 LIVRAISON | K14: LIV NUIT
A15: MOTIF du CONTRAT | C15: Date de debut | E15: Date de fin | H15: NON
A17: REMPLACEMENT de: | D17: Motifs | E17: du | F17: au | H17: MALADIE
H18: C.PAYES
H19: RTT
H20: ABS AUT.
H21: ABS AUT(RCN).
H22: FORMATION
H23: CACES
H24: C PARENTAL
A25: HORAIRE HEBDO TRAVAILLE | D25: =A28+B28+C28+D28+E28+F28 -> 0 | H25: SURCROIT
A27: LUNDI M | B27: LUNDI S | C27: MARDI | D27: MERCREDI | E27: JEUDI | F27: VENDREDI
A28: =((A37-A36)+A35-A34)*24 -> 0 | B28: =((B37-B36)+B35-B34)*24 -> 0 | C28: =((C37-C36)+C35-C34)*24 -> 0 | D28: =((D37-D36)+D35-D34)*24 -> 0 | E28: =((E37-E36)+E35-E34)*24 -> 0 | F28: =((F37-F36)+F35-F34)*24 -> 0
A29: =(((A35-A34)+H2-A36)*24) -> 6 | B29: =(IF(SUM(B34:B37)=0,"0",(B37-$H1)))*24 -> 0 | C29: =(IF(SUM(C34:C37)=0,"0",(C37-$H1)))*24 -> 0 | D29: =(IF(SUM(D34:D37)=0,"0",(D37-$H1)))*24 -> 0 | E29: =(IF(SUM(E34:E37)=0,"0",(E37-$H1)))*24 -> 0 | F29: =(IF(SUM(F34:F37)=0,"0",(F37-$H1)))*24 -> 0 | M29: mettre 25:00 pour 01h00
M30: mettre 26:00 pour 02h00
A31: HORAIRES | M31: mettre 26:15 pour 02h15
M32: mettre 26:30 pour 02h30
A33: LUNDI M | B33: LUNDI S | C33: MARDI | D33: MERCREDI | E33: JEUDI | F33: VENDREDI | M33: mettre 27:00 pour 03h00
A39: NB HEURES DE NUIT | C39: =A29+B29+C29+D29+E29+F29 -> 6 | D39: Pause payée | F39: NON
A43: NOM | B43: =B8 -> 0 | C43: PRENOM | D43: =D8 -> 0
A45: HORAIRES | C45: Date de debut | D45: =D15 -> 0 | E45: Date de fin | F45: =F15 -> 0
A47: LUNDI M | B47: LUNDI S | C47: MARDI | D47: MERCREDI | E47: JEUDI | F47: VENDREDI
A48: =A34 -> 0 | B48: =B34 -> 0 | C48: =C34 -> 0 | D48: =D34 -> 0 | E48: =E34 -> 0 | F48: =F34 -> 0
A49: =A35 -> 0 | B49: =B35 -> 0 | C49: =C35 -> 0 | D49: =D35 -> 0 | E49: =E35 -> 0 | F49: =F35 -> 0
A50: =A36 -> 0 | B50: =B36 -> 0 | C50: =C36 -> 0 | D50: =D36 -> 0 | E50: =E36 -> 0 | F50: =F36 -> 0
A51: =A37 -> 0 | B51: =B37 -> 0 | C51: =C37 -> 0 | D51: =D37 -> 0 | E51: =E37 -> 0 | F51: =F37 -> 0

Sheet Mars
H1: 0.875
H2: 0.25
A4: CREATION ou MODIFICATION d'un CONTRAT de TRAVAIL
A8: NOM | B8: =BDD!B7 -> 0 | C8: PRENOM | D8: =BDD!C7 -> 0 | E8: MATRICULE | F8: =BDD!D7 -> 0
A10: EMPLOI | B10: =BDD!E7 -> 0 | D10: SERVICE | E10: 220/603 MAGASIN | H10: CDD
H11: CDI
H12: SURCROIT
A13: TYPE DE CONTRAT | C13: CDD | D13: =BDD!F7 -> 0 | J13: 220/603 MAGASIN | K13: MAG NUIT
H14: OUI | J14: 220/703 LIVRAISON | K14: LIV NUIT
A15: MOTIF du CONTRAT | C15: Date de debut | E15: Date de fin | H15: NON
A17: REMPLACEMENT de: | D17: Motifs | E17: du | F17: au | H17: MALADIE
H18: C.PAYES
H19: RTT
H20: ABS AUT.
H21: ABS AUT(RCN).
H22: FORMATION
H23: CACES
H24: C PARENTAL
A25: HORAIRE HEBDO TRAVAILLE | D25: =A28+B28+C28+D28+E28+F28 -> 0 | H25: SURCROIT
A27: LUNDI M | B27: LUNDI S | C27: MARDI | D27: MERCREDI | E27: JEUDI | F27: VENDREDI
A28: =((A37-A36)+A35-A34)*24 -> 0 | B28: =((B37-B36)+B35-B34)*24 -> 0 | C28: =((C37-C36)+C35-C34)*24 -> 0 | D28: =((D37-D36)+D35-D34)*24 -> 0 | E28: =((E37-E36)+E35-E34)*24 -> 0 | F28: =((F37-F36)+F35-F34)*24 -> 0
A29: =(((A35-A34)+H2-A36)*24) -> 6 | B29: =(IF(SUM(B34:B37)=0,"0",(B37-$H1)))*24 -> 0 | C29: =(IF(SUM(C34:C37)=0,"0",(C37-$H1)))*24 -> 0 | D29: =(IF(SUM(D34:D37)=0,"0",(D37-$H1)))*24 -> 0 | E29: =(IF(SUM(E34:E37)=0,"0",(E37-$H1)))*24 -> 0 | F29: =(IF(SUM(F34:F37)=0,"0",(F37-$H1)))*24 -> 0 | M29: mettre 25:00 pour 01h00
M30: mettre 26:00 pour 02h00
A31: HORAIRES | M31: mettre 26:15 pour 02h15
M32: mettre 26:30 pour 02h30
A33: LUNDI M | B33: LUNDI S | C33: MARDI | D33: MERCREDI | E33: JEUDI | F33: VENDREDI | M33: mettre 27:00 pour 03h00
A39: NB HEURES DE NUIT | C39: =A29+B29+C29+D29+E29+F29 -> 6 | D39: Pause payée | F39: NON
A43: NOM | B43: =B8 -> 0 | C43: PRENOM | D43: =D8 -> 0
A45: HORAIRES | C45: Date de debut | D45: =D15 -> 0 | E45: Date de fin | F45: =F15 -> 0
A47: LUNDI M | B47: LUNDI S | C47: MARDI | D47: MERCREDI | E47: JEUDI | F47: VENDREDI
A48: =A34 -> 0 | B48: =B34 -> 0 | C48: =C34 -> 0 | D48: =D34 -> 0 | E48: =E34 -> 0 | F48: =F34 -> 0
A49: =A35 -> 0 | B49: =B35 -> 0 | C49: =C35 -> 0 | D49: =D35 -> 0 | E49: =E35 -> 0 | F49: =F35 -> 0
A50: =A36 -> 0 | B50: =B36 -> 0 | C50: =C36 -> 0 | D50: =D36 -> 0 | E50: =E36 -> 0 | F50: =F36 -> 0
A51: =A37 -> 0 | B51: =B37 -> 0 | C51: =C37 -> 0 | D51: =D37 -> 0 | E51: =E37 -> 0 | F51: =F37 -> 0

Sheet Sem09
H1: 0.875
H2: 0.25
A4: CREATION ou MODIFICATION d'un CONTRAT de TRAVAIL
A8: NOM | B8: =BDD!B7 -> 0 | C8: PRENOM | D8: =BDD!C7 -> 0 | E8: MATRICULE | F8: =BDD!D7 -> 0
A10: EMPLOI | B10: =BDD!E7 -> 0 | D10: SERVICE | E10: 220/603 MAGASIN | H10: CDD
H11: CDI
H12: SURCROIT
A13: TYPE DE CONTRAT | C13: CDD | D13: =BDD!F7 -> 0 | J13: 220/603 MAGASIN | K13: MAG NUIT
H14: OUI | J14: 220/703 LIVRAISON | K14: LIV NUIT
A15: MOTIF du CONTRAT | C15: Date de debut | E15: Date de fin | H15: NON
A17: REMPLACEMENT de: | D17: Motifs | E17: du | F17: au | H17: MALADIE
H18: C.PAYES
H19: RTT
H20: ABS AUT.
H21: ABS AUT(RCN).
H22: FORMATION
H23: CACES
H24: C PARENTAL
A25: HORAIRE HEBDO TRAVAILLE | D25: =A28+B28+C28+D28+E28+F28 -> 0 | H25: SURCROIT
A27: LUNDI M | B27: LUNDI S | C27: MARDI | D27: MERCREDI | E27: JEUDI | F27: VENDREDI
A28: =((A37-A36)+A35-A34)*24 -> 0 | B28: =((B37-B36)+B35-B34)*24 -> 0 | C28: =((C37-C36)+C35-C34)*24 -> 0 | D28: =((D37-D36)+D35-D34)*24 -> 0 | E28: =((E37-E36)+E35-E34)*24 -> 0 | F28: =((F37-F36)+F35-F34)*24 -> 0
A29: =(((A35-A34)+H2-A36)*24) -> 6 | B29: =(IF(SUM(B34:B37)=0,"0",(B37-$H1)))*24 -> 0 | C29: =(IF(SUM(C34:C37)=0,"0",(C37-$H1)))*24 -> 0 | D29: =(IF(SUM(D34:D37)=0,"0",(D37-$H1)))*24 -> 0 | E29: =(IF(SUM(E34:E37)=0,"0",(E37-$H1)))*24 -> 0 | F29: =(IF(SUM(F34:F37)=0,"0",(F37-$H1)))*24 -> 0 | M29: mettre 25:00 pour 01h00
M30: mettre 26:00 pour 02h00
A31: HORAIRES | M31: mettre 26:15 pour 02h15
M32: mettre 26:30 pour 02h30
A33: LUNDI M | B33: LUNDI S | C33: MARDI | D33: MERCREDI | E33: JEUDI | F33: VENDREDI | M33: mettre 27:00 pour 03h00
A39: NB HEURES DE NUIT | C39: =A29+B29+C29+D29+E29+F29 -> 6 | D39: Pause payée | F39: NON
A43: NOM | B43: =B8 -> 0 | C43: PRENOM | D43: =D8 -> 0
A45: HORAIRES | C45: Date de debut | D45: =D15 -> 0 | E45: Date de fin | F45: =F15 -> 0
A47: LUNDI M | B47: LUNDI S | C47: MARDI | D47: MERCREDI | E47: JEUDI | F47: VENDREDI
A48: =A34 -> 0 | B48: =B34 -> 0 | C48: =C34 -> 0 | D48: =D34 -> 0 | E48: =E34 -> 0 | F48: =F34 -> 0
A49: =A35 -> 0 | B49: =B35 -> 0 | C49: =C35 -> 0 | D49: =D35 -> 0 | E49: =E35 -> 0 | F49: =F35 -> 0
A50: =A36 -> 0 | B50: =B36 -> 0 | C50: =C36 -> 0 | D50: =D36 -> 0 | E50: =E36 -> 0 | F50: =F36 -> 0
A51: =A37 -> 0 | B51: =B37 -> 0 | C51: =C37 -> 0 | D51: =D37 -> 0 | E51: =E37 -> 0 | F51: =F37 -> 0

Sheet Sem10
H1: 0.875
H2: 0.25
A4: CREATION ou MODIFICATION d'un CONTRAT de TRAVAIL
A8: NOM | B8: =BDD!B7 -> 0 | C8: PRENOM | D8: =BDD!C7 -> 0 | E8: MATRICULE | F8: =BDD!D7 -> 0
A10: EMPLOI | B10: =BDD!E7 -> 0 | D10: SERVICE | E10: 220/603 MAGASIN | H10: CDD
H11: CDI
H12: SURCROIT
A13: TYPE DE CONTRAT | C13: CDD | D13: =BDD!F7 -> 0 | J13: 220/603 MAGASIN | K13: MAG NUIT
H14: OUI | J14: 220/703 LIVRAISON | K14: LIV NUIT
A15: MOTIF du CONTRAT | C15: Date de debut | E15: Date de fin | H15: NON
A17: REMPLACEMENT de: | D17: Motifs | E17: du | F17: au | H17: MALADIE
H18: C.PAYES
H19: RTT
H20: ABS AUT.
H21: ABS AUT(RCN).
H22: FORMATION
H23: CACES
H24: C PARENTAL
A25: HORAIRE HEBDO TRAVAILLE | D25: =A28+B28+C28+D28+E28+F28 -> 0 | H25: SURCROIT
A27: LUNDI M | B27: LUNDI S | C27: MARDI | D27: MERCREDI | E27: JEUDI | F27: VENDREDI
A28: =((A37-A36)+A35-A34)*24 -> 0 | B28: =((B37-B36)+B35-B34)*24 -> 0 | C28: =((C37-C36)+C35-C34)*24 -> 0 | D28: =((D37-D36)+D35-D34)*24 -> 0 | E28: =((E37-E36)+E35-E34)*24 -> 0 | F28: =((F37-F36)+F35-F34)*24 -> 0
A29: =(((A35-A34)+H2-A36)*24) -> 6 | B29: =(IF(SUM(B34:B37)=0,"0",(B37-$H1)))*24 -> 0 | C29: =(IF(SUM(C34:C37)=0,"0",(C37-$H1)))*24 -> 0 | D29: =(IF(SUM(D34:D37)=0,"0",(D37-$H1)))*24 -> 0 | E29: =(IF(SUM(E34:E37)=0,"0",(E37-$H1)))*24 -> 0 | F29: =(IF(SUM(F34:F37)=0,"0",(F37-$H1)))*24 -> 0 | M29: mettre 25:00 pour 01h00
M30: mettre 26:00 pour 02h00
A31: HORAIRES | M31: mettre 26:15 pour 02h15
M32: mettre 26:30 pour 02h30
A33: LUNDI M | B33: LUNDI S | C33: MARDI | D33: MERCREDI | E33: JEUDI | F33: VENDREDI | M33: mettre 27:00 pour 03h00
A39: NB HEURES DE NUIT | C39: =A29+B29+C29+D29+E29+F29 -> 6 | D39: Pause payée | F39: NON
A43: NOM | B43: =B8 -> 0 | C43: PRENOM | D43: =D8 -> 0
A45: HORAIRES | C45: Date de debut | D45: =D15 -> 0 | E45: Date de fin | F45: =F15 -> 0
A47: LUNDI M | B47: LUNDI S | C47: MARDI | D47: MERCREDI | E47: JEUDI | F47: VENDREDI
A48: =A34 -> 0 | B48: =B34 -> 0 | C48: =C34 -> 0 | D48: =D34 -> 0 | E48: =E34 -> 0 | F48: =F34 -> 0
A49: =A35 -> 0 | B49: =B35 -> 0 | C49: =C35 -> 0 | D49: =D35 -> 0 | E49: =E35 -> 0 | F49: =F35 -> 0
A50: =A36 -> 0 | B50: =B36 -> 0 | C50: =C36 -> 0 | D50: =D36 -> 0 | E50: =E36 -> 0 | F50: =F36 -> 0
A51: =A37 -> 0 | B51: =B37 -> 0 | C51: =C37 -> 0 | D51: =D37 -> 0 | E51: =E37 -> 0 | F51: =F37 -> 0

Sheet Sem11
H1: 0.875
H2: 0.25
A4: CREATION ou MODIFICATION d'un CONTRAT de TRAVAIL
A8: NOM | B8: =BDD!B7 -> 0 | C8: PRENOM | D8: =BDD!C7 -> 0 | E8: MATRICULE | F8: =BDD!D7 -> 0
A10: EMPLOI | B10: =BDD!E7 -> 0 | D10: SERVICE | E10: 220/603 MAGASIN | H10: CDD
H11: CDI
H12: SURCROIT
A13: TYPE DE CONTRAT | C13: CDD | D13: =BDD!F7 -> 0 | J13: 220/603 MAGASIN | K13: MAG NUIT
H14: OUI | J14: 220/703 LIVRAISON | K14: LIV NUIT
A15: MOTIF du CONTRAT | C15: Date de debut | E15: Date de fin | H15: NON
A17: REMPLACEMENT de: | D17: Motifs | E17: du | F17: au | H17: MALADIE
H18: C.PAYES
H19: RTT
H20: ABS AUT.
H21: ABS AUT(RCN).
H22: FORMATION
H23: CACES
H24: C PARENTAL
A25: HORAIRE HEBDO TRAVAILLE | D25: =A28+B28+C28+D28+E28+F28 -> 0 | H25: SURCROIT
A27: LUNDI M | B27: LUNDI S | C27: MARDI | D27: MERCREDI | E27: JEUDI | F27: VENDREDI
A28: =((A37-A36)+A35-A34)*24 -> 0 | B28: =((B37-B36)+B35-B34)*24 -> 0 | C28: =((C37-C36)+C35-C34)*24 -> 0 | D28: =((D37-D36)+D35-D34)*24 -> 0 | E28: =((E37-E36)+E35-E34)*24 -> 0 | F28: =((F37-F36)+F35-F34)*24 -> 0
A29: =(((A35-A34)+H2-A36)*24) -> 6 | B29: =(IF(SUM(B34:B37)=0,"0",(B37-$H1)))*24 -> 0 | C29: =(IF(SUM(C34:C37)=0,"0",(C37-$H1)))*24 -> 0 | D29: =(IF(SUM(D34:D37)=0,"0",(D37-$H1)))*24 -> 0 | E29: =(IF(SUM(E34:E37)=0,"0",(E37-$H1)))*24 -> 0 | F29: =(IF(SUM(F34:F37)=0,"0",(F37-$H1)))*24 -> 0 | M29: mettre 25:00 pour 01h00
M30: mettre 26:00 pour 02h00
A31: HORAIRES | M31: mettre 26:15 pour 02h15
M32: mettre 26:30 pour 02h30
A33: LUNDI M | B33: LUNDI S | C33: MARDI | D33: MERCREDI | E33: JEUDI | F33: VENDREDI | M33: mettre 27:00 pour 03h00
A39: NB HEURES DE NUIT | C39: =A29+B29+C29+D29+E29+F29 -> 6 | D39: Pause payée | F39: NON
A43: NOM | B43: =B8 -> 0 | C43: PRENOM | D43: =D8 -> 0
A45: HORAIRES | C45: Date de debut | D45: =D15 -> 0 | E45: Date de fin | F45: =F15 -> 0
A47: LUNDI M | B47: LUNDI S | C47: MARDI | D47: MERCREDI | E47: JEUDI | F47: VENDREDI
A48: =A34 -> 0 | B48: =B34 -> 0 | C48: =C34 -> 0 | D48: =D34 -> 0 | E48: =E34 -> 0 | F48: =F34 -> 0
A49: =A35 -> 0 | B49: =B35 -> 0 | C49: =C35 -> 0 | D49: =D35 -> 0 | E49: =E35 -> 0 | F49: =F35 -> 0
A50: =A36 -> 0 | B50: =B36 -> 0 | C50: =C36 -> 0 | D50: =D36 -> 0 | E50: =E36 -> 0 | F50: =F36 -> 0
A51: =A37 -> 0 | B51: =B37 -> 0 | C51: =C37 -> 0 | D51: =D37 -> 0 | E51: =E37 -> 0 | F51: =F37 -> 0

Sheet Sem12
H1: 0.875
H2: 0.25
A4: CREATION ou MODIFICATION d'un CONTRAT de TRAVAIL
A8: NOM | B8: =BDD!B7 -> 0 | C8: PRENOM | D8: =BDD!C7 -> 0 | E8: MATRICULE | F8: =BDD!D7 -> 0
A10: EMPLOI | B10: =BDD!E7 -> 0 | D10: SERVICE | E10: 220/603 MAGASIN | H10: CDD
H11: CDI
H12: SURCROIT
A13: TYPE DE CONTRAT | C13: CDD | D13: =BDD!F7 -> 0 | J13: 220/603 MAGASIN | K13: MAG NUIT
H14: OUI | J14: 220/703 LIVRAISON | K14: LIV NUIT
A15: MOTIF du CONTRAT | C15: Date de debut | E15: Date de fin | H15: NON
A17: REMPLACEMENT de: | D17: Motifs | E17: du | F17: au | H17: MALADIE
H18: C.PAYES
H19: RTT
H20: ABS AUT.
H21: ABS AUT(RCN).
H22: FORMATION
H23: CACES
H24: C PARENTAL
A25: HORAIRE HEBDO TRAVAILLE | D25: =A28+B28+C28+D28+E28+F28 -> 0 | H25: SURCROIT
A27: LUNDI M | B27: LUNDI S | C27: MARDI | D27: MERCREDI | E27: JEUDI | F27: VENDREDI
A28: =((A37-A36)+A35-A34)*24 -> 0 | B28: =((B37-B36)+B35-B34)*24 -> 0 | C28: =((C37-C36)+C35-C34)*24 -> 0 | D28: =((D37-D36)+D35-D34)*24 -> 0 | E28: =((E37-E36)+E35-E34)*24 -> 0 | F28: =((F37-F36)+F35-F34)*24 -> 0
A29: =(((A35-A34)+H2-A36)*24) -> 6 | B29: =(IF(SUM(B34:B37)=0,"0",(B37-$H1)))*24 -> 0 | C29: =(IF(SUM(C34:C37)=0,"0",(C37-$H1)))*24 -> 0 | D29: =(IF(SUM(D34:D37)=0,"0",(D37-$H1)))*24 -> 0 | E29: =(IF(SUM(E34:E37)=0,"0",(E37-$H1)))*24 -> 0 | F29: =(IF(SUM(F34:F37)=0,"0",(F37-$H1)))*24 -> 0 | M29: mettre 25:00 pour 01h00
M30: mettre 26:00 pour 02h00
A31: HORAIRES | M31: mettre 26:15 pour 02h15
M32: mettre 26:30 pour 02h30
A33: LUNDI M | B33: LUNDI S | C33: MARDI | D33: MERCREDI | E33: JEUDI | F33: VENDREDI | M33: mettre 27:00 pour 03h00
A39: NB HEURES DE NUIT | C39: =A29+B29+C29+D29+E29+F29 -> 6 | D39: Pause payée | F39: NON
A43: NOM | B43: =B8 -> 0 | C43: PRENOM | D43: =D8 -> 0
A45: HORAIRES | C45: Date de debut | D45: =D15 -> 0 | E45: Date de fin | F45: =F15 -> 0
A47: LUNDI M | B47: LUNDI S | C47: MARDI | D47: MERCREDI | E47: JEUDI | F47: VENDREDI
A48: =A34 -> 0 | B48: =B34 -> 0 | C48: =C34 -> 0 | D48: =D34 -> 0 | E48: =E34 -> 0 | F48: =F34 -> 0
A49: =A35 -> 0 | B49: =B35 -> 0 | C49: =C35 -> 0 | D49: =D35 -> 0 | E49: =E35 -> 0 | F49: =F35 -> 0
A50: =A36 -> 0 | B50: =B36 -> 0 | C50: =C36 -> 0 | D50: =D36 -> 0 | E50: =E36 -> 0 | F50: =F36 -> 0
A51: =A37 -> 0 | B51: =B37 -> 0 | C51: =C37 -> 0 | D51: =D37 -> 0 | E51: =E37 -> 0 | F51: =F37 -> 0

Sheet Avril
H1: 0.875
H2: 0.25
A4: CREATION ou MODIFICATION d'un CONTRAT de TRAVAIL
A8: NOM | B8: =BDD!B7 -> 0 | C8: PRENOM | D8: =BDD!C7 -> 0 | E8: MATRICULE | F8: =BDD!D7 -> 0
A10: EMPLOI | B10: =BDD!E7 -> 0 | D10: SERVICE | E10: 220/603 MAGASIN | H10: CDD
H11: CDI
H12: SURCROIT
A13: TYPE DE CONTRAT | C13: CDD | D13: =BDD!F7 -> 0 | J13: 220/603 MAGASIN | K13: MAG NUIT
H14: OUI | J14: 220/703 LIVRAISON | K14: LIV NUIT
A15: MOTIF du CONTRAT | C15: Date de debut | E15: Date de fin | H15: NON
A17: REMPLACEMENT de: | D17: Motifs | E17: du | F17: au | H17: MALADIE
H18: C.PAYES
H19: RTT
H20: ABS AUT.
H21: ABS AUT(RCN).
H22: FORMATION
H23: CACES
H24: C PARENTAL
A25: HORAIRE HEBDO TRAVAILLE | D25: =A28+B28+C28+D28+E28+F28 -> 0 | H25: SURCROIT
A27: LUNDI M | B27: LUNDI S | C27: MARDI | D27: MERCREDI | E27: JEUDI | F27: VENDREDI
A28: =((A37-A36)+A35-A34)*24 -> 0 | B28: =((B37-B36)+B35-B34)*24 -> 0 | C28: =((C37-C36)+C35-C34)*24 -> 0 | D28: =((D37-D36)+D35-D34)*24 -> 0 | E28: =((E37-E36)+E35-E34)*24 -> 0 | F28: =((F37-F36)+F35-F34)*24 -> 0
A29: =(((A35-A34)+H2-A36)*24) -> 6 | B29: =(IF(SUM(B34:B37)=0,"0",(B37-$H1)))*24 -> 0 | C29: =(IF(SUM(C34:C37)=0,"0",(C37-$H1)))*24 -> 0 | D29: =(IF(SUM(D34:D37)=0,"0",(D37-$H1)))*24 -> 0 | E29: =(IF(SUM(E34:E37)=0,"0",(E37-$H1)))*24 -> 0 | F29: =(IF(SUM(F34:F37)=0,"0",(F37-$H1)))*24 -> 0 | M29: mettre 25:00 pour 01h00
M30: mettre 26:00 pour 02h00
A31: HORAIRES | M31: mettre 26:15 pour 02h15
M32: mettre 26:30 pour 02h30
A33: LUNDI M | B33: LUNDI S | C33: MARDI | D33: MERCREDI | E33: JEUDI | F33: VENDREDI | M33: mettre 27:00 pour 03h00
A39: NB HEURES DE NUIT | C39: =A29+B29+C29+D29+E29+F29 -> 6 | D39: Pause payée | F39: NON
A43: NOM | B43: =B8 -> 0 | C43: PRENOM | D43: =D8 -> 0
A45: HORAIRES | C45: Date de debut | D45: =D15 -> 0 | E45: Date de fin | F45: =F15 -> 0
A47: LUNDI M | B47: LUNDI S | C47: MARDI | D47: MERCREDI | E47: JEUDI | F47: VENDREDI
A48: =A34 -> 0 | B48: =B34 -> 0 | C48: =C34 -> 0 | D48: =D34 -> 0 | E48: =E34 -> 0 | F48: =F34 -> 0
A49: =A35 -> 0 | B49: =B35 -> 0 | C49: =C35 -> 0 | D49: =D35 -> 0 | E49: =E35 -> 0 | F49: =F35 -> 0
A50: =A36 -> 0 | B50: =B36 -> 0 | C50: =C36 -> 0 | D50: =D36 -> 0 | E50: =E36 -> 0 | F50: =F36 -> 0
A51: =A37 -> 0 | B51: =B37 -> 0 | C51: =C37 -> 0 | D51: =D37 -> 0 | E51: =E37 -> 0 | F51: =F37 -> 0

Sheet Sem13
H1: 0.875
H2: 0.25
A4: CREATION ou MODIFICATION d'un CONTRAT de TRAVAIL
A8: NOM | B8: =BDD!B7 -> 0 | C8: PRENOM | D8: =BDD!C7 -> 0 | E8: MATRICULE | F8: =BDD!D7 -> 0
A10: EMPLOI | B10: =BDD!E7 -> 0 | D10: SERVICE | E10: 220/603 MAGASIN | H10: CDD
H11: CDI
H12: SURCROIT
A13: TYPE DE CONTRAT | C13: CDD | D13: =BDD!F7 -> 0 | J13: 220/603 MAGASIN | K13: MAG NUIT
H14: OUI | J14: 220/703 LIVRAISON | K14: LIV NUIT
A15: MOTIF du CONTRAT | C15: Date de debut | E15: Date de fin | H15: NON
A17: REMPLACEMENT de: | D17: Motifs | E17: du | F17: au | H17: MALADIE
H18: C.PAYES
H19: RTT
H20: ABS AUT.
H21: ABS AUT(RCN).
H22: FORMATION
H23: CACES
H24: C PARENTAL
A25: HORAIRE HEBDO TRAVAILLE | D25: =A28+B28+C28+D28+E28+F28 -> 0 | H25: SURCROIT
A27: LUNDI M | B27: LUNDI S | C27: MARDI | D27: MERCREDI | E27: JEUDI | F27: VENDREDI
A28: =((A37-A36)+A35-A34)*24 -> 0 | B28: =((B37-B36)+B35-B34)*24 -> 0 | C28: =((C37-C36)+C35-C34)*24 -> 0 | D28: =((D37-D36)+D35-D34)*24 -> 0 | E28: =((E37-E36)+E35-E34)*24 -> 0 | F28: =((F37-F36)+F35-F34)*24 -> 0
A29: =(((A35-A34)+H2-A36)*24) -> 6 | B29: =(IF(SUM(B34:B37)=0,"0",(B37-$H1)))*24 -> 0 | C29: =(IF(SUM(C34:C37)=0,"0",(C37-$H1)))*24 -> 0 | D29: =(IF(SUM(D34:D37)=0,"0",(D37-$H1)))*24 -> 0 | E29: =(IF(SUM(E34:E37)=0,"0",(E37-$H1)))*24 -> 0 | F29: =(IF(SUM(F34:F37)=0,"0",(F37-$H1)))*24 -> 0 | M29: mettre 25:00 pour 01h00
M30: mettre 26:00 pour 02h00
A31: HORAIRES | M31: mettre 26:15 pour 02h15
M32: mettre 26:30 pour 02h30
A33: LUNDI M | B33: LUNDI S | C33: MARDI | D33: MERCREDI | E33: JEUDI | F33: VENDREDI | M33: mettre 27:00 pour 03h00
A39: NB HEURES DE NUIT | C39: =A29+B29+C29+D29+E29+F29 -> 6 | D39: Pause payée | F39: NON
A43: NOM | B43: =B8 -> 0 | C43: PRENOM | D43: =D8 -> 0
A45: HORAIRES | C45: Date de debut | D45: =D15 -> 0 | E45: Date de fin | F45: =F15 -> 0
A47: LUNDI M | B47: LUNDI S | C47: MARDI | D47: MERCREDI | E47: JEUDI | F47: VENDREDI
A48: =A34 -> 0 | B48: =B34 -> 0 | C48: =C34 -> 0 | D48: =D34 -> 0 | E48: =E34 -> 0 | F48: =F34 -> 0
A49: =A35 -> 0 | B49: =B35 -> 0 | C49: =C35 -> 0 | D49: =D35 -> 0 | E49: =E35 -> 0 | F49: =F35 -> 0
A50: =A36 -> 0 | B50: =B36 -> 0 | C50: =C36 -> 0 | D50: =D36 -> 0 | E50: =E36 -> 0 | F50: =F36 -> 0
A51: =A37 -> 0 | B51: =B37 -> 0 | C51: =C37 -> 0 | D51: =D37 -> 0 | E51: =E37 -> 0 | F51: =F37 -> 0

Sheet Sem14
H1: 0.875
H2: 0.25
A4: CREATION ou MODIFICATION d'un CONTRAT de TRAVAIL
A8: NOM | B8: =BDD!B7 -> 0 | C8: PRENOM | D8: =BDD!C7 -> 0 | E8: MATRICULE | F8: =BDD!D7 -> 0
A10: EMPLOI | B10: =BDD!E7 -> 0 | D10: SERVICE | E10: 220/603 MAGASIN | H10: CDD
H11: CDI
H12: SURCROIT
A13: TYPE DE CONTRAT | C13: CDD | D13: =BDD!F7 -> 0 | J13: 220/603 MAGASIN | K13: MAG NUIT
H14: OUI | J14: 220/703 LIVRAISON | K14: LIV NUIT
A15: MOTIF du CONTRAT | C15: Date de debut | E15: Date de fin | H15: NON
A17: REMPLACEMENT de: | D17: Motifs | E17: du | F17: au | H17: MALADIE
H18: C.PAYES
H19: RTT
H20: ABS AUT.
H21: ABS AUT(RCN).
H22: FORMATION
H23: CACES
H24: C PARENTAL
A25: HORAIRE HEBDO TRAVAILLE | D25: =A28+B28+C28+D28+E28+F28 -> 0 | H25: SURCROIT
A27: LUNDI M | B27: LUNDI S | C27: MARDI | D27: MERCREDI | E27: JEUDI | F27: VENDREDI
A28: =((A37-A36)+A35-A34)*24 -> 0 | B28: =((B37-B36)+B35-B34)*24 -> 0 | C28: =((C37-C36)+C35-C34)*24 -> 0 | D28: =((D37-D36)+D35-D34)*24 -> 0 | E28: =((E37-E36)+E35-E34)*24 -> 0 | F28: =((F37-F36)+F35-F34)*24 -> 0
A29: =(((A35-A34)+H2-A36)*24) -> 6 | B29: =(IF(SUM(B34:B37)=0,"0",(B37-$H1)))*24 -> 0 | C29: =(IF(SUM(C34:C37)=0,"0",(C37-$H1)))*24 -> 0 | D29: =(IF(SUM(D34:D37)=0,"0",(D37-$H1)))*24 -> 0 | E29: =(IF(SUM(E34:E37)=0,"0",(E37-$H1)))*24 -> 0 | F29: =(IF(SUM(F34:F37)=0,"0",(F37-$H1)))*24 -> 0 | M29: mettre 25:00 pour 01h00
M30: mettre 26:00 pour 02h00
A31: HORAIRES | M31: mettre 26:15 pour 02h15
M32: mettre 26:30 pour 02h30
A33: LUNDI M | B33: LUNDI S | C33: MARDI | D33: MERCREDI | E33: JEUDI | F33: VENDREDI | M33: mettre 27:00 pour 03h00
A39: NB HEURES DE NUIT | C39: =A29+B29+C29+D29+E29+F29 -> 6 | D39: Pause payée | F39: NON
A43: NOM | B43: =B8 -> 0 | C43: PRENOM | D43: =D8 -> 0
A45: HORAIRES | C45: Date de debut | D45: =D15 -> 0 | E45: Date de fin | F45: =F15 -> 0
A47: LUNDI M | B47: LUNDI S | C47: MARDI | D47: MERCREDI | E47: JEUDI | F47: VENDREDI
A48: =A34 -> 0 | B48: =B34 -> 0 | C48: =C34 -> 0 | D48: =D34 -> 0 | E48: =E34 -> 0 | F48: =F34 -> 0
A49: =A35 -> 0 | B49: =B35 -> 0 | C49: =C35 -> 0 | D49: =D35 -> 0 | E49: =E35 -> 0 | F49: =F35 -> 0
A50: =A36 -> 0 | B50: =B36 -> 0 | C50: =C36 -> 0 | D50: =D36 -> 0 | E50: =E36 -> 0 | F50: =F36 -> 0
A51: =A37 -> 0 | B51: =B37 -> 0 | C51: =C37 -> 0 | D51: =D37 -> 0 | E51: =E37 -> 0 | F51: =F37 -> 0

Sheet Sem15
H1: 0.875
H2: 0.25
A4: CREATION ou MODIFICATION d'un CONTRAT de TRAVAIL
A8: NOM | B8: =BDD!B7 -> 0 | C8: PRENOM | D8: =BDD!C7 -> 0 | E8: MATRICULE | F8: =BDD!D7 -> 0
A10: EMPLOI | B10: =BDD!E7 -> 0 | D10: SERVICE | E10: 220/603 MAGASIN | H10: CDD
H11: CDI
H12: SURCROIT
A13: TYPE DE CONTRAT | C13: CDD | D13: =BDD!F7 -> 0 | J13: 220/603 MAGASIN | K13: MAG NUIT
H14: OUI | J14: 220/703 LIVRAISON | K14: LIV NUIT
A15: MOTIF du CONTRAT | C15: Date de debut | E15: Date de fin | H15: NON
A17: REMPLACEMENT de: | D17: Motifs | E17: du | F17: au | H17: MALADIE
H18: C.PAYES
H19: RTT
H20: ABS AUT.
H21: ABS AUT(RCN).
H22: FORMATION
H23: CACES
H24: C PARENTAL
A25: HORAIRE HEBDO TRAVAILLE | D25: =A28+B28+C28+D28+E28+F28 -> 0 | H25: SURCROIT
A27: LUNDI M | B27: LUNDI S | C27: MARDI | D27: MERCREDI | E27: JEUDI | F27: VENDREDI
A28: =((A37-A36)+A35-A34)*24 -> 0 | B28: =((B37-B36)+B35-B34)*24 -> 0 | C28: =((C37-C36)+C35-C34)*24 -> 0 | D28: =((D37-D36)+D35-D34)*24 -> 0 | E28: =((E37-E36)+E35-E34)*24 -> 0 | F28: =((F37-F36)+F35-F34)*24 -> 0
A29: =(((A35-A34)+H2-A36)*24) -> 6 | B29: =(IF(SUM(B34:B37)=0,"0",(B37-$H1)))*24 -> 0 | C29: =(IF(SUM(C34:C37)=0,"0",(C37-$H1)))*24 -> 0 | D29: =(IF(SUM(D34:D37)=0,"0",(D37-$H1)))*24 -> 0 | E29: =(IF(SUM(E34:E37)=0,"0",(E37-$H1)))*24 -> 0 | F29: =(IF(SUM(F34:F37)=0,"0",(F37-$H1)))*24 -> 0 | M29: mettre 25:00 pour 01h00
M30: mettre 26:00 pour 02h00
A31: HORAIRES | M31: mettre 26:15 pour 02h15
M32: mettre 26:30 pour 02h30
A33: LUNDI M | B33: LUNDI S | C33: MARDI | D33: MERCREDI | E33: JEUDI | F33: VENDREDI | M33: mettre 27:00 pour 03h00
A39: NB HEURES DE NUIT | C39: =A29+B29+C29+D29+E29+F29 -> 6 | D39: Pause payée | F39: NON
A43: NOM | B43: =B8 -> 0 | C43: PRENOM | D43: =D8 -> 0
A45: HORAIRES | C45: Date de debut | D45: =D15 -> 0 | E45: Date de fin | F45: =F15 -> 0
A47: LUNDI M | B47: LUNDI S | C47: MARDI | D47: MERCREDI | E47: JEUDI | F47: VENDREDI
A48: =A34 -> 0 | B48: =B34 -> 0 | C48: =C34 -> 0 | D48: =D34 -> 0 | E48: =E34 -> 0 | F48: =F34 -> 0
A49: =A35 -> 0 | B49: =B35 -> 0 | C49: =C35 -> 0 | D49: =D35 -> 0 | E49: =E35 -> 0 | F49: =F35 -> 0
A50: =A36 -> 0 | B50: =B36 -> 0 | C50: =C36 -> 0 | D50: =D36 -> 0 | E50: =E36 -> 0 | F50: =F36 -> 0
A51: =A37 -> 0 | B51: =B37 -> 0 | C51: =C37 -> 0 | D51: =D37 -> 0 | E51: =E37 -> 0 | F51: =F37 -> 0

Sheet Sem16
H1: 0.875
H2: 0.25
A4: CREATION ou MODIFICATION d'un CONTRAT de TRAVAIL
A8: NOM | B8: =BDD!B7 -> 0 | C8: PRENOM | D8: =BDD!C7 -> 0 | E8: MATRICULE | F8: =BDD!D7 -> 0
A10: EMPLOI | B10: =BDD!E7 -> 0 | D10: SERVICE | E10: 220/603 MAGASIN | H10: CDD
H11: CDI
H12: SURCROIT
A13: TYPE DE CONTRAT | C13: CDD | D13: =BDD!F7 -> 0 | J13: 220/603 MAGASIN | K13: MAG NUIT
H14: OUI | J14: 220/703 LIVRAISON | K14: LIV NUIT
A15: MOTIF du CONTRAT | C15: Date de debut | E15: Date de fin | H15: NON
A17: REMPLACEMENT de: | D17: Motifs | E17: du | F17: au | H17: MALADIE
H18: C.PAYES
H19: RTT
H20: ABS AUT.
H21: ABS AUT(RCN).
H22: FORMATION
H23: CACES
H24: C PARENTAL
A25: HORAIRE HEBDO TRAVAILLE | D25: =A28+B28+C28+D28+E28+F28 -> 0 | H25: SURCROIT
A27: LUNDI M | B27: LUNDI S | C27: MARDI | D27: MERCREDI | E27: JEUDI | F27: VENDREDI
A28: =((A37-A36)+A35-A34)*24 -> 0 | B28: =((B37-B36)+B35-B34)*24 -> 0 | C28: =((C37-C36)+C35-C34)*24 -> 0 | D28: =((D37-D36)+D35-D34)*24 -> 0 | E28: =((E37-E36)+E35-E34)*24 -> 0 | F28: =((F37-F36)+F35-F34)*24 -> 0
A29: =(((A35-A34)+H2-A36)*24) -> 6 | B29: =(IF(SUM(B34:B37)=0,"0",(B37-$H1)))*24 -> 0 | C29: =(IF(SUM(C34:C37)=0,"0",(C37-$H1)))*24 -> 0 | D29: =(IF(SUM(D34:D37)=0,"0",(D37-$H1)))*24 -> 0 | E29: =(IF(SUM(E34:E37)=0,"0",(E37-$H1)))*24 -> 0 | F29: =(IF(SUM(F34:F37)=0,"0",(F37-$H1)))*24 -> 0 | M29: mettre 25:00 pour 01h00
M30: mettre 26:00 pour 02h00
A31: HORAIRES | M31: mettre 26:15 pour 02h15
M32: mettre 26:30 pour 02h30
A33: LUNDI M | B33: LUNDI S | C33: MARDI | D33: MERCREDI | E33: JEUDI | F33: VENDREDI | M33: mettre 27:00 pour 03h00
A39: NB HEURES DE NUIT | C39: =A29+B29+C29+D29+E29+F29 -> 6 | D39: Pause payée | F39: NON
A43: NOM | B43: =B8 -> 0 | C43: PRENOM | D43: =D8 -> 0
A45: HORAIRES | C45: Date de debut | D45: =D15 -> 0 | E45: Date de fin | F45: =F15 -> 0
A47: LUNDI M | B47: LUNDI S | C47: MARDI | D47: MERCREDI | E47: JEUDI | F47: VENDREDI
A48: =A34 -> 0 | B48: =B34 -> 0 | C48: =C34 -> 0 | D48: =D34 -> 0 | E48: =E34 -> 0 | F48: =F34 -> 0
A49: =A35 -> 0 | B49: =B35 -> 0 | C49: =C35 -> 0 | D49: =D35 -> 0 | E49: =E35 -> 0 | F49: =F35 -> 0
A50: =A36 -> 0 | B50: =B36 -> 0 | C50: =C36 -> 0 | D50: =D36 -> 0 | E50: =E36 -> 0 | F50: =F36 -> 0
A51: =A37 -> 0 | B51: =B37 -> 0 | C51: =C37 -> 0 | D51: =D37 -> 0 | E51: =E37 -> 0 | F51: =F37 -> 0

Sheet Mai
H1: 0.875
H2: 0.25
A4: CREATION ou MODIFICATION d'un CONTRAT de TRAVAIL
A8: NOM | B8: =BDD!B7 -> 0 | C8: PRENOM | D8: =BDD!C7 -> 0 | E8: MATRICULE | F8: =BDD!D7 -> 0
A10: EMPLOI | B10: =BDD!E7 -> 0 | D10: SERVICE | E10: 220/603 MAGASIN | H10: CDD
H11: CDI
H12: SURCROIT
A13: TYPE DE CONTRAT | C13: CDD | D13: =BDD!F7 -> 0 | J13: 220/603 MAGASIN | K13: MAG NUIT
H14: OUI | J14: 220/703 LIVRAISON | K14: LIV NUIT
A15: MOTIF du CONTRAT | C15: Date de debut | E15: Date de fin | H15: NON
A17: REMPLACEMENT de: | D17: Motifs | E17: du | F17: au | H17: MALADIE
H18: C.PAYES
H19: RTT
H20: ABS AUT.
H21: ABS AUT(RCN).
H22: FORMATION
H23: CACES
H24: C PARENTAL
A25: HORAIRE HEBDO TRAVAILLE | D25: =A28+B28+C28+D28+E28+F28 -> 0 | H25: SURCROIT
A27: LUNDI M | B27: LUNDI S | C27: MARDI | D27: MERCREDI | E27: JEUDI | F27: VENDREDI
A28: =((A37-A36)+A35-A34)*24 -> 0 | B28: =((B37-B36)+B35-B34)*24 -> 0 | C28: =((C37-C36)+C35-C34)*24 -> 0 | D28: =((D37-D36)+D35-D34)*24 -> 0 | E28: =((E37-E36)+E35-E34)*24 -> 0 | F28: =((F37-F36)+F35-F34)*24 -> 0
A29: =(((A35-A34)+H2-A36)*24) -> 6 | B29: =(IF(SUM(B34:B37)=0,"0",(B37-$H1)))*24 -> 0 | C29: =(IF(SUM(C34:C37)=0,"0",(C37-$H1)))*24 -> 0 | D29: =(IF(SUM(D34:D37)=0,"0",(D37-$H1)))*24 -> 0 | E29: =(IF(SUM(E34:E37)=0,"0",(E37-$H1)))*24 -> 0 | F29: =(IF(SUM(F34:F37)=0,"0",(F37-$H1)))*24 -> 0 | M29: mettre 25:00 pour 01h00
M30: mettre 26:00 pour 02h00
A31: HORAIRES | M31: mettre 26:15 pour 02h15
M32: mettre 26:30 pour 02h30
A33: LUNDI M | B33: LUNDI S | C33: MARDI | D33: MERCREDI | E33: JEUDI | F33: VENDREDI | M33: mettre 27:00 pour 03h00
A39: NB HEURES DE NUIT | C39: =A29+B29+C29+D29+E29+F29 -> 6 | D39: Pause payée | F39: NON
A43: NOM | B43: =B8 -> 0 | C43: PRENOM | D43: =D8 -> 0
A45: HORAIRES | C45: Date de debut | D45: =D15 -> 0 | E45: Date de fin | F45: =F15 -> 0
A47: LUNDI M | B47: LUNDI S | C47: MARDI | D47: MERCREDI | E47: JEUDI | F47: VENDREDI
A48: =A34 -> 0 | B48: =B34 -> 0 | C48: =C34 -> 0 | D48: =D34 -> 0 | E48: =E34 -> 0 | F48: =F34 -> 0
A49: =A35 -> 0 | B49: =B35 -> 0 | C49: =C35 -> 0 | D49: =D35 -> 0 | E49: =E35 -> 0 | F49: =F35 -> 0
A50: =A36 -> 0 | B50: =B36 -> 0 | C50: =C36 -> 0 | D50: =D36 -> 0 | E50: =E36 -> 0 | F50: =F36 -> 0
A51: =A37 -> 0 | B51: =B37 -> 0 | C51: =C37 -> 0 | D51: =D37 -> 0 | E51: =E37 -> 0 | F51: =F37 -> 0

Sheet Sem17
H1: 0.875
H2: 0.25
A4: CREATION ou MODIFICATION d'un CONTRAT de TRAVAIL
A8: NOM | B8: =BDD!B7 -> 0 | C8: PRENOM | D8: =BDD!C7 -> 0 | E8: MATRICULE | F8: =BDD!D7 -> 0
A10: EMPLOI | B10: =BDD!E7 -> 0 | D10: SERVICE | E10: 220/603 MAGASIN | H10: CDD
H11: CDI
H12: SURCROIT
A13: TYPE DE CONTRAT | C13: CDD | D13: =BDD!F7 -> 0 | J13: 220/603 MAGASIN | K13: MAG NUIT
H14: OUI | J14: 220/703 LIVRAISON | K14: LIV NUIT
A15: MOTIF du CONTRAT | C15: Date de debut | E15: Date de fin | H15: NON
A17: REMPLACEMENT de: | D17: Motifs | E17: du | F17: au | H17: MALADIE
H18: C.PAYES
H19: RTT
H20: ABS AUT.
H21: ABS AUT(RCN).
H22: FORMATION
H23: CACES
H24: C PARENTAL
A25: HORAIRE HEBDO TRAVAILLE | D25: =A28+B28+C28+D28+E28+F28 -> 0 | H25: SURCROIT
A27: LUNDI M | B27: LUNDI S | C27: MARDI | D27: MERCREDI | E27: JEUDI | F27: VENDREDI
A28: =((A37-A36)+A35-A34)*24 -> 0 | B28: =((B37-B36)+B35-B34)*24 -> 0 | C28: =((C37-C36)+C35-C34)*24 -> 0 | D28: =((D37-D36)+D35-D34)*24 -> 0 | E28: =((E37-E36)+E35-E34)*24 -> 0 | F28: =((F37-F36)+F35-F34)*24 -> 0
A29: =(((A35-A34)+H2-A36)*24) -> 6 | B29: =(IF(SUM(B34:B37)=0,"0",(B37-$H1)))*24 -> 0 | C29: =(IF(SUM(C34:C37)=0,"0",(C37-$H1)))*24 -> 0 | D29: =(IF(SUM(D34:D37)=0,"0",(D37-$H1)))*24 -> 0 | E29: =(IF(SUM(E34:E37)=0,"0",(E37-$H1)))*24 -> 0 | F29: =(IF(SUM(F34:F37)=0,"0",(F37-$H1)))*24 -> 0 | M29: mettre 25:00 pour 01h00
M30: mettre 26:00 pour 02h00
A31: HORAIRES | M31: mettre 26:15 pour 02h15
M32: mettre 26:30 pour 02h30
A33: LUNDI M | B33: LUNDI S | C33: MARDI | D33: MERCREDI | E33: JEUDI | F33: VENDREDI | M33: mettre 27:00 pour 03h00
A39: NB HEURES DE NUIT | C39: =A29+B29+C29+D29+E29+F29 -> 6 | D39: Pause payée | F39: NON
A43: NOM | B43: =B8 -> 0 | C43: PRENOM | D43: =D8 -> 0
A45: HORAIRES | C45: Date de debut | D45: =D15 -> 0 | E45: Date de fin | F45: =F15 -> 0
A47: LUNDI M | B47: LUNDI S | C47: MARDI | D47: MERCREDI | E47: JEUDI | F47: VENDREDI
A48: =A34 -> 0 | B48: =B34 -> 0 | C48: =C34 -> 0 | D48: =D34 -> 0 | E48: =E34 -> 0 | F48: =F34 -> 0
A49: =A35 -> 0 | B49: =B35 -> 0 | C49: =C35 -> 0 | D49: =D35 -> 0 | E49: =E35 -> 0 | F49: =F35 -> 0
A50: =A36 -> 0 | B50: =B36 -> 0 | C50: =C36 -> 0 | D50: =D36 -> 0 | E50: =E36 -> 0 | F50: =F36 -> 0
A51: =A37 -> 0 | B51: =B37 -> 0 | C51: =C37 -> 0 | D51: =D37 -> 0 | E51: =E37 -> 0 | F51: =F37 -> 0

Sheet Sem18
H1: 0.875
H2: 0.25
A4: CREATION ou MODIFICATION d'un CONTRAT de TRAVAIL
A8: NOM | B8: =BDD!B7 -> 0 | C8: PRENOM | D8: =BDD!C7 -> 0 | E8: MATRICULE | F8: =BDD!D7 -> 0
A10: EMPLOI | B10: =BDD!E7 -> 0 | D10: SERVICE | E10: 220/603 MAGASIN | H10: CDD
H11: CDI
H12: SURCROIT
A13: TYPE DE CONTRAT | C13: CDD | D13: =BDD!F7 -> 0 | J13: 220/603 MAGASIN | K13: MAG NUIT
H14: OUI | J14: 220/703 LIVRAISON | K14: LIV NUIT
A15: MOTIF du CONTRAT | C15: Date de debut | E15: Date de fin | H15: NON
A17: REMPLACEMENT de: | D17: Motifs | E17: du | F17: au | H17: MALADIE
H18: C.PAYES
H19: RTT
H20: ABS AUT.
H21: ABS AUT(RCN).
H22: FORMATION
H23: CACES
H24: C PARENTAL
A25: HORAIRE HEBDO TRAVAILLE | D25: =A28+B28+C28+D28+E28+F28 -> 0 | H25: SURCROIT
A27: LUNDI M | B27: LUNDI S | C27: MARDI | D27: MERCREDI | E27: JEUDI | F27: VENDREDI
A28: =((A37-A36)+A35-A34)*24 -> 0 | B28: =((B37-B36)+B35-B34)*24 -> 0 | C28: =((C37-C36)+C35-C34)*24 -> 0 | D28: =((D37-D36)+D35-D34)*24 -> 0 | E28: =((E37-E36)+E35-E34)*24 -> 0 | F28: =((F37-F36)+F35-F34)*24 -> 0
A29: =(((A35-A34)+H2-A36)*24) -> 6 | B29: =(IF(SUM(B34:B37)=0,"0",(B37-$H1)))*24 -> 0 | C29: =(IF(SUM(C34:C37)=0,"0",(C37-$H1)))*24 -> 0 | D29: =(IF(SUM(D34:D37)=0,"0",(D37-$H1)))*24 -> 0 | E29: =(IF(SUM(E34:E37)=0,"0",(E37-$H1)))*24 -> 0 | F29: =(IF(SUM(F34:F37)=0,"0",(F37-$H1)))*24 -> 0 | M29: mettre 25:00 pour 01h00
M30: mettre 26:00 pour 02h00
A31: HORAIRES | M31: mettre 26:15 pour 02h15
M32: mettre 26:30 pour 02h30
A33: LUNDI M | B33: LUNDI S | C33: MARDI | D33: MERCREDI | E33: JEUDI | F33: VENDREDI | M33: mettre 27:00 pour 03h00
A39: NB HEURES DE NUIT | C39: =A29+B29+C29+D29+E29+F29 -> 6 | D39: Pause payée | F39: NON
A43: NOM | B43: =B8 -> 0 | C43: PRENOM | D43: =D8 -> 0
A45: HORAIRES | C45: Date de debut | D45: =D15 -> 0 | E45: Date de fin | F45: =F15 -> 0
A47: LUNDI M | B47: LUNDI S | C47: MARDI | D47: MERCREDI | E47: JEUDI | F47: VENDREDI
A48: =A34 -> 0 | B48: =B34 -> 0 | C48: =C34 -> 0 | D48: =D34 -> 0 | E48: =E34 -> 0 | F48: =F34 -> 0
A49: =A35 -> 0 | B49: =B35 -> 0 | C49: =C35 -> 0 | D49: =D35 -> 0 | E49: =E35 -> 0 | F49: =F35 -> 0
A50: =A36 -> 0 | B50: =B36 -> 0 | C50: =C36 -> 0 | D50: =D36 -> 0 | E50: =E36 -> 0 | F50: =F36 -> 0
A51: =A37 -> 0 | B51: =B37 -> 0 | C51: =C37 -> 0 | D51: =D37 -> 0 | E51: =E37 -> 0 | F51: =F37 -> 0

Sheet Sem19
H1: 0.875
H2: 0.25
A4: CREATION ou MODIFICATION d'un CONTRAT de TRAVAIL
A8: NOM | B8: =BDD!B7 -> 0 | C8: PRENOM | D8: =BDD!C7 -> 0 | E8: MATRICULE | F8: =BDD!D7 -> 0
A10: EMPLOI | B10: =BDD!E7 -> 0 | D10: SERVICE | E10: 220/603 MAGASIN | H10: CDD
H11: CDI
H12: SURCROIT
A13: TYPE DE CONTRAT | C13: CDD | D13: =BDD!F7 -> 0 | J13: 220/603 MAGASIN | K13: MAG NUIT
H14: OUI | J14: 220/703 LIVRAISON | K14: LIV NUIT
A15: MOTIF du CONTRAT | C15: Date de debut | E15: Date de fin | H15: NON
A17: REMPLACEMENT de: | D17: Motifs | E17: du | F17: au | H17: MALADIE
H18: C.PAYES
H19: RTT
H20: ABS AUT.
H21: ABS AUT(RCN).
H22: FORMATION
H23: CACES
H24: C PARENTAL
A25: HORAIRE HEBDO TRAVAILLE | D25: =A28+B28+C28+D28+E28+F28 -> 0 | H25: SURCROIT
A27: LUNDI M | B27: LUNDI S | C27: MARDI | D27: MERCREDI | E27: JEUDI | F27: VENDREDI
A28: =((A37-A36)+A35-A34)*24 -> 0 | B28: =((B37-B36)+B35-B34)*24 -> 0 | C28: =((C37-C36)+C35-C34)*24 -> 0 | D28: =((D37-D36)+D35-D34)*24 -> 0 | E28: =((E37-E36)+E35-E34)*24 -> 0 | F28: =((F37-F36)+F35-F34)*24 -> 0
A29: =(((A35-A34)+H2-A36)*24) -> 6 | B29: =(IF(SUM(B34:B37)=0,"0",(B37-$H1)))*24 -> 0 | C29: =(IF(SUM(C34:C37)=0,"0",(C37-$H1)))*24 -> 0 | D29: =(IF(SUM(D34:D37)=0,"0",(D37-$H1)))*24 -> 0 | E29: =(IF(SUM(E34:E37)=0,"0",(E37-$H1)))*24 -> 0 | F29: =(IF(SUM(F34:F37)=0,"0",(F37-$H1)))*24 -> 0 | M29: mettre 25:00 pour 01h00
M30: mettre 26:00 pour 02h00
A31: HORAIRES | M31: mettre 26:15 pour 02h15
M32: mettre 26:30 pour 02h30
A33: LUNDI M | B33: LUNDI S | C33: MARDI | D33: MERCREDI | E33: JEUDI | F33: VENDREDI | M33: mettre 27:00 pour 03h00
A39: NB HEURES DE NUIT | C39: =A29+B29+C29+D29+E29+F29 -> 6 | D39: Pause payée | F39: NON
A43: NOM | B43: =B8 -> 0 | C43: PRENOM | D43: =D8 -> 0
A45: HORAIRES | C45: Date de debut | D45: =D15 -> 0 | E45: Date de fin | F45: =F15 -> 0
A47: LUNDI M | B47: LUNDI S | C47: MARDI | D47: MERCREDI | E47: JEUDI | F47: VENDREDI
A48: =A34 -> 0 | B48: =B34 -> 0 | C48: =C34 -> 0 | D48: =D34 -> 0 | E48: =E34 -> 0 | F48: =F34 -> 0
A49: =A35 -> 0 | B49: =B35 -> 0 | C49: =C35 -> 0 | D49: =D35 -> 0 | E49: =E35 -> 0 | F49: =F35 -> 0
A50: =A36 -> 0 | B50: =B36 -> 0 | C50: =C36 -> 0 | D50: =D36 -> 0 | E50: =E36 -> 0 | F50: =F36 -> 0
A51: =A37 -> 0 | B51: =B37 -> 0 | C51: =C37 -> 0 | D51: =D37 -> 0 | E51: =E37 -> 0 | F51: =F37 -> 0

Sheet Sem20
H1: 0.875
H2: 0.25
A4: CREATION ou MODIFICATION d'un CONTRAT de TRAVAIL
A8: NOM | B8: =BDD!B7 -> 0 | C8: PRENOM | D8: =BDD!C7 -> 0 | E8: MATRICULE | F8: =BDD!D7 -> 0
A10: EMPLOI | B10: =BDD!E7 -> 0 | D10: SERVICE | E10: 220/603 MAGASIN | H10: CDD
H11: CDI
H12: SURCROIT
A13: TYPE DE CONTRAT | C13: CDD | D13: =BDD!F7 -> 0 | J13: 220/603 MAGASIN | K13: MAG NUIT
H14: OUI | J14: 220/703 LIVRAISON | K14: LIV NUIT
A15: MOTIF du CONTRAT | C15: Date de debut | E15: Date de fin | H15: NON
A17: REMPLACEMENT de: | D17: Motifs | E17: du | F17: au | H17: MALADIE
H18: C.PAYES
H19: RTT
H20: ABS AUT.
H21: ABS AUT(RCN).
H22: FORMATION
H23: CACES
H24: C PARENTAL
A25: HORAIRE HEBDO TRAVAILLE | D25: =A28+B28+C28+D28+E28+F28 -> 0 | H25: SURCROIT
A27: LUNDI M | B27: LUNDI S | C27: MARDI | D27: MERCREDI | E27: JEUDI | F27: VENDREDI
A28: =((A37-A36)+A35-A34)*24 -> 0 | B28: =((B37-B36)+B35-B34)*24 -> 0 | C28: =((C37-C36)+C35-C34)*24 -> 0 | D28: =((D37-D36)+D35-D34)*24 -> 0 | E28: =((E37-E36)+E35-E34)*24 -> 0 | F28: =((F37-F36)+F35-F34)*24 -> 0
A29: =(((A35-A34)+H2-A36)*24) -> 6 | B29: =(IF(SUM(B34:B37)=0,"0",(B37-$H1)))*24 -> 0 | C29: =(IF(SUM(C34:C37)=0,"0",(C37-$H1)))*24 -> 0 | D29: =(IF(SUM(D34:D37)=0,"0",(D37-$H1)))*24 -> 0 | E29: =(IF(SUM(E34:E37)=0,"0",(E37-$H1)))*24 -> 0 | F29: =(IF(SUM(F34:F37)=0,"0",(F37-$H1)))*24 -> 0 | M29: mettre 25:00 pour 01h00
M30: mettre 26:00 pour 02h00
A31: HORAIRES | M31: mettre 26:15 pour 02h15
M32: mettre 26:30 pour 02h30
A33: LUNDI M | B33: LUNDI S | C33: MARDI | D33: MERCREDI | E33: JEUDI | F33: VENDREDI | M33: mettre 27:00 pour 03h00
A39: NB HEURES DE NUIT | C39: =A29+B29+C29+D29+E29+F29 -> 6 | D39: Pause payée | F39: NON
A43: NOM | B43: =B8 -> 0 | C43: PRENOM | D43: =D8 -> 0
A45: HORAIRES | C45: Date de debut | D45: =D15 -> 0 | E45: Date de fin | F45: =F15 -> 0
A47: LUNDI M | B47: LUNDI S | C47: MARDI | D47: MERCREDI | E47: JEUDI | F47: VENDREDI
A48: =A34 -> 0 | B48: =B34 -> 0 | C48: =C34 -> 0 | D48: =D34 -> 0 | E48: =E34 -> 0 | F48: =F34 -> 0
A49: =A35 -> 0 | B49: =B35 -> 0 | C49: =C35 -> 0 | D49: =D35 -> 0 | E49: =E35 -> 0 | F49: =F35 -> 0
A50: =A36 -> 0 | B50: =B36 -> 0 | C50: =C36 -> 0 | D50: =D36 -> 0 | E50: =E36 -> 0 | F50: =F36 -> 0
A51: =A37 -> 0 | B51: =B37 -> 0 | C51: =C37 -> 0 | D51: =D37 -> 0 | E51: =E37 -> 0 | F51: =F37 -> 0

Sheet Juin
H1: 0.875
H2: 0.25
A4: CREATION ou MODIFICATION d'un CONTRAT de TRAVAIL
A8: NOM | B8: =BDD!B7 -> 0 | C8: PRENOM | D8: =BDD!C7 -> 0 | E8: MATRICULE | F8: =BDD!D7 -> 0
A10: EMPLOI | B10: =BDD!E7 -> 0 | D10: SERVICE | E10: 220/603 MAGASIN | H10: CDD
H11: CDI
H12: SURCROIT
A13: TYPE DE CONTRAT | C13: CDD | D13: =BDD!F7 -> 0 | J13: 220/603 MAGASIN | K13: MAG NUIT
H14: OUI | J14: 220/703 LIVRAISON | K14: LIV NUIT
A15: MOTIF du CONTRAT | C15: Date de debut | E15: Date de fin | H15: NON
A17: REMPLACEMENT de: | D17: Motifs | E17: du | F17: au | H17: MALADIE
H18: C.PAYES
H19: RTT
H20: ABS AUT.
H21: ABS AUT(RCN).
H22: FORMATION
H23: CACES
H24: C PARENTAL
A25: HORAIRE HEBDO TRAVAILLE | D25: =A28+B28+C28+D28+E28+F28 -> 0 | H25: SURCROIT
A27: LUNDI M | B27: LUNDI S | C27: MARDI | D27: MERCREDI | E27: JEUDI | F27: VENDREDI
A28: =((A37-A36)+A35-A34)*24 -> 0 | B28: =((B37-B36)+B35-B34)*24 -> 0 | C28: =((C37-C36)+C35-C34)*24 -> 0 | D28: =((D37-D36)+D35-D34)*24 -> 0 | E28: =((E37-E36)+E35-E34)*24 -> 0 | F28: =((F37-F36)+F35-F34)*24 -> 0
A29: =(((A35-A34)+H2-A36)*24) -> 6 | B29: =(IF(SUM(B34:B37)=0,"0",(B37-$H1)))*24 -> 0 | C29: =(IF(SUM(C34:C37)=0,"0",(C37-$H1)))*24 -> 0 | D29: =(IF(SUM(D34:D37)=0,"0",(D37-$H1)))*24 -> 0 | E29: =(IF(SUM(E34:E37)=0,"0",(E37-$H1)))*24 -> 0 | F29: =(IF(SUM(F34:F37)=0,"0",(F37-$H1)))*24 -> 0 | M29: mettre 25:00 pour 01h00
M30: mettre 26:00 pour 02h00
A31: HORAIRES | M31: mettre 26:15 pour 02h15
M32: mettre 26:30 pour 02h30
A33: LUNDI M | B33: LUNDI S | C33: MARDI | D33: MERCREDI | E33: JEUDI | F33: VENDREDI | M33: mettre 27:00 pour 03h00
A39: NB HEURES DE NUIT | C39: =A29+B29+C29+D29+E29+F29 -> 6 | D39: Pause payée | F39: NON
A43: NOM | B43: =B8 -> 0 | C43: PRENOM | D43: =D8 -> 0
A45: HORAIRES | C45: Date de debut | D45: =D15 -> 0 | E45: Date de fin | F45: =F15 -> 0
A47: LUNDI M | B47: LUNDI S | C47: MARDI | D47: MERCREDI | E47: JEUDI | F47: VENDREDI
A48: =A34 -> 0 | B48: =B34 -> 0 | C48: =C34 -> 0 | D48: =D34 -> 0 | E48: =E34 -> 0 | F48: =F34 -> 0
A49: =A35 -> 0 | B49: =B35 -> 0 | C49: =C35 -> 0 | D49: =D35 -> 0 | E49: =E35 -> 0 | F49: =F35 -> 0
A50: =A36 -> 0 | B50: =B36 -> 0 | C50: =C36 -> 0 | D50: =D36 -> 0 | E50: =E36 -> 0 | F50: =F36 -> 0
A51: =A37 -> 0 | B51: =B37 -> 0 | C51: =C37 -> 0 | D51: =D37 -> 0 | E51: =E37 -> 0 | F51: =F37 -> 0

Sheet Sem21
H1: 0.875
H2: 0.25
A4: CREATION ou MODIFICATION d'un CONTRAT de TRAVAIL
A8: NOM | B8: =BDD!B7 -> 0 | C8: PRENOM | D8: =BDD!C7 -> 0 | E8: MATRICULE | F8: =BDD!D7 -> 0
A10: EMPLOI | B10: =BDD!E7 -> 0 | D10: SERVICE | E10: 220/603 MAGASIN | H10: CDD
H11: CDI
H12: SURCROIT
A13: TYPE DE CONTRAT | C13: CDD | D13: =BDD!F7 -> 0 | J13: 220/603 MAGASIN | K13: MAG NUIT
H14: OUI | J14: 220/703 LIVRAISON | K14: LIV NUIT
A15: MOTIF du CONTRAT | C15: Date de debut | E15: Date de fin | H15: NON
A17: REMPLACEMENT de: | D17: Motifs | E17: du | F17: au | H17: MALADIE
H18: C.PAYES
H19: RTT
H20: ABS AUT.
H21: ABS AUT(RCN).
H22: FORMATION
H23: CACES
H24: C PARENTAL
A25: HORAIRE HEBDO TRAVAILLE | D25: =A28+B28+C28+D28+E28+F28 -> 0 | H25: SURCROIT
A27: LUNDI M | B27: LUNDI S | C27: MARDI | D27: MERCREDI | E27: JEUDI | F27: VENDREDI
A28: =((A37-A36)+A35-A34)*24 -> 0 | B28: =((B37-B36)+B35-B34)*24 -> 0 | C28: =((C37-C36)+C35-C34)*24 -> 0 | D28: =((D37-D36)+D35-D34)*24 -> 0 | E28: =((E37-E36)+E35-E34)*24 -> 0 | F28: =((F37-F36)+F35-F34)*24 -> 0
A29: =(((A35-A34)+H2-A36)*24) -> 6 | B29: =(IF(SUM(B34:B37)=0,"0",(B37-$H1)))*24 -> 0 | C29: =(IF(SUM(C34:C37)=0,"0",(C37-$H1)))*24 -> 0 | D29: =(IF(SUM(D34:D37)=0,"0",(D37-$H1)))*24 -> 0 | E29: =(IF(SUM(E34:E37)=0,"0",(E37-$H1)))*24 -> 0 | F29: =(IF(SUM(F34:F37)=0,"0",(F37-$H1)))*24 -> 0 | M29: mettre 25:00 pour 01h00
M30: mettre 26:00 pour 02h00
A31: HORAIRES | M31: mettre 26:15 pour 02h15
M32: mettre 26:30 pour 02h30
A33: LUNDI M | B33: LUNDI S | C33: MARDI | D33: MERCREDI | E33: JEUDI | F33: VENDREDI | M33: mettre 27:00 pour 03h00
A39: NB HEURES DE NUIT | C39: =A29+B29+C29+D29+E29+F29 -> 6 | D39: Pause payée | F39: NON
A43: NOM | B43: =B8 -> 0 | C43: PRENOM | D43: =D8 -> 0
A45: HORAIRES | C45: Date de debut | D45: =D15 -> 0 | E45: Date de fin | F45: =F15 -> 0
A47: LUNDI M | B47: LUNDI S | C47: MARDI | D47: MERCREDI | E47: JEUDI | F47: VENDREDI
A48: =A34 -> 0 | B48: =B34 -> 0 | C48: =C34 -> 0 | D48: =D34 -> 0 | E48: =E34 -> 0 | F48: =F34 -> 0
A49: =A35 -> 0 | B49: =B35 -> 0 | C49: =C35 -> 0 | D49: =D35 -> 0 | E49: =E35 -> 0 | F49: =F35 -> 0
A50: =A36 -> 0 | B50: =B36 -> 0 | C50: =C36 -> 0 | D50: =D36 -> 0 | E50: =E36 -> 0 | F50: =F36 -> 0
A51: =A37 -> 0 | B51: =B37 -> 0 | C51: =C37 -> 0 | D51: =D37 -> 0 | E51: =E37 -> 0 | F51: =F37 -> 0

Sheet Sem22
H1: 0.875
H2: 0.25
A4: CREATION ou MODIFICATION d'un CONTRAT de TRAVAIL
A8: NOM | B8: =BDD!B7 -> 0 | C8: PRENOM | D8: =BDD!C7 -> 0 | E8: MATRICULE | F8: =BDD!D7 -> 0
A10: EMPLOI | B10: =BDD!E7 -> 0 | D10: SERVICE | E10: 220/603 MAGASIN | H10: CDD
H11: CDI
H12: SURCROIT
A13: TYPE DE CONTRAT | C13: CDD | D13: =BDD!F7 -> 0 | J13: 220/603 MAGASIN | K13: MAG NUIT
H14: OUI | J14: 220/703 LIVRAISON | K14: LIV NUIT
A15: MOTIF du CONTRAT | C15: Date de debut | E15: Date de fin | H15: NON
A17: REMPLACEMENT de: | D17: Motifs | E17: du | F17: au | H17: MALADIE
H18: C.PAYES
H19: RTT
H20: ABS AUT.
H21: ABS AUT(RCN).
H22: FORMATION
H23: CACES
H24: C PARENTAL
A25: HORAIRE HEBDO TRAVAILLE | D25: =A28+B28+C28+D28+E28+F28 -> 0 | H25: SURCROIT
A27: LUNDI M | B27: LUNDI S | C27: MARDI | D27: MERCREDI | E27: JEUDI | F27: VENDREDI
A28: =((A37-A36)+A35-A34)*24 -> 0 | B28: =((B37-B36)+B35-B34)*24 -> 0 | C28: =((C37-C36)+C35-C34)*24 -> 0 | D28: =((D37-D36)+D35-D34)*24 -> 0 | E28: =((E37-E36)+E35-E34)*24 -> 0 | F28: =((F37-F36)+F35-F34)*24 -> 0
A29: =(((A35-A34)+H2-A36)*24) -> 6 | B29: =(IF(SUM(B34:B37)=0,"0",(B37-$H1)))*24 -> 0 | C29: =(IF(SUM(C34:C37)=0,"0",(C37-$H1)))*24 -> 0 | D29: =(IF(SUM(D34:D37)=0,"0",(D37-$H1)))*24 -> 0 | E29: =(IF(SUM(E34:E37)=0,"0",(E37-$H1)))*24 -> 0 | F29: =(IF(SUM(F34:F37)=0,"0",(F37-$H1)))*24 -> 0 | M29: mettre 25:00 pour 01h00
M30: mettre 26:00 pour 02h00
A31: HORAIRES | M31: mettre 26:15 pour 02h15
M32: mettre 26:30 pour 02h30
A33: LUNDI M | B33: LUNDI S | C33: MARDI | D33: MERCREDI | E33: JEUDI | F33: VENDREDI | M33: mettre 27:00 pour 03h00
A39: NB HEURES DE NUIT | C39: =A29+B29+C29+D29+E29+F29 -> 6 | D39: Pause payée | F39: NON
A43: NOM | B43: =B8 -> 0 | C43: PRENOM | D43: =D8 -> 0
A45: HORAIRES | C45: Date de debut | D45: =D15 -> 0 | E45: Date de fin | F45: =F15 -> 0
A47: LUNDI M | B47: LUNDI S | C47: MARDI | D47: MERCREDI | E47: JEUDI | F47: VENDREDI
A48: =A34 -> 0 | B48: =B34 -> 0 | C48: =C34 -> 0 | D48: =D34 -> 0 | E48: =E34 -> 0 | F48: =F34 -> 0
A49: =A35 -> 0 | B49: =B35 -> 0 | C49: =C35 -> 0 | D49: =D35 -> 0 | E49: =E35 -> 0 | F49: =F35 -> 0
A50: =A36 -> 0 | B50: =B36 -> 0 | C50: =C36 -> 0 | D50: =D36 -> 0 | E50: =E36 -> 0 | F50: =F36 -> 0
A51: =A37 -> 0 | B51: =B37 -> 0 | C51: =C37 -> 0 | D51: =D37 -> 0 | E51: =E37 -> 0 | F51: =F37 -> 0

Sheet Sem23
H1: 0.875
H2: 0.25
A4: CREATION ou MODIFICATION d'un CONTRAT de TRAVAIL
A8: NOM | B8: =BDD!B7 -> 0 | C8: PRENOM | D8: =BDD!C7 -> 0 | E8: MATRICULE | F8: =BDD!D7 -> 0
A10: EMPLOI | B10: =BDD!E7 -> 0 | D10: SERVICE | E10: 220/603 MAGASIN | H10: CDD
H11: CDI
H12: SURCROIT
A13: TYPE DE CONTRAT | C13: CDD | D13: =BDD!F7 -> 0 | J13: 220/603 MAGASIN | K13: MAG NUIT
H14: OUI | J14: 220/703 LIVRAISON | K14: LIV NUIT
A15: MOTIF du CONTRAT | C15: Date de debut | E15: Date de fin | H15: NON
A17: REMPLACEMENT de: | D17: Motifs | E17: du | F17: au | H17: MALADIE
H18: C.PAYES
H19: RTT
H20: ABS AUT.
H21: ABS AUT(RCN).
H22: FORMATION
H23: CACES
H24: C PARENTAL
A25: HORAIRE HEBDO TRAVAILLE | D25: =A28+B28+C28+D28+E28+F28 -> 0 | H25: SURCROIT
A27: LUNDI M | B27: LUNDI S | C27: MARDI | D27: MERCREDI | E27: JEUDI | F27: VENDREDI
A28: =((A37-A36)+A35-A34)*24 -> 0 | B28: =((B37-B36)+B35-B34)*24 -> 0 | C28: =((C37-C36)+C35-C34)*24 -> 0 | D28: =((D37-D36)+D35-D34)*24 -> 0 | E28: =((E37-E36)+E35-E34)*24 -> 0 | F28: =((F37-F36)+F35-F34)*24 -> 0
A29: =(((A35-A34)+H2-A36)*24) -> 6 | B29: =(IF(SUM(B34:B37)=0,"0",(B37-$H1)))*24 -> 0 | C29: =(IF(SUM(C34:C37)=0,"0",(C37-$H1)))*24 -> 0 | D29: =(IF(SUM(D34:D37)=0,"0",(D37-$H1)))*24 -> 0 | E29: =(IF(SUM(E34:E37)=0,"0",(E37-$H1)))*24 -> 0 | F29: =(IF(SUM(F34:F37)=0,"0",(F37-$H1)))*24 -> 0 | M29: mettre 25:00 pour 01h00
M30: mettre 26:00 pour 02h00
A31: HORAIRES | M31: mettre 26:15 pour 02h15
M32: mettre 26:30 pour 02h30
A33: LUNDI M | B33: LUNDI S | C33: MARDI | D33: MERCREDI | E33: JEUDI | F33: VENDREDI | M33: mettre 27:00 pour 03h00
A39: NB HEURES DE NUIT | C39: =A29+B29+C29+D29+E29+F29 -> 6 | D39: Pause payée | F39: NON
A43: NOM | B43: =B8 -> 0 | C43: PRENOM | D43: =D8 -> 0
A45: HORAIRES | C45: Date de debut | D45: =D15 -> 0 | E45: Date de fin | F45: =F15 -> 0
A47: LUNDI M | B47: LUNDI S | C47: MARDI | D47: MERCREDI | E47: JEUDI | F47: VENDREDI
A48: =A34 -> 0 | B48: =B34 -> 0 | C48: =C34 -> 0 | D48: =D34 -> 0 | E48: =E34 -> 0 | F48: =F34 -> 0
A49: =A35 -> 0 | B49: =B35 -> 0 | C49: =C35 -> 0 | D49: =D35 -> 0 | E49: =E35 -> 0 | F49: =F35 -> 0
A50: =A36 -> 0 | B50: =B36 -> 0 | C50: =C36 -> 0 | D50: =D36 -> 0 | E50: =E36 -> 0 | F50: =F36 -> 0
A51: =A37 -> 0 | B51: =B37 -> 0 | C51: =C37 -> 0 | D51: =D37 -> 0 | E51: =E37 -> 0 | F51: =F37 -> 0

Sheet Sem24
H1: 0.875
H2: 0.25
A4: CREATION ou MODIFICATION d'un CONTRAT de TRAVAIL
A8: NOM | B8: =BDD!B7 -> 0 | C8: PRENOM | D8: =BDD!C7 -> 0 | E8: MATRICULE | F8: =BDD!D7 -> 0
A10: EMPLOI | B10: =BDD!E7 -> 0 | D10: SERVICE | E10: 220/603 MAGASIN | H10: CDD
H11: CDI
H12: SURCROIT
A13: TYPE DE CONTRAT | C13: CDD | D13: =BDD!F7 -> 0 | J13: 220/603 MAGASIN | K13: MAG NUIT
H14: OUI | J14: 220/703 LIVRAISON | K14: LIV NUIT
A15: MOTIF du CONTRAT | C15: Date de debut | E15: Date de fin | H15: NON
A17: REMPLACEMENT de: | D17: Motifs | E17: du | F17: au | H17: MALADIE
H18: C.PAYES
H19: RTT
H20: ABS AUT.
H21: ABS AUT(RCN).
H22: FORMATION
H23: CACES
H24: C PARENTAL
A25: HORAIRE HEBDO TRAVAILLE | D25: =A28+B28+C28+D28+E28+F28 -> 0 | H25: SURCROIT
A27: LUNDI M | B27: LUNDI S | C27: MARDI | D27: MERCREDI | E27: JEUDI | F27: VENDREDI
A28: =((A37-A36)+A35-A34)*24 -> 0 | B28: =((B37-B36)+B35-B34)*24 -> 0 | C28: =((C37-C36)+C35-C34)*24 -> 0 | D28: =((D37-D36)+D35-D34)*24 -> 0 | E28: =((E37-E36)+E35-E34)*24 -> 0 | F28: =((F37-F36)+F35-F34)*24 -> 0
A29: =(((A35-A34)+H2-A36)*24) -> 6 | B29: =(IF(SUM(B34:B37)=0,"0",(B37-$H1)))*24 -> 0 | C29: =(IF(SUM(C34:C37)=0,"0",(C37-$H1)))*24 -> 0 | D29: =(IF(SUM(D34:D37)=0,"0",(D37-$H1)))*24 -> 0 | E29: =(IF(SUM(E34:E37)=0,"0",(E37-$H1)))*24 -> 0 | F29: =(IF(SUM(F34:F37)=0,"0",(F37-$H1)))*24 -> 0 | M29: mettre 25:00 pour 01h00
M30: mettre 26:00 pour 02h00
A31: HORAIRES | M31: mettre 26:15 pour 02h15
M32: mettre 26:30 pour 02h30
A33: LUNDI M | B33: LUNDI S | C33: MARDI | D33: MERCREDI | E33: JEUDI | F33: VENDREDI | M33: mettre 27:00 pour 03h00
A39: NB HEURES DE NUIT | C39: =A29+B29+C29+D29+E29+F29 -> 6 | D39: Pause payée | F39: NON
A43: NOM | B43: =B8 -> 0 | C43: PRENOM | D43: =D8 -> 0
A45: HORAIRES | C45: Date de debut | D45: =D15 -> 0 | E45: Date de fin | F45: =F15 -> 0
A47: LUNDI M | B47: LUNDI S | C47: MARDI | D47: MERCREDI | E47: JEUDI | F47: VENDREDI
A48: =A34 -> 0 | B48: =B34 -> 0 | C48: =C34 -> 0 | D48: =D34 -> 0 | E48: =E34 -> 0 | F48: =F34 -> 0
A49: =A35 -> 0 | B49: =B35 -> 0 | C49: =C35 -> 0 | D49: =D35 -> 0 | E49: =E35 -> 0 | F49: =F35 -> 0
A50: =A36 -> 0 | B50: =B36 -> 0 | C50: =C36 -> 0 | D50: =D36 -> 0 | E50: =E36 -> 0 | F50: =F36 -> 0
A51: =A37 -> 0 | B51: =B37 -> 0 | C51: =C37 -> 0 | D51: =D37 -> 0 | E51: =E37 -> 0 | F51: =F37 -> 0

Sheet Juillet
H1: 0.875
H2: 0.25
A4: CREATION ou MODIFICATION d'un CONTRAT de TRAVAIL
A8: NOM | B8: =BDD!B7 -> 0 | C8: PRENOM | D8: =BDD!C7 -> 0 | E8: MATRICULE | F8: =BDD!D7 -> 0
A10: EMPLOI | B10: =BDD!E7 -> 0 | D10: SERVICE | E10: 220/603 MAGASIN | H10: CDD
H11: CDI
H12: SURCROIT
A13: TYPE DE CONTRAT | C13: CDD | D13: =BDD!F7 -> 0 | J13: 220/603 MAGASIN | K13: MAG NUIT
H14: OUI | J14: 220/703 LIVRAISON | K14: LIV NUIT
A15: MOTIF du CONTRAT | C15: Date de debut | E15: Date de fin | H15: NON
A17: REMPLACEMENT de: | D17: Motifs | E17: du | F17: au | H17: MALADIE
H18: C.PAYES
H19: RTT
H20: ABS AUT.
H21: ABS AUT(RCN).
H22: FORMATION
H23: CACES
H24: C PARENTAL
A25: HORAIRE HEBDO TRAVAILLE | D25: =A28+B28+C28+D28+E28+F28 -> 0 | H25: SURCROIT
A27: LUNDI M | B27: LUNDI S | C27: MARDI | D27: MERCREDI | E27: JEUDI | F27: VENDREDI
A28: =((A37-A36)+A35-A34)*24 -> 0 | B28: =((B37-B36)+B35-B34)*24 -> 0 | C28: =((C37-C36)+C35-C34)*24 -> 0 | D28: =((D37-D36)+D35-D34)*24 -> 0 | E28: =((E37-E36)+E35-E34)*24 -> 0 | F28: =((F37-F36)+F35-F34)*24 -> 0
A29: =(((A35-A34)+H2-A36)*24) -> 6 | B29: =(IF(SUM(B34:B37)=0,"0",(B37-$H1)))*24 -> 0 | C29: =(IF(SUM(C34:C37)=0,"0",(C37-$H1)))*24 -> 0 | D29: =(IF(SUM(D34:D37)=0,"0",(D37-$H1)))*24 -> 0 | E29: =(IF(SUM(E34:E37)=0,"0",(E37-$H1)))*24 -> 0 | F29: =(IF(SUM(F34:F37)=0,"0",(F37-$H1)))*24 -> 0 | M29: mettre 25:00 pour 01h00
M30: mettre 26:00 pour 02h00
A31: HORAIRES | M31: mettre 26:15 pour 02h15
M32: mettre 26:30 pour 02h30
A33: LUNDI M | B33: LUNDI S | C33: MARDI | D33: MERCREDI | E33: JEUDI | F33: VENDREDI | M33: mettre 27:00 pour 03h00
A39: NB HEURES DE NUIT | C39: =A29+B29+C29+D29+E29+F29 -> 6 | D39: Pause payée | F39: NON
A43: NOM | B43: =B8 -> 0 | C43: PRENOM | D43: =D8 -> 0
A45: HORAIRES | C45: Date de debut | D45: =D15 -> 0 | E45: Date de fin | F45: =F15 -> 0
A47: LUNDI M | B47: LUNDI S | C47: MARDI | D47: MERCREDI | E47: JEUDI | F47: VENDREDI
A48: =A34 -> 0 | B48: =B34 -> 0 | C48: =C34 -> 0 | D48: =D34 -> 0 | E48: =E34 -> 0 | F48: =F34 -> 0
A49: =A35 -> 0 | B49: =B35 -> 0 | C49: =C35 -> 0 | D49: =D35 -> 0 | E49: =E35 -> 0 | F49: =F35 -> 0
A50: =A36 -> 0 | B50: =B36 -> 0 | C50: =C36 -> 0 | D50: =D36 -> 0 | E50: =E36 -> 0 | F50: =F36 -> 0
A51: =A37 -> 0 | B51: =B37 -> 0 | C51: =C37 -> 0 | D51: =D37 -> 0 | E51: =E37 -> 0 | F51: =F37 -> 0

Sheet Sem25
H1: 0.875
H2: 0.25
A4: CREATION ou MODIFICATION d'un CONTRAT de TRAVAIL
A8: NOM | B8: =BDD!B7 -> 0 | C8: PRENOM | D8: =BDD!C7 -> 0 | E8: MATRICULE | F8: =BDD!D7 -> 0
A10: EMPLOI | B10: =BDD!E7 -> 0 | D10: SERVICE | E10: 220/603 MAGASIN | H10: CDD
H11: CDI
H12: SURCROIT
A13: TYPE DE CONTRAT | C13: CDD | D13: =BDD!F7 -> 0 | J13: 220/603 MAGASIN | K13: MAG NUIT
H14: OUI | J14: 220/703 LIVRAISON | K14: LIV NUIT
A15: MOTIF du CONTRAT | C15: Date de debut | E15: Date de fin | H15: NON
A17: REMPLACEMENT de: | D17: Motifs | E17: du | F17: au | H17: MALADIE
H18: C.PAYES
H19: RTT
H20: ABS AUT.
H21: ABS AUT(RCN).
H22: FORMATION
H23: CACES
H24: C PARENTAL
A25: HORAIRE HEBDO TRAVAILLE | D25: =A28+B28+C28+D28+E28+F28 -> 0 | H25: SURCROIT
A27: LUNDI M | B27: LUNDI S | C27: MARDI | D27: MERCREDI | E27: JEUDI | F27: VENDREDI
A28: =((A37-A36)+A35-A34)*24 -> 0 | B28: =((B37-B36)+B35-B34)*24 -> 0 | C28: =((C37-C36)+C35-C34)*24 -> 0 | D28: =((D37-D36)+D35-D34)*24 -> 0 | E28: =((E37-E36)+E35-E34)*24 -> 0 | F28: =((F37-F36)+F35-F34)*24 -> 0
A29: =(((A35-A34)+H2-A36)*24) -> 6 | B29: =(IF(SUM(B34:B37)=0,"0",(B37-$H1)))*24 -> 0 | C29: =(IF(SUM(C34:C37)=0,"0",(C37-$H1)))*24 -> 0 | D29: =(IF(SUM(D34:D37)=0,"0",(D37-$H1)))*24 -> 0 | E29: =(IF(SUM(E34:E37)=0,"0",(E37-$H1)))*24 -> 0 | F29: =(IF(SUM(F34:F37)=0,"0",(F37-$H1)))*24 -> 0 | M29: mettre 25:00 pour 01h00
M30: mettre 26:00 pour 02h00
A31: HORAIRES | M31: mettre 26:15 pour 02h15
M32: mettre 26:30 pour 02h30
A33: LUNDI M | B33: LUNDI S | C33: MARDI | D33: MERCREDI | E33: JEUDI | F33: VENDREDI | M33: mettre 27:00 pour 03h00
A39: NB HEURES DE NUIT | C39: =A29+B29+C29+D29+E29+F29 -> 6 | D39: Pause payée | F39: NON
A43: NOM | B43: =B8 -> 0 | C43: PRENOM | D43: =D8 -> 0
A45: HORAIRES | C45: Date de debut | D45: =D15 -> 0 | E45: Date de fin | F45: =F15 -> 0
A47: LUNDI M | B47: LUNDI S | C47: MARDI | D47: MERCREDI | E47: JEUDI | F47: VENDREDI
A48: =A34 -> 0 | B48: =B34 -> 0 | C48: =C34 -> 0 | D48: =D34 -> 0 | E48: =E34 -> 0 | F48: =F34 -> 0
A49: =A35 -> 0 | B49: =B35 -> 0 | C49: =C35 -> 0 | D49: =D35 -> 0 | E49: =E35 -> 0 | F49: =F35 -> 0
A50: =A36 -> 0 | B50: =B36 -> 0 | C50: =C36 -> 0 | D50: =D36 -> 0 | E50: =E36 -> 0 | F50: =F36 -> 0
A51: =A37 -> 0 | B51: =B37 -> 0 | C51: =C37 -> 0 | D51: =D37 -> 0 | E51: =E37 -> 0 | F51: =F37 -> 0

Sheet Sem26
H1: 0.875
H2: 0.25
A4: CREATION ou MODIFICATION d'un CONTRAT de TRAVAIL
A8: NOM | B8: =BDD!B7 -> 0 | C8: PRENOM | D8: =BDD!C7 -> 0 | E8: MATRICULE | F8: =BDD!D7 -> 0
A10: EMPLOI | B10: =BDD!E7 -> 0 | D10: SERVICE | E10: 220/603 MAGASIN | H10: CDD
H11: CDI
H12: SURCROIT
A13: TYPE DE CONTRAT | C13: CDD | D13: =BDD!F7 -> 0 | J13: 220/603 MAGASIN | K13: MAG NUIT
H14: OUI | J14: 220/703 LIVRAISON | K14: LIV NUIT
A15: MOTIF du CONTRAT | C15: Date de debut | E15: Date de fin | H15: NON
A17: REMPLACEMENT de: | D17: Motifs | E17: du | F17: au | H17: MALADIE
H18: C.PAYES
H19: RTT
H20: ABS AUT.
H21: ABS AUT(RCN).
H22: FORMATION
H23: CACES
H24: C PARENTAL
A25: HORAIRE HEBDO TRAVAILLE | D25: =A28+B28+C28+D28+E28+F28 -> 0 | H25: SURCROIT
A27: LUNDI M | B27: LUNDI S | C27: MARDI | D27: MERCREDI | E27: JEUDI | F27: VENDREDI
A28: =((A37-A36)+A35-A34)*24 -> 0 | B28: =((B37-B36)+B35-B34)*24 -> 0 | C28: =((C37-C36)+C35-C34)*24 -> 0 | D28: =((D37-D36)+D35-D34)*24 -> 0 | E28: =((E37-E36)+E35-E34)*24 -> 0 | F28: =((F37-F36)+F35-F34)*24 -> 0
A29: =(((A35-A34)+H2-A36)*24) -> 6 | B29: =(IF(SUM(B34:B37)=0,"0",(B37-$H1)))*24 -> 0 | C29: =(IF(SUM(C34:C37)=0,"0",(C37-$H1)))*24 -> 0 | D29: =(IF(SUM(D34:D37)=0,"0",(D37-$H1)))*24 -> 0 | E29: =(IF(SUM(E34:E37)=0,"0",(E37-$H1)))*24 -> 0 | F29: =(IF(SUM(F34:F37)=0,"0",(F37-$H1)))*24 -> 0 | M29: mettre 25:00 pour 01h00
M30: mettre 26:00 pour 02h00
A31: HORAIRES | M31: mettre 26:15 pour 02h15
M32: mettre 26:30 pour 02h30
A33: LUNDI M | B33: LUNDI S | C33: MARDI | D33: MERCREDI | E33: JEUDI | F33: VENDREDI | M33: mettre 27:00 pour 03h00
A39: NB HEURES DE NUIT | C39: =A29+B29+C29+D29+E29+F29 -> 6 | D39: Pause payée | F39: NON
A43: NOM | B43: =B8 -> 0 | C43: PRENOM | D43: =D8 -> 0
A45: HORAIRES | C45: Date de debut | D45: =D15 -> 0 | E45: Date de fin | F45: =F15 -> 0
A47: LUNDI M | B47: LUNDI S | C47: MARDI | D47: MERCREDI | E47: JEUDI | F47: VENDREDI
A48: =A34 -> 0 | B48: =B34 -> 0 | C48: =C34 -> 0 | D48: =D34 -> 0 | E48: =E34 -> 0 | F48: =F34 -> 0
A49: =A35 -> 0 | B49: =B35 -> 0 | C49: =C35 -> 0 | D49: =D35 -> 0 | E49: =E35 -> 0 | F49: =F35 -> 0
A50: =A36 -> 0 | B50: =B36 -> 0 | C50: =C36 -> 0 | D50: =D36 -> 0 | E50: =E36 -> 0 | F50: =F36 -> 0
A51: =A37 -> 0 | B51: =B37 -> 0 | C51: =C37 -> 0 | D51: =D37 -> 0 | E51: =E37 -> 0 | F51: =F37 -> 0

Sheet Sem27
H1: 0.875
H2: 0.25
A4: CREATION ou MODIFICATION d'un CONTRAT de TRAVAIL
A8: NOM | B8: =BDD!B7 -> 0 | C8: PRENOM | D8: =BDD!C7 -> 0 | E8: MATRICULE | F8: =BDD!D7 -> 0
A10: EMPLOI | B10: =BDD!E7 -> 0 | D10: SERVICE | E10: 220/603 MAGASIN | H10: CDD
H11: CDI
H12: SURCROIT
A13: TYPE DE CONTRAT | C13: CDD | D13: =BDD!F7 -> 0 | J13: 220/603 MAGASIN | K13: MAG NUIT
H14: OUI | J14: 220/703 LIVRAISON | K14: LIV NUIT
A15: MOTIF du CONTRAT | C15: Date de debut | E15: Date de fin | H15: NON
A17: REMPLACEMENT de: | D17: Motifs | E17: du | F17: au | H17: MALADIE
H18: C.PAYES
H19: RTT
H20: ABS AUT.
H21: ABS AUT(RCN).
H22: FORMATION
H23: CACES
H24: C PARENTAL
A25: HORAIRE HEBDO TRAVAILLE | D25: =A28+B28+C28+D28+E28+F28 -> 0 | H25: SURCROIT
A27: LUNDI M | B27: LUNDI S | C27: MARDI | D27: MERCREDI | E27: JEUDI | F27: VENDREDI
A28: =((A37-A36)+A35-A34)*24 -> 0 | B28: =((B37-B36)+B35-B34)*24 -> 0 | C28: =((C37-C36)+C35-C34)*24 -> 0 | D28: =((D37-D36)+D35-D34)*24 -> 0 | E28: =((E37-E36)+E35-E34)*24 -> 0 | F28: =((F37-F36)+F35-F34)*24 -> 0
A29: =(((A35-A34)+H2-A36)*24) -> 6 | B29: =(IF(SUM(B34:B37)=0,"0",(B37-$H1)))*24 -> 0 | C29: =(IF(SUM(C34:C37)=0,"0",(C37-$H1)))*24 -> 0 | D29: =(IF(SUM(D34:D37)=0,"0",(D37-$H1)))*24 -> 0 | E29: =(IF(SUM(E34:E37)=0,"0",(E37-$H1)))*24 -> 0 | F29: =(IF(SUM(F34:F37)=0,"0",(F37-$H1)))*24 -> 0 | M29: mettre 25:00 pour 01h00
M30: mettre 26:00 pour 02h00
A31: HORAIRES | M31: mettre 26:15 pour 02h15
M32: mettre 26:30 pour 02h30
A33: LUNDI M | B33: LUNDI S | C33: MARDI | D33: MERCREDI | E33: JEUDI | F33: VENDREDI | M33: mettre 27:00 pour 03h00
A39: NB HEURES DE NUIT | C39: =A29+B29+C29+D29+E29+F29 -> 6 | D39: Pause payée | F39: NON
A43: NOM | B43: =B8 -> 0 | C43: PRENOM | D43: =D8 -> 0
A45: HORAIRES | C45: Date de debut | D45: =D15 -> 0 | E45: Date de fin | F45: =F15 -> 0
A47: LUNDI M | B47: LUNDI S | C47: MARDI | D47: MERCREDI | E47: JEUDI | F47: VENDREDI
A48: =A34 -> 0 | B48: =B34 -> 0 | C48: =C34 -> 0 | D48: =D34 -> 0 | E48: =E34 -> 0 | F48: =F34 -> 0
A49: =A35 -> 0 | B49: =B35 -> 0 | C49: =C35 -> 0 | D49: =D35 -> 0 | E49: =E35 -> 0 | F49: =F35 -> 0
A50: =A36 -> 0 | B50: =B36 -> 0 | C50: =C36 -> 0 | D50: =D36 -> 0 | E50: =E36 -> 0 | F50: =F36 -> 0
A51: =A37 -> 0 | B51: =B37 -> 0 | C51: =C37 -> 0 | D51: =D37 -> 0 | E51: =E37 -> 0 | F51: =F37 -> 0

Sheet Sem28
H1: 0.875
H2: 0.25
A4: CREATION ou MODIFICATION d'un CONTRAT de TRAVAIL
A8: NOM | B8: =BDD!B7 -> 0 | C8: PRENOM | D8: =BDD!C7 -> 0 | E8: MATRICULE | F8: =BDD!D7 -> 0
A10: EMPLOI | B10: =BDD!E7 -> 0 | D10: SERVICE | E10: 220/603 MAGASIN | H10: CDD
H11: CDI
H12: SURCROIT
A13: TYPE DE CONTRAT | C13: CDD | D13: =BDD!F7 -> 0 | J13: 220/603 MAGASIN | K13: MAG NUIT
H14: OUI | J14: 220/703 LIVRAISON | K14: LIV NUIT
A15: MOTIF du CONTRAT | C15: Date de debut | E15: Date de fin | H15: NON
A17: REMPLACEMENT de: | D17: Motifs | E17: du | F17: au | H17: MALADIE
H18: C.PAYES
H19: RTT
H20: ABS AUT.
H21: ABS AUT(RCN).
H22: FORMATION
H23: CACES
H24: C PARENTAL
A25: HORAIRE HEBDO TRAVAILLE | D25: =A28+B28+C28+D28+E28+F28 -> 0 | H25: SURCROIT
A27: LUNDI M | B27: LUNDI S | C27: MARDI | D27: MERCREDI | E27: JEUDI | F27: VENDREDI
A28: =((A37-A36)+A35-A34)*24 -> 0 | B28: =((B37-B36)+B35-B34)*24 -> 0 | C28: =((C37-C36)+C35-C34)*24 -> 0 | D28: =((D37-D36)+D35-D34)*24 -> 0 | E28: =((E37-E36)+E35-E34)*24 -> 0 | F28: =((F37-F36)+F35-F34)*24 -> 0
A29: =(((A35-A34)+H2-A36)*24) -> 6 | B29: =(IF(SUM(B34:B37)=0,"0",(B37-$H1)))*24 -> 0 | C29: =(IF(SUM(C34:C37)=0,"0",(C37-$H1)))*24 -> 0 | D29: =(IF(SUM(D34:D37)=0,"0",(D37-$H1)))*24 -> 0 | E29: =(IF(SUM(E34:E37)=0,"0",(E37-$H1)))*24 -> 0 | F29: =(IF(SUM(F34:F37)=0,"0",(F37-$H1)))*24 -> 0 | M29: mettre 25:00 pour 01h00
M30: mettre 26:00 pour 02h00
A31: HORAIRES | M31: mettre 26:15 pour 02h15
M32: mettre 26:30 pour 02h30
A33: LUNDI M | B33: LUNDI S | C33: MARDI | D33: MERCREDI | E33: JEUDI | F33: VENDREDI | M33: mettre 27:00 pour 03h00
A39: NB HEURES DE NUIT | C39: =A29+B29+C29+D29+E29+F29 -> 6 | D39: Pause payée | F39: NON
A43: NOM | B43: =B8 -> 0 | C43: PRENOM | D43: =D8 -> 0
A45: HORAIRES | C45: Date de debut | D45: =D15 -> 0 | E45: Date de fin | F45: =F15 -> 0
A47: LUNDI M | B47: LUNDI S | C47: MARDI | D47: MERCREDI | E47: JEUDI | F47: VENDREDI
A48: =A34 -> 0 | B48: =B34 -> 0 | C48: =C34 -> 0 | D48: =D34 -> 0 | E48: =E34 -> 0 | F48: =F34 -> 0
A49: =A35 -> 0 | B49: =B35 -> 0 | C49: =C35 -> 0 | D49: =D35 -> 0 | E49: =E35 -> 0 | F49: =F35 -> 0
A50: =A36 -> 0 | B50: =B36 -> 0 | C50: =C36 -> 0 | D50: =D36 -> 0 | E50: =E36 -> 0 | F50: =F36 -> 0
A51: =A37 -> 0 | B51: =B37 -> 0 | C51: =C37 -> 0 | D51: =D37 -> 0 | E51: =E37 -> 0 | F51: =F37 -> 0

Sheet Aout
H1: 0.875
H2: 0.25
A4: CREATION ou MODIFICATION d'un CONTRAT de TRAVAIL
A8: NOM | B8: =BDD!B7 -> 0 | C8: PRENOM | D8: =BDD!C7 -> 0 | E8: MATRICULE | F8: =BDD!D7 -> 0
A10: EMPLOI | B10: =BDD!E7 -> 0 | D10: SERVICE | E10: 220/603 MAGASIN | H10: CDD
H11: CDI
H12: SURCROIT
A13: TYPE DE CONTRAT | C13: CDD | D13: =BDD!F7 -> 0 | J13: 220/603 MAGASIN | K13: MAG NUIT
H14: OUI | J14: 220/703 LIVRAISON | K14: LIV NUIT
A15: MOTIF du CONTRAT | C15: Date de debut | E15: Date de fin | H15: NON
A17: REMPLACEMENT de: | D17: Motifs | E17: du | F17: au | H17: MALADIE
H18: C.PAYES
H19: RTT
H20: ABS AUT.
H21: ABS AUT(RCN).
H22: FORMATION
H23: CACES
H24: C PARENTAL
A25: HORAIRE HEBDO TRAVAILLE | D25: =A28+B28+C28+D28+E28+F28 -> 0 | H25: SURCROIT
A27: LUNDI M | B27: LUNDI S | C27: MARDI | D27: MERCREDI | E27: JEUDI | F27: VENDREDI
A28: =((A37-A36)+A35-A34)*24 -> 0 | B28: =((B37-B36)+B35-B34)*24 -> 0 | C28: =((C37-C36)+C35-C34)*24 -> 0 | D28: =((D37-D36)+D35-D34)*24 -> 0 | E28: =((E37-E36)+E35-E34)*24 -> 0 | F28: =((F37-F36)+F35-F34)*24 -> 0
A29: =(((A35-A34)+H2-A36)*24) -> 6 | B29: =(IF(SUM(B34:B37)=0,"0",(B37-$H1)))*24 -> 0 | C29: =(IF(SUM(C34:C37)=0,"0",(C37-$H1)))*24 -> 0 | D29: =(IF(SUM(D34:D37)=0,"0",(D37-$H1)))*24 -> 0 | E29: =(IF(SUM(E34:E37)=0,"0",(E37-$H1)))*24 -> 0 | F29: =(IF(SUM(F34:F37)=0,"0",(F37-$H1)))*24 -> 0 | M29: mettre 25:00 pour 01h00
M30: mettre 26:00 pour 02h00
A31: HORAIRES | M31: mettre 26:15 pour 02h15
M32: mettre 26:30 pour 02h30
A33: LUNDI M | B33: LUNDI S | C33: MARDI | D33: MERCREDI | E33: JEUDI | F33: VENDREDI | M33: mettre 27:00 pour 03h00
A39: NB HEURES DE NUIT | C39: =A29+B29+C29+D29+E29+F29 -> 6 | D39: Pause payée | F39: NON
A43: NOM | B43: =B8 -> 0 | C43: PRENOM | D43: =D8 -> 0
A45: HORAIRES | C45: Date de debut | D45: =D15 -> 0 | E45: Date de fin | F45: =F15 -> 0
A47: LUNDI M | B47: LUNDI S | C47: MARDI | D47: MERCREDI | E47: JEUDI | F47: VENDREDI
A48: =A34 -> 0 | B48: =B34 -> 0 | C48: =C34 -> 0 | D48: =D34 -> 0 | E48: =E34 -> 0 | F48: =F34 -> 0
A49: =A35 -> 0 | B49: =B35 -> 0 | C49: =C35 -> 0 | D49: =D35 -> 0 | E49: =E35 -> 0 | F49: =F35 -> 0
A50: =A36 -> 0 | B50: =B36 -> 0 | C50: =C36 -> 0 | D50: =D36 -> 0 | E50: =E36 -> 0 | F50: =F36 -> 0
A51: =A37 -> 0 | B51: =B37 -> 0 | C51: =C37 -> 0 | D51: =D37 -> 0 | E51: =E37 -> 0 | F51: =F37 -> 0

Sheet Sem29
H1: 0.875
H2: 0.25
A4: CREATION ou MODIFICATION d'un CONTRAT de TRAVAIL
A8: NOM | B8: =BDD!B7 -> 0 | C8: PRENOM | D8: =BDD!C7 -> 0 | E8: MATRICULE | F8: =BDD!D7 -> 0
A10: EMPLOI | B10: =BDD!E7 -> 0 | D10: SERVICE | E10: 220/603 MAGASIN | H10: CDD
H11: CDI
H12: SURCROIT
A13: TYPE DE CONTRAT | C13: CDD | D13: =BDD!F7 -> 0 | J13: 220/603 MAGASIN | K13: MAG NUIT
H14: OUI | J14: 220/703 LIVRAISON | K14: LIV NUIT
A15: MOTIF du CONTRAT | C15: Date de debut | E15: Date de fin | H15: NON
A17: REMPLACEMENT de: | D17: Motifs | E17: du | F17: au | H17: MALADIE
H18: C.PAYES
H19: RTT
H20: ABS AUT.
H21: ABS AUT(RCN).
H22: FORMATION
H23: CACES
H24: C PARENTAL
A25: HORAIRE HEBDO TRAVAILLE | D25: =A28+B28+C28+D28+E28+F28 -> 0 | H25: SURCROIT
A27: LUNDI M | B27: LUNDI S | C27: MARDI | D27: MERCREDI | E27: JEUDI | F27: VENDREDI
A28: =((A37-A36)+A35-A34)*24 -> 0 | B28: =((B37-B36)+B35-B34)*24 -> 0 | C28: =((C37-C36)+C35-C34)*24 -> 0 | D28: =((D37-D36)+D35-D34)*24 -> 0 | E28: =((E37-E36)+E35-E34)*24 -> 0 | F28: =((F37-F36)+F35-F34)*24 -> 0
A29: =(((A35-A34)+H2-A36)*24) -> 6 | B29: =(IF(SUM(B34:B37)=0,"0",(B37-$H1)))*24 -> 0 | C29: =(IF(SUM(C34:C37)=0,"0",(C37-$H1)))*24 -> 0 | D29: =(IF(SUM(D34:D37)=0,"0",(D37-$H1)))*24 -> 0 | E29: =(IF(SUM(E34:E37)=0,"0",(E37-$H1)))*24 -> 0 | F29: =(IF(SUM(F34:F37)=0,"0",(F37-$H1)))*24 -> 0 | M29: mettre 25:00 pour 01h00
M30: mettre 26:00 pour 02h00
A31: HORAIRES | M31: mettre 26:15 pour 02h15
M32: mettre 26:30 pour 02h30
A33: LUNDI M | B33: LUNDI S | C33: MARDI | D33: MERCREDI | E33: JEUDI | F33: VENDREDI | M33: mettre 27:00 pour 03h00
A39: NB HEURES DE NUIT | C39: =A29+B29+C29+D29+E29+F29 -> 6 | D39: Pause payée | F39: NON
A43: NOM | B43: =B8 -> 0 | C43: PRENOM | D43: =D8 -> 0
A45: HORAIRES | C45: Date de debut | D45: =D15 -> 0 | E45: Date de fin | F45: =F15 -> 0
A47: LUNDI M | B47: LUNDI S | C47: MARDI | D47: MERCREDI | E47: JEUDI | F47: VENDREDI
A48: =A34 -> 0 | B48: =B34 -> 0 | C48: =C34 -> 0 | D48: =D34 -> 0 | E48: =E34 -> 0 | F48: =F34 -> 0
A49: =A35 -> 0 | B49: =B35 -> 0 | C49: =C35 -> 0 | D49: =D35 -> 0 | E49: =E35 -> 0 | F49: =F35 -> 0
A50: =A36 -> 0 | B50: =B36 -> 0 | C50: =C36 -> 0 | D50: =D36 -> 0 | E50: =E36 -> 0 | F50: =F36 -> 0
A51: =A37 -> 0 | B51: =B37 -> 0 | C51: =C37 -> 0 | D51: =D37 -> 0 | E51: =E37 -> 0 | F51: =F37 -> 0

Sheet Sem30
H1: 0.875
H2: 0.25
A4: CREATION ou MODIFICATION d'un CONTRAT de TRAVAIL
A8: NOM | B8: =BDD!B7 -> 0 | C8: PRENOM | D8: =BDD!C7 -> 0 | E8: MATRICULE | F8: =BDD!D7 -> 0
A10: EMPLOI | B10: =BDD!E7 -> 0 | D10: SERVICE | E10: 220/603 MAGASIN | H10: CDD
H11: CDI
H12: SURCROIT
A13: TYPE DE CONTRAT | C13: CDD | D13: =BDD!F7 -> 0 | J13: 220/603 MAGASIN | K13: MAG NUIT
H14: OUI | J14: 220/703 LIVRAISON | K14: LIV NUIT
A15: MOTIF du CONTRAT | C15: Date de debut | E15: Date de fin | H15: NON
A17: REMPLACEMENT de: | D17: Motifs | E17: du | F17: au | H17: MALADIE
H18: C.PAYES
H19: RTT
H20: ABS AUT.
H21: ABS AUT(RCN).
H22: FORMATION
H23: CACES
H24: C PARENTAL
A25: HORAIRE HEBDO TRAVAILLE | D25: =A28+B28+C28+D28+E28+F28 -> 0 | H25: SURCROIT
A27: LUNDI M | B27: LUNDI S | C27: MARDI | D27: MERCREDI | E27: JEUDI | F27: VENDREDI
A28: =((A37-A36)+A35-A34)*24 -> 0 | B28: =((B37-B36)+B35-B34)*24 -> 0 | C28: =((C37-C36)+C35-C34)*24 -> 0 | D28: =((D37-D36)+D35-D34)*24 -> 0 | E28: =((E37-E36)+E35-E34)*24 -> 0 | F28: =((F37-F36)+F35-F34)*24 -> 0
A29: =(((A35-A34)+H2-A36)*24) -> 6 | B29: =(IF(SUM(B34:B37)=0,"0",(B37-$H1)))*24 -> 0 | C29: =(IF(SUM(C34:C37)=0,"0",(C37-$H1)))*24 -> 0 | D29: =(IF(SUM(D34:D37)=0,"0",(D37-$H1)))*24 -> 0 | E29: =(IF(SUM(E34:E37)=0,"0",(E37-$H1)))*24 -> 0 | F29: =(IF(SUM(F34:F37)=0,"0",(F37-$H1)))*24 -> 0 | M29: mettre 25:00 pour 01h00
M30: mettre 26:00 pour 02h00
A31: HORAIRES | M31: mettre 26:15 pour 02h15
M32: mettre 26:30 pour 02h30
A33: LUNDI M | B33: LUNDI S | C33: MARDI | D33: MERCREDI | E33: JEUDI | F33: VENDREDI | M33: mettre 27:00 pour 03h00
A39: NB HEURES DE NUIT | C39: =A29+B29+C29+D29+E29+F29 -> 6 | D39: Pause payée | F39: NON
A43: NOM | B43: =B8 -> 0 | C43: PRENOM | D43: =D8 -> 0
A45: HORAIRES | C45: Date de debut | D45: =D15 -> 0 | E45: Date de fin | F45: =F15 -> 0
A47: LUNDI M | B47: LUNDI S | C47: MARDI | D47: MERCREDI | E47: JEUDI | F47: VENDREDI
A48: =A34 -> 0 | B48: =B34 -> 0 | C48: =C34 -> 0 | D48: =D34 -> 0 | E48: =E34 -> 0 | F48: =F34 -> 0
A49: =A35 -> 0 | B49: =B35 -> 0 | C49: =C35 -> 0 | D49: =D35 -> 0 | E49: =E35 -> 0 | F49: =F35 -> 0
A50: =A36 -> 0 | B50: =B36 -> 0 | C50: =C36 -> 0 | D50: =D36 -> 0 | E50: =E36 -> 0 | F50: =F36 -> 0
A51: =A37 -> 0 | B51: =B37 -> 0 | C51: =C37 -> 0 | D51: =D37 -> 0 | E51: =E37 -> 0 | F51: =F37 -> 0

Sheet Sem31
H1: 0.875
H2: 0.25
A4: CREATION ou MODIFICATION d'un CONTRAT de TRAVAIL
A8: NOM | B8: =BDD!B7 -> 0 | C8: PRENOM | D8: =BDD!C7 -> 0 | E8: MATRICULE | F8: =BDD!D7 -> 0
A10: EMPLOI | B10: =BDD!E7 -> 0 | D10: SERVICE | E10: 220/603 MAGASIN | H10: CDD
H11: CDI
H12: SURCROIT
A13: TYPE DE CONTRAT | C13: CDD | D13: =BDD!F7 -> 0 | J13: 220/603 MAGASIN | K13: MAG NUIT
H14: OUI | J14: 220/703 LIVRAISON | K14: LIV NUIT
A15: MOTIF du CONTRAT | C15: Date de debut | E15: Date de fin | H15: NON
A17: REMPLACEMENT de: | D17: Motifs | E17: du | F17: au | H17: MALADIE
H18: C.PAYES
H19: RTT
H20: ABS AUT.
H21: ABS AUT(RCN).
H22: FORMATION
H23: CACES
H24: C PARENTAL
A25: HORAIRE HEBDO TRAVAILLE | D25: =A28+B28+C28+D28+E28+F28 -> 0 | H25: SURCROIT
A27: LUNDI M | B27: LUNDI S | C27: MARDI | D27: MERCREDI | E27: JEUDI | F27: VENDREDI
A28: =((A37-A36)+A35-A34)*24 -> 0 | B28: =((B37-B36)+B35-B34)*24 -> 0 | C28: =((C37-C36)+C35-C34)*24 -> 0 | D28: =((D37-D36)+D35-D34)*24 -> 0 | E28: =((E37-E36)+E35-E34)*24 -> 0 | F28: =((F37-F36)+F35-F34)*24 -> 0
A29: =(((A35-A34)+H2-A36)*24) -> 6 | B29: =(IF(SUM(B34:B37)=0,"0",(B37-$H1)))*24 -> 0 | C29: =(IF(SUM(C34:C37)=0,"0",(C37-$H1)))*24 -> 0 | D29: =(IF(SUM(D34:D37)=0,"0",(D37-$H1)))*24 -> 0 | E29: =(IF(SUM(E34:E37)=0,"0",(E37-$H1)))*24 -> 0 | F29: =(IF(SUM(F34:F37)=0,"0",(F37-$H1)))*24 -> 0 | M29: mettre 25:00 pour 01h00
M30: mettre 26:00 pour 02h00
A31: HORAIRES | M31: mettre 26:15 pour 02h15
M32: mettre 26:30 pour 02h30
A33: LUNDI M | B33: LUNDI S | C33: MARDI | D33: MERCREDI | E33: JEUDI | F33: VENDREDI | M33: mettre 27:00 pour 03h00
A39: NB HEURES DE NUIT | C39: =A29+B29+C29+D29+E29+F29 -> 6 | D39: Pause payée | F39: NON
A43: NOM | B43: =B8 -> 0 | C43: PRENOM | D43: =D8 -> 0
A45: HORAIRES | C45: Date de debut | D45: =D15 -> 0 | E45: Date de fin | F45: =F15 -> 0
A47: LUNDI M | B47: LUNDI S | C47: MARDI | D47: MERCREDI | E47: JEUDI | F47: VENDREDI
A48: =A34 -> 0 | B48: =B34 -> 0 | C48: =C34 -> 0 | D48: =D34 -> 0 | E48: =E34 -> 0 | F48: =F34 -> 0
A49: =A35 -> 0 | B49: =B35 -> 0 | C49: =C35 -> 0 | D49: =D35 -> 0 | E49: =E35 -> 0 | F49: =F35 -> 0
A50: =A36 -> 0 | B50: =B36 -> 0 | C50: =C36 -> 0 | D50: =D36 -> 0 | E50: =E36 -> 0 | F50: =F36 -> 0
A51: =A37 -> 0 | B51: =B37 -> 0 | C51: =C37 -> 0 | D51: =D37 -> 0 | E51: =E37 -> 0 | F51: =F37 -> 0

Sheet Sem32
H1: 0.875
H2: 0.25
A4: CREATION ou MODIFICATION d'un CONTRAT de TRAVAIL
A8: NOM | B8: =BDD!B7 -> 0 | C8: PRENOM | D8: =BDD!C7 -> 0 | E8: MATRICULE | F8: =BDD!D7 -> 0
A10: EMPLOI | B10: =BDD!E7 -> 0 | D10: SERVICE | E10: 220/603 MAGASIN | H10: CDD
H11: CDI
H12: SURCROIT
A13: TYPE DE CONTRAT | C13: CDD | D13: =BDD!F7 -> 0 | J13: 220/603 MAGASIN | K13: MAG NUIT
H14: OUI | J14: 220/703 LIVRAISON | K14: LIV NUIT
A15: MOTIF du CONTRAT | C15: Date de debut | E15: Date de fin | H15: NON
A17: REMPLACEMENT de: | D17: Motifs | E17: du | F17: au | H17: MALADIE
H18: C.PAYES
H19: RTT
H20: ABS AUT.
H21: ABS AUT(RCN).
H22: FORMATION
H23: CACES
H24: C PARENTAL
A25: HORAIRE HEBDO TRAVAILLE | D25: =A28+B28+C28+D28+E28+F28 -> 0 | H25: SURCROIT
A27: LUNDI M | B27: LUNDI S | C27: MARDI | D27: MERCREDI | E27: JEUDI | F27: VENDREDI
A28: =((A37-A36)+A35-A34)*24 -> 0 | B28: =((B37-B36)+B35-B34)*24 -> 0 | C28: =((C37-C36)+C35-C34)*24 -> 0 | D28: =((D37-D36)+D35-D34)*24 -> 0 | E28: =((E37-E36)+E35-E34)*24 -> 0 | F28: =((F37-F36)+F35-F34)*24 -> 0
A29: =(((A35-A34)+H2-A36)*24) -> 6 | B29: =(IF(SUM(B34:B37)=0,"0",(B37-$H1)))*24 -> 0 | C29: =(IF(SUM(C34:C37)=0,"0",(C37-$H1)))*24 -> 0 | D29: =(IF(SUM(D34:D37)=0,"0",(D37-$H1)))*24 -> 0 | E29: =(IF(SUM(E34:E37)=0,"0",(E37-$H1)))*24 -> 0 | F29: =(IF(SUM(F34:F37)=0,"0",(F37-$H1)))*24 -> 0 | M29: mettre 25:00 pour 01h00
M30: mettre 26:00 pour 02h00
A31: HORAIRES | M31: mettre 26:15 pour 02h15
M32: mettre 26:30 pour 02h30
A33: LUNDI M | B33: LUNDI S | C33: MARDI | D33: MERCREDI | E33: JEUDI | F33: VENDREDI | M33: mettre 27:00 pour 03h00
A39: NB HEURES DE NUIT | C39: =A29+B29+C29+D29+E29+F29 -> 6 | D39: Pause payée | F39: NON
A43: NOM | B43: =B8 -> 0 | C43: PRENOM | D43: =D8 -> 0
A45: HORAIRES | C45: Date de debut | D45: =D15 -> 0 | E45: Date de fin | F45: =F15 -> 0
A47: LUNDI M | B47: LUNDI S | C47: MARDI | D47: MERCREDI | E47: JEUDI | F47: VENDREDI
A48: =A34 -> 0 | B48: =B34 -> 0 | C48: =C34 -> 0 | D48: =D34 -> 0 | E48: =E34 -> 0 | F48: =F34 -> 0
A49: =A35 -> 0 | B49: =B35 -> 0 | C49: =C35 -> 0 | D49: =D35 -> 0 | E49: =E35 -> 0 | F49: =F35 -> 0
A50: =A36 -> 0 | B50: =B36 -> 0 | C50: =C36 -> 0 | D50: =D36 -> 0 | E50: =E36 -> 0 | F50: =F36 -> 0
A51: =A37 -> 0 | B51: =B37 -> 0 | C51: =C37 -> 0 | D51: =D37 -> 0 | E51: =E37 -> 0 | F51: =F37 -> 0

Sheet Septembre
H1: 0.875
H2: 0.25
A4: CREATION ou MODIFICATION d'un CONTRAT de TRAVAIL
A8: NOM | B8: =BDD!B7 -> 0 | C8: PRENOM | D8: =BDD!C7 -> 0 | E8: MATRICULE | F8: =BDD!D7 -> 0
A10: EMPLOI | B10: =BDD!E7 -> 0 | D10: SERVICE | E10: 220/603 MAGASIN | H10: CDD
H11: CDI
H12: SURCROIT
A13: TYPE DE CONTRAT | C13: CDD | D13: =BDD!F7 -> 0 | J13: 220/603 MAGASIN | K13: MAG NUIT
H14: OUI | J14: 220/703 LIVRAISON | K14: LIV NUIT
A15: MOTIF du CONTRAT | C15: Date de debut | E15: Date de fin | H15: NON
A17: REMPLACEMENT de: | D17: Motifs | E17: du | F17: au | H17: MALADIE
H18: C.PAYES
H19: RTT
H20: ABS AUT.
H21: ABS AUT(RCN).
H22: FORMATION
H23: CACES
H24: C PARENTAL
A25: HORAIRE HEBDO TRAVAILLE | D25: =A28+B28+C28+D28+E28+F28 -> 0 | H25: SURCROIT
A27: LUNDI M | B27: LUNDI S | C27: MARDI | D27: MERCREDI | E27: JEUDI | F27: VENDREDI
A28: =((A37-A36)+A35-A34)*24 -> 0 | B28: =((B37-B36)+B35-B34)*24 -> 0 | C28: =((C37-C36)+C35-C34)*24 -> 0 | D28: =((D37-D36)+D35-D34)*24 -> 0 | E28: =((E37-E36)+E35-E34)*24 -> 0 | F28: =((F37-F36)+F35-F34)*24 -> 0
A29: =(((A35-A34)+H2-A36)*24) -> 6 | B29: =(IF(SUM(B34:B37)=0,"0",(B37-$H1)))*24 -> 0 | C29: =(IF(SUM(C34:C37)=0,"0",(C37-$H1)))*24 -> 0 | D29: =(IF(SUM(D34:D37)=0,"0",(D37-$H1)))*24 -> 0 | E29: =(IF(SUM(E34:E37)=0,"0",(E37-$H1)))*24 -> 0 | F29: =(IF(SUM(F34:F37)=0,"0",(F37-$H1)))*24 -> 0 | M29: mettre 25:00 pour 01h00
M30: mettre 26:00 pour 02h00
A31: HORAIRES | M31: mettre 26:15 pour 02h15
M32: mettre 26:30 pour 02h30
A33: LUNDI M | B33: LUNDI S | C33: MARDI | D33: MERCREDI | E33: JEUDI | F33: VENDREDI | M33: mettre 27:00 pour 03h00
A39: NB HEURES DE NUIT | C39: =A29+B29+C29+D29+E29+F29 -> 6 | D39: Pause payée | F39: NON
A43: NOM | B43: =B8 -> 0 | C43: PRENOM | D43: =D8 -> 0
A45: HORAIRES | C45: Date de debut | D45: =D15 -> 0 | E45: Date de fin | F45: =F15 -> 0
A47: LUNDI M | B47: LUNDI S | C47: MARDI | D47: MERCREDI | E47: JEUDI | F47: VENDREDI
A48: =A34 -> 0 | B48: =B34 -> 0 | C48: =C34 -> 0 | D48: =D34 -> 0 | E48: =E34 -> 0 | F48: =F34 -> 0
A49: =A35 -> 0 | B49: =B35 -> 0 | C49: =C35 -> 0 | D49: =D35 -> 0 | E49: =E35 -> 0 | F49: =F35 -> 0
A50: =A36 -> 0 | B50: =B36 -> 0 | C50: =C36 -> 0 | D50: =D36 -> 0 | E50: =E36 -> 0 | F50: =F36 -> 0
A51: =A37 -> 0 | B51: =B37 -> 0 | C51: =C37 -> 0 | D51: =D37 -> 0 | E51: =E37 -> 0 | F51: =F37 -> 0

Sheet Sem33
H1: 0.875
H2: 0.25
A4: CREATION ou MODIFICATION d'un CONTRAT de TRAVAIL
A8: NOM | B8: =BDD!B7 -> 0 | C8: PRENOM | D8: =BDD!C7 -> 0 | E8: MATRICULE | F8: =BDD!D7 -> 0
A10: EMPLOI | B10: =BDD!E7 -> 0 | D10: SERVICE | E10: 220/603 MAGASIN | H10: CDD
H11: CDI
H12: SURCROIT
A13: TYPE DE CONTRAT | C13: CDD | D13: =BDD!F7 -> 0 | J13: 220/603 MAGASIN | K13: MAG NUIT
H14: OUI | J14: 220/703 LIVRAISON | K14: LIV NUIT
A15: MOTIF du CONTRAT | C15: Date de debut | E15: Date de fin | H15: NON
A17: REMPLACEMENT de: | D17: Motifs | E17: du | F17: au | H17: MALADIE
H18: C.PAYES
H19: RTT
H20: ABS AUT.
H21: ABS AUT(RCN).
H22: FORMATION
H23: CACES
H24: C PARENTAL
A25: HORAIRE HEBDO TRAVAILLE | D25: =A28+B28+C28+D28+E28+F28 -> 0 | H25: SURCROIT
A27: LUNDI M | B27: LUNDI S | C27: MARDI | D27: MERCREDI | E27: JEUDI | F27: VENDREDI
A28: =((A37-A36)+A35-A34)*24 -> 0 | B28: =((B37-B36)+B35-B34)*24 -> 0 | C28: =((C37-C36)+C35-C34)*24 -> 0 | D28: =((D37-D36)+D35-D34)*24 -> 0 | E28: =((E37-E36)+E35-E34)*24 -> 0 | F28: =((F37-F36)+F35-F34)*24 -> 0
A29: =(((A35-A34)+H2-A36)*24) -> 6 | B29: =(IF(SUM(B34:B37)=0,"0",(B37-$H1)))*24 -> 0 | C29: =(IF(SUM(C34:C37)=0,"0",(C37-$H1)))*24 -> 0 | D29: =(IF(SUM(D34:D37)=0,"0",(D37-$H1)))*24 -> 0 | E29: =(IF(SUM(E34:E37)=0,"0",(E37-$H1)))*24 -> 0 | F29: =(IF(SUM(F34:F37)=0,"0",(F37-$H1)))*24 -> 0 | M29: mettre 25:00 pour 01h00
M30: mettre 26:00 pour 02h00
A31: HORAIRES | M31: mettre 26:15 pour 02h15
M32: mettre 26:30 pour 02h30
A33: LUNDI M | B33: LUNDI S | C33: MARDI | D33: MERCREDI | E33: JEUDI | F33: VENDREDI | M33: mettre 27:00 pour 03h00
A39: NB HEURES DE NUIT | C39: =A29+B29+C29+D29+E29+F29 -> 6 | D39: Pause payée | F39: NON
A43: NOM | B43: =B8 -> 0 | C43: PRENOM | D43: =D8 -> 0
A45: HORAIRES | C45: Date de debut | D45: =D15 -> 0 | E45: Date de fin | F45: =F15 -> 0
A47: LUNDI M | B47: LUNDI S | C47: MARDI | D47: MERCREDI | E47: JEUDI | F47: VENDREDI
A48: =A34 -> 0 | B48: =B34 -> 0 | C48: =C34 -> 0 | D48: =D34 -> 0 | E48: =E34 -> 0 | F48: =F34 -> 0
A49: =A35 -> 0 | B49: =B35 -> 0 | C49: =C35 -> 0 | D49: =D35 -> 0 | E49: =E35 -> 0 | F49: =F35 -> 0
A50: =A36 -> 0 | B50: =B36 -> 0 | C50: =C36 -> 0 | D50: =D36 -> 0 | E50: =E36 -> 0 | F50: =F36 -> 0
A51: =A37 -> 0 | B51: =B37 -> 0 | C51: =C37 -> 0 | D51: =D37 -> 0 | E51: =E37 -> 0 | F51: =F37 -> 0

Sheet Sem34
H1: 0.875
H2: 0.25
A4: CREATION ou MODIFICATION d'un CONTRAT de TRAVAIL
A8: NOM | B8: =BDD!B7 -> 0 | C8: PRENOM | D8: =BDD!C7 -> 0 | E8: MATRICULE | F8: =BDD!D7 -> 0
A10: EMPLOI | B10: =BDD!E7 -> 0 | D10: SERVICE | E10: 220/603 MAGASIN | H10: CDD
H11: CDI
H12: SURCROIT
A13: TYPE DE CONTRAT | C13: CDD | D13: =BDD!F7 -> 0 | J13: 220/603 MAGASIN | K13: MAG NUIT
H14: OUI | J14: 220/703 LIVRAISON | K14: LIV NUIT
A15: MOTIF du CONTRAT | C15: Date de debut | E15: Date de fin | H15: NON
A17: REMPLACEMENT de: | D17: Motifs | E17: du | F17: au | H17: MALADIE
H18: C.PAYES
H19: RTT
H20: ABS AUT.
H21: ABS AUT(RCN).
H22: FORMATION
H23: CACES
H24: C PARENTAL
A25: HORAIRE HEBDO TRAVAILLE | D25: =A28+B28+C28+D28+E28+F28 -> 0 | H25: SURCROIT
A27: LUNDI M | B27: LUNDI S | C27: MARDI | D27: MERCREDI | E27: JEUDI | F27: VENDREDI
A28: =((A37-A36)+A35-A34)*24 -> 0 | B28: =((B37-B36)+B35-B34)*24 -> 0 | C28: =((C37-C36)+C35-C34)*24 -> 0 | D28: =((D37-D36)+D35-D34)*24 -> 0 | E28: =((E37-E36)+E35-E34)*24 -> 0 | F28: =((F37-F36)+F35-F34)*24 -> 0
A29: =(((A35-A34)+H2-A36)*24) -> 6 | B29: =(IF(SUM(B34:B37)=0,"0",(B37-$H1)))*24 -> 0 | C29: =(IF(SUM(C34:C37)=0,"0",(C37-$H1)))*24 -> 0 | D29: =(IF(SUM(D34:D37)=0,"0",(D37-$H1)))*24 -> 0 | E29: =(IF(SUM(E34:E37)=0,"0",(E37-$H1)))*24 -> 0 | F29: =(IF(SUM(F34:F37)=0,"0",(F37-$H1)))*24 -> 0 | M29: mettre 25:00 pour 01h00
M30: mettre 26:00 pour 02h00
A31: HORAIRES | M31: mettre 26:15 pour 02h15
M32: mettre 26:30 pour 02h30
A33: LUNDI M | B33: LUNDI S | C33: MARDI | D33: MERCREDI | E33: JEUDI | F33: VENDREDI | M33: mettre 27:00 pour 03h00
A39: NB HEURES DE NUIT | C39: =A29+B29+C29+D29+E29+F29 -> 6 | D39: Pause payée | F39: NON
A43: NOM | B43: =B8 -> 0 | C43: PRENOM | D43: =D8 -> 0
A45: HORAIRES | C45: Date de debut | D45: =D15 -> 0 | E45: Date de fin | F45: =F15 -> 0
A47: LUNDI M | B47: LUNDI S | C47: MARDI | D47: MERCREDI | E47: JEUDI | F47: VENDREDI
A48: =A34 -> 0 | B48: =B34 -> 0 | C48: =C34 -> 0 | D48: =D34 -> 0 | E48: =E34 -> 0 | F48: =F34 -> 0
A49: =A35 -> 0 | B49: =B35 -> 0 | C49: =C35 -> 0 | D49: =D35 -> 0 | E49: =E35 -> 0 | F49: =F35 -> 0
A50: =A36 -> 0 | B50: =B36 -> 0 | C50: =C36 -> 0 | D50: =D36 -> 0 | E50: =E36 -> 0 | F50: =F36 -> 0
A51: =A37 -> 0 | B51: =B37 -> 0 | C51: =C37 -> 0 | D51: =D37 -> 0 | E51: =E37 -> 0 | F51: =F37 -> 0

Sheet Sem35
H1: 0.875
H2: 0.25
A4: CREATION ou MODIFICATION d'un CONTRAT de TRAVAIL
A8: NOM | B8: =BDD!B7 -> 0 | C8: PRENOM | D8: =BDD!C7 -> 0 | E8: MATRICULE | F8: =BDD!D7 -> 0
A10: EMPLOI | B10: =BDD!E7 -> 0 | D10: SERVICE | E10: 220/603 MAGASIN | H10: CDD
H11: CDI
H12: SURCROIT
A13: TYPE DE CONTRAT | C13: CDD | D13: =BDD!F7 -> 0 | J13: 220/603 MAGASIN | K13: MAG NUIT
H14: OUI | J14: 220/703 LIVRAISON | K14: LIV NUIT
A15: MOTIF du CONTRAT | C15: Date de debut | E15: Date de fin | H15: NON
A17: REMPLACEMENT de: | D17: Motifs | E17: du | F17: au | H17: MALADIE
H18: C.PAYES
H19: RTT
H20: ABS AUT.
H21: ABS AUT(RCN).
H22: FORMATION
H23: CACES
H24: C PARENTAL
A25: HORAIRE HEBDO TRAVAILLE | D25: =A28+B28+C28+D28+E28+F28 -> 0 | H25: SURCROIT
A27: LUNDI M | B27: LUNDI S | C27: MARDI | D27: MERCREDI | E27: JEUDI | F27: VENDREDI
A28: =((A37-A36)+A35-A34)*24 -> 0 | B28: =((B37-B36)+B35-B34)*24 -> 0 | C28: =((C37-C36)+C35-C34)*24 -> 0 | D28: =((D37-D36)+D35-D34)*24 -> 0 | E28: =((E37-E36)+E35-E34)*24 -> 0 | F28: =((F37-F36)+F35-F34)*24 -> 0
A29: =(((A35-A34)+H2-A36)*24) -> 6 | B29: =(IF(SUM(B34:B37)=0,"0",(B37-$H1)))*24 -> 0 | C29: =(IF(SUM(C34:C37)=0,"0",(C37-$H1)))*24 -> 0 | D29: =(IF(SUM(D34:D37)=0,"0",(D37-$H1)))*24 -> 0 | E29: =(IF(SUM(E34:E37)=0,"0",(E37-$H1)))*24 -> 0 | F29: =(IF(SUM(F34:F37)=0,"0",(F37-$H1)))*24 -> 0 | M29: mettre 25:00 pour 01h00
M30: mettre 26:00 pour 02h00
A31: HORAIRES | M31: mettre 26:15 pour 02h15
M32: mettre 26:30 pour 02h30
A33: LUNDI M | B33: LUNDI S | C33: MARDI | D33: MERCREDI | E33: JEUDI | F33: VENDREDI | M33: mettre 27:00 pour 03h00
A39: NB HEURES DE NUIT | C39: =A29+B29+C29+D29+E29+F29 -> 6 | D39: Pause payée | F39: NON
A43: NOM | B43: =B8 -> 0 | C43: PRENOM | D43: =D8 -> 0
A45: HORAIRES | C45: Date de debut | D45: =D15 -> 0 | E45: Date de fin | F45: =F15 -> 0
A47: LUNDI M | B47: LUNDI S | C47: MARDI | D47: MERCREDI | E47: JEUDI | F47: VENDREDI
A48: =A34 -> 0 | B48: =B34 -> 0 | C48: =C34 -> 0 | D48: =D34 -> 0 | E48: =E34 -> 0 | F48: =F34 -> 0
A49: =A35 -> 0 | B49: =B35 -> 0 | C49: =C35 -> 0 | D49: =D35 -> 0 | E49: =E35 -> 0 | F49: =F35 -> 0
A50: =A36 -> 0 | B50: =B36 -> 0 | C50: =C36 -> 0 | D50: =D36 -> 0 | E50: =E36 -> 0 | F50: =F36 -> 0
A51: =A37 -> 0 | B51: =B37 -> 0 | C51: =C37 -> 0 | D51: =D37 -> 0 | E51: =E37 -> 0 | F51: =F37 -> 0

Sheet Sem36
H1: 0.875
H2: 0.25
A4: CREATION ou MODIFICATION d'un CONTRAT de TRAVAIL
A8: NOM | B8: =BDD!B7 -> 0 | C8: PRENOM | D8: =BDD!C7 -> 0 | E8: MATRICULE | F8: =BDD!D7 -> 0
A10: EMPLOI | B10: =BDD!E7 -> 0 | D10: SERVICE | E10: 220/603 MAGASIN | H10: CDD
H11: CDI
H12: SURCROIT
A13: TYPE DE CONTRAT | C13: CDD | D13: =BDD!F7 -> 0 | J13: 220/603 MAGASIN | K13: MAG NUIT
H14: OUI | J14: 220/703 LIVRAISON | K14: LIV NUIT
A15: MOTIF du CONTRAT | C15: Date de debut | E15: Date de fin | H15: NON
A17: REMPLACEMENT de: | D17: Motifs | E17: du | F17: au | H17: MALADIE
H18: C.PAYES
H19: RTT
H20: ABS AUT.
H21: ABS AUT(RCN).
H22: FORMATION
H23: CACES
H24: C PARENTAL
A25: HORAIRE HEBDO TRAVAILLE | D25: =A28+B28+C28+D28+E28+F28 -> 0 | H25: SURCROIT
A27: LUNDI M | B27: LUNDI S | C27: MARDI | D27: MERCREDI | E27: JEUDI | F27: VENDREDI
A28: =((A37-A36)+A35-A34)*24 -> 0 | B28: =((B37-B36)+B35-B34)*24 -> 0 | C28: =((C37-C36)+C35-C34)*24 -> 0 | D28: =((D37-D36)+D35-D34)*24 -> 0 | E28: =((E37-E36)+E35-E34)*24 -> 0 | F28: =((F37-F36)+F35-F34)*24 -> 0
A29: =(((A35-A34)+H2-A36)*24) -> 6 | B29: =(IF(SUM(B34:B37)=0,"0",(B37-$H1)))*24 -> 0 | C29: =(IF(SUM(C34:C37)=0,"0",(C37-$H1)))*24 -> 0 | D29: =(IF(SUM(D34:D37)=0,"0",(D37-$H1)))*24 -> 0 | E29: =(IF(SUM(E34:E37)=0,"0",(E37-$H1)))*24 -> 0 | F29: =(IF(SUM(F34:F37)=0,"0",(F37-$H1)))*24 -> 0 | M29: mettre 25:00 pour 01h00
M30: mettre 26:00 pour 02h00
A31: HORAIRES | M31: mettre 26:15 pour 02h15
M32: mettre 26:30 pour 02h30
A33: LUNDI M | B33: LUNDI S | C33: MARDI | D33: MERCREDI | E33: JEUDI | F33: VENDREDI | M33: mettre 27:00 pour 03h00
A39: NB HEURES DE NUIT | C39: =A29+B29+C29+D29+E29+F29 -> 6 | D39: Pause payée | F39: NON
A43: NOM | B43: =B8 -> 0 | C43: PRENOM | D43: =D8 -> 0
A45: HORAIRES | C45: Date de debut | D45: =D15 -> 0 | E45: Date de fin | F45: =F15 -> 0
A47: LUNDI M | B47: LUNDI S | C47: MARDI | D47: MERCREDI | E47: JEUDI | F47: VENDREDI
A48: =A34 -> 0 | B48: =B34 -> 0 | C48: =C34 -> 0 | D48: =D34 -> 0 | E48: =E34 -> 0 | F48: =F34 -> 0
A49: =A35 -> 0 | B49: =B35 -> 0 | C49: =C35 -> 0 | D49: =D35 -> 0 | E49: =E35 -> 0 | F49: =F35 -> 0
A50: =A36 -> 0 | B50: =B36 -> 0 | C50: =C36 -> 0 | D50: =D36 -> 0 | E50: =E36 -> 0 | F50: =F36 -> 0
A51: =A37 -> 0 | B51: =B37 -> 0 | C51: =C37 -> 0 | D51: =D37 -> 0 | E51: =E37 -> 0 | F51: =F37 -> 0

Sheet Octobre
H1: 0.875
H2: 0.25
A4: CREATION ou MODIFICATION d'un CONTRAT de TRAVAIL
A8: NOM | B8: =BDD!B7 -> 0 | C8: PRENOM | D8: =BDD!C7 -> 0 | E8: MATRICULE | F8: =BDD!D7 -> 0
A10: EMPLOI | B10: =BDD!E7 -> 0 | D10: SERVICE | E10: 220/603 MAGASIN | H10: CDD
H11: CDI
H12: SURCROIT
A13: TYPE DE CONTRAT | C13: CDD | D13: =BDD!F7 -> 0 | J13: 220/603 MAGASIN | K13: MAG NUIT
H14: OUI | J14: 220/703 LIVRAISON | K14: LIV NUIT
A15: MOTIF du CONTRAT | C15: Date de debut | E15: Date de fin | H15: NON
A17: REMPLACEMENT de: | D17: Motifs | E17: du | F17: au | H17: MALADIE
H18: C.PAYES
H19: RTT
H20: ABS AUT.
H21: ABS AUT(RCN).
H22: FORMATION
H23: CACES
H24: C PARENTAL
A25: HORAIRE HEBDO TRAVAILLE | D25: =A28+B28+C28+D28+E28+F28 -> 0 | H25: SURCROIT
A27: LUNDI M | B27: LUNDI S | C27: MARDI | D27: MERCREDI | E27: JEUDI | F27: VENDREDI
A28: =((A37-A36)+A35-A34)*24 -> 0 | B28: =((B37-B36)+B35-B34)*24 -> 0 | C28: =((C37-C36)+C35-C34)*24 -> 0 | D28: =((D37-D36)+D35-D34)*24 -> 0 | E28: =((E37-E36)+E35-E34)*24 -> 0 | F28: =((F37-F36)+F35-F34)*24 -> 0
A29: =(((A35-A34)+H2-A36)*24) -> 6 | B29: =(IF(SUM(B34:B37)=0,"0",(B37-$H1)))*24 -> 0 | C29: =(IF(SUM(C34:C37)=0,"0",(C37-$H1)))*24 -> 0 | D29: =(IF(SUM(D34:D37)=0,"0",(D37-$H1)))*24 -> 0 | E29: =(IF(SUM(E34:E37)=0,"0",(E37-$H1)))*24 -> 0 | F29: =(IF(SUM(F34:F37)=0,"0",(F37-$H1)))*24 -> 0 | M29: mettre 25:00 pour 01h00
M30: mettre 26:00 pour 02h00
A31: HORAIRES | M31: mettre 26:15 pour 02h15
M32: mettre 26:30 pour 02h30
A33: LUNDI M | B33: LUNDI S | C33: MARDI | D33: MERCREDI | E33: JEUDI | F33: VENDREDI | M33: mettre 27:00 pour 03h00
A39: NB HEURES DE NUIT | C39: =A29+B29+C29+D29+E29+F29 -> 6 | D39: Pause payée | F39: NON
A43: NOM | B43: =B8 -> 0 | C43: PRENOM | D43: =D8 -> 0
A45: HORAIRES | C45: Date de debut | D45: =D15 -> 0 | E45: Date de fin | F45: =F15 -> 0
A47: LUNDI M | B47: LUNDI S | C47: MARDI | D47: MERCREDI | E47: JEUDI | F47: VENDREDI
A48: =A34 -> 0 | B48: =B34 -> 0 | C48: =C34 -> 0 | D48: =D34 -> 0 | E48: =E34 -> 0 | F48: =F34 -> 0
A49: =A35 -> 0 | B49: =B35 -> 0 | C49: =C35 -> 0 | D49: =D35 -> 0 | E49: =E35 -> 0 | F49: =F35 -> 0
A50: =A36 -> 0 | B50: =B36 -> 0 | C50: =C36 -> 0 | D50: =D36 -> 0 | E50: =E36 -> 0 | F50: =F36 -> 0
A51: =A37 -> 0 | B51: =B37 -> 0 | C51: =C37 -> 0 | D51: =D37 -> 0 | E51: =E37 -> 0 | F51: =F37 -> 0

Sheet Sem37
H1: 0.875
H2: 0.25
A4: CREATION ou MODIFICATION d'un CONTRAT de TRAVAIL
A8: NOM | B8: =BDD!B7 -> 0 | C8: PRENOM | D8: =BDD!C7 -> 0 | E8: MATRICULE | F8: =BDD!D7 -> 0
A10: EMPLOI | B10: =BDD!E7 -> 0 | D10: SERVICE | E10: 220/603 MAGASIN | H10: CDD
H11: CDI
H12: SURCROIT
A13: TYPE DE CONTRAT | C13: CDD | D13: =BDD!F7 -> 0 | J13: 220/603 MAGASIN | K13: MAG NUIT
H14: OUI | J14: 220/703 LIVRAISON | K14: LIV NUIT
A15: MOTIF du CONTRAT | C15: Date de debut | E15: Date de fin | H15: NON
A17: REMPLACEMENT de: | D17: Motifs | E17: du | F17: au | H17: MALADIE
H18: C.PAYES
H19: RTT
H20: ABS AUT.
H21: ABS AUT(RCN).
H22: FORMATION
H23: CACES
H24: C PARENTAL
A25: HORAIRE HEBDO TRAVAILLE | D25: =A28+B28+C28+D28+E28+F28 -> 0 | H25: SURCROIT
A27: LUNDI M | B27: LUNDI S | C27: MARDI | D27: MERCREDI | E27: JEUDI | F27: VENDREDI
A28: =((A37-A36)+A35-A34)*24 -> 0 | B28: =((B37-B36)+B35-B34)*24 -> 0 | C28: =((C37-C36)+C35-C34)*24 -> 0 | D28: =((D37-D36)+D35-D34)*24 -> 0 | E28: =((E37-E36)+E35-E34)*24 -> 0 | F28: =((F37-F36)+F35-F34)*24 -> 0
A29: =(((A35-A34)+H2-A36)*24) -> 6 | B29: =(IF(SUM(B34:B37)=0,"0",(B37-$H1)))*24 -> 0 | C29: =(IF(SUM(C34:C37)=0,"0",(C37-$H1)))*24 -> 0 | D29: =(IF(SUM(D34:D37)=0,"0",(D37-$H1)))*24 -> 0 | E29: =(IF(SUM(E34:E37)=0,"0",(E37-$H1)))*24 -> 0 | F29: =(IF(SUM(F34:F37)=0,"0",(F37-$H1)))*24 -> 0 | M29: mettre 25:00 pour 01h00
M30: mettre 26:00 pour 02h00
A31: HORAIRES | M31: mettre 26:15 pour 02h15
M32: mettre 26:30 pour 02h30
A33: LUNDI M | B33: LUNDI S | C33: MARDI | D33: MERCREDI | E33: JEUDI | F33: VENDREDI | M33: mettre 27:00 pour 03h00
A39: NB HEURES DE NUIT | C39: =A29+B29+C29+D29+E29+F29 -> 6 | D39: Pause payée | F39: NON
A43: NOM | B43: =B8 -> 0 | C43: PRENOM | D43: =D8 -> 0
A45: HORAIRES | C45: Date de debut | D45: =D15 -> 0 | E45: Date de fin | F45: =F15 -> 0
A47: LUNDI M | B47: LUNDI S | C47: MARDI | D47: MERCREDI | E47: JEUDI | F47: VENDREDI
A48: =A34 -> 0 | B48: =B34 -> 0 | C48: =C34 -> 0 | D48: =D34 -> 0 | E48: =E34 -> 0 | F48: =F34 -> 0
A49: =A35 -> 0 | B49: =B35 -> 0 | C49: =C35 -> 0 | D49: =D35 -> 0 | E49: =E35 -> 0 | F49: =F35 -> 0
A50: =A36 -> 0 | B50: =B36 -> 0 | C50: =C36 -> 0 | D50: =D36 -> 0 | E50: =E36 -> 0 | F50: =F36 -> 0
A51: =A37 -> 0 | B51: =B37 -> 0 | C51: =C37 -> 0 | D51: =D37 -> 0 | E51: =E37 -> 0 | F51: =F37 -> 0

Sheet Sem38
H1: 0.875
H2: 0.25
A4: CREATION ou MODIFICATION d'un CONTRAT de TRAVAIL
A8: NOM | B8: =BDD!B7 -> 0 | C8: PRENOM | D8: =BDD!C7 -> 0 | E8: MATRICULE | F8: =BDD!D7 -> 0
A10: EMPLOI | B10: =BDD!E7 -> 0 | D10: SERVICE | E10: 220/603 MAGASIN | H10: CDD
H11: CDI
H12: SURCROIT
A13: TYPE DE CONTRAT | C13: CDD | D13: =BDD!F7 -> 0 | J13: 220/603 MAGASIN | K13: MAG NUIT
H14: OUI | J14: 220/703 LIVRAISON | K14: LIV NUIT
A15: MOTIF du CONTRAT | C15: Date de debut | E15: Date de fin | H15: NON
A17: REMPLACEMENT de: | D17: Motifs | E17: du | F17: au | H17: MALADIE
H18: C.PAYES
H19: RTT
H20: ABS AUT.
H21: ABS AUT(RCN).
H22: FORMATION
H23: CACES
H24: C PARENTAL
A25: HORAIRE HEBDO TRAVAILLE | D25: =A28+B28+C28+D28+E28+F28 -> 0 | H25: SURCROIT
A27: LUNDI M | B27: LUNDI S | C27: MARDI | D27: MERCREDI | E27: JEUDI | F27: VENDREDI
A28: =((A37-A36)+A35-A34)*24 -> 0 | B28: =((B37-B36)+B35-B34)*24 -> 0 | C28: =((C37-C36)+C35-C34)*24 -> 0 | D28: =((D37-D36)+D35-D34)*24 -> 0 | E28: =((E37-E36)+E35-E34)*24 -> 0 | F28: =((F37-F36)+F35-F34)*24 -> 0
A29: =(((A35-A34)+H2-A36)*24) -> 6 | B29: =(IF(SUM(B34:B37)=0,"0",(B37-$H1)))*24 -> 0 | C29: =(IF(SUM(C34:C37)=0,"0",(C37-$H1)))*24 -> 0 | D29: =(IF(SUM(D34:D37)=0,"0",(D37-$H1)))*24 -> 0 | E29: =(IF(SUM(E34:E37)=0,"0",(E37-$H1)))*24 -> 0 | F29: =(IF(SUM(F34:F37)=0,"0",(F37-$H1)))*24 -> 0 | M29: mettre 25:00 pour 01h00
M30: mettre 26:00 pour 02h00
A31: HORAIRES | M31: mettre 26:15 pour 02h15
M32: mettre 26:30 pour 02h30
A33: LUNDI M | B33: LUNDI S | C33: MARDI | D33: MERCREDI | E33: JEUDI | F33: VENDREDI | M33: mettre 27:00 pour 03h00
A39: NB HEURES DE NUIT | C39: =A29+B29+C29+D29+E29+F29 -> 6 | D39: Pause payée | F39: NON
A43: NOM | B43: =B8 -> 0 | C43: PRENOM | D43: =D8 -> 0
A45: HORAIRES | C45: Date de debut | D45: =D15 -> 0 | E45: Date de fin | F45: =F15 -> 0
A47: LUNDI M | B47: LUNDI S | C47: MARDI | D47: MERCREDI | E47: JEUDI | F47: VENDREDI
A48: =A34 -> 0 | B48: =B34 -> 0 | C48: =C34 -> 0 | D48: =D34 -> 0 | E48: =E34 -> 0 | F48: =F34 -> 0
A49: =A35 -> 0 | B49: =B35 -> 0 | C49: =C35 -> 0 | D49: =D35 -> 0 | E49: =E35 -> 0 | F49: =F35 -> 0
A50: =A36 -> 0 | B50: =B36 -> 0 | C50: =C36 -> 0 | D50: =D36 -> 0 | E50: =E36 -> 0 | F50: =F36 -> 0
A51: =A37 -> 0 | B51: =B37 -> 0 | C51: =C37 -> 0 | D51: =D37 -> 0 | E51: =E37 -> 0 | F51: =F37 -> 0

Sheet Sem39
H1: 0.875
H2: 0.25
A4: CREATION ou MODIFICATION d'un CONTRAT de TRAVAIL
A8: NOM | B8: =BDD!B7 -> 0 | C8: PRENOM | D8: =BDD!C7 -> 0 | E8: MATRICULE | F8: =BDD!D7 -> 0
A10: EMPLOI | B10: =BDD!E7 -> 0 | D10: SERVICE | E10: 220/603 MAGASIN | H10: CDD
H11: CDI
H12: SURCROIT
A13: TYPE DE CONTRAT | C13: CDD | D13: =BDD!F7 -> 0 | J13: 220/603 MAGASIN | K13: MAG NUIT
H14: OUI | J14: 220/703 LIVRAISON | K14: LIV NUIT
A15: MOTIF du CONTRAT | C15: Date de debut | E15: Date de fin | H15: NON
A17: REMPLACEMENT de: | D17: Motifs | E17: du | F17: au | H17: MALADIE
H18: C.PAYES
H19: RTT
H20: ABS AUT.
H21: ABS AUT(RCN).
H22: FORMATION
H23: CACES
H24: C PARENTAL
A25: HORAIRE HEBDO TRAVAILLE | D25: =A28+B28+C28+D28+E28+F28 -> 0 | H25: SURCROIT
A27: LUNDI M | B27: LUNDI S | C27: MARDI | D27: MERCREDI | E27: JEUDI | F27: VENDREDI
A28: =((A37-A36)+A35-A34)*24 -> 0 | B28: =((B37-B36)+B35-B34)*24 -> 0 | C28: =((C37-C36)+C35-C34)*24 -> 0 | D28: =((D37-D36)+D35-D34)*24 -> 0 | E28: =((E37-E36)+E35-E34)*24 -> 0 | F28: =((F37-F36)+F35-F34)*24 -> 0
A29: =(((A35-A34)+H2-A36)*24) -> 6 | B29: =(IF(SUM(B34:B37)=0,"0",(B37-$H1)))*24 -> 0 | C29: =(IF(SUM(C34:C37)=0,"0",(C37-$H1)))*24 -> 0 | D29: =(IF(SUM(D34:D37)=0,"0",(D37-$H1)))*24 -> 0 | E29: =(IF(SUM(E34:E37)=0,"0",(E37-$H1)))*24 -> 0 | F29: =(IF(SUM(F34:F37)=0,"0",(F37-$H1)))*24 -> 0 | M29: mettre 25:00 pour 01h00
M30: mettre 26:00 pour 02h00
A31: HORAIRES | M31: mettre 26:15 pour 02h15
M32: mettre 26:30 pour 02h30
A33: LUNDI M | B33: LUNDI S | C33: MARDI | D33: MERCREDI | E33: JEUDI | F33: VENDREDI | M33: mettre 27:00 pour 03h00
A39: NB HEURES DE NUIT | C39: =A29+B29+C29+D29+E29+F29 -> 6 | D39: Pause payée | F39: NON
A43: NOM | B43: =B8 -> 0 | C43: PRENOM | D43: =D8 -> 0
A45: HORAIRES | C45: Date de debut | D45: =D15 -> 0 | E45: Date de fin | F45: =F15 -> 0
A47: LUNDI M | B47: LUNDI S | C47: MARDI | D47: MERCREDI | E47: JEUDI | F47: VENDREDI
A48: =A34 -> 0 | B48: =B34 -> 0 | C48: =C34 -> 0 | D48: =D34 -> 0 | E48: =E34 -> 0 | F48: =F34 -> 0
A49: =A35 -> 0 | B49: =B35 -> 0 | C49: =C35 -> 0 | D49: =D35 -> 0 | E49: =E35 -> 0 | F49: =F35 -> 0
A50: =A36 -> 0 | B50: =B36 -> 0 | C50: =C36 -> 0 | D50: =D36 -> 0 | E50: =E36 -> 0 | F50: =F36 -> 0
A51: =A37 -> 0 | B51: =B37 -> 0 | C51: =C37 -> 0 | D51: =D37 -> 0 | E51: =E37 -> 0 | F51: =F37 -> 0

Sheet Sem40
H1: 0.875
H2: 0.25
A4: CREATION ou MODIFICATION d'un CONTRAT de TRAVAIL
A8: NOM | B8: =BDD!B7 -> 0 | C8: PRENOM | D8: =BDD!C7 -> 0 | E8: MATRICULE | F8: =BDD!D7 -> 0
A10: EMPLOI | B10: =BDD!E7 -> 0 | D10: SERVICE | E10: 220/603 MAGASIN | H10: CDD
H11: CDI
H12: SURCROIT
A13: TYPE DE CONTRAT | C13: CDD | D13: =BDD!F7 -> 0 | J13: 220/603 MAGASIN | K13: MAG NUIT
H14: OUI | J14: 220/703 LIVRAISON | K14: LIV NUIT
A15: MOTIF du CONTRAT | C15: Date de debut | E15: Date de fin | H15: NON
A17: REMPLACEMENT de: | D17: Motifs | E17: du | F17: au | H17: MALADIE
H18: C.PAYES
H19: RTT
H20: ABS AUT.
H21: ABS AUT(RCN).
H22: FORMATION
H23: CACES
H24: C PARENTAL
A25: HORAIRE HEBDO TRAVAILLE | D25: =A28+B28+C28+D28+E28+F28 -> 0 | H25: SURCROIT
A27: LUNDI M | B27: LUNDI S | C27: MARDI | D27: MERCREDI | E27: JEUDI | F27: VENDREDI
A28: =((A37-A36)+A35-A34)*24 -> 0 | B28: =((B37-B36)+B35-B34)*24 -> 0 | C28: =((C37-C36)+C35-C34)*24 -> 0 | D28: =((D37-D36)+D35-D34)*24 -> 0 | E28: =((E37-E36)+E35-E34)*24 -> 0 | F28: =((F37-F36)+F35-F34)*24 -> 0
A29: =(((A35-A34)+H2-A36)*24) -> 6 | B29: =(IF(SUM(B34:B37)=0,"0",(B37-$H1)))*24 -> 0 | C29: =(IF(SUM(C34:C37)=0,"0",(C37-$H1)))*24 -> 0 | D29: =(IF(SUM(D34:D37)=0,"0",(D37-$H1)))*24 -> 0 | E29: =(IF(SUM(E34:E37)=0,"0",(E37-$H1)))*24 -> 0 | F29: =(IF(SUM(F34:F37)=0,"0",(F37-$H1)))*24 -> 0 | M29: mettre 25:00 pour 01h00
M30: mettre 26:00 pour 02h00
A31: HORAIRES | M31: mettre 26:15 pour 02h15
M32: mettre 26:30 pour 02h30
A33: LUNDI M | B33: LUNDI S | C33: MARDI | D33: MERCREDI | E33: JEUDI | F33: VENDREDI | M33: mettre 27:00 pour 03h00
A39: NB HEURES DE NUIT | C39: =A29+B29+C29+D29+E29+F29 -> 6 | D39: Pause payée | F39: NON
A43: NOM | B43: =B8 -> 0 | C43: PRENOM | D43: =D8 -> 0
A45: HORAIRES | C45: Date de debut | D45: =D15 -> 0 | E45: Date de fin | F45: =F15 -> 0
A47: LUNDI M | B47: LUNDI S | C47: MARDI | D47: MERCREDI | E47: JEUDI | F47: VENDREDI
A48: =A34 -> 0 | B48: =B34 -> 0 | C48: =C34 -> 0 | D48: =D34 -> 0 | E48: =E34 -> 0 | F48: =F34 -> 0
A49: =A35 -> 0 | B49: =B35 -> 0 | C49: =C35 -> 0 | D49: =D35 -> 0 | E49: =E35 -> 0 | F49: =F35 -> 0
A50: =A36 -> 0 | B50: =B36 -> 0 | C50: =C36 -> 0 | D50: =D36 -> 0 | E50: =E36 -> 0 | F50: =F36 -> 0
A51: =A37 -> 0 | B51: =B37 -> 0 | C51: =C37 -> 0 | D51: =D37 -> 0 | E51: =E37 -> 0 | F51: =F37 -> 0

Sheet Novembre
H1: 0.875
H2: 0.25
A4: CREATION ou MODIFICATION d'un CONTRAT de TRAVAIL
A8: NOM | B8: =BDD!B7 -> 0 | C8: PRENOM | D8: =BDD!C7 -> 0 | E8: MATRICULE | F8: =BDD!D7 -> 0
A10: EMPLOI | B10: =BDD!E7 -> 0 | D10: SERVICE | E10: 220/603 MAGASIN | H10: CDD
H11: CDI
H12: SURCROIT
A13: TYPE DE CONTRAT | C13: CDD | D13: =BDD!F7 -> 0 | J13: 220/603 MAGASIN | K13: MAG NUIT
H14: OUI | J14: 220/703 LIVRAISON | K14: LIV NUIT
A15: MOTIF du CONTRAT | C15: Date de debut | E15: Date de fin | H15: NON
A17: REMPLACEMENT de: | D17: Motifs | E17: du | F17: au | H17: MALADIE
H18: C.PAYES
H19: RTT
H20: ABS AUT.
H21: ABS AUT(RCN).
H22: FORMATION
H23: CACES
H24: C PARENTAL
A25: HORAIRE HEBDO TRAVAILLE | D25: =A28+B28+C28+D28+E28+F28 -> 0 | H25: SURCROIT
A27: LUNDI M | B27: LUNDI S | C27: MARDI | D27: MERCREDI | E27: JEUDI | F27: VENDREDI
A28: =((A37-A36)+A35-A34)*24 -> 0 | B28: =((B37-B36)+B35-B34)*24 -> 0 | C28: =((C37-C36)+C35-C34)*24 -> 0 | D28: =((D37-D36)+D35-D34)*24 -> 0 | E28: =((E37-E36)+E35-E34)*24 -> 0 | F28: =((F37-F36)+F35-F34)*24 -> 0
A29: =(((A35-A34)+H2-A36)*24) -> 6 | B29: =(IF(SUM(B34:B37)=0,"0",(B37-$H1)))*24 -> 0 | C29: =(IF(SUM(C34:C37)=0,"0",(C37-$H1)))*24 -> 0 | D29: =(IF(SUM(D34:D37)=0,"0",(D37-$H1)))*24 -> 0 | E29: =(IF(SUM(E34:E37)=0,"0",(E37-$H1)))*24 -> 0 | F29: =(IF(SUM(F34:F37)=0,"0",(F37-$H1)))*24 -> 0 | M29: mettre 25:00 pour 01h00
M30: mettre 26:00 pour 02h00
A31: HORAIRES | M31: mettre 26:15 pour 02h15
M32: mettre 26:30 pour 02h30
A33: LUNDI M | B33: LUNDI S | C33: MARDI | D33: MERCREDI | E33: JEUDI | F33: VENDREDI | M33: mettre 27:00 pour 03h00
A39: NB HEURES DE NUIT | C39: =A29+B29+C29+D29+E29+F29 -> 6 | D39: Pause payée | F39: NON
A43: NOM | B43: =B8 -> 0 | C43: PRENOM | D43: =D8 -> 0
A45: HORAIRES | C45: Date de debut | D45: =D15 -> 0 | E45: Date de fin | F45: =F15 -> 0
A47: LUNDI M | B47: LUNDI S | C47: MARDI | D47: MERCREDI | E47: JEUDI | F47: VENDREDI
A48: =A34 -> 0 | B48: =B34 -> 0 | C48: =C34 -> 0 | D48: =D34 -> 0 | E48: =E34 -> 0 | F48: =F34 -> 0
A49: =A35 -> 0 | B49: =B35 -> 0 | C49: =C35 -> 0 | D49: =D35 -> 0 | E49: =E35 -> 0 | F49: =F35 -> 0
A50: =A36 -> 0 | B50: =B36 -> 0 | C50: =C36 -> 0 | D50: =D36 -> 0 | E50: =E36 -> 0 | F50: =F36 -> 0
A51: =A37 -> 0 | B51: =B37 -> 0 | C51: =C37 -> 0 | D51: =D37 -> 0 | E51: =E37 -> 0 | F51: =F37 -> 0

Sheet Sem41
H1: 0.875
H2: 0.25
A4: CREATION ou MODIFICATION d'un CONTRAT de TRAVAIL
A8: NOM | B8: =BDD!B7 -> 0 | C8: PRENOM | D8: =BDD!C7 -> 0 | E8: MATRICULE | F8: =BDD!D7 -> 0
A10: EMPLOI | B10: =BDD!E7 -> 0 | D10: SERVICE | E10: 220/603 MAGASIN | H10: CDD
H11: CDI
H12: SURCROIT
A13: TYPE DE CONTRAT | C13: CDD | D13: =BDD!F7 -> 0 | J13: 220/603 MAGASIN | K13: MAG NUIT
H14: OUI | J14: 220/703 LIVRAISON | K14: LIV NUIT
A15: MOTIF du CONTRAT | C15: Date de debut | E15: Date de fin | H15: NON
A17: REMPLACEMENT de: | D17: Motifs | E17: du | F17: au | H17: MALADIE
H18: C.PAYES
H19: RTT
H20: ABS AUT.
H21: ABS AUT(RCN).
H22: FORMATION
H23: CACES
H24: C PARENTAL
A25: HORAIRE HEBDO TRAVAILLE | D25: =A28+B28+C28+D28+E28+F28 -> 0 | H25: SURCROIT
A27: LUNDI M | B27: LUNDI S | C27: MARDI | D27: MERCREDI | E27: JEUDI | F27: VENDREDI
A28: =((A37-A36)+A35-A34)*24 -> 0 | B28: =((B37-B36)+B35-B34)*24 -> 0 | C28: =((C37-C36)+C35-C34)*24 -> 0 | D28: =((D37-D36)+D35-D34)*24 -> 0 | E28: =((E37-E36)+E35-E34)*24 -> 0 | F28: =((F37-F36)+F35-F34)*24 -> 0
A29: =(((A35-A34)+H2-A36)*24) -> 6 | B29: =(IF(SUM(B34:B37)=0,"0",(B37-$H1)))*24 -> 0 | C29: =(IF(SUM(C34:C37)=0,"0",(C37-$H1)))*24 -> 0 | D29: =(IF(SUM(D34:D37)=0,"0",(D37-$H1)))*24 -> 0 | E29: =(IF(SUM(E34:E37)=0,"0",(E37-$H1)))*24 -> 0 | F29: =(IF(SUM(F34:F37)=0,"0",(F37-$H1)))*24 -> 0 | M29: mettre 25:00 pour 01h00
M30: mettre 26:00 pour 02h00
A31: HORAIRES | M31: mettre 26:15 pour 02h15
M32: mettre 26:30 pour 02h30
A33: LUNDI M | B33: LUNDI S | C33: MARDI | D33: MERCREDI | E33: JEUDI | F33: VENDREDI | M33: mettre 27:00 pour 03h00
A39: NB HEURES DE NUIT | C39: =A29+B29+C29+D29+E29+F29 -> 6 | D39: Pause payée | F39: NON
A43: NOM | B43: =B8 -> 0 | C43: PRENOM | D43: =D8 -> 0
A45: HORAIRES | C45: Date de debut | D45: =D15 -> 0 | E45: Date de fin | F45: =F15 -> 0
A47: LUNDI M | B47: LUNDI S | C47: MARDI | D47: MERCREDI | E47: JEUDI | F47: VENDREDI
A48: =A34 -> 0 | B48: =B34 -> 0 | C48: =C34 -> 0 | D48: =D34 -> 0 | E48: =E34 -> 0 | F48: =F34 -> 0
A49: =A35 -> 0 | B49: =B35 -> 0 | C49: =C35 -> 0 | D49: =D35 -> 0 | E49: =E35 -> 0 | F49: =F35 -> 0
A50: =A36 -> 0 | B50: =B36 -> 0 | C50: =C36 -> 0 | D50: =D36 -> 0 | E50: =E36 -> 0 | F50: =F36 -> 0
A51: =A37 -> 0 | B51: =B37 -> 0 | C51: =C37 -> 0 | D51: =D37 -> 0 | E51: =E37 -> 0 | F51: =F37 -> 0

Sheet Sem42
H1: 0.875
H2: 0.25
A4: CREATION ou MODIFICATION d'un CONTRAT de TRAVAIL
A8: NOM | B8: =BDD!B7 -> 0 | C8: PRENOM | D8: =BDD!C7 -> 0 | E8: MATRICULE | F8: =BDD!D7 -> 0
A10: EMPLOI | B10: =BDD!E7 -> 0 | D10: SERVICE | E10: 220/603 MAGASIN | H10: CDD
H11: CDI
H12: SURCROIT
A13: TYPE DE CONTRAT | C13: CDD | D13: =BDD!F7 -> 0 | J13: 220/603 MAGASIN | K13: MAG NUIT
H14: OUI | J14: 220/703 LIVRAISON | K14: LIV NUIT
A15: MOTIF du CONTRAT | C15: Date de debut | E15: Date de fin | H15: NON
A17: REMPLACEMENT de: | D17: Motifs | E17: du | F17: au | H17: MALADIE
H18: C.PAYES
H19: RTT
H20: ABS AUT.
H21: ABS AUT(RCN).
H22: FORMATION
H23: CACES
H24: C PARENTAL
A25: HORAIRE HEBDO TRAVAILLE | D25: =A28+B28+C28+D28+E28+F28 -> 0 | H25: SURCROIT
A27: LUNDI M | B27: LUNDI S | C27: MARDI | D27: MERCREDI | E27: JEUDI | F27: VENDREDI
A28: =((A37-A36)+A35-A34)*24 -> 0 | B28: =((B37-B36)+B35-B34)*24 -> 0 | C28: =((C37-C36)+C35-C34)*24 -> 0 | D28: =((D37-D36)+D35-D34)*24 -> 0 | E28: =((E37-E36)+E35-E34)*24 -> 0 | F28: =((F37-F36)+F35-F34)*24 -> 0
A29: =(((A35-A34)+H2-A36)*24) -> 6 | B29: =(IF(SUM(B34:B37)=0,"0",(B37-$H1)))*24 -> 0 | C29: =(IF(SUM(C34:C37)=0,"0",(C37-$H1)))*24 -> 0 | D29: =(IF(SUM(D34:D37)=0,"0",(D37-$H1)))*24 -> 0 | E29: =(IF(SUM(E34:E37)=0,"0",(E37-$H1)))*24 -> 0 | F29: =(IF(SUM(F34:F37)=0,"0",(F37-$H1)))*24 -> 0 | M29: mettre 25:00 pour 01h00
M30: mettre 26:00 pour 02h00
A31: HORAIRES | M31: mettre 26:15 pour 02h15
M32: mettre 26:30 pour 02h30
A33: LUNDI M | B33: LUNDI S | C33: MARDI | D33: MERCREDI | E33: JEUDI | F33: VENDREDI | M33: mettre 27:00 pour 03h00
A39: NB HEURES DE NUIT | C39: =A29+B29+C29+D29+E29+F29 -> 6 | D39: Pause payée | F39: NON
A43: NOM | B43: =B8 -> 0 | C43: PRENOM | D43: =D8 -> 0
A45: HORAIRES | C45: Date de debut | D45: =D15 -> 0 | E45: Date de fin | F45: =F15 -> 0
A47: LUNDI M | B47: LUNDI S | C47: MARDI | D47: MERCREDI | E47: JEUDI | F47: VENDREDI
A48: =A34 -> 0 | B48: =B34 -> 0 | C48: =C34 -> 0 | D48: =D34 -> 0 | E48: =E34 -> 0 | F48: =F34 -> 0
A49: =A35 -> 0 | B49: =B35 -> 0 | C49: =C35 -> 0 | D49: =D35 -> 0 | E49: =E35 -> 0 | F49: =F35 -> 0
A50: =A36 -> 0 | B50: =B36 -> 0 | C50: =C36 -> 0 | D50: =D36 -> 0 | E50: =E36 -> 0 | F50: =F36 -> 0
A51: =A37 -> 0 | B51: =B37 -> 0 | C51: =C37 -> 0 | D51: =D37 -> 0 | E51: =E37 -> 0 | F51: =F37 -> 0

Sheet Sem43
H1: 0.875
H2: 0.25
A4: CREATION ou MODIFICATION d'un CONTRAT de TRAVAIL
A8: NOM | B8: =BDD!B7 -> 0 | C8: PRENOM | D8: =BDD!C7 -> 0 | E8: MATRICULE | F8: =BDD!D7 -> 0
A10: EMPLOI | B10: =BDD!E7 -> 0 | D10: SERVICE | E10: 220/603 MAGASIN | H10: CDD
H11: CDI
H12: SURCROIT
A13: TYPE DE CONTRAT | C13: CDD | D13: =BDD!F7 -> 0 | J13: 220/603 MAGASIN | K13: MAG NUIT
H14: OUI | J14: 220/703 LIVRAISON | K14: LIV NUIT
A15: MOTIF du CONTRAT | C15: Date de debut | E15: Date de fin | H15: NON
A17: REMPLACEMENT de: | D17: Motifs | E17: du | F17: au | H17: MALADIE
H18: C.PAYES
H19: RTT
H20: ABS AUT.
H21: ABS AUT(RCN).
H22: FORMATION
H23: CACES
H24: C PARENTAL
A25: HORAIRE HEBDO TRAVAILLE | D25: =A28+B28+C28+D28+E28+F28 -> 0 | H25: SURCROIT
A27: LUNDI M | B27: LUNDI S | C27: MARDI | D27: MERCREDI | E27: JEUDI | F27: VENDREDI
A28: =((A37-A36)+A35-A34)*24 -> 0 | B28: =((B37-B36)+B35-B34)*24 -> 0 | C28: =((C37-C36)+C35-C34)*24 -> 0 | D28: =((D37-D36)+D35-D34)*24 -> 0 | E28: =((E37-E36)+E35-E34)*24 -> 0 | F28: =((F37-F36)+F35-F34)*24 -> 0
A29: =(((A35-A34)+H2-A36)*24) -> 6 | B29: =(IF(SUM(B34:B37)=0,"0",(B37-$H1)))*24 -> 0 | C29: =(IF(SUM(C34:C37)=0,"0",(C37-$H1)))*24 -> 0 | D29: =(IF(SUM(D34:D37)=0,"0",(D37-$H1)))*24 -> 0 | E29: =(IF(SUM(E34:E37)=0,"0",(E37-$H1)))*24 -> 0 | F29: =(IF(SUM(F34:F37)=0,"0",(F37-$H1)))*24 -> 0 | M29: mettre 25:00 pour 01h00
M30: mettre 26:00 pour 02h00
A31: HORAIRES | M31: mettre 26:15 pour 02h15
M32: mettre 26:30 pour 02h30
A33: LUNDI M | B33: LUNDI S | C33: MARDI | D33: MERCREDI | E33: JEUDI | F33: VENDREDI | M33: mettre 27:00 pour 03h00
A39: NB HEURES DE NUIT | C39: =A29+B29+C29+D29+E29+F29 -> 6 | D39: Pause payée | F39: NON
A43: NOM | B43: =B8 -> 0 | C43: PRENOM | D43: =D8 -> 0
A45: HORAIRES | C45: Date de debut | D45: =D15 -> 0 | E45: Date de fin | F45: =F15 -> 0
A47: LUNDI M | B47: LUNDI S | C47: MARDI | D47: MERCREDI | E47: JEUDI | F47: VENDREDI
A48: =A34 -> 0 | B48: =B34 -> 0 | C48: =C34 -> 0 | D48: =D34 -> 0 | E48: =E34 -> 0 | F48: =F34 -> 0
A49: =A35 -> 0 | B49: =B35 -> 0 | C49: =C35 -> 0 | D49: =D35 -> 0 | E49: =E35 -> 0 | F49: =F35 -> 0
A50: =A36 -> 0 | B50: =B36 -> 0 | C50: =C36 -> 0 | D50: =D36 -> 0 | E50: =E36 -> 0 | F50: =F36 -> 0
A51: =A37 -> 0 | B51: =B37 -> 0 | C51: =C37 -> 0 | D51: =D37 -> 0 | E51: =E37 -> 0 | F51: =F37 -> 0

Sheet Sem44
H1: 0.875
H2: 0.25
A4: CREATION ou MODIFICATION d'un CONTRAT de TRAVAIL
A8: NOM | B8: =BDD!B7 -> 0 | C8: PRENOM | D8: =BDD!C7 -> 0 | E8: MATRICULE | F8: =BDD!D7 -> 0
A10: EMPLOI | B10: =BDD!E7 -> 0 | D10: SERVICE | E10: 220/603 MAGASIN | H10: CDD
H11: CDI
H12: SURCROIT
A13: TYPE DE CONTRAT | C13: CDD | D13: =BDD!F7 -> 0 | J13: 220/603 MAGASIN | K13: MAG NUIT
H14: OUI | J14: 220/703 LIVRAISON | K14: LIV NUIT
A15: MOTIF du CONTRAT | C15: Date de debut | E15: Date de fin | H15: NON
A17: REMPLACEMENT de: | D17: Motifs | E17: du | F17: au | H17: MALADIE
H18: C.PAYES
H19: RTT
H20: ABS AUT.
H21: ABS AUT(RCN).
H22: FORMATION
H23: CACES
H24: C PARENTAL
A25: HORAIRE HEBDO TRAVAILLE | D25: =A28+B28+C28+D28+E28+F28 -> 0 | H25: SURCROIT
A27: LUNDI M | B27: LUNDI S | C27: MARDI | D27: MERCREDI | E27: JEUDI | F27: VENDREDI
A28: =((A37-A36)+A35-A34)*24 -> 0 | B28: =((B37-B36)+B35-B34)*24 -> 0 | C28: =((C37-C36)+C35-C34)*24 -> 0 | D28: =((D37-D36)+D35-D34)*24 -> 0 | E28: =((E37-E36)+E35-E34)*24 -> 0 | F28: =((F37-F36)+F35-F34)*24 -> 0
A29: =(((A35-A34)+H2-A36)*24) -> 6 | B29: =(IF(SUM(B34:B37)=0,"0",(B37-$H1)))*24 -> 0 | C29: =(IF(SUM(C34:C37)=0,"0",(C37-$H1)))*24 -> 0 | D29: =(IF(SUM(D34:D37)=0,"0",(D37-$H1)))*24 -> 0 | E29: =(IF(SUM(E34:E37)=0,"0",(E37-$H1)))*24 -> 0 | F29: =(IF(SUM(F34:F37)=0,"0",(F37-$H1)))*24 -> 0 | M29: mettre 25:00 pour 01h00
M30: mettre 26:00 pour 02h00
A31: HORAIRES | M31: mettre 26:15 pour 02h15
M32: mettre 26:30 pour 02h30
A33: LUNDI M | B33: LUNDI S | C33: MARDI | D33: MERCREDI | E33: JEUDI | F33: VENDREDI | M33: mettre 27:00 pour 03h00
A39: NB HEURES DE NUIT | C39: =A29+B29+C29+D29+E29+F29 -> 6 | D39: Pause payée | F39: NON
A43: NOM | B43: =B8 -> 0 | C43: PRENOM | D43: =D8 -> 0
A45: HORAIRES | C45: Date de debut | D45: =D15 -> 0 | E45: Date de fin | F45: =F15 -> 0
A47: LUNDI M | B47: LUNDI S | C47: MARDI | D47: MERCREDI | E47: JEUDI | F47: VENDREDI
A48: =A34 -> 0 | B48: =B34 -> 0 | C48: =C34 -> 0 | D48: =D34 -> 0 | E48: =E34 -> 0 | F48: =F34 -> 0
A49: =A35 -> 0 | B49: =B35 -> 0 | C49: =C35 -> 0 | D49: =D35 -> 0 | E49: =E35 -> 0 | F49: =F35 -> 0
A50: =A36 -> 0 | B50: =B36 -> 0 | C50: =C36 -> 0 | D50: =D36 -> 0 | E50: =E36 -> 0 | F50: =F36 -> 0
A51: =A37 -> 0 | B51: =B37 -> 0 | C51: =C37 -> 0 | D51: =D37 -> 0 | E51: =E37 -> 0 | F51: =F37 -> 0

Sheet Décembre
H1: 0.875
H2: 0.25
A4: CREATION ou MODIFICATION d'un CONTRAT de TRAVAIL
A8: NOM | B8: =BDD!B7 -> 0 | C8: PRENOM | D8: =BDD!C7 -> 0 | E8: MATRICULE | F8: =BDD!D7 -> 0
A10: EMPLOI | B10: =BDD!E7 -> 0 | D10: SERVICE | E10: 220/603 MAGASIN | H10: CDD
H11: CDI
H12: SURCROIT
A13: TYPE DE CONTRAT | C13: CDD | D13: =BDD!F7 -> 0 | J13: 220/603 MAGASIN | K13: MAG NUIT
H14: OUI | J14: 220/703 LIVRAISON | K14: LIV NUIT
A15: MOTIF du CONTRAT | C15: Date de debut | E15: Date de fin | H15: NON
A17: REMPLACEMENT de: | D17: Motifs | E17: du | F17: au | H17: MALADIE
H18: C.PAYES
H19: RTT
H20: ABS AUT.
H21: ABS AUT(RCN).
H22: FORMATION
H23: CACES
H24: C PARENTAL
A25: HORAIRE HEBDO TRAVAILLE | D25: =A28+B28+C28+D28+E28+F28 -> 0 | H25: SURCROIT
A27: LUNDI M | B27: LUNDI S | C27: MARDI | D27: MERCREDI | E27: JEUDI | F27: VENDREDI
A28: =((A37-A36)+A35-A34)*24 -> 0 | B28: =((B37-B36)+B35-B34)*24 -> 0 | C28: =((C37-C36)+C35-C34)*24 -> 0 | D28: =((D37-D36)+D35-D34)*24 -> 0 | E28: =((E37-E36)+E35-E34)*24 -> 0 | F28: =((F37-F36)+F35-F34)*24 -> 0
A29: =(((A35-A34)+H2-A36)*24) -> 6 | B29: =(IF(SUM(B34:B37)=0,"0",(B37-$H1)))*24 -> 0 | C29: =(IF(SUM(C34:C37)=0,"0",(C37-$H1)))*24 -> 0 | D29: =(IF(SUM(D34:D37)=0,"0",(D37-$H1)))*24 -> 0 | E29: =(IF(SUM(E34:E37)=0,"0",(E37-$H1)))*24 -> 0 | F29: =(IF(SUM(F34:F37)=0,"0",(F37-$H1)))*24 -> 0 | M29: mettre 25:00 pour 01h00
M30: mettre 26:00 pour 02h00
A31: HORAIRES | M31: mettre 26:15 pour 02h15
M32: mettre 26:30 pour 02h30
A33: LUNDI M | B33: LUNDI S | C33: MARDI | D33: MERCREDI | E33: JEUDI | F33: VENDREDI | M33: mettre 27:00 pour 03h00
A39: NB HEURES DE NUIT | C39: =A29+B29+C29+D29+E29+F29 -> 6 | D39: Pause payée | F39: NON
A43: NOM | B43: =B8 -> 0 | C43: PRENOM | D43: =D8 -> 0
A45: HORAIRES | C45: Date de debut | D45: =D15 -> 0 | E45: Date de fin | F45: =F15 -> 0
A47: LUNDI M | B47: LUNDI S | C47: MARDI | D47: MERCREDI | E47: JEUDI | F47: VENDREDI
A48: =A34 -> 0 | B48: =B34 -> 0 | C48: =C34 -> 0 | D48: =D34 -> 0 | E48: =E34 -> 0 | F48: =F34 -> 0
A49: =A35 -> 0 | B49: =B35 -> 0 | C49: =C35 -> 0 | D49: =D35 -> 0 | E49: =E35 -> 0 | F49: =F35 -> 0
A50: =A36 -> 0 | B50: =B36 -> 0 | C50: =C36 -> 0 | D50: =D36 -> 0 | E50: =E36 -> 0 | F50: =F36 -> 0
A51: =A37 -> 0 | B51: =B37 -> 0 | C51: =C37 -> 0 | D51: =D37 -> 0 | E51: =E37 -> 0 | F51: =F37 -> 0

Sheet Sem45
H1: 0.875
H2: 0.25
A4: CREATION ou MODIFICATION d'un CONTRAT de TRAVAIL
A8: NOM | B8: =BDD!B7 -> 0 | C8: PRENOM | D8: =BDD!C7 -> 0 | E8: MATRICULE | F8: =BDD!D7 -> 0
A10: EMPLOI | B10: =BDD!E7 -> 0 | D10: SERVICE | E10: 220/603 MAGASIN | H10: CDD
H11: CDI
H12: SURCROIT
A13: TYPE DE CONTRAT | C13: CDD | D13: =BDD!F7 -> 0 | J13: 220/603 MAGASIN | K13: MAG NUIT
H14: OUI | J14: 220/703 LIVRAISON | K14: LIV NUIT
A15: MOTIF du CONTRAT | C15: Date de debut | E15: Date de fin | H15: NON
A17: REMPLACEMENT de: | D17: Motifs | E17: du | F17: au | H17: MALADIE
H18: C.PAYES
H19: RTT
H20: ABS AUT.
H21: ABS AUT(RCN).
H22: FORMATION
H23: CACES
H24: C PARENTAL
A25: HORAIRE HEBDO TRAVAILLE | D25: =A28+B28+C28+D28+E28+F28 -> 0 | H25: SURCROIT
A27: LUNDI M | B27: LUNDI S | C27: MARDI | D27: MERCREDI | E27: JEUDI | F27: VENDREDI
A28: =((A37-A36)+A35-A34)*24 -> 0 | B28: =((B37-B36)+B35-B34)*24 -> 0 | C28: =((C37-C36)+C35-C34)*24 -> 0 | D28: =((D37-D36)+D35-D34)*24 -> 0 | E28: =((E37-E36)+E35-E34)*24 -> 0 | F28: =((F37-F36)+F35-F34)*24 -> 0
A29: =(((A35-A34)+H2-A36)*24) -> 6 | B29: =(IF(SUM(B34:B37)=0,"0",(B37-$H1)))*24 -> 0 | C29: =(IF(SUM(C34:C37)=0,"0",(C37-$H1)))*24 -> 0 | D29: =(IF(SUM(D34:D37)=0,"0",(D37-$H1)))*24 -> 0 | E29: =(IF(SUM(E34:E37)=0,"0",(E37-$H1)))*24 -> 0 | F29: =(IF(SUM(F34:F37)=0,"0",(F37-$H1)))*24 -> 0 | M29: mettre 25:00 pour 01h00
M30: mettre 26:00 pour 02h00
A31: HORAIRES | M31: mettre 26:15 pour 02h15
M32: mettre 26:30 pour 02h30
A33: LUNDI M | B33: LUNDI S | C33: MARDI | D33: MERCREDI | E33: JEUDI | F33: VENDREDI | M33: mettre 27:00 pour 03h00
A39: NB HEURES DE NUIT | C39: =A29+B29+C29+D29+E29+F29 -> 6 | D39: Pause payée | F39: NON
A43: NOM | B43: =B8 -> 0 | C43: PRENOM | D43: =D8 -> 0
A45: HORAIRES | C45: Date de debut | D45: =D15 -> 0 | E45: Date de fin | F45: =F15 -> 0
A47: LUNDI M | B47: LUNDI S | C47: MARDI | D47: MERCREDI | E47: JEUDI | F47: VENDREDI
A48: =A34 -> 0 | B48: =B34 -> 0 | C48: =C34 -> 0 | D48: =D34 -> 0 | E48: =E34 -> 0 | F48: =F34 -> 0
A49: =A35 -> 0 | B49: =B35 -> 0 | C49: =C35 -> 0 | D49: =D35 -> 0 | E49: =E35 -> 0 | F49: =F35 -> 0
A50: =A36 -> 0 | B50: =B36 -> 0 | C50: =C36 -> 0 | D50: =D36 -> 0 | E50: =E36 -> 0 | F50: =F36 -> 0
A51: =A37 -> 0 | B51: =B37 -> 0 | C51: =C37 -> 0 | D51: =D37 -> 0 | E51: =E37 -> 0 | F51: =F37 -> 0

Sheet Sem46
H1: 0.875
H2: 0.25
A4: CREATION ou MODIFICATION d'un CONTRAT de TRAVAIL
A8: NOM | B8: =BDD!B7 -> 0 | C8: PRENOM | D8: =BDD!C7 -> 0 | E8: MATRICULE | F8: =BDD!D7 -> 0
A10: EMPLOI | B10: =BDD!E7 -> 0 | D10: SERVICE | E10: 220/603 MAGASIN | H10: CDD
H11: CDI
H12: SURCROIT
A13: TYPE DE CONTRAT | C13: CDD | D13: =BDD!F7 -> 0 | J13: 220/603 MAGASIN | K13: MAG NUIT
H14: OUI | J14: 220/703 LIVRAISON | K14: LIV NUIT
A15: MOTIF du CONTRAT | C15: Date de debut | E15: Date de fin | H15: NON
A17: REMPLACEMENT de: | D17: Motifs | E17: du | F17: au | H17: MALADIE
H18: C.PAYES
H19: RTT
H20: ABS AUT.
H21: ABS AUT(RCN).
H22: FORMATION
H23: CACES
H24: C PARENTAL
A25: HORAIRE HEBDO TRAVAILLE | D25: =A28+B28+C28+D28+E28+F28 -> 0 | H25: SURCROIT
A27: LUNDI M | B27: LUNDI S | C27: MARDI | D27: MERCREDI | E27: JEUDI | F27: VENDREDI
A28: =((A37-A36)+A35-A34)*24 -> 0 | B28: =((B37-B36)+B35-B34)*24 -> 0 | C28: =((C37-C36)+C35-C34)*24 -> 0 | D28: =((D37-D36)+D35-D34)*24 -> 0 | E28: =((E37-E36)+E35-E34)*24 -> 0 | F28: =((F37-F36)+F35-F34)*24 -> 0
A29: =(((A35-A34)+H2-A36)*24) -> 6 | B29: =(IF(SUM(B34:B37)=0,"0",(B37-$H1)))*24 -> 0 | C29: =(IF(SUM(C34:C37)=0,"0",(C37-$H1)))*24 -> 0 | D29: =(IF(SUM(D34:D37)=0,"0",(D37-$H1)))*24 -> 0 | E29: =(IF(SUM(E34:E37)=0,"0",(E37-$H1)))*24 -> 0 | F29: =(IF(SUM(F34:F37)=0,"0",(F37-$H1)))*24 -> 0 | M29: mettre 25:00 pour 01h00
M30: mettre 26:00 pour 02h00
A31: HORAIRES | M31: mettre 26:15 pour 02h15
M32: mettre 26:30 pour 02h30
A33: LUNDI M | B33: LUNDI S | C33: MARDI | D33: MERCREDI | E33: JEUDI | F33: VENDREDI | M33: mettre 27:00 pour 03h00
A39: NB HEURES DE NUIT | C39: =A29+B29+C29+D29+E29+F29 -> 6 | D39: Pause payée | F39: NON
A43: NOM | B43: =B8 -> 0 | C43: PRENOM | D43: =D8 -> 0
A45: HORAIRES | C45: Date de debut | D45: =D15 -> 0 | E45: Date de fin | F45: =F15 -> 0
A47: LUNDI M | B47: LUNDI S | C47: MARDI | D47: MERCREDI | E47: JEUDI | F47: VENDREDI
A48: =A34 -> 0 | B48: =B34 -> 0 | C48: =C34 -> 0 | D48: =D34 -> 0 | E48: =E34 -> 0 | F48: =F34 -> 0
A49: =A35 -> 0 | B49: =B35 -> 0 | C49: =C35 -> 0 | D49: =D35 -> 0 | E49: =E35 -> 0 | F49: =F35 -> 0
A50: =A36 -> 0 | B50: =B36 -> 0 | C50: =C36 -> 0 | D50: =D36 -> 0 | E50: =E36 -> 0 | F50: =F36 -> 0
A51: =A37 -> 0 | B51: =B37 -> 0 | C51: =C37 -> 0 | D51: =D37 -> 0 | E51: =E37 -> 0 | F51: =F37 -> 0

Sheet Sem47
H1: 0.875
H2: 0.25
A4: CREATION ou MODIFICATION d'un CONTRAT de TRAVAIL
A8: NOM | B8: =BDD!B7 -> 0 | C8: PRENOM | D8: =BDD!C7 -> 0 | E8: MATRICULE | F8: =BDD!D7 -> 0
A10: EMPLOI | B10: =BDD!E7 -> 0 | D10: SERVICE | E10: 220/603 MAGASIN | H10: CDD
H11: CDI
H12: SURCROIT
A13: TYPE DE CONTRAT | C13: CDD | D13: =BDD!F7 -> 0 | J13: 220/603 MAGASIN | K13: MAG NUIT
H14: OUI | J14: 220/703 LIVRAISON | K14: LIV NUIT
A15: MOTIF du CONTRAT | C15: Date de debut | E15: Date de fin | H15: NON
A17: REMPLACEMENT de: | D17: Motifs | E17: du | F17: au | H17: MALADIE
H18: C.PAYES
H19: RTT
H20: ABS AUT.
H21: ABS AUT(RCN).
H22: FORMATION
H23: CACES
H24: C PARENTAL
A25: HORAIRE HEBDO TRAVAILLE | D25: =A28+B28+C28+D28+E28+F28 -> 0 | H25: SURCROIT
A27: LUNDI M | B27: LUNDI S | C27: MARDI | D27: MERCREDI | E27: JEUDI | F27: VENDREDI
A28: =((A37-A36)+A35-A34)*24 -> 0 | B28: =((B37-B36)+B35-B34)*24 -> 0 | C28: =((C37-C36)+C35-C34)*24 -> 0 | D28: =((D37-D36)+D35-D34)*24 -> 0 | E28: =((E37-E36)+E35-E34)*24 -> 0 | F28: =((F37-F36)+F35-F34)*24 -> 0
A29: =(((A35-A34)+H2-A36)*24) -> 6 | B29: =(IF(SUM(B34:B37)=0,"0",(B37-$H1)))*24 -> 0 | C29: =(IF(SUM(C34:C37)=0,"0",(C37-$H1)))*24 -> 0 | D29: =(IF(SUM(D34:D37)=0,"0",(D37-$H1)))*24 -> 0 | E29: =(IF(SUM(E34:E37)=0,"0",(E37-$H1)))*24 -> 0 | F29: =(IF(SUM(F34:F37)=0,"0",(F37-$H1)))*24 -> 0 | M29: mettre 25:00 pour 01h00
M30: mettre 26:00 pour 02h00
A31: HORAIRES | M31: mettre 26:15 pour 02h15
M32: mettre 26:30 pour 02h30
A33: LUNDI M | B33: LUNDI S | C33: MARDI | D33: MERCREDI | E33: JEUDI | F33: VENDREDI | M33: mettre 27:00 pour 03h00
A39: NB HEURES DE NUIT | C39: =A29+B29+C29+D29+E29+F29 -> 6 | D39: Pause payée | F39: NON
A43: NOM | B43: =B8 -> 0 | C43: PRENOM | D43: =D8 -> 0
A45: HORAIRES | C45: Date de debut | D45: =D15 -> 0 | E45: Date de fin | F45: =F15 -> 0
A47: LUNDI M | B47: LUNDI S | C47: MARDI | D47: MERCREDI | E47: JEUDI | F47: VENDREDI
A48: =A34 -> 0 | B48: =B34 -> 0 | C48: =C34 -> 0 | D48: =D34 -> 0 | E48: =E34 -> 0 | F48: =F34 -> 0
A49: =A35 -> 0 | B49: =B35 -> 0 | C49: =C35 -> 0 | D49: =D35 -> 0 | E49: =E35 -> 0 | F49: =F35 -> 0
A50: =A36 -> 0 | B50: =B36 -> 0 | C50: =C36 -> 0 | D50: =D36 -> 0 | E50: =E36 -> 0 | F50: =F36 -> 0
A51: =A37 -> 0 | B51: =B37 -> 0 | C51: =C37 -> 0 | D51: =D37 -> 0 | E51: =E37 -> 0 | F51: =F37 -> 0

Sheet Sem48
H1: 0.875
H2: 0.25
A4: CREATION ou MODIFICATION d'un CONTRAT de TRAVAIL
A8: NOM | B8: =BDD!B7 -> 0 | C8: PRENOM | D8: =BDD!C7 -> 0 | E8: MATRICULE | F8: =BDD!D7 -> 0
A10: EMPLOI | B10: =BDD!E7 -> 0 | D10: SERVICE | E10: 220/603 MAGASIN | H10: CDD
H11: CDI
H12: SURCROIT
A13: TYPE DE CONTRAT | C13: CDD | D13: =BDD!F7 -> 0 | J13: 220/603 MAGASIN | K13: MAG NUIT
H14: OUI | J14: 220/703 LIVRAISON | K14: LIV NUIT
A15: MOTIF du CONTRAT | C15: Date de debut | E15: Date de fin | H15: NON
A17: REMPLACEMENT de: | D17: Motifs | E17: du | F17: au | H17: MALADIE
H18: C.PAYES
H19: RTT
H20: ABS AUT.
H21: ABS AUT(RCN).
H22: FORMATION
H23: CACES
H24: C PARENTAL
A25: HORAIRE HEBDO TRAVAILLE | D25: =A28+B28+C28+D28+E28+F28 -> 0 | H25: SURCROIT
A27: LUNDI M | B27: LUNDI S | C27: MARDI | D27: MERCREDI | E27: JEUDI | F27: VENDREDI
A28: =((A37-A36)+A35-A34)*24 -> 0 | B28: =((B37-B36)+B35-B34)*24 -> 0 | C28: =((C37-C36)+C35-C34)*24 -> 0 | D28: =((D37-D36)+D35-D34)*24 -> 0 | E28: =((E37-E36)+E35-E34)*24 -> 0 | F28: =((F37-F36)+F35-F34)*24 -> 0
A29: =(((A35-A34)+H2-A36)*24) -> 6 | B29: =(IF(SUM(B34:B37)=0,"0",(B37-$H1)))*24 -> 0 | C29: =(IF(SUM(C34:C37)=0,"0",(C37-$H1)))*24 -> 0 | D29: =(IF(SUM(D34:D37)=0,"0",(D37-$H1)))*24 -> 0 | E29: =(IF(SUM(E34:E37)=0,"0",(E37-$H1)))*24 -> 0 | F29: =(IF(SUM(F34:F37)=0,"0",(F37-$H1)))*24 -> 0 | M29: mettre 25:00 pour 01h00
M30: mettre 26:00 pour 02h00
A31: HORAIRES | M31: mettre 26:15 pour 02h15
M32: mettre 26:30 pour 02h30
A33: LUNDI M | B33: LUNDI S | C33: MARDI | D33: MERCREDI | E33: JEUDI | F33: VENDREDI | M33: mettre 27:00 pour 03h00
A39: NB HEURES DE NUIT | C39: =A29+B29+C29+D29+E29+F29 -> 6 | D39: Pause payée | F39: NON
A43: NOM | B43: =B8 -> 0 | C43: PRENOM | D43: =D8 -> 0
A45: HORAIRES | C45: Date de debut | D45: =D15 -> 0 | E45: Date de fin | F45: =F15 -> 0
A47: LUNDI M | B47: LUNDI S | C47: MARDI | D47: MERCREDI | E47: JEUDI | F47: VENDREDI
A48: =A34 -> 0 | B48: =B34 -> 0 | C48: =C34 -> 0 | D48: =D34 -> 0 | E48: =E34 -> 0 | F48: =F34 -> 0
A49: =A35 -> 0 | B49: =B35 -> 0 | C49: =C35 -> 0 | D49: =D35 -> 0 | E49: =E35 -> 0 | F49: =F35 -> 0
A50: =A36 -> 0 | B50: =B36 -> 0 | C50: =C36 -> 0 | D50: =D36 -> 0 | E50: =E36 -> 0 | F50: =F36 -> 0
A51: =A37 -> 0 | B51: =B37 -> 0 | C51: =C37 -> 0 | D51: =D37 -> 0 | E51: =E37 -> 0 | F51: =F37 -> 0

Sheet Sem49
H1: 0.875
H2: 0.25
A4: CREATION ou MODIFICATION d'un CONTRAT de TRAVAIL
A8: NOM | B8: =BDD!B7 -> 0 | C8: PRENOM | D8: =BDD!C7 -> 0 | E8: MATRICULE | F8: =BDD!D7 -> 0
A10: EMPLOI | B10: =BDD!E7 -> 0 | D10: SERVICE | E10: 220/603 MAGASIN | H10: CDD
H11: CDI
H12: SURCROIT
A13: TYPE DE CONTRAT | C13: CDD | D13: =BDD!F7 -> 0 | J13: 220/603 MAGASIN | K13: MAG NUIT
H14: OUI | J14: 220/703 LIVRAISON | K14: LIV NUIT
A15: MOTIF du CONTRAT | C15: Date de debut | E15: Date de fin | H15: NON
A17: REMPLACEMENT de: | D17: Motifs | E17: du | F17: au | H17: MALADIE
H18: C.PAYES
H19: RTT
H20: ABS AUT.
H21: ABS AUT(RCN).
H22: FORMATION
H23: CACES
H24: C PARENTAL
A25: HORAIRE HEBDO TRAVAILLE | D25: =A28+B28+C28+D28+E28+F28 -> 0 | H25: SURCROIT
A27: LUNDI M | B27: LUNDI S | C27: MARDI | D27: MERCREDI | E27: JEUDI | F27: VENDREDI
A28: =((A37-A36)+A35-A34)*24 -> 0 | B28: =((B37-B36)+B35-B34)*24 -> 0 | C28: =((C37-C36)+C35-C34)*24 -> 0 | D28: =((D37-D36)+D35-D34)*24 -> 0 | E28: =((E37-E36)+E35-E34)*24 -> 0 | F28: =((F37-F36)+F35-F34)*24 -> 0
A29: =(((A35-A34)+H2-A36)*24) -> 6 | B29: =(IF(SUM(B34:B37)=0,"0",(B37-$H1)))*24 -> 0 | C29: =(IF(SUM(C34:C37)=0,"0",(C37-$H1)))*24 -> 0 | D29: =(IF(SUM(D34:D37)=0,"0",(D37-$H1)))*24 -> 0 | E29: =(IF(SUM(E34:E37)=0,"0",(E37-$H1)))*24 -> 0 | F29: =(IF(SUM(F34:F37)=0,"0",(F37-$H1)))*24 -> 0 | M29: mettre 25:00 pour 01h00
M30: mettre 26:00 pour 02h00
A31: HORAIRES | M31: mettre 26:15 pour 02h15
M32: mettre 26:30 pour 02h30
A33: LUNDI M | B33: LUNDI S | C33: MARDI | D33: MERCREDI | E33: JEUDI | F33: VENDREDI | M33: mettre 27:00 pour 03h00
A39: NB HEURES DE NUIT | C39: =A29+B29+C29+D29+E29+F29 -> 6 | D39: Pause payée | F39: NON
A43: NOM | B43: =B8 -> 0 | C43: PRENOM | D43: =D8 -> 0
A45: HORAIRES | C45: Date de debut | D45: =D15 -> 0 | E45: Date de fin | F45: =F15 -> 0
A47: LUNDI M | B47: LUNDI S | C47: MARDI | D47: MERCREDI | E47: JEUDI | F47: VENDREDI
A48: =A34 -> 0 | B48: =B34 -> 0 | C48: =C34 -> 0 | D48: =D34 -> 0 | E48: =E34 -> 0 | F48: =F34 -> 0
A49: =A35 -> 0 | B49: =B35 -> 0 | C49: =C35 -> 0 | D49: =D35 -> 0 | E49: =E35 -> 0 | F49: =F35 -> 0
A50: =A36 -> 0 | B50: =B36 -> 0 | C50: =C36 -> 0 | D50: =D36 -> 0 | E50: =E36 -> 0 | F50: =F36 -> 0
A51: =A37 -> 0 | B51: =B37 -> 0 | C51: =C37 -> 0 | D51: =D37 -> 0 | E51: =E37 -> 0 | F51: =F37 -> 0

Sheet Sem50
H1: 0.875
H2: 0.25
A4: CREATION ou MODIFICATION d'un CONTRAT de TRAVAIL
A8: NOM | B8: =BDD!B7 -> 0 | C8: PRENOM | D8: =BDD!C7 -> 0 | E8: MATRICULE | F8: =BDD!D7 -> 0
A10: EMPLOI | B10: =BDD!E7 -> 0 | D10: SERVICE | E10: 220/603 MAGASIN | H10: CDD
H11: CDI
H12: SURCROIT
A13: TYPE DE CONTRAT | C13: CDD | D13: =BDD!F7 -> 0 | J13: 220/603 MAGASIN | K13: MAG NUIT
H14: OUI | J14: 220/703 LIVRAISON | K14: LIV NUIT
A15: MOTIF du CONTRAT | C15: Date de debut | E15: Date de fin | H15: NON
A17: REMPLACEMENT de: | D17: Motifs | E17: du | F17: au | H17: MALADIE
H18: C.PAYES
H19: RTT
H20: ABS AUT.
H21: ABS AUT(RCN).
H22: FORMATION
H23: CACES
H24: C PARENTAL
A25: HORAIRE HEBDO TRAVAILLE | D25: =A28+B28+C28+D28+E28+F28 -> 0 | H25: SURCROIT
A27: LUNDI M | B27: LUNDI S | C27: MARDI | D27: MERCREDI | E27: JEUDI | F27: VENDREDI
A28: =((A37-A36)+A35-A34)*24 -> 0 | B28: =((B37-B36)+B35-B34)*24 -> 0 | C28: =((C37-C36)+C35-C34)*24 -> 0 | D28: =((D37-D36)+D35-D34)*24 -> 0 | E28: =((E37-E36)+E35-E34)*24 -> 0 | F28: =((F37-F36)+F35-F34)*24 -> 0
A29: =(((A35-A34)+H2-A36)*24) -> 6 | B29: =(IF(SUM(B34:B37)=0,"0",(B37-$H1)))*24 -> 0 | C29: =(IF(SUM(C34:C37)=0,"0",(C37-$H1)))*24 -> 0 | D29: =(IF(SUM(D34:D37)=0,"0",(D37-$H1)))*24 -> 0 | E29: =(IF(SUM(E34:E37)=0,"0",(E37-$H1)))*24 -> 0 | F29: =(IF(SUM(F34:F37)=0,"0",(F37-$H1)))*24 -> 0 | M29: mettre 25:00 pour 01h00
M30: mettre 26:00 pour 02h00
A31: HORAIRES | M31: mettre 26:15 pour 02h15
M32: mettre 26:30 pour 02h30
A33: LUNDI M | B33: LUNDI S | C33: MARDI | D33: MERCREDI | E33: JEUDI | F33: VENDREDI | M33: mettre 27:00 pour 03h00
A39: NB HEURES DE NUIT | C39: =A29+B29+C29+D29+E29+F29 -> 6 | D39: Pause payée | F39: NON
A43: NOM | B43: =B8 -> 0 | C43: PRENOM | D43: =D8 -> 0
A45: HORAIRES | C45: Date de debut | D45: =D15 -> 0 | E45: Date de fin | F45: =F15 -> 0
A47: LUNDI M | B47: LUNDI S | C47: MARDI | D47: MERCREDI | E47: JEUDI | F47: VENDREDI
A48: =A34 -> 0 | B48: =B34 -> 0 | C48: =C34 -> 0 | D48: =D34 -> 0 | E48: =E34 -> 0 | F48: =F34 -> 0
A49: =A35 -> 0 | B49: =B35 -> 0 | C49: =C35 -> 0 | D49: =D35 -> 0 | E49: =E35 -> 0 | F49: =F35 -> 0
A50: =A36 -> 0 | B50: =B36 -> 0 | C50: =C36 -> 0 | D50: =D36 -> 0 | E50: =E36 -> 0 | F50: =F36 -> 0
A51: =A37 -> 0 | B51: =B37 -> 0 | C51: =C37 -> 0 | D51: =D37 -> 0 | E51: =E37 -> 0 | F51: =F37 -> 0

Sheet Sem51
H1: 0.875
H2: 0.25
A4: CREATION ou MODIFICATION d'un CONTRAT de TRAVAIL
A8: NOM | B8: =BDD!B7 -> 0 | C8: PRENOM | D8: =BDD!C7 -> 0 | E8: MATRICULE | F8: =BDD!D7 -> 0
A10: EMPLOI | B10: =BDD!E7 -> 0 | D10: SERVICE | E10: 220/603 MAGASIN | H10: CDD
H11: CDI
H12: SURCROIT
A13: TYPE DE CONTRAT | C13: CDD | D13: =BDD!F7 -> 0 | J13: 220/603 MAGASIN | K13: MAG NUIT
H14: OUI | J14: 220/703 LIVRAISON | K14: LIV NUIT
A15: MOTIF du CONTRAT | C15: Date de debut | E15: Date de fin | H15: NON
A17: REMPLACEMENT de: | D17: Motifs | E17: du | F17: au | H17: MALADIE
H18: C.PAYES
H19: RTT
H20: ABS AUT.
H21: ABS AUT(RCN).
H22: FORMATION
H23: CACES
H24: C PARENTAL
A25: HORAIRE HEBDO TRAVAILLE | D25: =A28+B28+C28+D28+E28+F28 -> 0 | H25: SURCROIT
A27: LUNDI M | B27: LUNDI S | C27: MARDI | D27: MERCREDI | E27: JEUDI | F27: VENDREDI
A28: =((A37-A36)+A35-A34)*24 -> 0 | B28: =((B37-B36)+B35-B34)*24 -> 0 | C28: =((C37-C36)+C35-C34)*24 -> 0 | D28: =((D37-D36)+D35-D34)*24 -> 0 | E28: =((E37-E36)+E35-E34)*24 -> 0 | F28: =((F37-F36)+F35-F34)*24 -> 0
A29: =(((A35-A34)+H2-A36)*24) -> 6 | B29: =(IF(SUM(B34:B37)=0,"0",(B37-$H1)))*24 -> 0 | C29: =(IF(SUM(C34:C37)=0,"0",(C37-$H1)))*24 -> 0 | D29: =(IF(SUM(D34:D37)=0,"0",(D37-$H1)))*24 -> 0 | E29: =(IF(SUM(E34:E37)=0,"0",(E37-$H1)))*24 -> 0 | F29: =(IF(SUM(F34:F37)=0,"0",(F37-$H1)))*24 -> 0 | M29: mettre 25:00 pour 01h00
M30: mettre 26:00 pour 02h00
A31: HORAIRES | M31: mettre 26:15 pour 02h15
M32: mettre 26:30 pour 02h30
A33: LUNDI M | B33: LUNDI S | C33: MARDI | D33: MERCREDI | E33: JEUDI | F33: VENDREDI | M33: mettre 27:00 pour 03h00
A39: NB HEURES DE NUIT | C39: =A29+B29+C29+D29+E29+F29 -> 6 | D39: Pause payée | F39: NON
A43: NOM | B43: =B8 -> 0 | C43: PRENOM | D43: =D8 -> 0
A45: HORAIRES | C45: Date de debut | D45: =D15 -> 0 | E45: Date de fin | F45: =F15 -> 0
A47: LUNDI M | B47: LUNDI S | C47: MARDI | D47: MERCREDI | E47: JEUDI | F47: VENDREDI
A48: =A34 -> 0 | B48: =B34 -> 0 | C48: =C34 -> 0 | D48: =D34 -> 0 | E48: =E34 -> 0 | F48: =F34 -> 0
A49: =A35 -> 0 | B49: =B35 -> 0 | C49: =C35 -> 0 | D49: =D35 -> 0 | E49: =E35 -> 0 | F49: =F35 -> 0
A50: =A36 -> 0 | B50: =B36 -> 0 | C50: =C36 -> 0 | D50: =D36 -> 0 | E50: =E36 -> 0 | F50: =F36 -> 0
A51: =A37 -> 0 | B51: =B37 -> 0 | C51: =C37 -> 0 | D51: =D37 -> 0 | E51: =E37 -> 0 | F51: =F37 -> 0

Sheet Sem52
H1: 0.875
H2: 0.25
A4: CREATION ou MODIFICATION d'un CONTRAT de TRAVAIL
A8: NOM | B8: =BDD!B7 -> 0 | C8: PRENOM | D8: =BDD!C7 -> 0 | E8: MATRICULE | F8: =BDD!D7 -> 0
A10: EMPLOI | B10: =BDD!E7 -> 0 | D10: SERVICE | E10: 220/603 MAGASIN | H10: CDD
H11: CDI
H12: SURCROIT
A13: TYPE DE CONTRAT | C13: CDD | D13: =BDD!F7 -> 0 | J13: 220/603 MAGASIN | K13: MAG NUIT
H14: OUI | J14: 220/703 LIVRAISON | K14: LIV NUIT
A15: MOTIF du CONTRAT | C15: Date de debut | E15: Date de fin | H15: NON
A17: REMPLACEMENT de: | D17: Motifs | E17: du | F17: au | H17: MALADIE
H18: C.PAYES
H19: RTT
H20: ABS AUT.
H21: ABS AUT(RCN).
H22: FORMATION
H23: CACES
H24: C PARENTAL
A25: HORAIRE HEBDO TRAVAILLE | D25: =A28+B28+C28+D28+E28+F28 -> 0 | H25: SURCROIT
A27: LUNDI M | B27: LUNDI S | C27: MARDI | D27: MERCREDI | E27: JEUDI | F27: VENDREDI
A28: =((A37-A36)+A35-A34)*24 -> 0 | B28: =((B37-B36)+B35-B34)*24 -> 0 | C28: =((C37-C36)+C35-C34)*24 -> 0 | D28: =((D37-D36)+D35-D34)*24 -> 0 | E28: =((E37-E36)+E35-E34)*24 -> 0 | F28: =((F37-F36)+F35-F34)*24 -> 0
A29: =(((A35-A34)+H2-A36)*24) -> 6 | B29: =(IF(SUM(B34:B37)=0,"0",(B37-$H1)))*24 -> 0 | C29: =(IF(SUM(C34:C37)=0,"0",(C37-$H1)))*24 -> 0 | D29: =(IF(SUM(D34:D37)=0,"0",(D37-$H1)))*24 -> 0 | E29: =(IF(SUM(E34:E37)=0,"0",(E37-$H1)))*24 -> 0 | F29: =(IF(SUM(F34:F37)=0,"0",(F37-$H1)))*24 -> 0 | M29: mettre 25:00 pour 01h00
M30: mettre 26:00 pour 02h00
A31: HORAIRES | M31: mettre 26:15 pour 02h15
M32: mettre 26:30 pour 02h30
A33: LUNDI M | B33: LUNDI S | C33: MARDI | D33: MERCREDI | E33: JEUDI | F33: VENDREDI | M33: mettre 27:00 pour 03h00
A39: NB HEURES DE NUIT | C39: =A29+B29+C29+D29+E29+F29 -> 6 | D39: Pause payée | F39: NON
A43: NOM | B43: =B8 -> 0 | C43: PRENOM | D43: =D8 -> 0
A45: HORAIRES | C45: Date de debut | D45: =D15 -> 0 | E45: Date de fin | F45: =F15 -> 0
A47: LUNDI M | B47: LUNDI S | C47: MARDI | D47: MERCREDI | E47: JEUDI | F47: VENDREDI
A48: =A34 -> 0 | B48: =B34 -> 0 | C48: =C34 -> 0 | D48: =D34 -> 0 | E48: =E34 -> 0 | F48: =F34 -> 0
A49: =A35 -> 0 | B49: =B35 -> 0 | C49: =C35 -> 0 | D49: =D35 -> 0 | E49: =E35 -> 0 | F49: =F35 -> 0
A50: =A36 -> 0 | B50: =B36 -> 0 | C50: =C36 -> 0 | D50: =D36 -> 0 | E50: =E36 -> 0 | F50: =F36 -> 0
A51: =A37 -> 0 | B51: =B37 -> 0 | C51: =C37 -> 0 | D51: =D37 -> 0 | E51: =E37 -> 0 | F51: =F37 -> 0

Sheet Feuil66
