Workbook

Sheet base
A1: 42964
B2: Site | D2: VAL
B3: 4529 | C3: mag 1 | D3: 3598
B4: 4530 | C4: mag 2 | D4: 5896
B5: 4531 | C5: mag 3 | D5: 4723
B6: Total secteur | D6: =SUM(D3:D5) -> 14217
A7: 42965
B8: Site | D8: VAL
B9: 4529 | C9: mag 1 | D9: 3251
B10: 4530 | C10: mag 2 | D10: 4968
B11: 4531 | C11: mag 3 | D11: 4827
B12: Total secteur | D12: =SUM(D9:D11) -> 13046
A13: 42968
B14: Site | D14: VAL
B15: 4529 | C15: mag 1 | D15: 3921
B16: 4530 | C16: mag 2 | D16: 5345
B17: 4531 | C17: mag 3 | D17: 4622
B18: Total secteur | D18: =SUM(D15:D17) -> 13888

Sheet récap
B3: =base!B2 -> Site | D3: =base!D2 -> VAL
A4: =base!A1 -> 42964 | B4: =base!B3 -> 4529 | C4: =base!C3 -> mag 1 | D4: =base!D3 -> 3598
A5: =A4 -> 42964 | B5: =base!B4 -> 4530 | C5: =base!C4 -> mag 2 | D5: =base!D4 -> 5896
A6: =A5 -> 42964 | B6: =base!B5 -> 4531 | C6: =base!C5 -> mag 3 | D6: =base!D5 -> 4723
A7: =A6 -> 42964 | B7: =base!B6 -> Total secteur | D7: =base!D6 -> 14217
A8: =OFFSET(base!A1,6,0,1,1) -> 42965 | B8: =base!B9 -> 4529 | C8: =base!C9 -> mag 1 | D8: =base!D9 -> 3251
A9: =A8 -> 42965 | B9: =base!B10 -> 4530 | C9: =base!C10 -> mag 2 | D9: =base!D10 -> 4968
A10: =A9 -> 42965 | B10: =base!B11 -> 4531 | C10: =base!C11 -> mag 3 | D10: =base!D11 -> 4827
A11: =A10 -> 42965 | B11: =base!B12 -> Total secteur | D11: =base!D12 -> 13046
